Workbook

Sheet Feuil1
B2: FIGER CES 2 COLONNES
A3: Date | B3: 1 | D3: Discount
A4: Month | B4: 10 | D4: =IF($C$43>$C$44*Rates!$N$4,Rates!$N$5,0) -> 0.02
A5: Year | B5: 2011 | I5: =LOOKUP(Feuil1!B4,Data!B4:C15) -> October
C7: Purchaser 1 | I7: Purchaser 2 | K7: Purchaser 3 | M7: Purchaser 4 | O7: Purchaser 5 | Q7: Purchaser 6 | R7: Purchaser 7 | S7: Purchaser 8 | T7: Purchaser 9 | U7: Purchaser 10
B8: Date | C8: Number of rooms | D8: Cumul DTD | E8: Revenue | F8: Rate 1 | G8: Rate 2 | H8: rate 3 | I8: Rooms | J8: Rate | K8: Rooms | L8: Rate | M8: Rooms | N8: Rate | O8: Rooms | P8: Rate
B9: =DATE(B5,B4,B3) -> 40817 | C9: 0 | D9: =SUM($C$9:$C9) -> 0 | E9: =(F9*Rates!$C$5+Feuil1!G9*Rates!$D$5+Feuil1!H9*Rates!$E$5)*(1-$D$4) -> 0 | F9: =MIN(D9,Rates!D4) -> 0 | G9: =MIN(Rates!E4,D9-F9) -> 0 | H9: =IF(D9>SUM($F$9:G9),SUM($D$9:D9)-SUM($F$9:G9),0) -> 0
B10: =B9+1 -> 40818 | C10: 20 | D10: =SUM($C$9:$C10) -> 20 | E10: =(F10*Rates!$C$5+Feuil1!G10*Rates!$D$5+Feuil1!H10*Rates!$E$5)*(1-$D$4) -> 19600 | F10: =IF(AND($D10>=Rates!$D$4,SUM($F$9:F9)>=Rates!$D$4),0,IF(AND($D10>=Rates!$D$4,SUM($F$9:F9)<Rates!$D$4),Rates!$D$4-SUM($F$9:F9),IF($D10<Rates!$D$4,$D10-SUM($F$9:F9)))) -> 20 | G10: =IF($D10<=Rates!$D$4,0,IF(AND($D10>Rates!$D$4,$D10<Rates!$D$4+Rates!$E$4),$D10-SUM($F$9:H9,F10),IF(AND($D10>Rates!$D$4+Rates!$E$4,SUM($F$9:H9,F10)<Rates!$D$4+Rates!$E$4),Rates!$D$4+Rates!$E$4-SUM($F$9:H9,F10),0))) -> 0 | H10: =IF(D10>SUM($F$9:H9),D10-(SUM($F$9:H9)+SUM(F10:G10)),0) -> 0
B11: =B10+1 -> 40819 | C11: 20 | D11: =SUM($C$9:$C11) -> 40 | E11: =(F11*Rates!$C$5+Feuil1!G11*Rates!$D$5+Feuil1!H11*Rates!$E$5)*(1-$D$4) -> 19600 | F11: =IF(AND($D11>=Rates!$D$4,SUM($F$9:F10)>=Rates!$D$4),0,IF(AND($D11>=Rates!$D$4,SUM($F$9:F10)<Rates!$D$4),Rates!$D$4-SUM($F$9:F10),IF($D11<Rates!$D$4,$D11-SUM($F$9:F10)))) -> 20 | G11: =IF($D11<=Rates!$D$4,0,IF(AND($D11>Rates!$D$4,$D11<Rates!$D$4+Rates!$E$4),$D11-SUM($F$9:H10,F11),IF(AND($D11>Rates!$D$4+Rates!$E$4,SUM($F$9:H10,F11)<Rates!$D$4+Rates!$E$4),Rates!$D$4+Rates!$E$4-SUM($F$9:H10,F11),0))) -> 0 | H11: =IF(D11>SUM($F$9:H10),D11-(SUM($F$9:H10)+SUM(F11:G11)),0) -> 0
B12: =B11+1 -> 40820 | C12: 40 | D12: =SUM($C$9:$C12) -> 80 | E12: =(F12*Rates!$C$5+Feuil1!G12*Rates!$D$5+Feuil1!H12*Rates!$E$5)*(1-$D$4) -> 39200 | F12: =IF(AND($D12>=Rates!$D$4,SUM($F$9:F11)>=Rates!$D$4),0,IF(AND($D12>=Rates!$D$4,SUM($F$9:F11)<Rates!$D$4),Rates!$D$4-SUM($F$9:F11),IF($D12<Rates!$D$4,$D12-SUM($F$9:F11)))) -> 40 | G12: =IF($D12<=Rates!$D$4,0,IF(AND($D12>Rates!$D$4,$D12<Rates!$D$4+Rates!$E$4),$D12-SUM($F$9:H11,F12),IF(AND($D12>Rates!$D$4+Rates!$E$4,SUM($F$9:H11,F12)<Rates!$D$4+Rates!$E$4),Rates!$D$4+Rates!$E$4-SUM($F$9:H11,F12),0))) -> 0 | H12: =IF(D12>SUM($F$9:H11),D12-(SUM($F$9:H11)+SUM(F12:G12)),0) -> 0
B13: =B12+1 -> 40821 | C13: 40 | D13: =SUM($C$9:$C13) -> 120 | E13: =(F13*Rates!$C$5+Feuil1!G13*Rates!$D$5+Feuil1!H13*Rates!$E$5)*(1-$D$4) -> 58800 | F13: =IF(AND($D13>=Rates!$D$4,SUM($F$9:F12)>=Rates!$D$4),0,IF(AND($D13>=Rates!$D$4,SUM($F$9:F12)<Rates!$D$4),Rates!$D$4-SUM($F$9:F12),IF($D13<Rates!$D$4,$D13-SUM($F$9:F12)))) -> 20 | G13: =IF($D13<=Rates!$D$4,0,IF(AND($D13>Rates!$D$4,$D13<Rates!$D$4+Rates!$E$4),$D13-SUM($F$9:H12,F13),IF(AND($D13>Rates!$D$4+Rates!$E$4,SUM($F$9:H12,F13)<Rates!$D$4+Rates!$E$4),Rates!$D$4+Rates!$E$4-SUM($F$9:H12,F13),0))) -> 20 | H13: =IF(D13>SUM($F$9:H12),D13-(SUM($F$9:H12)+SUM(F13:G13)),0) -> 0
B14: =B13+1 -> 40822 | C14: 500 | D14: =SUM($C$9:$C14) -> 620 | E14: =(F14*Rates!$C$5+Feuil1!G14*Rates!$D$5+Feuil1!H14*Rates!$E$5)*(1-$D$4) -> 999600 | F14: =IF(AND($D14>=Rates!$D$4,SUM($F$9:F13)>=Rates!$D$4),0,IF(AND($D14>=Rates!$D$4,SUM($F$9:F13)<Rates!$D$4),Rates!$D$4-SUM($F$9:F13),IF($D14<Rates!$D$4,$D14-SUM($F$9:F13)))) -> 0 | G14: =IF($D14<=Rates!$D$4,0,IF(AND($D14>Rates!$D$4,$D14<Rates!$D$4+Rates!$E$4),$D14-SUM($F$9:H13,F14),IF(AND($D14>Rates!$D$4+Rates!$E$4,SUM($F$9:H13,F14)<Rates!$D$4+Rates!$E$4),Rates!$D$4+Rates!$E$4-SUM($F$9:H13,F14),0))) -> 480 | H14: =IF(D14>SUM($F$9:H13),D14-(SUM($F$9:H13)+SUM(F14:G14)),0) -> 20
B15: =B14+1 -> 40823 | C15: 100 | D15: =SUM($C$9:$C15) -> 720 | E15: =(F15*Rates!$C$5+Feuil1!G15*Rates!$D$5+Feuil1!H15*Rates!$E$5)*(1-$D$4) -> 294000 | F15: =IF(AND($D15>=Rates!$D$4,SUM($F$9:F14)>=Rates!$D$4),0,IF(AND($D15>=Rates!$D$4,SUM($F$9:F14)<Rates!$D$4),Rates!$D$4-SUM($F$9:F14),IF($D15<Rates!$D$4,$D15-SUM($F$9:F14)))) -> 0 | G15: =IF($D15<=Rates!$D$4,0,IF(AND($D15>Rates!$D$4,$D15<Rates!$D$4+Rates!$E$4),$D15-SUM($F$9:H14,F15),IF(AND($D15>Rates!$D$4+Rates!$E$4,SUM($F$9:H14,F15)<Rates!$D$4+Rates!$E$4),Rates!$D$4+Rates!$E$4-SUM($F$9:H14,F15),0))) -> 0 | H15: =IF(D15>SUM($F$9:H14),D15-(SUM($F$9:H14)+SUM(F15:G15)),0) -> 100
B16: =B15+1 -> 40824 | C16: 100 | D16: =SUM($C$9:$C16) -> 820 | E16: =(F16*Rates!$C$5+Feuil1!G16*Rates!$D$5+Feuil1!H16*Rates!$E$5)*(1-$D$4) -> 294000 | F16: =IF(AND($D16>=Rates!$D$4,SUM($F$9:F15)>=Rates!$D$4),0,IF(AND($D16>=Rates!$D$4,SUM($F$9:F15)<Rates!$D$4),Rates!$D$4-SUM($F$9:F15),IF($D16<Rates!$D$4,$D16-SUM($F$9:F15)))) -> 0 | G16: =IF($D16<=Rates!$D$4,0,IF(AND($D16>Rates!$D$4,$D16<Rates!$D$4+Rates!$E$4),$D16-SUM($F$9:H15,F16),IF(AND($D16>Rates!$D$4+Rates!$E$4,SUM($F$9:H15,F16)<Rates!$D$4+Rates!$E$4),Rates!$D$4+Rates!$E$4-SUM($F$9:H15,F16),0))) -> 0 | H16: =IF(D16>SUM($F$9:H15),D16-(SUM($F$9:H15)+SUM(F16:G16)),0) -> 100
B17: =B16+1 -> 40825 | D17: =SUM($C$9:$C17) -> 820 | E17: =(F17*Rates!$C$5+Feuil1!G17*Rates!$D$5+Feuil1!H17*Rates!$E$5)*(1-$D$4) -> 0 | F17: =IF(AND($D17>=Rates!$D$4,SUM($F$9:F16)>=Rates!$D$4),0,IF(AND($D17>=Rates!$D$4,SUM($F$9:F16)<Rates!$D$4),Rates!$D$4-SUM($F$9:F16),IF($D17<Rates!$D$4,$D17-SUM($F$9:F16)))) -> 0 | G17: =IF($D17<=Rates!$D$4,0,IF(AND($D17>Rates!$D$4,$D17<Rates!$D$4+Rates!$E$4),$D17-SUM($F$9:H16,F17),IF(AND($D17>Rates!$D$4+Rates!$E$4,SUM($F$9:H16,F17)<Rates!$D$4+Rates!$E$4),Rates!$D$4+Rates!$E$4-SUM($F$9:H16,F17),0))) -> 0 | H17: =IF(D17>SUM($F$9:H16),D17-(SUM($F$9:H16)+SUM(F17:G17)),0) -> 0
B18: =B17+1 -> 40826 | D18: =SUM($C$9:$C18) -> 820 | E18: =(F18*Rates!$C$5+Feuil1!G18*Rates!$D$5+Feuil1!H18*Rates!$E$5)*(1-$D$4) -> 0 | F18: =IF(AND($D18>=Rates!$D$4,SUM($F$9:F17)>=Rates!$D$4),0,IF(AND($D18>=Rates!$D$4,SUM($F$9:F17)<Rates!$D$4),Rates!$D$4-SUM($F$9:F17),IF($D18<Rates!$D$4,$D18-SUM($F$9:F17)))) -> 0 | G18: =IF($D18<=Rates!$D$4,0,IF(AND($D18>Rates!$D$4,$D18<Rates!$D$4+Rates!$E$4),$D18-SUM($F$9:H17,F18),IF(AND($D18>Rates!$D$4+Rates!$E$4,SUM($F$9:H17,F18)<Rates!$D$4+Rates!$E$4),Rates!$D$4+Rates!$E$4-SUM($F$9:H17,F18),0))) -> 0 | H18: =IF(D18>SUM($F$9:H17),D18-(SUM($F$9:H17)+SUM(F18:G18)),0) -> 0
B19: =B18+1 -> 40827 | D19: =SUM($C$9:$C19) -> 820 | E19: =(F19*Rates!$C$5+Feuil1!G19*Rates!$D$5+Feuil1!H19*Rates!$E$5)*(1-$D$4) -> 0 | F19: =IF(AND($D19>=Rates!$D$4,SUM($F$9:F18)>=Rates!$D$4),0,IF(AND($D19>=Rates!$D$4,SUM($F$9:F18)<Rates!$D$4),Rates!$D$4-SUM($F$9:F18),IF($D19<Rates!$D$4,$D19-SUM($F$9:F18)))) -> 0 | G19: =IF($D19<=Rates!$D$4,0,IF(AND($D19>Rates!$D$4,$D19<Rates!$D$4+Rates!$E$4),$D19-SUM($F$9:H18,F19),IF(AND($D19>Rates!$D$4+Rates!$E$4,SUM($F$9:H18,F19)<Rates!$D$4+Rates!$E$4),Rates!$D$4+Rates!$E$4-SUM($F$9:H18,F19),0))) -> 0 | H19: =IF(D19>SUM($F$9:H18),D19-(SUM($F$9:H18)+SUM(F19:G19)),0) -> 0
B20: =B19+1 -> 40828 | D20: =SUM($C$9:$C20) -> 820 | E20: =(F20*Rates!$C$5+Feuil1!G20*Rates!$D$5+Feuil1!H20*Rates!$E$5)*(1-$D$4) -> 0 | F20: =IF(AND($D20>=Rates!$D$4,SUM($F$9:F19)>=Rates!$D$4),0,IF(AND($D20>=Rates!$D$4,SUM($F$9:F19)<Rates!$D$4),Rates!$D$4-SUM($F$9:F19),IF($D20<Rates!$D$4,$D20-SUM($F$9:F19)))) -> 0 | G20: =IF($D20<=Rates!$D$4,0,IF(AND($D20>Rates!$D$4,$D20<Rates!$D$4+Rates!$E$4),$D20-SUM($F$9:H19,F20),IF(AND($D20>Rates!$D$4+Rates!$E$4,SUM($F$9:H19,F20)<Rates!$D$4+Rates!$E$4),Rates!$D$4+Rates!$E$4-SUM($F$9:H19,F20),0))) -> 0 | H20: =IF(D20>SUM($F$9:H19),D20-(SUM($F$9:H19)+SUM(F20:G20)),0) -> 0
B21: =B20+1 -> 40829 | D21: =SUM($C$9:$C21) -> 820 | E21: =(F21*Rates!$C$5+Feuil1!G21*Rates!$D$5+Feuil1!H21*Rates!$E$5)*(1-$D$4) -> 0 | F21: =IF(AND($D21>=Rates!$D$4,SUM($F$9:F20)>=Rates!$D$4),0,IF(AND($D21>=Rates!$D$4,SUM($F$9:F20)<Rates!$D$4),Rates!$D$4-SUM($F$9:F20),IF($D21<Rates!$D$4,$D21-SUM($F$9:F20)))) -> 0 | G21: =IF($D21<=Rates!$D$4,0,IF(AND($D21>Rates!$D$4,$D21<Rates!$D$4+Rates!$E$4),$D21-SUM($F$9:H20,F21),IF(AND($D21>Rates!$D$4+Rates!$E$4,SUM($F$9:H20,F21)<Rates!$D$4+Rates!$E$4),Rates!$D$4+Rates!$E$4-SUM($F$9:H20,F21),0))) -> 0 | H21: =IF(D21>SUM($F$9:H20),D21-(SUM($F$9:H20)+SUM(F21:G21)),0) -> 0
B22: =B21+1 -> 40830 | D22: =SUM($C$9:$C22) -> 820 | E22: =(F22*Rates!$C$5+Feuil1!G22*Rates!$D$5+Feuil1!H22*Rates!$E$5)*(1-$D$4) -> 0 | F22: =IF(AND($D22>=Rates!$D$4,SUM($F$9:F21)>=Rates!$D$4),0,IF(AND($D22>=Rates!$D$4,SUM($F$9:F21)<Rates!$D$4),Rates!$D$4-SUM($F$9:F21),IF($D22<Rates!$D$4,$D22-SUM($F$9:F21)))) -> 0 | G22: =IF($D22<=Rates!$D$4,0,IF(AND($D22>Rates!$D$4,$D22<Rates!$D$4+Rates!$E$4),$D22-SUM($F$9:H21,F22),IF(AND($D22>Rates!$D$4+Rates!$E$4,SUM($F$9:H21,F22)<Rates!$D$4+Rates!$E$4),Rates!$D$4+Rates!$E$4-SUM($F$9:H21,F22),0))) -> 0 | H22: =IF(D22>SUM($F$9:H21),D22-(SUM($F$9:H21)+SUM(F22:G22)),0) -> 0
B23: =B22+1 -> 40831 | D23: =SUM($C$9:$C23) -> 820 | E23: =(F23*Rates!$C$5+Feuil1!G23*Rates!$D$5+Feuil1!H23*Rates!$E$5)*(1-$D$4) -> 0 | F23: =IF(AND($D23>=Rates!$D$4,SUM($F$9:F22)>=Rates!$D$4),0,IF(AND($D23>=Rates!$D$4,SUM($F$9:F22)<Rates!$D$4),Rates!$D$4-SUM($F$9:F22),IF($D23<Rates!$D$4,$D23-SUM($F$9:F22)))) -> 0 | G23: =IF($D23<=Rates!$D$4,0,IF(AND($D23>Rates!$D$4,$D23<Rates!$D$4+Rates!$E$4),$D23-SUM($F$9:H22,F23),IF(AND($D23>Rates!$D$4+Rates!$E$4,SUM($F$9:H22,F23)<Rates!$D$4+Rates!$E$4),Rates!$D$4+Rates!$E$4-SUM($F$9:H22,F23),0))) -> 0 | H23: =IF(D23>SUM($F$9:H22),D23-(SUM($F$9:H22)+SUM(F23:G23)),0) -> 0
B24: =B23+1 -> 40832 | D24: =SUM($C$9:$C24) -> 820 | E24: =(F24*Rates!$C$5+Feuil1!G24*Rates!$D$5+Feuil1!H24*Rates!$E$5)*(1-$D$4) -> 0 | F24: =IF(AND($D24>=Rates!$D$4,SUM($F$9:F23)>=Rates!$D$4),0,IF(AND($D24>=Rates!$D$4,SUM($F$9:F23)<Rates!$D$4),Rates!$D$4-SUM($F$9:F23),IF($D24<Rates!$D$4,$D24-SUM($F$9:F23)))) -> 0 | G24: =IF($D24<=Rates!$D$4,0,IF(AND($D24>Rates!$D$4,$D24<Rates!$D$4+Rates!$E$4),$D24-SUM($F$9:H23,F24),IF(AND($D24>Rates!$D$4+Rates!$E$4,SUM($F$9:H23,F24)<Rates!$D$4+Rates!$E$4),Rates!$D$4+Rates!$E$4-SUM($F$9:H23,F24),0))) -> 0 | H24: =IF(D24>SUM($F$9:H23),D24-(SUM($F$9:H23)+SUM(F24:G24)),0) -> 0
B25: =B24+1 -> 40833 | D25: =SUM($C$9:$C25) -> 820 | E25: =(F25*Rates!$C$5+Feuil1!G25*Rates!$D$5+Feuil1!H25*Rates!$E$5)*(1-$D$4) -> 0 | F25: =IF(AND($D25>=Rates!$D$4,SUM($F$9:F24)>=Rates!$D$4),0,IF(AND($D25>=Rates!$D$4,SUM($F$9:F24)<Rates!$D$4),Rates!$D$4-SUM($F$9:F24),IF($D25<Rates!$D$4,$D25-SUM($F$9:F24)))) -> 0 | G25: =IF($D25<=Rates!$D$4,0,IF(AND($D25>Rates!$D$4,$D25<Rates!$D$4+Rates!$E$4),$D25-SUM($F$9:H24,F25),IF(AND($D25>Rates!$D$4+Rates!$E$4,SUM($F$9:H24,F25)<Rates!$D$4+Rates!$E$4),Rates!$D$4+Rates!$E$4-SUM($F$9:H24,F25),0))) -> 0 | H25: =IF(D25>SUM($F$9:H24),D25-(SUM($F$9:H24)+SUM(F25:G25)),0) -> 0
B26: =B25+1 -> 40834 | D26: =SUM($C$9:$C26) -> 820 | E26: =(F26*Rates!$C$5+Feuil1!G26*Rates!$D$5+Feuil1!H26*Rates!$E$5)*(1-$D$4) -> 0 | F26: =IF(AND($D26>=Rates!$D$4,SUM($F$9:F25)>=Rates!$D$4),0,IF(AND($D26>=Rates!$D$4,SUM($F$9:F25)<Rates!$D$4),Rates!$D$4-SUM($F$9:F25),IF($D26<Rates!$D$4,$D26-SUM($F$9:F25)))) -> 0 | G26: =IF($D26<=Rates!$D$4,0,IF(AND($D26>Rates!$D$4,$D26<Rates!$D$4+Rates!$E$4),$D26-SUM($F$9:H25,F26),IF(AND($D26>Rates!$D$4+Rates!$E$4,SUM($F$9:H25,F26)<Rates!$D$4+Rates!$E$4),Rates!$D$4+Rates!$E$4-SUM($F$9:H25,F26),0))) -> 0 | H26: =IF(D26>SUM($F$9:H25),D26-(SUM($F$9:H25)+SUM(F26:G26)),0) -> 0
B27: =B26+1 -> 40835 | D27: =SUM($C$9:$C27) -> 820 | E27: =(F27*Rates!$C$5+Feuil1!G27*Rates!$D$5+Feuil1!H27*Rates!$E$5)*(1-$D$4) -> 0 | F27: =IF(AND($D27>=Rates!$D$4,SUM($F$9:F26)>=Rates!$D$4),0,IF(AND($D27>=Rates!$D$4,SUM($F$9:F26)<Rates!$D$4),Rates!$D$4-SUM($F$9:F26),IF($D27<Rates!$D$4,$D27-SUM($F$9:F26)))) -> 0 | G27: =IF($D27<=Rates!$D$4,0,IF(AND($D27>Rates!$D$4,$D27<Rates!$D$4+Rates!$E$4),$D27-SUM($F$9:H26,F27),IF(AND($D27>Rates!$D$4+Rates!$E$4,SUM($F$9:H26,F27)<Rates!$D$4+Rates!$E$4),Rates!$D$4+Rates!$E$4-SUM($F$9:H26,F27),0))) -> 0 | H27: =IF(D27>SUM($F$9:H26),D27-(SUM($F$9:H26)+SUM(F27:G27)),0) -> 0
B28: =B27+1 -> 40836 | D28: =SUM($C$9:$C28) -> 820 | E28: =(F28*Rates!$C$5+Feuil1!G28*Rates!$D$5+Feuil1!H28*Rates!$E$5)*(1-$D$4) -> 0 | F28: =IF(AND($D28>=Rates!$D$4,SUM($F$9:F27)>=Rates!$D$4),0,IF(AND($D28>=Rates!$D$4,SUM($F$9:F27)<Rates!$D$4),Rates!$D$4-SUM($F$9:F27),IF($D28<Rates!$D$4,$D28-SUM($F$9:F27)))) -> 0 | G28: =IF($D28<=Rates!$D$4,0,IF(AND($D28>Rates!$D$4,$D28<Rates!$D$4+Rates!$E$4),$D28-SUM($F$9:H27,F28),IF(AND($D28>Rates!$D$4+Rates!$E$4,SUM($F$9:H27,F28)<Rates!$D$4+Rates!$E$4),Rates!$D$4+Rates!$E$4-SUM($F$9:H27,F28),0))) -> 0 | H28: =IF(D28>SUM($F$9:H27),D28-(SUM($F$9:H27)+SUM(F28:G28)),0) -> 0
... B36: =B35+1 -> 40844 | D36: =SUM($C$9:$C36) -> 820 | E36: =(F36*Rates!$C$5+Feuil1!G36*Rates!$D$5+Feuil1!H36*Rates!$E$5)*(1-$D$4) -> 0 | F36: =IF(AND($D36>=Rates!$D$4,SUM($F$9:F35)>=Rates!$D$4),0,IF(AND($D36>=Rates!$D$4,SUM($F$9:F35)<Rates!$D$4),Rates!$D$4-SUM($F$9:F35),IF($D36<Rates!$D$4,$D36-SUM($F$9:F35)))) -> 0 | G36: =IF($D36<=Rates!$D$4,0,IF(AND($D36>Rates!$D$4,$D36<Rates!$D$4+Rates!$E$4),$D36-SUM($F$9:H35,F36),IF(AND($D36>Rates!$D$4+Rates!$E$4,SUM($F$9:H35,F36)<Rates!$D$4+Rates!$E$4),Rates!$D$4+Rates!$E$4-SUM($F$9:H35,F36),0))) -> 0 | H36: =IF(D36>SUM($F$9:H35),D36-(SUM($F$9:H35)+SUM(F36:G36)),0) -> 0
B37: =IF(B36=" ", " ",IF(MONTH(B36+1)>MONTH(B36), " ", B36+1)) -> 40845 | D37: =SUM($C$9:$C37) -> 820 | E37: =(F37*Rates!$C$5+Feuil1!G37*Rates!$D$5+Feuil1!H37*Rates!$E$5)*(1-$D$4) -> 0 | F37: =IF(AND($D37>=Rates!$D$4,SUM($F$9:F36)>=Rates!$D$4),0,IF(AND($D37>=Rates!$D$4,SUM($F$9:F36)<Rates!$D$4),Rates!$D$4-SUM($F$9:F36),IF($D37<Rates!$D$4,$D37-SUM($F$9:F36)))) -> 0 | G37: =IF($D37<=Rates!$D$4,0,IF(AND($D37>Rates!$D$4,$D37<Rates!$D$4+Rates!$E$4),$D37-SUM($F$9:H36,F37),IF(AND($D37>Rates!$D$4+Rates!$E$4,SUM($F$9:H36,F37)<Rates!$D$4+Rates!$E$4),Rates!$D$4+Rates!$E$4-SUM($F$9:H36,F37),0))) -> 0 | H37: =IF(D37>SUM($F$9:H36),D37-(SUM($F$9:H36)+SUM(F37:G37)),0) -> 0
B38: =IF(B37=" ", " ",IF(MONTH(B37+1)>MONTH(B37), " ", B37+1)) -> 40846 | D38: =SUM($C$9:$C38) -> 820 | E38: =(F38*Rates!$C$5+Feuil1!G38*Rates!$D$5+Feuil1!H38*Rates!$E$5)*(1-$D$4) -> 0 | F38: =IF(AND($D38>=Rates!$D$4,SUM($F$9:F37)>=Rates!$D$4),0,IF(AND($D38>=Rates!$D$4,SUM($F$9:F37)<Rates!$D$4),Rates!$D$4-SUM($F$9:F37),IF($D38<Rates!$D$4,$D38-SUM($F$9:F37)))) -> 0 | G38: =IF($D38<=Rates!$D$4,0,IF(AND($D38>Rates!$D$4,$D38<Rates!$D$4+Rates!$E$4),$D38-SUM($F$9:H37,F38),IF(AND($D38>Rates!$D$4+Rates!$E$4,SUM($F$9:H37,F38)<Rates!$D$4+Rates!$E$4),Rates!$D$4+Rates!$E$4-SUM($F$9:H37,F38),0))) -> 0 | H38: =IF(D38>SUM($F$9:H37),D38-(SUM($F$9:H37)+SUM(F38:G38)),0) -> 0
B39: =IF(B38=" ", " ",IF(MONTH(B38+1)>MONTH(B38), " ", B38+1)) -> 40847
B42: Total | C42: =SUM(C9:C40) -> 820 | I42: =SUM(I9:I40) -> 0
B43: Total Rooms Previsous Month | C43: =C42 -> 820
B44: Mois précédent | C44: 450

Sheet Rates
C3: Rate 1 | D3: Rate 2 | E3: Rate 3
C4: 0 | D4: 100 | E4: 500 | F4: Nationality | G4: Foreign Taxe | J4: Numbers of rooms | K4: Rate | M4: Condition of discount | N4: 0.1
B5: Purchase 1 | C5: 1000 | D5: 2000 | E5: 3000 | F5: Local | J5: 0 | K5: x | M5: Percentage of discount | N5: 0.02
B6: Purchase 2 | E6: 0 | F6: Foreigner | J6: 100 | K6: y
B7: Purchase 3 | F7: Local | J7: 500 | K7: z
B8: Purchase 4 | F8: Foreigner
B9: Purchase 5 | F9: Foreigner
B10: Purchase 6 | F10: Foreigner
B11: Purchase 7 | F11: Local
B12: Purchase 8 | F12: Local
B13: Purchase 9 | F13: Foreigner
B14: Purchase 10 | F14: Foreigner

Sheet Data
B3: Month Number | C3: Month Name
B4: 1 | C4: January
B5: 2 | C5: February
B6: 3 | C6: March
B7: 4 | C7: April
B8: 5 | C8: May
B9: 6 | C9: June
B10: 7 | C10: July
B11: 8 | C11: August
B12: 9 | C12: September
B13: 10 | C13: October
B14: 11 | C14: November
B15: 12 | C15: December

Sheet Bonus
