Workbook
Name An: Fériés!$B$1
Name An: Fériés!$B$1
Name annee: Fériés!$K$1:$K$16
Name Fériés: Fériés!$D$4:$D$16

Sheet Récap heure
A1: Fiche d'heure 2008
A3: Jan. | B3: Fév. | C3: Mars | D3: Avril | E3: Mai | F3: Juin | G3: Juillet | H3: Août | I3: Sept. | J3: Oct. | K3: Nov. | L3: Déc.
A4: =Janvier!$G$35 -> 7.5 | B4: =Février!G33 -> 0 | C4: =Mars!$G$35 -> 0 | D4: =Avril!$G$34 -> 0 | E4: =Mai!$G$35 -> 0 | F4: =Juin!$G$34 -> 0 | G4: =Juillet!$G$35 -> 0 | H4: =Août!$G$35 -> 0 | I4: =Septembre!$G$34 -> 0 | J4: =Octobre!$G$35 -> 0 | K4: =Novembre!$G$34 -> 0 | L4: =Décembre!$G$35 -> 0

Sheet Janvier
B1: Feuille de présence hebdomadaire | I1: Janvier | J1: =An -> 2012
B3: Jour | C3: Arrivée | D3: Départ | E3: Arrivée | F3: Départ | G3: Heures normales
B4: =DATE(An,1,1) -> 40909 | G4: =(IF(D4<C4,(1-C4+D4),((D4-C4)))+IF(F4<E4,(1-E4+F4),((F4-E4))))*24 -> 0
B5: =B4+1 -> 40910 | C5: 0.33333333 | D5: 0.5 | E5: 0.60416667 | F5: 0.75 | G5: =(IF(D5<C5,(1-C5+D5),((D5-C5)))+IF(F5<E5,(1-E5+F5),((F5-E5))))*24 -> 7.5
B6: =B5+1 -> 40911 | G6: =(IF(D6<C6,(1-C6+D6),((D6-C6)))+IF(F6<E6,(1-E6+F6),((F6-E6))))*24 -> 0
B7: =B6+1 -> 40912 | G7: =(IF(D7<C7,(1-C7+D7),((D7-C7)))+IF(F7<E7,(1-E7+F7),((F7-E7))))*24 -> 0
B8: =B7+1 -> 40913 | G8: =(IF(D8<C8,(1-C8+D8),((D8-C8)))+IF(F8<E8,(1-E8+F8),((F8-E8))))*24 -> 0
B9: =B8+1 -> 40914 | G9: =(IF(D9<C9,(1-C9+D9),((D9-C9)))+IF(F9<E9,(1-E9+F9),((F9-E9))))*24 -> 0
B10: =B9+1 -> 40915 | G10: =(IF(D10<C10,(1-C10+D10),((D10-C10)))+IF(F10<E10,(1-E10+F10),((F10-E10))))*24 -> 0
B11: =B10+1 -> 40916 | G11: =(IF(D11<C11,(1-C11+D11),((D11-C11)))+IF(F11<E11,(1-E11+F11),((F11-E11))))*24 -> 0
B12: =B11+1 -> 40917 | G12: =(IF(D12<C12,(1-C12+D12),((D12-C12)))+IF(F12<E12,(1-E12+F12),((F12-E12))))*24 -> 0
B13: =B12+1 -> 40918 | G13: =(IF(D13<C13,(1-C13+D13),((D13-C13)))+IF(F13<E13,(1-E13+F13),((F13-E13))))*24 -> 0
B14: =B13+1 -> 40919 | G14: =(IF(D14<C14,(1-C14+D14),((D14-C14)))+IF(F14<E14,(1-E14+F14),((F14-E14))))*24 -> 0
B15: =B14+1 -> 40920 | G15: =(IF(D15<C15,(1-C15+D15),((D15-C15)))+IF(F15<E15,(1-E15+F15),((F15-E15))))*24 -> 0
B16: =B15+1 -> 40921 | G16: =(IF(D16<C16,(1-C16+D16),((D16-C16)))+IF(F16<E16,(1-E16+F16),((F16-E16))))*24 -> 0
B17: =B16+1 -> 40922 | G17: =(IF(D17<C17,(1-C17+D17),((D17-C17)))+IF(F17<E17,(1-E17+F17),((F17-E17))))*24 -> 0
... B34: =B33+1 -> 40939 | G34: =(IF(D34<C34,(1-C34+D34),((D34-C34)))+IF(F34<E34,(1-E34+F34),((F34-E34))))*24 -> 0
F35: Total | G35: =SUM($G$4:$G$34) -> 7.5

Sheet Février
B1: Feuille de présence hebdomadaire | I1: Février | J1: =An -> 2012
B3: Jour | C3: Arrivée | D3: Départ | E3: Arrivée | F3: Départ | G3: Heures normales
B4: =DATE(An,2,1) -> 40940 | G4: =(IF(D4<C4,(1-C4+D4),((D4-C4)))+IF(F4<E4,(1-E4+F4),((F4-E4))))*24 -> 0
B5: =B4+1 -> 40941 | G5: =(IF(D5<C5,(1-C5+D5),((D5-C5)))+IF(F5<E5,(1-E5+F5),((F5-E5))))*24 -> 0
B6: =B5+1 -> 40942 | G6: =(IF(D6<C6,(1-C6+D6),((D6-C6)))+IF(F6<E6,(1-E6+F6),((F6-E6))))*24 -> 0
B7: =B6+1 -> 40943 | G7: =(IF(D7<C7,(1-C7+D7),((D7-C7)))+IF(F7<E7,(1-E7+F7),((F7-E7))))*24 -> 0
B8: =B7+1 -> 40944 | G8: =(IF(D8<C8,(1-C8+D8),((D8-C8)))+IF(F8<E8,(1-E8+F8),((F8-E8))))*24 -> 0
B9: =B8+1 -> 40945 | G9: =(IF(D9<C9,(1-C9+D9),((D9-C9)))+IF(F9<E9,(1-E9+F9),((F9-E9))))*24 -> 0
B10: =B9+1 -> 40946 | G10: =(IF(D10<C10,(1-C10+D10),((D10-C10)))+IF(F10<E10,(1-E10+F10),((F10-E10))))*24 -> 0
B11: =B10+1 -> 40947 | G11: =(IF(D11<C11,(1-C11+D11),((D11-C11)))+IF(F11<E11,(1-E11+F11),((F11-E11))))*24 -> 0
B12: =B11+1 -> 40948 | G12: =(IF(D12<C12,(1-C12+D12),((D12-C12)))+IF(F12<E12,(1-E12+F12),((F12-E12))))*24 -> 0
B13: =B12+1 -> 40949 | G13: =(IF(D13<C13,(1-C13+D13),((D13-C13)))+IF(F13<E13,(1-E13+F13),((F13-E13))))*24 -> 0
B14: =B13+1 -> 40950 | G14: =(IF(D14<C14,(1-C14+D14),((D14-C14)))+IF(F14<E14,(1-E14+F14),((F14-E14))))*24 -> 0
B15: =B14+1 -> 40951 | G15: =(IF(D15<C15,(1-C15+D15),((D15-C15)))+IF(F15<E15,(1-E15+F15),((F15-E15))))*24 -> 0
B16: =B15+1 -> 40952 | G16: =(IF(D16<C16,(1-C16+D16),((D16-C16)))+IF(F16<E16,(1-E16+F16),((F16-E16))))*24 -> 0
... B31: =B30+1 -> 40967 | G31: =(IF(D31<C31,(1-C31+D31),((D31-C31)))+IF(F31<E31,(1-E31+F31),((F31-E31))))*24 -> 0
B32: =IF(MONTH(B$31+1)=MONTH(B$31),B$31+1,"") -> 40968 | G32: =(IF(D32<C32,(1-C32+D32),((D32-C32)))+IF(F32<E32,(1-E32+F32),((F32-E32))))*24 -> 0
F33: Total | G33: =SUM($G$4:$G$32) -> 0

Sheet Mars
B1: Feuille de présence hebdomadaire | I1: Mars | J1: =An -> 2012
B3: Jour | C3: Arrivée | D3: Départ | E3: Arrivée | F3: Départ | G3: Heures normales
B4: =DATE(An,3,1) -> 40969 | G4: =(IF(D4<C4,(1-C4+D4),((D4-C4)))+IF(F4<E4,(1-E4+F4),((F4-E4))))*24 -> 0
B5: =B4+1 -> 40970 | G5: =(IF(D5<C5,(1-C5+D5),((D5-C5)))+IF(F5<E5,(1-E5+F5),((F5-E5))))*24 -> 0
B6: =B5+1 -> 40971 | G6: =(IF(D6<C6,(1-C6+D6),((D6-C6)))+IF(F6<E6,(1-E6+F6),((F6-E6))))*24 -> 0
B7: =B6+1 -> 40972 | G7: =(IF(D7<C7,(1-C7+D7),((D7-C7)))+IF(F7<E7,(1-E7+F7),((F7-E7))))*24 -> 0
B8: =B7+1 -> 40973 | G8: =(IF(D8<C8,(1-C8+D8),((D8-C8)))+IF(F8<E8,(1-E8+F8),((F8-E8))))*24 -> 0
B9: =B8+1 -> 40974 | G9: =(IF(D9<C9,(1-C9+D9),((D9-C9)))+IF(F9<E9,(1-E9+F9),((F9-E9))))*24 -> 0
B10: =B9+1 -> 40975 | G10: =(IF(D10<C10,(1-C10+D10),((D10-C10)))+IF(F10<E10,(1-E10+F10),((F10-E10))))*24 -> 0
B11: =B10+1 -> 40976 | G11: =(IF(D11<C11,(1-C11+D11),((D11-C11)))+IF(F11<E11,(1-E11+F11),((F11-E11))))*24 -> 0
B12: =B11+1 -> 40977 | G12: =(IF(D12<C12,(1-C12+D12),((D12-C12)))+IF(F12<E12,(1-E12+F12),((F12-E12))))*24 -> 0
B13: =B12+1 -> 40978 | G13: =(IF(D13<C13,(1-C13+D13),((D13-C13)))+IF(F13<E13,(1-E13+F13),((F13-E13))))*24 -> 0
B14: =B13+1 -> 40979 | G14: =(IF(D14<C14,(1-C14+D14),((D14-C14)))+IF(F14<E14,(1-E14+F14),((F14-E14))))*24 -> 0
B15: =B14+1 -> 40980 | G15: =(IF(D15<C15,(1-C15+D15),((D15-C15)))+IF(F15<E15,(1-E15+F15),((F15-E15))))*24 -> 0
B16: =B15+1 -> 40981 | G16: =(IF(D16<C16,(1-C16+D16),((D16-C16)))+IF(F16<E16,(1-E16+F16),((F16-E16))))*24 -> 0
... B34: =B33+1 -> 40999 | G34: =(IF(D34<C34,(1-C34+D34),((D34-C34)))+IF(F34<E34,(1-E34+F34),((F34-E34))))*24 -> 0
F35: Total | G35: =SUM($G$4:$G$34) -> 0

Sheet Avril
B1: Feuille de présence hebdomadaire | I1: Avril | J1: =An -> 2012
B3: Jour | C3: Arrivée | D3: Départ | E3: Arrivée | F3: Départ | G3: Heures normales
B4: =DATE(An,4,1) -> 41000 | G4: =(IF(D4<C4,(1-C4+D4),((D4-C4)))+IF(F4<E4,(1-E4+F4),((F4-E4))))*24 -> 0
B5: =B4+1 -> 41001 | G5: =(IF(D5<C5,(1-C5+D5),((D5-C5)))+IF(F5<E5,(1-E5+F5),((F5-E5))))*24 -> 0
B6: =B5+1 -> 41002 | G6: =(IF(D6<C6,(1-C6+D6),((D6-C6)))+IF(F6<E6,(1-E6+F6),((F6-E6))))*24 -> 0
B7: =B6+1 -> 41003 | G7: =(IF(D7<C7,(1-C7+D7),((D7-C7)))+IF(F7<E7,(1-E7+F7),((F7-E7))))*24 -> 0
B8: =B7+1 -> 41004 | G8: =(IF(D8<C8,(1-C8+D8),((D8-C8)))+IF(F8<E8,(1-E8+F8),((F8-E8))))*24 -> 0
B9: =B8+1 -> 41005 | G9: =(IF(D9<C9,(1-C9+D9),((D9-C9)))+IF(F9<E9,(1-E9+F9),((F9-E9))))*24 -> 0
B10: =B9+1 -> 41006 | G10: =(IF(D10<C10,(1-C10+D10),((D10-C10)))+IF(F10<E10,(1-E10+F10),((F10-E10))))*24 -> 0
B11: =B10+1 -> 41007 | G11: =(IF(D11<C11,(1-C11+D11),((D11-C11)))+IF(F11<E11,(1-E11+F11),((F11-E11))))*24 -> 0
B12: =B11+1 -> 41008 | G12: =(IF(D12<C12,(1-C12+D12),((D12-C12)))+IF(F12<E12,(1-E12+F12),((F12-E12))))*24 -> 0
B13: =B12+1 -> 41009 | G13: =(IF(D13<C13,(1-C13+D13),((D13-C13)))+IF(F13<E13,(1-E13+F13),((F13-E13))))*24 -> 0
B14: =B13+1 -> 41010 | G14: =(IF(D14<C14,(1-C14+D14),((D14-C14)))+IF(F14<E14,(1-E14+F14),((F14-E14))))*24 -> 0
B15: =B14+1 -> 41011 | G15: =(IF(D15<C15,(1-C15+D15),((D15-C15)))+IF(F15<E15,(1-E15+F15),((F15-E15))))*24 -> 0
B16: =B15+1 -> 41012 | G16: =(IF(D16<C16,(1-C16+D16),((D16-C16)))+IF(F16<E16,(1-E16+F16),((F16-E16))))*24 -> 0
... B33: =B32+1 -> 41029 | G33: =(IF(D33<C33,(1-C33+D33),((D33-C33)))+IF(F33<E33,(1-E33+F33),((F33-E33))))*24 -> 0
F34: Total | G34: =SUM($G$4:$G$33) -> 0

Sheet Mai
B1: Feuille de présence hebdomadaire | I1: Mai | J1: =An -> 2012
B3: Jour | C3: Arrivée | D3: Départ | E3: Arrivée | F3: Départ | G3: Heures normales
B4: =DATE(An,5,1) -> 41030 | G4: =(IF(D4<C4,(1-C4+D4),((D4-C4)))+IF(F4<E4,(1-E4+F4),((F4-E4))))*24 -> 0
B5: =B4+1 -> 41031 | G5: =(IF(D5<C5,(1-C5+D5),((D5-C5)))+IF(F5<E5,(1-E5+F5),((F5-E5))))*24 -> 0
B6: =B5+1 -> 41032 | G6: =(IF(D6<C6,(1-C6+D6),((D6-C6)))+IF(F6<E6,(1-E6+F6),((F6-E6))))*24 -> 0
B7: =B6+1 -> 41033 | G7: =(IF(D7<C7,(1-C7+D7),((D7-C7)))+IF(F7<E7,(1-E7+F7),((F7-E7))))*24 -> 0
B8: =B7+1 -> 41034 | G8: =(IF(D8<C8,(1-C8+D8),((D8-C8)))+IF(F8<E8,(1-E8+F8),((F8-E8))))*24 -> 0
B9: =B8+1 -> 41035 | G9: =(IF(D9<C9,(1-C9+D9),((D9-C9)))+IF(F9<E9,(1-E9+F9),((F9-E9))))*24 -> 0
B10: =B9+1 -> 41036 | G10: =(IF(D10<C10,(1-C10+D10),((D10-C10)))+IF(F10<E10,(1-E10+F10),((F10-E10))))*24 -> 0
B11: =B10+1 -> 41037 | G11: =(IF(D11<C11,(1-C11+D11),((D11-C11)))+IF(F11<E11,(1-E11+F11),((F11-E11))))*24 -> 0
B12: =B11+1 -> 41038 | G12: =(IF(D12<C12,(1-C12+D12),((D12-C12)))+IF(F12<E12,(1-E12+F12),((F12-E12))))*24 -> 0
B13: =B12+1 -> 41039 | G13: =(IF(D13<C13,(1-C13+D13),((D13-C13)))+IF(F13<E13,(1-E13+F13),((F13-E13))))*24 -> 0
B14: =B13+1 -> 41040 | G14: =(IF(D14<C14,(1-C14+D14),((D14-C14)))+IF(F14<E14,(1-E14+F14),((F14-E14))))*24 -> 0
B15: =B14+1 -> 41041 | G15: =(IF(D15<C15,(1-C15+D15),((D15-C15)))+IF(F15<E15,(1-E15+F15),((F15-E15))))*24 -> 0
B16: =B15+1 -> 41042 | G16: =(IF(D16<C16,(1-C16+D16),((D16-C16)))+IF(F16<E16,(1-E16+F16),((F16-E16))))*24 -> 0
... B34: =B33+1 -> 41060 | G34: =(IF(D34<C34,(1-C34+D34),((D34-C34)))+IF(F34<E34,(1-E34+F34),((F34-E34))))*24 -> 0
F35: Total | G35: =SUM($G$4:$G$34) -> 0

Sheet Juin
B1: Feuille de présence hebdomadaire | I1: Juin | J1: =An -> 2012
B3: Jour | C3: Arrivée | D3: Départ | E3: Arrivée | F3: Départ | G3: Heures normales
B4: =DATE(An,6,1) -> 41061 | G4: =(IF(D4<C4,(1-C4+D4),((D4-C4)))+IF(F4<E4,(1-E4+F4),((F4-E4))))*24 -> 0
B5: =B4+1 -> 41062 | G5: =(IF(D5<C5,(1-C5+D5),((D5-C5)))+IF(F5<E5,(1-E5+F5),((F5-E5))))*24 -> 0
B6: =B5+1 -> 41063 | G6: =(IF(D6<C6,(1-C6+D6),((D6-C6)))+IF(F6<E6,(1-E6+F6),((F6-E6))))*24 -> 0
B7: =B6+1 -> 41064 | G7: =(IF(D7<C7,(1-C7+D7),((D7-C7)))+IF(F7<E7,(1-E7+F7),((F7-E7))))*24 -> 0
B8: =B7+1 -> 41065 | G8: =(IF(D8<C8,(1-C8+D8),((D8-C8)))+IF(F8<E8,(1-E8+F8),((F8-E8))))*24 -> 0
B9: =B8+1 -> 41066 | G9: =(IF(D9<C9,(1-C9+D9),((D9-C9)))+IF(F9<E9,(1-E9+F9),((F9-E9))))*24 -> 0
B10: =B9+1 -> 41067 | G10: =(IF(D10<C10,(1-C10+D10),((D10-C10)))+IF(F10<E10,(1-E10+F10),((F10-E10))))*24 -> 0
B11: =B10+1 -> 41068 | G11: =(IF(D11<C11,(1-C11+D11),((D11-C11)))+IF(F11<E11,(1-E11+F11),((F11-E11))))*24 -> 0
B12: =B11+1 -> 41069 | G12: =(IF(D12<C12,(1-C12+D12),((D12-C12)))+IF(F12<E12,(1-E12+F12),((F12-E12))))*24 -> 0
B13: =B12+1 -> 41070 | G13: =(IF(D13<C13,(1-C13+D13),((D13-C13)))+IF(F13<E13,(1-E13+F13),((F13-E13))))*24 -> 0
B14: =B13+1 -> 41071 | G14: =(IF(D14<C14,(1-C14+D14),((D14-C14)))+IF(F14<E14,(1-E14+F14),((F14-E14))))*24 -> 0
B15: =B14+1 -> 41072 | G15: =(IF(D15<C15,(1-C15+D15),((D15-C15)))+IF(F15<E15,(1-E15+F15),((F15-E15))))*24 -> 0
B16: =B15+1 -> 41073 | G16: =(IF(D16<C16,(1-C16+D16),((D16-C16)))+IF(F16<E16,(1-E16+F16),((F16-E16))))*24 -> 0
... B33: =B32+1 -> 41090 | G33: =(IF(D33<C33,(1-C33+D33),((D33-C33)))+IF(F33<E33,(1-E33+F33),((F33-E33))))*24 -> 0
F34: Total | G34: =SUM($G$4:$G$33) -> 0

Sheet Juillet
B1: Feuille de présence hebdomadaire | I1: Juillet | J1: =An -> 2012
B3: Jour | C3: Arrivée | D3: Départ | E3: Arrivée | F3: Départ | G3: Heures normales
B4: =DATE(An,7,1) -> 41091 | G4: =(IF(D4<C4,(1-C4+D4),((D4-C4)))+IF(F4<E4,(1-E4+F4),((F4-E4))))*24 -> 0
B5: =B4+1 -> 41092 | G5: =(IF(D5<C5,(1-C5+D5),((D5-C5)))+IF(F5<E5,(1-E5+F5),((F5-E5))))*24 -> 0
B6: =B5+1 -> 41093 | G6: =(IF(D6<C6,(1-C6+D6),((D6-C6)))+IF(F6<E6,(1-E6+F6),((F6-E6))))*24 -> 0
B7: =B6+1 -> 41094 | G7: =(IF(D7<C7,(1-C7+D7),((D7-C7)))+IF(F7<E7,(1-E7+F7),((F7-E7))))*24 -> 0
B8: =B7+1 -> 41095 | G8: =(IF(D8<C8,(1-C8+D8),((D8-C8)))+IF(F8<E8,(1-E8+F8),((F8-E8))))*24 -> 0
B9: =B8+1 -> 41096 | G9: =(IF(D9<C9,(1-C9+D9),((D9-C9)))+IF(F9<E9,(1-E9+F9),((F9-E9))))*24 -> 0
B10: =B9+1 -> 41097 | G10: =(IF(D10<C10,(1-C10+D10),((D10-C10)))+IF(F10<E10,(1-E10+F10),((F10-E10))))*24 -> 0
B11: =B10+1 -> 41098 | G11: =(IF(D11<C11,(1-C11+D11),((D11-C11)))+IF(F11<E11,(1-E11+F11),((F11-E11))))*24 -> 0
B12: =B11+1 -> 41099 | G12: =(IF(D12<C12,(1-C12+D12),((D12-C12)))+IF(F12<E12,(1-E12+F12),((F12-E12))))*24 -> 0
B13: =B12+1 -> 41100 | G13: =(IF(D13<C13,(1-C13+D13),((D13-C13)))+IF(F13<E13,(1-E13+F13),((F13-E13))))*24 -> 0
B14: =B13+1 -> 41101 | G14: =(IF(D14<C14,(1-C14+D14),((D14-C14)))+IF(F14<E14,(1-E14+F14),((F14-E14))))*24 -> 0
B15: =B14+1 -> 41102 | G15: =(IF(D15<C15,(1-C15+D15),((D15-C15)))+IF(F15<E15,(1-E15+F15),((F15-E15))))*24 -> 0
B16: =B15+1 -> 41103 | G16: =(IF(D16<C16,(1-C16+D16),((D16-C16)))+IF(F16<E16,(1-E16+F16),((F16-E16))))*24 -> 0
... B34: =B33+1 -> 41121 | G34: =(IF(D34<C34,(1-C34+D34),((D34-C34)))+IF(F34<E34,(1-E34+F34),((F34-E34))))*24 -> 0
F35: Total | G35: =SUM($G$4:$G$34) -> 0

Sheet Août
B1: Feuille de présence hebdomadaire | I1: Août | J1: =An -> 2012
B3: Jour | C3: Arrivée | D3: Départ | E3: Arrivée | F3: Départ | G3: Heures normales
B4: =DATE(An,8,1) -> 41122 | G4: =(IF(D4<C4,(1-C4+D4),((D4-C4)))+IF(F4<E4,(1-E4+F4),((F4-E4))))*24 -> 0
B5: =B4+1 -> 41123 | G5: =(IF(D5<C5,(1-C5+D5),((D5-C5)))+IF(F5<E5,(1-E5+F5),((F5-E5))))*24 -> 0
B6: =B5+1 -> 41124 | G6: =(IF(D6<C6,(1-C6+D6),((D6-C6)))+IF(F6<E6,(1-E6+F6),((F6-E6))))*24 -> 0
B7: =B6+1 -> 41125 | G7: =(IF(D7<C7,(1-C7+D7),((D7-C7)))+IF(F7<E7,(1-E7+F7),((F7-E7))))*24 -> 0
B8: =B7+1 -> 41126 | G8: =(IF(D8<C8,(1-C8+D8),((D8-C8)))+IF(F8<E8,(1-E8+F8),((F8-E8))))*24 -> 0
B9: =B8+1 -> 41127 | G9: =(IF(D9<C9,(1-C9+D9),((D9-C9)))+IF(F9<E9,(1-E9+F9),((F9-E9))))*24 -> 0
B10: =B9+1 -> 41128 | G10: =(IF(D10<C10,(1-C10+D10),((D10-C10)))+IF(F10<E10,(1-E10+F10),((F10-E10))))*24 -> 0
B11: =B10+1 -> 41129 | G11: =(IF(D11<C11,(1-C11+D11),((D11-C11)))+IF(F11<E11,(1-E11+F11),((F11-E11))))*24 -> 0
B12: =B11+1 -> 41130 | G12: =(IF(D12<C12,(1-C12+D12),((D12-C12)))+IF(F12<E12,(1-E12+F12),((F12-E12))))*24 -> 0
B13: =B12+1 -> 41131 | G13: =(IF(D13<C13,(1-C13+D13),((D13-C13)))+IF(F13<E13,(1-E13+F13),((F13-E13))))*24 -> 0
B14: =B13+1 -> 41132 | G14: =(IF(D14<C14,(1-C14+D14),((D14-C14)))+IF(F14<E14,(1-E14+F14),((F14-E14))))*24 -> 0
B15: =B14+1 -> 41133 | G15: =(IF(D15<C15,(1-C15+D15),((D15-C15)))+IF(F15<E15,(1-E15+F15),((F15-E15))))*24 -> 0
B16: =B15+1 -> 41134 | G16: =(IF(D16<C16,(1-C16+D16),((D16-C16)))+IF(F16<E16,(1-E16+F16),((F16-E16))))*24 -> 0
... B34: =B33+1 -> 41152 | G34: =(IF(D34<C34,(1-C34+D34),((D34-C34)))+IF(F34<E34,(1-E34+F34),((F34-E34))))*24 -> 0
F35: Total | G35: =SUM($G$4:$G$34) -> 0

Sheet Septembre
B1: Feuille de présence hebdomadaire | I1: Sept. | J1: =An -> 2012
B3: Jour | C3: Arrivée | D3: Départ | E3: Arrivée | F3: Départ | G3: Heures normales
B4: =DATE(An,9,1) -> 41153 | G4: =(IF(D4<C4,(1-C4+D4),((D4-C4)))+IF(F4<E4,(1-E4+F4),((F4-E4))))*24 -> 0
B5: =B4+1 -> 41154 | G5: =(IF(D5<C5,(1-C5+D5),((D5-C5)))+IF(F5<E5,(1-E5+F5),((F5-E5))))*24 -> 0
B6: =B5+1 -> 41155 | G6: =(IF(D6<C6,(1-C6+D6),((D6-C6)))+IF(F6<E6,(1-E6+F6),((F6-E6))))*24 -> 0
B7: =B6+1 -> 41156 | G7: =(IF(D7<C7,(1-C7+D7),((D7-C7)))+IF(F7<E7,(1-E7+F7),((F7-E7))))*24 -> 0
B8: =B7+1 -> 41157 | G8: =(IF(D8<C8,(1-C8+D8),((D8-C8)))+IF(F8<E8,(1-E8+F8),((F8-E8))))*24 -> 0
B9: =B8+1 -> 41158 | G9: =(IF(D9<C9,(1-C9+D9),((D9-C9)))+IF(F9<E9,(1-E9+F9),((F9-E9))))*24 -> 0
B10: =B9+1 -> 41159 | G10: =(IF(D10<C10,(1-C10+D10),((D10-C10)))+IF(F10<E10,(1-E10+F10),((F10-E10))))*24 -> 0
B11: =B10+1 -> 41160 | G11: =(IF(D11<C11,(1-C11+D11),((D11-C11)))+IF(F11<E11,(1-E11+F11),((F11-E11))))*24 -> 0
B12: =B11+1 -> 41161 | G12: =(IF(D12<C12,(1-C12+D12),((D12-C12)))+IF(F12<E12,(1-E12+F12),((F12-E12))))*24 -> 0
B13: =B12+1 -> 41162 | G13: =(IF(D13<C13,(1-C13+D13),((D13-C13)))+IF(F13<E13,(1-E13+F13),((F13-E13))))*24 -> 0
B14: =B13+1 -> 41163 | G14: =(IF(D14<C14,(1-C14+D14),((D14-C14)))+IF(F14<E14,(1-E14+F14),((F14-E14))))*24 -> 0
B15: =B14+1 -> 41164 | G15: =(IF(D15<C15,(1-C15+D15),((D15-C15)))+IF(F15<E15,(1-E15+F15),((F15-E15))))*24 -> 0
B16: =B15+1 -> 41165 | G16: =(IF(D16<C16,(1-C16+D16),((D16-C16)))+IF(F16<E16,(1-E16+F16),((F16-E16))))*24 -> 0
... B33: =B32+1 -> 41182 | G33: =(IF(D33<C33,(1-C33+D33),((D33-C33)))+IF(F33<E33,(1-E33+F33),((F33-E33))))*24 -> 0
F34: Total | G34: =SUM($G$4:$G$33) -> 0

Sheet Octobre
B1: Feuille de présence hebdomadaire | I1: Octob. | J1: =An -> 2012
B3: Jour | C3: Arrivée | D3: Départ | E3: Arrivée | F3: Départ | G3: Heures normales
B4: =DATE(An,10,1) -> 41183 | G4: =(IF(D4<C4,(1-C4+D4),((D4-C4)))+IF(F4<E4,(1-E4+F4),((F4-E4))))*24 -> 0
B5: =B4+1 -> 41184 | G5: =(IF(D5<C5,(1-C5+D5),((D5-C5)))+IF(F5<E5,(1-E5+F5),((F5-E5))))*24 -> 0
B6: =B5+1 -> 41185 | G6: =(IF(D6<C6,(1-C6+D6),((D6-C6)))+IF(F6<E6,(1-E6+F6),((F6-E6))))*24 -> 0
B7: =B6+1 -> 41186 | G7: =(IF(D7<C7,(1-C7+D7),((D7-C7)))+IF(F7<E7,(1-E7+F7),((F7-E7))))*24 -> 0
B8: =B7+1 -> 41187 | G8: =(IF(D8<C8,(1-C8+D8),((D8-C8)))+IF(F8<E8,(1-E8+F8),((F8-E8))))*24 -> 0
B9: =B8+1 -> 41188 | G9: =(IF(D9<C9,(1-C9+D9),((D9-C9)))+IF(F9<E9,(1-E9+F9),((F9-E9))))*24 -> 0
B10: =B9+1 -> 41189 | G10: =(IF(D10<C10,(1-C10+D10),((D10-C10)))+IF(F10<E10,(1-E10+F10),((F10-E10))))*24 -> 0
B11: =B10+1 -> 41190 | G11: =(IF(D11<C11,(1-C11+D11),((D11-C11)))+IF(F11<E11,(1-E11+F11),((F11-E11))))*24 -> 0
B12: =B11+1 -> 41191 | G12: =(IF(D12<C12,(1-C12+D12),((D12-C12)))+IF(F12<E12,(1-E12+F12),((F12-E12))))*24 -> 0
B13: =B12+1 -> 41192 | G13: =(IF(D13<C13,(1-C13+D13),((D13-C13)))+IF(F13<E13,(1-E13+F13),((F13-E13))))*24 -> 0
B14: =B13+1 -> 41193 | G14: =(IF(D14<C14,(1-C14+D14),((D14-C14)))+IF(F14<E14,(1-E14+F14),((F14-E14))))*24 -> 0
B15: =B14+1 -> 41194 | G15: =(IF(D15<C15,(1-C15+D15),((D15-C15)))+IF(F15<E15,(1-E15+F15),((F15-E15))))*24 -> 0
B16: =B15+1 -> 41195 | G16: =(IF(D16<C16,(1-C16+D16),((D16-C16)))+IF(F16<E16,(1-E16+F16),((F16-E16))))*24 -> 0
... B34: =B33+1 -> 41213 | G34: =(IF(D34<C34,(1-C34+D34),((D34-C34)))+IF(F34<E34,(1-E34+F34),((F34-E34))))*24 -> 0
F35: Total | G35: =SUM($G$4:$G$34) -> 0

Sheet Novembre
B1: Feuille de présence hebdomadaire | I1: Novemb. | J1: =An -> 2012
B3: Jour | C3: Arrivée | D3: Départ | E3: Arrivée | F3: Départ | G3: Heures normales
B4: =DATE(An,11,1) -> 41214 | G4: =(IF(D4<C4,(1-C4+D4),((D4-C4)))+IF(F4<E4,(1-E4+F4),((F4-E4))))*24 -> 0
B5: =B4+1 -> 41215 | G5: =(IF(D5<C5,(1-C5+D5),((D5-C5)))+IF(F5<E5,(1-E5+F5),((F5-E5))))*24 -> 0
B6: =B5+1 -> 41216 | G6: =(IF(D6<C6,(1-C6+D6),((D6-C6)))+IF(F6<E6,(1-E6+F6),((F6-E6))))*24 -> 0
B7: =B6+1 -> 41217 | G7: =(IF(D7<C7,(1-C7+D7),((D7-C7)))+IF(F7<E7,(1-E7+F7),((F7-E7))))*24 -> 0
B8: =B7+1 -> 41218 | G8: =(IF(D8<C8,(1-C8+D8),((D8-C8)))+IF(F8<E8,(1-E8+F8),((F8-E8))))*24 -> 0
B9: =B8+1 -> 41219 | G9: =(IF(D9<C9,(1-C9+D9),((D9-C9)))+IF(F9<E9,(1-E9+F9),((F9-E9))))*24 -> 0
B10: =B9+1 -> 41220 | G10: =(IF(D10<C10,(1-C10+D10),((D10-C10)))+IF(F10<E10,(1-E10+F10),((F10-E10))))*24 -> 0
B11: =B10+1 -> 41221 | G11: =(IF(D11<C11,(1-C11+D11),((D11-C11)))+IF(F11<E11,(1-E11+F11),((F11-E11))))*24 -> 0
B12: =B11+1 -> 41222 | G12: =(IF(D12<C12,(1-C12+D12),((D12-C12)))+IF(F12<E12,(1-E12+F12),((F12-E12))))*24 -> 0
B13: =B12+1 -> 41223 | G13: =(IF(D13<C13,(1-C13+D13),((D13-C13)))+IF(F13<E13,(1-E13+F13),((F13-E13))))*24 -> 0
B14: =B13+1 -> 41224 | G14: =(IF(D14<C14,(1-C14+D14),((D14-C14)))+IF(F14<E14,(1-E14+F14),((F14-E14))))*24 -> 0
B15: =B14+1 -> 41225 | G15: =(IF(D15<C15,(1-C15+D15),((D15-C15)))+IF(F15<E15,(1-E15+F15),((F15-E15))))*24 -> 0
B16: =B15+1 -> 41226 | G16: =(IF(D16<C16,(1-C16+D16),((D16-C16)))+IF(F16<E16,(1-E16+F16),((F16-E16))))*24 -> 0
... B33: =B32+1 -> 41243 | G33: =(IF(D33<C33,(1-C33+D33),((D33-C33)))+IF(F33<E33,(1-E33+F33),((F33-E33))))*24 -> 0
F34: Total | G34: =SUM($G$4:$G$33) -> 0

Sheet Décembre
B1: Feuille de présence hebdomadaire | I1: Décemb. | J1: =An -> 2012
B3: Jour | C3: Arrivée | D3: Départ | E3: Arrivée | F3: Départ | G3: Heures normales
B4: =DATE(An,12,1) -> 41244 | G4: =(IF(D4<C4,(1-C4+D4),((D4-C4)))+IF(F4<E4,(1-E4+F4),((F4-E4))))*24 -> 0
B5: =B4+1 -> 41245 | G5: =(IF(D5<C5,(1-C5+D5),((D5-C5)))+IF(F5<E5,(1-E5+F5),((F5-E5))))*24 -> 0
B6: =B5+1 -> 41246 | G6: =(IF(D6<C6,(1-C6+D6),((D6-C6)))+IF(F6<E6,(1-E6+F6),((F6-E6))))*24 -> 0
B7: =B6+1 -> 41247 | G7: =(IF(D7<C7,(1-C7+D7),((D7-C7)))+IF(F7<E7,(1-E7+F7),((F7-E7))))*24 -> 0
B8: =B7+1 -> 41248 | G8: =(IF(D8<C8,(1-C8+D8),((D8-C8)))+IF(F8<E8,(1-E8+F8),((F8-E8))))*24 -> 0
B9: =B8+1 -> 41249 | G9: =(IF(D9<C9,(1-C9+D9),((D9-C9)))+IF(F9<E9,(1-E9+F9),((F9-E9))))*24 -> 0
B10: =B9+1 -> 41250 | G10: =(IF(D10<C10,(1-C10+D10),((D10-C10)))+IF(F10<E10,(1-E10+F10),((F10-E10))))*24 -> 0
B11: =B10+1 -> 41251 | G11: =(IF(D11<C11,(1-C11+D11),((D11-C11)))+IF(F11<E11,(1-E11+F11),((F11-E11))))*24 -> 0
B12: =B11+1 -> 41252 | G12: =(IF(D12<C12,(1-C12+D12),((D12-C12)))+IF(F12<E12,(1-E12+F12),((F12-E12))))*24 -> 0
B13: =B12+1 -> 41253 | G13: =(IF(D13<C13,(1-C13+D13),((D13-C13)))+IF(F13<E13,(1-E13+F13),((F13-E13))))*24 -> 0
B14: =B13+1 -> 41254 | G14: =(IF(D14<C14,(1-C14+D14),((D14-C14)))+IF(F14<E14,(1-E14+F14),((F14-E14))))*24 -> 0
B15: =B14+1 -> 41255 | G15: =(IF(D15<C15,(1-C15+D15),((D15-C15)))+IF(F15<E15,(1-E15+F15),((F15-E15))))*24 -> 0
B16: =B15+1 -> 41256 | G16: =(IF(D16<C16,(1-C16+D16),((D16-C16)))+IF(F16<E16,(1-E16+F16),((F16-E16))))*24 -> 0
... B34: =B33+1 -> 41274 | G34: =(IF(D34<C34,(1-C34+D34),((D34-C34)))+IF(F34<E34,(1-E34+F34),((F34-E34))))*24 -> 0
F35: Total | G35: =SUM($G$4:$G$34) -> 0

Sheet Fériés
B1: 2012 | K1: 2000
K2: 2001
K3: 2002
B4: Jour de l'an | D4: =DATE(An,1,1) -> 40909 | K4: 2003
B5: Pâques | D5: =FLOOR(DATE(An,5,DAY(MINUTE(An/38)/2+56)),7)-34+7*(An=2079) -> 41007 | K5: 2004
B6: Lundi de Pâques | D6: =D5+1 -> 41008 | K6: 2005
B7: Fête du travail | D7: =DATE(An,5,1) -> 41030 | K7: 2006
B8: Armistice 1945 | D8: =DATE(An,5,8) -> 41037 | K8: 2007
B9: Ascension | D9: =D5+39 -> 41046 | K9: 2008
B10: Pentecôte | D10: =D5+49 -> 41056 | K10: 2009
B11: Lundi de Pentecote | D11: =D10+1 -> 41057 | K11: 2010
B12: Fête nationale | D12: =DATE(An,7,14) -> 41104 | K12: 2011
B13: Assomption | D13: =DATE(An,8,15) -> 41136 | K13: 2012
B14: Toussaint | D14: =DATE(An,11,1) -> 41214 | K14: 2013
B15: Armistice 1918 | D15: =DATE(An,11,11) -> 41224 | K15: 2014
B16: NOEL | D16: =DATE(An,12,25) -> 41268 | K16: 2015
