Workbook

Sheet Revenue détaillé
B1: Janvier | E1: Février
A2: Produit | B2: Sous-produit | C2: Revenue en Euro | E2: Plateforme | F2: Revenue en Euro
A3: Produit A | B3: Sous-produit 1 | C3: 100 | E3: Sous-produit 1 | F3: 60
A4: =A3 -> Produit A | B4: Sous-produit 2 | C4: 20 | E4: Sous-produit 2 | F4: 20
A5: =A4 -> Produit A | B5: Sous-produit 3 | C5: 40 | E5: Sous-produit 3 | F5: 50
A6: =A5 -> Produit A | B6: Sous-produit 4 | C6: 20 | E6: Sous-produit 4 | F6: 30
A7: =A6 -> Produit A | B7: Sous-produit 5 | C7: 40 | E7: Sous-produit 5 | F7: 10
A8: =A7 -> Produit A | B8: Sous-produit 6 | C8: 10 | E8: Sous-produit 6 | F8: 60
A9: =A8 -> Produit A | B9: Total | C9: =SUM(C3:C8) -> 230 | E9: Total | F9: =SUM(F3:F8) -> 230
A10: Produit B | B10: Sous-produit 1 | C10: 10 | E10: Sous-produit 1 | F10: 40
A11: =A10 -> Produit B | B11: Sous-produit 2 | C11: 50 | E11: Sous-produit 2 | F11: 20
A12: =A11 -> Produit B | B12: Sous-produit 3 | C12: 30 | E12: Sous-produit 3 | F12: 60
A13: =A12 -> Produit B | B13: Sous-produit 4 | C13: 50 | E13: Sous-produit 4 | F13: 10
A14: =A13 -> Produit B | B14: Sous-produit 5 | C14: 30 | E14: Sous-produit 5 | F14: 20
A15: =A14 -> Produit B | B15: Total | C15: =SUM(C10:C14) -> 170 | E15: Total | F15: =SUM(F10:F14) -> 150
A16: Produit C | B16: Sous-produit 1 | C16: 40 | E16: Sous-produit 1 | F16: 60
A17: =A16 -> Produit C | B17: Sous-produit 2 | C17: 10 | E17: Sous-produit 2 | F17: 30
A18: =A17 -> Produit C | B18: Sous-produit 3 | C18: 50 | E18: Sous-produit 3 | F18: 10
A19: =A18 -> Produit C | B19: Sous-produit 4 | C19: 30 | E19: Sous-produit 4 | F19: 50
A20: =A19 -> Produit C | B20: Sous-produit 5 | C20: 20 | E20: Sous-produit 5 | F20: 20
A21: =A20 -> Produit C | B21: Total | C21: =SUM(C16:C20) -> 150 | E21: Total | F21: =SUM(F16:F20) -> 170

Sheet Total Revenu
B1: 41640 | C1: 41671
A2: Produit A | B2: =OFFSET('Revenue détaillé'!$A$1,MATCH($A2,'Revenue détaillé'!$A:$A,0)+MATCH("Total",OFFSET('Revenue détaillé'!$A$1:$A$21,MATCH($A2,'Revenue détaillé'!$A:$A,0),MATCH(TEXT(MONTH(B$1),"mmmm"),'Revenue détaillé'!$1:$1,0)-1),0)-1,MATCH(TEXT(B$1,"mmmm"),'Revenue détaillé'!$B$1:$BB$1,0)+1) -> 230 | C2: =OFFSET('Revenue détaillé'!$A$1,MATCH($A2,'Revenue détaillé'!$A:$A,0)+MATCH("Total",OFFSET('Revenue détaillé'!$A$1:$A$21,MATCH($A2,'Revenue détaillé'!$A:$A,0),MATCH(TEXT(MONTH(C$1),"mmmm"),'Revenue détaillé'!$1:$1,0)-1),0)-1,MATCH(TEXT(C$1,"mmmm"),'Revenue détaillé'!$B$1:$BB$1,0)+1) -> 230
A3: Produit B | B3: =OFFSET('Revenue détaillé'!$A$1,MATCH($A3,'Revenue détaillé'!$A:$A,0)+MATCH("Total",OFFSET('Revenue détaillé'!$A$1:$A$21,MATCH($A3,'Revenue détaillé'!$A:$A,0),MATCH(TEXT(MONTH(B$1),"mmmm"),'Revenue détaillé'!$1:$1,0)-1),0)-1,MATCH(TEXT(B$1,"mmmm"),'Revenue détaillé'!$B$1:$BB$1,0)+1) -> 170 | C3: =OFFSET('Revenue détaillé'!$A$1,MATCH($A3,'Revenue détaillé'!$A:$A,0)+MATCH("Total",OFFSET('Revenue détaillé'!$A$1:$A$21,MATCH($A3,'Revenue détaillé'!$A:$A,0),MATCH(TEXT(MONTH(C$1),"mmmm"),'Revenue détaillé'!$1:$1,0)-1),0)-1,MATCH(TEXT(C$1,"mmmm"),'Revenue détaillé'!$B$1:$BB$1,0)+1) -> 150
A4: Produit C | B4: =OFFSET('Revenue détaillé'!$A$1,MATCH($A4,'Revenue détaillé'!$A:$A,0)+MATCH("Total",OFFSET('Revenue détaillé'!$A$1:$A$21,MATCH($A4,'Revenue détaillé'!$A:$A,0),MATCH(TEXT(MONTH(B$1),"mmmm"),'Revenue détaillé'!$1:$1,0)-1),0)-1,MATCH(TEXT(B$1,"mmmm"),'Revenue détaillé'!$B$1:$BB$1,0)+1) -> 150 | C4: =OFFSET('Revenue détaillé'!$A$1,MATCH($A4,'Revenue détaillé'!$A:$A,0)+MATCH("Total",OFFSET('Revenue détaillé'!$A$1:$A$21,MATCH($A4,'Revenue détaillé'!$A:$A,0),MATCH(TEXT(MONTH(C$1),"mmmm"),'Revenue détaillé'!$1:$1,0)-1),0)-1,MATCH(TEXT(C$1,"mmmm"),'Revenue détaillé'!$B$1:$BB$1,0)+1) -> 170
