Workbook

Sheet Récapitulatif
A1: 1ère1 Ma | D1: =IF('Séance 1'!C2:G2="","",'Séance 1'!C2:G2) | G1: Séance n°1 | J1: =IF('Séance 2'!C2:G2="","",'Séance 2'!C2:G2) -> #VALUE! | M1: Séance n° 2 | P1: =IF('Séance 3'!C2:G2="","",'Séance 3'!C2:G2) -> #VALUE! | S1: Séance n° 3 | V1: Date : | AA1: Séance n°4 Evaluation
A2: NOMS | B2: PRENOMS | C2: Sexe | D2: 1er essai | E2: 2e essai | F2: 3e essai | G2: 4e essai | H2: 5e essai | I2: Moyenne des 2 meilleurs essais | J2: 1er essai | K2: 2e essai | L2: 3e essai | M2: 4e essai | N2: 5e essai | O2: Moyenne des 2 meilleurs essais | P2: 1er essai | Q2: 2e essai | R2: 3e essai | S2: 4e essai | T2: 5e essai | U2: Moyenne des 2 meilleurs essais | V2: 1er essai | W2: 2e essai | X2: 3e essai | Y2: 4e essai | Z2: 5e essai | AA2: Temps cumulés | AB2: Note sur 15 | AC2: Echauffement / sécurité | AD2: Note sur 20
A3: ANNEIX | B3: Charly | C3: G | D3: =IF('Séance 1'!C4="","",'Séance 1'!C4) -> 16.8 | E3: =IF('Séance 1'!D4="","",'Séance 1'!D4) | F3: =IF('Séance 1'!E4="","",'Séance 1'!E4) | G3: =IF('Séance 1'!F4="","",'Séance 1'!F4) | H3: =IF('Séance 1'!G4="","",'Séance 1'!G4) | I3: =IF('Séance 1'!H4="","",'Séance 1'!H4) -> #NUM! | J3: =IF('Séance 2'!C4="","",'Séance 2'!C4) | K3: =IF('Séance 2'!D4="","",'Séance 2'!D4) | L3: =IF('Séance 2'!E4="","",'Séance 2'!E4) | M3: =IF('Séance 2'!F4="","",'Séance 2'!F4) | N3: =IF('Séance 2'!G4="","",'Séance 2'!G4) | O3: =IF('Séance 2'!H4="","",'Séance 2'!H4) -> #NUM! | P3: =IF('Séance 3'!C5="","",'Séance 3'!C5) | Q3: =IF('Séance 3'!D5="","",'Séance 3'!D5) | R3: =IF('Séance 3'!E5="","",'Séance 3'!E5) | S3: =IF('Séance 3'!F5="","",'Séance 3'!F5) | T3: =IF('Séance 3'!G5="","",'Séance 3'!G5) | U3: =IF('Séance 3'!H5="","",'Séance 3'!H5) -> #NUM! | V3: =IF(Evaluation!D3="","",Evaluation!D3) -> 12 | W3: =IF(Evaluation!E3="","",Evaluation!E3) -> 14 | X3: =IF(Evaluation!F3="","",Evaluation!F3) -> 16 | Y3: =IF(Evaluation!G3="","",Evaluation!G3) -> 18 | Z3: =IF(Evaluation!H3="","",Evaluation!H3) -> 20 | AA3: =IF(Evaluation!I3="","",Evaluation!I3) -> 19 | AB3: =IF(Evaluation!J3="","",Evaluation!J3) -> 9 | AC3: =IF(Evaluation!K3="","",Evaluation!K3) -> 5 | AD3: =SUM(AB3:AC3) -> 14
A4: BOTELHO | B4: Kévin | C4: G | D4: =IF('Séance 1'!C5="","",'Séance 1'!C5) -> 10.9 | E4: =IF('Séance 1'!D5="","",'Séance 1'!D5) | F4: =IF('Séance 1'!E5="","",'Séance 1'!E5) | G4: =IF('Séance 1'!F5="","",'Séance 1'!F5) | H4: =IF('Séance 1'!G5="","",'Séance 1'!G5) | I4: =IF('Séance 1'!H5="","",'Séance 1'!H5) -> #NUM! | J4: =IF('Séance 2'!C5="","",'Séance 2'!C5) | K4: =IF('Séance 2'!D5="","",'Séance 2'!D5) | L4: =IF('Séance 2'!E5="","",'Séance 2'!E5) | M4: =IF('Séance 2'!F5="","",'Séance 2'!F5) | N4: =IF('Séance 2'!G5="","",'Séance 2'!G5) | O4: =IF('Séance 2'!H5="","",'Séance 2'!H5) -> #NUM! | P4: =IF('Séance 3'!C6="","",'Séance 3'!C6) | Q4: =IF('Séance 3'!D6="","",'Séance 3'!D6) | R4: =IF('Séance 3'!E6="","",'Séance 3'!E6) | S4: =IF('Séance 3'!F6="","",'Séance 3'!F6) | T4: =IF('Séance 3'!G6="","",'Séance 3'!G6) | U4: =IF('Séance 3'!H6="","",'Séance 3'!H6) -> #NUM! | V4: =IF(Evaluation!D4="","",Evaluation!D4) -> 12 | W4: =IF(Evaluation!E4="","",Evaluation!E4) -> 14 | X4: =IF(Evaluation!F4="","",Evaluation!F4) -> 16 | Y4: =IF(Evaluation!G4="","",Evaluation!G4) -> 18 | Z4: =IF(Evaluation!H4="","",Evaluation!H4) -> 20 | AA4: =IF(Evaluation!I4="","",Evaluation!I4) -> 19 | AB4: =IF(Evaluation!J4="","",Evaluation!J4) -> 14.25 | AC4: =IF(Evaluation!K4="","",Evaluation!K4) | AD4: =SUM(AB4:AC4) -> 14.25
A5: BREMONT | B5: Gwen | C5: G | D5: =IF('Séance 1'!C6="","",'Séance 1'!C6) -> 13.2 | E5: =IF('Séance 1'!D6="","",'Séance 1'!D6) -> 13.6 | F5: =IF('Séance 1'!E6="","",'Séance 1'!E6) | G5: =IF('Séance 1'!F6="","",'Séance 1'!F6) | H5: =IF('Séance 1'!G6="","",'Séance 1'!G6) | I5: =IF('Séance 1'!H6="","",'Séance 1'!H6) -> 13.4 | J5: =IF('Séance 2'!C6="","",'Séance 2'!C6) | K5: =IF('Séance 2'!D6="","",'Séance 2'!D6) | L5: =IF('Séance 2'!E6="","",'Séance 2'!E6) | M5: =IF('Séance 2'!F6="","",'Séance 2'!F6) | N5: =IF('Séance 2'!G6="","",'Séance 2'!G6) | O5: =IF('Séance 2'!H6="","",'Séance 2'!H6) -> #NUM! | P5: =IF('Séance 3'!C7="","",'Séance 3'!C7) | Q5: =IF('Séance 3'!D7="","",'Séance 3'!D7) | R5: =IF('Séance 3'!E7="","",'Séance 3'!E7) | S5: =IF('Séance 3'!F7="","",'Séance 3'!F7) | T5: =IF('Séance 3'!G7="","",'Séance 3'!G7) | U5: =IF('Séance 3'!H7="","",'Séance 3'!H7) -> #NUM! | V5: =IF(Evaluation!D5="","",Evaluation!D5) | W5: =IF(Evaluation!E5="","",Evaluation!E5) | X5: =IF(Evaluation!F5="","",Evaluation!F5) | Y5: =IF(Evaluation!G5="","",Evaluation!G5) | Z5: =IF(Evaluation!H5="","",Evaluation!H5) | AA5: =IF(Evaluation!I5="","",Evaluation!I5) | AB5: =IF(Evaluation!J5="","",Evaluation!J5) | AC5: =IF(Evaluation!K5="","",Evaluation!K5) | AD5: =SUM(AB5:AC5) -> 0
A6: DEMIRTAS | B6: Ismael | C6: G | D6: =IF('Séance 1'!C7="","",'Séance 1'!C7) -> 18.4 | E6: =IF('Séance 1'!D7="","",'Séance 1'!D7) -> 24.2 | F6: =IF('Séance 1'!E7="","",'Séance 1'!E7) | G6: =IF('Séance 1'!F7="","",'Séance 1'!F7) | H6: =IF('Séance 1'!G7="","",'Séance 1'!G7) | I6: =IF('Séance 1'!H7="","",'Séance 1'!H7) -> 21.3 | J6: =IF('Séance 2'!C7="","",'Séance 2'!C7) | K6: =IF('Séance 2'!D7="","",'Séance 2'!D7) | L6: =IF('Séance 2'!E7="","",'Séance 2'!E7) | M6: =IF('Séance 2'!F7="","",'Séance 2'!F7) | N6: =IF('Séance 2'!G7="","",'Séance 2'!G7) | O6: =IF('Séance 2'!H7="","",'Séance 2'!H7) -> #NUM! | P6: =IF('Séance 3'!C8="","",'Séance 3'!C8) | Q6: =IF('Séance 3'!D8="","",'Séance 3'!D8) | R6: =IF('Séance 3'!E8="","",'Séance 3'!E8) | S6: =IF('Séance 3'!F8="","",'Séance 3'!F8) | T6: =IF('Séance 3'!G8="","",'Séance 3'!G8) | U6: =IF('Séance 3'!H8="","",'Séance 3'!H8) -> #NUM! | V6: =IF(Evaluation!D6="","",Evaluation!D6) | W6: =IF(Evaluation!E6="","",Evaluation!E6) | X6: =IF(Evaluation!F6="","",Evaluation!F6) | Y6: =IF(Evaluation!G6="","",Evaluation!G6) | Z6: =IF(Evaluation!H6="","",Evaluation!H6) | AA6: =IF(Evaluation!I6="","",Evaluation!I6) | AB6: =IF(Evaluation!J6="","",Evaluation!J6) | AC6: =IF(Evaluation!K6="","",Evaluation!K6) | AD6: =SUM(AB6:AC6) -> 0
A7: FRANCI | B7: Dorian | C7: G | D7: =IF('Séance 1'!C8="","",'Séance 1'!C8) -> 14.4 | E7: =IF('Séance 1'!D8="","",'Séance 1'!D8) -> 18.1 | F7: =IF('Séance 1'!E8="","",'Séance 1'!E8) | G7: =IF('Séance 1'!F8="","",'Séance 1'!F8) | H7: =IF('Séance 1'!G8="","",'Séance 1'!G8) | I7: =IF('Séance 1'!H8="","",'Séance 1'!H8) -> 16.25 | J7: =IF('Séance 2'!C8="","",'Séance 2'!C8) | K7: =IF('Séance 2'!D8="","",'Séance 2'!D8) | L7: =IF('Séance 2'!E8="","",'Séance 2'!E8) | M7: =IF('Séance 2'!F8="","",'Séance 2'!F8) | N7: =IF('Séance 2'!G8="","",'Séance 2'!G8) | O7: =IF('Séance 2'!H8="","",'Séance 2'!H8) -> #NUM! | P7: =IF('Séance 3'!C9="","",'Séance 3'!C9) | Q7: =IF('Séance 3'!D9="","",'Séance 3'!D9) | R7: =IF('Séance 3'!E9="","",'Séance 3'!E9) | S7: =IF('Séance 3'!F9="","",'Séance 3'!F9) | T7: =IF('Séance 3'!G9="","",'Séance 3'!G9) | U7: =IF('Séance 3'!H9="","",'Séance 3'!H9) -> #NUM! | V7: =IF(Evaluation!D7="","",Evaluation!D7) | W7: =IF(Evaluation!E7="","",Evaluation!E7) | X7: =IF(Evaluation!F7="","",Evaluation!F7) | Y7: =IF(Evaluation!G7="","",Evaluation!G7) | Z7: =IF(Evaluation!H7="","",Evaluation!H7) | AA7: =IF(Evaluation!I7="","",Evaluation!I7) | AB7: =IF(Evaluation!J7="","",Evaluation!J7) | AC7: =IF(Evaluation!K7="","",Evaluation!K7) | AD7: =SUM(AB7:AC7) -> 0
A8: HENRY | B8: Valentin | C8: G | D8: =IF('Séance 1'!C9="","",'Séance 1'!C9) -> 16.2 | E8: =IF('Séance 1'!D9="","",'Séance 1'!D9) -> 15.9 | F8: =IF('Séance 1'!E9="","",'Séance 1'!E9) | G8: =IF('Séance 1'!F9="","",'Séance 1'!F9) | H8: =IF('Séance 1'!G9="","",'Séance 1'!G9) | I8: =IF('Séance 1'!H9="","",'Séance 1'!H9) -> 16.05 | J8: =IF('Séance 2'!C9="","",'Séance 2'!C9) | K8: =IF('Séance 2'!D9="","",'Séance 2'!D9) | L8: =IF('Séance 2'!E9="","",'Séance 2'!E9) | M8: =IF('Séance 2'!F9="","",'Séance 2'!F9) | N8: =IF('Séance 2'!G9="","",'Séance 2'!G9) | O8: =IF('Séance 2'!H9="","",'Séance 2'!H9) -> #NUM! | P8: =IF('Séance 3'!C10="","",'Séance 3'!C10) | Q8: =IF('Séance 3'!D10="","",'Séance 3'!D10) | R8: =IF('Séance 3'!E10="","",'Séance 3'!E10) | S8: =IF('Séance 3'!F10="","",'Séance 3'!F10) | T8: =IF('Séance 3'!G10="","",'Séance 3'!G10) | U8: =IF('Séance 3'!H10="","",'Séance 3'!H10) -> #NUM! | V8: =IF(Evaluation!D8="","",Evaluation!D8) | W8: =IF(Evaluation!E8="","",Evaluation!E8) | X8: =IF(Evaluation!F8="","",Evaluation!F8) | Y8: =IF(Evaluation!G8="","",Evaluation!G8) | Z8: =IF(Evaluation!H8="","",Evaluation!H8) | AA8: =IF(Evaluation!I8="","",Evaluation!I8) | AB8: =IF(Evaluation!J8="","",Evaluation!J8) | AC8: =IF(Evaluation!K8="","",Evaluation!K8) | AD8: =SUM(AB8:AC8) -> 0
A9: JAFFREDO | B9: Mathias | C9: G | D9: =IF('Séance 1'!C10="","",'Séance 1'!C10) -> 19.7 | E9: =IF('Séance 1'!D10="","",'Séance 1'!D10) -> 22.8 | F9: =IF('Séance 1'!E10="","",'Séance 1'!E10) | G9: =IF('Séance 1'!F10="","",'Séance 1'!F10) | H9: =IF('Séance 1'!G10="","",'Séance 1'!G10) | I9: =IF('Séance 1'!H10="","",'Séance 1'!H10) -> 21.25 | J9: =IF('Séance 2'!C10="","",'Séance 2'!C10) | K9: =IF('Séance 2'!D10="","",'Séance 2'!D10) | L9: =IF('Séance 2'!E10="","",'Séance 2'!E10) | M9: =IF('Séance 2'!F10="","",'Séance 2'!F10) | N9: =IF('Séance 2'!G10="","",'Séance 2'!G10) | O9: =IF('Séance 2'!H10="","",'Séance 2'!H10) -> #NUM! | P9: =IF('Séance 3'!C11="","",'Séance 3'!C11) | Q9: =IF('Séance 3'!D11="","",'Séance 3'!D11) | R9: =IF('Séance 3'!E11="","",'Séance 3'!E11) | S9: =IF('Séance 3'!F11="","",'Séance 3'!F11) | T9: =IF('Séance 3'!G11="","",'Séance 3'!G11) | U9: =IF('Séance 3'!H11="","",'Séance 3'!H11) -> #NUM! | V9: =IF(Evaluation!D9="","",Evaluation!D9) | W9: =IF(Evaluation!E9="","",Evaluation!E9) | X9: =IF(Evaluation!F9="","",Evaluation!F9) | Y9: =IF(Evaluation!G9="","",Evaluation!G9) | Z9: =IF(Evaluation!H9="","",Evaluation!H9) | AA9: =IF(Evaluation!I9="","",Evaluation!I9) | AB9: =IF(Evaluation!J9="","",Evaluation!J9) | AC9: =IF(Evaluation!K9="","",Evaluation!K9) | AD9: =SUM(AB9:AC9) -> 0
A10: JAMES | B10: Florian | C10: G | D10: =IF('Séance 1'!C11="","",'Séance 1'!C11) -> 15.1 | E10: =IF('Séance 1'!D11="","",'Séance 1'!D11) -> 16.5 | F10: =IF('Séance 1'!E11="","",'Séance 1'!E11) | G10: =IF('Séance 1'!F11="","",'Séance 1'!F11) | H10: =IF('Séance 1'!G11="","",'Séance 1'!G11) | I10: =IF('Séance 1'!H11="","",'Séance 1'!H11) -> 15.8 | J10: =IF('Séance 2'!C11="","",'Séance 2'!C11) | K10: =IF('Séance 2'!D11="","",'Séance 2'!D11) | L10: =IF('Séance 2'!E11="","",'Séance 2'!E11) | M10: =IF('Séance 2'!F11="","",'Séance 2'!F11) | N10: =IF('Séance 2'!G11="","",'Séance 2'!G11) | O10: =IF('Séance 2'!H11="","",'Séance 2'!H11) -> #NUM! | P10: =IF('Séance 3'!C12="","",'Séance 3'!C12) | Q10: =IF('Séance 3'!D12="","",'Séance 3'!D12) | R10: =IF('Séance 3'!E12="","",'Séance 3'!E12) | S10: =IF('Séance 3'!F12="","",'Séance 3'!F12) | T10: =IF('Séance 3'!G12="","",'Séance 3'!G12) | U10: =IF('Séance 3'!H12="","",'Séance 3'!H12) -> #NUM! | V10: =IF(Evaluation!D10="","",Evaluation!D10) | W10: =IF(Evaluation!E10="","",Evaluation!E10) | X10: =IF(Evaluation!F10="","",Evaluation!F10) | Y10: =IF(Evaluation!G10="","",Evaluation!G10) | Z10: =IF(Evaluation!H10="","",Evaluation!H10) | AA10: =IF(Evaluation!I10="","",Evaluation!I10) | AB10: =IF(Evaluation!J10="","",Evaluation!J10) | AC10: =IF(Evaluation!K10="","",Evaluation!K10) | AD10: =SUM(AB10:AC10) -> 0
A11: KADIOGLU | B11: Dylan | C11: G | D11: =IF('Séance 1'!C13="","",'Séance 1'!C13) -> 17 | E11: =IF('Séance 1'!D13="","",'Séance 1'!D13) -> 20.7 | F11: =IF('Séance 1'!E13="","",'Séance 1'!E13) | G11: =IF('Séance 1'!F13="","",'Séance 1'!F13) | H11: =IF('Séance 1'!G13="","",'Séance 1'!G13) | I11: =IF('Séance 1'!H13="","",'Séance 1'!H13) -> 18.85 | J11: =IF('Séance 2'!C13="","",'Séance 2'!C13) | K11: =IF('Séance 2'!D13="","",'Séance 2'!D13) | L11: =IF('Séance 2'!E13="","",'Séance 2'!E13) | M11: =IF('Séance 2'!F13="","",'Séance 2'!F13) | N11: =IF('Séance 2'!G13="","",'Séance 2'!G13) | O11: =IF('Séance 2'!H13="","",'Séance 2'!H13) -> #NUM! | P11: =IF('Séance 3'!C14="","",'Séance 3'!C14) | Q11: =IF('Séance 3'!D14="","",'Séance 3'!D14) | R11: =IF('Séance 3'!E14="","",'Séance 3'!E14) | S11: =IF('Séance 3'!F14="","",'Séance 3'!F14) | T11: =IF('Séance 3'!G14="","",'Séance 3'!G14) | U11: =IF('Séance 3'!H14="","",'Séance 3'!H14) -> #NUM! | V11: =IF(Evaluation!D12="","",Evaluation!D12) | W11: =IF(Evaluation!E12="","",Evaluation!E12) | X11: =IF(Evaluation!F12="","",Evaluation!F12) | Y11: =IF(Evaluation!G12="","",Evaluation!G12) | Z11: =IF(Evaluation!H12="","",Evaluation!H12) | AA11: =IF(Evaluation!I12="","",Evaluation!I12) | AB11: =IF(Evaluation!J12="","",Evaluation!J12) | AC11: =IF(Evaluation!K12="","",Evaluation!K12) | AD11: =SUM(AB11:AC11) -> 0
A12: MASSOT | B12: Emmanuel | C12: G | D12: =IF('Séance 1'!C14="","",'Séance 1'!C14) -> A | E12: =IF('Séance 1'!D14="","",'Séance 1'!D14) -> A | F12: =IF('Séance 1'!E14="","",'Séance 1'!E14) | G12: =IF('Séance 1'!F14="","",'Séance 1'!F14) | H12: =IF('Séance 1'!G14="","",'Séance 1'!G14) | I12: =IF('Séance 1'!H14="","",'Séance 1'!H14) -> #NUM! | J12: =IF('Séance 2'!C14="","",'Séance 2'!C14) | K12: =IF('Séance 2'!D14="","",'Séance 2'!D14) | L12: =IF('Séance 2'!E14="","",'Séance 2'!E14) | M12: =IF('Séance 2'!F14="","",'Séance 2'!F14) | N12: =IF('Séance 2'!G14="","",'Séance 2'!G14) | O12: =IF('Séance 2'!H14="","",'Séance 2'!H14) -> #NUM! | P12: =IF('Séance 3'!C15="","",'Séance 3'!C15) | Q12: =IF('Séance 3'!D15="","",'Séance 3'!D15) | R12: =IF('Séance 3'!E15="","",'Séance 3'!E15) | S12: =IF('Séance 3'!F15="","",'Séance 3'!F15) | T12: =IF('Séance 3'!G15="","",'Séance 3'!G15) | U12: =IF('Séance 3'!H15="","",'Séance 3'!H15) -> #NUM! | V12: =IF(Evaluation!D13="","",Evaluation!D13) | W12: =IF(Evaluation!E13="","",Evaluation!E13) | X12: =IF(Evaluation!F13="","",Evaluation!F13) | Y12: =IF(Evaluation!G13="","",Evaluation!G13) | Z12: =IF(Evaluation!H13="","",Evaluation!H13) | AA12: =IF(Evaluation!I13="","",Evaluation!I13) | AB12: =IF(Evaluation!J13="","",Evaluation!J13) | AC12: =IF(Evaluation!K13="","",Evaluation!K13) | AD12: =SUM(AB12:AC12) -> 0
A13: MOREL | B13: Rudy | C13: G | D13: =IF('Séance 1'!C14="","",'Séance 1'!C14) -> A | E13: =IF('Séance 1'!D14="","",'Séance 1'!D14) -> A | F13: =IF('Séance 1'!E14="","",'Séance 1'!E14) | G13: =IF('Séance 1'!F14="","",'Séance 1'!F14) | H13: =IF('Séance 1'!G14="","",'Séance 1'!G14) | I13: =IF('Séance 1'!H14="","",'Séance 1'!H14) -> #NUM! | J13: =IF('Séance 2'!C14="","",'Séance 2'!C14) | K13: =IF('Séance 2'!D14="","",'Séance 2'!D14) | L13: =IF('Séance 2'!E14="","",'Séance 2'!E14) | M13: =IF('Séance 2'!F14="","",'Séance 2'!F14) | N13: =IF('Séance 2'!G14="","",'Séance 2'!G14) | O13: =IF('Séance 2'!H14="","",'Séance 2'!H14) -> #NUM! | P13: =IF('Séance 3'!C15="","",'Séance 3'!C15) | Q13: =IF('Séance 3'!D15="","",'Séance 3'!D15) | R13: =IF('Séance 3'!E15="","",'Séance 3'!E15) | S13: =IF('Séance 3'!F15="","",'Séance 3'!F15) | T13: =IF('Séance 3'!G15="","",'Séance 3'!G15) | U13: =IF('Séance 3'!H15="","",'Séance 3'!H15) -> #NUM! | V13: =IF(Evaluation!D13="","",Evaluation!D13) | W13: =IF(Evaluation!E13="","",Evaluation!E13) | X13: =IF(Evaluation!F13="","",Evaluation!F13) | Y13: =IF(Evaluation!G13="","",Evaluation!G13) | Z13: =IF(Evaluation!H13="","",Evaluation!H13) | AA13: =IF(Evaluation!I13="","",Evaluation!I13) | AB13: =IF(Evaluation!J13="","",Evaluation!J13) | AC13: =IF(Evaluation!K13="","",Evaluation!K13) | AD13: =SUM(AB13:AC13) -> 0
A14: RICHARD | B14: Quentin | C14: G | D14: =IF('Séance 1'!C15="","",'Séance 1'!C15) -> A | E14: =IF('Séance 1'!D15="","",'Séance 1'!D15) -> A | F14: =IF('Séance 1'!E15="","",'Séance 1'!E15) | G14: =IF('Séance 1'!F15="","",'Séance 1'!F15) | H14: =IF('Séance 1'!G15="","",'Séance 1'!G15) | I14: =IF('Séance 1'!H15="","",'Séance 1'!H15) -> #NUM! | J14: =IF('Séance 2'!C15="","",'Séance 2'!C15) | K14: =IF('Séance 2'!D15="","",'Séance 2'!D15) | L14: =IF('Séance 2'!E15="","",'Séance 2'!E15) | M14: =IF('Séance 2'!F15="","",'Séance 2'!F15) | N14: =IF('Séance 2'!G15="","",'Séance 2'!G15) | O14: =IF('Séance 2'!H15="","",'Séance 2'!H15) -> #NUM! | P14: =IF('Séance 3'!C16="","",'Séance 3'!C16) | Q14: =IF('Séance 3'!D16="","",'Séance 3'!D16) | R14: =IF('Séance 3'!E16="","",'Séance 3'!E16) | S14: =IF('Séance 3'!F16="","",'Séance 3'!F16) | T14: =IF('Séance 3'!G16="","",'Séance 3'!G16) | U14: =IF('Séance 3'!H16="","",'Séance 3'!H16) -> #NUM! | V14: =IF(Evaluation!D14="","",Evaluation!D14) | W14: =IF(Evaluation!E14="","",Evaluation!E14) | X14: =IF(Evaluation!F14="","",Evaluation!F14) | Y14: =IF(Evaluation!G14="","",Evaluation!G14) | Z14: =IF(Evaluation!H14="","",Evaluation!H14) | AA14: =IF(Evaluation!I14="","",Evaluation!I14) | AB14: =IF(Evaluation!J14="","",Evaluation!J14) | AC14: =IF(Evaluation!K14="","",Evaluation!K14) | AD14: =SUM(AB14:AC14) -> 0
A15: ROUSSEAU | B15: Benoit | C15: G | D15: =IF('Séance 1'!C16="","",'Séance 1'!C16) -> 17.8 | E15: =IF('Séance 1'!D16="","",'Séance 1'!D16) -> 18.8 | F15: =IF('Séance 1'!E16="","",'Séance 1'!E16) | G15: =IF('Séance 1'!F16="","",'Séance 1'!F16) | H15: =IF('Séance 1'!G16="","",'Séance 1'!G16) | I15: =IF('Séance 1'!H16="","",'Séance 1'!H16) -> 18.3 | J15: =IF('Séance 2'!C16="","",'Séance 2'!C16) | K15: =IF('Séance 2'!D16="","",'Séance 2'!D16) | L15: =IF('Séance 2'!E16="","",'Séance 2'!E16) | M15: =IF('Séance 2'!F16="","",'Séance 2'!F16) | N15: =IF('Séance 2'!G16="","",'Séance 2'!G16) | O15: =IF('Séance 2'!H16="","",'Séance 2'!H16) -> #NUM! | P15: =IF('Séance 3'!C17="","",'Séance 3'!C17) | Q15: =IF('Séance 3'!D17="","",'Séance 3'!D17) | R15: =IF('Séance 3'!E17="","",'Séance 3'!E17) | S15: =IF('Séance 3'!F17="","",'Séance 3'!F17) | T15: =IF('Séance 3'!G17="","",'Séance 3'!G17) | U15: =IF('Séance 3'!H17="","",'Séance 3'!H17) -> #NUM! | V15: =IF(Evaluation!D15="","",Evaluation!D15) | W15: =IF(Evaluation!E15="","",Evaluation!E15) | X15: =IF(Evaluation!F15="","",Evaluation!F15) | Y15: =IF(Evaluation!G15="","",Evaluation!G15) | Z15: =IF(Evaluation!H15="","",Evaluation!H15) | AA15: =IF(Evaluation!I15="","",Evaluation!I15) | AB15: =IF(Evaluation!J15="","",Evaluation!J15) | AC15: =IF(Evaluation!K15="","",Evaluation!K15) | AD15: =SUM(AB15:AC15) -> 0
A16: TALAHA | B16: Manuele | C16: G | D16: =IF('Séance 1'!C17="","",'Séance 1'!C17) -> 17.4 | E16: =IF('Séance 1'!D17="","",'Séance 1'!D17) -> 17.8 | F16: =IF('Séance 1'!E17="","",'Séance 1'!E17) | G16: =IF('Séance 1'!F17="","",'Séance 1'!F17) | H16: =IF('Séance 1'!G17="","",'Séance 1'!G17) | I16: =IF('Séance 1'!H17="","",'Séance 1'!H17) -> 17.6 | J16: =IF('Séance 2'!C17="","",'Séance 2'!C17) | K16: =IF('Séance 2'!D17="","",'Séance 2'!D17) | L16: =IF('Séance 2'!E17="","",'Séance 2'!E17) | M16: =IF('Séance 2'!F17="","",'Séance 2'!F17) | N16: =IF('Séance 2'!G17="","",'Séance 2'!G17) | O16: =IF('Séance 2'!H17="","",'Séance 2'!H17) -> #NUM! | P16: =IF('Séance 3'!C18="","",'Séance 3'!C18) | Q16: =IF('Séance 3'!D18="","",'Séance 3'!D18) | R16: =IF('Séance 3'!E18="","",'Séance 3'!E18) | S16: =IF('Séance 3'!F18="","",'Séance 3'!F18) | T16: =IF('Séance 3'!G18="","",'Séance 3'!G18) | U16: =IF('Séance 3'!H18="","",'Séance 3'!H18) -> #NUM! | V16: =IF(Evaluation!D16="","",Evaluation!D16) | W16: =IF(Evaluation!E16="","",Evaluation!E16) | X16: =IF(Evaluation!F16="","",Evaluation!F16) | Y16: =IF(Evaluation!G16="","",Evaluation!G16) | Z16: =IF(Evaluation!H16="","",Evaluation!H16) | AA16: =IF(Evaluation!I16="","",Evaluation!I16) | AB16: =IF(Evaluation!J16="","",Evaluation!J16) | AC16: =IF(Evaluation!K16="","",Evaluation!K16) | AD16: =SUM(AB16:AC16) -> 0
A17: 1ère1 Pe | D17: =IF('Séance 1'!C18:G18="","",'Séance 1'!C18:G18) | G17: Séance n°1 | J17: =IF('Séance 2'!C18:G18="","",'Séance 2'!C18:G18) -> #VALUE! | M17: Séance n° 2 | P17: =IF('Séance 3'!C19:G19="","",'Séance 3'!C19:G19) -> #VALUE! | S17: Séance n° 3 | V17: Date : | AA17: Séance n°4 Evaluation
A18: NOMS | B18: PRENOMS | C18: Sexe | D18: 1er essai | E18: 2e essai | F18: 3e essai | G18: 4e essai | H18: 5e essai | I18: Moyenne des 2 meilleurs essais | J18: 1er essai | K18: 2e essai | L18: 3e essai | M18: 4e essai | N18: 5e essai | O18: Moyenne des 2 meilleurs essais | P18: 1er essai | Q18: 2e essai | R18: 3e essai | S18: 4e essai | T18: 5e essai | U18: Moyenne des 2 meilleurs essais | V18: 1er essai | W18: 2e essai | X18: 3e essai | Y18: 4e essai | Z18: 5e essai | AA18: Temps cumulés | AB18: Note sur 15 | AC18: Echauffement / sécurité | AD18: Note sur 20
A19: BEAUFORT | B19: Mickaël | C19: G | D19: =IF('Séance 1'!C20="","",'Séance 1'!C20) -> 14.5 | E19: =IF('Séance 1'!D20="","",'Séance 1'!D20) -> 16.3 | F19: =IF('Séance 1'!E20="","",'Séance 1'!E20) | G19: =IF('Séance 1'!F20="","",'Séance 1'!F20) | H19: =IF('Séance 1'!G20="","",'Séance 1'!G20) | I19: =IF('Séance 1'!H20="","",'Séance 1'!H20) -> 15.4 | J19: =IF('Séance 2'!C20="","",'Séance 2'!C20) | K19: =IF('Séance 2'!D20="","",'Séance 2'!D20) | L19: =IF('Séance 2'!E20="","",'Séance 2'!E20) | M19: =IF('Séance 2'!F20="","",'Séance 2'!F20) | N19: =IF('Séance 2'!G20="","",'Séance 2'!G20) | O19: =IF('Séance 2'!H20="","",'Séance 2'!H20) -> #NUM! | P19: =IF('Séance 3'!C22="","",'Séance 3'!C22) | Q19: =IF('Séance 3'!D22="","",'Séance 3'!D22) | R19: =IF('Séance 3'!E22="","",'Séance 3'!E22) | S19: =IF('Séance 3'!F22="","",'Séance 3'!F22) | T19: =IF('Séance 3'!G22="","",'Séance 3'!G22) | U19: =IF('Séance 3'!H22="","",'Séance 3'!H22) -> #NUM! | V19: =IF(Evaluation!D19="","",Evaluation!D19) | W19: =IF(Evaluation!E19="","",Evaluation!E19) | X19: =IF(Evaluation!F19="","",Evaluation!F19) | Y19: =IF(Evaluation!G19="","",Evaluation!G19) | Z19: =IF(Evaluation!H19="","",Evaluation!H19) | AA19: =IF(Evaluation!I19="","",Evaluation!I19) -> #NUM! | AB19: =IF(Evaluation!J19="","",Evaluation!J19) -> #NUM! | AC19: =IF(Evaluation!K19="","",Evaluation!K19) | AD19: =SUM(AB19:AC19) -> #NUM!
A20: BERTHELOT | B20: Florian | C20: G | D20: =IF('Séance 1'!C21="","",'Séance 1'!C21) -> 10.3 | E20: =IF('Séance 1'!D21="","",'Séance 1'!D21) -> 11.9 | F20: =IF('Séance 1'!E21="","",'Séance 1'!E21) | G20: =IF('Séance 1'!F21="","",'Séance 1'!F21) | H20: =IF('Séance 1'!G21="","",'Séance 1'!G21) | I20: =IF('Séance 1'!H21="","",'Séance 1'!H21) -> 11.1 | J20: =IF('Séance 2'!C21="","",'Séance 2'!C21) | K20: =IF('Séance 2'!D21="","",'Séance 2'!D21) | L20: =IF('Séance 2'!E21="","",'Séance 2'!E21) | M20: =IF('Séance 2'!F21="","",'Séance 2'!F21) | N20: =IF('Séance 2'!G21="","",'Séance 2'!G21) | O20: =IF('Séance 2'!H21="","",'Séance 2'!H21) -> #NUM! | P20: =IF('Séance 3'!C23="","",'Séance 3'!C23) | Q20: =IF('Séance 3'!D23="","",'Séance 3'!D23) | R20: =IF('Séance 3'!E23="","",'Séance 3'!E23) | S20: =IF('Séance 3'!F23="","",'Séance 3'!F23) | T20: =IF('Séance 3'!G23="","",'Séance 3'!G23) | U20: =IF('Séance 3'!H23="","",'Séance 3'!H23) -> #NUM! | V20: =IF(Evaluation!D20="","",Evaluation!D20) | W20: =IF(Evaluation!E20="","",Evaluation!E20) | X20: =IF(Evaluation!F20="","",Evaluation!F20) | Y20: =IF(Evaluation!G20="","",Evaluation!G20) | Z20: =IF(Evaluation!H20="","",Evaluation!H20) | AA20: =IF(Evaluation!I20="","",Evaluation!I20) -> #NUM! | AB20: =IF(Evaluation!J20="","",Evaluation!J20) -> #NUM! | AC20: =IF(Evaluation!K20="","",Evaluation!K20) | AD20: =SUM(AB20:AC20) -> #NUM!
A21: BIWILA | B21: Yannick | C21: G | D21: =IF('Séance 1'!C22="","",'Séance 1'!C22) -> A | E21: =IF('Séance 1'!D22="","",'Séance 1'!D22) -> A | F21: =IF('Séance 1'!E22="","",'Séance 1'!E22) | G21: =IF('Séance 1'!F22="","",'Séance 1'!F22) | H21: =IF('Séance 1'!G22="","",'Séance 1'!G22) | I21: =IF('Séance 1'!H22="","",'Séance 1'!H22) -> #NUM! | J21: =IF('Séance 2'!C22="","",'Séance 2'!C22) | K21: =IF('Séance 2'!D22="","",'Séance 2'!D22) | L21: =IF('Séance 2'!E22="","",'Séance 2'!E22) | M21: =IF('Séance 2'!F22="","",'Séance 2'!F22) | N21: =IF('Séance 2'!G22="","",'Séance 2'!G22) | O21: =IF('Séance 2'!H22="","",'Séance 2'!H22) -> #NUM! | P21: =IF('Séance 3'!C24="","",'Séance 3'!C24) | Q21: =IF('Séance 3'!D24="","",'Séance 3'!D24) | R21: =IF('Séance 3'!E24="","",'Séance 3'!E24) | S21: =IF('Séance 3'!F24="","",'Séance 3'!F24) | T21: =IF('Séance 3'!G24="","",'Séance 3'!G24) | U21: =IF('Séance 3'!H24="","",'Séance 3'!H24) -> #NUM! | V21: =IF(Evaluation!D21="","",Evaluation!D21) | W21: =IF(Evaluation!E21="","",Evaluation!E21) | X21: =IF(Evaluation!F21="","",Evaluation!F21) | Y21: =IF(Evaluation!G21="","",Evaluation!G21) | Z21: =IF(Evaluation!H21="","",Evaluation!H21) | AA21: =IF(Evaluation!I21="","",Evaluation!I21) -> #NUM! | AB21: =IF(Evaluation!J21="","",Evaluation!J21) -> #NUM! | AC21: =IF(Evaluation!K21="","",Evaluation!K21) | AD21: =SUM(AB21:AC21) -> #NUM!
A22: BOURDON | B22: Alan | C22: G | D22: =IF('Séance 1'!C23="","",'Séance 1'!C23) -> 15 | E22: =IF('Séance 1'!D23="","",'Séance 1'!D23) -> 16.8 | F22: =IF('Séance 1'!E23="","",'Séance 1'!E23) | G22: =IF('Séance 1'!F23="","",'Séance 1'!F23) | H22: =IF('Séance 1'!G23="","",'Séance 1'!G23) | I22: =IF('Séance 1'!H23="","",'Séance 1'!H23) -> 15.9 | J22: =IF('Séance 2'!C23="","",'Séance 2'!C23) | K22: =IF('Séance 2'!D23="","",'Séance 2'!D23) | L22: =IF('Séance 2'!E23="","",'Séance 2'!E23) | M22: =IF('Séance 2'!F23="","",'Séance 2'!F23) | N22: =IF('Séance 2'!G23="","",'Séance 2'!G23) | O22: =IF('Séance 2'!H23="","",'Séance 2'!H23) -> #NUM! | P22: =IF('Séance 3'!C25="","",'Séance 3'!C25) | Q22: =IF('Séance 3'!D25="","",'Séance 3'!D25) | R22: =IF('Séance 3'!E25="","",'Séance 3'!E25) | S22: =IF('Séance 3'!F25="","",'Séance 3'!F25) | T22: =IF('Séance 3'!G25="","",'Séance 3'!G25) | U22: =IF('Séance 3'!H25="","",'Séance 3'!H25) -> #NUM! | V22: =IF(Evaluation!D22="","",Evaluation!D22) | W22: =IF(Evaluation!E22="","",Evaluation!E22) | X22: =IF(Evaluation!F22="","",Evaluation!F22) | Y22: =IF(Evaluation!G22="","",Evaluation!G22) | Z22: =IF(Evaluation!H22="","",Evaluation!H22) | AA22: =IF(Evaluation!I22="","",Evaluation!I22) -> #NUM! | AB22: =IF(Evaluation!J22="","",Evaluation!J22) -> #NUM! | AC22: =IF(Evaluation!K22="","",Evaluation!K22) | AD22: =SUM(AB22:AC22) -> #NUM!
A23: BRIANTAIS | B23: Cassandra | C23: F | D23: =IF('Séance 1'!C24="","",'Séance 1'!C24) -> 13 | E23: =IF('Séance 1'!D24="","",'Séance 1'!D24) -> 13.6 | F23: =IF('Séance 1'!E24="","",'Séance 1'!E24) | G23: =IF('Séance 1'!F24="","",'Séance 1'!F24) | H23: =IF('Séance 1'!G24="","",'Séance 1'!G24) | I23: =IF('Séance 1'!H24="","",'Séance 1'!H24) -> 13.3 | J23: =IF('Séance 2'!C24="","",'Séance 2'!C24) | K23: =IF('Séance 2'!D24="","",'Séance 2'!D24) | L23: =IF('Séance 2'!E24="","",'Séance 2'!E24) | M23: =IF('Séance 2'!F24="","",'Séance 2'!F24) | N23: =IF('Séance 2'!G24="","",'Séance 2'!G24) | O23: =IF('Séance 2'!H24="","",'Séance 2'!H24) -> #NUM! | P23: =IF('Séance 3'!C26="","",'Séance 3'!C26) | Q23: =IF('Séance 3'!D26="","",'Séance 3'!D26) | R23: =IF('Séance 3'!E26="","",'Séance 3'!E26) | S23: =IF('Séance 3'!F26="","",'Séance 3'!F26) | T23: =IF('Séance 3'!G26="","",'Séance 3'!G26) | U23: =IF('Séance 3'!H26="","",'Séance 3'!H26) -> #NUM! | V23: =IF(Evaluation!D23="","",Evaluation!D23) | W23: =IF(Evaluation!E23="","",Evaluation!E23) | X23: =IF(Evaluation!F23="","",Evaluation!F23) | Y23: =IF(Evaluation!G23="","",Evaluation!G23) | Z23: =IF(Evaluation!H23="","",Evaluation!H23) | AA23: =IF(Evaluation!I23="","",Evaluation!I23) -> #NUM! | AB23: =IF(Evaluation!J23="","",Evaluation!J23) -> #NUM! | AC23: =IF(Evaluation!K23="","",Evaluation!K23) | AD23: =SUM(AB23:AC23) -> #NUM!
A24: CASTRIEN | B24: Dylan | C24: G | D24: =IF('Séance 1'!C25="","",'Séance 1'!C25) -> 16.9 | E24: =IF('Séance 1'!D25="","",'Séance 1'!D25) -> 18 | F24: =IF('Séance 1'!E25="","",'Séance 1'!E25) | G24: =IF('Séance 1'!F25="","",'Séance 1'!F25) | H24: =IF('Séance 1'!G25="","",'Séance 1'!G25) | I24: =IF('Séance 1'!H25="","",'Séance 1'!H25) -> 17.45 | J24: =IF('Séance 2'!C25="","",'Séance 2'!C25) | K24: =IF('Séance 2'!D25="","",'Séance 2'!D25) | L24: =IF('Séance 2'!E25="","",'Séance 2'!E25) | M24: =IF('Séance 2'!F25="","",'Séance 2'!F25) | N24: =IF('Séance 2'!G25="","",'Séance 2'!G25) | O24: =IF('Séance 2'!H25="","",'Séance 2'!H25) -> #NUM! | P24: =IF('Séance 3'!C27="","",'Séance 3'!C27) | Q24: =IF('Séance 3'!D27="","",'Séance 3'!D27) | R24: =IF('Séance 3'!E27="","",'Séance 3'!E27) | S24: =IF('Séance 3'!F27="","",'Séance 3'!F27) | T24: =IF('Séance 3'!G27="","",'Séance 3'!G27) | U24: =IF('Séance 3'!H27="","",'Séance 3'!H27) -> #NUM! | V24: =IF(Evaluation!D24="","",Evaluation!D24) | W24: =IF(Evaluation!E24="","",Evaluation!E24) | X24: =IF(Evaluation!F24="","",Evaluation!F24) | Y24: =IF(Evaluation!G24="","",Evaluation!G24) | Z24: =IF(Evaluation!H24="","",Evaluation!H24) | AA24: =IF(Evaluation!I24="","",Evaluation!I24) -> #NUM! | AB24: =IF(Evaluation!J24="","",Evaluation!J24) -> #NUM! | AC24: =IF(Evaluation!K24="","",Evaluation!K24) | AD24: =SUM(AB24:AC24) -> #NUM!
A25: CHOBLET | B25: Cyril | C25: G | D25: =IF('Séance 1'!C26="","",'Séance 1'!C26) -> 20.6 | E25: =IF('Séance 1'!D26="","",'Séance 1'!D26) -> 21.3 | F25: =IF('Séance 1'!E26="","",'Séance 1'!E26) | G25: =IF('Séance 1'!F26="","",'Séance 1'!F26) | H25: =IF('Séance 1'!G26="","",'Séance 1'!G26) | I25: =IF('Séance 1'!H26="","",'Séance 1'!H26) -> 20.95 | J25: =IF('Séance 2'!C26="","",'Séance 2'!C26) | K25: =IF('Séance 2'!D26="","",'Séance 2'!D26) | L25: =IF('Séance 2'!E26="","",'Séance 2'!E26) | M25: =IF('Séance 2'!F26="","",'Séance 2'!F26) | N25: =IF('Séance 2'!G26="","",'Séance 2'!G26) | O25: =IF('Séance 2'!H26="","",'Séance 2'!H26) -> #NUM! | P25: =IF('Séance 3'!C28="","",'Séance 3'!C28) | Q25: =IF('Séance 3'!D28="","",'Séance 3'!D28) | R25: =IF('Séance 3'!E28="","",'Séance 3'!E28) | S25: =IF('Séance 3'!F28="","",'Séance 3'!F28) | T25: =IF('Séance 3'!G28="","",'Séance 3'!G28) | U25: =IF('Séance 3'!H28="","",'Séance 3'!H28) -> #NUM! | V25: =IF(Evaluation!D25="","",Evaluation!D25) | W25: =IF(Evaluation!E25="","",Evaluation!E25) | X25: =IF(Evaluation!F25="","",Evaluation!F25) | Y25: =IF(Evaluation!G25="","",Evaluation!G25) | Z25: =IF(Evaluation!H25="","",Evaluation!H25) | AA25: =IF(Evaluation!I25="","",Evaluation!I25) -> #NUM! | AB25: =IF(Evaluation!J25="","",Evaluation!J25) -> #NUM! | AC25: =IF(Evaluation!K25="","",Evaluation!K25) | AD25: =SUM(AB25:AC25) -> #NUM!
A26: DUBREIL | B26: Tony | C26: G | D26: =IF('Séance 1'!C27="","",'Séance 1'!C27) -> A | E26: =IF('Séance 1'!D27="","",'Séance 1'!D27) -> A | F26: =IF('Séance 1'!E27="","",'Séance 1'!E27) | G26: =IF('Séance 1'!F27="","",'Séance 1'!F27) | H26: =IF('Séance 1'!G27="","",'Séance 1'!G27) | I26: =IF('Séance 1'!H27="","",'Séance 1'!H27) -> #NUM! | J26: =IF('Séance 2'!C27="","",'Séance 2'!C27) | K26: =IF('Séance 2'!D27="","",'Séance 2'!D27) | L26: =IF('Séance 2'!E27="","",'Séance 2'!E27) | M26: =IF('Séance 2'!F27="","",'Séance 2'!F27) | N26: =IF('Séance 2'!G27="","",'Séance 2'!G27) | O26: =IF('Séance 2'!H27="","",'Séance 2'!H27) -> #NUM! | P26: =IF('Séance 3'!C29="","",'Séance 3'!C29) | Q26: =IF('Séance 3'!D29="","",'Séance 3'!D29) | R26: =IF('Séance 3'!E29="","",'Séance 3'!E29) | S26: =IF('Séance 3'!F29="","",'Séance 3'!F29) | T26: =IF('Séance 3'!G29="","",'Séance 3'!G29) | U26: =IF('Séance 3'!H29="","",'Séance 3'!H29) -> #NUM! | V26: =IF(Evaluation!D26="","",Evaluation!D26) | W26: =IF(Evaluation!E26="","",Evaluation!E26) | X26: =IF(Evaluation!F26="","",Evaluation!F26) | Y26: =IF(Evaluation!G26="","",Evaluation!G26) | Z26: =IF(Evaluation!H26="","",Evaluation!H26) | AA26: =IF(Evaluation!I26="","",Evaluation!I26) -> #NUM! | AB26: =IF(Evaluation!J26="","",Evaluation!J26) -> #NUM! | AC26: =IF(Evaluation!K26="","",Evaluation!K26) | AD26: =SUM(AB26:AC26) -> #NUM!
A27: FORTHOMME | B27: Emmanuelle | C27: F | D27: =IF('Séance 1'!C28="","",'Séance 1'!C28) -> 6.7 | E27: =IF('Séance 1'!D28="","",'Séance 1'!D28) -> 7.5 | F27: =IF('Séance 1'!E28="","",'Séance 1'!E28) | G27: =IF('Séance 1'!F28="","",'Séance 1'!F28) | H27: =IF('Séance 1'!G28="","",'Séance 1'!G28) | I27: =IF('Séance 1'!H28="","",'Séance 1'!H28) -> 7.1 | J27: =IF('Séance 2'!C28="","",'Séance 2'!C28) | K27: =IF('Séance 2'!D28="","",'Séance 2'!D28) | L27: =IF('Séance 2'!E28="","",'Séance 2'!E28) | M27: =IF('Séance 2'!F28="","",'Séance 2'!F28) | N27: =IF('Séance 2'!G28="","",'Séance 2'!G28) | O27: =IF('Séance 2'!H28="","",'Séance 2'!H28) -> #NUM! | P27: =IF('Séance 3'!C30="","",'Séance 3'!C30) | Q27: =IF('Séance 3'!D30="","",'Séance 3'!D30) | R27: =IF('Séance 3'!E30="","",'Séance 3'!E30) | S27: =IF('Séance 3'!F30="","",'Séance 3'!F30) | T27: =IF('Séance 3'!G30="","",'Séance 3'!G30) | U27: =IF('Séance 3'!H30="","",'Séance 3'!H30) -> #NUM! | V27: =IF(Evaluation!D27="","",Evaluation!D27) | W27: =IF(Evaluation!E27="","",Evaluation!E27) | X27: =IF(Evaluation!F27="","",Evaluation!F27) | Y27: =IF(Evaluation!G27="","",Evaluation!G27) | Z27: =IF(Evaluation!H27="","",Evaluation!H27) | AA27: =IF(Evaluation!I27="","",Evaluation!I27) -> #NUM! | AB27: =IF(Evaluation!J27="","",Evaluation!J27) -> #NUM! | AC27: =IF(Evaluation!K27="","",Evaluation!K27) | AD27: =SUM(AB27:AC27) -> #NUM!
A28: FOUQUET | B28: Alexandre | C28: G | D28: =IF('Séance 1'!C29="","",'Séance 1'!C29) -> 15.2 | E28: =IF('Séance 1'!D29="","",'Séance 1'!D29) -> 14.7 | F28: =IF('Séance 1'!E29="","",'Séance 1'!E29) | G28: =IF('Séance 1'!F29="","",'Séance 1'!F29) | H28: =IF('Séance 1'!G29="","",'Séance 1'!G29) | I28: =IF('Séance 1'!H29="","",'Séance 1'!H29) -> 14.95 | J28: =IF('Séance 2'!C29="","",'Séance 2'!C29) | K28: =IF('Séance 2'!D29="","",'Séance 2'!D29) | L28: =IF('Séance 2'!E29="","",'Séance 2'!E29) | M28: =IF('Séance 2'!F29="","",'Séance 2'!F29) | N28: =IF('Séance 2'!G29="","",'Séance 2'!G29) | O28: =IF('Séance 2'!H29="","",'Séance 2'!H29) -> #NUM! | P28: =IF('Séance 3'!C31="","",'Séance 3'!C31) | Q28: =IF('Séance 3'!D31="","",'Séance 3'!D31) | R28: =IF('Séance 3'!E31="","",'Séance 3'!E31) | S28: =IF('Séance 3'!F31="","",'Séance 3'!F31) | T28: =IF('Séance 3'!G31="","",'Séance 3'!G31) | U28: =IF('Séance 3'!H31="","",'Séance 3'!H31) -> #NUM! | V28: =IF(Evaluation!D28="","",Evaluation!D28) | W28: =IF(Evaluation!E28="","",Evaluation!E28) | X28: =IF(Evaluation!F28="","",Evaluation!F28) | Y28: =IF(Evaluation!G28="","",Evaluation!G28) | Z28: =IF(Evaluation!H28="","",Evaluation!H28) | AA28: =IF(Evaluation!I28="","",Evaluation!I28) -> #NUM! | AB28: =IF(Evaluation!J28="","",Evaluation!J28) -> #NUM! | AC28: =IF(Evaluation!K28="","",Evaluation!K28) | AD28: =SUM(AB28:AC28) -> #NUM!
A29: GUIBLIN | B29: Paul | C29: G | D29: =IF('Séance 1'!C30="","",'Séance 1'!C30) -> D | E29: =IF('Séance 1'!D30="","",'Séance 1'!D30) -> D | F29: =IF('Séance 1'!E30="","",'Séance 1'!E30) | G29: =IF('Séance 1'!F30="","",'Séance 1'!F30) | H29: =IF('Séance 1'!G30="","",'Séance 1'!G30) | I29: =IF('Séance 1'!H30="","",'Séance 1'!H30) -> #NUM! | J29: =IF('Séance 2'!C30="","",'Séance 2'!C30) | K29: =IF('Séance 2'!D30="","",'Séance 2'!D30) | L29: =IF('Séance 2'!E30="","",'Séance 2'!E30) | M29: =IF('Séance 2'!F30="","",'Séance 2'!F30) | N29: =IF('Séance 2'!G30="","",'Séance 2'!G30) | O29: =IF('Séance 2'!H30="","",'Séance 2'!H30) -> #NUM! | P29: =IF('Séance 3'!C32="","",'Séance 3'!C32) | Q29: =IF('Séance 3'!D32="","",'Séance 3'!D32) | R29: =IF('Séance 3'!E32="","",'Séance 3'!E32) | S29: =IF('Séance 3'!F32="","",'Séance 3'!F32) | T29: =IF('Séance 3'!G32="","",'Séance 3'!G32) | U29: =IF('Séance 3'!H32="","",'Séance 3'!H32) -> #NUM! | V29: =IF(Evaluation!D29="","",Evaluation!D29) | W29: =IF(Evaluation!E29="","",Evaluation!E29) | X29: =IF(Evaluation!F29="","",Evaluation!F29) | Y29: =IF(Evaluation!G29="","",Evaluation!G29) | Z29: =IF(Evaluation!H29="","",Evaluation!H29) | AA29: =IF(Evaluation!I29="","",Evaluation!I29) -> #NUM! | AB29: =IF(Evaluation!J29="","",Evaluation!J29) -> #NUM! | AC29: =IF(Evaluation!K29="","",Evaluation!K29) | AD29: =SUM(AB29:AC29) -> #NUM!
A30: GUILLEMIN | B30: Quentin | C30: G | D30: =IF('Séance 1'!C31="","",'Séance 1'!C31) -> A | E30: =IF('Séance 1'!D31="","",'Séance 1'!D31) -> A | F30: =IF('Séance 1'!E31="","",'Séance 1'!E31) | G30: =IF('Séance 1'!F31="","",'Séance 1'!F31) | H30: =IF('Séance 1'!G31="","",'Séance 1'!G31) | I30: =IF('Séance 1'!H31="","",'Séance 1'!H31) -> #NUM! | J30: =IF('Séance 2'!C31="","",'Séance 2'!C31) | K30: =IF('Séance 2'!D31="","",'Séance 2'!D31) | L30: =IF('Séance 2'!E31="","",'Séance 2'!E31) | M30: =IF('Séance 2'!F31="","",'Séance 2'!F31) | N30: =IF('Séance 2'!G31="","",'Séance 2'!G31) | O30: =IF('Séance 2'!H31="","",'Séance 2'!H31) -> #NUM! | P30: =IF('Séance 3'!C33="","",'Séance 3'!C33) | Q30: =IF('Séance 3'!D33="","",'Séance 3'!D33) | R30: =IF('Séance 3'!E33="","",'Séance 3'!E33) | S30: =IF('Séance 3'!F33="","",'Séance 3'!F33) | T30: =IF('Séance 3'!G33="","",'Séance 3'!G33) | U30: =IF('Séance 3'!H33="","",'Séance 3'!H33) -> #NUM! | V30: =IF(Evaluation!D30="","",Evaluation!D30) | W30: =IF(Evaluation!E30="","",Evaluation!E30) | X30: =IF(Evaluation!F30="","",Evaluation!F30) | Y30: =IF(Evaluation!G30="","",Evaluation!G30) | Z30: =IF(Evaluation!H30="","",Evaluation!H30) | AA30: =IF(Evaluation!I30="","",Evaluation!I30) -> #NUM! | AB30: =IF(Evaluation!J30="","",Evaluation!J30) -> #NUM! | AC30: =IF(Evaluation!K30="","",Evaluation!K30) | AD30: =SUM(AB30:AC30) -> #NUM!
... A32: ORAIN | B32: Ophélie | C32: F | D32: =IF('Séance 1'!C33="","",'Séance 1'!C33) -> 10.5 | E32: =IF('Séance 1'!D33="","",'Séance 1'!D33) -> 7.4 | F32: =IF('Séance 1'!E33="","",'Séance 1'!E33) | G32: =IF('Séance 1'!F33="","",'Séance 1'!F33) | H32: =IF('Séance 1'!G33="","",'Séance 1'!G33) | I32: =IF('Séance 1'!H33="","",'Séance 1'!H33) -> 8.95 | J32: =IF('Séance 2'!C33="","",'Séance 2'!C33) | K32: =IF('Séance 2'!D33="","",'Séance 2'!D33) | L32: =IF('Séance 2'!E33="","",'Séance 2'!E33) | M32: =IF('Séance 2'!F33="","",'Séance 2'!F33) | N32: =IF('Séance 2'!G33="","",'Séance 2'!G33) | O32: =IF('Séance 2'!H33="","",'Séance 2'!H33) -> #NUM! | P32: =IF('Séance 3'!C35="","",'Séance 3'!C35) | Q32: =IF('Séance 3'!D35="","",'Séance 3'!D35) | R32: =IF('Séance 3'!E35="","",'Séance 3'!E35) | S32: =IF('Séance 3'!F35="","",'Séance 3'!F35) | T32: =IF('Séance 3'!G35="","",'Séance 3'!G35) | U32: =IF('Séance 3'!H35="","",'Séance 3'!H35) -> #NUM! | V32: =IF(Evaluation!D32="","",Evaluation!D32) | W32: =IF(Evaluation!E32="","",Evaluation!E32) | X32: =IF(Evaluation!F32="","",Evaluation!F32) | Y32: =IF(Evaluation!G32="","",Evaluation!G32) | Z32: =IF(Evaluation!H32="","",Evaluation!H32) | AA32: =IF(Evaluation!I32="","",Evaluation!I32) -> #NUM! | AB32: =IF(Evaluation!J32="","",Evaluation!J32) -> #NUM! | AC32: =IF(Evaluation!K32="","",Evaluation!K32) | AD32: =SUM(AB32:AC32) -> #NUM!
A33: PATY | B33: Charlie | C33: G | D33: =IF('Séance 1'!C33="","",'Séance 1'!C33) -> 10.5 | E33: =IF('Séance 1'!D33="","",'Séance 1'!D33) -> 7.4 | F33: =IF('Séance 1'!E33="","",'Séance 1'!E33) | G33: =IF('Séance 1'!F33="","",'Séance 1'!F33) | H33: =IF('Séance 1'!G33="","",'Séance 1'!G33) | I33: =IF('Séance 1'!H33="","",'Séance 1'!H33) -> 8.95 | J33: =IF('Séance 2'!C33="","",'Séance 2'!C33) | K33: =IF('Séance 2'!D33="","",'Séance 2'!D33) | L33: =IF('Séance 2'!E33="","",'Séance 2'!E33) | M33: =IF('Séance 2'!F33="","",'Séance 2'!F33) | N33: =IF('Séance 2'!G33="","",'Séance 2'!G33) | O33: =IF('Séance 2'!H33="","",'Séance 2'!H33) -> #NUM! | P33: =IF('Séance 3'!C35="","",'Séance 3'!C35) | Q33: =IF('Séance 3'!D35="","",'Séance 3'!D35) | R33: =IF('Séance 3'!E35="","",'Séance 3'!E35) | S33: =IF('Séance 3'!F35="","",'Séance 3'!F35) | T33: =IF('Séance 3'!G35="","",'Séance 3'!G35) | U33: =IF('Séance 3'!H35="","",'Séance 3'!H35) -> #NUM! | V33: =IF(Evaluation!D32="","",Evaluation!D32) | W33: =IF(Evaluation!E32="","",Evaluation!E32) | X33: =IF(Evaluation!F32="","",Evaluation!F32) | Y33: =IF(Evaluation!G32="","",Evaluation!G32) | Z33: =IF(Evaluation!H32="","",Evaluation!H32) | AA33: =IF(Evaluation!I32="","",Evaluation!I32) -> #NUM! | AB33: =IF(Evaluation!J32="","",Evaluation!J32) -> #NUM! | AC33: =IF(Evaluation!K32="","",Evaluation!K32) | AD33: =SUM(AB33:AC33) -> #NUM!

Sheet Séance 1
A1: Séance n°1
A2: =IF(Récapitulatif!A1="","",Récapitulatif!A1) -> 1ère1 Ma | C2: Date :
A3: NOMS | B3: PRENOMS | C3: 1er essai | D3: 2e essai | E3: 3e essai | F3: 4e essai | G3: 5e essai | H3: Moyenne des 2 meilleurs essais
A4: =IF(Récapitulatif!A3="","",Récapitulatif!A3) -> ANNEIX | B4: =IF(Récapitulatif!B3="","",Récapitulatif!B3) -> Charly | C4: 16.8 | H4: =((LARGE(C4:G4,1))+(LARGE(C4:G4,2)))/2 -> #NUM!
A5: =IF(Récapitulatif!A4="","",Récapitulatif!A4) -> BOTELHO | B5: =IF(Récapitulatif!B4="","",Récapitulatif!B4) -> Kévin | C5: 10.9 | H5: =((LARGE(C5:G5,1))+(LARGE(C5:G5,2)))/2 -> #NUM!
A6: =IF(Récapitulatif!A5="","",Récapitulatif!A5) -> BREMONT | B6: =IF(Récapitulatif!B5="","",Récapitulatif!B5) -> Gwen | C6: 13.2 | D6: 13.6 | H6: =((LARGE(C6:G6,1))+(LARGE(C6:G6,2)))/2 -> 13.4
A7: =IF(Récapitulatif!A6="","",Récapitulatif!A6) -> DEMIRTAS | B7: =IF(Récapitulatif!B6="","",Récapitulatif!B6) -> Ismael | C7: 18.4 | D7: 24.2 | H7: =((LARGE(C7:G7,1))+(LARGE(C7:G7,2)))/2 -> 21.3
A8: =IF(Récapitulatif!A7="","",Récapitulatif!A7) -> FRANCI | B8: =IF(Récapitulatif!B7="","",Récapitulatif!B7) -> Dorian | C8: 14.4 | D8: 18.1 | H8: =((LARGE(C8:G8,1))+(LARGE(C8:G8,2)))/2 -> 16.25
A9: =IF(Récapitulatif!A8="","",Récapitulatif!A8) -> HENRY | B9: =IF(Récapitulatif!B8="","",Récapitulatif!B8) -> Valentin | C9: 16.2 | D9: 15.9 | H9: =((LARGE(C9:G9,1))+(LARGE(C9:G9,2)))/2 -> 16.05
A10: =IF(Récapitulatif!A9="","",Récapitulatif!A9) -> JAFFREDO | B10: =IF(Récapitulatif!B9="","",Récapitulatif!B9) -> Mathias | C10: 19.7 | D10: 22.8 | H10: =((LARGE(C10:G10,1))+(LARGE(C10:G10,2)))/2 -> 21.25
A11: =IF(Récapitulatif!A10="","",Récapitulatif!A10) -> JAMES | B11: =IF(Récapitulatif!B10="","",Récapitulatif!B10) -> Florian | C11: 15.1 | D11: 16.5 | H11: =((LARGE(C11:G11,1))+(LARGE(C11:G11,2)))/2 -> 15.8
A12: =IF(Récapitulatif!A11="","",Récapitulatif!A11) -> KADIOGLU | B12: =IF(Récapitulatif!B11="","",Récapitulatif!B11) -> Dylan | C12: A | D12: A | H12: =((LARGE(C12:G12,1))+(LARGE(C12:G12,2)))/2 -> #NUM!
A13: =IF(Récapitulatif!A12="","",Récapitulatif!A12) -> MASSOT | B13: =IF(Récapitulatif!B12="","",Récapitulatif!B12) -> Emmanuel | C13: 17 | D13: 20.7 | H13: =((LARGE(C13:G13,1))+(LARGE(C13:G13,2)))/2 -> 18.85
A14: =IF(Récapitulatif!A13="","",Récapitulatif!A13) -> MOREL | B14: =IF(Récapitulatif!B13="","",Récapitulatif!B13) -> Rudy | C14: A | D14: A | H14: =((LARGE(C14:G14,1))+(LARGE(C14:G14,2)))/2 -> #NUM!
A15: =IF(Récapitulatif!A14="","",Récapitulatif!A14) -> RICHARD | B15: =IF(Récapitulatif!B14="","",Récapitulatif!B14) -> Quentin | C15: A | D15: A | H15: =((LARGE(C15:G15,1))+(LARGE(C15:G15,2)))/2 -> #NUM!
A16: =IF(Récapitulatif!A15="","",Récapitulatif!A15) -> ROUSSEAU | B16: =IF(Récapitulatif!B15="","",Récapitulatif!B15) -> Benoit | C16: 17.8 | D16: 18.8 | H16: =((LARGE(C16:G16,1))+(LARGE(C16:G16,2)))/2 -> 18.3
A17: =IF(Récapitulatif!A16="","",Récapitulatif!A16) -> TALAHA | B17: =IF(Récapitulatif!B16="","",Récapitulatif!B16) -> Manuele | C17: 17.4 | D17: 17.8 | H17: =((LARGE(C17:G17,1))+(LARGE(C17:G17,2)))/2 -> 17.6
A18: =IF(Récapitulatif!A17="","",Récapitulatif!A17) -> 1ère1 Pe | C18: Date :
A19: NOMS | B19: PRENOMS | C19: 1er essai | D19: 2e essai | E19: 3e essai | F19: 4e essai | G19: 5e essai | H19: Moyenne des 2 meilleurs essais
A20: =IF(Récapitulatif!A19="","",Récapitulatif!A19) -> BEAUFORT | B20: =IF(Récapitulatif!B19="","",Récapitulatif!B19) -> Mickaël | C20: 14.5 | D20: 16.3 | H20: =((LARGE(C20:G20,1))+(LARGE(C20:G20,2)))/2 -> 15.4
A21: =IF(Récapitulatif!A20="","",Récapitulatif!A20) -> BERTHELOT | B21: =IF(Récapitulatif!B20="","",Récapitulatif!B20) -> Florian | C21: 10.3 | D21: 11.9 | H21: =((LARGE(C21:G21,1))+(LARGE(C21:G21,2)))/2 -> 11.1
A22: =IF(Récapitulatif!A21="","",Récapitulatif!A21) -> BIWILA | B22: =IF(Récapitulatif!B21="","",Récapitulatif!B21) -> Yannick | C22: A | D22: A | H22: =((LARGE(C22:G22,1))+(LARGE(C22:G22,2)))/2 -> #NUM!
A23: =IF(Récapitulatif!A22="","",Récapitulatif!A22) -> BOURDON | B23: =IF(Récapitulatif!B22="","",Récapitulatif!B22) -> Alan | C23: 15 | D23: 16.8 | H23: =((LARGE(C23:G23,1))+(LARGE(C23:G23,2)))/2 -> 15.9
A24: =IF(Récapitulatif!A23="","",Récapitulatif!A23) -> BRIANTAIS | B24: =IF(Récapitulatif!B23="","",Récapitulatif!B23) -> Cassandra | C24: 13 | D24: 13.6 | H24: =((LARGE(C24:G24,1))+(LARGE(C24:G24,2)))/2 -> 13.3
A25: =IF(Récapitulatif!A24="","",Récapitulatif!A24) -> CASTRIEN | B25: =IF(Récapitulatif!B24="","",Récapitulatif!B24) -> Dylan | C25: 16.9 | D25: 18 | H25: =((LARGE(C25:G25,1))+(LARGE(C25:G25,2)))/2 -> 17.45
A26: =IF(Récapitulatif!A25="","",Récapitulatif!A25) -> CHOBLET | B26: =IF(Récapitulatif!B25="","",Récapitulatif!B25) -> Cyril | C26: 20.6 | D26: 21.3 | H26: =((LARGE(C26:G26,1))+(LARGE(C26:G26,2)))/2 -> 20.95
A27: =IF(Récapitulatif!A26="","",Récapitulatif!A26) -> DUBREIL | B27: =IF(Récapitulatif!B26="","",Récapitulatif!B26) -> Tony | C27: A | D27: A | H27: =((LARGE(C27:G27,1))+(LARGE(C27:G27,2)))/2 -> #NUM!
A28: =IF(Récapitulatif!A27="","",Récapitulatif!A27) -> FORTHOMME | B28: =IF(Récapitulatif!B27="","",Récapitulatif!B27) -> Emmanuelle | C28: 6.7 | D28: 7.5 | H28: =((LARGE(C28:G28,1))+(LARGE(C28:G28,2)))/2 -> 7.1
A29: =IF(Récapitulatif!A28="","",Récapitulatif!A28) -> FOUQUET | B29: =IF(Récapitulatif!B28="","",Récapitulatif!B28) -> Alexandre | C29: 15.2 | D29: 14.7 | H29: =((LARGE(C29:G29,1))+(LARGE(C29:G29,2)))/2 -> 14.95
A30: =IF(Récapitulatif!A29="","",Récapitulatif!A29) -> GUIBLIN | B30: =IF(Récapitulatif!B29="","",Récapitulatif!B29) -> Paul | C30: D | D30: D | H30: =((LARGE(C30:G30,1))+(LARGE(C30:G30,2)))/2 -> #NUM!
A31: =IF(Récapitulatif!A30="","",Récapitulatif!A30) -> GUILLEMIN | B31: =IF(Récapitulatif!B30="","",Récapitulatif!B30) -> Quentin | C31: A | D31: A | H31: =((LARGE(C31:G31,1))+(LARGE(C31:G31,2)))/2 -> #NUM!
A32: =IF(Récapitulatif!A31="","",Récapitulatif!A31) -> LEMONNIER | B32: =IF(Récapitulatif!B31="","",Récapitulatif!B31) -> Maxime | C32: D | D32: D | H32: =((LARGE(C32:G32,1))+(LARGE(C32:G32,2)))/2 -> #NUM!
A33: =IF(Récapitulatif!A32="","",Récapitulatif!A32) -> ORAIN | B33: =IF(Récapitulatif!B32="","",Récapitulatif!B32) -> Ophélie | C33: 10.5 | D33: 7.4 | H33: =((LARGE(C33:G33,1))+(LARGE(C33:G33,2)))/2 -> 8.95
A34: =IF(Récapitulatif!A33="","",Récapitulatif!A33) -> PATY | B34: =IF(Récapitulatif!B33="","",Récapitulatif!B33) -> Charlie | C34: 17.5 | D34: 19.7

Sheet Séance 2
A1: Séance n°2
A2: =IF(Récapitulatif!A1="","",Récapitulatif!A1) -> 1ère1 Ma | C2: Date :
A3: NOMS | B3: PRENOMS | C3: 1er essai | D3: 2e essai | E3: 3e essai | F3: 4e essai | G3: 5e essai | H3: Moyenne des 2 meilleurs essais
A4: =IF(Récapitulatif!A3="","",Récapitulatif!A3) -> ANNEIX | B4: =IF(Récapitulatif!B3="","",Récapitulatif!B3) -> Charly | H4: =((LARGE(C4:G4,1))+(LARGE(C4:G4,2)))/2 -> #NUM!
A5: =IF(Récapitulatif!A4="","",Récapitulatif!A4) -> BOTELHO | B5: =IF(Récapitulatif!B4="","",Récapitulatif!B4) -> Kévin | H5: =((LARGE(C5:G5,1))+(LARGE(C5:G5,2)))/2 -> #NUM!
A6: =IF(Récapitulatif!A5="","",Récapitulatif!A5) -> BREMONT | B6: =IF(Récapitulatif!B5="","",Récapitulatif!B5) -> Gwen | H6: =((LARGE(C6:G6,1))+(LARGE(C6:G6,2)))/2 -> #NUM!
A7: =IF(Récapitulatif!A6="","",Récapitulatif!A6) -> DEMIRTAS | B7: =IF(Récapitulatif!B6="","",Récapitulatif!B6) -> Ismael | H7: =((LARGE(C7:G7,1))+(LARGE(C7:G7,2)))/2 -> #NUM!
A8: =IF(Récapitulatif!A7="","",Récapitulatif!A7) -> FRANCI | B8: =IF(Récapitulatif!B7="","",Récapitulatif!B7) -> Dorian | H8: =((LARGE(C8:G8,1))+(LARGE(C8:G8,2)))/2 -> #NUM!
A9: =IF(Récapitulatif!A8="","",Récapitulatif!A8) -> HENRY | B9: =IF(Récapitulatif!B8="","",Récapitulatif!B8) -> Valentin | H9: =((LARGE(C9:G9,1))+(LARGE(C9:G9,2)))/2 -> #NUM!
A10: =IF(Récapitulatif!A9="","",Récapitulatif!A9) -> JAFFREDO | B10: =IF(Récapitulatif!B9="","",Récapitulatif!B9) -> Mathias | H10: =((LARGE(C10:G10,1))+(LARGE(C10:G10,2)))/2 -> #NUM!
A11: =IF(Récapitulatif!A10="","",Récapitulatif!A10) -> JAMES | B11: =IF(Récapitulatif!B10="","",Récapitulatif!B10) -> Florian | H11: =((LARGE(C11:G11,1))+(LARGE(C11:G11,2)))/2 -> #NUM!
A12: =IF(Récapitulatif!A11="","",Récapitulatif!A11) -> KADIOGLU | B12: =IF(Récapitulatif!B11="","",Récapitulatif!B11) -> Dylan | H12: =((LARGE(C12:G12,1))+(LARGE(C12:G12,2)))/2 -> #NUM!
A13: =IF(Récapitulatif!A12="","",Récapitulatif!A12) -> MASSOT | B13: =IF(Récapitulatif!B12="","",Récapitulatif!B12) -> Emmanuel | H13: =((LARGE(C13:G13,1))+(LARGE(C13:G13,2)))/2 -> #NUM!
A14: =IF(Récapitulatif!A13="","",Récapitulatif!A13) -> MOREL | B14: =IF(Récapitulatif!B13="","",Récapitulatif!B13) -> Rudy | H14: =((LARGE(C14:G14,1))+(LARGE(C14:G14,2)))/2 -> #NUM!
A15: =IF(Récapitulatif!A14="","",Récapitulatif!A14) -> RICHARD | B15: =IF(Récapitulatif!B14="","",Récapitulatif!B14) -> Quentin | H15: =((LARGE(C15:G15,1))+(LARGE(C15:G15,2)))/2 -> #NUM!
... A17: =IF(Récapitulatif!A16="","",Récapitulatif!A16) -> TALAHA | B17: =IF(Récapitulatif!B16="","",Récapitulatif!B16) -> Manuele | H17: =((LARGE(C17:G17,1))+(LARGE(C17:G17,2)))/2 -> #NUM!
A18: =IF(Récapitulatif!A17="","",Récapitulatif!A17) -> 1ère1 Pe | C18: Date :
A19: NOMS | B19: PRENOMS | C19: 1er essai | D19: 2e essai | E19: 3e essai | F19: 4e essai | G19: 5e essai | H19: Moyenne des 2 meilleurs essais
A20: =IF(Récapitulatif!A19="","",Récapitulatif!A19) -> BEAUFORT | B20: =IF(Récapitulatif!B19="","",Récapitulatif!B19) -> Mickaël | H20: =((LARGE(C20:G20,1))+(LARGE(C20:G20,2)))/2 -> #NUM!
A21: =IF(Récapitulatif!A20="","",Récapitulatif!A20) -> BERTHELOT | B21: =IF(Récapitulatif!B20="","",Récapitulatif!B20) -> Florian | H21: =((LARGE(C21:G21,1))+(LARGE(C21:G21,2)))/2 -> #NUM!
A22: =IF(Récapitulatif!A21="","",Récapitulatif!A21) -> BIWILA | B22: =IF(Récapitulatif!B21="","",Récapitulatif!B21) -> Yannick | H22: =((LARGE(C22:G22,1))+(LARGE(C22:G22,2)))/2 -> #NUM!
A23: =IF(Récapitulatif!A22="","",Récapitulatif!A22) -> BOURDON | B23: =IF(Récapitulatif!B22="","",Récapitulatif!B22) -> Alan | H23: =((LARGE(C23:G23,1))+(LARGE(C23:G23,2)))/2 -> #NUM!
A24: =IF(Récapitulatif!A23="","",Récapitulatif!A23) -> BRIANTAIS | B24: =IF(Récapitulatif!B23="","",Récapitulatif!B23) -> Cassandra | H24: =((LARGE(C24:G24,1))+(LARGE(C24:G24,2)))/2 -> #NUM!
A25: =IF(Récapitulatif!A24="","",Récapitulatif!A24) -> CASTRIEN | B25: =IF(Récapitulatif!B24="","",Récapitulatif!B24) -> Dylan | H25: =((LARGE(C25:G25,1))+(LARGE(C25:G25,2)))/2 -> #NUM!
A26: =IF(Récapitulatif!A25="","",Récapitulatif!A25) -> CHOBLET | B26: =IF(Récapitulatif!B25="","",Récapitulatif!B25) -> Cyril | H26: =((LARGE(C26:G26,1))+(LARGE(C26:G26,2)))/2 -> #NUM!
A27: =IF(Récapitulatif!A26="","",Récapitulatif!A26) -> DUBREIL | B27: =IF(Récapitulatif!B26="","",Récapitulatif!B26) -> Tony | H27: =((LARGE(C27:G27,1))+(LARGE(C27:G27,2)))/2 -> #NUM!
A28: =IF(Récapitulatif!A27="","",Récapitulatif!A27) -> FORTHOMME | B28: =IF(Récapitulatif!B27="","",Récapitulatif!B27) -> Emmanuelle | H28: =((LARGE(C28:G28,1))+(LARGE(C28:G28,2)))/2 -> #NUM!
A29: =IF(Récapitulatif!A28="","",Récapitulatif!A28) -> FOUQUET | B29: =IF(Récapitulatif!B28="","",Récapitulatif!B28) -> Alexandre | H29: =((LARGE(C29:G29,1))+(LARGE(C29:G29,2)))/2 -> #NUM!
A30: =IF(Récapitulatif!A29="","",Récapitulatif!A29) -> GUIBLIN | B30: =IF(Récapitulatif!B29="","",Récapitulatif!B29) -> Paul | H30: =((LARGE(C30:G30,1))+(LARGE(C30:G30,2)))/2 -> #NUM!
A31: =IF(Récapitulatif!A30="","",Récapitulatif!A30) -> GUILLEMIN | B31: =IF(Récapitulatif!B30="","",Récapitulatif!B30) -> Quentin | H31: =((LARGE(C31:G31,1))+(LARGE(C31:G31,2)))/2 -> #NUM!
... A33: =IF(Récapitulatif!A32="","",Récapitulatif!A32) -> ORAIN | B33: =IF(Récapitulatif!B32="","",Récapitulatif!B32) -> Ophélie | H33: =((LARGE(C33:G33,1))+(LARGE(C33:G33,2)))/2 -> #NUM!
A34: =IF(Récapitulatif!A33="","",Récapitulatif!A33) -> PATY | B34: =IF(Récapitulatif!B33="","",Récapitulatif!B33) -> Charlie

Sheet Séance 3
A1: Séance n°3
A2: =IF(Récapitulatif!A1="","",Récapitulatif!A1) -> 1ère1 Ma | C2: Date :
A3: NOMS | B3: PRENOMS | C3: 1er essai | D3: 2e essai | E3: 3e essai | F3: 4e essai | G3: 5e essai | H3: Moyenne des 2 meilleurs essais
A5: =IF(Récapitulatif!A3="","",Récapitulatif!A3) -> ANNEIX | B5: =IF(Récapitulatif!B3="","",Récapitulatif!B3) -> Charly | H5: =((LARGE(C5:G5,1))+(LARGE(C5:G5,2)))/2 -> #NUM!
A6: =IF(Récapitulatif!A4="","",Récapitulatif!A4) -> BOTELHO | B6: =IF(Récapitulatif!B4="","",Récapitulatif!B4) -> Kévin | H6: =((LARGE(C6:G6,1))+(LARGE(C6:G6,2)))/2 -> #NUM!
A7: =IF(Récapitulatif!A5="","",Récapitulatif!A5) -> BREMONT | B7: =IF(Récapitulatif!B5="","",Récapitulatif!B5) -> Gwen | H7: =((LARGE(C7:G7,1))+(LARGE(C7:G7,2)))/2 -> #NUM!
A8: =IF(Récapitulatif!A6="","",Récapitulatif!A6) -> DEMIRTAS | B8: =IF(Récapitulatif!B6="","",Récapitulatif!B6) -> Ismael | H8: =((LARGE(C8:G8,1))+(LARGE(C8:G8,2)))/2 -> #NUM!
A9: =IF(Récapitulatif!A7="","",Récapitulatif!A7) -> FRANCI | B9: =IF(Récapitulatif!B7="","",Récapitulatif!B7) -> Dorian | H9: =((LARGE(C9:G9,1))+(LARGE(C9:G9,2)))/2 -> #NUM!
A10: =IF(Récapitulatif!A8="","",Récapitulatif!A8) -> HENRY | B10: =IF(Récapitulatif!B8="","",Récapitulatif!B8) -> Valentin | H10: =((LARGE(C10:G10,1))+(LARGE(C10:G10,2)))/2 -> #NUM!
A11: =IF(Récapitulatif!A9="","",Récapitulatif!A9) -> JAFFREDO | B11: =IF(Récapitulatif!B9="","",Récapitulatif!B9) -> Mathias | H11: =((LARGE(C11:G11,1))+(LARGE(C11:G11,2)))/2 -> #NUM!
A12: =IF(Récapitulatif!A10="","",Récapitulatif!A10) -> JAMES | B12: =IF(Récapitulatif!B10="","",Récapitulatif!B10) -> Florian | H12: =((LARGE(C12:G12,1))+(LARGE(C12:G12,2)))/2 -> #NUM!
A13: =IF(Récapitulatif!A11="","",Récapitulatif!A11) -> KADIOGLU | B13: =IF(Récapitulatif!B11="","",Récapitulatif!B11) -> Dylan | H13: =((LARGE(C13:G13,1))+(LARGE(C13:G13,2)))/2 -> #NUM!
A14: =IF(Récapitulatif!A12="","",Récapitulatif!A12) -> MASSOT | B14: =IF(Récapitulatif!B12="","",Récapitulatif!B12) -> Emmanuel | H14: =((LARGE(C14:G14,1))+(LARGE(C14:G14,2)))/2 -> #NUM!
A15: =IF(Récapitulatif!A13="","",Récapitulatif!A13) -> MOREL | B15: =IF(Récapitulatif!B13="","",Récapitulatif!B13) -> Rudy | H15: =((LARGE(C15:G15,1))+(LARGE(C15:G15,2)))/2 -> #NUM!
A16: =IF(Récapitulatif!A14="","",Récapitulatif!A14) -> RICHARD | B16: =IF(Récapitulatif!B14="","",Récapitulatif!B14) -> Quentin | H16: =((LARGE(C16:G16,1))+(LARGE(C16:G16,2)))/2 -> #NUM!
... A18: =IF(Récapitulatif!A16="","",Récapitulatif!A16) -> TALAHA | B18: =IF(Récapitulatif!B16="","",Récapitulatif!B16) -> Manuele | H18: =((LARGE(C18:G18,1))+(LARGE(C18:G18,2)))/2 -> #NUM!
A19: =IF(Récapitulatif!A17="","",Récapitulatif!A17) -> 1ère1 Pe | C19: Date :
A20: NOMS | B20: PRENOMS | C20: 1er essai | D20: 2e essai | E20: 3e essai | F20: 4e essai | G20: 5e essai | H20: Moyenne des 2 meilleurs essais
A22: =IF(Récapitulatif!A19="","",Récapitulatif!A19) -> BEAUFORT | B22: =IF(Récapitulatif!B19="","",Récapitulatif!B19) -> Mickaël | H22: =((LARGE(C22:G22,1))+(LARGE(C22:G22,2)))/2 -> #NUM!
A23: =IF(Récapitulatif!A20="","",Récapitulatif!A20) -> BERTHELOT | B23: =IF(Récapitulatif!B20="","",Récapitulatif!B20) -> Florian | H23: =((LARGE(C23:G23,1))+(LARGE(C23:G23,2)))/2 -> #NUM!
A24: =IF(Récapitulatif!A21="","",Récapitulatif!A21) -> BIWILA | B24: =IF(Récapitulatif!B21="","",Récapitulatif!B21) -> Yannick | H24: =((LARGE(C24:G24,1))+(LARGE(C24:G24,2)))/2 -> #NUM!
A25: =IF(Récapitulatif!A22="","",Récapitulatif!A22) -> BOURDON | B25: =IF(Récapitulatif!B22="","",Récapitulatif!B22) -> Alan | H25: =((LARGE(C25:G25,1))+(LARGE(C25:G25,2)))/2 -> #NUM!
A26: =IF(Récapitulatif!A23="","",Récapitulatif!A23) -> BRIANTAIS | B26: =IF(Récapitulatif!B23="","",Récapitulatif!B23) -> Cassandra | H26: =((LARGE(C26:G26,1))+(LARGE(C26:G26,2)))/2 -> #NUM!
A27: =IF(Récapitulatif!A24="","",Récapitulatif!A24) -> CASTRIEN | B27: =IF(Récapitulatif!B24="","",Récapitulatif!B24) -> Dylan | H27: =((LARGE(C27:G27,1))+(LARGE(C27:G27,2)))/2 -> #NUM!
A28: =IF(Récapitulatif!A25="","",Récapitulatif!A25) -> CHOBLET | B28: =IF(Récapitulatif!B25="","",Récapitulatif!B25) -> Cyril | H28: =((LARGE(C28:G28,1))+(LARGE(C28:G28,2)))/2 -> #NUM!
A29: =IF(Récapitulatif!A26="","",Récapitulatif!A26) -> DUBREIL | B29: =IF(Récapitulatif!B26="","",Récapitulatif!B26) -> Tony | H29: =((LARGE(C29:G29,1))+(LARGE(C29:G29,2)))/2 -> #NUM!
A30: =IF(Récapitulatif!A27="","",Récapitulatif!A27) -> FORTHOMME | B30: =IF(Récapitulatif!B27="","",Récapitulatif!B27) -> Emmanuelle | H30: =((LARGE(C30:G30,1))+(LARGE(C30:G30,2)))/2 -> #NUM!
A31: =IF(Récapitulatif!A28="","",Récapitulatif!A28) -> FOUQUET | B31: =IF(Récapitulatif!B28="","",Récapitulatif!B28) -> Alexandre | H31: =((LARGE(C31:G31,1))+(LARGE(C31:G31,2)))/2 -> #NUM!
A32: =IF(Récapitulatif!A29="","",Récapitulatif!A29) -> GUIBLIN | B32: =IF(Récapitulatif!B29="","",Récapitulatif!B29) -> Paul | H32: =((LARGE(C32:G32,1))+(LARGE(C32:G32,2)))/2 -> #NUM!
A33: =IF(Récapitulatif!A30="","",Récapitulatif!A30) -> GUILLEMIN | B33: =IF(Récapitulatif!B30="","",Récapitulatif!B30) -> Quentin | H33: =((LARGE(C33:G33,1))+(LARGE(C33:G33,2)))/2 -> #NUM!
... A35: =IF(Récapitulatif!A32="","",Récapitulatif!A32) -> ORAIN | B35: =IF(Récapitulatif!B32="","",Récapitulatif!B32) -> Ophélie | H35: =((LARGE(C35:G35,1))+(LARGE(C35:G35,2)))/2 -> #NUM!
A36: =IF(Récapitulatif!A33="","",Récapitulatif!A33) -> PATY | B36: =IF(Récapitulatif!B33="","",Récapitulatif!B33) -> Charlie

Sheet Evaluation
A1: =IF(Récapitulatif!A1="","",Récapitulatif!A1) -> 1ère1 Ma | D1: Date : | I1: Séance n°4 Evaluation | N1: Moy. des 2 lancers | O1: Notes garçons / 15 pts | P1: Notes filles / 15 pts
A2: NOMS | B2: PRENOMS | C2: Sexe G / F | D2: 1er essai | E2: 2ème essai | F2: 3ème essai | G2: 4ème essai | H2: 5ème essai | I2: Moyennes des 2 meilleurs lancers | J2: Note sur 15 pts | K2: Echauffement / sécurité sur 5 pts | L2: Note sur 20 | N2: 35 | O2: 15 | P2: 15
A3: =IF(Récapitulatif!A3="","",Récapitulatif!A3) -> ANNEIX | B3: =IF(Récapitulatif!B3="","",Récapitulatif!B3) -> Charly | C3: =IF(Récapitulatif!C3="","",Récapitulatif!C3) -> G | D3: 12 | E3: 14 | F3: 16 | G3: 18 | H3: 20 | I3: =IF(SUM(D3:H3)=0,"",AVERAGE(LARGE(D3:H3,{1;2}))) -> 19 | J3: =IF(I3="","",IF(C3="F",VLOOKUP(I3,$N$2:$P$302,3,FALSE),VLOOKUP(I3,$N$2:$P$302,2,FALSE))) -> 9 | K3: 5 | L3: =SUM(J3:K3) -> 14 | N3: =ROUND(N2-0.1,1) -> 34.9 | O3: 15 | P3: 15
A4: =IF(Récapitulatif!A4="","",Récapitulatif!A4) -> BOTELHO | B4: =IF(Récapitulatif!B4="","",Récapitulatif!B4) -> Kévin | C4: F | D4: 12 | E4: 14 | F4: 16 | G4: 18 | H4: 20 | I4: =IF(SUM(D4:H4)=0,"",AVERAGE(LARGE(D4:H4,{1;2}))) -> 19 | J4: =IF(I4="","",IF(C4="F",VLOOKUP(I4,$N$2:$P$302,3,FALSE),VLOOKUP(I4,$N$2:$P$302,2,FALSE))) -> 14.25 | L4: =SUM(J4:K4) -> 14.25 | N4: =ROUND(N3-0.1,1) -> 34.8 | O4: 15 | P4: 15
A5: =IF(Récapitulatif!A5="","",Récapitulatif!A5) -> BREMONT | B5: =IF(Récapitulatif!B5="","",Récapitulatif!B5) -> Gwen | C5: =IF(Récapitulatif!C5="","",Récapitulatif!C5) -> G | I5: =IF(SUM(D5:H5)=0,"",AVERAGE(LARGE(D5:H5,{1;2}))) | J5: =IF(I5="","",IF(C5="F",VLOOKUP(I5,$N$2:$P$302,3,FALSE),VLOOKUP(I5,$N$2:$P$302,2,FALSE))) | L5: =SUM(J5:K5) -> 0 | N5: =ROUND(N4-0.1,1) -> 34.7 | O5: 15 | P5: 15
A6: =IF(Récapitulatif!A6="","",Récapitulatif!A6) -> DEMIRTAS | B6: =IF(Récapitulatif!B6="","",Récapitulatif!B6) -> Ismael | C6: =IF(Récapitulatif!C6="","",Récapitulatif!C6) -> G | I6: =IF(SUM(D6:H6)=0,"",AVERAGE(LARGE(D6:H6,{1;2}))) | J6: =IF(I6="","",IF(C6="F",VLOOKUP(I6,$N$2:$P$302,3,FALSE),VLOOKUP(I6,$N$2:$P$302,2,FALSE))) | L6: =SUM(J6:K6) -> 0 | N6: =ROUND(N5-0.1,1) -> 34.6 | O6: 15 | P6: 15
A7: =IF(Récapitulatif!A7="","",Récapitulatif!A7) -> FRANCI | B7: =IF(Récapitulatif!B7="","",Récapitulatif!B7) -> Dorian | C7: =IF(Récapitulatif!C7="","",Récapitulatif!C7) -> G | I7: =IF(SUM(D7:H7)=0,"",AVERAGE(LARGE(D7:H7,{1;2}))) | J7: =IF(I7="","",IF(C7="F",VLOOKUP(I7,$N$2:$P$302,3,FALSE),VLOOKUP(I7,$N$2:$P$302,2,FALSE))) | L7: =SUM(J7:K7) -> 0 | N7: =ROUND(N6-0.1,1) -> 34.5 | O7: 15 | P7: 15
A8: =IF(Récapitulatif!A8="","",Récapitulatif!A8) -> HENRY | B8: =IF(Récapitulatif!B8="","",Récapitulatif!B8) -> Valentin | C8: =IF(Récapitulatif!C8="","",Récapitulatif!C8) -> G | I8: =IF(SUM(D8:H8)=0,"",AVERAGE(LARGE(D8:H8,{1;2}))) | J8: =IF(I8="","",IF(C8="F",VLOOKUP(I8,$N$2:$P$302,3,FALSE),VLOOKUP(I8,$N$2:$P$302,2,FALSE))) | L8: =SUM(J8:K8) -> 0 | N8: =ROUND(N7-0.1,1) -> 34.4 | O8: 15 | P8: 15
A9: =IF(Récapitulatif!A9="","",Récapitulatif!A9) -> JAFFREDO | B9: =IF(Récapitulatif!B9="","",Récapitulatif!B9) -> Mathias | C9: =IF(Récapitulatif!C9="","",Récapitulatif!C9) -> G | I9: =IF(SUM(D9:H9)=0,"",AVERAGE(LARGE(D9:H9,{1;2}))) | J9: =IF(I9="","",IF(C9="F",VLOOKUP(I9,$N$2:$P$302,3,FALSE),VLOOKUP(I9,$N$2:$P$302,2,FALSE))) | L9: =SUM(J9:K9) -> 0 | N9: =ROUND(N8-0.1,1) -> 34.3 | O9: 15 | P9: 15
