Workbook
Name N°_Contrat: OFFSET(COMPILDATA!$A$2,,,COUNTA(COMPILDATA!$A:$A)-1)

Sheet LISTE_CONTRATS
A1: N° Contrat | B1: Code D | C1: Libellé | E1: Date d'effet | F1: Prochaine échéance | G1: Durée
A2: =IF(COMPILDATA!A2="","",COMPILDATA!A2) -> 0047612Y | B2: =IF(COMPILDATA!B2="","",COMPILDATA!B2) -> D53417B | C2: =INDIRECT("COMPILDATA!C"&D2) -> GIVORS Z.H. LES VERNES S/ST A5 LES AULNES | D2: 2 | E2: =IF(COMPILDATA!D2="","",COMPILDATA!D2) -> 28399 | F2: =IF(COMPILDATA!G2="","",COMPILDATA!G2) -> 43008 | G2: =IF(COMPILDATA!E2="","",COMPILDATA!E2) -> 1
A3: =IF(COMPILDATA!A3="","",COMPILDATA!A3) -> 0048509C | B3: =IF(COMPILDATA!B3="","",COMPILDATA!B3) -> D52299E | C3: =INDIRECT("COMPILDATA!C"&D3) -> LYON (69) - SST G024D - INSTITUT D'ETUDE POLITIQUE DE LYON (ELVYA) | D3: 3 | E3: =IF(COMPILDATA!D3="","",COMPILDATA!D3) | F3: =IF(COMPILDATA!G3="","",COMPILDATA!G3) | G3: =IF(COMPILDATA!E3="","",COMPILDATA!E3)
A4: =IF(COMPILDATA!A4="","",COMPILDATA!A4) -> 0051746L | B4: =IF(COMPILDATA!B4="","",COMPILDATA!B4) -> D25033D | C4: =INDIRECT("COMPILDATA!C"&D4) -> LYON (69) - SST C003 - LA FERRANDIERE (ELVYA) | D4: 4 | E4: =IF(COMPILDATA!D4="","",COMPILDATA!D4) -> Test | F4: =IF(COMPILDATA!G4="","",COMPILDATA!G4) -> Test | G4: =IF(COMPILDATA!E4="","",COMPILDATA!E4) -> Test
A5: =IF(COMPILDATA!A5="","",COMPILDATA!A5) -> 0051892D | B5: =IF(COMPILDATA!B5="","",COMPILDATA!B5) -> D25851E | C5: =INDIRECT("COMPILDATA!C"&D5) -> 73550 MERIBEL LES ALLUES - HOTEL ALLODIS | D5: 5 | E5: =IF(COMPILDATA!D5="","",COMPILDATA!D5) | F5: =IF(COMPILDATA!G5="","",COMPILDATA!G5) | G5: =IF(COMPILDATA!E5="","",COMPILDATA!E5)
A6: =IF(COMPILDATA!A6="","",COMPILDATA!A6) -> 0051940S | B6: =IF(COMPILDATA!B6="","",COMPILDATA!B6) -> D25018J | C6: =INDIRECT("COMPILDATA!C"&D6) -> LYON (69) - SST D10 - 12 TER RUE D'INKERMANN (ELVYA) | D6: 6 | E6: =IF(COMPILDATA!D6="","",COMPILDATA!D6) | F6: =IF(COMPILDATA!G6="","",COMPILDATA!G6) | G6: =IF(COMPILDATA!E6="","",COMPILDATA!E6)
A7: =IF(COMPILDATA!A7="","",COMPILDATA!A7) -> 0052232B | B7: =IF(COMPILDATA!B7="","",COMPILDATA!B7) -> D25016F | C7: =INDIRECT("COMPILDATA!C"&D7) -> LYON (69) - SST XX - CENTRE COMMERCIAL BROTTEAUX 2000 (ELVYA) | D7: 7 | E7: =IF(COMPILDATA!D7="","",COMPILDATA!D7) | F7: =IF(COMPILDATA!G7="","",COMPILDATA!G7) | G7: =IF(COMPILDATA!E7="","",COMPILDATA!E7)
A8: =IF(COMPILDATA!A8="","",COMPILDATA!A8) -> 0052604R | B8: =IF(COMPILDATA!B8="","",COMPILDATA!B8) -> D25015E | C8: =INDIRECT("COMPILDATA!C"&D8) -> LYON (69) -SST B014- 76 RUE GARIBALDI | D8: 8 | E8: =IF(COMPILDATA!D8="","",COMPILDATA!D8) | F8: =IF(COMPILDATA!G8="","",COMPILDATA!G8) | G8: =IF(COMPILDATA!E8="","",COMPILDATA!E8)
A9: =IF(COMPILDATA!A9="","",COMPILDATA!A9) -> 0052667Z | B9: =IF(COMPILDATA!B9="","",COMPILDATA!B9) -> D25021N | C9: =INDIRECT("COMPILDATA!C"&D9) -> LYON 3° - IMMEUBLE "154 GAMBETTA" | D9: 9 | E9: =IF(COMPILDATA!D9="","",COMPILDATA!D9) | F9: =IF(COMPILDATA!G9="","",COMPILDATA!G9) | G9: =IF(COMPILDATA!E9="","",COMPILDATA!E9)
A10: =IF(COMPILDATA!A10="","",COMPILDATA!A10) -> 0052669B | B10: =IF(COMPILDATA!B10="","",COMPILDATA!B10) -> D25095K | C10: =INDIRECT("COMPILDATA!C"&D10) -> LYON 7° - RESIDENCE OPALINE ZAC GERLAND | D10: 10 | E10: =IF(COMPILDATA!D10="","",COMPILDATA!D10) | F10: =IF(COMPILDATA!G10="","",COMPILDATA!G10) | G10: =IF(COMPILDATA!E10="","",COMPILDATA!E10)
A11: =IF(COMPILDATA!A11="","",COMPILDATA!A11) -> 0052680R | B11: =IF(COMPILDATA!B11="","",COMPILDATA!B11) -> D50581W | C11: =INDIRECT("COMPILDATA!C"&D11) -> LYON (69) - SST XX - 1 RUE MAURICE FLANDIN (ELVYA) | D11: 11 | E11: =IF(COMPILDATA!D11="","",COMPILDATA!D11) | F11: =IF(COMPILDATA!G11="","",COMPILDATA!G11) | G11: =IF(COMPILDATA!E11="","",COMPILDATA!E11)
A12: =IF(COMPILDATA!A12="","",COMPILDATA!A12) -> 0053626K | B12: =IF(COMPILDATA!B12="","",COMPILDATA!B12) -> D25046X | C12: =INDIRECT("COMPILDATA!C"&D12) -> LYON (69) - SST C021 - LE SAINT ANTOINE (ELVYA) | D12: 12 | E12: =IF(COMPILDATA!D12="","",COMPILDATA!D12) | F12: =IF(COMPILDATA!G12="","",COMPILDATA!G12) | G12: =IF(COMPILDATA!E12="","",COMPILDATA!E12)
A13: =IF(COMPILDATA!A13="","",COMPILDATA!A13) -> 0053902Z | B13: =IF(COMPILDATA!B13="","",COMPILDATA!B13) -> D25017H | C13: =INDIRECT("COMPILDATA!C"&D13) -> LYON 3 - IMMEUBLE 68 AVENUE DE SAXE | D13: 13 | E13: =IF(COMPILDATA!D13="","",COMPILDATA!D13) | F13: =IF(COMPILDATA!G13="","",COMPILDATA!G13) | G13: =IF(COMPILDATA!E13="","",COMPILDATA!E13)
... A50: =IF(COMPILDATA!A50="","",COMPILDATA!A50) -> 3036853J | B50: =IF(COMPILDATA!B50="","",COMPILDATA!B50) -> D84100Z | C50: =INDIRECT("COMPILDATA!C"&D50) -> ARBENT (01) - COLLEGE JEAN ROSTAND | D50: 50 | E50: =IF(COMPILDATA!D50="","",COMPILDATA!D50) | F50: =IF(COMPILDATA!G50="","",COMPILDATA!G50) | G50: =IF(COMPILDATA!E50="","",COMPILDATA!E50)
A51: =IF(COMPILDATA!A51="","",COMPILDATA!A51) -> 3033576Y | B51: =IF(COMPILDATA!B51="","",COMPILDATA!B51) -> D00BLRS | C51: =INDIRECT("COMPILDATA!C"&D51) -> ST GENIS POUILLY (01) - COLLEGE JACQUES PREVERT | D51: 51 | E51: =IF(COMPILDATA!D51="","",COMPILDATA!D51) | F51: =IF(COMPILDATA!G51="","",COMPILDATA!G51)

Sheet FEUILLE_CONTRAT
A1: =MATCH(C2,COMPILDATA!$A$1:$A$100,0) -> 4
A2: =HYPERLINK("[CLASSEUR_GESTION.xlsx]LISTE_CONTRATS!A"&MATCH(C2,COMPILDATA!$A$1:$A$100,0),C2) -> 0051746L | B2: N° Contrat | C2: 0051746L | E2: =IFERROR(INDIRECT("COMPILDATA!C"&$A$1),"") -> LYON (69) - SST C003 - LA FERRANDIERE (ELVYA)
B3: Code D | C3: =IFERROR(INDIRECT("COMPILDATA!B"&$A$1),"") -> D25033D
B5: Informations contractuelles
B7: Date d'effet : | E7: =IFERROR(INDIRECT("COMPILDATA!D"&$A$1),"") -> Test | G7: Type de reconduction : | I7: =IFERROR(INDIRECT("COMPILDATA!H"&$A$1),"") -> Test | K7: =COMPILDATA!AN2 -> Contrat + Avenant
B8: Durée : | E8: =IFERROR(INDIRECT("COMPILDATA!E"&$A$1),"") -> Test | G8: Facturier : | I8: =IFERROR(INDIRECT("COMPILDATA!I"&$A$1),"") -> Test
B9: Date d'échéance : | E9: =IFERROR(INDIRECT("COMPILDATA!F"&$A$1),"") -> Test | G9: Type de contrat : | I9: =IFERROR(INDIRECT("COMPILDATA!J"&$A$1),"") -> Test | K9: Recouvrement : | M9: =IFERROR(INDIRECT("COMPILDATA!L"&$A$1),"") -> Test
B10: Date de prochaine échéance : | E10: =IFERROR(INDIRECT("COMPILDATA!G"&$A$1),"") -> Test | G10: RAC Contractuel : | I10: =IFERROR(INDIRECT("COMPILDATA!K"&$A$1),"") -> Test | K10: P3 Transparent : | M10: =IFERROR(INDIRECT("COMPILDATA!M"&$A$1),"") -> Test
B12: Nombre d'avenants : | E12: =IFERROR(INDIRECT("COMPILDATA!N"&$A$1),"") -> Test | G12: Objet avenant 1 : | I12: =IFERROR(INDIRECT("COMPILDATA!O"&$A$1),"") -> Test
G13: Date avenant 1 : | I13: =IFERROR(INDIRECT("COMPILDATA!P"&$A$1),"") -> Test
G14: Objet avenant 2 : | I14: =IFERROR(INDIRECT("COMPILDATA!Q"&$A$1),"") -> Test
G15: Date avenant 2 : | I15: =IFERROR(INDIRECT("COMPILDATA!R"&$A$1),"") -> Test
B17: Conditions financières
B19: P1 | E19: P2 | H19: P3 | L19: Nombre d'heures
B20: CA | C20: MB | D20: % | E20: CA | F20: MB | G20: % | H20: CA | I20: MB | J20: % | L20: =IFERROR(INDIRECT("COMPILDATA!y"&$A$1),"") -> Test
B21: =IFERROR(INDIRECT("COMPILDATA!S"&$A$1),"") -> Test | C21: =IFERROR(INDIRECT("COMPILDATA!T"&$A$1),"") -> Test | D21: =IF(C21="",C21/B21,"") | E21: =IFERROR(INDIRECT("COMPILDATA!U"&$A$1),"") -> Test | F21: =IFERROR(INDIRECT("COMPILDATA!V"&$A$1),"") -> Test | G21: =IF(F21=0,"",F21/E21) -> #VALUE! | H21: =IFERROR(INDIRECT("COMPILDATA!w"&$A$1),"") -> Test | I21: =IFERROR(INDIRECT("COMPILDATA!x"&$A$1),"") -> Test | J21: =IF(I21="","",I21/H21) -> #VALUE!
B23: PAO (k€) | D23: =B21+E21+H21 -> #VALUE!
B24: MB Total (k€) | D24: =C21+F21+I21 -> #VALUE!
B26: Élements techniques
B28: Type d'énergie : | D28: =IFERROR(INDIRECT("COMPILDATA!Z"&$A$1),"") -> Test | G28: Secteur d'exploitation : | I28: =IFERROR(INDIRECT("COMPILDATA!AB"&$A$1),"") -> Test | K28: ATE : | L28: =IFERROR(INDIRECT("COMPILDATA!AD"&$A$1),"") -> Test
B29: Inventaire matériel : | D29: =IFERROR(INDIRECT("COMPILDATA!AA"&$A$1),"") -> Test | G29: Chef d'exploitation : | I29: =IFERROR(INDIRECT("COMPILDATA!AC"&$A$1),"") -> Test | K29: Technicien : | L29: =IFERROR(INDIRECT("COMPILDATA!AE"&$A$1),"") -> Test
B31: Devis communiqués/Travaux éffectués :
B44: Informations clients
D46: Nom | G46: Adresse
B47: Partenaire : | D47: =IFERROR(INDIRECT("COMPILDATA!AF"&$A$1),"") -> Test | G47: =IFERROR(INDIRECT("COMPILDATA!AG"&$A$1),"") -> Test
D49: Nom | G49: Adresse | H49: Adresse
B50: Client : | D50: =IFERROR(INDIRECT("COMPILDATA!AH"&$A$1),"") -> Test | G50: 4 avenue Vercors - 38243 MEYLAN CEDEX | H50: =IFERROR(INDIRECT("COMPILDATA!AI"&$A$1),"") -> Test
D52: Nom | G52: Mail | I52: Téléphone | J52: Fonction
B53: Contact client : | D53: =IFERROR(INDIRECT("COMPILDATA!AJ"&$A$1),"") -> Test | G53: =IFERROR(INDIRECT("COMPILDATA!AK"&$A$1),"") -> Test | I53: =IFERROR(INDIRECT("COMPILDATA!AL"&$A$1),"") -> Test | J53: =IFERROR(INDIRECT("COMPILDATA!AM"&$A$1),"") -> Test

Sheet COMPILDATA
A1: N° Contrat | B1: Code D | C1: Nom contrat | D1: Date d'effet | E1: Durée | F1: Date éch. | G1: Date pro. éch. | H1: Type reconduction | I1: Facturier | J1: Type contrat | K1: RAC Contractuel | L1: Recouvrement | M1: P3 Transparent | N1: Nb Avenant | O1: Objet A1 | P1: Date A1 | Q1: Objet A2 | R1: Date A2 | S1: CA P1 | T1: MB P1 | U1: CA P2 | V1: MB P2 | W1: CA P3 | X1: MB P3 | Y1: Nb heures | Z1: Type E | AA1: Inventaire | AB1: Secteur | AC1: Chef Exploitation | AD1: ATE | AE1: Technicien | AF1: Nom Part. | AG1: Adresse Part. | AH1: Nom Client | AI1: Adresse Client | AJ1: Nom CC | AK1: Mail CC | AL1: Téléphone CC | AM1: Fonction CC | AN1: PC 1 | AO1: PC 2 | AP1: PC 3
A2: 0047612Y | B2: D53417B | C2: GIVORS Z.H. LES VERNES S/ST A5 LES AULNES | D2: 28399 | E2: 1 | F2: 28763 | G2: 43008 | H2: Tacite | I2: Jean-François AGUERO | J2: PF | K2: Non | L2: Faire attention | N2: Ø | O2: Manger | P2: 42064 | Q2: Boire | R2: 42125 | S2: 0.45 | T2: 1.21 | U2: 3.23 | V2: 2.23 | W2: 5.43 | X2: 8.97 | Y2: 32 | Z2: Fioul | AA2: Oui | AB2: DMNI | AC2: Jacques | AD2: Bastien | AE2: Durand | AF2: FONCIA IMMOBILIER | AG2: 51 cours Romestang - 38200 VIENNE | AH2: SDC AULNES IMMEUBLE | AI2: Zone d'habitation les vernes - 69700 GIVORS | AJ2: Julie | AK2: leromate@hotmail.fr | AL2: 437485926 | AM2: Gerant | AN2: Contrat + Avenant
A3: 0048509C | B3: D52299E | C3: LYON (69) - SST G024D - INSTITUT D'ETUDE POLITIQUE DE LYON (ELVYA)
A4: 0051746L | B4: D25033D | C4: LYON (69) - SST C003 - LA FERRANDIERE (ELVYA) | D4: Test | E4: Test | F4: Test | G4: Test | H4: Test | I4: Test | J4: Test | K4: Test | L4: Test | M4: Test | N4: Test | O4: Test | P4: Test | Q4: Test | R4: Test | S4: Test | T4: Test | U4: Test | V4: Test | W4: Test | X4: Test | Y4: Test | Z4: Test | AA4: Test | AB4: Test | AC4: Test | AD4: Test | AE4: Test | AF4: Test | AG4: Test | AH4: Test | AI4: Test | AJ4: Test | AK4: Test | AL4: Test | AM4: Test | AN4: Test
A5: 0051892D | B5: D25851E | C5: 73550 MERIBEL LES ALLUES - HOTEL ALLODIS
A6: 0051940S | B6: D25018J | C6: LYON (69) - SST D10 - 12 TER RUE D'INKERMANN (ELVYA)
A7: 0052232B | B7: D25016F | C7: LYON (69) - SST XX - CENTRE COMMERCIAL BROTTEAUX 2000 (ELVYA)
A8: 0052604R | B8: D25015E | C8: LYON (69) -SST B014- 76 RUE GARIBALDI
A9: 0052667Z | B9: D25021N | C9: LYON 3° - IMMEUBLE "154 GAMBETTA"
A10: 0052669B | B10: D25095K | C10: LYON 7° - RESIDENCE OPALINE ZAC GERLAND
A11: 0052680R | B11: D50581W | C11: LYON (69) - SST XX - 1 RUE MAURICE FLANDIN (ELVYA)
A12: 0053626K | B12: D25046X | C12: LYON (69) - SST C021 - LE SAINT ANTOINE (ELVYA)
A13: 0053902Z | B13: D25017H | C13: LYON 3 - IMMEUBLE 68 AVENUE DE SAXE
A14: 0053903A | B14: D25031B | C14: LYON (69) - SST XX - IMMEUBLE 102 RUE MONTGOLFIER (ELVYA)
A15: 0054312N | B15: D54363X | C15: LYON - IMMEUBLE 240 LAFAYETTE
A16: 0055621K | B16: D001WFL | C16: FERNEY VOLTAIRE - SIVOM DE L'EST GESSIEN
... A30: 0105811A | B30: D25032C | C30: LYON (69) - SST XX - RES DE SEZE (ELVYA)
A31: 0112142E | C31: LES HOUCHES -74310- LES ESSERTS
A32: 3004560T | B32: D001WVH | C32: FERNEY VOLTAIRE (01) - SAS LES PORTES DE GENEVE - RES LA RESERVE
A33: 3011315F | B33: D23873C | C33: SAINT PRIEST (69) - RES JULES VERNE
A34: 3013975F | B34: D001WRC | C34: BOURG EN BRESSE (01) - RES LE THEMIS - BUREAUX
A35: 3014440T | B35: D91680Y | C35: CHAMBERY (73) - INDIGGO
A36: 3015243A | B36: D92817T | C36: MEYLAN (38)-FOYER PERSONNES AGEES PRE-BLANC
A37: 3017154P | B37: D86523L | C37: BOURG EN BRESSE (01) - SCM IRM DE L'AIN - CLINIQUE CONVERT
A38: 3017624H | B38: D96852C | C38: ALLEVARD LES BAINS (38) - SST XX - LA MARMOTTANE (CU)
A39: 3018178L | C39: FONTAINE (38) - RES PRIMAVERA
A40: 3018469W | B40: D97488Z | C40: CHAMBERY (73) - LE BUGEY
A41: 3020982B | B41: D26007K | C41: MODANE (73) - IMMEUBLE BATIMENT DES DOUANES
A42: 3021085L | B42: D77161T | C42: LES 2 ALPES (38) - COMPLEXE SPORTIF ET CULTUREL AMPHIBIA
A43: 3021161L | B43: D99396J | C43: SAINT JULIEN MONT DENIS (73) - SALLE SERVEUR
A44: 3026041H | B44: D0009MC | C44: VILLEURBANNE (69) - SDC LE LULLI
A45: 3027156A | C45: SEYNOD (74) - SST 29 - COLLEGE SAINT FRANCOIS - LES CORDELIERS
A46: 3028742L | B46: D97933J | C46: CRUSEILLES (74) - EHPAD SAINT MAURICE
A47: 3030429F | B47: D33250R | C47: SAINT MARTIN D'HERES (38) - CEMAGREF
A48: 3033682L | C48: SAMOENS (74) - CENTRE DE VACANCES
A49: 3034731S | B49: D00AHTB | C49: CHATILLON SUR CHALARONNE (01) MAISON MEDICALE
A50: 3036853J | B50: D84100Z | C50: ARBENT (01) - COLLEGE JEAN ROSTAND
A51: 3033576Y | B51: D00BLRS | C51: ST GENIS POUILLY (01) - COLLEGE JACQUES PREVERT
A52: 3234
