Workbook

Sheet fichier souhaité
A1: référence | B1: date de début | C1: date de fin | D1: Paris | E1: date de début | F1: date de fin | G1: Lyon | H1: date de début | I1: date de fin | J1: Aix en Provence | K1: date de début | L1: date de fin | M1: Toulouse | N1: date de début | O1: date de fin | P1: Bordeaux | Q1: date de début | R1: date de fin | S1: Nantes | T1: date de début | U1: date de fin | V1: Rennes | W1: date de début | X1: date de fin | Y1: Lille | Z1: date de début | AA1: date de fin | AB1: Strasbourg
A2: A1 | B2: {=IF(ROW()-1>COUNTIF('fichier actuel'!$B$2:$B$84,D$1),"",SMALL(IF(('fichier actuel'!$B$2:$B$84=D$1)*('fichier actuel'!$C$2:$C$84<>""),'fichier actuel'!$C$2:$C$84),ROW()-1))} -> 41554 | C2: {=IF(B2="","",INDEX('fichier actuel'!$D$2:$D$84,MATCH(1,('fichier actuel'!$A$2:$A$84=$A2)*('fichier actuel'!$B$2:$B$84=D$1)*('fichier actuel'!$C$2:$C$84=B2),0)))} -> 41558 | D2: 92 | E2: {=IF(ROW()-1>COUNTIF('fichier actuel'!$B$2:$B$84,G$1),"",SMALL(IF(('fichier actuel'!$B$2:$B$84=G$1)*('fichier actuel'!$C$2:$C$84<>""),'fichier actuel'!$C$2:$C$84),ROW()-1))} -> 41547 | F2: {=IF(E2="","",INDEX('fichier actuel'!$D$2:$D$84,MATCH(1,('fichier actuel'!$A$2:$A$84=$A2)*('fichier actuel'!$B$2:$B$84=G$1)*('fichier actuel'!$C$2:$C$84=E2),0)))} -> 41551 | G2: 69 | H2: {=IF(ROW()-1>COUNTIF('fichier actuel'!$B$2:$B$84,J$1),"",SMALL(IF(('fichier actuel'!$B$2:$B$84=J$1)*('fichier actuel'!$C$2:$C$84<>""),'fichier actuel'!$C$2:$C$84),ROW()-1))} -> 41547 | I2: {=IF(H2="","",INDEX('fichier actuel'!$D$2:$D$84,MATCH(1,('fichier actuel'!$A$2:$A$84=$A2)*('fichier actuel'!$B$2:$B$84=J$1)*('fichier actuel'!$C$2:$C$84=H2),0)))} -> 41551 | J2: 13 | K2: {=IF(ROW()-1>COUNTIF('fichier actuel'!$B$2:$B$84,M$1),"",SMALL(IF(('fichier actuel'!$B$2:$B$84=M$1)*('fichier actuel'!$C$2:$C$84<>""),'fichier actuel'!$C$2:$C$84),ROW()-1))} -> 41561 | L2: {=IF(K2="","",INDEX('fichier actuel'!$D$2:$D$84,MATCH(1,('fichier actuel'!$A$2:$A$84=$A2)*('fichier actuel'!$B$2:$B$84=M$1)*('fichier actuel'!$C$2:$C$84=K2),0)))} -> 41565 | M2: 31 | N2: {=IF(ROW()-1>COUNTIF('fichier actuel'!$B$2:$B$84,P$1),"",SMALL(IF(('fichier actuel'!$B$2:$B$84=P$1)*('fichier actuel'!$C$2:$C$84<>""),'fichier actuel'!$C$2:$C$84),ROW()-1))} -> 41554 | O2: {=IF(N2="","",INDEX('fichier actuel'!$D$2:$D$84,MATCH(1,('fichier actuel'!$A$2:$A$84=$A2)*('fichier actuel'!$B$2:$B$84=P$1)*('fichier actuel'!$C$2:$C$84=N2),0)))} -> 41558 | P2: 33 | Q2: {=IF(ROW()-1>COUNTIF('fichier actuel'!$B$2:$B$84,S$1),"",SMALL(IF(('fichier actuel'!$B$2:$B$84=S$1)*('fichier actuel'!$C$2:$C$84<>""),'fichier actuel'!$C$2:$C$84),ROW()-1))} -> 41547 | R2: {=IF(Q2="","",INDEX('fichier actuel'!$D$2:$D$84,MATCH(1,('fichier actuel'!$A$2:$A$84=$A2)*('fichier actuel'!$B$2:$B$84=S$1)*('fichier actuel'!$C$2:$C$84=Q2),0)))} -> 41551 | S2: 44 | T2: {=IF(ROW()-1>COUNTIF('fichier actuel'!$B$2:$B$84,V$1),"",SMALL(IF(('fichier actuel'!$B$2:$B$84=V$1)*('fichier actuel'!$C$2:$C$84<>""),'fichier actuel'!$C$2:$C$84),ROW()-1))} -> 41547 | U2: {=IF(T2="","",INDEX('fichier actuel'!$D$2:$D$84,MATCH(1,('fichier actuel'!$A$2:$A$84=$A2)*('fichier actuel'!$B$2:$B$84=V$1)*('fichier actuel'!$C$2:$C$84=T2),0)))} -> 41551 | V2: 35 | W2: {=IF(ROW()-1>COUNTIF('fichier actuel'!$B$2:$B$84,Y$1),"",SMALL(IF(('fichier actuel'!$B$2:$B$84=Y$1)*('fichier actuel'!$C$2:$C$84<>""),'fichier actuel'!$C$2:$C$84),ROW()-1))} -> 41596 | X2: {=IF(W2="","",INDEX('fichier actuel'!$D$2:$D$84,MATCH(1,('fichier actuel'!$A$2:$A$84=$A2)*('fichier actuel'!$B$2:$B$84=Y$1)*('fichier actuel'!$C$2:$C$84=W2),0)))} -> 41600 | Y2: 59 | Z2: {=IF(ROW()-1>COUNTIF('fichier actuel'!$B$2:$B$84,AB$1),"",SMALL(IF(('fichier actuel'!$B$2:$B$84=AB$1)*('fichier actuel'!$C$2:$C$84<>""),'fichier actuel'!$C$2:$C$84),ROW()-1))} -> 41596 | AA2: {=IF(Z2="","",INDEX('fichier actuel'!$D$2:$D$84,MATCH(1,('fichier actuel'!$A$2:$A$84=$A2)*('fichier actuel'!$B$2:$B$84=AB$1)*('fichier actuel'!$C$2:$C$84=Z2),0)))} -> 41600 | AB2: 67
A3: A1 | B3: {=IF(ROW()-1>COUNTIF('fichier actuel'!$B$2:$B$84,D$1),"",SMALL(IF(('fichier actuel'!$B$2:$B$84=D$1)*('fichier actuel'!$C$2:$C$84<>""),'fichier actuel'!$C$2:$C$84),ROW()-1))} -> 41561 | C3: {=IF(B3="","",INDEX('fichier actuel'!$D$2:$D$84,MATCH(1,('fichier actuel'!$A$2:$A$84=$A3)*('fichier actuel'!$B$2:$B$84=D$1)*('fichier actuel'!$C$2:$C$84=B3),0)))} -> 41565 | D3: 92 | E3: {=IF(ROW()-1>COUNTIF('fichier actuel'!$B$2:$B$84,G$1),"",SMALL(IF(('fichier actuel'!$B$2:$B$84=G$1)*('fichier actuel'!$C$2:$C$84<>""),'fichier actuel'!$C$2:$C$84),ROW()-1))} -> 41582 | F3: {=IF(E3="","",INDEX('fichier actuel'!$D$2:$D$84,MATCH(1,('fichier actuel'!$A$2:$A$84=$A3)*('fichier actuel'!$B$2:$B$84=G$1)*('fichier actuel'!$C$2:$C$84=E3),0)))} -> 41586 | G3: 69 | H3: {=IF(ROW()-1>COUNTIF('fichier actuel'!$B$2:$B$84,J$1),"",SMALL(IF(('fichier actuel'!$B$2:$B$84=J$1)*('fichier actuel'!$C$2:$C$84<>""),'fichier actuel'!$C$2:$C$84),ROW()-1))} -> 41617 | I3: {=IF(H3="","",INDEX('fichier actuel'!$D$2:$D$84,MATCH(1,('fichier actuel'!$A$2:$A$84=$A3)*('fichier actuel'!$B$2:$B$84=J$1)*('fichier actuel'!$C$2:$C$84=H3),0)))} -> 41621 | J3: 13 | K3: {=IF(ROW()-1>COUNTIF('fichier actuel'!$B$2:$B$84,M$1),"",SMALL(IF(('fichier actuel'!$B$2:$B$84=M$1)*('fichier actuel'!$C$2:$C$84<>""),'fichier actuel'!$C$2:$C$84),ROW()-1))} -> 41617 | L3: {=IF(K3="","",INDEX('fichier actuel'!$D$2:$D$84,MATCH(1,('fichier actuel'!$A$2:$A$84=$A3)*('fichier actuel'!$B$2:$B$84=M$1)*('fichier actuel'!$C$2:$C$84=K3),0)))} -> 41621 | M3: 31 | N3: {=IF(ROW()-1>COUNTIF('fichier actuel'!$B$2:$B$84,P$1),"",SMALL(IF(('fichier actuel'!$B$2:$B$84=P$1)*('fichier actuel'!$C$2:$C$84<>""),'fichier actuel'!$C$2:$C$84),ROW()-1))} -> 41610 | O3: {=IF(N3="","",INDEX('fichier actuel'!$D$2:$D$84,MATCH(1,('fichier actuel'!$A$2:$A$84=$A3)*('fichier actuel'!$B$2:$B$84=P$1)*('fichier actuel'!$C$2:$C$84=N3),0)))} -> 41614 | P3: 33 | Q3: {=IF(ROW()-1>COUNTIF('fichier actuel'!$B$2:$B$84,S$1),"",SMALL(IF(('fichier actuel'!$B$2:$B$84=S$1)*('fichier actuel'!$C$2:$C$84<>""),'fichier actuel'!$C$2:$C$84),ROW()-1))} -> 41603 | R3: {=IF(Q3="","",INDEX('fichier actuel'!$D$2:$D$84,MATCH(1,('fichier actuel'!$A$2:$A$84=$A3)*('fichier actuel'!$B$2:$B$84=S$1)*('fichier actuel'!$C$2:$C$84=Q3),0)))} -> 41607 | S3: 44 | T3: {=IF(ROW()-1>COUNTIF('fichier actuel'!$B$2:$B$84,V$1),"",SMALL(IF(('fichier actuel'!$B$2:$B$84=V$1)*('fichier actuel'!$C$2:$C$84<>""),'fichier actuel'!$C$2:$C$84),ROW()-1))} -> 41603 | U3: {=IF(T3="","",INDEX('fichier actuel'!$D$2:$D$84,MATCH(1,('fichier actuel'!$A$2:$A$84=$A3)*('fichier actuel'!$B$2:$B$84=V$1)*('fichier actuel'!$C$2:$C$84=T3),0)))} -> 41607 | V3: 35 | W3: {=IF(ROW()-1>COUNTIF('fichier actuel'!$B$2:$B$84,Y$1),"",SMALL(IF(('fichier actuel'!$B$2:$B$84=Y$1)*('fichier actuel'!$C$2:$C$84<>""),'fichier actuel'!$C$2:$C$84),ROW()-1))} -> 41666 | X3: {=IF(W3="","",INDEX('fichier actuel'!$D$2:$D$84,MATCH(1,('fichier actuel'!$A$2:$A$84=$A3)*('fichier actuel'!$B$2:$B$84=Y$1)*('fichier actuel'!$C$2:$C$84=W3),0)))} -> 41670 | Y3: 59 | Z3: {=IF(ROW()-1>COUNTIF('fichier actuel'!$B$2:$B$84,AB$1),"",SMALL(IF(('fichier actuel'!$B$2:$B$84=AB$1)*('fichier actuel'!$C$2:$C$84<>""),'fichier actuel'!$C$2:$C$84),ROW()-1))} -> 41680 | AA3: {=IF(Z3="","",INDEX('fichier actuel'!$D$2:$D$84,MATCH(1,('fichier actuel'!$A$2:$A$84=$A3)*('fichier actuel'!$B$2:$B$84=AB$1)*('fichier actuel'!$C$2:$C$84=Z3),0)))} -> 41684 | AB3: 67
A4: A1 | B4: {=IF(ROW()-1>COUNTIF('fichier actuel'!$B$2:$B$84,D$1),"",SMALL(IF(('fichier actuel'!$B$2:$B$84=D$1)*('fichier actuel'!$C$2:$C$84<>""),'fichier actuel'!$C$2:$C$84),ROW()-1))} -> 41568 | C4: {=IF(B4="","",INDEX('fichier actuel'!$D$2:$D$84,MATCH(1,('fichier actuel'!$A$2:$A$84=$A4)*('fichier actuel'!$B$2:$B$84=D$1)*('fichier actuel'!$C$2:$C$84=B4),0)))} -> 41572 | D4: 92 | E4: {=IF(ROW()-1>COUNTIF('fichier actuel'!$B$2:$B$84,G$1),"",SMALL(IF(('fichier actuel'!$B$2:$B$84=G$1)*('fichier actuel'!$C$2:$C$84<>""),'fichier actuel'!$C$2:$C$84),ROW()-1))} -> 41617 | F4: {=IF(E4="","",INDEX('fichier actuel'!$D$2:$D$84,MATCH(1,('fichier actuel'!$A$2:$A$84=$A4)*('fichier actuel'!$B$2:$B$84=G$1)*('fichier actuel'!$C$2:$C$84=E4),0)))} -> 41621 | G4: 69 | H4: {=IF(ROW()-1>COUNTIF('fichier actuel'!$B$2:$B$84,J$1),"",SMALL(IF(('fichier actuel'!$B$2:$B$84=J$1)*('fichier actuel'!$C$2:$C$84<>""),'fichier actuel'!$C$2:$C$84),ROW()-1))} -> 41666 | I4: {=IF(H4="","",INDEX('fichier actuel'!$D$2:$D$84,MATCH(1,('fichier actuel'!$A$2:$A$84=$A4)*('fichier actuel'!$B$2:$B$84=J$1)*('fichier actuel'!$C$2:$C$84=H4),0)))} -> 41670 | J4: 13 | K4: {=IF(ROW()-1>COUNTIF('fichier actuel'!$B$2:$B$84,M$1),"",SMALL(IF(('fichier actuel'!$B$2:$B$84=M$1)*('fichier actuel'!$C$2:$C$84<>""),'fichier actuel'!$C$2:$C$84),ROW()-1))} -> 41652 | L4: {=IF(K4="","",INDEX('fichier actuel'!$D$2:$D$84,MATCH(1,('fichier actuel'!$A$2:$A$84=$A4)*('fichier actuel'!$B$2:$B$84=M$1)*('fichier actuel'!$C$2:$C$84=K4),0)))} -> 41656 | M4: 31 | N4: {=IF(ROW()-1>COUNTIF('fichier actuel'!$B$2:$B$84,P$1),"",SMALL(IF(('fichier actuel'!$B$2:$B$84=P$1)*('fichier actuel'!$C$2:$C$84<>""),'fichier actuel'!$C$2:$C$84),ROW()-1))} -> 41687 | O4: {=IF(N4="","",INDEX('fichier actuel'!$D$2:$D$84,MATCH(1,('fichier actuel'!$A$2:$A$84=$A4)*('fichier actuel'!$B$2:$B$84=P$1)*('fichier actuel'!$C$2:$C$84=N4),0)))} -> 41691 | P4: 33 | Q4: {=IF(ROW()-1>COUNTIF('fichier actuel'!$B$2:$B$84,S$1),"",SMALL(IF(('fichier actuel'!$B$2:$B$84=S$1)*('fichier actuel'!$C$2:$C$84<>""),'fichier actuel'!$C$2:$C$84),ROW()-1))} -> 41659 | R4: {=IF(Q4="","",INDEX('fichier actuel'!$D$2:$D$84,MATCH(1,('fichier actuel'!$A$2:$A$84=$A4)*('fichier actuel'!$B$2:$B$84=S$1)*('fichier actuel'!$C$2:$C$84=Q4),0)))} -> 41663 | S4: 44 | T4: {=IF(ROW()-1>COUNTIF('fichier actuel'!$B$2:$B$84,V$1),"",SMALL(IF(('fichier actuel'!$B$2:$B$84=V$1)*('fichier actuel'!$C$2:$C$84<>""),'fichier actuel'!$C$2:$C$84),ROW()-1))} -> 41659 | U4: {=IF(T4="","",INDEX('fichier actuel'!$D$2:$D$84,MATCH(1,('fichier actuel'!$A$2:$A$84=$A4)*('fichier actuel'!$B$2:$B$84=V$1)*('fichier actuel'!$C$2:$C$84=T4),0)))} -> 41663 | V4: 35 | W4: {=IF(ROW()-1>COUNTIF('fichier actuel'!$B$2:$B$84,Y$1),"",SMALL(IF(('fichier actuel'!$B$2:$B$84=Y$1)*('fichier actuel'!$C$2:$C$84<>""),'fichier actuel'!$C$2:$C$84),ROW()-1))} -> 41722 | X4: {=IF(W4="","",INDEX('fichier actuel'!$D$2:$D$84,MATCH(1,('fichier actuel'!$A$2:$A$84=$A4)*('fichier actuel'!$B$2:$B$84=Y$1)*('fichier actuel'!$C$2:$C$84=W4),0)))} -> 41726 | Y4: 59 | Z4: {=IF(ROW()-1>COUNTIF('fichier actuel'!$B$2:$B$84,AB$1),"",SMALL(IF(('fichier actuel'!$B$2:$B$84=AB$1)*('fichier actuel'!$C$2:$C$84<>""),'fichier actuel'!$C$2:$C$84),ROW()-1))} -> 41736 | AA4: {=IF(Z4="","",INDEX('fichier actuel'!$D$2:$D$84,MATCH(1,('fichier actuel'!$A$2:$A$84=$A4)*('fichier actuel'!$B$2:$B$84=AB$1)*('fichier actuel'!$C$2:$C$84=Z4),0)))} -> 41740 | AB4: 67
A5: A1 | B5: {=IF(ROW()-1>COUNTIF('fichier actuel'!$B$2:$B$84,D$1),"",SMALL(IF(('fichier actuel'!$B$2:$B$84=D$1)*('fichier actuel'!$C$2:$C$84<>""),'fichier actuel'!$C$2:$C$84),ROW()-1))} -> 41582 | C5: {=IF(B5="","",INDEX('fichier actuel'!$D$2:$D$84,MATCH(1,('fichier actuel'!$A$2:$A$84=$A5)*('fichier actuel'!$B$2:$B$84=D$1)*('fichier actuel'!$C$2:$C$84=B5),0)))} -> 41586 | D5: 92 | E5: {=IF(ROW()-1>COUNTIF('fichier actuel'!$B$2:$B$84,G$1),"",SMALL(IF(('fichier actuel'!$B$2:$B$84=G$1)*('fichier actuel'!$C$2:$C$84<>""),'fichier actuel'!$C$2:$C$84),ROW()-1))} -> 41673 | F5: {=IF(E5="","",INDEX('fichier actuel'!$D$2:$D$84,MATCH(1,('fichier actuel'!$A$2:$A$84=$A5)*('fichier actuel'!$B$2:$B$84=G$1)*('fichier actuel'!$C$2:$C$84=E5),0)))} -> 41677 | G5: 69 | H5: {=IF(ROW()-1>COUNTIF('fichier actuel'!$B$2:$B$84,J$1),"",SMALL(IF(('fichier actuel'!$B$2:$B$84=J$1)*('fichier actuel'!$C$2:$C$84<>""),'fichier actuel'!$C$2:$C$84),ROW()-1))} -> 41729 | I5: {=IF(H5="","",INDEX('fichier actuel'!$D$2:$D$84,MATCH(1,('fichier actuel'!$A$2:$A$84=$A5)*('fichier actuel'!$B$2:$B$84=J$1)*('fichier actuel'!$C$2:$C$84=H5),0)))} -> 41733 | J5: 13 | K5: {=IF(ROW()-1>COUNTIF('fichier actuel'!$B$2:$B$84,M$1),"",SMALL(IF(('fichier actuel'!$B$2:$B$84=M$1)*('fichier actuel'!$C$2:$C$84<>""),'fichier actuel'!$C$2:$C$84),ROW()-1))} -> 41722 | L5: {=IF(K5="","",INDEX('fichier actuel'!$D$2:$D$84,MATCH(1,('fichier actuel'!$A$2:$A$84=$A5)*('fichier actuel'!$B$2:$B$84=M$1)*('fichier actuel'!$C$2:$C$84=K5),0)))} -> 41726 | M5: 31 | N5: {=IF(ROW()-1>COUNTIF('fichier actuel'!$B$2:$B$84,P$1),"",SMALL(IF(('fichier actuel'!$B$2:$B$84=P$1)*('fichier actuel'!$C$2:$C$84<>""),'fichier actuel'!$C$2:$C$84),ROW()-1))} -> 41743 | O5: {=IF(N5="","",INDEX('fichier actuel'!$D$2:$D$84,MATCH(1,('fichier actuel'!$A$2:$A$84=$A5)*('fichier actuel'!$B$2:$B$84=P$1)*('fichier actuel'!$C$2:$C$84=N5),0)))} -> 41747 | P5: 33 | Q5: {=IF(ROW()-1>COUNTIF('fichier actuel'!$B$2:$B$84,S$1),"",SMALL(IF(('fichier actuel'!$B$2:$B$84=S$1)*('fichier actuel'!$C$2:$C$84<>""),'fichier actuel'!$C$2:$C$84),ROW()-1))} -> 41736 | R5: {=IF(Q5="","",INDEX('fichier actuel'!$D$2:$D$84,MATCH(1,('fichier actuel'!$A$2:$A$84=$A5)*('fichier actuel'!$B$2:$B$84=S$1)*('fichier actuel'!$C$2:$C$84=Q5),0)))} -> 41740 | S5: 44 | T5: {=IF(ROW()-1>COUNTIF('fichier actuel'!$B$2:$B$84,V$1),"",SMALL(IF(('fichier actuel'!$B$2:$B$84=V$1)*('fichier actuel'!$C$2:$C$84<>""),'fichier actuel'!$C$2:$C$84),ROW()-1))} -> 41736 | U5: {=IF(T5="","",INDEX('fichier actuel'!$D$2:$D$84,MATCH(1,('fichier actuel'!$A$2:$A$84=$A5)*('fichier actuel'!$B$2:$B$84=V$1)*('fichier actuel'!$C$2:$C$84=T5),0)))} -> 41740 | V5: 35 | W5: {=IF(ROW()-1>COUNTIF('fichier actuel'!$B$2:$B$84,Y$1),"",SMALL(IF(('fichier actuel'!$B$2:$B$84=Y$1)*('fichier actuel'!$C$2:$C$84<>""),'fichier actuel'!$C$2:$C$84),ROW()-1))} -> 41792 | X5: {=IF(W5="","",INDEX('fichier actuel'!$D$2:$D$84,MATCH(1,('fichier actuel'!$A$2:$A$84=$A5)*('fichier actuel'!$B$2:$B$84=Y$1)*('fichier actuel'!$C$2:$C$84=W5),0)))} -> 41796 | Y5: 59 | Z5: {=IF(ROW()-1>COUNTIF('fichier actuel'!$B$2:$B$84,AB$1),"",SMALL(IF(('fichier actuel'!$B$2:$B$84=AB$1)*('fichier actuel'!$C$2:$C$84<>""),'fichier actuel'!$C$2:$C$84),ROW()-1))} -> 41806 | AA5: {=IF(Z5="","",INDEX('fichier actuel'!$D$2:$D$84,MATCH(1,('fichier actuel'!$A$2:$A$84=$A5)*('fichier actuel'!$B$2:$B$84=AB$1)*('fichier actuel'!$C$2:$C$84=Z5),0)))} -> 41810 | AB5: 67
A6: A1 | B6: {=IF(ROW()-1>COUNTIF('fichier actuel'!$B$2:$B$84,D$1),"",SMALL(IF(('fichier actuel'!$B$2:$B$84=D$1)*('fichier actuel'!$C$2:$C$84<>""),'fichier actuel'!$C$2:$C$84),ROW()-1))} -> 41596 | C6: {=IF(B6="","",INDEX('fichier actuel'!$D$2:$D$84,MATCH(1,('fichier actuel'!$A$2:$A$84=$A6)*('fichier actuel'!$B$2:$B$84=D$1)*('fichier actuel'!$C$2:$C$84=B6),0)))} -> 41600 | D6: 92 | E6: {=IF(ROW()-1>COUNTIF('fichier actuel'!$B$2:$B$84,G$1),"",SMALL(IF(('fichier actuel'!$B$2:$B$84=G$1)*('fichier actuel'!$C$2:$C$84<>""),'fichier actuel'!$C$2:$C$84),ROW()-1))} -> 41736 | F6: {=IF(E6="","",INDEX('fichier actuel'!$D$2:$D$84,MATCH(1,('fichier actuel'!$A$2:$A$84=$A6)*('fichier actuel'!$B$2:$B$84=G$1)*('fichier actuel'!$C$2:$C$84=E6),0)))} -> 41740 | G6: 69 | H6: {=IF(ROW()-1>COUNTIF('fichier actuel'!$B$2:$B$84,J$1),"",SMALL(IF(('fichier actuel'!$B$2:$B$84=J$1)*('fichier actuel'!$C$2:$C$84<>""),'fichier actuel'!$C$2:$C$84),ROW()-1))} -> 41806 | I6: {=IF(H6="","",INDEX('fichier actuel'!$D$2:$D$84,MATCH(1,('fichier actuel'!$A$2:$A$84=$A6)*('fichier actuel'!$B$2:$B$84=J$1)*('fichier actuel'!$C$2:$C$84=H6),0)))} -> 41810 | J6: 13 | K6: {=IF(ROW()-1>COUNTIF('fichier actuel'!$B$2:$B$84,M$1),"",SMALL(IF(('fichier actuel'!$B$2:$B$84=M$1)*('fichier actuel'!$C$2:$C$84<>""),'fichier actuel'!$C$2:$C$84),ROW()-1))} -> 41792 | L6: {=IF(K6="","",INDEX('fichier actuel'!$D$2:$D$84,MATCH(1,('fichier actuel'!$A$2:$A$84=$A6)*('fichier actuel'!$B$2:$B$84=M$1)*('fichier actuel'!$C$2:$C$84=K6),0)))} -> 41796 | M6: 31 | N6: {=IF(ROW()-1>COUNTIF('fichier actuel'!$B$2:$B$84,P$1),"",SMALL(IF(('fichier actuel'!$B$2:$B$84=P$1)*('fichier actuel'!$C$2:$C$84<>""),'fichier actuel'!$C$2:$C$84),ROW()-1))} -> 41806 | O6: {=IF(N6="","",INDEX('fichier actuel'!$D$2:$D$84,MATCH(1,('fichier actuel'!$A$2:$A$84=$A6)*('fichier actuel'!$B$2:$B$84=P$1)*('fichier actuel'!$C$2:$C$84=N6),0)))} -> 41810 | P6: 33 | Q6: {=IF(ROW()-1>COUNTIF('fichier actuel'!$B$2:$B$84,S$1),"",SMALL(IF(('fichier actuel'!$B$2:$B$84=S$1)*('fichier actuel'!$C$2:$C$84<>""),'fichier actuel'!$C$2:$C$84),ROW()-1))} -> 41806 | R6: {=IF(Q6="","",INDEX('fichier actuel'!$D$2:$D$84,MATCH(1,('fichier actuel'!$A$2:$A$84=$A6)*('fichier actuel'!$B$2:$B$84=S$1)*('fichier actuel'!$C$2:$C$84=Q6),0)))} -> 41810 | S6: 44 | T6: {=IF(ROW()-1>COUNTIF('fichier actuel'!$B$2:$B$84,V$1),"",SMALL(IF(('fichier actuel'!$B$2:$B$84=V$1)*('fichier actuel'!$C$2:$C$84<>""),'fichier actuel'!$C$2:$C$84),ROW()-1))} -> 41806 | U6: {=IF(T6="","",INDEX('fichier actuel'!$D$2:$D$84,MATCH(1,('fichier actuel'!$A$2:$A$84=$A6)*('fichier actuel'!$B$2:$B$84=V$1)*('fichier actuel'!$C$2:$C$84=T6),0)))} -> 41810 | V6: 35 | W6: {=IF(ROW()-1>COUNTIF('fichier actuel'!$B$2:$B$84,Y$1),"",SMALL(IF(('fichier actuel'!$B$2:$B$84=Y$1)*('fichier actuel'!$C$2:$C$84<>""),'fichier actuel'!$C$2:$C$84),ROW()-1))} -> 41904 | X6: {=IF(W6="","",INDEX('fichier actuel'!$D$2:$D$84,MATCH(1,('fichier actuel'!$A$2:$A$84=$A6)*('fichier actuel'!$B$2:$B$84=Y$1)*('fichier actuel'!$C$2:$C$84=W6),0)))} -> 41908 | Y6: 59 | Z6: {=IF(ROW()-1>COUNTIF('fichier actuel'!$B$2:$B$84,AB$1),"",SMALL(IF(('fichier actuel'!$B$2:$B$84=AB$1)*('fichier actuel'!$C$2:$C$84<>""),'fichier actuel'!$C$2:$C$84),ROW()-1))} -> 41918 | AA6: {=IF(Z6="","",INDEX('fichier actuel'!$D$2:$D$84,MATCH(1,('fichier actuel'!$A$2:$A$84=$A6)*('fichier actuel'!$B$2:$B$84=AB$1)*('fichier actuel'!$C$2:$C$84=Z6),0)))} -> 41922 | AB6: 67
A7: A1 | B7: {=IF(ROW()-1>COUNTIF('fichier actuel'!$B$2:$B$84,D$1),"",SMALL(IF(('fichier actuel'!$B$2:$B$84=D$1)*('fichier actuel'!$C$2:$C$84<>""),'fichier actuel'!$C$2:$C$84),ROW()-1))} -> 41603 | C7: {=IF(B7="","",INDEX('fichier actuel'!$D$2:$D$84,MATCH(1,('fichier actuel'!$A$2:$A$84=$A7)*('fichier actuel'!$B$2:$B$84=D$1)*('fichier actuel'!$C$2:$C$84=B7),0)))} -> 41607 | D7: 92 | E7: {=IF(ROW()-1>COUNTIF('fichier actuel'!$B$2:$B$84,G$1),"",SMALL(IF(('fichier actuel'!$B$2:$B$84=G$1)*('fichier actuel'!$C$2:$C$84<>""),'fichier actuel'!$C$2:$C$84),ROW()-1))} -> 41813 | F7: {=IF(E7="","",INDEX('fichier actuel'!$D$2:$D$84,MATCH(1,('fichier actuel'!$A$2:$A$84=$A7)*('fichier actuel'!$B$2:$B$84=G$1)*('fichier actuel'!$C$2:$C$84=E7),0)))} -> 41817 | G7: 69 | H7: {=IF(ROW()-1>COUNTIF('fichier actuel'!$B$2:$B$84,J$1),"",SMALL(IF(('fichier actuel'!$B$2:$B$84=J$1)*('fichier actuel'!$C$2:$C$84<>""),'fichier actuel'!$C$2:$C$84),ROW()-1))} -> 41890 | I7: {=IF(H7="","",INDEX('fichier actuel'!$D$2:$D$84,MATCH(1,('fichier actuel'!$A$2:$A$84=$A7)*('fichier actuel'!$B$2:$B$84=J$1)*('fichier actuel'!$C$2:$C$84=H7),0)))} -> 41894 | J7: 13 | K7: {=IF(ROW()-1>COUNTIF('fichier actuel'!$B$2:$B$84,M$1),"",SMALL(IF(('fichier actuel'!$B$2:$B$84=M$1)*('fichier actuel'!$C$2:$C$84<>""),'fichier actuel'!$C$2:$C$84),ROW()-1))} -> 41904 | L7: {=IF(K7="","",INDEX('fichier actuel'!$D$2:$D$84,MATCH(1,('fichier actuel'!$A$2:$A$84=$A7)*('fichier actuel'!$B$2:$B$84=M$1)*('fichier actuel'!$C$2:$C$84=K7),0)))} -> 41908 | M7: 31 | N7: {=IF(ROW()-1>COUNTIF('fichier actuel'!$B$2:$B$84,P$1),"",SMALL(IF(('fichier actuel'!$B$2:$B$84=P$1)*('fichier actuel'!$C$2:$C$84<>""),'fichier actuel'!$C$2:$C$84),ROW()-1))} -> 41904 | O7: {=IF(N7="","",INDEX('fichier actuel'!$D$2:$D$84,MATCH(1,('fichier actuel'!$A$2:$A$84=$A7)*('fichier actuel'!$B$2:$B$84=P$1)*('fichier actuel'!$C$2:$C$84=N7),0)))} -> 41908 | P7: 33 | Q7: {=IF(ROW()-1>COUNTIF('fichier actuel'!$B$2:$B$84,S$1),"",SMALL(IF(('fichier actuel'!$B$2:$B$84=S$1)*('fichier actuel'!$C$2:$C$84<>""),'fichier actuel'!$C$2:$C$84),ROW()-1))} -> 41925 | R7: {=IF(Q7="","",INDEX('fichier actuel'!$D$2:$D$84,MATCH(1,('fichier actuel'!$A$2:$A$84=$A7)*('fichier actuel'!$B$2:$B$84=S$1)*('fichier actuel'!$C$2:$C$84=Q7),0)))} -> 41929 | S7: 44 | T7: {=IF(ROW()-1>COUNTIF('fichier actuel'!$B$2:$B$84,V$1),"",SMALL(IF(('fichier actuel'!$B$2:$B$84=V$1)*('fichier actuel'!$C$2:$C$84<>""),'fichier actuel'!$C$2:$C$84),ROW()-1))} -> 41925 | U7: {=IF(T7="","",INDEX('fichier actuel'!$D$2:$D$84,MATCH(1,('fichier actuel'!$A$2:$A$84=$A7)*('fichier actuel'!$B$2:$B$84=V$1)*('fichier actuel'!$C$2:$C$84=T7),0)))} -> 41929 | V7: 35 | W7: {=IF(ROW()-1>COUNTIF('fichier actuel'!$B$2:$B$84,Y$1),"",SMALL(IF(('fichier actuel'!$B$2:$B$84=Y$1)*('fichier actuel'!$C$2:$C$84<>""),'fichier actuel'!$C$2:$C$84),ROW()-1))} -> 41967 | X7: {=IF(W7="","",INDEX('fichier actuel'!$D$2:$D$84,MATCH(1,('fichier actuel'!$A$2:$A$84=$A7)*('fichier actuel'!$B$2:$B$84=Y$1)*('fichier actuel'!$C$2:$C$84=W7),0)))} -> 41971 | Y7: 59 | Z7: {=IF(ROW()-1>COUNTIF('fichier actuel'!$B$2:$B$84,AB$1),"",SMALL(IF(('fichier actuel'!$B$2:$B$84=AB$1)*('fichier actuel'!$C$2:$C$84<>""),'fichier actuel'!$C$2:$C$84),ROW()-1))} -> 41981 | AA7: {=IF(Z7="","",INDEX('fichier actuel'!$D$2:$D$84,MATCH(1,('fichier actuel'!$A$2:$A$84=$A7)*('fichier actuel'!$B$2:$B$84=AB$1)*('fichier actuel'!$C$2:$C$84=Z7),0)))} -> 41985 | AB7: 67
A8: A1 | B8: {=IF(ROW()-1>COUNTIF('fichier actuel'!$B$2:$B$84,D$1),"",SMALL(IF(('fichier actuel'!$B$2:$B$84=D$1)*('fichier actuel'!$C$2:$C$84<>""),'fichier actuel'!$C$2:$C$84),ROW()-1))} -> 41610 | C8: {=IF(B8="","",INDEX('fichier actuel'!$D$2:$D$84,MATCH(1,('fichier actuel'!$A$2:$A$84=$A8)*('fichier actuel'!$B$2:$B$84=D$1)*('fichier actuel'!$C$2:$C$84=B8),0)))} -> 41614 | D8: 92 | E8: {=IF(ROW()-1>COUNTIF('fichier actuel'!$B$2:$B$84,G$1),"",SMALL(IF(('fichier actuel'!$B$2:$B$84=G$1)*('fichier actuel'!$C$2:$C$84<>""),'fichier actuel'!$C$2:$C$84),ROW()-1))} -> 41890 | F8: {=IF(E8="","",INDEX('fichier actuel'!$D$2:$D$84,MATCH(1,('fichier actuel'!$A$2:$A$84=$A8)*('fichier actuel'!$B$2:$B$84=G$1)*('fichier actuel'!$C$2:$C$84=E8),0)))} -> 41894 | G8: 69 | H8: {=IF(ROW()-1>COUNTIF('fichier actuel'!$B$2:$B$84,J$1),"",SMALL(IF(('fichier actuel'!$B$2:$B$84=J$1)*('fichier actuel'!$C$2:$C$84<>""),'fichier actuel'!$C$2:$C$84),ROW()-1))} -> 41939 | I8: {=IF(H8="","",INDEX('fichier actuel'!$D$2:$D$84,MATCH(1,('fichier actuel'!$A$2:$A$84=$A8)*('fichier actuel'!$B$2:$B$84=J$1)*('fichier actuel'!$C$2:$C$84=H8),0)))} -> 41943 | J8: 13 | K8: {=IF(ROW()-1>COUNTIF('fichier actuel'!$B$2:$B$84,M$1),"",SMALL(IF(('fichier actuel'!$B$2:$B$84=M$1)*('fichier actuel'!$C$2:$C$84<>""),'fichier actuel'!$C$2:$C$84),ROW()-1))} -> 41960 | L8: {=IF(K8="","",INDEX('fichier actuel'!$D$2:$D$84,MATCH(1,('fichier actuel'!$A$2:$A$84=$A8)*('fichier actuel'!$B$2:$B$84=M$1)*('fichier actuel'!$C$2:$C$84=K8),0)))} -> 41964 | M8: 31 | N8: {=IF(ROW()-1>COUNTIF('fichier actuel'!$B$2:$B$84,P$1),"",SMALL(IF(('fichier actuel'!$B$2:$B$84=P$1)*('fichier actuel'!$C$2:$C$84<>""),'fichier actuel'!$C$2:$C$84),ROW()-1))} -> 41960 | O8: {=IF(N8="","",INDEX('fichier actuel'!$D$2:$D$84,MATCH(1,('fichier actuel'!$A$2:$A$84=$A8)*('fichier actuel'!$B$2:$B$84=P$1)*('fichier actuel'!$C$2:$C$84=N8),0)))} -> 41964 | P8: 33 | Q8: {=IF(ROW()-1>COUNTIF('fichier actuel'!$B$2:$B$84,S$1),"",SMALL(IF(('fichier actuel'!$B$2:$B$84=S$1)*('fichier actuel'!$C$2:$C$84<>""),'fichier actuel'!$C$2:$C$84),ROW()-1))} -> 41974 | R8: {=IF(Q8="","",INDEX('fichier actuel'!$D$2:$D$84,MATCH(1,('fichier actuel'!$A$2:$A$84=$A8)*('fichier actuel'!$B$2:$B$84=S$1)*('fichier actuel'!$C$2:$C$84=Q8),0)))} -> 41978 | S8: 44 | T8: {=IF(ROW()-1>COUNTIF('fichier actuel'!$B$2:$B$84,V$1),"",SMALL(IF(('fichier actuel'!$B$2:$B$84=V$1)*('fichier actuel'!$C$2:$C$84<>""),'fichier actuel'!$C$2:$C$84),ROW()-1))} -> 41974 | U8: {=IF(T8="","",INDEX('fichier actuel'!$D$2:$D$84,MATCH(1,('fichier actuel'!$A$2:$A$84=$A8)*('fichier actuel'!$B$2:$B$84=V$1)*('fichier actuel'!$C$2:$C$84=T8),0)))} -> 41978 | V8: 35 | W8: {=IF(ROW()-1>COUNTIF('fichier actuel'!$B$2:$B$84,Y$1),"",SMALL(IF(('fichier actuel'!$B$2:$B$84=Y$1)*('fichier actuel'!$C$2:$C$84<>""),'fichier actuel'!$C$2:$C$84),ROW()-1))} | X8: {=IF(W8="","",INDEX('fichier actuel'!$D$2:$D$84,MATCH(1,('fichier actuel'!$A$2:$A$84=$A8)*('fichier actuel'!$B$2:$B$84=Y$1)*('fichier actuel'!$C$2:$C$84=W8),0)))} | Y8: 59 | Z8: {=IF(ROW()-1>COUNTIF('fichier actuel'!$B$2:$B$84,AB$1),"",SMALL(IF(('fichier actuel'!$B$2:$B$84=AB$1)*('fichier actuel'!$C$2:$C$84<>""),'fichier actuel'!$C$2:$C$84),ROW()-1))} | AA8: {=IF(Z8="","",INDEX('fichier actuel'!$D$2:$D$84,MATCH(1,('fichier actuel'!$A$2:$A$84=$A8)*('fichier actuel'!$B$2:$B$84=AB$1)*('fichier actuel'!$C$2:$C$84=Z8),0)))} | AB8: 67
A9: A1 | B9: {=IF(ROW()-1>COUNTIF('fichier actuel'!$B$2:$B$84,D$1),"",SMALL(IF(('fichier actuel'!$B$2:$B$84=D$1)*('fichier actuel'!$C$2:$C$84<>""),'fichier actuel'!$C$2:$C$84),ROW()-1))} -> 41617 | C9: {=IF(B9="","",INDEX('fichier actuel'!$D$2:$D$84,MATCH(1,('fichier actuel'!$A$2:$A$84=$A9)*('fichier actuel'!$B$2:$B$84=D$1)*('fichier actuel'!$C$2:$C$84=B9),0)))} -> 41621 | D9: 92 | E9: {=IF(ROW()-1>COUNTIF('fichier actuel'!$B$2:$B$84,G$1),"",SMALL(IF(('fichier actuel'!$B$2:$B$84=G$1)*('fichier actuel'!$C$2:$C$84<>""),'fichier actuel'!$C$2:$C$84),ROW()-1))} -> 41946 | F9: {=IF(E9="","",INDEX('fichier actuel'!$D$2:$D$84,MATCH(1,('fichier actuel'!$A$2:$A$84=$A9)*('fichier actuel'!$B$2:$B$84=G$1)*('fichier actuel'!$C$2:$C$84=E9),0)))} -> 41950 | G9: 69 | H9: {=IF(ROW()-1>COUNTIF('fichier actuel'!$B$2:$B$84,J$1),"",SMALL(IF(('fichier actuel'!$B$2:$B$84=J$1)*('fichier actuel'!$C$2:$C$84<>""),'fichier actuel'!$C$2:$C$84),ROW()-1))} | I9: {=IF(H9="","",INDEX('fichier actuel'!$D$2:$D$84,MATCH(1,('fichier actuel'!$A$2:$A$84=$A9)*('fichier actuel'!$B$2:$B$84=J$1)*('fichier actuel'!$C$2:$C$84=H9),0)))} | J9: 13 | K9: {=IF(ROW()-1>COUNTIF('fichier actuel'!$B$2:$B$84,M$1),"",SMALL(IF(('fichier actuel'!$B$2:$B$84=M$1)*('fichier actuel'!$C$2:$C$84<>""),'fichier actuel'!$C$2:$C$84),ROW()-1))} | L9: {=IF(K9="","",INDEX('fichier actuel'!$D$2:$D$84,MATCH(1,('fichier actuel'!$A$2:$A$84=$A9)*('fichier actuel'!$B$2:$B$84=M$1)*('fichier actuel'!$C$2:$C$84=K9),0)))} | M9: 31 | N9: {=IF(ROW()-1>COUNTIF('fichier actuel'!$B$2:$B$84,P$1),"",SMALL(IF(('fichier actuel'!$B$2:$B$84=P$1)*('fichier actuel'!$C$2:$C$84<>""),'fichier actuel'!$C$2:$C$84),ROW()-1))} | O9: {=IF(N9="","",INDEX('fichier actuel'!$D$2:$D$84,MATCH(1,('fichier actuel'!$A$2:$A$84=$A9)*('fichier actuel'!$B$2:$B$84=P$1)*('fichier actuel'!$C$2:$C$84=N9),0)))} | P9: 33 | Q9: {=IF(ROW()-1>COUNTIF('fichier actuel'!$B$2:$B$84,S$1),"",SMALL(IF(('fichier actuel'!$B$2:$B$84=S$1)*('fichier actuel'!$C$2:$C$84<>""),'fichier actuel'!$C$2:$C$84),ROW()-1))} | R9: {=IF(Q9="","",INDEX('fichier actuel'!$D$2:$D$84,MATCH(1,('fichier actuel'!$A$2:$A$84=$A9)*('fichier actuel'!$B$2:$B$84=S$1)*('fichier actuel'!$C$2:$C$84=Q9),0)))} | S9: 44 | T9: {=IF(ROW()-1>COUNTIF('fichier actuel'!$B$2:$B$84,V$1),"",SMALL(IF(('fichier actuel'!$B$2:$B$84=V$1)*('fichier actuel'!$C$2:$C$84<>""),'fichier actuel'!$C$2:$C$84),ROW()-1))} | U9: {=IF(T9="","",INDEX('fichier actuel'!$D$2:$D$84,MATCH(1,('fichier actuel'!$A$2:$A$84=$A9)*('fichier actuel'!$B$2:$B$84=V$1)*('fichier actuel'!$C$2:$C$84=T9),0)))} | V9: 35 | W9: {=IF(ROW()-1>COUNTIF('fichier actuel'!$B$2:$B$84,Y$1),"",SMALL(IF(('fichier actuel'!$B$2:$B$84=Y$1)*('fichier actuel'!$C$2:$C$84<>""),'fichier actuel'!$C$2:$C$84),ROW()-1))} | X9: {=IF(W9="","",INDEX('fichier actuel'!$D$2:$D$84,MATCH(1,('fichier actuel'!$A$2:$A$84=$A9)*('fichier actuel'!$B$2:$B$84=Y$1)*('fichier actuel'!$C$2:$C$84=W9),0)))} | Y9: 59 | Z9: {=IF(ROW()-1>COUNTIF('fichier actuel'!$B$2:$B$84,AB$1),"",SMALL(IF(('fichier actuel'!$B$2:$B$84=AB$1)*('fichier actuel'!$C$2:$C$84<>""),'fichier actuel'!$C$2:$C$84),ROW()-1))} | AA9: {=IF(Z9="","",INDEX('fichier actuel'!$D$2:$D$84,MATCH(1,('fichier actuel'!$A$2:$A$84=$A9)*('fichier actuel'!$B$2:$B$84=AB$1)*('fichier actuel'!$C$2:$C$84=Z9),0)))} | AB9: 67
A10: A1 | B10: {=IF(ROW()-1>COUNTIF('fichier actuel'!$B$2:$B$84,D$1),"",SMALL(IF(('fichier actuel'!$B$2:$B$84=D$1)*('fichier actuel'!$C$2:$C$84<>""),'fichier actuel'!$C$2:$C$84),ROW()-1))} -> 41624 | C10: {=IF(B10="","",INDEX('fichier actuel'!$D$2:$D$84,MATCH(1,('fichier actuel'!$A$2:$A$84=$A10)*('fichier actuel'!$B$2:$B$84=D$1)*('fichier actuel'!$C$2:$C$84=B10),0)))} -> 41628 | D10: 92 | E10: {=IF(ROW()-1>COUNTIF('fichier actuel'!$B$2:$B$84,G$1),"",SMALL(IF(('fichier actuel'!$B$2:$B$84=G$1)*('fichier actuel'!$C$2:$C$84<>""),'fichier actuel'!$C$2:$C$84),ROW()-1))} -> 41981 | F10: {=IF(E10="","",INDEX('fichier actuel'!$D$2:$D$84,MATCH(1,('fichier actuel'!$A$2:$A$84=$A10)*('fichier actuel'!$B$2:$B$84=G$1)*('fichier actuel'!$C$2:$C$84=E10),0)))} -> 41985 | G10: 69 | H10: {=IF(ROW()-1>COUNTIF('fichier actuel'!$B$2:$B$84,J$1),"",SMALL(IF(('fichier actuel'!$B$2:$B$84=J$1)*('fichier actuel'!$C$2:$C$84<>""),'fichier actuel'!$C$2:$C$84),ROW()-1))} | I10: {=IF(H10="","",INDEX('fichier actuel'!$D$2:$D$84,MATCH(1,('fichier actuel'!$A$2:$A$84=$A10)*('fichier actuel'!$B$2:$B$84=J$1)*('fichier actuel'!$C$2:$C$84=H10),0)))} | J10: 13 | K10: {=IF(ROW()-1>COUNTIF('fichier actuel'!$B$2:$B$84,M$1),"",SMALL(IF(('fichier actuel'!$B$2:$B$84=M$1)*('fichier actuel'!$C$2:$C$84<>""),'fichier actuel'!$C$2:$C$84),ROW()-1))} | L10: {=IF(K10="","",INDEX('fichier actuel'!$D$2:$D$84,MATCH(1,('fichier actuel'!$A$2:$A$84=$A10)*('fichier actuel'!$B$2:$B$84=M$1)*('fichier actuel'!$C$2:$C$84=K10),0)))} | M10: 31 | N10: {=IF(ROW()-1>COUNTIF('fichier actuel'!$B$2:$B$84,P$1),"",SMALL(IF(('fichier actuel'!$B$2:$B$84=P$1)*('fichier actuel'!$C$2:$C$84<>""),'fichier actuel'!$C$2:$C$84),ROW()-1))} | O10: {=IF(N10="","",INDEX('fichier actuel'!$D$2:$D$84,MATCH(1,('fichier actuel'!$A$2:$A$84=$A10)*('fichier actuel'!$B$2:$B$84=P$1)*('fichier actuel'!$C$2:$C$84=N10),0)))} | P10: 33 | Q10: {=IF(ROW()-1>COUNTIF('fichier actuel'!$B$2:$B$84,S$1),"",SMALL(IF(('fichier actuel'!$B$2:$B$84=S$1)*('fichier actuel'!$C$2:$C$84<>""),'fichier actuel'!$C$2:$C$84),ROW()-1))} | R10: {=IF(Q10="","",INDEX('fichier actuel'!$D$2:$D$84,MATCH(1,('fichier actuel'!$A$2:$A$84=$A10)*('fichier actuel'!$B$2:$B$84=S$1)*('fichier actuel'!$C$2:$C$84=Q10),0)))} | S10: 44 | T10: {=IF(ROW()-1>COUNTIF('fichier actuel'!$B$2:$B$84,V$1),"",SMALL(IF(('fichier actuel'!$B$2:$B$84=V$1)*('fichier actuel'!$C$2:$C$84<>""),'fichier actuel'!$C$2:$C$84),ROW()-1))} | U10: {=IF(T10="","",INDEX('fichier actuel'!$D$2:$D$84,MATCH(1,('fichier actuel'!$A$2:$A$84=$A10)*('fichier actuel'!$B$2:$B$84=V$1)*('fichier actuel'!$C$2:$C$84=T10),0)))} | V10: 35 | W10: {=IF(ROW()-1>COUNTIF('fichier actuel'!$B$2:$B$84,Y$1),"",SMALL(IF(('fichier actuel'!$B$2:$B$84=Y$1)*('fichier actuel'!$C$2:$C$84<>""),'fichier actuel'!$C$2:$C$84),ROW()-1))} | X10: {=IF(W10="","",INDEX('fichier actuel'!$D$2:$D$84,MATCH(1,('fichier actuel'!$A$2:$A$84=$A10)*('fichier actuel'!$B$2:$B$84=Y$1)*('fichier actuel'!$C$2:$C$84=W10),0)))} | Y10: 59 | Z10: {=IF(ROW()-1>COUNTIF('fichier actuel'!$B$2:$B$84,AB$1),"",SMALL(IF(('fichier actuel'!$B$2:$B$84=AB$1)*('fichier actuel'!$C$2:$C$84<>""),'fichier actuel'!$C$2:$C$84),ROW()-1))} | AA10: {=IF(Z10="","",INDEX('fichier actuel'!$D$2:$D$84,MATCH(1,('fichier actuel'!$A$2:$A$84=$A10)*('fichier actuel'!$B$2:$B$84=AB$1)*('fichier actuel'!$C$2:$C$84=Z10),0)))} | AB10: 67
A11: A1 | B11: {=IF(ROW()-1>COUNTIF('fichier actuel'!$B$2:$B$84,D$1),"",SMALL(IF(('fichier actuel'!$B$2:$B$84=D$1)*('fichier actuel'!$C$2:$C$84<>""),'fichier actuel'!$C$2:$C$84),ROW()-1))} -> 41645 | C11: {=IF(B11="","",INDEX('fichier actuel'!$D$2:$D$84,MATCH(1,('fichier actuel'!$A$2:$A$84=$A11)*('fichier actuel'!$B$2:$B$84=D$1)*('fichier actuel'!$C$2:$C$84=B11),0)))} -> 41649 | D11: 92 | E11: {=IF(ROW()-1>COUNTIF('fichier actuel'!$B$2:$B$84,G$1),"",SMALL(IF(('fichier actuel'!$B$2:$B$84=G$1)*('fichier actuel'!$C$2:$C$84<>""),'fichier actuel'!$C$2:$C$84),ROW()-1))} | F11: {=IF(E11="","",INDEX('fichier actuel'!$D$2:$D$84,MATCH(1,('fichier actuel'!$A$2:$A$84=$A11)*('fichier actuel'!$B$2:$B$84=G$1)*('fichier actuel'!$C$2:$C$84=E11),0)))} | G11: 69 | H11: {=IF(ROW()-1>COUNTIF('fichier actuel'!$B$2:$B$84,J$1),"",SMALL(IF(('fichier actuel'!$B$2:$B$84=J$1)*('fichier actuel'!$C$2:$C$84<>""),'fichier actuel'!$C$2:$C$84),ROW()-1))} | I11: {=IF(H11="","",INDEX('fichier actuel'!$D$2:$D$84,MATCH(1,('fichier actuel'!$A$2:$A$84=$A11)*('fichier actuel'!$B$2:$B$84=J$1)*('fichier actuel'!$C$2:$C$84=H11),0)))} | J11: 13 | K11: {=IF(ROW()-1>COUNTIF('fichier actuel'!$B$2:$B$84,M$1),"",SMALL(IF(('fichier actuel'!$B$2:$B$84=M$1)*('fichier actuel'!$C$2:$C$84<>""),'fichier actuel'!$C$2:$C$84),ROW()-1))} | L11: {=IF(K11="","",INDEX('fichier actuel'!$D$2:$D$84,MATCH(1,('fichier actuel'!$A$2:$A$84=$A11)*('fichier actuel'!$B$2:$B$84=M$1)*('fichier actuel'!$C$2:$C$84=K11),0)))} | M11: 31 | N11: {=IF(ROW()-1>COUNTIF('fichier actuel'!$B$2:$B$84,P$1),"",SMALL(IF(('fichier actuel'!$B$2:$B$84=P$1)*('fichier actuel'!$C$2:$C$84<>""),'fichier actuel'!$C$2:$C$84),ROW()-1))} | O11: {=IF(N11="","",INDEX('fichier actuel'!$D$2:$D$84,MATCH(1,('fichier actuel'!$A$2:$A$84=$A11)*('fichier actuel'!$B$2:$B$84=P$1)*('fichier actuel'!$C$2:$C$84=N11),0)))} | P11: 33 | Q11: {=IF(ROW()-1>COUNTIF('fichier actuel'!$B$2:$B$84,S$1),"",SMALL(IF(('fichier actuel'!$B$2:$B$84=S$1)*('fichier actuel'!$C$2:$C$84<>""),'fichier actuel'!$C$2:$C$84),ROW()-1))} | R11: {=IF(Q11="","",INDEX('fichier actuel'!$D$2:$D$84,MATCH(1,('fichier actuel'!$A$2:$A$84=$A11)*('fichier actuel'!$B$2:$B$84=S$1)*('fichier actuel'!$C$2:$C$84=Q11),0)))} | S11: 44 | T11: {=IF(ROW()-1>COUNTIF('fichier actuel'!$B$2:$B$84,V$1),"",SMALL(IF(('fichier actuel'!$B$2:$B$84=V$1)*('fichier actuel'!$C$2:$C$84<>""),'fichier actuel'!$C$2:$C$84),ROW()-1))} | U11: {=IF(T11="","",INDEX('fichier actuel'!$D$2:$D$84,MATCH(1,('fichier actuel'!$A$2:$A$84=$A11)*('fichier actuel'!$B$2:$B$84=V$1)*('fichier actuel'!$C$2:$C$84=T11),0)))} | V11: 35 | W11: {=IF(ROW()-1>COUNTIF('fichier actuel'!$B$2:$B$84,Y$1),"",SMALL(IF(('fichier actuel'!$B$2:$B$84=Y$1)*('fichier actuel'!$C$2:$C$84<>""),'fichier actuel'!$C$2:$C$84),ROW()-1))} | X11: {=IF(W11="","",INDEX('fichier actuel'!$D$2:$D$84,MATCH(1,('fichier actuel'!$A$2:$A$84=$A11)*('fichier actuel'!$B$2:$B$84=Y$1)*('fichier actuel'!$C$2:$C$84=W11),0)))} | Y11: 59 | Z11: {=IF(ROW()-1>COUNTIF('fichier actuel'!$B$2:$B$84,AB$1),"",SMALL(IF(('fichier actuel'!$B$2:$B$84=AB$1)*('fichier actuel'!$C$2:$C$84<>""),'fichier actuel'!$C$2:$C$84),ROW()-1))} | AA11: {=IF(Z11="","",INDEX('fichier actuel'!$D$2:$D$84,MATCH(1,('fichier actuel'!$A$2:$A$84=$A11)*('fichier actuel'!$B$2:$B$84=AB$1)*('fichier actuel'!$C$2:$C$84=Z11),0)))} | AB11: 67
A12: A1 | B12: {=IF(ROW()-1>COUNTIF('fichier actuel'!$B$2:$B$84,D$1),"",SMALL(IF(('fichier actuel'!$B$2:$B$84=D$1)*('fichier actuel'!$C$2:$C$84<>""),'fichier actuel'!$C$2:$C$84),ROW()-1))} -> 41666 | C12: {=IF(B12="","",INDEX('fichier actuel'!$D$2:$D$84,MATCH(1,('fichier actuel'!$A$2:$A$84=$A12)*('fichier actuel'!$B$2:$B$84=D$1)*('fichier actuel'!$C$2:$C$84=B12),0)))} -> 41670 | D12: 92 | E12: {=IF(ROW()-1>COUNTIF('fichier actuel'!$B$2:$B$84,G$1),"",SMALL(IF(('fichier actuel'!$B$2:$B$84=G$1)*('fichier actuel'!$C$2:$C$84<>""),'fichier actuel'!$C$2:$C$84),ROW()-1))} | F12: {=IF(E12="","",INDEX('fichier actuel'!$D$2:$D$84,MATCH(1,('fichier actuel'!$A$2:$A$84=$A12)*('fichier actuel'!$B$2:$B$84=G$1)*('fichier actuel'!$C$2:$C$84=E12),0)))} | G12: 69 | H12: {=IF(ROW()-1>COUNTIF('fichier actuel'!$B$2:$B$84,J$1),"",SMALL(IF(('fichier actuel'!$B$2:$B$84=J$1)*('fichier actuel'!$C$2:$C$84<>""),'fichier actuel'!$C$2:$C$84),ROW()-1))} | I12: {=IF(H12="","",INDEX('fichier actuel'!$D$2:$D$84,MATCH(1,('fichier actuel'!$A$2:$A$84=$A12)*('fichier actuel'!$B$2:$B$84=J$1)*('fichier actuel'!$C$2:$C$84=H12),0)))} | J12: 13 | K12: {=IF(ROW()-1>COUNTIF('fichier actuel'!$B$2:$B$84,M$1),"",SMALL(IF(('fichier actuel'!$B$2:$B$84=M$1)*('fichier actuel'!$C$2:$C$84<>""),'fichier actuel'!$C$2:$C$84),ROW()-1))} | L12: {=IF(K12="","",INDEX('fichier actuel'!$D$2:$D$84,MATCH(1,('fichier actuel'!$A$2:$A$84=$A12)*('fichier actuel'!$B$2:$B$84=M$1)*('fichier actuel'!$C$2:$C$84=K12),0)))} | M12: 31 | N12: {=IF(ROW()-1>COUNTIF('fichier actuel'!$B$2:$B$84,P$1),"",SMALL(IF(('fichier actuel'!$B$2:$B$84=P$1)*('fichier actuel'!$C$2:$C$84<>""),'fichier actuel'!$C$2:$C$84),ROW()-1))} | O12: {=IF(N12="","",INDEX('fichier actuel'!$D$2:$D$84,MATCH(1,('fichier actuel'!$A$2:$A$84=$A12)*('fichier actuel'!$B$2:$B$84=P$1)*('fichier actuel'!$C$2:$C$84=N12),0)))} | P12: 33 | Q12: {=IF(ROW()-1>COUNTIF('fichier actuel'!$B$2:$B$84,S$1),"",SMALL(IF(('fichier actuel'!$B$2:$B$84=S$1)*('fichier actuel'!$C$2:$C$84<>""),'fichier actuel'!$C$2:$C$84),ROW()-1))} | R12: {=IF(Q12="","",INDEX('fichier actuel'!$D$2:$D$84,MATCH(1,('fichier actuel'!$A$2:$A$84=$A12)*('fichier actuel'!$B$2:$B$84=S$1)*('fichier actuel'!$C$2:$C$84=Q12),0)))} | S12: 44 | T12: {=IF(ROW()-1>COUNTIF('fichier actuel'!$B$2:$B$84,V$1),"",SMALL(IF(('fichier actuel'!$B$2:$B$84=V$1)*('fichier actuel'!$C$2:$C$84<>""),'fichier actuel'!$C$2:$C$84),ROW()-1))} | U12: {=IF(T12="","",INDEX('fichier actuel'!$D$2:$D$84,MATCH(1,('fichier actuel'!$A$2:$A$84=$A12)*('fichier actuel'!$B$2:$B$84=V$1)*('fichier actuel'!$C$2:$C$84=T12),0)))} | V12: 35 | W12: {=IF(ROW()-1>COUNTIF('fichier actuel'!$B$2:$B$84,Y$1),"",SMALL(IF(('fichier actuel'!$B$2:$B$84=Y$1)*('fichier actuel'!$C$2:$C$84<>""),'fichier actuel'!$C$2:$C$84),ROW()-1))} | X12: {=IF(W12="","",INDEX('fichier actuel'!$D$2:$D$84,MATCH(1,('fichier actuel'!$A$2:$A$84=$A12)*('fichier actuel'!$B$2:$B$84=Y$1)*('fichier actuel'!$C$2:$C$84=W12),0)))} | Y12: 59 | Z12: {=IF(ROW()-1>COUNTIF('fichier actuel'!$B$2:$B$84,AB$1),"",SMALL(IF(('fichier actuel'!$B$2:$B$84=AB$1)*('fichier actuel'!$C$2:$C$84<>""),'fichier actuel'!$C$2:$C$84),ROW()-1))} | AA12: {=IF(Z12="","",INDEX('fichier actuel'!$D$2:$D$84,MATCH(1,('fichier actuel'!$A$2:$A$84=$A12)*('fichier actuel'!$B$2:$B$84=AB$1)*('fichier actuel'!$C$2:$C$84=Z12),0)))} | AB12: 67
A13: A1 | B13: {=IF(ROW()-1>COUNTIF('fichier actuel'!$B$2:$B$84,D$1),"",SMALL(IF(('fichier actuel'!$B$2:$B$84=D$1)*('fichier actuel'!$C$2:$C$84<>""),'fichier actuel'!$C$2:$C$84),ROW()-1))} -> 41687 | C13: {=IF(B13="","",INDEX('fichier actuel'!$D$2:$D$84,MATCH(1,('fichier actuel'!$A$2:$A$84=$A13)*('fichier actuel'!$B$2:$B$84=D$1)*('fichier actuel'!$C$2:$C$84=B13),0)))} -> 41691 | D13: 92 | E13: {=IF(ROW()-1>COUNTIF('fichier actuel'!$B$2:$B$84,G$1),"",SMALL(IF(('fichier actuel'!$B$2:$B$84=G$1)*('fichier actuel'!$C$2:$C$84<>""),'fichier actuel'!$C$2:$C$84),ROW()-1))} | F13: {=IF(E13="","",INDEX('fichier actuel'!$D$2:$D$84,MATCH(1,('fichier actuel'!$A$2:$A$84=$A13)*('fichier actuel'!$B$2:$B$84=G$1)*('fichier actuel'!$C$2:$C$84=E13),0)))} | G13: 69 | H13: {=IF(ROW()-1>COUNTIF('fichier actuel'!$B$2:$B$84,J$1),"",SMALL(IF(('fichier actuel'!$B$2:$B$84=J$1)*('fichier actuel'!$C$2:$C$84<>""),'fichier actuel'!$C$2:$C$84),ROW()-1))} | I13: {=IF(H13="","",INDEX('fichier actuel'!$D$2:$D$84,MATCH(1,('fichier actuel'!$A$2:$A$84=$A13)*('fichier actuel'!$B$2:$B$84=J$1)*('fichier actuel'!$C$2:$C$84=H13),0)))} | J13: 13 | K13: {=IF(ROW()-1>COUNTIF('fichier actuel'!$B$2:$B$84,M$1),"",SMALL(IF(('fichier actuel'!$B$2:$B$84=M$1)*('fichier actuel'!$C$2:$C$84<>""),'fichier actuel'!$C$2:$C$84),ROW()-1))} | L13: {=IF(K13="","",INDEX('fichier actuel'!$D$2:$D$84,MATCH(1,('fichier actuel'!$A$2:$A$84=$A13)*('fichier actuel'!$B$2:$B$84=M$1)*('fichier actuel'!$C$2:$C$84=K13),0)))} | M13: 31 | N13: {=IF(ROW()-1>COUNTIF('fichier actuel'!$B$2:$B$84,P$1),"",SMALL(IF(('fichier actuel'!$B$2:$B$84=P$1)*('fichier actuel'!$C$2:$C$84<>""),'fichier actuel'!$C$2:$C$84),ROW()-1))} | O13: {=IF(N13="","",INDEX('fichier actuel'!$D$2:$D$84,MATCH(1,('fichier actuel'!$A$2:$A$84=$A13)*('fichier actuel'!$B$2:$B$84=P$1)*('fichier actuel'!$C$2:$C$84=N13),0)))} | P13: 33 | Q13: {=IF(ROW()-1>COUNTIF('fichier actuel'!$B$2:$B$84,S$1),"",SMALL(IF(('fichier actuel'!$B$2:$B$84=S$1)*('fichier actuel'!$C$2:$C$84<>""),'fichier actuel'!$C$2:$C$84),ROW()-1))} | R13: {=IF(Q13="","",INDEX('fichier actuel'!$D$2:$D$84,MATCH(1,('fichier actuel'!$A$2:$A$84=$A13)*('fichier actuel'!$B$2:$B$84=S$1)*('fichier actuel'!$C$2:$C$84=Q13),0)))} | S13: 44 | T13: {=IF(ROW()-1>COUNTIF('fichier actuel'!$B$2:$B$84,V$1),"",SMALL(IF(('fichier actuel'!$B$2:$B$84=V$1)*('fichier actuel'!$C$2:$C$84<>""),'fichier actuel'!$C$2:$C$84),ROW()-1))} | U13: {=IF(T13="","",INDEX('fichier actuel'!$D$2:$D$84,MATCH(1,('fichier actuel'!$A$2:$A$84=$A13)*('fichier actuel'!$B$2:$B$84=V$1)*('fichier actuel'!$C$2:$C$84=T13),0)))} | V13: 35 | W13: {=IF(ROW()-1>COUNTIF('fichier actuel'!$B$2:$B$84,Y$1),"",SMALL(IF(('fichier actuel'!$B$2:$B$84=Y$1)*('fichier actuel'!$C$2:$C$84<>""),'fichier actuel'!$C$2:$C$84),ROW()-1))} | X13: {=IF(W13="","",INDEX('fichier actuel'!$D$2:$D$84,MATCH(1,('fichier actuel'!$A$2:$A$84=$A13)*('fichier actuel'!$B$2:$B$84=Y$1)*('fichier actuel'!$C$2:$C$84=W13),0)))} | Y13: 59 | Z13: {=IF(ROW()-1>COUNTIF('fichier actuel'!$B$2:$B$84,AB$1),"",SMALL(IF(('fichier actuel'!$B$2:$B$84=AB$1)*('fichier actuel'!$C$2:$C$84<>""),'fichier actuel'!$C$2:$C$84),ROW()-1))} | AA13: {=IF(Z13="","",INDEX('fichier actuel'!$D$2:$D$84,MATCH(1,('fichier actuel'!$A$2:$A$84=$A13)*('fichier actuel'!$B$2:$B$84=AB$1)*('fichier actuel'!$C$2:$C$84=Z13),0)))} | AB13: 67
... A28: A1 | B28: {=IF(ROW()-1>COUNTIF('fichier actuel'!$B$2:$B$84,D$1),"",SMALL(IF(('fichier actuel'!$B$2:$B$84=D$1)*('fichier actuel'!$C$2:$C$84<>""),'fichier actuel'!$C$2:$C$84),ROW()-1))} -> 41988 | C28: {=IF(B28="","",INDEX('fichier actuel'!$D$2:$D$84,MATCH(1,('fichier actuel'!$A$2:$A$84=$A28)*('fichier actuel'!$B$2:$B$84=D$1)*('fichier actuel'!$C$2:$C$84=B28),0)))} -> 41992 | D28: 92 | E28: {=IF(ROW()-1>COUNTIF('fichier actuel'!$B$2:$B$84,G$1),"",SMALL(IF(('fichier actuel'!$B$2:$B$84=G$1)*('fichier actuel'!$C$2:$C$84<>""),'fichier actuel'!$C$2:$C$84),ROW()-1))} | F28: {=IF(E28="","",INDEX('fichier actuel'!$D$2:$D$84,MATCH(1,('fichier actuel'!$A$2:$A$84=$A28)*('fichier actuel'!$B$2:$B$84=G$1)*('fichier actuel'!$C$2:$C$84=E28),0)))} | G28: 69 | H28: {=IF(ROW()-1>COUNTIF('fichier actuel'!$B$2:$B$84,J$1),"",SMALL(IF(('fichier actuel'!$B$2:$B$84=J$1)*('fichier actuel'!$C$2:$C$84<>""),'fichier actuel'!$C$2:$C$84),ROW()-1))} | I28: {=IF(H28="","",INDEX('fichier actuel'!$D$2:$D$84,MATCH(1,('fichier actuel'!$A$2:$A$84=$A28)*('fichier actuel'!$B$2:$B$84=J$1)*('fichier actuel'!$C$2:$C$84=H28),0)))} | J28: 13 | K28: {=IF(ROW()-1>COUNTIF('fichier actuel'!$B$2:$B$84,M$1),"",SMALL(IF(('fichier actuel'!$B$2:$B$84=M$1)*('fichier actuel'!$C$2:$C$84<>""),'fichier actuel'!$C$2:$C$84),ROW()-1))} | L28: {=IF(K28="","",INDEX('fichier actuel'!$D$2:$D$84,MATCH(1,('fichier actuel'!$A$2:$A$84=$A28)*('fichier actuel'!$B$2:$B$84=M$1)*('fichier actuel'!$C$2:$C$84=K28),0)))} | M28: 31 | N28: {=IF(ROW()-1>COUNTIF('fichier actuel'!$B$2:$B$84,P$1),"",SMALL(IF(('fichier actuel'!$B$2:$B$84=P$1)*('fichier actuel'!$C$2:$C$84<>""),'fichier actuel'!$C$2:$C$84),ROW()-1))} | O28: {=IF(N28="","",INDEX('fichier actuel'!$D$2:$D$84,MATCH(1,('fichier actuel'!$A$2:$A$84=$A28)*('fichier actuel'!$B$2:$B$84=P$1)*('fichier actuel'!$C$2:$C$84=N28),0)))} | P28: 33 | Q28: {=IF(ROW()-1>COUNTIF('fichier actuel'!$B$2:$B$84,S$1),"",SMALL(IF(('fichier actuel'!$B$2:$B$84=S$1)*('fichier actuel'!$C$2:$C$84<>""),'fichier actuel'!$C$2:$C$84),ROW()-1))} | R28: {=IF(Q28="","",INDEX('fichier actuel'!$D$2:$D$84,MATCH(1,('fichier actuel'!$A$2:$A$84=$A28)*('fichier actuel'!$B$2:$B$84=S$1)*('fichier actuel'!$C$2:$C$84=Q28),0)))} | S28: 44 | T28: {=IF(ROW()-1>COUNTIF('fichier actuel'!$B$2:$B$84,V$1),"",SMALL(IF(('fichier actuel'!$B$2:$B$84=V$1)*('fichier actuel'!$C$2:$C$84<>""),'fichier actuel'!$C$2:$C$84),ROW()-1))} | U28: {=IF(T28="","",INDEX('fichier actuel'!$D$2:$D$84,MATCH(1,('fichier actuel'!$A$2:$A$84=$A28)*('fichier actuel'!$B$2:$B$84=V$1)*('fichier actuel'!$C$2:$C$84=T28),0)))} | V28: 35 | W28: {=IF(ROW()-1>COUNTIF('fichier actuel'!$B$2:$B$84,Y$1),"",SMALL(IF(('fichier actuel'!$B$2:$B$84=Y$1)*('fichier actuel'!$C$2:$C$84<>""),'fichier actuel'!$C$2:$C$84),ROW()-1))} | X28: {=IF(W28="","",INDEX('fichier actuel'!$D$2:$D$84,MATCH(1,('fichier actuel'!$A$2:$A$84=$A28)*('fichier actuel'!$B$2:$B$84=Y$1)*('fichier actuel'!$C$2:$C$84=W28),0)))} | Y28: 59 | Z28: {=IF(ROW()-1>COUNTIF('fichier actuel'!$B$2:$B$84,AB$1),"",SMALL(IF(('fichier actuel'!$B$2:$B$84=AB$1)*('fichier actuel'!$C$2:$C$84<>""),'fichier actuel'!$C$2:$C$84),ROW()-1))} | AA28: {=IF(Z28="","",INDEX('fichier actuel'!$D$2:$D$84,MATCH(1,('fichier actuel'!$A$2:$A$84=$A28)*('fichier actuel'!$B$2:$B$84=AB$1)*('fichier actuel'!$C$2:$C$84=Z28),0)))} | AB28: 67

Sheet fichier actuel
A1: Référence | B1: Ville | C1: date de début | D1: date de fin
A2: A1 | B2: Aix en Provence | C2: 41547 | D2: 41551
A3: A1 | B3: Aix en Provence | C3: 41617 | D3: 41621
A4: A1 | B4: Aix en Provence | C4: 41666 | D4: 41670
A5: A1 | B5: Aix en Provence | C5: 41729 | D5: 41733
A6: A1 | B6: Aix en Provence | C6: 41806 | D6: 41810
A7: A1 | B7: Aix en Provence | C7: 41890 | D7: 41894
A8: A1 | B8: Aix en Provence | C8: 41939 | D8: 41943
A9: A1 | B9: Bordeaux | C9: 41554 | D9: 41558
A10: A1 | B10: Bordeaux | C10: 41610 | D10: 41614
A11: A1 | B11: Bordeaux | C11: 41687 | D11: 41691
A12: A1 | B12: Bordeaux | C12: 41743 | D12: 41747
A13: A1 | B13: Bordeaux | C13: 41806 | D13: 41810
... A84: A1 | B84: Toulouse | C84: 41960 | D84: 41964
