Workbook
Name Table: OFFSET(Conversion!$A$2:$B$2,,,COUNTA(Conversion!$A:$A)-1)

Sheet 3567E5102
C3: taille | D3: XS | E3: S | F3: M | G3: L | H3: 0 | I3: 0 | J3: 0 | K3: 0 | L3: 0 | M3: 0
C5: qty achat | D5: 100 | E5: 59 | F5: 59 | G5: 27 | H5: 51 | I5: 52 | J5: 53 | K5: 54 | L5: 55 | M5: 56 | O5: =SUM(D5:M5) -> 566
B6: % dispatch
B7: 30 | C7: magasin1 | D7: {=IF(VLOOKUP(D$5,Table,2,0)=0,(IF((D$5*$B7%)-INT(D$5*$B7%)>=MIN(IF((D$5*($B$7:$B$12)%)-INT((D$5*($B$7:$B$12)%))>Conversion!$D$2,(D$5*($B$7:$B$12)%)-INT((D$5*($B$7:$B$12)%)))),ROUNDUP((D$5*$B7%),0.5),INT((D$5*$B7%)))-Conversion!$E4),IF(VLOOKUP(D$5,Table,2,0)=1,(IF((D$5*$B7%)-INT(D$5*$B7%)>=MIN(IF((D$5*($B$7:$B$12)%)-INT((D$5*($B$7:$B$12)%))>Conversion!$D$2,(D$5*($B$7:$B$12)%)-INT((D$5*($B$7:$B$12)%)))),ROUNDUP((D$5*$B7%),0.5),INT((D$5*$B7%)))-Conversion!$F4),IF(VLOOKUP(D$5,Table,2,0)=-1,(IF((D$5*$B7%)-INT(D$5*$B7%)>=MIN(IF((D$5*($B$7:$B$12)%)-INT((D$5*($B$7:$B$12)%))>Conversion!$D$2,(D$5*($B$7:$B$12)%)-INT((D$5*($B$7:$B$12)%)))),ROUNDUP((D$5*$B7%),0.5),INT((D$5*$B7%)))))))} -> 30 | E7: {=IF(VLOOKUP(E$5,Table,2,0)=0,(IF((E$5*$B7%)-INT(E$5*$B7%)>=MIN(IF((E$5*($B$7:$B$12)%)-INT((E$5*($B$7:$B$12)%))>Conversion!$D$2,(E$5*($B$7:$B$12)%)-INT((E$5*($B$7:$B$12)%)))),ROUNDUP((E$5*$B7%),0.5),INT((E$5*$B7%)))-Conversion!$E4),IF(VLOOKUP(E$5,Table,2,0)=1,(IF((E$5*$B7%)-INT(E$5*$B7%)>=MIN(IF((E$5*($B$7:$B$12)%)-INT((E$5*($B$7:$B$12)%))>Conversion!$D$2,(E$5*($B$7:$B$12)%)-INT((E$5*($B$7:$B$12)%)))),ROUNDUP((E$5*$B7%),0.5),INT((E$5*$B7%)))-Conversion!$F4),IF(VLOOKUP(E$5,Table,2,0)=-1,(IF((E$5*$B7%)-INT(E$5*$B7%)>=MIN(IF((E$5*($B$7:$B$12)%)-INT((E$5*($B$7:$B$12)%))>Conversion!$D$2,(E$5*($B$7:$B$12)%)-INT((E$5*($B$7:$B$12)%)))),ROUNDUP((E$5*$B7%),0.5),INT((E$5*$B7%)))))))} -> 18 | F7: {=IF(VLOOKUP(F$5,Table,2,0)=0,(IF((F$5*$B7%)-INT(F$5*$B7%)>=MIN(IF((F$5*($B$7:$B$12)%)-INT((F$5*($B$7:$B$12)%))>Conversion!$D$2,(F$5*($B$7:$B$12)%)-INT((F$5*($B$7:$B$12)%)))),ROUNDUP((F$5*$B7%),0.5),INT((F$5*$B7%)))-Conversion!$E4),IF(VLOOKUP(F$5,Table,2,0)=1,(IF((F$5*$B7%)-INT(F$5*$B7%)>=MIN(IF((F$5*($B$7:$B$12)%)-INT((F$5*($B$7:$B$12)%))>Conversion!$D$2,(F$5*($B$7:$B$12)%)-INT((F$5*($B$7:$B$12)%)))),ROUNDUP((F$5*$B7%),0.5),INT((F$5*$B7%)))-Conversion!$F4),IF(VLOOKUP(F$5,Table,2,0)=-1,(IF((F$5*$B7%)-INT(F$5*$B7%)>=MIN(IF((F$5*($B$7:$B$12)%)-INT((F$5*($B$7:$B$12)%))>Conversion!$D$2,(F$5*($B$7:$B$12)%)-INT((F$5*($B$7:$B$12)%)))),ROUNDUP((F$5*$B7%),0.5),INT((F$5*$B7%)))))))} -> 18 | G7: {=IF(VLOOKUP(G$5,Table,2,0)=0,(IF((G$5*$B7%)-INT(G$5*$B7%)>=MIN(IF((G$5*($B$7:$B$12)%)-INT((G$5*($B$7:$B$12)%))>Conversion!$D$2,(G$5*($B$7:$B$12)%)-INT((G$5*($B$7:$B$12)%)))),ROUNDUP((G$5*$B7%),0.5),INT((G$5*$B7%)))-Conversion!$E4),IF(VLOOKUP(G$5,Table,2,0)=1,(IF((G$5*$B7%)-INT(G$5*$B7%)>=MIN(IF((G$5*($B$7:$B$12)%)-INT((G$5*($B$7:$B$12)%))>Conversion!$D$2,(G$5*($B$7:$B$12)%)-INT((G$5*($B$7:$B$12)%)))),ROUNDUP((G$5*$B7%),0.5),INT((G$5*$B7%)))-Conversion!$F4),IF(VLOOKUP(G$5,Table,2,0)=-1,(IF((G$5*$B7%)-INT(G$5*$B7%)>=MIN(IF((G$5*($B$7:$B$12)%)-INT((G$5*($B$7:$B$12)%))>Conversion!$D$2,(G$5*($B$7:$B$12)%)-INT((G$5*($B$7:$B$12)%)))),ROUNDUP((G$5*$B7%),0.5),INT((G$5*$B7%)))))))} -> 8 | H7: {=IF(VLOOKUP(H$5,Table,2,0)=0,(IF((H$5*$B7%)-INT(H$5*$B7%)>=MIN(IF((H$5*($B$7:$B$12)%)-INT((H$5*($B$7:$B$12)%))>Conversion!$D$2,(H$5*($B$7:$B$12)%)-INT((H$5*($B$7:$B$12)%)))),ROUNDUP((H$5*$B7%),0.5),INT((H$5*$B7%)))-Conversion!$E4),IF(VLOOKUP(H$5,Table,2,0)=1,(IF((H$5*$B7%)-INT(H$5*$B7%)>=MIN(IF((H$5*($B$7:$B$12)%)-INT((H$5*($B$7:$B$12)%))>Conversion!$D$2,(H$5*($B$7:$B$12)%)-INT((H$5*($B$7:$B$12)%)))),ROUNDUP((H$5*$B7%),0.5),INT((H$5*$B7%)))-Conversion!$F4),IF(VLOOKUP(H$5,Table,2,0)=-1,(IF((H$5*$B7%)-INT(H$5*$B7%)>=MIN(IF((H$5*($B$7:$B$12)%)-INT((H$5*($B$7:$B$12)%))>Conversion!$D$2,(H$5*($B$7:$B$12)%)-INT((H$5*($B$7:$B$12)%)))),ROUNDUP((H$5*$B7%),0.5),INT((H$5*$B7%)))))))} -> 16 | I7: {=IF(VLOOKUP(I$5,Table,2,0)=0,(IF((I$5*$B7%)-INT(I$5*$B7%)>=MIN(IF((I$5*($B$7:$B$12)%)-INT((I$5*($B$7:$B$12)%))>Conversion!$D$2,(I$5*($B$7:$B$12)%)-INT((I$5*($B$7:$B$12)%)))),ROUNDUP((I$5*$B7%),0.5),INT((I$5*$B7%)))-Conversion!$E4),IF(VLOOKUP(I$5,Table,2,0)=1,(IF((I$5*$B7%)-INT(I$5*$B7%)>=MIN(IF((I$5*($B$7:$B$12)%)-INT((I$5*($B$7:$B$12)%))>Conversion!$D$2,(I$5*($B$7:$B$12)%)-INT((I$5*($B$7:$B$12)%)))),ROUNDUP((I$5*$B7%),0.5),INT((I$5*$B7%)))-Conversion!$F4),IF(VLOOKUP(I$5,Table,2,0)=-1,(IF((I$5*$B7%)-INT(I$5*$B7%)>=MIN(IF((I$5*($B$7:$B$12)%)-INT((I$5*($B$7:$B$12)%))>Conversion!$D$2,(I$5*($B$7:$B$12)%)-INT((I$5*($B$7:$B$12)%)))),ROUNDUP((I$5*$B7%),0.5),INT((I$5*$B7%)))))))} -> 16 | J7: {=IF(VLOOKUP(J$5,Table,2,0)=0,(IF((J$5*$B7%)-INT(J$5*$B7%)>=MIN(IF((J$5*($B$7:$B$12)%)-INT((J$5*($B$7:$B$12)%))>Conversion!$D$2,(J$5*($B$7:$B$12)%)-INT((J$5*($B$7:$B$12)%)))),ROUNDUP((J$5*$B7%),0.5),INT((J$5*$B7%)))-Conversion!$E4),IF(VLOOKUP(J$5,Table,2,0)=1,(IF((J$5*$B7%)-INT(J$5*$B7%)>=MIN(IF((J$5*($B$7:$B$12)%)-INT((J$5*($B$7:$B$12)%))>Conversion!$D$2,(J$5*($B$7:$B$12)%)-INT((J$5*($B$7:$B$12)%)))),ROUNDUP((J$5*$B7%),0.5),INT((J$5*$B7%)))-Conversion!$F4),IF(VLOOKUP(J$5,Table,2,0)=-1,(IF((J$5*$B7%)-INT(J$5*$B7%)>=MIN(IF((J$5*($B$7:$B$12)%)-INT((J$5*($B$7:$B$12)%))>Conversion!$D$2,(J$5*($B$7:$B$12)%)-INT((J$5*($B$7:$B$12)%)))),ROUNDUP((J$5*$B7%),0.5),INT((J$5*$B7%)))))))} -> 16 | K7: {=IF(VLOOKUP(K$5,Table,2,0)=0,(IF((K$5*$B7%)-INT(K$5*$B7%)>=MIN(IF((K$5*($B$7:$B$12)%)-INT((K$5*($B$7:$B$12)%))>Conversion!$D$2,(K$5*($B$7:$B$12)%)-INT((K$5*($B$7:$B$12)%)))),ROUNDUP((K$5*$B7%),0.5),INT((K$5*$B7%)))-Conversion!$E4),IF(VLOOKUP(K$5,Table,2,0)=1,(IF((K$5*$B7%)-INT(K$5*$B7%)>=MIN(IF((K$5*($B$7:$B$12)%)-INT((K$5*($B$7:$B$12)%))>Conversion!$D$2,(K$5*($B$7:$B$12)%)-INT((K$5*($B$7:$B$12)%)))),ROUNDUP((K$5*$B7%),0.5),INT((K$5*$B7%)))-Conversion!$F4),IF(VLOOKUP(K$5,Table,2,0)=-1,(IF((K$5*$B7%)-INT(K$5*$B7%)>=MIN(IF((K$5*($B$7:$B$12)%)-INT((K$5*($B$7:$B$12)%))>Conversion!$D$2,(K$5*($B$7:$B$12)%)-INT((K$5*($B$7:$B$12)%)))),ROUNDUP((K$5*$B7%),0.5),INT((K$5*$B7%)))))))} -> 16 | ... M7: {=IF(VLOOKUP(M$5,Table,2,0)=0,(IF((M$5*$B7%)-INT(M$5*$B7%)>=MIN(IF((M$5*($B$7:$B$12)%)-INT((M$5*($B$7:$B$12)%))>Conversion!$D$2,(M$5*($B$7:$B$12)%)-INT((M$5*($B$7:$B$12)%)))),ROUNDUP((M$5*$B7%),0.5),INT((M$5*$B7%)))-Conversion!$E4),IF(VLOOKUP(M$5,Table,2,0)=1,(IF((M$5*$B7%)-INT(M$5*$B7%)>=MIN(IF((M$5*($B$7:$B$12)%)-INT((M$5*($B$7:$B$12)%))>Conversion!$D$2,(M$5*($B$7:$B$12)%)-INT((M$5*($B$7:$B$12)%)))),ROUNDUP((M$5*$B7%),0.5),INT((M$5*$B7%)))-Conversion!$F4),IF(VLOOKUP(M$5,Table,2,0)=-1,(IF((M$5*$B7%)-INT(M$5*$B7%)>=MIN(IF((M$5*($B$7:$B$12)%)-INT((M$5*($B$7:$B$12)%))>Conversion!$D$2,(M$5*($B$7:$B$12)%)-INT((M$5*($B$7:$B$12)%)))),ROUNDUP((M$5*$B7%),0.5),INT((M$5*$B7%)))))))} -> 17 | O7: =SUM(D7:M7) -> 172
B8: 20 | C8: magasin2 | D8: {=IF(VLOOKUP(D$5,Table,2,0)=0,(IF((D$5*$B8%)-INT(D$5*$B8%)>=MIN(IF((D$5*($B$7:$B$12)%)-INT((D$5*($B$7:$B$12)%))>Conversion!$D$2,(D$5*($B$7:$B$12)%)-INT((D$5*($B$7:$B$12)%)))),ROUNDUP((D$5*$B8%),0.5),INT((D$5*$B8%)))-Conversion!$E5),IF(VLOOKUP(D$5,Table,2,0)=1,(IF((D$5*$B8%)-INT(D$5*$B8%)>=MIN(IF((D$5*($B$7:$B$12)%)-INT((D$5*($B$7:$B$12)%))>Conversion!$D$2,(D$5*($B$7:$B$12)%)-INT((D$5*($B$7:$B$12)%)))),ROUNDUP((D$5*$B8%),0.5),INT((D$5*$B8%)))-Conversion!$F5),IF(VLOOKUP(D$5,Table,2,0)=-1,(IF((D$5*$B8%)-INT(D$5*$B8%)>=MIN(IF((D$5*($B$7:$B$12)%)-INT((D$5*($B$7:$B$12)%))>Conversion!$D$2,(D$5*($B$7:$B$12)%)-INT((D$5*($B$7:$B$12)%)))),ROUNDUP((D$5*$B8%),0.5),INT((D$5*$B8%)))))))} -> 20 | E8: {=IF(VLOOKUP(E$5,Table,2,0)=0,(IF((E$5*$B8%)-INT(E$5*$B8%)>=MIN(IF((E$5*($B$7:$B$12)%)-INT((E$5*($B$7:$B$12)%))>Conversion!$D$2,(E$5*($B$7:$B$12)%)-INT((E$5*($B$7:$B$12)%)))),ROUNDUP((E$5*$B8%),0.5),INT((E$5*$B8%)))-Conversion!$E5),IF(VLOOKUP(E$5,Table,2,0)=1,(IF((E$5*$B8%)-INT(E$5*$B8%)>=MIN(IF((E$5*($B$7:$B$12)%)-INT((E$5*($B$7:$B$12)%))>Conversion!$D$2,(E$5*($B$7:$B$12)%)-INT((E$5*($B$7:$B$12)%)))),ROUNDUP((E$5*$B8%),0.5),INT((E$5*$B8%)))-Conversion!$F5),IF(VLOOKUP(E$5,Table,2,0)=-1,(IF((E$5*$B8%)-INT(E$5*$B8%)>=MIN(IF((E$5*($B$7:$B$12)%)-INT((E$5*($B$7:$B$12)%))>Conversion!$D$2,(E$5*($B$7:$B$12)%)-INT((E$5*($B$7:$B$12)%)))),ROUNDUP((E$5*$B8%),0.5),INT((E$5*$B8%)))))))} -> 12 | F8: {=IF(VLOOKUP(F$5,Table,2,0)=0,(IF((F$5*$B8%)-INT(F$5*$B8%)>=MIN(IF((F$5*($B$7:$B$12)%)-INT((F$5*($B$7:$B$12)%))>Conversion!$D$2,(F$5*($B$7:$B$12)%)-INT((F$5*($B$7:$B$12)%)))),ROUNDUP((F$5*$B8%),0.5),INT((F$5*$B8%)))-Conversion!$E5),IF(VLOOKUP(F$5,Table,2,0)=1,(IF((F$5*$B8%)-INT(F$5*$B8%)>=MIN(IF((F$5*($B$7:$B$12)%)-INT((F$5*($B$7:$B$12)%))>Conversion!$D$2,(F$5*($B$7:$B$12)%)-INT((F$5*($B$7:$B$12)%)))),ROUNDUP((F$5*$B8%),0.5),INT((F$5*$B8%)))-Conversion!$F5),IF(VLOOKUP(F$5,Table,2,0)=-1,(IF((F$5*$B8%)-INT(F$5*$B8%)>=MIN(IF((F$5*($B$7:$B$12)%)-INT((F$5*($B$7:$B$12)%))>Conversion!$D$2,(F$5*($B$7:$B$12)%)-INT((F$5*($B$7:$B$12)%)))),ROUNDUP((F$5*$B8%),0.5),INT((F$5*$B8%)))))))} -> 12 | G8: {=IF(VLOOKUP(G$5,Table,2,0)=0,(IF((G$5*$B8%)-INT(G$5*$B8%)>=MIN(IF((G$5*($B$7:$B$12)%)-INT((G$5*($B$7:$B$12)%))>Conversion!$D$2,(G$5*($B$7:$B$12)%)-INT((G$5*($B$7:$B$12)%)))),ROUNDUP((G$5*$B8%),0.5),INT((G$5*$B8%)))-Conversion!$E5),IF(VLOOKUP(G$5,Table,2,0)=1,(IF((G$5*$B8%)-INT(G$5*$B8%)>=MIN(IF((G$5*($B$7:$B$12)%)-INT((G$5*($B$7:$B$12)%))>Conversion!$D$2,(G$5*($B$7:$B$12)%)-INT((G$5*($B$7:$B$12)%)))),ROUNDUP((G$5*$B8%),0.5),INT((G$5*$B8%)))-Conversion!$F5),IF(VLOOKUP(G$5,Table,2,0)=-1,(IF((G$5*$B8%)-INT(G$5*$B8%)>=MIN(IF((G$5*($B$7:$B$12)%)-INT((G$5*($B$7:$B$12)%))>Conversion!$D$2,(G$5*($B$7:$B$12)%)-INT((G$5*($B$7:$B$12)%)))),ROUNDUP((G$5*$B8%),0.5),INT((G$5*$B8%)))))))} -> 6 | H8: {=IF(VLOOKUP(H$5,Table,2,0)=0,(IF((H$5*$B8%)-INT(H$5*$B8%)>=MIN(IF((H$5*($B$7:$B$12)%)-INT((H$5*($B$7:$B$12)%))>Conversion!$D$2,(H$5*($B$7:$B$12)%)-INT((H$5*($B$7:$B$12)%)))),ROUNDUP((H$5*$B8%),0.5),INT((H$5*$B8%)))-Conversion!$E5),IF(VLOOKUP(H$5,Table,2,0)=1,(IF((H$5*$B8%)-INT(H$5*$B8%)>=MIN(IF((H$5*($B$7:$B$12)%)-INT((H$5*($B$7:$B$12)%))>Conversion!$D$2,(H$5*($B$7:$B$12)%)-INT((H$5*($B$7:$B$12)%)))),ROUNDUP((H$5*$B8%),0.5),INT((H$5*$B8%)))-Conversion!$F5),IF(VLOOKUP(H$5,Table,2,0)=-1,(IF((H$5*$B8%)-INT(H$5*$B8%)>=MIN(IF((H$5*($B$7:$B$12)%)-INT((H$5*($B$7:$B$12)%))>Conversion!$D$2,(H$5*($B$7:$B$12)%)-INT((H$5*($B$7:$B$12)%)))),ROUNDUP((H$5*$B8%),0.5),INT((H$5*$B8%)))))))} -> 10 | I8: {=IF(VLOOKUP(I$5,Table,2,0)=0,(IF((I$5*$B8%)-INT(I$5*$B8%)>=MIN(IF((I$5*($B$7:$B$12)%)-INT((I$5*($B$7:$B$12)%))>Conversion!$D$2,(I$5*($B$7:$B$12)%)-INT((I$5*($B$7:$B$12)%)))),ROUNDUP((I$5*$B8%),0.5),INT((I$5*$B8%)))-Conversion!$E5),IF(VLOOKUP(I$5,Table,2,0)=1,(IF((I$5*$B8%)-INT(I$5*$B8%)>=MIN(IF((I$5*($B$7:$B$12)%)-INT((I$5*($B$7:$B$12)%))>Conversion!$D$2,(I$5*($B$7:$B$12)%)-INT((I$5*($B$7:$B$12)%)))),ROUNDUP((I$5*$B8%),0.5),INT((I$5*$B8%)))-Conversion!$F5),IF(VLOOKUP(I$5,Table,2,0)=-1,(IF((I$5*$B8%)-INT(I$5*$B8%)>=MIN(IF((I$5*($B$7:$B$12)%)-INT((I$5*($B$7:$B$12)%))>Conversion!$D$2,(I$5*($B$7:$B$12)%)-INT((I$5*($B$7:$B$12)%)))),ROUNDUP((I$5*$B8%),0.5),INT((I$5*$B8%)))))))} -> 11 | J8: {=IF(VLOOKUP(J$5,Table,2,0)=0,(IF((J$5*$B8%)-INT(J$5*$B8%)>=MIN(IF((J$5*($B$7:$B$12)%)-INT((J$5*($B$7:$B$12)%))>Conversion!$D$2,(J$5*($B$7:$B$12)%)-INT((J$5*($B$7:$B$12)%)))),ROUNDUP((J$5*$B8%),0.5),INT((J$5*$B8%)))-Conversion!$E5),IF(VLOOKUP(J$5,Table,2,0)=1,(IF((J$5*$B8%)-INT(J$5*$B8%)>=MIN(IF((J$5*($B$7:$B$12)%)-INT((J$5*($B$7:$B$12)%))>Conversion!$D$2,(J$5*($B$7:$B$12)%)-INT((J$5*($B$7:$B$12)%)))),ROUNDUP((J$5*$B8%),0.5),INT((J$5*$B8%)))-Conversion!$F5),IF(VLOOKUP(J$5,Table,2,0)=-1,(IF((J$5*$B8%)-INT(J$5*$B8%)>=MIN(IF((J$5*($B$7:$B$12)%)-INT((J$5*($B$7:$B$12)%))>Conversion!$D$2,(J$5*($B$7:$B$12)%)-INT((J$5*($B$7:$B$12)%)))),ROUNDUP((J$5*$B8%),0.5),INT((J$5*$B8%)))))))} -> 10 | K8: {=IF(VLOOKUP(K$5,Table,2,0)=0,(IF((K$5*$B8%)-INT(K$5*$B8%)>=MIN(IF((K$5*($B$7:$B$12)%)-INT((K$5*($B$7:$B$12)%))>Conversion!$D$2,(K$5*($B$7:$B$12)%)-INT((K$5*($B$7:$B$12)%)))),ROUNDUP((K$5*$B8%),0.5),INT((K$5*$B8%)))-Conversion!$E5),IF(VLOOKUP(K$5,Table,2,0)=1,(IF((K$5*$B8%)-INT(K$5*$B8%)>=MIN(IF((K$5*($B$7:$B$12)%)-INT((K$5*($B$7:$B$12)%))>Conversion!$D$2,(K$5*($B$7:$B$12)%)-INT((K$5*($B$7:$B$12)%)))),ROUNDUP((K$5*$B8%),0.5),INT((K$5*$B8%)))-Conversion!$F5),IF(VLOOKUP(K$5,Table,2,0)=-1,(IF((K$5*$B8%)-INT(K$5*$B8%)>=MIN(IF((K$5*($B$7:$B$12)%)-INT((K$5*($B$7:$B$12)%))>Conversion!$D$2,(K$5*($B$7:$B$12)%)-INT((K$5*($B$7:$B$12)%)))),ROUNDUP((K$5*$B8%),0.5),INT((K$5*$B8%)))))))} -> 11 | ... M8: {=IF(VLOOKUP(M$5,Table,2,0)=0,(IF((M$5*$B8%)-INT(M$5*$B8%)>=MIN(IF((M$5*($B$7:$B$12)%)-INT((M$5*($B$7:$B$12)%))>Conversion!$D$2,(M$5*($B$7:$B$12)%)-INT((M$5*($B$7:$B$12)%)))),ROUNDUP((M$5*$B8%),0.5),INT((M$5*$B8%)))-Conversion!$E5),IF(VLOOKUP(M$5,Table,2,0)=1,(IF((M$5*$B8%)-INT(M$5*$B8%)>=MIN(IF((M$5*($B$7:$B$12)%)-INT((M$5*($B$7:$B$12)%))>Conversion!$D$2,(M$5*($B$7:$B$12)%)-INT((M$5*($B$7:$B$12)%)))),ROUNDUP((M$5*$B8%),0.5),INT((M$5*$B8%)))-Conversion!$F5),IF(VLOOKUP(M$5,Table,2,0)=-1,(IF((M$5*$B8%)-INT(M$5*$B8%)>=MIN(IF((M$5*($B$7:$B$12)%)-INT((M$5*($B$7:$B$12)%))>Conversion!$D$2,(M$5*($B$7:$B$12)%)-INT((M$5*($B$7:$B$12)%)))),ROUNDUP((M$5*$B8%),0.5),INT((M$5*$B8%)))))))} -> 11 | O8: =SUM(D8:M8) -> 114
B9: 13 | C9: magasin3 | D9: {=IF(VLOOKUP(D$5,Table,2,0)=0,(IF((D$5*$B9%)-INT(D$5*$B9%)>=MIN(IF((D$5*($B$7:$B$12)%)-INT((D$5*($B$7:$B$12)%))>Conversion!$D$2,(D$5*($B$7:$B$12)%)-INT((D$5*($B$7:$B$12)%)))),ROUNDUP((D$5*$B9%),0.5),INT((D$5*$B9%)))-Conversion!$E6),IF(VLOOKUP(D$5,Table,2,0)=1,(IF((D$5*$B9%)-INT(D$5*$B9%)>=MIN(IF((D$5*($B$7:$B$12)%)-INT((D$5*($B$7:$B$12)%))>Conversion!$D$2,(D$5*($B$7:$B$12)%)-INT((D$5*($B$7:$B$12)%)))),ROUNDUP((D$5*$B9%),0.5),INT((D$5*$B9%)))-Conversion!$F6),IF(VLOOKUP(D$5,Table,2,0)=-1,(IF((D$5*$B9%)-INT(D$5*$B9%)>=MIN(IF((D$5*($B$7:$B$12)%)-INT((D$5*($B$7:$B$12)%))>Conversion!$D$2,(D$5*($B$7:$B$12)%)-INT((D$5*($B$7:$B$12)%)))),ROUNDUP((D$5*$B9%),0.5),INT((D$5*$B9%)))))))} -> 13 | E9: {=IF(VLOOKUP(E$5,Table,2,0)=0,(IF((E$5*$B9%)-INT(E$5*$B9%)>=MIN(IF((E$5*($B$7:$B$12)%)-INT((E$5*($B$7:$B$12)%))>Conversion!$D$2,(E$5*($B$7:$B$12)%)-INT((E$5*($B$7:$B$12)%)))),ROUNDUP((E$5*$B9%),0.5),INT((E$5*$B9%)))-Conversion!$E6),IF(VLOOKUP(E$5,Table,2,0)=1,(IF((E$5*$B9%)-INT(E$5*$B9%)>=MIN(IF((E$5*($B$7:$B$12)%)-INT((E$5*($B$7:$B$12)%))>Conversion!$D$2,(E$5*($B$7:$B$12)%)-INT((E$5*($B$7:$B$12)%)))),ROUNDUP((E$5*$B9%),0.5),INT((E$5*$B9%)))-Conversion!$F6),IF(VLOOKUP(E$5,Table,2,0)=-1,(IF((E$5*$B9%)-INT(E$5*$B9%)>=MIN(IF((E$5*($B$7:$B$12)%)-INT((E$5*($B$7:$B$12)%))>Conversion!$D$2,(E$5*($B$7:$B$12)%)-INT((E$5*($B$7:$B$12)%)))),ROUNDUP((E$5*$B9%),0.5),INT((E$5*$B9%)))))))} -> 7 | F9: {=IF(VLOOKUP(F$5,Table,2,0)=0,(IF((F$5*$B9%)-INT(F$5*$B9%)>=MIN(IF((F$5*($B$7:$B$12)%)-INT((F$5*($B$7:$B$12)%))>Conversion!$D$2,(F$5*($B$7:$B$12)%)-INT((F$5*($B$7:$B$12)%)))),ROUNDUP((F$5*$B9%),0.5),INT((F$5*$B9%)))-Conversion!$E6),IF(VLOOKUP(F$5,Table,2,0)=1,(IF((F$5*$B9%)-INT(F$5*$B9%)>=MIN(IF((F$5*($B$7:$B$12)%)-INT((F$5*($B$7:$B$12)%))>Conversion!$D$2,(F$5*($B$7:$B$12)%)-INT((F$5*($B$7:$B$12)%)))),ROUNDUP((F$5*$B9%),0.5),INT((F$5*$B9%)))-Conversion!$F6),IF(VLOOKUP(F$5,Table,2,0)=-1,(IF((F$5*$B9%)-INT(F$5*$B9%)>=MIN(IF((F$5*($B$7:$B$12)%)-INT((F$5*($B$7:$B$12)%))>Conversion!$D$2,(F$5*($B$7:$B$12)%)-INT((F$5*($B$7:$B$12)%)))),ROUNDUP((F$5*$B9%),0.5),INT((F$5*$B9%)))))))} -> 7 | G9: {=IF(VLOOKUP(G$5,Table,2,0)=0,(IF((G$5*$B9%)-INT(G$5*$B9%)>=MIN(IF((G$5*($B$7:$B$12)%)-INT((G$5*($B$7:$B$12)%))>Conversion!$D$2,(G$5*($B$7:$B$12)%)-INT((G$5*($B$7:$B$12)%)))),ROUNDUP((G$5*$B9%),0.5),INT((G$5*$B9%)))-Conversion!$E6),IF(VLOOKUP(G$5,Table,2,0)=1,(IF((G$5*$B9%)-INT(G$5*$B9%)>=MIN(IF((G$5*($B$7:$B$12)%)-INT((G$5*($B$7:$B$12)%))>Conversion!$D$2,(G$5*($B$7:$B$12)%)-INT((G$5*($B$7:$B$12)%)))),ROUNDUP((G$5*$B9%),0.5),INT((G$5*$B9%)))-Conversion!$F6),IF(VLOOKUP(G$5,Table,2,0)=-1,(IF((G$5*$B9%)-INT(G$5*$B9%)>=MIN(IF((G$5*($B$7:$B$12)%)-INT((G$5*($B$7:$B$12)%))>Conversion!$D$2,(G$5*($B$7:$B$12)%)-INT((G$5*($B$7:$B$12)%)))),ROUNDUP((G$5*$B9%),0.5),INT((G$5*$B9%)))))))} -> 3 | H9: {=IF(VLOOKUP(H$5,Table,2,0)=0,(IF((H$5*$B9%)-INT(H$5*$B9%)>=MIN(IF((H$5*($B$7:$B$12)%)-INT((H$5*($B$7:$B$12)%))>Conversion!$D$2,(H$5*($B$7:$B$12)%)-INT((H$5*($B$7:$B$12)%)))),ROUNDUP((H$5*$B9%),0.5),INT((H$5*$B9%)))-Conversion!$E6),IF(VLOOKUP(H$5,Table,2,0)=1,(IF((H$5*$B9%)-INT(H$5*$B9%)>=MIN(IF((H$5*($B$7:$B$12)%)-INT((H$5*($B$7:$B$12)%))>Conversion!$D$2,(H$5*($B$7:$B$12)%)-INT((H$5*($B$7:$B$12)%)))),ROUNDUP((H$5*$B9%),0.5),INT((H$5*$B9%)))-Conversion!$F6),IF(VLOOKUP(H$5,Table,2,0)=-1,(IF((H$5*$B9%)-INT(H$5*$B9%)>=MIN(IF((H$5*($B$7:$B$12)%)-INT((H$5*($B$7:$B$12)%))>Conversion!$D$2,(H$5*($B$7:$B$12)%)-INT((H$5*($B$7:$B$12)%)))),ROUNDUP((H$5*$B9%),0.5),INT((H$5*$B9%)))))))} -> 6 | I9: {=IF(VLOOKUP(I$5,Table,2,0)=0,(IF((I$5*$B9%)-INT(I$5*$B9%)>=MIN(IF((I$5*($B$7:$B$12)%)-INT((I$5*($B$7:$B$12)%))>Conversion!$D$2,(I$5*($B$7:$B$12)%)-INT((I$5*($B$7:$B$12)%)))),ROUNDUP((I$5*$B9%),0.5),INT((I$5*$B9%)))-Conversion!$E6),IF(VLOOKUP(I$5,Table,2,0)=1,(IF((I$5*$B9%)-INT(I$5*$B9%)>=MIN(IF((I$5*($B$7:$B$12)%)-INT((I$5*($B$7:$B$12)%))>Conversion!$D$2,(I$5*($B$7:$B$12)%)-INT((I$5*($B$7:$B$12)%)))),ROUNDUP((I$5*$B9%),0.5),INT((I$5*$B9%)))-Conversion!$F6),IF(VLOOKUP(I$5,Table,2,0)=-1,(IF((I$5*$B9%)-INT(I$5*$B9%)>=MIN(IF((I$5*($B$7:$B$12)%)-INT((I$5*($B$7:$B$12)%))>Conversion!$D$2,(I$5*($B$7:$B$12)%)-INT((I$5*($B$7:$B$12)%)))),ROUNDUP((I$5*$B9%),0.5),INT((I$5*$B9%)))))))} -> 6 | J9: {=IF(VLOOKUP(J$5,Table,2,0)=0,(IF((J$5*$B9%)-INT(J$5*$B9%)>=MIN(IF((J$5*($B$7:$B$12)%)-INT((J$5*($B$7:$B$12)%))>Conversion!$D$2,(J$5*($B$7:$B$12)%)-INT((J$5*($B$7:$B$12)%)))),ROUNDUP((J$5*$B9%),0.5),INT((J$5*$B9%)))-Conversion!$E6),IF(VLOOKUP(J$5,Table,2,0)=1,(IF((J$5*$B9%)-INT(J$5*$B9%)>=MIN(IF((J$5*($B$7:$B$12)%)-INT((J$5*($B$7:$B$12)%))>Conversion!$D$2,(J$5*($B$7:$B$12)%)-INT((J$5*($B$7:$B$12)%)))),ROUNDUP((J$5*$B9%),0.5),INT((J$5*$B9%)))-Conversion!$F6),IF(VLOOKUP(J$5,Table,2,0)=-1,(IF((J$5*$B9%)-INT(J$5*$B9%)>=MIN(IF((J$5*($B$7:$B$12)%)-INT((J$5*($B$7:$B$12)%))>Conversion!$D$2,(J$5*($B$7:$B$12)%)-INT((J$5*($B$7:$B$12)%)))),ROUNDUP((J$5*$B9%),0.5),INT((J$5*$B9%)))))))} -> 6 | K9: {=IF(VLOOKUP(K$5,Table,2,0)=0,(IF((K$5*$B9%)-INT(K$5*$B9%)>=MIN(IF((K$5*($B$7:$B$12)%)-INT((K$5*($B$7:$B$12)%))>Conversion!$D$2,(K$5*($B$7:$B$12)%)-INT((K$5*($B$7:$B$12)%)))),ROUNDUP((K$5*$B9%),0.5),INT((K$5*$B9%)))-Conversion!$E6),IF(VLOOKUP(K$5,Table,2,0)=1,(IF((K$5*$B9%)-INT(K$5*$B9%)>=MIN(IF((K$5*($B$7:$B$12)%)-INT((K$5*($B$7:$B$12)%))>Conversion!$D$2,(K$5*($B$7:$B$12)%)-INT((K$5*($B$7:$B$12)%)))),ROUNDUP((K$5*$B9%),0.5),INT((K$5*$B9%)))-Conversion!$F6),IF(VLOOKUP(K$5,Table,2,0)=-1,(IF((K$5*$B9%)-INT(K$5*$B9%)>=MIN(IF((K$5*($B$7:$B$12)%)-INT((K$5*($B$7:$B$12)%))>Conversion!$D$2,(K$5*($B$7:$B$12)%)-INT((K$5*($B$7:$B$12)%)))),ROUNDUP((K$5*$B9%),0.5),INT((K$5*$B9%)))))))} -> 6 | ... M9: {=IF(VLOOKUP(M$5,Table,2,0)=0,(IF((M$5*$B9%)-INT(M$5*$B9%)>=MIN(IF((M$5*($B$7:$B$12)%)-INT((M$5*($B$7:$B$12)%))>Conversion!$D$2,(M$5*($B$7:$B$12)%)-INT((M$5*($B$7:$B$12)%)))),ROUNDUP((M$5*$B9%),0.5),INT((M$5*$B9%)))-Conversion!$E6),IF(VLOOKUP(M$5,Table,2,0)=1,(IF((M$5*$B9%)-INT(M$5*$B9%)>=MIN(IF((M$5*($B$7:$B$12)%)-INT((M$5*($B$7:$B$12)%))>Conversion!$D$2,(M$5*($B$7:$B$12)%)-INT((M$5*($B$7:$B$12)%)))),ROUNDUP((M$5*$B9%),0.5),INT((M$5*$B9%)))-Conversion!$F6),IF(VLOOKUP(M$5,Table,2,0)=-1,(IF((M$5*$B9%)-INT(M$5*$B9%)>=MIN(IF((M$5*($B$7:$B$12)%)-INT((M$5*($B$7:$B$12)%))>Conversion!$D$2,(M$5*($B$7:$B$12)%)-INT((M$5*($B$7:$B$12)%)))),ROUNDUP((M$5*$B9%),0.5),INT((M$5*$B9%)))))))} -> 6 | O9: =SUM(D9:M9) -> 66
B10: 10 | C10: magasin4 | D10: {=IF(VLOOKUP(D$5,Table,2,0)=0,(IF((D$5*$B10%)-INT(D$5*$B10%)>=MIN(IF((D$5*($B$7:$B$12)%)-INT((D$5*($B$7:$B$12)%))>Conversion!$D$2,(D$5*($B$7:$B$12)%)-INT((D$5*($B$7:$B$12)%)))),ROUNDUP((D$5*$B10%),0.5),INT((D$5*$B10%)))-Conversion!$E7),IF(VLOOKUP(D$5,Table,2,0)=1,(IF((D$5*$B10%)-INT(D$5*$B10%)>=MIN(IF((D$5*($B$7:$B$12)%)-INT((D$5*($B$7:$B$12)%))>Conversion!$D$2,(D$5*($B$7:$B$12)%)-INT((D$5*($B$7:$B$12)%)))),ROUNDUP((D$5*$B10%),0.5),INT((D$5*$B10%)))-Conversion!$F7),IF(VLOOKUP(D$5,Table,2,0)=-1,(IF((D$5*$B10%)-INT(D$5*$B10%)>=MIN(IF((D$5*($B$7:$B$12)%)-INT((D$5*($B$7:$B$12)%))>Conversion!$D$2,(D$5*($B$7:$B$12)%)-INT((D$5*($B$7:$B$12)%)))),ROUNDUP((D$5*$B10%),0.5),INT((D$5*$B10%)))))))} -> 10 | E10: {=IF(VLOOKUP(E$5,Table,2,0)=0,(IF((E$5*$B10%)-INT(E$5*$B10%)>=MIN(IF((E$5*($B$7:$B$12)%)-INT((E$5*($B$7:$B$12)%))>Conversion!$D$2,(E$5*($B$7:$B$12)%)-INT((E$5*($B$7:$B$12)%)))),ROUNDUP((E$5*$B10%),0.5),INT((E$5*$B10%)))-Conversion!$E7),IF(VLOOKUP(E$5,Table,2,0)=1,(IF((E$5*$B10%)-INT(E$5*$B10%)>=MIN(IF((E$5*($B$7:$B$12)%)-INT((E$5*($B$7:$B$12)%))>Conversion!$D$2,(E$5*($B$7:$B$12)%)-INT((E$5*($B$7:$B$12)%)))),ROUNDUP((E$5*$B10%),0.5),INT((E$5*$B10%)))-Conversion!$F7),IF(VLOOKUP(E$5,Table,2,0)=-1,(IF((E$5*$B10%)-INT(E$5*$B10%)>=MIN(IF((E$5*($B$7:$B$12)%)-INT((E$5*($B$7:$B$12)%))>Conversion!$D$2,(E$5*($B$7:$B$12)%)-INT((E$5*($B$7:$B$12)%)))),ROUNDUP((E$5*$B10%),0.5),INT((E$5*$B10%)))))))} -> 6 | F10: {=IF(VLOOKUP(F$5,Table,2,0)=0,(IF((F$5*$B10%)-INT(F$5*$B10%)>=MIN(IF((F$5*($B$7:$B$12)%)-INT((F$5*($B$7:$B$12)%))>Conversion!$D$2,(F$5*($B$7:$B$12)%)-INT((F$5*($B$7:$B$12)%)))),ROUNDUP((F$5*$B10%),0.5),INT((F$5*$B10%)))-Conversion!$E7),IF(VLOOKUP(F$5,Table,2,0)=1,(IF((F$5*$B10%)-INT(F$5*$B10%)>=MIN(IF((F$5*($B$7:$B$12)%)-INT((F$5*($B$7:$B$12)%))>Conversion!$D$2,(F$5*($B$7:$B$12)%)-INT((F$5*($B$7:$B$12)%)))),ROUNDUP((F$5*$B10%),0.5),INT((F$5*$B10%)))-Conversion!$F7),IF(VLOOKUP(F$5,Table,2,0)=-1,(IF((F$5*$B10%)-INT(F$5*$B10%)>=MIN(IF((F$5*($B$7:$B$12)%)-INT((F$5*($B$7:$B$12)%))>Conversion!$D$2,(F$5*($B$7:$B$12)%)-INT((F$5*($B$7:$B$12)%)))),ROUNDUP((F$5*$B10%),0.5),INT((F$5*$B10%)))))))} -> 6 | G10: {=IF(VLOOKUP(G$5,Table,2,0)=0,(IF((G$5*$B10%)-INT(G$5*$B10%)>=MIN(IF((G$5*($B$7:$B$12)%)-INT((G$5*($B$7:$B$12)%))>Conversion!$D$2,(G$5*($B$7:$B$12)%)-INT((G$5*($B$7:$B$12)%)))),ROUNDUP((G$5*$B10%),0.5),INT((G$5*$B10%)))-Conversion!$E7),IF(VLOOKUP(G$5,Table,2,0)=1,(IF((G$5*$B10%)-INT(G$5*$B10%)>=MIN(IF((G$5*($B$7:$B$12)%)-INT((G$5*($B$7:$B$12)%))>Conversion!$D$2,(G$5*($B$7:$B$12)%)-INT((G$5*($B$7:$B$12)%)))),ROUNDUP((G$5*$B10%),0.5),INT((G$5*$B10%)))-Conversion!$F7),IF(VLOOKUP(G$5,Table,2,0)=-1,(IF((G$5*$B10%)-INT(G$5*$B10%)>=MIN(IF((G$5*($B$7:$B$12)%)-INT((G$5*($B$7:$B$12)%))>Conversion!$D$2,(G$5*($B$7:$B$12)%)-INT((G$5*($B$7:$B$12)%)))),ROUNDUP((G$5*$B10%),0.5),INT((G$5*$B10%)))))))} -> 3 | H10: {=IF(VLOOKUP(H$5,Table,2,0)=0,(IF((H$5*$B10%)-INT(H$5*$B10%)>=MIN(IF((H$5*($B$7:$B$12)%)-INT((H$5*($B$7:$B$12)%))>Conversion!$D$2,(H$5*($B$7:$B$12)%)-INT((H$5*($B$7:$B$12)%)))),ROUNDUP((H$5*$B10%),0.5),INT((H$5*$B10%)))-Conversion!$E7),IF(VLOOKUP(H$5,Table,2,0)=1,(IF((H$5*$B10%)-INT(H$5*$B10%)>=MIN(IF((H$5*($B$7:$B$12)%)-INT((H$5*($B$7:$B$12)%))>Conversion!$D$2,(H$5*($B$7:$B$12)%)-INT((H$5*($B$7:$B$12)%)))),ROUNDUP((H$5*$B10%),0.5),INT((H$5*$B10%)))-Conversion!$F7),IF(VLOOKUP(H$5,Table,2,0)=-1,(IF((H$5*$B10%)-INT(H$5*$B10%)>=MIN(IF((H$5*($B$7:$B$12)%)-INT((H$5*($B$7:$B$12)%))>Conversion!$D$2,(H$5*($B$7:$B$12)%)-INT((H$5*($B$7:$B$12)%)))),ROUNDUP((H$5*$B10%),0.5),INT((H$5*$B10%)))))))} -> 5 | I10: {=IF(VLOOKUP(I$5,Table,2,0)=0,(IF((I$5*$B10%)-INT(I$5*$B10%)>=MIN(IF((I$5*($B$7:$B$12)%)-INT((I$5*($B$7:$B$12)%))>Conversion!$D$2,(I$5*($B$7:$B$12)%)-INT((I$5*($B$7:$B$12)%)))),ROUNDUP((I$5*$B10%),0.5),INT((I$5*$B10%)))-Conversion!$E7),IF(VLOOKUP(I$5,Table,2,0)=1,(IF((I$5*$B10%)-INT(I$5*$B10%)>=MIN(IF((I$5*($B$7:$B$12)%)-INT((I$5*($B$7:$B$12)%))>Conversion!$D$2,(I$5*($B$7:$B$12)%)-INT((I$5*($B$7:$B$12)%)))),ROUNDUP((I$5*$B10%),0.5),INT((I$5*$B10%)))-Conversion!$F7),IF(VLOOKUP(I$5,Table,2,0)=-1,(IF((I$5*$B10%)-INT(I$5*$B10%)>=MIN(IF((I$5*($B$7:$B$12)%)-INT((I$5*($B$7:$B$12)%))>Conversion!$D$2,(I$5*($B$7:$B$12)%)-INT((I$5*($B$7:$B$12)%)))),ROUNDUP((I$5*$B10%),0.5),INT((I$5*$B10%)))))))} -> 5 | J10: {=IF(VLOOKUP(J$5,Table,2,0)=0,(IF((J$5*$B10%)-INT(J$5*$B10%)>=MIN(IF((J$5*($B$7:$B$12)%)-INT((J$5*($B$7:$B$12)%))>Conversion!$D$2,(J$5*($B$7:$B$12)%)-INT((J$5*($B$7:$B$12)%)))),ROUNDUP((J$5*$B10%),0.5),INT((J$5*$B10%)))-Conversion!$E7),IF(VLOOKUP(J$5,Table,2,0)=1,(IF((J$5*$B10%)-INT(J$5*$B10%)>=MIN(IF((J$5*($B$7:$B$12)%)-INT((J$5*($B$7:$B$12)%))>Conversion!$D$2,(J$5*($B$7:$B$12)%)-INT((J$5*($B$7:$B$12)%)))),ROUNDUP((J$5*$B10%),0.5),INT((J$5*$B10%)))-Conversion!$F7),IF(VLOOKUP(J$5,Table,2,0)=-1,(IF((J$5*$B10%)-INT(J$5*$B10%)>=MIN(IF((J$5*($B$7:$B$12)%)-INT((J$5*($B$7:$B$12)%))>Conversion!$D$2,(J$5*($B$7:$B$12)%)-INT((J$5*($B$7:$B$12)%)))),ROUNDUP((J$5*$B10%),0.5),INT((J$5*$B10%)))))))} -> 6 | K10: {=IF(VLOOKUP(K$5,Table,2,0)=0,(IF((K$5*$B10%)-INT(K$5*$B10%)>=MIN(IF((K$5*($B$7:$B$12)%)-INT((K$5*($B$7:$B$12)%))>Conversion!$D$2,(K$5*($B$7:$B$12)%)-INT((K$5*($B$7:$B$12)%)))),ROUNDUP((K$5*$B10%),0.5),INT((K$5*$B10%)))-Conversion!$E7),IF(VLOOKUP(K$5,Table,2,0)=1,(IF((K$5*$B10%)-INT(K$5*$B10%)>=MIN(IF((K$5*($B$7:$B$12)%)-INT((K$5*($B$7:$B$12)%))>Conversion!$D$2,(K$5*($B$7:$B$12)%)-INT((K$5*($B$7:$B$12)%)))),ROUNDUP((K$5*$B10%),0.5),INT((K$5*$B10%)))-Conversion!$F7),IF(VLOOKUP(K$5,Table,2,0)=-1,(IF((K$5*$B10%)-INT(K$5*$B10%)>=MIN(IF((K$5*($B$7:$B$12)%)-INT((K$5*($B$7:$B$12)%))>Conversion!$D$2,(K$5*($B$7:$B$12)%)-INT((K$5*($B$7:$B$12)%)))),ROUNDUP((K$5*$B10%),0.5),INT((K$5*$B10%)))))))} -> 6 | ... M10: {=IF(VLOOKUP(M$5,Table,2,0)=0,(IF((M$5*$B10%)-INT(M$5*$B10%)>=MIN(IF((M$5*($B$7:$B$12)%)-INT((M$5*($B$7:$B$12)%))>Conversion!$D$2,(M$5*($B$7:$B$12)%)-INT((M$5*($B$7:$B$12)%)))),ROUNDUP((M$5*$B10%),0.5),INT((M$5*$B10%)))-Conversion!$E7),IF(VLOOKUP(M$5,Table,2,0)=1,(IF((M$5*$B10%)-INT(M$5*$B10%)>=MIN(IF((M$5*($B$7:$B$12)%)-INT((M$5*($B$7:$B$12)%))>Conversion!$D$2,(M$5*($B$7:$B$12)%)-INT((M$5*($B$7:$B$12)%)))),ROUNDUP((M$5*$B10%),0.5),INT((M$5*$B10%)))-Conversion!$F7),IF(VLOOKUP(M$5,Table,2,0)=-1,(IF((M$5*$B10%)-INT(M$5*$B10%)>=MIN(IF((M$5*($B$7:$B$12)%)-INT((M$5*($B$7:$B$12)%))>Conversion!$D$2,(M$5*($B$7:$B$12)%)-INT((M$5*($B$7:$B$12)%)))),ROUNDUP((M$5*$B10%),0.5),INT((M$5*$B10%)))))))} -> 6 | O10: =SUM(D10:M10) -> 59
B11: 12 | C11: magasin5 | D11: {=IF(VLOOKUP(D$5,Table,2,0)=0,(IF((D$5*$B11%)-INT(D$5*$B11%)>=MIN(IF((D$5*($B$7:$B$12)%)-INT((D$5*($B$7:$B$12)%))>Conversion!$D$2,(D$5*($B$7:$B$12)%)-INT((D$5*($B$7:$B$12)%)))),ROUNDUP((D$5*$B11%),0.5),INT((D$5*$B11%)))-Conversion!$E8),IF(VLOOKUP(D$5,Table,2,0)=1,(IF((D$5*$B11%)-INT(D$5*$B11%)>=MIN(IF((D$5*($B$7:$B$12)%)-INT((D$5*($B$7:$B$12)%))>Conversion!$D$2,(D$5*($B$7:$B$12)%)-INT((D$5*($B$7:$B$12)%)))),ROUNDUP((D$5*$B11%),0.5),INT((D$5*$B11%)))-Conversion!$F8),IF(VLOOKUP(D$5,Table,2,0)=-1,(IF((D$5*$B11%)-INT(D$5*$B11%)>=MIN(IF((D$5*($B$7:$B$12)%)-INT((D$5*($B$7:$B$12)%))>Conversion!$D$2,(D$5*($B$7:$B$12)%)-INT((D$5*($B$7:$B$12)%)))),ROUNDUP((D$5*$B11%),0.5),INT((D$5*$B11%)))))))} -> 12 | E11: {=IF(VLOOKUP(E$5,Table,2,0)=0,(IF((E$5*$B11%)-INT(E$5*$B11%)>=MIN(IF((E$5*($B$7:$B$12)%)-INT((E$5*($B$7:$B$12)%))>Conversion!$D$2,(E$5*($B$7:$B$12)%)-INT((E$5*($B$7:$B$12)%)))),ROUNDUP((E$5*$B11%),0.5),INT((E$5*$B11%)))-Conversion!$E8),IF(VLOOKUP(E$5,Table,2,0)=1,(IF((E$5*$B11%)-INT(E$5*$B11%)>=MIN(IF((E$5*($B$7:$B$12)%)-INT((E$5*($B$7:$B$12)%))>Conversion!$D$2,(E$5*($B$7:$B$12)%)-INT((E$5*($B$7:$B$12)%)))),ROUNDUP((E$5*$B11%),0.5),INT((E$5*$B11%)))-Conversion!$F8),IF(VLOOKUP(E$5,Table,2,0)=-1,(IF((E$5*$B11%)-INT(E$5*$B11%)>=MIN(IF((E$5*($B$7:$B$12)%)-INT((E$5*($B$7:$B$12)%))>Conversion!$D$2,(E$5*($B$7:$B$12)%)-INT((E$5*($B$7:$B$12)%)))),ROUNDUP((E$5*$B11%),0.5),INT((E$5*$B11%)))))))} -> 7 | F11: {=IF(VLOOKUP(F$5,Table,2,0)=0,(IF((F$5*$B11%)-INT(F$5*$B11%)>=MIN(IF((F$5*($B$7:$B$12)%)-INT((F$5*($B$7:$B$12)%))>Conversion!$D$2,(F$5*($B$7:$B$12)%)-INT((F$5*($B$7:$B$12)%)))),ROUNDUP((F$5*$B11%),0.5),INT((F$5*$B11%)))-Conversion!$E8),IF(VLOOKUP(F$5,Table,2,0)=1,(IF((F$5*$B11%)-INT(F$5*$B11%)>=MIN(IF((F$5*($B$7:$B$12)%)-INT((F$5*($B$7:$B$12)%))>Conversion!$D$2,(F$5*($B$7:$B$12)%)-INT((F$5*($B$7:$B$12)%)))),ROUNDUP((F$5*$B11%),0.5),INT((F$5*$B11%)))-Conversion!$F8),IF(VLOOKUP(F$5,Table,2,0)=-1,(IF((F$5*$B11%)-INT(F$5*$B11%)>=MIN(IF((F$5*($B$7:$B$12)%)-INT((F$5*($B$7:$B$12)%))>Conversion!$D$2,(F$5*($B$7:$B$12)%)-INT((F$5*($B$7:$B$12)%)))),ROUNDUP((F$5*$B11%),0.5),INT((F$5*$B11%)))))))} -> 7 | G11: {=IF(VLOOKUP(G$5,Table,2,0)=0,(IF((G$5*$B11%)-INT(G$5*$B11%)>=MIN(IF((G$5*($B$7:$B$12)%)-INT((G$5*($B$7:$B$12)%))>Conversion!$D$2,(G$5*($B$7:$B$12)%)-INT((G$5*($B$7:$B$12)%)))),ROUNDUP((G$5*$B11%),0.5),INT((G$5*$B11%)))-Conversion!$E8),IF(VLOOKUP(G$5,Table,2,0)=1,(IF((G$5*$B11%)-INT(G$5*$B11%)>=MIN(IF((G$5*($B$7:$B$12)%)-INT((G$5*($B$7:$B$12)%))>Conversion!$D$2,(G$5*($B$7:$B$12)%)-INT((G$5*($B$7:$B$12)%)))),ROUNDUP((G$5*$B11%),0.5),INT((G$5*$B11%)))-Conversion!$F8),IF(VLOOKUP(G$5,Table,2,0)=-1,(IF((G$5*$B11%)-INT(G$5*$B11%)>=MIN(IF((G$5*($B$7:$B$12)%)-INT((G$5*($B$7:$B$12)%))>Conversion!$D$2,(G$5*($B$7:$B$12)%)-INT((G$5*($B$7:$B$12)%)))),ROUNDUP((G$5*$B11%),0.5),INT((G$5*$B11%)))))))} -> 3 | H11: {=IF(VLOOKUP(H$5,Table,2,0)=0,(IF((H$5*$B11%)-INT(H$5*$B11%)>=MIN(IF((H$5*($B$7:$B$12)%)-INT((H$5*($B$7:$B$12)%))>Conversion!$D$2,(H$5*($B$7:$B$12)%)-INT((H$5*($B$7:$B$12)%)))),ROUNDUP((H$5*$B11%),0.5),INT((H$5*$B11%)))-Conversion!$E8),IF(VLOOKUP(H$5,Table,2,0)=1,(IF((H$5*$B11%)-INT(H$5*$B11%)>=MIN(IF((H$5*($B$7:$B$12)%)-INT((H$5*($B$7:$B$12)%))>Conversion!$D$2,(H$5*($B$7:$B$12)%)-INT((H$5*($B$7:$B$12)%)))),ROUNDUP((H$5*$B11%),0.5),INT((H$5*$B11%)))-Conversion!$F8),IF(VLOOKUP(H$5,Table,2,0)=-1,(IF((H$5*$B11%)-INT(H$5*$B11%)>=MIN(IF((H$5*($B$7:$B$12)%)-INT((H$5*($B$7:$B$12)%))>Conversion!$D$2,(H$5*($B$7:$B$12)%)-INT((H$5*($B$7:$B$12)%)))),ROUNDUP((H$5*$B11%),0.5),INT((H$5*$B11%)))))))} -> 6 | I11: {=IF(VLOOKUP(I$5,Table,2,0)=0,(IF((I$5*$B11%)-INT(I$5*$B11%)>=MIN(IF((I$5*($B$7:$B$12)%)-INT((I$5*($B$7:$B$12)%))>Conversion!$D$2,(I$5*($B$7:$B$12)%)-INT((I$5*($B$7:$B$12)%)))),ROUNDUP((I$5*$B11%),0.5),INT((I$5*$B11%)))-Conversion!$E8),IF(VLOOKUP(I$5,Table,2,0)=1,(IF((I$5*$B11%)-INT(I$5*$B11%)>=MIN(IF((I$5*($B$7:$B$12)%)-INT((I$5*($B$7:$B$12)%))>Conversion!$D$2,(I$5*($B$7:$B$12)%)-INT((I$5*($B$7:$B$12)%)))),ROUNDUP((I$5*$B11%),0.5),INT((I$5*$B11%)))-Conversion!$F8),IF(VLOOKUP(I$5,Table,2,0)=-1,(IF((I$5*$B11%)-INT(I$5*$B11%)>=MIN(IF((I$5*($B$7:$B$12)%)-INT((I$5*($B$7:$B$12)%))>Conversion!$D$2,(I$5*($B$7:$B$12)%)-INT((I$5*($B$7:$B$12)%)))),ROUNDUP((I$5*$B11%),0.5),INT((I$5*$B11%)))))))} -> 6 | J11: {=IF(VLOOKUP(J$5,Table,2,0)=0,(IF((J$5*$B11%)-INT(J$5*$B11%)>=MIN(IF((J$5*($B$7:$B$12)%)-INT((J$5*($B$7:$B$12)%))>Conversion!$D$2,(J$5*($B$7:$B$12)%)-INT((J$5*($B$7:$B$12)%)))),ROUNDUP((J$5*$B11%),0.5),INT((J$5*$B11%)))-Conversion!$E8),IF(VLOOKUP(J$5,Table,2,0)=1,(IF((J$5*$B11%)-INT(J$5*$B11%)>=MIN(IF((J$5*($B$7:$B$12)%)-INT((J$5*($B$7:$B$12)%))>Conversion!$D$2,(J$5*($B$7:$B$12)%)-INT((J$5*($B$7:$B$12)%)))),ROUNDUP((J$5*$B11%),0.5),INT((J$5*$B11%)))-Conversion!$F8),IF(VLOOKUP(J$5,Table,2,0)=-1,(IF((J$5*$B11%)-INT(J$5*$B11%)>=MIN(IF((J$5*($B$7:$B$12)%)-INT((J$5*($B$7:$B$12)%))>Conversion!$D$2,(J$5*($B$7:$B$12)%)-INT((J$5*($B$7:$B$12)%)))),ROUNDUP((J$5*$B11%),0.5),INT((J$5*$B11%)))))))} -> 7 | K11: {=IF(VLOOKUP(K$5,Table,2,0)=0,(IF((K$5*$B11%)-INT(K$5*$B11%)>=MIN(IF((K$5*($B$7:$B$12)%)-INT((K$5*($B$7:$B$12)%))>Conversion!$D$2,(K$5*($B$7:$B$12)%)-INT((K$5*($B$7:$B$12)%)))),ROUNDUP((K$5*$B11%),0.5),INT((K$5*$B11%)))-Conversion!$E8),IF(VLOOKUP(K$5,Table,2,0)=1,(IF((K$5*$B11%)-INT(K$5*$B11%)>=MIN(IF((K$5*($B$7:$B$12)%)-INT((K$5*($B$7:$B$12)%))>Conversion!$D$2,(K$5*($B$7:$B$12)%)-INT((K$5*($B$7:$B$12)%)))),ROUNDUP((K$5*$B11%),0.5),INT((K$5*$B11%)))-Conversion!$F8),IF(VLOOKUP(K$5,Table,2,0)=-1,(IF((K$5*$B11%)-INT(K$5*$B11%)>=MIN(IF((K$5*($B$7:$B$12)%)-INT((K$5*($B$7:$B$12)%))>Conversion!$D$2,(K$5*($B$7:$B$12)%)-INT((K$5*($B$7:$B$12)%)))),ROUNDUP((K$5*$B11%),0.5),INT((K$5*$B11%)))))))} -> 7 | ... M11: {=IF(VLOOKUP(M$5,Table,2,0)=0,(IF((M$5*$B11%)-INT(M$5*$B11%)>=MIN(IF((M$5*($B$7:$B$12)%)-INT((M$5*($B$7:$B$12)%))>Conversion!$D$2,(M$5*($B$7:$B$12)%)-INT((M$5*($B$7:$B$12)%)))),ROUNDUP((M$5*$B11%),0.5),INT((M$5*$B11%)))-Conversion!$E8),IF(VLOOKUP(M$5,Table,2,0)=1,(IF((M$5*$B11%)-INT(M$5*$B11%)>=MIN(IF((M$5*($B$7:$B$12)%)-INT((M$5*($B$7:$B$12)%))>Conversion!$D$2,(M$5*($B$7:$B$12)%)-INT((M$5*($B$7:$B$12)%)))),ROUNDUP((M$5*$B11%),0.5),INT((M$5*$B11%)))-Conversion!$F8),IF(VLOOKUP(M$5,Table,2,0)=-1,(IF((M$5*$B11%)-INT(M$5*$B11%)>=MIN(IF((M$5*($B$7:$B$12)%)-INT((M$5*($B$7:$B$12)%))>Conversion!$D$2,(M$5*($B$7:$B$12)%)-INT((M$5*($B$7:$B$12)%)))),ROUNDUP((M$5*$B11%),0.5),INT((M$5*$B11%)))))))} -> 7 | O11: =SUM(D11:M11) -> 69
B12: 15 | C12: magasin6 | D12: {=IF(VLOOKUP(D$5,Table,2,0)=0,(IF((D$5*$B12%)-INT(D$5*$B12%)>=MIN(IF((D$5*($B$7:$B$12)%)-INT((D$5*($B$7:$B$12)%))>Conversion!$D$2,(D$5*($B$7:$B$12)%)-INT((D$5*($B$7:$B$12)%)))),ROUNDUP((D$5*$B12%),0.5),INT((D$5*$B12%)))-Conversion!$E9),IF(VLOOKUP(D$5,Table,2,0)=1,(IF((D$5*$B12%)-INT(D$5*$B12%)>=MIN(IF((D$5*($B$7:$B$12)%)-INT((D$5*($B$7:$B$12)%))>Conversion!$D$2,(D$5*($B$7:$B$12)%)-INT((D$5*($B$7:$B$12)%)))),ROUNDUP((D$5*$B12%),0.5),INT((D$5*$B12%)))-Conversion!$F9),IF(VLOOKUP(D$5,Table,2,0)=-1,(IF((D$5*$B12%)-INT(D$5*$B12%)>=MIN(IF((D$5*($B$7:$B$12)%)-INT((D$5*($B$7:$B$12)%))>Conversion!$D$2,(D$5*($B$7:$B$12)%)-INT((D$5*($B$7:$B$12)%)))),ROUNDUP((D$5*$B12%),0.5),INT((D$5*$B12%)))))))} -> 15 | E12: {=IF(VLOOKUP(E$5,Table,2,0)=0,(IF((E$5*$B12%)-INT(E$5*$B12%)>=MIN(IF((E$5*($B$7:$B$12)%)-INT((E$5*($B$7:$B$12)%))>Conversion!$D$2,(E$5*($B$7:$B$12)%)-INT((E$5*($B$7:$B$12)%)))),ROUNDUP((E$5*$B12%),0.5),INT((E$5*$B12%)))-Conversion!$E9),IF(VLOOKUP(E$5,Table,2,0)=1,(IF((E$5*$B12%)-INT(E$5*$B12%)>=MIN(IF((E$5*($B$7:$B$12)%)-INT((E$5*($B$7:$B$12)%))>Conversion!$D$2,(E$5*($B$7:$B$12)%)-INT((E$5*($B$7:$B$12)%)))),ROUNDUP((E$5*$B12%),0.5),INT((E$5*$B12%)))-Conversion!$F9),IF(VLOOKUP(E$5,Table,2,0)=-1,(IF((E$5*$B12%)-INT(E$5*$B12%)>=MIN(IF((E$5*($B$7:$B$12)%)-INT((E$5*($B$7:$B$12)%))>Conversion!$D$2,(E$5*($B$7:$B$12)%)-INT((E$5*($B$7:$B$12)%)))),ROUNDUP((E$5*$B12%),0.5),INT((E$5*$B12%)))))))} -> 9 | F12: {=IF(VLOOKUP(F$5,Table,2,0)=0,(IF((F$5*$B12%)-INT(F$5*$B12%)>=MIN(IF((F$5*($B$7:$B$12)%)-INT((F$5*($B$7:$B$12)%))>Conversion!$D$2,(F$5*($B$7:$B$12)%)-INT((F$5*($B$7:$B$12)%)))),ROUNDUP((F$5*$B12%),0.5),INT((F$5*$B12%)))-Conversion!$E9),IF(VLOOKUP(F$5,Table,2,0)=1,(IF((F$5*$B12%)-INT(F$5*$B12%)>=MIN(IF((F$5*($B$7:$B$12)%)-INT((F$5*($B$7:$B$12)%))>Conversion!$D$2,(F$5*($B$7:$B$12)%)-INT((F$5*($B$7:$B$12)%)))),ROUNDUP((F$5*$B12%),0.5),INT((F$5*$B12%)))-Conversion!$F9),IF(VLOOKUP(F$5,Table,2,0)=-1,(IF((F$5*$B12%)-INT(F$5*$B12%)>=MIN(IF((F$5*($B$7:$B$12)%)-INT((F$5*($B$7:$B$12)%))>Conversion!$D$2,(F$5*($B$7:$B$12)%)-INT((F$5*($B$7:$B$12)%)))),ROUNDUP((F$5*$B12%),0.5),INT((F$5*$B12%)))))))} -> 9 | G12: {=IF(VLOOKUP(G$5,Table,2,0)=0,(IF((G$5*$B12%)-INT(G$5*$B12%)>=MIN(IF((G$5*($B$7:$B$12)%)-INT((G$5*($B$7:$B$12)%))>Conversion!$D$2,(G$5*($B$7:$B$12)%)-INT((G$5*($B$7:$B$12)%)))),ROUNDUP((G$5*$B12%),0.5),INT((G$5*$B12%)))-Conversion!$E9),IF(VLOOKUP(G$5,Table,2,0)=1,(IF((G$5*$B12%)-INT(G$5*$B12%)>=MIN(IF((G$5*($B$7:$B$12)%)-INT((G$5*($B$7:$B$12)%))>Conversion!$D$2,(G$5*($B$7:$B$12)%)-INT((G$5*($B$7:$B$12)%)))),ROUNDUP((G$5*$B12%),0.5),INT((G$5*$B12%)))-Conversion!$F9),IF(VLOOKUP(G$5,Table,2,0)=-1,(IF((G$5*$B12%)-INT(G$5*$B12%)>=MIN(IF((G$5*($B$7:$B$12)%)-INT((G$5*($B$7:$B$12)%))>Conversion!$D$2,(G$5*($B$7:$B$12)%)-INT((G$5*($B$7:$B$12)%)))),ROUNDUP((G$5*$B12%),0.5),INT((G$5*$B12%)))))))} -> 4 | H12: {=IF(VLOOKUP(H$5,Table,2,0)=0,(IF((H$5*$B12%)-INT(H$5*$B12%)>=MIN(IF((H$5*($B$7:$B$12)%)-INT((H$5*($B$7:$B$12)%))>Conversion!$D$2,(H$5*($B$7:$B$12)%)-INT((H$5*($B$7:$B$12)%)))),ROUNDUP((H$5*$B12%),0.5),INT((H$5*$B12%)))-Conversion!$E9),IF(VLOOKUP(H$5,Table,2,0)=1,(IF((H$5*$B12%)-INT(H$5*$B12%)>=MIN(IF((H$5*($B$7:$B$12)%)-INT((H$5*($B$7:$B$12)%))>Conversion!$D$2,(H$5*($B$7:$B$12)%)-INT((H$5*($B$7:$B$12)%)))),ROUNDUP((H$5*$B12%),0.5),INT((H$5*$B12%)))-Conversion!$F9),IF(VLOOKUP(H$5,Table,2,0)=-1,(IF((H$5*$B12%)-INT(H$5*$B12%)>=MIN(IF((H$5*($B$7:$B$12)%)-INT((H$5*($B$7:$B$12)%))>Conversion!$D$2,(H$5*($B$7:$B$12)%)-INT((H$5*($B$7:$B$12)%)))),ROUNDUP((H$5*$B12%),0.5),INT((H$5*$B12%)))))))} -> 8 | I12: {=IF(VLOOKUP(I$5,Table,2,0)=0,(IF((I$5*$B12%)-INT(I$5*$B12%)>=MIN(IF((I$5*($B$7:$B$12)%)-INT((I$5*($B$7:$B$12)%))>Conversion!$D$2,(I$5*($B$7:$B$12)%)-INT((I$5*($B$7:$B$12)%)))),ROUNDUP((I$5*$B12%),0.5),INT((I$5*$B12%)))-Conversion!$E9),IF(VLOOKUP(I$5,Table,2,0)=1,(IF((I$5*$B12%)-INT(I$5*$B12%)>=MIN(IF((I$5*($B$7:$B$12)%)-INT((I$5*($B$7:$B$12)%))>Conversion!$D$2,(I$5*($B$7:$B$12)%)-INT((I$5*($B$7:$B$12)%)))),ROUNDUP((I$5*$B12%),0.5),INT((I$5*$B12%)))-Conversion!$F9),IF(VLOOKUP(I$5,Table,2,0)=-1,(IF((I$5*$B12%)-INT(I$5*$B12%)>=MIN(IF((I$5*($B$7:$B$12)%)-INT((I$5*($B$7:$B$12)%))>Conversion!$D$2,(I$5*($B$7:$B$12)%)-INT((I$5*($B$7:$B$12)%)))),ROUNDUP((I$5*$B12%),0.5),INT((I$5*$B12%)))))))} -> 8 | J12: {=IF(VLOOKUP(J$5,Table,2,0)=0,(IF((J$5*$B12%)-INT(J$5*$B12%)>=MIN(IF((J$5*($B$7:$B$12)%)-INT((J$5*($B$7:$B$12)%))>Conversion!$D$2,(J$5*($B$7:$B$12)%)-INT((J$5*($B$7:$B$12)%)))),ROUNDUP((J$5*$B12%),0.5),INT((J$5*$B12%)))-Conversion!$E9),IF(VLOOKUP(J$5,Table,2,0)=1,(IF((J$5*$B12%)-INT(J$5*$B12%)>=MIN(IF((J$5*($B$7:$B$12)%)-INT((J$5*($B$7:$B$12)%))>Conversion!$D$2,(J$5*($B$7:$B$12)%)-INT((J$5*($B$7:$B$12)%)))),ROUNDUP((J$5*$B12%),0.5),INT((J$5*$B12%)))-Conversion!$F9),IF(VLOOKUP(J$5,Table,2,0)=-1,(IF((J$5*$B12%)-INT(J$5*$B12%)>=MIN(IF((J$5*($B$7:$B$12)%)-INT((J$5*($B$7:$B$12)%))>Conversion!$D$2,(J$5*($B$7:$B$12)%)-INT((J$5*($B$7:$B$12)%)))),ROUNDUP((J$5*$B12%),0.5),INT((J$5*$B12%)))))))} -> 8 | K12: {=IF(VLOOKUP(K$5,Table,2,0)=0,(IF((K$5*$B12%)-INT(K$5*$B12%)>=MIN(IF((K$5*($B$7:$B$12)%)-INT((K$5*($B$7:$B$12)%))>Conversion!$D$2,(K$5*($B$7:$B$12)%)-INT((K$5*($B$7:$B$12)%)))),ROUNDUP((K$5*$B12%),0.5),INT((K$5*$B12%)))-Conversion!$E9),IF(VLOOKUP(K$5,Table,2,0)=1,(IF((K$5*$B12%)-INT(K$5*$B12%)>=MIN(IF((K$5*($B$7:$B$12)%)-INT((K$5*($B$7:$B$12)%))>Conversion!$D$2,(K$5*($B$7:$B$12)%)-INT((K$5*($B$7:$B$12)%)))),ROUNDUP((K$5*$B12%),0.5),INT((K$5*$B12%)))-Conversion!$F9),IF(VLOOKUP(K$5,Table,2,0)=-1,(IF((K$5*$B12%)-INT(K$5*$B12%)>=MIN(IF((K$5*($B$7:$B$12)%)-INT((K$5*($B$7:$B$12)%))>Conversion!$D$2,(K$5*($B$7:$B$12)%)-INT((K$5*($B$7:$B$12)%)))),ROUNDUP((K$5*$B12%),0.5),INT((K$5*$B12%)))))))} -> 8 | ... M12: {=IF(VLOOKUP(M$5,Table,2,0)=0,(IF((M$5*$B12%)-INT(M$5*$B12%)>=MIN(IF((M$5*($B$7:$B$12)%)-INT((M$5*($B$7:$B$12)%))>Conversion!$D$2,(M$5*($B$7:$B$12)%)-INT((M$5*($B$7:$B$12)%)))),ROUNDUP((M$5*$B12%),0.5),INT((M$5*$B12%)))-Conversion!$E9),IF(VLOOKUP(M$5,Table,2,0)=1,(IF((M$5*$B12%)-INT(M$5*$B12%)>=MIN(IF((M$5*($B$7:$B$12)%)-INT((M$5*($B$7:$B$12)%))>Conversion!$D$2,(M$5*($B$7:$B$12)%)-INT((M$5*($B$7:$B$12)%)))),ROUNDUP((M$5*$B12%),0.5),INT((M$5*$B12%)))-Conversion!$F9),IF(VLOOKUP(M$5,Table,2,0)=-1,(IF((M$5*$B12%)-INT(M$5*$B12%)>=MIN(IF((M$5*($B$7:$B$12)%)-INT((M$5*($B$7:$B$12)%))>Conversion!$D$2,(M$5*($B$7:$B$12)%)-INT((M$5*($B$7:$B$12)%)))),ROUNDUP((M$5*$B12%),0.5),INT((M$5*$B12%)))))))} -> 9 | O12: =SUM(D12:M12) -> 86
C13: tot mag | D13: =SUM(D7:D12) -> 100 | E13: =SUM(E7:E12) -> 59 | F13: =SUM(F7:F12) -> 59 | G13: =SUM(G7:G12) -> 27 | H13: =SUM(H7:H12) -> 51 | I13: =SUM(I7:I12) -> 52 | J13: =SUM(J7:J12) -> 53 | K13: =SUM(K7:K12) -> 54 | ... O13: =SUM(O7:O12) -> 566
C14: diff qty achat vs tot mag | D14: =D5-D13 -> 0 | E14: =E5-E13 -> 0 | F14: =F5-F13 -> 0 | G14: =G5-G13 -> 0 | H14: =SUM(H5)-H13 -> 0 | I14: =SUM(I5)-I13 -> 0 | J14: =SUM(J5)-J13 -> 0 | K14: =SUM(K5)-K13 -> 0 | L14: =SUM(L5)-L13 -> 0 | M14: =SUM(M5)-M13 -> 0 | N14: =SUM(N5)-N13 -> 0 | O14: =SUM(O5)-O13 -> 0

Sheet Conversion
A1: Qté | B1: écart
A2: 11 | B2: 1 | D2: =(LCM('3567E5102'!B7,'3567E5102'!B8,'3567E5102'!B9,'3567E5102'!B10,'3567E5102'!B11,'3567E5102'!B12)/1000)-0.5 -> 0.28
A3: 12 | B3: 1
A4: 13 | B4: 1 | D4: =RAND() -> 0.375475 | E4: =IF(D4=MAX($D$4:$D$9),1,0) -> 0 | F4: =IF(D4>=LARGE($D$4:$D$9,2),1,0) -> 0
A5: 14 | B5: 0 | D5: =RAND() -> 0.55625848 | E5: =IF(D5=MAX($D$4:$D$9),1,0) -> 0 | F5: =IF(D5>=LARGE($D$4:$D$9,2),1,0) -> 1
A6: 15 | B6: 0 | D6: =RAND() -> 0.70114583 | E6: =IF(D6=MAX($D$4:$D$9),1,0) -> 1 | F6: =IF(D6>=LARGE($D$4:$D$9,2),1,0) -> 1
A7: 16 | B7: 0 | D7: =RAND() -> 0.2005818 | E7: =IF(D7=MAX($D$4:$D$9),1,0) -> 0 | F7: =IF(D7>=LARGE($D$4:$D$9,2),1,0) -> 0
A8: 17 | B8: 0 | D8: =RAND() -> 0.27938791 | E8: =IF(D8=MAX($D$4:$D$9),1,0) -> 0 | F8: =IF(D8>=LARGE($D$4:$D$9,2),1,0) -> 0
A9: 18 | B9: 1 | D9: =RAND() -> 0.23069372 | E9: =IF(D9=MAX($D$4:$D$9),1,0) -> 0 | F9: =IF(D9>=LARGE($D$4:$D$9,2),1,0) -> 0
A10: 19 | B10: 0
A11: 20 | B11: 0
A12: 21 | B12: 0
A13: 22 | B13: 1
A14: 23 | B14: 1
A15: 24 | B15: 0
A16: 25 | B16: 0
A17: 26 | B17: 0
A18: 27 | B18: 0
A19: 28 | B19: 1
A20: 29 | B20: 1
A21: 30 | B21: 0
... A91: 100 | B91: -1
