Workbook
Name Année: 'Récap heure'!$I$1

Sheet Récap heure
C1: Fiche d'heure | I1: 2020 | K1: Base hebdomadaire : | M1: 1.625
B3: ="Relicat " & Année-1 -> Relicat 2019 | C3: Janvier | D3: Février | E3: Mars | F3: Avril | G3: Mai | H3: Juin | I3: Juillet | J3: Août | K3: Septembre | L3: Octobre | M3: Novembre | N3: Décembre
A4: Nb Heures | C4: =INDIRECT(C$3&"!G35") -> 0 | D4: =INDIRECT(D$3&"!G35") -> 0 | E4: =INDIRECT(E$3&"!G35") -> 0 | F4: =INDIRECT(F$3&"!G35") -> 0 | G4: =INDIRECT(G$3&"!G35") -> 0 | H4: =INDIRECT(H$3&"!G35") -> 0 | I4: =INDIRECT(I$3&"!G35") -> 0 | J4: =INDIRECT(J$3&"!G35") -> 0 | ... N4: =INDIRECT(N$3&"!G35") -> 0
A5: Moy H/J | C5: =INDIRECT(C$3&"!B40") | D5: =INDIRECT(D$3&"!B40") | E5: =INDIRECT(E$3&"!B40") | F5: =INDIRECT(F$3&"!B40") | G5: =INDIRECT(G$3&"!B40") | H5: =INDIRECT(H$3&"!B40") | I5: =INDIRECT(I$3&"!B40") | J5: =INDIRECT(J$3&"!B40") | ... N5: =INDIRECT(N$3&"!B40") | O5: =SUM(C5:N5)/12 -> 0
A6: HE | C6: =INDIRECT(C$3&"!G40") -> 0 | D6: =INDIRECT(D$3&"!G40") -> 0 | E6: =INDIRECT(E$3&"!G40") -> 0 | F6: =INDIRECT(F$3&"!G40") -> 0 | G6: =INDIRECT(G$3&"!G40") -> 0 | H6: =INDIRECT(H$3&"!G40") -> 0 | I6: =INDIRECT(I$3&"!G40") -> 0 | J6: =INDIRECT(J$3&"!G40") -> 0 | ... N6: =INDIRECT(N$3&"!G40") -> 0 | O6: =SUM(C6:N6) -> 0
A7: HE cumulées | C7: =C6+B7 -> 0 | D7: =D6+C7 -> 0 | E7: =E6+D7 -> 0 | F7: =F6+E7 -> 0 | G7: =G6+F7 -> 0 | H7: =H6+G7 -> 0 | I7: =I6+H7 -> 0 | J7: =J6+I7 -> 0 | ... N7: =N6+M7 -> 0
A8: Nb Jours cumulées | C8: =INDIRECT(C$3&"!D40")+B8 -> 0 | D8: =INDIRECT(D$3&"!D40")+C8 -> 0 | E8: =INDIRECT(E$3&"!D40")+D8 -> 0 | F8: =INDIRECT(F$3&"!D40")+E8 -> 0 | G8: =INDIRECT(G$3&"!D40")+F8 -> 0 | H8: =INDIRECT(H$3&"!D40")+G8 -> 0 | I8: =INDIRECT(I$3&"!D40")+H8 -> 0 | J8: =INDIRECT(J$3&"!D40")+I8 -> 0 | ... N8: =INDIRECT(N$3&"!D40")+M8 -> 0

Sheet Janvier
B1: Feuille de présence mensuelle
D2: Janvier
B3: Jour | C3: Arrivée | D3: Départ | E3: Arrivée | F3: Départ | G3: Total Heures | H3: Statut | I3: Motif absence | K3: Commentaire
B4: =DATE(Année,MONTH("1/"&D2),1) -> 43831 | G4: =(IF(D4<C4,(1-C4+D4),((D4-C4)))+IF(F4<E4,(1-E4+F4),((F4-E4)))) -> 0 | H4: =IF(B4<>"",IF(G4>(1/24*6),"Présent",IF(G4>0,"1/2 journée","Absent")),"") -> Absent
B5: =B4+1 -> 43832 | G5: =(IF(D5<C5,(1-C5+D5),((D5-C5)))+IF(F5<E5,(1-E5+F5),((F5-E5)))) -> 0 | H5: =IF(B5<>"",IF(G5>(1/24*6),"Présent",IF(G5>0,"1/2 journée","Absent")),"") -> Absent
B6: =B5+1 -> 43833 | G6: =(IF(D6<C6,(1-C6+D6),((D6-C6)))+IF(F6<E6,(1-E6+F6),((F6-E6)))) -> 0 | H6: =IF(B6<>"",IF(G6>(1/24*6),"Présent",IF(G6>0,"1/2 journée","Absent")),"") -> Absent
B7: =B6+1 -> 43834 | G7: =(IF(D7<C7,(1-C7+D7),((D7-C7)))+IF(F7<E7,(1-E7+F7),((F7-E7)))) -> 0 | H7: =IF(B7<>"",IF(G7>(1/24*6),"Présent",IF(G7>0,"1/2 journée","Absent")),"") -> Absent
B8: =B7+1 -> 43835 | G8: =(IF(D8<C8,(1-C8+D8),((D8-C8)))+IF(F8<E8,(1-E8+F8),((F8-E8)))) -> 0 | H8: =IF(B8<>"",IF(G8>(1/24*6),"Présent",IF(G8>0,"1/2 journée","Absent")),"") -> Absent
B9: =B8+1 -> 43836 | G9: =(IF(D9<C9,(1-C9+D9),((D9-C9)))+IF(F9<E9,(1-E9+F9),((F9-E9)))) -> 0 | H9: =IF(B9<>"",IF(G9>(1/24*6),"Présent",IF(G9>0,"1/2 journée","Absent")),"") -> Absent
B10: =B9+1 -> 43837 | G10: =(IF(D10<C10,(1-C10+D10),((D10-C10)))+IF(F10<E10,(1-E10+F10),((F10-E10)))) -> 0 | H10: =IF(B10<>"",IF(G10>(1/24*6),"Présent",IF(G10>0,"1/2 journée","Absent")),"") -> Absent
B11: =B10+1 -> 43838 | G11: =(IF(D11<C11,(1-C11+D11),((D11-C11)))+IF(F11<E11,(1-E11+F11),((F11-E11)))) -> 0 | H11: =IF(B11<>"",IF(G11>(1/24*6),"Présent",IF(G11>0,"1/2 journée","Absent")),"") -> Absent
B12: =B11+1 -> 43839 | G12: =(IF(D12<C12,(1-C12+D12),((D12-C12)))+IF(F12<E12,(1-E12+F12),((F12-E12)))) -> 0 | H12: =IF(B12<>"",IF(G12>(1/24*6),"Présent",IF(G12>0,"1/2 journée","Absent")),"") -> Absent
B13: =B12+1 -> 43840 | G13: =(IF(D13<C13,(1-C13+D13),((D13-C13)))+IF(F13<E13,(1-E13+F13),((F13-E13)))) -> 0 | H13: =IF(B13<>"",IF(G13>(1/24*6),"Présent",IF(G13>0,"1/2 journée","Absent")),"") -> Absent
B14: =B13+1 -> 43841 | G14: =(IF(D14<C14,(1-C14+D14),((D14-C14)))+IF(F14<E14,(1-E14+F14),((F14-E14)))) -> 0 | H14: =IF(B14<>"",IF(G14>(1/24*6),"Présent",IF(G14>0,"1/2 journée","Absent")),"") -> Absent
B15: =B14+1 -> 43842 | G15: =(IF(D15<C15,(1-C15+D15),((D15-C15)))+IF(F15<E15,(1-E15+F15),((F15-E15)))) -> 0 | H15: =IF(B15<>"",IF(G15>(1/24*6),"Présent",IF(G15>0,"1/2 journée","Absent")),"") -> Absent
B16: =B15+1 -> 43843 | G16: =(IF(D16<C16,(1-C16+D16),((D16-C16)))+IF(F16<E16,(1-E16+F16),((F16-E16)))) -> 0 | H16: =IF(B16<>"",IF(G16>(1/24*6),"Présent",IF(G16>0,"1/2 journée","Absent")),"") -> Absent
... B34: =B33+1 -> 43861 | G34: =(IF(D34<C34,(1-C34+D34),((D34-C34)))+IF(F34<E34,(1-E34+F34),((F34-E34)))) -> 0 | H34: =IF(B34<>"",IF(G34>(1/24*6),"Présent",IF(G34>0,"1/2 journée","Absent")),"") -> Absent
F35: Heures totales | G35: =SUM(G4:G34) -> 0
F36: Taux horaire | G36: 8.5
F37: Total de la paie | G37: =G35*G36 -> 0
B39: Moyenne par jour | D39: Nb jours travaillés | G39: Heures exedentaires
B40: =IF(G35<>0,AVERAGEIF(G4:G33,"<>0"),"") | D40: =COUNTIFS(G4:G34,">0") -> 0 | G40: =(G35-(COUNTIFS(G4:G34,">0")*'Récap heure'!M1/5))*24 -> 0

Sheet Février
B1: Feuille de présence mensuelle
D2: Février
B3: Jour | C3: Arrivée | D3: Départ | E3: Arrivée | F3: Départ | G3: Total Heures | H3: Statut | I3: Motif absence | K3: Commentaire
B4: =DATE(Année,MONTH("1/"&D2),1) -> 43862 | G4: =(IF(D4<C4,(1-C4+D4),((D4-C4)))+IF(F4<E4,(1-E4+F4),((F4-E4)))) -> 0 | H4: =IF(B4<>"",IF(G4>(1/24*6),"Présent",IF(G4>0,"1/2 journée","Absent")),"") -> Absent
B5: =B4+1 -> 43863 | G5: =(IF(D5<C5,(1-C5+D5),((D5-C5)))+IF(F5<E5,(1-E5+F5),((F5-E5)))) -> 0 | H5: =IF(B5<>"",IF(G5>(1/24*6),"Présent",IF(G5>0,"1/2 journée","Absent")),"") -> Absent
B6: =B5+1 -> 43864 | G6: =(IF(D6<C6,(1-C6+D6),((D6-C6)))+IF(F6<E6,(1-E6+F6),((F6-E6)))) -> 0 | H6: =IF(B6<>"",IF(G6>(1/24*6),"Présent",IF(G6>0,"1/2 journée","Absent")),"") -> Absent
B7: =B6+1 -> 43865 | G7: =(IF(D7<C7,(1-C7+D7),((D7-C7)))+IF(F7<E7,(1-E7+F7),((F7-E7)))) -> 0 | H7: =IF(B7<>"",IF(G7>(1/24*6),"Présent",IF(G7>0,"1/2 journée","Absent")),"") -> Absent
B8: =B7+1 -> 43866 | G8: =(IF(D8<C8,(1-C8+D8),((D8-C8)))+IF(F8<E8,(1-E8+F8),((F8-E8)))) -> 0 | H8: =IF(B8<>"",IF(G8>(1/24*6),"Présent",IF(G8>0,"1/2 journée","Absent")),"") -> Absent
B9: =B8+1 -> 43867 | G9: =(IF(D9<C9,(1-C9+D9),((D9-C9)))+IF(F9<E9,(1-E9+F9),((F9-E9)))) -> 0 | H9: =IF(B9<>"",IF(G9>(1/24*6),"Présent",IF(G9>0,"1/2 journée","Absent")),"") -> Absent
B10: =B9+1 -> 43868 | G10: =(IF(D10<C10,(1-C10+D10),((D10-C10)))+IF(F10<E10,(1-E10+F10),((F10-E10)))) -> 0 | H10: =IF(B10<>"",IF(G10>(1/24*6),"Présent",IF(G10>0,"1/2 journée","Absent")),"") -> Absent
B11: =B10+1 -> 43869 | G11: =(IF(D11<C11,(1-C11+D11),((D11-C11)))+IF(F11<E11,(1-E11+F11),((F11-E11)))) -> 0 | H11: =IF(B11<>"",IF(G11>(1/24*6),"Présent",IF(G11>0,"1/2 journée","Absent")),"") -> Absent
B12: =B11+1 -> 43870 | G12: =(IF(D12<C12,(1-C12+D12),((D12-C12)))+IF(F12<E12,(1-E12+F12),((F12-E12)))) -> 0 | H12: =IF(B12<>"",IF(G12>(1/24*6),"Présent",IF(G12>0,"1/2 journée","Absent")),"") -> Absent
B13: =B12+1 -> 43871 | G13: =(IF(D13<C13,(1-C13+D13),((D13-C13)))+IF(F13<E13,(1-E13+F13),((F13-E13)))) -> 0 | H13: =IF(B13<>"",IF(G13>(1/24*6),"Présent",IF(G13>0,"1/2 journée","Absent")),"") -> Absent
B14: =B13+1 -> 43872 | G14: =(IF(D14<C14,(1-C14+D14),((D14-C14)))+IF(F14<E14,(1-E14+F14),((F14-E14)))) -> 0 | H14: =IF(B14<>"",IF(G14>(1/24*6),"Présent",IF(G14>0,"1/2 journée","Absent")),"") -> Absent
B15: =B14+1 -> 43873 | G15: =(IF(D15<C15,(1-C15+D15),((D15-C15)))+IF(F15<E15,(1-E15+F15),((F15-E15)))) -> 0 | H15: =IF(B15<>"",IF(G15>(1/24*6),"Présent",IF(G15>0,"1/2 journée","Absent")),"") -> Absent
B16: =B15+1 -> 43874 | G16: =(IF(D16<C16,(1-C16+D16),((D16-C16)))+IF(F16<E16,(1-E16+F16),((F16-E16)))) -> 0 | H16: =IF(B16<>"",IF(G16>(1/24*6),"Présent",IF(G16>0,"1/2 journée","Absent")),"") -> Absent
... B31: =B30+1 -> 43889 | G31: =(IF(D31<C31,(1-C31+D31),((D31-C31)))+IF(F31<E31,(1-E31+F31),((F31-E31)))) -> 0 | H31: =IF(B31<>"",IF(G31>(1/24*6),"Présent",IF(G31>0,"1/2 journée","Absent")),"") -> Absent
B32: =IF(MONTH(B31+1)=MONTH(B31),B31+1,"") -> 43890 | G32: =(IF(D32<C32,(1-C32+D32),((D32-C32)))+IF(F32<E32,(1-E32+F32),((F32-E32)))) -> 0 | H32: =IF(B32<>"",IF(G32>(1/24*6),"Présent",IF(G32>0,"1/2 journée","Absent")),"") -> Absent
G33: =(IF(D33<C33,(1-C33+D33),((D33-C33)))+IF(F33<E33,(1-E33+F33),((F33-E33)))) -> 0 | H33: =IF(B33<>"",IF(G33>(1/24*6),"Présent",IF(G33>0,"1/2 journée","Absent")),"")
G34: =(IF(D34<C34,(1-C34+D34),((D34-C34)))+IF(F34<E34,(1-E34+F34),((F34-E34)))) -> 0 | H34: =IF(B34<>"",IF(G34>(1/24*6),"Présent",IF(G34>0,"1/2 journée","Absent")),"")
F35: Heures totales | G35: =SUM(G4:G34) -> 0
F36: Taux horaire | G36: 8.5
F37: Total de la paie | G37: =G35*G36 -> 0
B39: Moyenne par jour | D39: Nb jours travaillés | G39: Heures exedentaires
B40: =IF(G35<>0,AVERAGEIF(G4:G33,"<>0"),"") | D40: =COUNTIFS(G4:G34,">0") -> 0 | G40: =(G35-(COUNTIFS(G4:G34,">0")*'Récap heure'!M1/5))*24 -> 0

Sheet Mars
B1: Feuille de présence mensuelle
D2: Mars
B3: Jour | C3: Arrivée | D3: Départ | E3: Arrivée | F3: Départ | G3: Total Heures | H3: Statut | I3: Motif absence | K3: Commentaire
B4: =DATE(Année,MONTH("1/"&D2),1) -> 43891 | G4: =(IF(D4<C4,(1-C4+D4),((D4-C4)))+IF(F4<E4,(1-E4+F4),((F4-E4)))) -> 0 | H4: =IF(B4<>"",IF(G4>(1/24*6),"Présent",IF(G4>0,"1/2 journée","Absent")),"") -> Absent
B5: =B4+1 -> 43892 | G5: =(IF(D5<C5,(1-C5+D5),((D5-C5)))+IF(F5<E5,(1-E5+F5),((F5-E5)))) -> 0 | H5: =IF(B5<>"",IF(G5>(1/24*6),"Présent",IF(G5>0,"1/2 journée","Absent")),"") -> Absent
B6: =B5+1 -> 43893 | G6: =(IF(D6<C6,(1-C6+D6),((D6-C6)))+IF(F6<E6,(1-E6+F6),((F6-E6)))) -> 0 | H6: =IF(B6<>"",IF(G6>(1/24*6),"Présent",IF(G6>0,"1/2 journée","Absent")),"") -> Absent
B7: =B6+1 -> 43894 | G7: =(IF(D7<C7,(1-C7+D7),((D7-C7)))+IF(F7<E7,(1-E7+F7),((F7-E7)))) -> 0 | H7: =IF(B7<>"",IF(G7>(1/24*6),"Présent",IF(G7>0,"1/2 journée","Absent")),"") -> Absent
B8: =B7+1 -> 43895 | G8: =(IF(D8<C8,(1-C8+D8),((D8-C8)))+IF(F8<E8,(1-E8+F8),((F8-E8)))) -> 0 | H8: =IF(B8<>"",IF(G8>(1/24*6),"Présent",IF(G8>0,"1/2 journée","Absent")),"") -> Absent
B9: =B8+1 -> 43896 | G9: =(IF(D9<C9,(1-C9+D9),((D9-C9)))+IF(F9<E9,(1-E9+F9),((F9-E9)))) -> 0 | H9: =IF(B9<>"",IF(G9>(1/24*6),"Présent",IF(G9>0,"1/2 journée","Absent")),"") -> Absent
B10: =B9+1 -> 43897 | G10: =(IF(D10<C10,(1-C10+D10),((D10-C10)))+IF(F10<E10,(1-E10+F10),((F10-E10)))) -> 0 | H10: =IF(B10<>"",IF(G10>(1/24*6),"Présent",IF(G10>0,"1/2 journée","Absent")),"") -> Absent
B11: =B10+1 -> 43898 | G11: =(IF(D11<C11,(1-C11+D11),((D11-C11)))+IF(F11<E11,(1-E11+F11),((F11-E11)))) -> 0 | H11: =IF(B11<>"",IF(G11>(1/24*6),"Présent",IF(G11>0,"1/2 journée","Absent")),"") -> Absent
B12: =B11+1 -> 43899 | G12: =(IF(D12<C12,(1-C12+D12),((D12-C12)))+IF(F12<E12,(1-E12+F12),((F12-E12)))) -> 0 | H12: =IF(B12<>"",IF(G12>(1/24*6),"Présent",IF(G12>0,"1/2 journée","Absent")),"") -> Absent
B13: =B12+1 -> 43900 | G13: =(IF(D13<C13,(1-C13+D13),((D13-C13)))+IF(F13<E13,(1-E13+F13),((F13-E13)))) -> 0 | H13: =IF(B13<>"",IF(G13>(1/24*6),"Présent",IF(G13>0,"1/2 journée","Absent")),"") -> Absent
B14: =B13+1 -> 43901 | G14: =(IF(D14<C14,(1-C14+D14),((D14-C14)))+IF(F14<E14,(1-E14+F14),((F14-E14)))) -> 0 | H14: =IF(B14<>"",IF(G14>(1/24*6),"Présent",IF(G14>0,"1/2 journée","Absent")),"") -> Absent
B15: =B14+1 -> 43902 | G15: =(IF(D15<C15,(1-C15+D15),((D15-C15)))+IF(F15<E15,(1-E15+F15),((F15-E15)))) -> 0 | H15: =IF(B15<>"",IF(G15>(1/24*6),"Présent",IF(G15>0,"1/2 journée","Absent")),"") -> Absent
B16: =B15+1 -> 43903 | G16: =(IF(D16<C16,(1-C16+D16),((D16-C16)))+IF(F16<E16,(1-E16+F16),((F16-E16)))) -> 0 | H16: =IF(B16<>"",IF(G16>(1/24*6),"Présent",IF(G16>0,"1/2 journée","Absent")),"") -> Absent
... B34: =B33+1 -> 43921 | G34: =(IF(D34<C34,(1-C34+D34),((D34-C34)))+IF(F34<E34,(1-E34+F34),((F34-E34)))) -> 0 | H34: =IF(B34<>"",IF(G34>(1/24*6),"Présent",IF(G34>0,"1/2 journée","Absent")),"") -> Absent
F35: Heures totales | G35: =SUM(G4:G34) -> 0
F36: Taux horaire | G36: 8.5
F37: Total de la paie | G37: =G35*G36 -> 0
B39: Moyenne par jour | D39: Nb jours travaillés | G39: Heures exedentaires
B40: =IF(G35<>0,AVERAGEIF(G4:G33,"<>0"),"") | D40: =COUNTIFS(G4:G34,">0") -> 0 | G40: =(G35-(COUNTIFS(G4:G34,">0")*'Récap heure'!M1/5))*24 -> 0

Sheet Avril
B1: Feuille de présence mensuelle
D2: Avril
B3: Jour | C3: Arrivée | D3: Départ | E3: Arrivée | F3: Départ | G3: Total Heures | H3: Statut | I3: Motif absence | K3: Commentaire
B4: =DATE(Année,MONTH("1/"&D2),1) -> 43922 | G4: =(IF(D4<C4,(1-C4+D4),((D4-C4)))+IF(F4<E4,(1-E4+F4),((F4-E4)))) -> 0 | H4: =IF(B4<>"",IF(G4>(1/24*6),"Présent",IF(G4>0,"1/2 journée","Absent")),"") -> Absent
B5: =B4+1 -> 43923 | G5: =(IF(D5<C5,(1-C5+D5),((D5-C5)))+IF(F5<E5,(1-E5+F5),((F5-E5)))) -> 0 | H5: =IF(B5<>"",IF(G5>(1/24*6),"Présent",IF(G5>0,"1/2 journée","Absent")),"") -> Absent
B6: =B5+1 -> 43924 | G6: =(IF(D6<C6,(1-C6+D6),((D6-C6)))+IF(F6<E6,(1-E6+F6),((F6-E6)))) -> 0 | H6: =IF(B6<>"",IF(G6>(1/24*6),"Présent",IF(G6>0,"1/2 journée","Absent")),"") -> Absent
B7: =B6+1 -> 43925 | G7: =(IF(D7<C7,(1-C7+D7),((D7-C7)))+IF(F7<E7,(1-E7+F7),((F7-E7)))) -> 0 | H7: =IF(B7<>"",IF(G7>(1/24*6),"Présent",IF(G7>0,"1/2 journée","Absent")),"") -> Absent
B8: =B7+1 -> 43926 | G8: =(IF(D8<C8,(1-C8+D8),((D8-C8)))+IF(F8<E8,(1-E8+F8),((F8-E8)))) -> 0 | H8: =IF(B8<>"",IF(G8>(1/24*6),"Présent",IF(G8>0,"1/2 journée","Absent")),"") -> Absent
B9: =B8+1 -> 43927 | G9: =(IF(D9<C9,(1-C9+D9),((D9-C9)))+IF(F9<E9,(1-E9+F9),((F9-E9)))) -> 0 | H9: =IF(B9<>"",IF(G9>(1/24*6),"Présent",IF(G9>0,"1/2 journée","Absent")),"") -> Absent
B10: =B9+1 -> 43928 | G10: =(IF(D10<C10,(1-C10+D10),((D10-C10)))+IF(F10<E10,(1-E10+F10),((F10-E10)))) -> 0 | H10: =IF(B10<>"",IF(G10>(1/24*6),"Présent",IF(G10>0,"1/2 journée","Absent")),"") -> Absent
B11: =B10+1 -> 43929 | G11: =(IF(D11<C11,(1-C11+D11),((D11-C11)))+IF(F11<E11,(1-E11+F11),((F11-E11)))) -> 0 | H11: =IF(B11<>"",IF(G11>(1/24*6),"Présent",IF(G11>0,"1/2 journée","Absent")),"") -> Absent
B12: =B11+1 -> 43930 | G12: =(IF(D12<C12,(1-C12+D12),((D12-C12)))+IF(F12<E12,(1-E12+F12),((F12-E12)))) -> 0 | H12: =IF(B12<>"",IF(G12>(1/24*6),"Présent",IF(G12>0,"1/2 journée","Absent")),"") -> Absent
B13: =B12+1 -> 43931 | G13: =(IF(D13<C13,(1-C13+D13),((D13-C13)))+IF(F13<E13,(1-E13+F13),((F13-E13)))) -> 0 | H13: =IF(B13<>"",IF(G13>(1/24*6),"Présent",IF(G13>0,"1/2 journée","Absent")),"") -> Absent
B14: =B13+1 -> 43932 | G14: =(IF(D14<C14,(1-C14+D14),((D14-C14)))+IF(F14<E14,(1-E14+F14),((F14-E14)))) -> 0 | H14: =IF(B14<>"",IF(G14>(1/24*6),"Présent",IF(G14>0,"1/2 journée","Absent")),"") -> Absent
B15: =B14+1 -> 43933 | G15: =(IF(D15<C15,(1-C15+D15),((D15-C15)))+IF(F15<E15,(1-E15+F15),((F15-E15)))) -> 0 | H15: =IF(B15<>"",IF(G15>(1/24*6),"Présent",IF(G15>0,"1/2 journée","Absent")),"") -> Absent
B16: =B15+1 -> 43934 | G16: =(IF(D16<C16,(1-C16+D16),((D16-C16)))+IF(F16<E16,(1-E16+F16),((F16-E16)))) -> 0 | H16: =IF(B16<>"",IF(G16>(1/24*6),"Présent",IF(G16>0,"1/2 journée","Absent")),"") -> Absent
... B34: =B33+1 -> 43952 | G34: =(IF(D34<C34,(1-C34+D34),((D34-C34)))+IF(F34<E34,(1-E34+F34),((F34-E34)))) -> 0 | H34: =IF(B34<>"",IF(G34>(1/24*6),"Présent",IF(G34>0,"1/2 journée","Absent")),"") -> Absent
F35: Heures totales | G35: =SUM(G4:G34) -> 0
F36: Taux horaire | G36: 8.5
F37: Total de la paie | G37: =G35*G36 -> 0
B39: Moyenne par jour | D39: Nb jours travaillés | G39: Heures exedentaires
B40: =IF(G35<>0,AVERAGEIF(G4:G33,"<>0"),"") | D40: =COUNTIFS(G4:G34,">0") -> 0 | G40: =(G35-(COUNTIFS(G4:G34,">0")*'Récap heure'!M1/5))*24 -> 0

Sheet Mai
B1: Feuille de présence mensuelle
D2: Mai
B3: Jour | C3: Arrivée | D3: Départ | E3: Arrivée | F3: Départ | G3: Total Heures | H3: Statut | I3: Motif absence | K3: Commentaire
B4: =DATE(Année,MONTH("1/"&D2),1) -> 43952 | G4: =(IF(D4<C4,(1-C4+D4),((D4-C4)))+IF(F4<E4,(1-E4+F4),((F4-E4)))) -> 0 | H4: =IF(B4<>"",IF(G4>(1/24*6),"Présent",IF(G4>0,"1/2 journée","Absent")),"") -> Absent
B5: =B4+1 -> 43953 | G5: =(IF(D5<C5,(1-C5+D5),((D5-C5)))+IF(F5<E5,(1-E5+F5),((F5-E5)))) -> 0 | H5: =IF(B5<>"",IF(G5>(1/24*6),"Présent",IF(G5>0,"1/2 journée","Absent")),"") -> Absent
B6: =B5+1 -> 43954 | G6: =(IF(D6<C6,(1-C6+D6),((D6-C6)))+IF(F6<E6,(1-E6+F6),((F6-E6)))) -> 0 | H6: =IF(B6<>"",IF(G6>(1/24*6),"Présent",IF(G6>0,"1/2 journée","Absent")),"") -> Absent
B7: =B6+1 -> 43955 | G7: =(IF(D7<C7,(1-C7+D7),((D7-C7)))+IF(F7<E7,(1-E7+F7),((F7-E7)))) -> 0 | H7: =IF(B7<>"",IF(G7>(1/24*6),"Présent",IF(G7>0,"1/2 journée","Absent")),"") -> Absent
B8: =B7+1 -> 43956 | G8: =(IF(D8<C8,(1-C8+D8),((D8-C8)))+IF(F8<E8,(1-E8+F8),((F8-E8)))) -> 0 | H8: =IF(B8<>"",IF(G8>(1/24*6),"Présent",IF(G8>0,"1/2 journée","Absent")),"") -> Absent
B9: =B8+1 -> 43957 | G9: =(IF(D9<C9,(1-C9+D9),((D9-C9)))+IF(F9<E9,(1-E9+F9),((F9-E9)))) -> 0 | H9: =IF(B9<>"",IF(G9>(1/24*6),"Présent",IF(G9>0,"1/2 journée","Absent")),"") -> Absent
B10: =B9+1 -> 43958 | G10: =(IF(D10<C10,(1-C10+D10),((D10-C10)))+IF(F10<E10,(1-E10+F10),((F10-E10)))) -> 0 | H10: =IF(B10<>"",IF(G10>(1/24*6),"Présent",IF(G10>0,"1/2 journée","Absent")),"") -> Absent
B11: =B10+1 -> 43959 | G11: =(IF(D11<C11,(1-C11+D11),((D11-C11)))+IF(F11<E11,(1-E11+F11),((F11-E11)))) -> 0 | H11: =IF(B11<>"",IF(G11>(1/24*6),"Présent",IF(G11>0,"1/2 journée","Absent")),"") -> Absent
B12: =B11+1 -> 43960 | G12: =(IF(D12<C12,(1-C12+D12),((D12-C12)))+IF(F12<E12,(1-E12+F12),((F12-E12)))) -> 0 | H12: =IF(B12<>"",IF(G12>(1/24*6),"Présent",IF(G12>0,"1/2 journée","Absent")),"") -> Absent
B13: =B12+1 -> 43961 | G13: =(IF(D13<C13,(1-C13+D13),((D13-C13)))+IF(F13<E13,(1-E13+F13),((F13-E13)))) -> 0 | H13: =IF(B13<>"",IF(G13>(1/24*6),"Présent",IF(G13>0,"1/2 journée","Absent")),"") -> Absent
B14: =B13+1 -> 43962 | G14: =(IF(D14<C14,(1-C14+D14),((D14-C14)))+IF(F14<E14,(1-E14+F14),((F14-E14)))) -> 0 | H14: =IF(B14<>"",IF(G14>(1/24*6),"Présent",IF(G14>0,"1/2 journée","Absent")),"") -> Absent
B15: =B14+1 -> 43963 | G15: =(IF(D15<C15,(1-C15+D15),((D15-C15)))+IF(F15<E15,(1-E15+F15),((F15-E15)))) -> 0 | H15: =IF(B15<>"",IF(G15>(1/24*6),"Présent",IF(G15>0,"1/2 journée","Absent")),"") -> Absent
B16: =B15+1 -> 43964 | G16: =(IF(D16<C16,(1-C16+D16),((D16-C16)))+IF(F16<E16,(1-E16+F16),((F16-E16)))) -> 0 | H16: =IF(B16<>"",IF(G16>(1/24*6),"Présent",IF(G16>0,"1/2 journée","Absent")),"") -> Absent
... B34: =B33+1 -> 43982 | G34: =(IF(D34<C34,(1-C34+D34),((D34-C34)))+IF(F34<E34,(1-E34+F34),((F34-E34)))) -> 0 | H34: =IF(B34<>"",IF(G34>(1/24*6),"Présent",IF(G34>0,"1/2 journée","Absent")),"") -> Absent
F35: Heures totales | G35: =SUM(G4:G34) -> 0
F36: Taux horaire | G36: 8.5
F37: Total de la paie | G37: =G35*G36 -> 0
B39: Moyenne par jour | D39: Nb jours travaillés | G39: Heures exedentaires
B40: =IF(G35<>0,AVERAGEIF(G4:G33,"<>0"),"") | D40: =COUNTIFS(G4:G34,">0") -> 0 | G40: =(G35-(COUNTIFS(G4:G34,">0")*'Récap heure'!M1/5))*24 -> 0

Sheet Juin
B1: Feuille de présence mensuelle
D2: Juin
B3: Jour | C3: Arrivée | D3: Départ | E3: Arrivée | F3: Départ | G3: Total Heures | H3: Statut | I3: Motif absence | K3: Commentaire
B4: =DATE(Année,MONTH("1/"&D2),1) -> 43983 | G4: =(IF(D4<C4,(1-C4+D4),((D4-C4)))+IF(F4<E4,(1-E4+F4),((F4-E4)))) -> 0 | H4: =IF(B4<>"",IF(G4>(1/24*6),"Présent",IF(G4>0,"1/2 journée","Absent")),"") -> Absent
B5: =B4+1 -> 43984 | G5: =(IF(D5<C5,(1-C5+D5),((D5-C5)))+IF(F5<E5,(1-E5+F5),((F5-E5)))) -> 0 | H5: =IF(B5<>"",IF(G5>(1/24*6),"Présent",IF(G5>0,"1/2 journée","Absent")),"") -> Absent
B6: =B5+1 -> 43985 | G6: =(IF(D6<C6,(1-C6+D6),((D6-C6)))+IF(F6<E6,(1-E6+F6),((F6-E6)))) -> 0 | H6: =IF(B6<>"",IF(G6>(1/24*6),"Présent",IF(G6>0,"1/2 journée","Absent")),"") -> Absent
B7: =B6+1 -> 43986 | G7: =(IF(D7<C7,(1-C7+D7),((D7-C7)))+IF(F7<E7,(1-E7+F7),((F7-E7)))) -> 0 | H7: =IF(B7<>"",IF(G7>(1/24*6),"Présent",IF(G7>0,"1/2 journée","Absent")),"") -> Absent
B8: =B7+1 -> 43987 | G8: =(IF(D8<C8,(1-C8+D8),((D8-C8)))+IF(F8<E8,(1-E8+F8),((F8-E8)))) -> 0 | H8: =IF(B8<>"",IF(G8>(1/24*6),"Présent",IF(G8>0,"1/2 journée","Absent")),"") -> Absent
B9: =B8+1 -> 43988 | G9: =(IF(D9<C9,(1-C9+D9),((D9-C9)))+IF(F9<E9,(1-E9+F9),((F9-E9)))) -> 0 | H9: =IF(B9<>"",IF(G9>(1/24*6),"Présent",IF(G9>0,"1/2 journée","Absent")),"") -> Absent
B10: =B9+1 -> 43989 | G10: =(IF(D10<C10,(1-C10+D10),((D10-C10)))+IF(F10<E10,(1-E10+F10),((F10-E10)))) -> 0 | H10: =IF(B10<>"",IF(G10>(1/24*6),"Présent",IF(G10>0,"1/2 journée","Absent")),"") -> Absent
B11: =B10+1 -> 43990 | G11: =(IF(D11<C11,(1-C11+D11),((D11-C11)))+IF(F11<E11,(1-E11+F11),((F11-E11)))) -> 0 | H11: =IF(B11<>"",IF(G11>(1/24*6),"Présent",IF(G11>0,"1/2 journée","Absent")),"") -> Absent
B12: =B11+1 -> 43991 | G12: =(IF(D12<C12,(1-C12+D12),((D12-C12)))+IF(F12<E12,(1-E12+F12),((F12-E12)))) -> 0 | H12: =IF(B12<>"",IF(G12>(1/24*6),"Présent",IF(G12>0,"1/2 journée","Absent")),"") -> Absent
B13: =B12+1 -> 43992 | G13: =(IF(D13<C13,(1-C13+D13),((D13-C13)))+IF(F13<E13,(1-E13+F13),((F13-E13)))) -> 0 | H13: =IF(B13<>"",IF(G13>(1/24*6),"Présent",IF(G13>0,"1/2 journée","Absent")),"") -> Absent
B14: =B13+1 -> 43993 | G14: =(IF(D14<C14,(1-C14+D14),((D14-C14)))+IF(F14<E14,(1-E14+F14),((F14-E14)))) -> 0 | H14: =IF(B14<>"",IF(G14>(1/24*6),"Présent",IF(G14>0,"1/2 journée","Absent")),"") -> Absent
B15: =B14+1 -> 43994 | G15: =(IF(D15<C15,(1-C15+D15),((D15-C15)))+IF(F15<E15,(1-E15+F15),((F15-E15)))) -> 0 | H15: =IF(B15<>"",IF(G15>(1/24*6),"Présent",IF(G15>0,"1/2 journée","Absent")),"") -> Absent
B16: =B15+1 -> 43995 | G16: =(IF(D16<C16,(1-C16+D16),((D16-C16)))+IF(F16<E16,(1-E16+F16),((F16-E16)))) -> 0 | H16: =IF(B16<>"",IF(G16>(1/24*6),"Présent",IF(G16>0,"1/2 journée","Absent")),"") -> Absent
... B34: =B33+1 -> 44013 | G34: =(IF(D34<C34,(1-C34+D34),((D34-C34)))+IF(F34<E34,(1-E34+F34),((F34-E34)))) -> 0 | H34: =IF(B34<>"",IF(G34>(1/24*6),"Présent",IF(G34>0,"1/2 journée","Absent")),"") -> Absent
F35: Heures totales | G35: =SUM(G4:G34) -> 0
F36: Taux horaire | G36: 8.5
F37: Total de la paie | G37: =G35*G36 -> 0
B39: Moyenne par jour | D39: Nb jours travaillés | G39: Heures exedentaires
B40: =IF(G35<>0,AVERAGEIF(G4:G33,"<>0"),"") | D40: =COUNTIFS(G4:G34,">0") -> 0 | G40: =(G35-(COUNTIFS(G4:G34,">0")*'Récap heure'!M1/5))*24 -> 0

Sheet Juillet
B1: Feuille de présence mensuelle
D2: Juillet
B3: Jour | C3: Arrivée | D3: Départ | E3: Arrivée | F3: Départ | G3: Total Heures | H3: Statut | I3: Motif absence | K3: Commentaire
B4: =DATE(Année,MONTH("1/"&D2),1) -> 44013 | G4: =(IF(D4<C4,(1-C4+D4),((D4-C4)))+IF(F4<E4,(1-E4+F4),((F4-E4)))) -> 0 | H4: =IF(B4<>"",IF(G4>(1/24*6),"Présent",IF(G4>0,"1/2 journée","Absent")),"") -> Absent
B5: =B4+1 -> 44014 | G5: =(IF(D5<C5,(1-C5+D5),((D5-C5)))+IF(F5<E5,(1-E5+F5),((F5-E5)))) -> 0 | H5: =IF(B5<>"",IF(G5>(1/24*6),"Présent",IF(G5>0,"1/2 journée","Absent")),"") -> Absent
B6: =B5+1 -> 44015 | G6: =(IF(D6<C6,(1-C6+D6),((D6-C6)))+IF(F6<E6,(1-E6+F6),((F6-E6)))) -> 0 | H6: =IF(B6<>"",IF(G6>(1/24*6),"Présent",IF(G6>0,"1/2 journée","Absent")),"") -> Absent
B7: =B6+1 -> 44016 | G7: =(IF(D7<C7,(1-C7+D7),((D7-C7)))+IF(F7<E7,(1-E7+F7),((F7-E7)))) -> 0 | H7: =IF(B7<>"",IF(G7>(1/24*6),"Présent",IF(G7>0,"1/2 journée","Absent")),"") -> Absent
B8: =B7+1 -> 44017 | G8: =(IF(D8<C8,(1-C8+D8),((D8-C8)))+IF(F8<E8,(1-E8+F8),((F8-E8)))) -> 0 | H8: =IF(B8<>"",IF(G8>(1/24*6),"Présent",IF(G8>0,"1/2 journée","Absent")),"") -> Absent
B9: =B8+1 -> 44018 | G9: =(IF(D9<C9,(1-C9+D9),((D9-C9)))+IF(F9<E9,(1-E9+F9),((F9-E9)))) -> 0 | H9: =IF(B9<>"",IF(G9>(1/24*6),"Présent",IF(G9>0,"1/2 journée","Absent")),"") -> Absent
B10: =B9+1 -> 44019 | G10: =(IF(D10<C10,(1-C10+D10),((D10-C10)))+IF(F10<E10,(1-E10+F10),((F10-E10)))) -> 0 | H10: =IF(B10<>"",IF(G10>(1/24*6),"Présent",IF(G10>0,"1/2 journée","Absent")),"") -> Absent
B11: =B10+1 -> 44020 | G11: =(IF(D11<C11,(1-C11+D11),((D11-C11)))+IF(F11<E11,(1-E11+F11),((F11-E11)))) -> 0 | H11: =IF(B11<>"",IF(G11>(1/24*6),"Présent",IF(G11>0,"1/2 journée","Absent")),"") -> Absent
B12: =B11+1 -> 44021 | G12: =(IF(D12<C12,(1-C12+D12),((D12-C12)))+IF(F12<E12,(1-E12+F12),((F12-E12)))) -> 0 | H12: =IF(B12<>"",IF(G12>(1/24*6),"Présent",IF(G12>0,"1/2 journée","Absent")),"") -> Absent
B13: =B12+1 -> 44022 | G13: =(IF(D13<C13,(1-C13+D13),((D13-C13)))+IF(F13<E13,(1-E13+F13),((F13-E13)))) -> 0 | H13: =IF(B13<>"",IF(G13>(1/24*6),"Présent",IF(G13>0,"1/2 journée","Absent")),"") -> Absent
B14: =B13+1 -> 44023 | G14: =(IF(D14<C14,(1-C14+D14),((D14-C14)))+IF(F14<E14,(1-E14+F14),((F14-E14)))) -> 0 | H14: =IF(B14<>"",IF(G14>(1/24*6),"Présent",IF(G14>0,"1/2 journée","Absent")),"") -> Absent
B15: =B14+1 -> 44024 | G15: =(IF(D15<C15,(1-C15+D15),((D15-C15)))+IF(F15<E15,(1-E15+F15),((F15-E15)))) -> 0 | H15: =IF(B15<>"",IF(G15>(1/24*6),"Présent",IF(G15>0,"1/2 journée","Absent")),"") -> Absent
B16: =B15+1 -> 44025 | G16: =(IF(D16<C16,(1-C16+D16),((D16-C16)))+IF(F16<E16,(1-E16+F16),((F16-E16)))) -> 0 | H16: =IF(B16<>"",IF(G16>(1/24*6),"Présent",IF(G16>0,"1/2 journée","Absent")),"") -> Absent
... B34: =B33+1 -> 44043 | G34: =(IF(D34<C34,(1-C34+D34),((D34-C34)))+IF(F34<E34,(1-E34+F34),((F34-E34)))) -> 0 | H34: =IF(B34<>"",IF(G34>(1/24*6),"Présent",IF(G34>0,"1/2 journée","Absent")),"") -> Absent
F35: Heures totales | G35: =SUM(G4:G34) -> 0
F36: Taux horaire | G36: 8.5
F37: Total de la paie | G37: =G35*G36 -> 0
B39: Moyenne par jour | D39: Nb jours travaillés | G39: Heures exedentaires
B40: =IF(G35<>0,AVERAGEIF(G4:G33,"<>0"),"") | D40: =COUNTIFS(G4:G34,">0") -> 0 | G40: =(G35-(COUNTIFS(G4:G34,">0")*'Récap heure'!M1/5))*24 -> 0

Sheet Août
B1: Feuille de présence mensuelle
D2: Août
B3: Jour | C3: Arrivée | D3: Départ | E3: Arrivée | F3: Départ | G3: Total Heures | H3: Statut | I3: Motif absence | K3: Commentaire
B4: =DATE(Année,MONTH("1/"&D2),1) -> 44044 | G4: =(IF(D4<C4,(1-C4+D4),((D4-C4)))+IF(F4<E4,(1-E4+F4),((F4-E4)))) -> 0 | H4: =IF(B4<>"",IF(G4>(1/24*6),"Présent",IF(G4>0,"1/2 journée","Absent")),"") -> Absent
B5: =B4+1 -> 44045 | G5: =(IF(D5<C5,(1-C5+D5),((D5-C5)))+IF(F5<E5,(1-E5+F5),((F5-E5)))) -> 0 | H5: =IF(B5<>"",IF(G5>(1/24*6),"Présent",IF(G5>0,"1/2 journée","Absent")),"") -> Absent
B6: =B5+1 -> 44046 | G6: =(IF(D6<C6,(1-C6+D6),((D6-C6)))+IF(F6<E6,(1-E6+F6),((F6-E6)))) -> 0 | H6: =IF(B6<>"",IF(G6>(1/24*6),"Présent",IF(G6>0,"1/2 journée","Absent")),"") -> Absent
B7: =B6+1 -> 44047 | G7: =(IF(D7<C7,(1-C7+D7),((D7-C7)))+IF(F7<E7,(1-E7+F7),((F7-E7)))) -> 0 | H7: =IF(B7<>"",IF(G7>(1/24*6),"Présent",IF(G7>0,"1/2 journée","Absent")),"") -> Absent
B8: =B7+1 -> 44048 | G8: =(IF(D8<C8,(1-C8+D8),((D8-C8)))+IF(F8<E8,(1-E8+F8),((F8-E8)))) -> 0 | H8: =IF(B8<>"",IF(G8>(1/24*6),"Présent",IF(G8>0,"1/2 journée","Absent")),"") -> Absent
B9: =B8+1 -> 44049 | G9: =(IF(D9<C9,(1-C9+D9),((D9-C9)))+IF(F9<E9,(1-E9+F9),((F9-E9)))) -> 0 | H9: =IF(B9<>"",IF(G9>(1/24*6),"Présent",IF(G9>0,"1/2 journée","Absent")),"") -> Absent
B10: =B9+1 -> 44050 | G10: =(IF(D10<C10,(1-C10+D10),((D10-C10)))+IF(F10<E10,(1-E10+F10),((F10-E10)))) -> 0 | H10: =IF(B10<>"",IF(G10>(1/24*6),"Présent",IF(G10>0,"1/2 journée","Absent")),"") -> Absent
B11: =B10+1 -> 44051 | G11: =(IF(D11<C11,(1-C11+D11),((D11-C11)))+IF(F11<E11,(1-E11+F11),((F11-E11)))) -> 0 | H11: =IF(B11<>"",IF(G11>(1/24*6),"Présent",IF(G11>0,"1/2 journée","Absent")),"") -> Absent
B12: =B11+1 -> 44052 | G12: =(IF(D12<C12,(1-C12+D12),((D12-C12)))+IF(F12<E12,(1-E12+F12),((F12-E12)))) -> 0 | H12: =IF(B12<>"",IF(G12>(1/24*6),"Présent",IF(G12>0,"1/2 journée","Absent")),"") -> Absent
B13: =B12+1 -> 44053 | G13: =(IF(D13<C13,(1-C13+D13),((D13-C13)))+IF(F13<E13,(1-E13+F13),((F13-E13)))) -> 0 | H13: =IF(B13<>"",IF(G13>(1/24*6),"Présent",IF(G13>0,"1/2 journée","Absent")),"") -> Absent
B14: =B13+1 -> 44054 | G14: =(IF(D14<C14,(1-C14+D14),((D14-C14)))+IF(F14<E14,(1-E14+F14),((F14-E14)))) -> 0 | H14: =IF(B14<>"",IF(G14>(1/24*6),"Présent",IF(G14>0,"1/2 journée","Absent")),"") -> Absent
B15: =B14+1 -> 44055 | G15: =(IF(D15<C15,(1-C15+D15),((D15-C15)))+IF(F15<E15,(1-E15+F15),((F15-E15)))) -> 0 | H15: =IF(B15<>"",IF(G15>(1/24*6),"Présent",IF(G15>0,"1/2 journée","Absent")),"") -> Absent
B16: =B15+1 -> 44056 | G16: =(IF(D16<C16,(1-C16+D16),((D16-C16)))+IF(F16<E16,(1-E16+F16),((F16-E16)))) -> 0 | H16: =IF(B16<>"",IF(G16>(1/24*6),"Présent",IF(G16>0,"1/2 journée","Absent")),"") -> Absent
... B34: =B33+1 -> 44074 | G34: =(IF(D34<C34,(1-C34+D34),((D34-C34)))+IF(F34<E34,(1-E34+F34),((F34-E34)))) -> 0 | H34: =IF(B34<>"",IF(G34>(1/24*6),"Présent",IF(G34>0,"1/2 journée","Absent")),"") -> Absent
F35: Heures totales | G35: =SUM(G4:G34) -> 0
F36: Taux horaire | G36: 8.5
F37: Total de la paie | G37: =G35*G36 -> 0
B39: Moyenne par jour | D39: Nb jours travaillés | G39: Heures exedentaires
B40: =IF(G35<>0,AVERAGEIF(G4:G33,"<>0"),"") | D40: =COUNTIFS(G4:G34,">0") -> 0 | G40: =(G35-(COUNTIFS(G4:G34,">0")*'Récap heure'!M1/5))*24 -> 0

Sheet Septembre
B1: Feuille de présence mensuelle
D2: Septembre
B3: Jour | C3: Arrivée | D3: Départ | E3: Arrivée | F3: Départ | G3: Total Heures | H3: Statut | I3: Motif absence | K3: Commentaire
B4: =DATE(Année,MONTH("1/"&D2),1) -> 44075 | G4: =(IF(D4<C4,(1-C4+D4),((D4-C4)))+IF(F4<E4,(1-E4+F4),((F4-E4)))) -> 0 | H4: =IF(B4<>"",IF(G4>(1/24*6),"Présent",IF(G4>0,"1/2 journée","Absent")),"") -> Absent
B5: =B4+1 -> 44076 | G5: =(IF(D5<C5,(1-C5+D5),((D5-C5)))+IF(F5<E5,(1-E5+F5),((F5-E5)))) -> 0 | H5: =IF(B5<>"",IF(G5>(1/24*6),"Présent",IF(G5>0,"1/2 journée","Absent")),"") -> Absent
B6: =B5+1 -> 44077 | G6: =(IF(D6<C6,(1-C6+D6),((D6-C6)))+IF(F6<E6,(1-E6+F6),((F6-E6)))) -> 0 | H6: =IF(B6<>"",IF(G6>(1/24*6),"Présent",IF(G6>0,"1/2 journée","Absent")),"") -> Absent
B7: =B6+1 -> 44078 | G7: =(IF(D7<C7,(1-C7+D7),((D7-C7)))+IF(F7<E7,(1-E7+F7),((F7-E7)))) -> 0 | H7: =IF(B7<>"",IF(G7>(1/24*6),"Présent",IF(G7>0,"1/2 journée","Absent")),"") -> Absent
B8: =B7+1 -> 44079 | G8: =(IF(D8<C8,(1-C8+D8),((D8-C8)))+IF(F8<E8,(1-E8+F8),((F8-E8)))) -> 0 | H8: =IF(B8<>"",IF(G8>(1/24*6),"Présent",IF(G8>0,"1/2 journée","Absent")),"") -> Absent
B9: =B8+1 -> 44080 | G9: =(IF(D9<C9,(1-C9+D9),((D9-C9)))+IF(F9<E9,(1-E9+F9),((F9-E9)))) -> 0 | H9: =IF(B9<>"",IF(G9>(1/24*6),"Présent",IF(G9>0,"1/2 journée","Absent")),"") -> Absent
B10: =B9+1 -> 44081 | G10: =(IF(D10<C10,(1-C10+D10),((D10-C10)))+IF(F10<E10,(1-E10+F10),((F10-E10)))) -> 0 | H10: =IF(B10<>"",IF(G10>(1/24*6),"Présent",IF(G10>0,"1/2 journée","Absent")),"") -> Absent
B11: =B10+1 -> 44082 | G11: =(IF(D11<C11,(1-C11+D11),((D11-C11)))+IF(F11<E11,(1-E11+F11),((F11-E11)))) -> 0 | H11: =IF(B11<>"",IF(G11>(1/24*6),"Présent",IF(G11>0,"1/2 journée","Absent")),"") -> Absent
B12: =B11+1 -> 44083 | G12: =(IF(D12<C12,(1-C12+D12),((D12-C12)))+IF(F12<E12,(1-E12+F12),((F12-E12)))) -> 0 | H12: =IF(B12<>"",IF(G12>(1/24*6),"Présent",IF(G12>0,"1/2 journée","Absent")),"") -> Absent
B13: =B12+1 -> 44084 | G13: =(IF(D13<C13,(1-C13+D13),((D13-C13)))+IF(F13<E13,(1-E13+F13),((F13-E13)))) -> 0 | H13: =IF(B13<>"",IF(G13>(1/24*6),"Présent",IF(G13>0,"1/2 journée","Absent")),"") -> Absent
B14: =B13+1 -> 44085 | G14: =(IF(D14<C14,(1-C14+D14),((D14-C14)))+IF(F14<E14,(1-E14+F14),((F14-E14)))) -> 0 | H14: =IF(B14<>"",IF(G14>(1/24*6),"Présent",IF(G14>0,"1/2 journée","Absent")),"") -> Absent
B15: =B14+1 -> 44086 | G15: =(IF(D15<C15,(1-C15+D15),((D15-C15)))+IF(F15<E15,(1-E15+F15),((F15-E15)))) -> 0 | H15: =IF(B15<>"",IF(G15>(1/24*6),"Présent",IF(G15>0,"1/2 journée","Absent")),"") -> Absent
B16: =B15+1 -> 44087 | G16: =(IF(D16<C16,(1-C16+D16),((D16-C16)))+IF(F16<E16,(1-E16+F16),((F16-E16)))) -> 0 | H16: =IF(B16<>"",IF(G16>(1/24*6),"Présent",IF(G16>0,"1/2 journée","Absent")),"") -> Absent
... B34: =B33+1 -> 44105 | G34: =(IF(D34<C34,(1-C34+D34),((D34-C34)))+IF(F34<E34,(1-E34+F34),((F34-E34)))) -> 0 | H34: =IF(B34<>"",IF(G34>(1/24*6),"Présent",IF(G34>0,"1/2 journée","Absent")),"") -> Absent
F35: Heures totales | G35: =SUM(G4:G34) -> 0
F36: Taux horaire | G36: 8.5
F37: Total de la paie | G37: =G35*G36 -> 0
B39: Moyenne par jour | D39: Nb jours travaillés | G39: Heures exedentaires
B40: =IF(G35<>0,AVERAGEIF(G4:G33,"<>0"),"") | D40: =COUNTIFS(G4:G34,">0") -> 0 | G40: =(G35-(COUNTIFS(G4:G34,">0")*'Récap heure'!M1/5))*24 -> 0

Sheet Octobre
B1: Feuille de présence mensuelle
D2: Octobre
B3: Jour | C3: Arrivée | D3: Départ | E3: Arrivée | F3: Départ | G3: Total Heures | H3: Statut | I3: Motif absence | K3: Commentaire
B4: =DATE(Année,MONTH("1/"&D2),1) -> 44105 | G4: =(IF(D4<C4,(1-C4+D4),((D4-C4)))+IF(F4<E4,(1-E4+F4),((F4-E4)))) -> 0 | H4: =IF(B4<>"",IF(G4>(1/24*6),"Présent",IF(G4>0,"1/2 journée","Absent")),"") -> Absent
B5: =B4+1 -> 44106 | G5: =(IF(D5<C5,(1-C5+D5),((D5-C5)))+IF(F5<E5,(1-E5+F5),((F5-E5)))) -> 0 | H5: =IF(B5<>"",IF(G5>(1/24*6),"Présent",IF(G5>0,"1/2 journée","Absent")),"") -> Absent
B6: =B5+1 -> 44107 | G6: =(IF(D6<C6,(1-C6+D6),((D6-C6)))+IF(F6<E6,(1-E6+F6),((F6-E6)))) -> 0 | H6: =IF(B6<>"",IF(G6>(1/24*6),"Présent",IF(G6>0,"1/2 journée","Absent")),"") -> Absent
B7: =B6+1 -> 44108 | G7: =(IF(D7<C7,(1-C7+D7),((D7-C7)))+IF(F7<E7,(1-E7+F7),((F7-E7)))) -> 0 | H7: =IF(B7<>"",IF(G7>(1/24*6),"Présent",IF(G7>0,"1/2 journée","Absent")),"") -> Absent
B8: =B7+1 -> 44109 | G8: =(IF(D8<C8,(1-C8+D8),((D8-C8)))+IF(F8<E8,(1-E8+F8),((F8-E8)))) -> 0 | H8: =IF(B8<>"",IF(G8>(1/24*6),"Présent",IF(G8>0,"1/2 journée","Absent")),"") -> Absent
B9: =B8+1 -> 44110 | G9: =(IF(D9<C9,(1-C9+D9),((D9-C9)))+IF(F9<E9,(1-E9+F9),((F9-E9)))) -> 0 | H9: =IF(B9<>"",IF(G9>(1/24*6),"Présent",IF(G9>0,"1/2 journée","Absent")),"") -> Absent
B10: =B9+1 -> 44111 | G10: =(IF(D10<C10,(1-C10+D10),((D10-C10)))+IF(F10<E10,(1-E10+F10),((F10-E10)))) -> 0 | H10: =IF(B10<>"",IF(G10>(1/24*6),"Présent",IF(G10>0,"1/2 journée","Absent")),"") -> Absent
B11: =B10+1 -> 44112 | G11: =(IF(D11<C11,(1-C11+D11),((D11-C11)))+IF(F11<E11,(1-E11+F11),((F11-E11)))) -> 0 | H11: =IF(B11<>"",IF(G11>(1/24*6),"Présent",IF(G11>0,"1/2 journée","Absent")),"") -> Absent
B12: =B11+1 -> 44113 | G12: =(IF(D12<C12,(1-C12+D12),((D12-C12)))+IF(F12<E12,(1-E12+F12),((F12-E12)))) -> 0 | H12: =IF(B12<>"",IF(G12>(1/24*6),"Présent",IF(G12>0,"1/2 journée","Absent")),"") -> Absent
B13: =B12+1 -> 44114 | G13: =(IF(D13<C13,(1-C13+D13),((D13-C13)))+IF(F13<E13,(1-E13+F13),((F13-E13)))) -> 0 | H13: =IF(B13<>"",IF(G13>(1/24*6),"Présent",IF(G13>0,"1/2 journée","Absent")),"") -> Absent
B14: =B13+1 -> 44115 | G14: =(IF(D14<C14,(1-C14+D14),((D14-C14)))+IF(F14<E14,(1-E14+F14),((F14-E14)))) -> 0 | H14: =IF(B14<>"",IF(G14>(1/24*6),"Présent",IF(G14>0,"1/2 journée","Absent")),"") -> Absent
B15: =B14+1 -> 44116 | G15: =(IF(D15<C15,(1-C15+D15),((D15-C15)))+IF(F15<E15,(1-E15+F15),((F15-E15)))) -> 0 | H15: =IF(B15<>"",IF(G15>(1/24*6),"Présent",IF(G15>0,"1/2 journée","Absent")),"") -> Absent
B16: =B15+1 -> 44117 | G16: =(IF(D16<C16,(1-C16+D16),((D16-C16)))+IF(F16<E16,(1-E16+F16),((F16-E16)))) -> 0 | H16: =IF(B16<>"",IF(G16>(1/24*6),"Présent",IF(G16>0,"1/2 journée","Absent")),"") -> Absent
... B34: =B33+1 -> 44135 | G34: =(IF(D34<C34,(1-C34+D34),((D34-C34)))+IF(F34<E34,(1-E34+F34),((F34-E34)))) -> 0 | H34: =IF(B34<>"",IF(G34>(1/24*6),"Présent",IF(G34>0,"1/2 journée","Absent")),"") -> Absent
F35: Heures totales | G35: =SUM(G4:G34) -> 0
F36: Taux horaire | G36: 8.5
F37: Total de la paie | G37: =G35*G36 -> 0
B39: Moyenne par jour | D39: Nb jours travaillés | G39: Heures exedentaires
B40: =IF(G35<>0,AVERAGEIF(G4:G33,"<>0"),"") | D40: =COUNTIFS(G4:G34,">0") -> 0 | G40: =(G35-(COUNTIFS(G4:G34,">0")*'Récap heure'!M1/5))*24 -> 0

Sheet Novembre
B1: Feuille de présence mensuelle
D2: Novembre
B3: Jour | C3: Arrivée | D3: Départ | E3: Arrivée | F3: Départ | G3: Total Heures | H3: Statut | I3: Motif absence | K3: Commentaire
B4: =DATE(Année,MONTH("1/"&D2),1) -> 44136 | G4: =(IF(D4<C4,(1-C4+D4),((D4-C4)))+IF(F4<E4,(1-E4+F4),((F4-E4)))) -> 0 | H4: =IF(B4<>"",IF(G4>(1/24*6),"Présent",IF(G4>0,"1/2 journée","Absent")),"") -> Absent
B5: =B4+1 -> 44137 | G5: =(IF(D5<C5,(1-C5+D5),((D5-C5)))+IF(F5<E5,(1-E5+F5),((F5-E5)))) -> 0 | H5: =IF(B5<>"",IF(G5>(1/24*6),"Présent",IF(G5>0,"1/2 journée","Absent")),"") -> Absent
B6: =B5+1 -> 44138 | G6: =(IF(D6<C6,(1-C6+D6),((D6-C6)))+IF(F6<E6,(1-E6+F6),((F6-E6)))) -> 0 | H6: =IF(B6<>"",IF(G6>(1/24*6),"Présent",IF(G6>0,"1/2 journée","Absent")),"") -> Absent
B7: =B6+1 -> 44139 | G7: =(IF(D7<C7,(1-C7+D7),((D7-C7)))+IF(F7<E7,(1-E7+F7),((F7-E7)))) -> 0 | H7: =IF(B7<>"",IF(G7>(1/24*6),"Présent",IF(G7>0,"1/2 journée","Absent")),"") -> Absent
B8: =B7+1 -> 44140 | G8: =(IF(D8<C8,(1-C8+D8),((D8-C8)))+IF(F8<E8,(1-E8+F8),((F8-E8)))) -> 0 | H8: =IF(B8<>"",IF(G8>(1/24*6),"Présent",IF(G8>0,"1/2 journée","Absent")),"") -> Absent
B9: =B8+1 -> 44141 | G9: =(IF(D9<C9,(1-C9+D9),((D9-C9)))+IF(F9<E9,(1-E9+F9),((F9-E9)))) -> 0 | H9: =IF(B9<>"",IF(G9>(1/24*6),"Présent",IF(G9>0,"1/2 journée","Absent")),"") -> Absent
B10: =B9+1 -> 44142 | G10: =(IF(D10<C10,(1-C10+D10),((D10-C10)))+IF(F10<E10,(1-E10+F10),((F10-E10)))) -> 0 | H10: =IF(B10<>"",IF(G10>(1/24*6),"Présent",IF(G10>0,"1/2 journée","Absent")),"") -> Absent
B11: =B10+1 -> 44143 | G11: =(IF(D11<C11,(1-C11+D11),((D11-C11)))+IF(F11<E11,(1-E11+F11),((F11-E11)))) -> 0 | H11: =IF(B11<>"",IF(G11>(1/24*6),"Présent",IF(G11>0,"1/2 journée","Absent")),"") -> Absent
B12: =B11+1 -> 44144 | G12: =(IF(D12<C12,(1-C12+D12),((D12-C12)))+IF(F12<E12,(1-E12+F12),((F12-E12)))) -> 0 | H12: =IF(B12<>"",IF(G12>(1/24*6),"Présent",IF(G12>0,"1/2 journée","Absent")),"") -> Absent
B13: =B12+1 -> 44145 | G13: =(IF(D13<C13,(1-C13+D13),((D13-C13)))+IF(F13<E13,(1-E13+F13),((F13-E13)))) -> 0 | H13: =IF(B13<>"",IF(G13>(1/24*6),"Présent",IF(G13>0,"1/2 journée","Absent")),"") -> Absent
B14: =B13+1 -> 44146 | G14: =(IF(D14<C14,(1-C14+D14),((D14-C14)))+IF(F14<E14,(1-E14+F14),((F14-E14)))) -> 0 | H14: =IF(B14<>"",IF(G14>(1/24*6),"Présent",IF(G14>0,"1/2 journée","Absent")),"") -> Absent
B15: =B14+1 -> 44147 | G15: =(IF(D15<C15,(1-C15+D15),((D15-C15)))+IF(F15<E15,(1-E15+F15),((F15-E15)))) -> 0 | H15: =IF(B15<>"",IF(G15>(1/24*6),"Présent",IF(G15>0,"1/2 journée","Absent")),"") -> Absent
B16: =B15+1 -> 44148 | G16: =(IF(D16<C16,(1-C16+D16),((D16-C16)))+IF(F16<E16,(1-E16+F16),((F16-E16)))) -> 0 | H16: =IF(B16<>"",IF(G16>(1/24*6),"Présent",IF(G16>0,"1/2 journée","Absent")),"") -> Absent
... B34: =B33+1 -> 44166 | G34: =(IF(D34<C34,(1-C34+D34),((D34-C34)))+IF(F34<E34,(1-E34+F34),((F34-E34)))) -> 0 | H34: =IF(B34<>"",IF(G34>(1/24*6),"Présent",IF(G34>0,"1/2 journée","Absent")),"") -> Absent
F35: Heures totales | G35: =SUM(G4:G34) -> 0
F36: Taux horaire | G36: 8.5
F37: Total de la paie | G37: =G35*G36 -> 0
B39: Moyenne par jour | D39: Nb jours travaillés | G39: Heures exedentaires
B40: =IF(G35<>0,AVERAGEIF(G4:G33,"<>0"),"") | D40: =COUNTIFS(G4:G34,">0") -> 0 | G40: =(G35-(COUNTIFS(G4:G34,">0")*'Récap heure'!M1/5))*24 -> 0

Sheet Décembre
B1: Feuille de présence mensuelle
D2: Décembre
B3: Jour | C3: Arrivée | D3: Départ | E3: Arrivée | F3: Départ | G3: Total Heures | H3: Statut | I3: Motif absence | K3: Commentaire
B4: =DATE(Année,MONTH("1/"&D2),1) -> 44166 | G4: =(IF(D4<C4,(1-C4+D4),((D4-C4)))+IF(F4<E4,(1-E4+F4),((F4-E4)))) -> 0 | H4: =IF(B4<>"",IF(G4>(1/24*6),"Présent",IF(G4>0,"1/2 journée","Absent")),"") -> Absent
B5: =B4+1 -> 44167 | G5: =(IF(D5<C5,(1-C5+D5),((D5-C5)))+IF(F5<E5,(1-E5+F5),((F5-E5)))) -> 0 | H5: =IF(B5<>"",IF(G5>(1/24*6),"Présent",IF(G5>0,"1/2 journée","Absent")),"") -> Absent
B6: =B5+1 -> 44168 | G6: =(IF(D6<C6,(1-C6+D6),((D6-C6)))+IF(F6<E6,(1-E6+F6),((F6-E6)))) -> 0 | H6: =IF(B6<>"",IF(G6>(1/24*6),"Présent",IF(G6>0,"1/2 journée","Absent")),"") -> Absent
B7: =B6+1 -> 44169 | G7: =(IF(D7<C7,(1-C7+D7),((D7-C7)))+IF(F7<E7,(1-E7+F7),((F7-E7)))) -> 0 | H7: =IF(B7<>"",IF(G7>(1/24*6),"Présent",IF(G7>0,"1/2 journée","Absent")),"") -> Absent
B8: =B7+1 -> 44170 | G8: =(IF(D8<C8,(1-C8+D8),((D8-C8)))+IF(F8<E8,(1-E8+F8),((F8-E8)))) -> 0 | H8: =IF(B8<>"",IF(G8>(1/24*6),"Présent",IF(G8>0,"1/2 journée","Absent")),"") -> Absent
B9: =B8+1 -> 44171 | G9: =(IF(D9<C9,(1-C9+D9),((D9-C9)))+IF(F9<E9,(1-E9+F9),((F9-E9)))) -> 0 | H9: =IF(B9<>"",IF(G9>(1/24*6),"Présent",IF(G9>0,"1/2 journée","Absent")),"") -> Absent
B10: =B9+1 -> 44172 | G10: =(IF(D10<C10,(1-C10+D10),((D10-C10)))+IF(F10<E10,(1-E10+F10),((F10-E10)))) -> 0 | H10: =IF(B10<>"",IF(G10>(1/24*6),"Présent",IF(G10>0,"1/2 journée","Absent")),"") -> Absent
B11: =B10+1 -> 44173 | G11: =(IF(D11<C11,(1-C11+D11),((D11-C11)))+IF(F11<E11,(1-E11+F11),((F11-E11)))) -> 0 | H11: =IF(B11<>"",IF(G11>(1/24*6),"Présent",IF(G11>0,"1/2 journée","Absent")),"") -> Absent
B12: =B11+1 -> 44174 | G12: =(IF(D12<C12,(1-C12+D12),((D12-C12)))+IF(F12<E12,(1-E12+F12),((F12-E12)))) -> 0 | H12: =IF(B12<>"",IF(G12>(1/24*6),"Présent",IF(G12>0,"1/2 journée","Absent")),"") -> Absent
B13: =B12+1 -> 44175 | G13: =(IF(D13<C13,(1-C13+D13),((D13-C13)))+IF(F13<E13,(1-E13+F13),((F13-E13)))) -> 0 | H13: =IF(B13<>"",IF(G13>(1/24*6),"Présent",IF(G13>0,"1/2 journée","Absent")),"") -> Absent
B14: =B13+1 -> 44176 | G14: =(IF(D14<C14,(1-C14+D14),((D14-C14)))+IF(F14<E14,(1-E14+F14),((F14-E14)))) -> 0 | H14: =IF(B14<>"",IF(G14>(1/24*6),"Présent",IF(G14>0,"1/2 journée","Absent")),"") -> Absent
B15: =B14+1 -> 44177 | G15: =(IF(D15<C15,(1-C15+D15),((D15-C15)))+IF(F15<E15,(1-E15+F15),((F15-E15)))) -> 0 | H15: =IF(B15<>"",IF(G15>(1/24*6),"Présent",IF(G15>0,"1/2 journée","Absent")),"") -> Absent
B16: =B15+1 -> 44178 | G16: =(IF(D16<C16,(1-C16+D16),((D16-C16)))+IF(F16<E16,(1-E16+F16),((F16-E16)))) -> 0 | H16: =IF(B16<>"",IF(G16>(1/24*6),"Présent",IF(G16>0,"1/2 journée","Absent")),"") -> Absent
... B34: =B33+1 -> 44196 | G34: =(IF(D34<C34,(1-C34+D34),((D34-C34)))+IF(F34<E34,(1-E34+F34),((F34-E34)))) -> 0 | H34: =IF(B34<>"",IF(G34>(1/24*6),"Présent",IF(G34>0,"1/2 journée","Absent")),"") -> Absent
F35: Heures totales | G35: =SUM(G4:G34) -> 0
F36: Taux horaire | G36: 8.5
F37: Total de la paie | G37: =G35*G36 -> 0
B39: Moyenne par jour | D39: Nb jours travaillés | G39: Heures exedentaires
B40: =IF(G35<>0,AVERAGEIF(G4:G33,"<>0"),"") | D40: =COUNTIFS(G4:G34,">0") -> 0 | G40: =(G35-(COUNTIFS(G4:G34,">0")*'Récap heure'!M1/5))*24 -> 0
