Workbook

Sheet données
A1: Type d'affrètement
A4: SSHEX | D4: Nom du navire
A5: SatnoonSHEX | D5: Affreteur
A6: FSHEX | D6: Date de C/P
A7: SSHINC | D7: Port
A8: SSINC (holiday excluded) | D8: Demurrage
A10: 8/14 | B10: oui | D10: Chargement
A11: 8 next working day | B11: oui | D11: Déchargement
A13: Friday 5PM/Monday 8AM NTC EIU | D13: Marchandise
A15: Friday 5PM/Monday 8AM IU TC
E17: Jour | G17: Heure
A18: Quantité (dé)chargée en mT | B18: 43000 | D18: NOR tendue | E18: 44066 | G18: 0.5
A19: Cadence de (dé)chargement en mT/jour | B19: 25000 | D19: Début du temps | G19: =IF(B11="oui",TIMEVALUE("08:00"),IF(B10="oui",IF(OR(AND(G18>=TIMEVALUE("00:01"),G18<=TIMEVALUE("12:00")),AND(G18>=TIMEVALUE("17:01"),G18<=TIMEVALUE("24:00"))),TIMEVALUE("14:00"),IF(AND(G18>=TIMEVALUE("12:01"),G18<=TIMEVALUE("17:00"),NETWORKDAYS(E18,E18,grille!$G$5:$G$17)=1),TIMEVALUE("14:00"),IF(AND(G18>=TIMEVALUE("12:01"),G18<=TIMEVALUE("17:00"),NETWORKDAYS(E18,E18,grille!$G$5:$G$17)=0),TIMEVALUE("14:00"),0))))) -> 0.33333333
A21: Temps alloué au (dé)chargement en heure | B21: =B18/B19 -> 1.72 | D21: Nombre de jour que le navire à prit pour (dé)charger

Sheet calcul de temps
A1: Calcul de temps
A3: Nom du navire | B3: =données!E4 -> 0 | E3: Date C/P | F3: =données!E6 -> 0
A4: Affréteur | B4: =données!E5 -> 0 | E4: Port | F4: =données!E7 -> 0
A6: =IF(données!E10="oui","Chargement","Déchargement") -> Déchargement | B6: =données!B18 -> 43000 | C6: mT | D6: =données!E13 -> 0
A7: Cadence | B7: =données!B19 -> 25000 | C7: mT/jour
A9: Temps alloué | B9: heure:minute | D9: =données!B21 -> 1.72
B10: jour heure:minute | D10: =données!B21 -> 1.72
B11: jour | D11: =données!B21 -> 1.72
B14: Jour | E14: Heure
A15: NOR tendue | B15: =données!E18 -> 44066 | E15: =données!G18 -> 0.5
A16: Début du temps | B16: =données!E19 -> 0 | E16: =données!G19 -> 0.33333333
E18: Début | F18: Fin | G18: Cumul
A19: =B16 -> 0 | B19: Décompte du temps | E19: =E16 -> 0.33333333 | F19: 1 | G19: =F19-E19 -> 0.66666667
B20: Arrêt pluie pendant heure de travail | G20: =F20-E20 -> 0
G21: =F21-E21 -> 0
G22: =F22-E22 -> 0
G23: =F23-E23 -> 0
B24: Arrêt pluie hors heure de travail | G24: =F24-E24 -> 0
G25: =F25-E25 -> 0
G26: =F26-E26 -> 0
G27: =F27-E27 -> 0
B28: Autre arrêt | G28: =F28-E28 -> 0
G29: =F29-E29 -> 0
G30: =F30-E30 -> 0
G31: =F31-E31 -> 0
G32: =F32-E32 -> 0
G33: =F33-E33 -> 0
G34: =F34-E34 -> 0 | I34: Total cumulé
A35: Total Jour 1 | H35: =G19-(SUM(G20:G34)) -> 0.66666667 | I35: =H35 -> 0.66666667
E36: Début | F36: Fin | G36: Cumul
A37: =$A$19+1 -> 1 | B37: Décompte du temps | E37: 0 | F37: 1 | G37: =F37-E37 -> 1
B38: Arrêt pluie pendant heure de travail | G38: =F38-E38 -> 0
G39: =F39-E39 -> 0
G40: =F40-E40 -> 0
G41: =F41-E41 -> 0
B42: Arrêt pluie hors heure de travail | G42: =F42-E42 -> 0
G43: =F43-E43 -> 0
G44: =F44-E44 -> 0
G45: =F45-E45 -> 0
B46: Autre arrêt | G46: =F46-E46 -> 0
G47: =F47-E47 -> 0
G48: =F48-E48 -> 0
G49: =F49-E49 -> 0
G50: =F50-E50 -> 0
G51: =F51-E51 -> 0
G52: =F52-E52 -> 0 | I52: Total cumulé
A53: Total Jour 2 | H53: =G37-(SUM(G38:G52)) -> 1 | I53: =H53+I35 -> 1.6666667
E54: Début | F54: Fin | G54: Cumul
A55: =$A$19+2 -> 2 | B55: Décompte du temps | E55: 0 | F55: 1 | G55: =F55-E55 -> 1
B56: Arrêt pluie pendant heure de travail | G56: =F56-E56 -> 0
G57: =F57-E57 -> 0
G58: =F58-E58 -> 0
G59: =F59-E59 -> 0
B60: Arrêt pluie hors heure de travail | G60: =F60-E60 -> 0
G61: =F61-E61 -> 0
G62: =F62-E62 -> 0
G63: =F63-E63 -> 0
B64: Autre arrêt | G64: =F64-E64 -> 0
G65: =F65-E65 -> 0
G66: =F66-E66 -> 0
G67: =F67-E67 -> 0
G68: =F68-E68 -> 0
G69: =F69-E69 -> 0
G70: =F70-E70 -> 0 | I70: Total cumulé
A71: Total Jour 3 | H71: =G55-(SUM(G56:G70)) -> 1 | I71: =H71+I53 -> 2.6666667
E72: Début | F72: Fin | G72: Cumul
A73: =$A$19+3 -> 3 | B73: Décompte du temps | E73: 0 | F73: 1 | G73: =F73-E73 -> 1
B74: Arrêt pluie pendant heure de travail | G74: =F74-E74 -> 0
G75: =F75-E75 -> 0
G76: =F76-E76 -> 0
G77: =F77-E77 -> 0
B78: Arrêt pluie hors heure de travail | G78: =F78-E78 -> 0
G79: =F79-E79 -> 0
G80: =F80-E80 -> 0
G81: =F81-E81 -> 0
B82: Autre arrêt | G82: =F82-E82 -> 0
G83: =F83-E83 -> 0
G84: =F84-E84 -> 0
G85: =F85-E85 -> 0
G86: =F86-E86 -> 0
G87: =F87-E87 -> 0
G88: =F88-E88 -> 0 | I88: Total cumulé
A89: Total Jour 4 | H89: =G73-(SUM(G74:G88)) -> 1 | I89: =H89+I71 -> 3.6666667
E90: Début | F90: Fin | G90: Cumul
A91: =$A$19+4 -> 4 | B91: Décompte du temps | E91: 0 | F91: 0.70833333 | G91: =F91-E91 -> 0.70833333
B92: Arrêt pluie pendant heure de travail | G92: =F92-E92 -> 0
G93: =F93-E93 -> 0
G94: =F94-E94 -> 0
G95: =F95-E95 -> 0
B96: Arrêt pluie hors heure de travail | G96: =F96-E96 -> 0
G97: =F97-E97 -> 0
G98: =F98-E98 -> 0
G99: =F99-E99 -> 0
B100: Autre arrêt | G100: =F100-E100 -> 0
G101: =F101-E101 -> 0
G102: =F102-E102 -> 0
G103: =F103-E103 -> 0
G104: =F104-E104 -> 0
G105: =F105-E105 -> 0
G106: =F106-E106 -> 0 | I106: Total cumulé
...

Sheet grille
B1: Début du temps | F1: Liste des jours Fériés | J1: =HYPERLINK("https://forum.excel-pratique.com/excel/formule-si-imbrique-147838","JxDaw") -> JxDaw
A2: 8/14 | B2: 0.33333333 | C2: 0.58333333
A3: 8 NWD | B3: 0.33333333 | F3: Année | G3: 2020 | I3: Mettre l'année en cours
A5: Heure | F5: 1er Janvier | G5: =DATE($G$3,1,1) -> 43831
A6: 0 | B6: 0.5 | C6: 0.70833333 | F6: Pâques | G6: =ROUND(DATE($G$3,4,MOD(234-11*MOD($G$3,19),30))/7,)*7-6 -> 43933
F7: Lundi de Pâques | G7: =G6+1 -> 43934
A8: Formule 1.1 | B8: =IF(données!B10="oui",IF(OR(AND(données!G18>grille!A6,données!G18<grille!B6),AND(données!G18>grille!C6,données!G18<grille!A6)),grille!C2,0)) -> 0 | F8: 1er Mai | G8: =DATE($G$3,5,1) -> 43952
A9: Formule 1.2 | B9: =IF(données!B10="oui",IF(AND(données!G18>grille!B6,données!G18<grille!C6),grille!B2,0)) -> 0 | F9: 43959 | G9: =DATE($G$3,5,8) -> 43959
A10: Formule 1.3 | B10: =IF(données!B10="oui",IF(AND(données!G18>grille!B6,données!G18<grille!C6),grille!C2,0)) -> 0 | F10: Ascenscion | G10: =G6+39 -> 43972
A11: Formule 1.4 | B11: =IF(données!B11="oui",grille!B3) -> 0.33333333 | F11: Pentecôte | G11: =G6+49 -> 43982
F12: Lundi de la Pentecôte | G12: =G6+50 -> 43983
F13: 44026 | G13: =DATE($G$3,7,14) -> 44026
B14: Calcul début du temps | F14: 44058 | G14: =DATE($G$3,8,15) -> 44058
A15: Heure | B15: =IF(données!B11="oui",grille!B3,IF(données!B10="oui",IF(OR(AND(données!G18>grille!A6,données!G18<grille!B6),AND(données!G18>grille!C6,données!G18<grille!A6)),grille!C2,IF(AND(données!G18>grille!B6,données!G18<grille!C6),grille!B2,IF(AND(données!G18>grille!B6,données!G18<grille!C6),grille!C2,0))))) -> 0.33333333 | F15: 1er Novembre | G15: =DATE($G$3,11,1) -> 44136
A16: Date | F16: 44146 | G16: =DATE($G$3,11,11) -> 44146
F17: 44190 | G17: =DATE($G$3,12,25) -> 44190
