Workbook

Sheet Calcul
F1: =HYPERLINK("https://forum.excel-pratique.com/excel/arrondi-selon-une-plage-changeante-147620","Anthony.w") -> Anthony.w | G1: Selon B5:R5 de la feuille "Tarif"
B2: Poids | C2: 101
B3: Agence | C3: 1 | G3: 51 | H3: =IFERROR(CEILING(G3,OFFSET(Tarif!$C$5,0,MATCH($G3,Tarif!$D$3:$R$3,1))),G3) -> 51
G4: 76 | H4: =IFERROR(CEILING(G4,OFFSET(Tarif!$C$5,0,MATCH($G4,Tarif!$D$3:$R$3,1))),G4) -> 80
G5: 101 | H5: =IFERROR(CEILING(G5,OFFSET(Tarif!$C$5,0,MATCH($G5,Tarif!$D$3:$R$3,1))),G5) -> 110
B6: Prix | C6: {=_xlfn.XLOOKUP(C3,Tarif!$S$7:$S$123,_xlfn.XLOOKUP(Calcul!C2,Tarif!$D$3:$R$3,Tarif!D7:R123,"",-1))} -> #NAME? | D6: Poids
A8: F | B8: Prix | C8: =OFFSET(Tarif!$C$5,MATCH($C$3,Tarif!$S$6:$S$123,0),MATCH($C$2,Tarif!$D$3:$R$3,1))*(OFFSET(Tarif!$C$3,0,MATCH($C$2,Tarif!$D$3:$R$3,1))/100) -> 105.8076 | D8: Poids | E8: =$C$2 -> 101
A10: T | B10: Prix | C10: =IF($C$2<101,OFFSET(Tarif!$C$5,MATCH($C$3,Tarif!$S$6:$S$123,0),MATCH($C$2,Tarif!$D$3:$R$3,1)),OFFSET(Tarif!$C$5,MATCH($C$3,Tarif!$S$6:$S$123,0),MATCH($C$2,Tarif!$D$3:$R$3,1))*(CEILING($C$2,OFFSET(Tarif!$C$5,0,MATCH($C$2,Tarif!$D$3:$R$3,1)))/100)) -> 115.236 | D10: Poids | E10: =IFERROR(CEILING(C2,OFFSET(Tarif!$C$5,0,MATCH($C$2,Tarif!$D$3:$R$3,1))),C2) -> 110

Sheet Tarif
B1: Application | D1: [type_tranche]
B2: Tranches de unité taxation | D2: Forfait par expédition | N2: Aux 100 KG | O2: Aux 100 KG | P2: Aux 100 KG | Q2: Aux 100 KG | R2: Aux 100 KG
B3: Tranches de poids | D3: 1 | E3: 10 | F3: 20 | G3: 30 | H3: 40 | I3: 50 | J3: 60 | K3: 70 | L3: 80 | M3: 90 | N3: 101 | O3: 300 | P3: 500 | Q3: 700 | R3: 1000
D4: à 9 | E4: à 19 | F4: à 29 | G4: à 39 | H4: à 49 | I4: à 59 | J4: à 69 | K4: à 79 | L4: à 89 | M4: à 100 | N4: à 299 | O4: à 499 | P4: à 699 | Q4: à 999 | R4: à 3000
B5: Arrondi unité taxation | K5: 5 | L5: 5 | M5: 5 | N5: 10 | O5: 10 | P5: 10 | Q5: 10 | R5: 50
B6: Départements | C6: Zones | D6: F | E6: F | F6: F | G6: F | H6: F | I6: F | J6: F | K6: T | L6: T | M6: T | N6: T | O6: T | P6: T | Q6: T | R6: T
A7: =IF(C7="Stations - ST","ST"&B7,IF(C7="Iles - IL","ST"&B7,B7)) -> 1 | B7: 1 | C7: AIN | D7: 32.26 | E7: 45.59 | F7: 57.1 | G7: 63.49 | H7: 72.45 | I7: 81.39 | J7: 87.41 | K7: 91.44 | L7: 96.72 | M7: 106.23 | N7: 104.76 | O7: 95.45 | P7: 86.86 | Q7: 81.39 | R7: 76.65 | S7: =IFERROR(VALUE(A7),A7) -> 1
A8: =IF(C8="Stations - ST","ST"&B8,IF(C8="Iles - IL","ST"&B8,B8)) -> 2 | B8: 2 | C8: AISNE | D8: 33.7 | E8: 43.04 | F8: 55.82 | G8: 65.49 | H8: 76.27 | I8: 83.75 | J8: 92.52 | K8: 100 | L8: 105.87 | M8: 113.18 | N8: 109.15 | O8: 98.92 | P8: 89.06 | Q8: 83.04 | R8: 77.73 | S8: =IFERROR(VALUE(A8),A8) -> 2
A9: =IF(C9="Stations - ST","ST"&B9,IF(C9="Iles - IL","ST"&B9,B9)) -> 3 | B9: 3 | C9: ALLIER | D9: 63.67 | E9: 76.44 | F9: 87.24 | G9: 92.69 | H9: 101.67 | I9: 108.78 | J9: 116.27 | K9: 120.1 | L9: 129.6 | M9: 135.45 | N9: 128.14 | O9: 120.47 | P9: 113.35 | Q9: 110.61 | R9: 108.42 | S9: =IFERROR(VALUE(A9),A9) -> 3
A10: =IF(C10="Stations - ST","ST"&B10,IF(C10="Iles - IL","ST"&B10,B10)) -> 4 | B10: 4 | C10: ALPES DE HAUTE-PROV | D10: 50.53 | E10: 63.67 | F10: 76.44 | G10: 85.04 | H10: 96.01 | I10: 105.12 | J10: 113.72 | K10: 121.75 | L10: 130.52 | M10: 141.3 | N10: 138.19 | O10: 131.61 | P10: 127.95 | Q10: 129.77 | R10: 137.27 | S10: =IFERROR(VALUE(A10),A10) -> 4
A11: =IF(C11="Stations - ST","ST"&B11,IF(C11="Iles - IL","ST"&B11,B11)) -> ST4 | B11: 4 | C11: Stations - ST | D11: 66.58 | E11: 83.75 | F11: 100.38 | G11: 111.51 | H11: 125.78 | I11: 137.64 | J11: 148.78 | K11: 159.2 | L11: 170.52 | M11: 184.56 | N11: 180.57 | O11: 171.96 | P11: 167.22 | Q11: 169.6 | R11: 179.27 | S11: =IFERROR(VALUE(A11),A11) -> ST4
A12: =IF(C12="Stations - ST","ST"&B12,IF(C12="Iles - IL","ST"&B12,B12)) -> 5 | B12: 5 | C12: ALPES (HAUTES-) | D12: 50.53 | E12: 65.49 | F12: 80.1 | G12: 90.33 | H12: 102.76 | I12: 113.35 | J12: 123.21 | K12: 132.34 | L12: 142.57 | M12: 155 | N12: 152.06 | O12: 145.12 | P12: 140.74 | Q12: 142.57 | R12: 150.05 | S12: =IFERROR(VALUE(A12),A12) -> 5
A13: =IF(C13="Stations - ST","ST"&B13,IF(C13="Iles - IL","ST"&B13,B13)) -> ST5 | B13: 5 | C13: Stations - ST | D13: 66.58 | E13: 86.13 | F13: 105.12 | G13: 118.28 | H13: 134.55 | I13: 148.23 | J13: 161.02 | K13: 172.88 | L13: 186.23 | M13: 202.48 | N13: 198.64 | O13: 189.51 | P13: 183.85 | Q13: 186.23 | R13: 195.9 | S13: =IFERROR(VALUE(A13),A13) -> ST5
A14: =IF(C14="Stations - ST","ST"&B14,IF(C14="Iles - IL","ST"&B14,B14)) -> 6 | B14: 6 | C14: ALPES-MARITIMES | D14: 68.79 | E14: 85.59 | F14: 100.75 | G14: 110.07 | H14: 124.48 | I14: 136.18 | J14: 147.86 | K14: 155.92 | L14: 168.51 | M14: 177.46 | N14: 169.23 | O14: 159.37 | P14: 150.24 | Q14: 146.6 | R14: 143.66 | S14: =IFERROR(VALUE(A14),A14) -> 6
A15: =IF(C15="Stations - ST","ST"&B15,IF(C15="Iles - IL","ST"&B15,B15)) -> ST6 | B15: 6 | C15: Stations - ST | D15: 90.33 | E15: 112.26 | F15: 131.79 | G15: 144.03 | H15: 162.65 | I15: 178 | J15: 193.16 | K15: 203.57 | L15: 220.01 | M15: 231.5 | N15: 220.92 | O15: 208.14 | P15: 196.26 | Q15: 191.51 | R15: 187.67 | S15: =IFERROR(VALUE(A15),A15) -> ST6
A16: =IF(C16="Stations - ST","ST"&B16,IF(C16="Iles - IL","ST"&B16,B16)) -> 7 | B16: 7 | C16: ARDECHE | D16: 66.04 | E16: 86.69 | F16: 100.75 | G16: 108.23 | H16: 119.01 | I16: 130.35 | J16: 139.65 | K16: 144.39 | L16: 155.54 | M16: 166.68 | N16: 161.56 | O16: 152.43 | P16: 142.74 | Q16: 140.19 | R16: 137.27 | S16: =IFERROR(VALUE(A16),A16) -> 7
A17: =IF(C17="Stations - ST","ST"&B17,IF(C17="Iles - IL","ST"&B17,B17)) -> 8 | B17: 8 | C17: ARDENNES | D17: 46.67 | E17: 56.72 | F17: 73.35 | G17: 82.66 | H17: 93.25 | I17: 103.3 | J17: 112.97 | K17: 119.01 | L17: 126.32 | M17: 137.08 | N17: 134.17 | O17: 124.67 | P17: 114.98 | Q17: 109.15 | R17: 103.3 | S17: =IFERROR(VALUE(A17),A17) -> 8
A18: =IF(C18="Stations - ST","ST"&B18,IF(C18="Iles - IL","ST"&B18,B18)) -> 9 | B18: 9 | C18: ARIEGE | D18: 47.78 | E18: 61.11 | F18: 73.72 | G18: 81.39 | H18: 91.81 | I18: 100.75 | J18: 110.07 | K18: 118.09 | L18: 127.41 | M18: 135.64 | N18: 130.52 | O18: 121.92 | P18: 114.06 | Q18: 109.86 | R18: 106.23 | S18: =IFERROR(VALUE(A18),A18) -> 9
... A20: =IF(C20="Stations - ST","ST"&B20,IF(C20="Iles - IL","ST"&B20,B20)) -> 10 | B20: 10 | C20: AUBE | D20: 43.77 | E20: 53.81 | F20: 62.76 | G20: 68.04 | H20: 76.44 | I20: 83.04 | J20: 89.97 | K20: 94.36 | L20: 102.03 | M20: 107.14 | N20: 101.84 | O20: 95.8 | P20: 90.16 | Q20: 87.95 | R20: 86.32 | S20: =IFERROR(VALUE(A20),A20) -> 10
A21: =IF(C21="Stations - ST","ST"&B21,IF(C21="Iles - IL","ST"&B21,B21)) -> 11 | B21: 11 | C21: AUDE | D21: 47.05 | E21: 58.56 | F21: 72.45 | G21: 81.01 | H21: 91.25 | I21: 100.21 | J21: 109.15 | K21: 117.17 | L21: 125.4 | M21: 137.83 | N21: 136.35 | O21: 129.97 | P21: 123.4 | Q21: 120.83 | R21: 118.09 | S21: =IFERROR(VALUE(A21),A21) -> 11
A22: =IF(C22="Stations - ST","ST"&B22,IF(C22="Iles - IL","ST"&B22,B22)) -> 12 | B22: 12 | C22: AVEYRON | D22: 46.13 | E22: 61.84 | F22: 74.44 | G22: 84.3 | H22: 97.1 | I22: 105.87 | J22: 114.06 | K22: 122.12 | L22: 130.69 | M22: 140.38 | N22: 135.99 | O22: 127.24 | P22: 119.01 | Q22: 114.81 | R22: 111.16 | S22: =IFERROR(VALUE(A22),A22) -> 12
A23: =IF(C23="Stations - ST","ST"&B23,IF(C23="Iles - IL","ST"&B23,B23)) -> 13 | B23: 13 | C23: BOUCHES DU RHONE | D23: 60.38 | E23: 73.53 | F23: 84.86 | G23: 91.44 | H23: 102.38 | I23: 110.97 | J23: 119.74 | K23: 125.03 | L23: 135.09 | M23: 141.3 | N23: 133.8 | O23: 125.78 | P23: 118.47 | Q23: 115.54 | R23: 113.18 | S23: =IFERROR(VALUE(A23),A23) -> 13
A24: =IF(C24="Stations - ST","ST"&B24,IF(C24="Iles - IL","ST"&B24,B24)) -> 14 | B24: 14 | C24: CALVADOS | D24: 48.15 | E24: 56.72 | F24: 63.49 | G24: 66.58 | H24: 72.24 | I24: 76.82 | J24: 81.39 | K24: 83.39 | L24: 89.79 | M24: 92.52 | N24: 86.51 | O24: 80.84 | P24: 75.73 | Q24: 73.72 | R24: 72.07 | S24: =IFERROR(VALUE(A24),A24) -> 14
A25: =IF(C25="Stations - ST","ST"&B25,IF(C25="Iles - IL","ST"&B25,B25)) -> 15 | B25: 15 | C25: CANTAL | D25: 41.01 | E25: 54.9 | F25: 68.04 | G25: 76.82 | H25: 89.6 | I25: 101.13 | J25: 111.16 | K25: 121.58 | L25: 132.34 | M25: 144.76 | N25: 142.57 | O25: 134.34 | P25: 126.86 | Q25: 120.47 | R25: 114.81 | S25: =IFERROR(VALUE(A25),A25) -> 15
A26: =IF(C26="Stations - ST","ST"&B26,IF(C26="Iles - IL","ST"&B26,B26)) -> 16 | B26: 16 | C26: CHARENTE | D26: 40.66 | E26: 47.24 | F26: 52.52 | G26: 54.9 | H26: 60.02 | I26: 63.67 | J26: 67.69 | K26: 69.34 | L26: 74.44 | M26: 77.55 | N26: 75.9 | O26: 68.25 | P26: 60.94 | Q26: 58.93 | R26: 57.47 | S26: =IFERROR(VALUE(A26),A26) -> 16
A27: =IF(C27="Stations - ST","ST"&B27,IF(C27="Iles - IL","ST"&B27,B27)) -> 17 | B27: 17 | C27: CHARENTE-MARITIME | D27: 40.84 | E27: 47.97 | F27: 53.81 | G27: 56.72 | H27: 62.21 | I27: 66.41 | J27: 70.98 | K27: 72.99 | L27: 78.46 | M27: 80.47 | N27: 74.81 | O27: 69.88 | P27: 65.31 | Q27: 63.3 | R27: 62.03 | S27: =IFERROR(VALUE(A27),A27) -> 17
A28: =IF(C28="Stations - ST","ST"&B28,IF(C28="Iles - IL","ST"&B28,B28)) -> ST17 | B28: 17 | C28: Iles - IL | D28: 56.18 | E28: 65.87 | F28: 73.72 | G28: 77.55 | H28: 85.04 | I28: 90.7 | J28: 96.91 | K28: 99.65 | L28: 106.96 | M28: 109.69 | N28: 102.03 | O28: 95.45 | P28: 89.24 | Q28: 86.51 | R28: 84.86 | S28: =IFERROR(VALUE(A28),A28) -> ST17
A29: =IF(C29="Stations - ST","ST"&B29,IF(C29="Iles - IL","ST"&B29,B29)) -> 18 | B29: 18 | C29: CHER | D29: 43.58 | E29: 53.63 | F29: 62.38 | G29: 67.69 | H29: 76.1 | I29: 82.85 | J29: 89.79 | K29: 93.99 | L29: 101.67 | M29: 106.77 | N29: 101.47 | O29: 95.45 | P29: 89.97 | Q29: 87.78 | R29: 86.13 | S29: =IFERROR(VALUE(A29),A29) -> 18
A30: =IF(C30="Stations - ST","ST"&B30,IF(C30="Iles - IL","ST"&B30,B30)) -> 19 | B30: 19 | C30: CORREZE | D30: 40.47 | E30: 45.96 | F30: 50.16 | G30: 51.43 | H30: 55.45 | I30: 58.39 | J30: 61.48 | K30: 62.21 | L30: 66.41 | M30: 68.6 | N30: 67.13 | O30: 59.48 | P30: 52.35 | Q30: 50.53 | R30: 49.07 | S30: =IFERROR(VALUE(A30),A30) -> 19
A31: =IF(C31="Stations - ST","ST"&B31,IF(C31="Iles - IL","ST"&B31,B31)) -> 20 | B31: 20 | C31: CORSE | D31: 158.82 | E31: 183.12 | F31: 210.33 | G31: 234.98 | H31: 249.77 | I31: 300.18 | J31: 309.14 | K31: 340.74 | L31: 350.6 | M31: 371.97 | N31: 357.16 | O31: 326.31 | P31: 313.69 | Q31: 286.66 | R31: 246.66 | S31: =IFERROR(VALUE(A31),A31) -> 20
A32: =IF(C32="Stations - ST","ST"&B32,IF(C32="Iles - IL","ST"&B32,B32)) -> 21 | B32: 21 | C32: COTE-D OR | D32: 42.85 | E32: 51.98 | F32: 60.02 | G32: 64.59 | H32: 72.07 | I32: 78.09 | J32: 84.3 | K32: 87.95 | L32: 94.9 | M32: 99.1 | N32: 93.44 | O32: 87.78 | P32: 82.48 | Q32: 80.3 | R32: 78.63 | S32: =IFERROR(VALUE(A32),A32) -> 21
A33: =IF(C33="Stations - ST","ST"&B33,IF(C33="Iles - IL","ST"&B33,B33)) -> 22 | B33: 22 | C33: COTES-D ARMOR | D33: 41.56 | E33: 49.41 | F33: 55.82 | G33: 59.29 | H33: 65.31 | I33: 70.24 | J33: 75.18 | K33: 77.73 | L33: 83.58 | M33: 86.32 | N33: 80.66 | O33: 75.35 | P33: 70.61 | Q33: 68.6 | R33: 67.13 | S33: =IFERROR(VALUE(A33),A33) -> 22
A34: =IF(C34="Stations - ST","ST"&B34,IF(C34="Iles - IL","ST"&B34,B34)) -> ST22 | B34: 22 | C34: Iles - IL | D34: 57.1 | E34: 67.69 | F34: 76.44 | G34: 81.01 | H34: 89.24 | I34: 95.8 | J34: 102.57 | K34: 106.04 | L34: 113.89 | M34: 117.55 | N34: 109.86 | O34: 102.76 | P34: 96.35 | Q34: 93.61 | R34: 91.61 | S34: =IFERROR(VALUE(A34),A34) -> ST22
A35: =IF(C35="Stations - ST","ST"&B35,IF(C35="Iles - IL","ST"&B35,B35)) -> 23 | B35: 23 | C35: CREUSE | D35: 36.46 | E35: 42.68 | F35: 57.28 | G35: 60.19 | H35: 65.14 | I35: 68.96 | J35: 76.65 | K35: 83.58 | L35: 92.52 | M35: 98.01 | N35: 103.3 | O35: 92.15 | P35: 82.12 | Q35: 75.9 | R35: 70.61 | S35: =IFERROR(VALUE(A35),A35) -> 23
A36: =IF(C36="Stations - ST","ST"&B36,IF(C36="Iles - IL","ST"&B36,B36)) -> 24 | B36: 24 | C36: DORDOGNE | D36: 59.29 | E36: 66.04 | F36: 70.98 | G36: 71.53 | H36: 75.35 | I36: 77.92 | J36: 79.38 | K36: 83.58 | L36: 86.13 | M36: 89.41 | N36: 92.9 | O36: 79.55 | P36: 67.13 | Q36: 64.59 | R36: 62.93 | S36: =IFERROR(VALUE(A36),A36) -> 24
A37: =IF(C37="Stations - ST","ST"&B37,IF(C37="Iles - IL","ST"&B37,B37)) -> 25 | B37: 25 | C37: DOUBS | D37: 45.04 | E37: 56.91 | F37: 67.33 | G37: 74.08 | H37: 83.96 | I37: 92.15 | J37: 100.38 | K37: 105.87 | L37: 114.81 | M37: 121.58 | N37: 116.46 | O37: 109.86 | P37: 103.66 | Q37: 101.3 | R37: 99.46 | S37: =IFERROR(VALUE(A37),A37) -> 25
A38: =IF(C38="Stations - ST","ST"&B38,IF(C38="Iles - IL","ST"&B38,B38)) -> ST25 | B38: 25 | C38: Stations - ST | D38: 59.48 | E38: 74.81 | F38: 88.49 | G38: 97.27 | H38: 110.07 | I38: 120.66 | J38: 131.44 | K38: 138.54 | L38: 150.24 | M38: 158.99 | N38: 152.26 | O38: 143.66 | P38: 135.64 | Q38: 132.52 | R38: 130.14 | S38: =IFERROR(VALUE(A38),A38) -> ST25
A39: =IF(C39="Stations - ST","ST"&B39,IF(C39="Iles - IL","ST"&B39,B39)) -> 26 | B39: 26 | C39: DROME | D39: 45.59 | E39: 58.01 | F39: 69.15 | G39: 76.44 | H39: 87.05 | I39: 95.63 | J39: 104.41 | K39: 110.61 | L39: 119.93 | M39: 127.41 | N39: 122.29 | O39: 115.54 | P39: 109.15 | Q39: 106.77 | R39: 104.76 | S39: =IFERROR(VALUE(A39),A39) -> 26
A40: =IF(C40="Stations - ST","ST"&B40,IF(C40="Iles - IL","ST"&B40,B40)) -> 27 | B40: 27 | C40: EURE | D40: 43.58 | E40: 53.63 | F40: 62.59 | G40: 67.87 | H40: 76.27 | I40: 83.04 | J40: 89.97 | K40: 94.36 | L40: 102.03 | M40: 107.14 | N40: 101.84 | O40: 95.8 | P40: 90.33 | Q40: 88.15 | R40: 86.51 | S40: =IFERROR(VALUE(A40),A40) -> 27
A41: =IF(C41="Stations - ST","ST"&B41,IF(C41="Iles - IL","ST"&B41,B41)) -> 28 | B41: 28 | C41: EURE-ET-LOIR | D41: 42.85 | E41: 51.98 | F41: 59.83 | G41: 64.22 | H41: 71.7 | I41: 77.55 | J41: 83.75 | K41: 87.24 | L41: 94.17 | M41: 98.37 | N41: 92.9 | O41: 87.24 | P41: 81.93 | Q41: 79.93 | R41: 78.28 | S41: =IFERROR(VALUE(A41),A41) -> 28
A42: =IF(C42="Stations - ST","ST"&B42,IF(C42="Iles - IL","ST"&B42,B42)) -> 29 | B42: 29 | C42: FINISTERE | D42: 41.39 | E42: 48.51 | F42: 54.36 | G42: 57.28 | H42: 62.76 | I42: 67.13 | J42: 71.53 | K42: 73.53 | L42: 79.01 | M42: 81.01 | N42: 75.35 | O42: 70.24 | P42: 65.68 | Q42: 63.67 | R42: 62.21 | S42: =IFERROR(VALUE(A42),A42) -> 29
A43: =IF(C43="Stations - ST","ST"&B43,IF(C43="Iles - IL","ST"&B43,B43)) -> ST29 | B43: 29 | C43: Iles - IL | D43: 56.91 | E43: 66.58 | F43: 74.44 | G43: 78.46 | H43: 85.77 | I43: 91.61 | J43: 97.64 | K43: 100.38 | L43: 107.69 | M43: 110.42 | N43: 102.76 | O43: 95.8 | P43: 89.79 | Q43: 87.05 | R43: 85.04 | S43: =IFERROR(VALUE(A43),A43) -> ST29
A44: =IF(C44="Stations - ST","ST"&B44,IF(C44="Iles - IL","ST"&B44,B44)) -> 30 | B44: 30 | C44: GARD | D44: 64.95 | E44: 78.09 | F44: 89.41 | G44: 95.45 | H44: 106.23 | I44: 114.62 | J44: 123.21 | K44: 128.14 | L44: 138.19 | M44: 143.85 | N44: 135.64 | O44: 127.24 | P44: 119.74 | Q44: 116.63 | R44: 114.27 | S44: =IFERROR(VALUE(A44),A44) -> 30
A45: =IF(C45="Stations - ST","ST"&B45,IF(C45="Iles - IL","ST"&B45,B45)) -> 31 | B45: 31 | C45: HAUTE-GARONNE | D45: 55.63 | E45: 67.5 | F45: 77.55 | G45: 83.21 | H45: 93.07 | I45: 100.75 | J45: 108.61 | K45: 113.18 | L45: 122.12 | M45: 127.41 | N45: 120.47 | O45: 113.18 | P45: 106.58 | Q45: 103.85 | R45: 101.67 | S45: =IFERROR(VALUE(A45),A45) -> 31
A46: =IF(C46="Stations - ST","ST"&B46,IF(C46="Iles - IL","ST"&B46,B46)) -> ST31 | B46: 31 | C46: Stations - ST | D46: 73.16 | E46: 88.7 | F46: 101.67 | G46: 109.15 | H46: 121.92 | I46: 131.79 | J46: 142.03 | K46: 148.05 | L46: 159.74 | M46: 166.49 | N46: 157.55 | O46: 148.05 | P46: 139.46 | Q46: 135.99 | R46: 133.07 | S46: =IFERROR(VALUE(A46),A46) -> ST31
A47: =IF(C47="Stations - ST","ST"&B47,IF(C47="Iles - IL","ST"&B47,B47)) -> 32 | B47: 32 | C47: GERS | D47: 53.07 | E47: 66.58 | F47: 83.39 | G47: 87.78 | H47: 98.37 | I47: 103.66 | J47: 112.07 | K47: 116.63 | L47: 123.75 | M47: 132.15 | N47: 127.41 | O47: 120.47 | P47: 113.35 | Q47: 110.78 | R47: 107.86 | S47: =IFERROR(VALUE(A47),A47) -> 32
A48: =IF(C48="Stations - ST","ST"&B48,IF(C48="Iles - IL","ST"&B48,B48)) -> 33 | B48: 33 | C48: GIRONDE | D48: 46.5 | E48: 55.28 | F48: 62.59 | G48: 66.41 | H48: 73.35 | I48: 78.84 | J48: 84.5 | K48: 87.59 | L48: 93.99 | M48: 96.55 | N48: 89.79 | O48: 83.75 | P48: 78.28 | Q48: 75.9 | R48: 74.08 | S48: =IFERROR(VALUE(A48),A48) -> 33
A49: =IF(C49="Stations - ST","ST"&B49,IF(C49="Iles - IL","ST"&B49,B49)) -> 34 | B49: 34 | C49: HERAULT | D49: 51.62 | E49: 66.22 | F49: 79.38 | G49: 87.95 | H49: 100.55 | I49: 110.78 | J49: 121.02 | K49: 128.51 | L49: 139.46 | M49: 148.61 | N49: 142.95 | O49: 135.09 | P49: 127.95 | Q49: 125.03 | R49: 123.04 | S49: =IFERROR(VALUE(A49),A49) -> 34
A50: =IF(C50="Stations - ST","ST"&B50,IF(C50="Iles - IL","ST"&B50,B50)) -> 35 | B50: 35 | C50: ILLE-ET-VILAINE | D50: 39.93 | E50: 45.42 | F50: 49.79 | G50: 51.25 | H50: 55.45 | I50: 58.39 | J50: 61.67 | K50: 62.38 | L50: 66.79 | M50: 68.96 | N50: 67.5 | O50: 60.02 | P50: 52.9 | Q50: 50.87 | R50: 49.62 | S50: =IFERROR(VALUE(A50),A50) -> 35
A51: =IF(C51="Stations - ST","ST"&B51,IF(C51="Iles - IL","ST"&B51,B51)) -> 36 | B51: 36 | C51: INDRE | D51: 58.93 | E51: 69.88 | F51: 79.38 | G51: 84.13 | H51: 93.25 | I51: 100 | J51: 107.31 | K51: 111.34 | L51: 119.55 | M51: 123.21 | N51: 115.17 | O51: 107.69 | P51: 100.92 | Q51: 98.01 | R51: 95.8 | S51: =IFERROR(VALUE(A51),A51) -> 36
A52: =IF(C52="Stations - ST","ST"&B52,IF(C52="Iles - IL","ST"&B52,B52)) -> 37 | B52: 37 | C52: INDRE-ET-LOIRE | D52: 40.11 | E52: 45.96 | F52: 50.7 | G52: 52.35 | H52: 56.72 | I52: 60.02 | J52: 63.49 | K52: 64.59 | L52: 69.15 | M52: 71.53 | N52: 70.07 | O52: 62.38 | P52: 55.28 | Q52: 53.44 | R52: 51.98 | S52: =IFERROR(VALUE(A52),A52) -> 37
A53: =IF(C53="Stations - ST","ST"&B53,IF(C53="Iles - IL","ST"&B53,B53)) -> 38 | B53: 38 | C53: ISERE | D53: 45.96 | E53: 58.73 | F53: 70.44 | G53: 77.92 | H53: 89.06 | I53: 98.01 | J53: 107.14 | K53: 113.52 | L53: 123.21 | M53: 131.06 | N53: 126.12 | O53: 119.2 | P53: 112.62 | Q53: 110.24 | R53: 108.23 | S53: =IFERROR(VALUE(A53),A53) -> 38
A54: =IF(C54="Stations - ST","ST"&B54,IF(C54="Iles - IL","ST"&B54,B54)) -> ST38 | B54: 38 | C54: Stations - ST | D54: 60.56 | E54: 77.19 | F54: 92.52 | G54: 102.21 | H54: 116.63 | I54: 128.33 | J54: 140.19 | K54: 148.4 | L54: 161.02 | M54: 171.25 | N54: 164.86 | O54: 155.92 | P54: 147.31 | Q54: 144.2 | R54: 141.65 | S54: =IFERROR(VALUE(A54),A54) -> ST38
A55: =IF(C55="Stations - ST","ST"&B55,IF(C55="Iles - IL","ST"&B55,B55)) -> 39 | B55: 39 | C55: JURA | D55: 43.22 | E55: 56.91 | F55: 69.69 | G55: 77.55 | H55: 86.69 | I55: 93.82 | J55: 100.38 | K55: 106.04 | L55: 112.8 | M55: 122.12 | N55: 119.2 | O55: 110.42 | P55: 101.67 | Q55: 99.1 | R55: 96.35 | S55: =IFERROR(VALUE(A55),A55) -> 39
A56: =IF(C56="Stations - ST","ST"&B56,IF(C56="Iles - IL","ST"&B56,B56)) -> ST39 | B56: 39 | C56: Stations - ST | D56: 57.1 | E56: 74.81 | F56: 91.44 | G56: 101.67 | H56: 113.52 | I56: 122.83 | J56: 131.44 | K56: 138.75 | L56: 147.48 | M56: 159.74 | N56: 155.92 | O56: 144.39 | P56: 133.07 | Q56: 129.77 | R56: 126.12 | S56: =IFERROR(VALUE(A56),A56) -> ST39
A57: =IF(C57="Stations - ST","ST"&B57,IF(C57="Iles - IL","ST"&B57,B57)) -> 40 | B57: 40 | C57: LANDES | D57: 54.73 | E57: 65.31 | F57: 74.27 | G57: 78.84 | H57: 87.41 | I57: 93.82 | J57: 100.75 | K57: 104.41 | L57: 112.43 | M57: 116.46 | N57: 109.32 | O57: 102.38 | P57: 96.18 | Q57: 93.61 | R57: 91.61 | S57: =IFERROR(VALUE(A57),A57) -> 40
A58: =IF(C58="Stations - ST","ST"&B58,IF(C58="Iles - IL","ST"&B58,B58)) -> 41 | B58: 41 | C58: LOIR-ET-CHER | D58: 42.31 | E58: 51.08 | F58: 58.56 | G58: 62.59 | H58: 69.69 | I58: 75.18 | J58: 80.84 | K58: 84.13 | L58: 90.7 | M58: 94.53 | N58: 89.06 | O58: 83.58 | P58: 78.46 | Q58: 76.44 | R58: 74.81 | S58: =IFERROR(VALUE(A58),A58) -> 41
A59: =IF(C59="Stations - ST","ST"&B59,IF(C59="Iles - IL","ST"&B59,B59)) -> 42 | B59: 42 | C59: LOIRE | D59: 42.85 | E59: 51.98 | F59: 59.83 | G59: 64.22 | H59: 71.7 | I59: 77.55 | J59: 83.75 | K59: 87.24 | L59: 94.17 | M59: 98.18 | N59: 92.69 | O59: 86.86 | P59: 81.75 | Q59: 79.55 | R59: 77.92 | S59: =IFERROR(VALUE(A59),A59) -> 42
A60: =IF(C60="Stations - ST","ST"&B60,IF(C60="Iles - IL","ST"&B60,B60)) -> ST42 | B60: 42 | C60: Stations - ST | D60: 56.55 | E60: 68.42 | F60: 78.63 | G60: 84.3 | H60: 94.17 | I60: 101.67 | J60: 109.86 | K60: 114.27 | L60: 123.4 | M60: 128.51 | N60: 121.37 | O60: 113.89 | P60: 107.14 | Q60: 104.41 | R60: 102.21 | S60: =IFERROR(VALUE(A60),A60) -> ST42
A61: =IF(C61="Stations - ST","ST"&B61,IF(C61="Iles - IL","ST"&B61,B61)) -> 43 | B61: 43 | C61: HAUTE-LOIRE | D61: 47.24 | E61: 59.1 | F61: 71.9 | G61: 84.3 | H61: 92.35 | I61: 100.75 | J61: 106.77 | K61: 114.98 | L61: 121.37 | M61: 132.34 | N61: 129.97 | O61: 120.1 | P61: 111.89 | Q61: 102.38 | R61: 94.53 | S61: =IFERROR(VALUE(A61),A61) -> 43
A62: =IF(C62="Stations - ST","ST"&B62,IF(C62="Iles - IL","ST"&B62,B62)) -> 44 | B62: 44 | C62: LOIRE-ATLANTIQUE | D62: 39.19 | E62: 43.94 | F62: 47.42 | G62: 48.32 | H62: 51.79 | I62: 53.98 | J62: 56.72 | K62: 56.91 | L62: 60.56 | M62: 62.21 | N62: 60.94 | O62: 53.44 | P62: 46.33 | Q62: 44.67 | R62: 43.39 | S62: =IFERROR(VALUE(A62),A62) -> 44
A63: =IF(C63="Stations - ST","ST"&B63,IF(C63="Iles - IL","ST"&B63,B63)) -> 45 | B63: 45 | C63: LOIRET | D63: 42.68 | E63: 51.62 | F63: 59.48 | G63: 63.67 | H63: 70.98 | I63: 76.82 | J63: 82.85 | K63: 86.32 | L63: 93.07 | M63: 97.1 | N63: 91.61 | O63: 85.94 | P63: 80.84 | Q63: 78.63 | R63: 77.19 | S63: =IFERROR(VALUE(A63),A63) -> 45
A64: =IF(C64="Stations - ST","ST"&B64,IF(C64="Iles - IL","ST"&B64,B64)) -> 46 | B64: 46 | C64: LOT | D64: 43.58 | E64: 58.39 | F64: 72.07 | G64: 81.2 | H64: 93.44 | I64: 102.03 | J64: 112.97 | K64: 121.75 | L64: 129.97 | M64: 140.38 | N64: 136.91 | O64: 129.43 | P64: 120.83 | Q64: 116.09 | R64: 109.86 | S64: =IFERROR(VALUE(A64),A64) -> 46
A65: =IF(C65="Stations - ST","ST"&B65,IF(C65="Iles - IL","ST"&B65,B65)) -> 47 | B65: 47 | C65: LOT-ET-GARONNE | D65: 42.12 | E65: 50.16 | F65: 57.1 | G65: 60.56 | H65: 67.13 | I65: 72.24 | J65: 77.36 | K65: 80.3 | L65: 86.32 | M65: 89.41 | N65: 83.75 | O65: 78.28 | P65: 73.35 | Q65: 71.32 | R65: 69.69 | S65: =IFERROR(VALUE(A65),A65) -> 47
A66: =IF(C66="Stations - ST","ST"&B66,IF(C66="Iles - IL","ST"&B66,B66)) -> 48 | B66: 48 | C66: LOZERE | D66: 52.71 | E66: 64.03 | F66: 80.3 | G66: 88.87 | H66: 98.01 | I66: 107.69 | J66: 115.73 | K66: 125.4 | L66: 135.26 | M66: 148.05 | N66: 146.04 | O66: 139.09 | P66: 131.98 | Q66: 128.68 | R66: 125.4 | S66: =IFERROR(VALUE(A66),A66) -> 48
A67: =IF(C67="Stations - ST","ST"&B67,IF(C67="Iles - IL","ST"&B67,B67)) -> 49 | B67: 49 | C67: MAINE-ET-LOIRE | D67: 39.74 | E67: 45.42 | F67: 49.79 | G67: 51.25 | H67: 55.45 | I67: 58.39 | J67: 61.67 | K67: 62.59 | L67: 66.96 | M67: 69.15 | N67: 67.69 | O67: 60.19 | P67: 53.07 | Q67: 51.25 | R67: 49.79 | S67: =IFERROR(VALUE(A67),A67) -> 49
A68: =IF(C68="Stations - ST","ST"&B68,IF(C68="Iles - IL","ST"&B68,B68)) -> 50 | B68: 50 | C68: MANCHE | D68: 48.15 | E68: 56.72 | F68: 63.49 | G68: 66.58 | H68: 72.24 | I68: 76.82 | J68: 81.39 | K68: 83.39 | L68: 89.79 | M68: 92.52 | N68: 86.51 | O68: 80.84 | P68: 75.73 | Q68: 73.72 | R68: 72.07 | S68: =IFERROR(VALUE(A68),A68) -> 50
A69: =IF(C69="Stations - ST","ST"&B69,IF(C69="Iles - IL","ST"&B69,B69)) -> 51 | B69: 51 | C69: MARNE | D69: 33.36 | E69: 42.85 | F69: 58.01 | G69: 67.5 | H69: 78.63 | I69: 88.87 | J69: 99.1 | K69: 105.87 | L69: 112.97 | M69: 124.67 | N69: 123.58 | O69: 115.54 | P69: 107.31 | Q69: 102.38 | R69: 97.27 | S69: =IFERROR(VALUE(A69),A69) -> 51
A70: =IF(C70="Stations - ST","ST"&B70,IF(C70="Iles - IL","ST"&B70,B70)) -> 52 | B70: 52 | C70: HAUTE-MARNE | D70: 45.21 | E70: 57.47 | F70: 68.25 | G70: 75.35 | H70: 85.77 | I70: 94.17 | J70: 102.57 | K70: 108.61 | L70: 117.72 | M70: 125.03 | N70: 119.93 | O70: 113.18 | P70: 106.96 | Q70: 104.58 | R70: 102.57 | S70: =IFERROR(VALUE(A70),A70) -> 52
A71: =IF(C71="Stations - ST","ST"&B71,IF(C71="Iles - IL","ST"&B71,B71)) -> 53 | B71: 53 | C71: MAYENNE | D71: 53.07 | E71: 62.76 | F71: 70.61 | G71: 74.44 | H71: 81.93 | I71: 87.59 | J71: 93.61 | K71: 96.55 | L71: 103.85 | M71: 106.96 | N71: 99.83 | O71: 93.44 | P71: 87.78 | Q71: 85.21 | R71: 83.39 | S71: =IFERROR(VALUE(A71),A71) -> 53
A72: =IF(C72="Stations - ST","ST"&B72,IF(C72="Iles - IL","ST"&B72,B72)) -> 54 | B72: 54 | C72: MEURTHE-ET-MOSELLE | D72: 60.75 | E72: 74.64 | F72: 86.69 | G72: 93.82 | H72: 105.49 | I72: 114.62 | J72: 124.13 | K72: 129.97 | L72: 140.19 | M72: 147.31 | N72: 140.19 | O72: 131.98 | P72: 124.48 | Q72: 121.58 | R72: 119.2 | S72: =IFERROR(VALUE(A72),A72) -> 54
A73: =IF(C73="Stations - ST","ST"&B73,IF(C73="Iles - IL","ST"&B73,B73)) -> 55 | B73: 55 | C73: MEUSE | D73: 45.04 | E73: 57.1 | F73: 67.87 | G73: 74.64 | H73: 84.86 | I73: 93.25 | J73: 101.47 | K73: 107.31 | L73: 116.46 | M73: 123.4 | N73: 118.28 | O73: 111.7 | P73: 105.49 | Q73: 103.11 | R73: 101.3 | S73: =IFERROR(VALUE(A73),A73) -> 55
A74: =IF(C74="Stations - ST","ST"&B74,IF(C74="Iles - IL","ST"&B74,B74)) -> 56 | B74: 56 | C74: MORBIHAN | D74: 40.47 | E74: 46.67 | F74: 51.62 | G74: 53.63 | H74: 58.39 | I74: 61.84 | J74: 65.49 | K74: 66.79 | L74: 71.53 | M74: 74.44 | N74: 72.8 | O74: 65.14 | P74: 57.83 | Q74: 55.99 | R74: 54.53 | S74: =IFERROR(VALUE(A74),A74) -> 56
A75: =IF(C75="Stations - ST","ST"&B75,IF(C75="Iles - IL","ST"&B75,B75)) -> ST56 | B75: 56 | C75: Iles - IL | D75: 55.63 | E75: 64.03 | F75: 70.78 | G75: 73.53 | H75: 79.93 | I75: 84.5 | J75: 89.41 | K75: 91.25 | L75: 97.64 | M75: 101.47 | N75: 99.29 | O75: 89.06 | P75: 79.2 | Q75: 76.65 | R75: 74.64 | S75: =IFERROR(VALUE(A75),A75) -> ST56
A76: =IF(C76="Stations - ST","ST"&B76,IF(C76="Iles - IL","ST"&B76,B76)) -> 57 | B76: 57 | C76: MOSELLE | D76: 49.07 | E76: 62.03 | F76: 73.53 | G76: 80.66 | H76: 91.61 | I76: 100.55 | J76: 109.52 | K76: 115.54 | L76: 125.4 | M76: 132.88 | N76: 127.24 | O76: 120.1 | P76: 113.35 | Q76: 110.78 | R76: 108.78 | S76: =IFERROR(VALUE(A76),A76) -> 57
A77: =IF(C77="Stations - ST","ST"&B77,IF(C77="Iles - IL","ST"&B77,B77)) -> 58 | B77: 58 | C77: NIEVRE | D77: 68.42 | E77: 80.47 | F77: 90.52 | G77: 95.09 | H77: 103.3 | I77: 109.69 | J77: 116.63 | K77: 119.74 | L77: 128.68 | M77: 132.71 | N77: 123.94 | O77: 115.9 | P77: 108.61 | Q77: 105.49 | R77: 103.11 | S77: =IFERROR(VALUE(A77),A77) -> 58
A78: =IF(C78="Stations - ST","ST"&B78,IF(C78="Iles - IL","ST"&B78,B78)) -> 59 | B78: 59 | C78: NORD | D78: 43.22 | E78: 52.71 | F78: 60.94 | G78: 65.68 | H78: 73.53 | I78: 79.93 | J78: 86.32 | K78: 90.16 | L78: 97.47 | M78: 101.84 | N78: 96.35 | O78: 90.52 | P78: 85.04 | Q78: 82.85 | R78: 81.2 | S78: =IFERROR(VALUE(A78),A78) -> 59
A79: =IF(C79="Stations - ST","ST"&B79,IF(C79="Iles - IL","ST"&B79,B79)) -> 60 | B79: 60 | C79: OISE | D79: 42.48 | E79: 51.43 | F79: 58.93 | G79: 63.3 | H79: 70.44 | I79: 76.27 | J79: 82.12 | K79: 85.4 | L79: 92.15 | M79: 96.01 | N79: 90.33 | O79: 84.67 | P79: 79.55 | Q79: 77.55 | R79: 75.9 | S79: =IFERROR(VALUE(A79),A79) -> 60
A80: =IF(C80="Stations - ST","ST"&B80,IF(C80="Iles - IL","ST"&B80,B80)) -> 61 | B80: 61 | C80: ORNE | D80: 42.12 | E80: 50.7 | F80: 57.64 | G80: 61.48 | H80: 68.42 | I80: 73.72 | J80: 79.2 | K80: 82.29 | L80: 88.49 | M80: 91.98 | N80: 86.51 | O80: 81.01 | P80: 76.1 | Q80: 74.08 | R80: 72.45 | S80: =IFERROR(VALUE(A80),A80) -> 61
A81: =IF(C81="Stations - ST","ST"&B81,IF(C81="Iles - IL","ST"&B81,B81)) -> 62 | B81: 62 | C81: PAS-DE-CALAIS | D81: 45.21 | E81: 57.64 | F81: 68.79 | G81: 75.9 | H81: 86.32 | I81: 94.9 | J81: 103.66 | K81: 109.69 | L81: 119.01 | M81: 126.32 | N81: 121.2 | O81: 114.44 | P81: 108.23 | Q81: 105.87 | R81: 103.85 | S81: =IFERROR(VALUE(A81),A81) -> 62
A82: =IF(C82="Stations - ST","ST"&B82,IF(C82="Iles - IL","ST"&B82,B82)) -> 63 | B82: 63 | C82: PUY-DE-DOME | D82: 44.12 | E82: 55.07 | F82: 64.59 | G82: 70.44 | H82: 79.38 | I82: 86.69 | J82: 94.17 | K82: 98.92 | L82: 107.14 | M82: 112.97 | N82: 107.69 | O82: 101.47 | P82: 95.63 | Q82: 93.44 | R82: 91.61 | S82: =IFERROR(VALUE(A82),A82) -> 63
A83: =IF(C83="Stations - ST","ST"&B83,IF(C83="Iles - IL","ST"&B83,B83)) -> ST63 | B83: 63 | C83: Stations - ST | D83: 58.18 | E83: 72.45 | F83: 84.86 | G83: 92.52 | H83: 104.03 | I83: 113.52 | J83: 123.4 | K83: 129.43 | L83: 140.19 | M83: 147.86 | N83: 140.92 | O83: 132.88 | P83: 125.23 | Q83: 122.29 | R83: 119.93 | S83: =IFERROR(VALUE(A83),A83) -> ST63
A84: =IF(C84="Stations - ST","ST"&B84,IF(C84="Iles - IL","ST"&B84,B84)) -> 64 | B84: 64 | C84: PYRENEES-ATLANTIQUE | D84: 48.32 | E84: 59.1 | F84: 68.6 | G84: 74.08 | H84: 83.04 | I84: 90.16 | J84: 97.47 | K84: 102.03 | L84: 110.24 | M84: 115.35 | N84: 109.32 | O84: 102.76 | P84: 96.72 | Q84: 94.36 | R84: 92.52 | S84: =IFERROR(VALUE(A84),A84) -> 64
A85: =IF(C85="Stations - ST","ST"&B85,IF(C85="Iles - IL","ST"&B85,B85)) -> ST64 | B85: 64 | C85: Stations - ST | D85: 63.67 | E85: 77.73 | F85: 90.16 | G85: 97.27 | H85: 108.78 | I85: 118.09 | J85: 127.59 | K85: 133.63 | L85: 144.2 | M85: 150.8 | N85: 143.12 | O85: 134.55 | P85: 126.69 | Q85: 123.58 | R85: 121.2 | S85: =IFERROR(VALUE(A85),A85) -> ST64
A86: =IF(C86="Stations - ST","ST"&B86,IF(C86="Iles - IL","ST"&B86,B86)) -> 65 | B86: 65 | C86: HAUTES-PYRENEES | D86: 48.7 | E86: 59.1 | F86: 76.44 | G86: 82.85 | H86: 92.69 | I86: 100.38 | J86: 114.06 | K86: 125.23 | L86: 137.83 | M86: 147.14 | N86: 141.84 | O86: 131.23 | P86: 120.83 | Q86: 114.44 | R86: 108.42 | S86: =IFERROR(VALUE(A86),A86) -> 65
A87: =IF(C87="Stations - ST","ST"&B87,IF(C87="Iles - IL","ST"&B87,B87)) -> ST65 | B87: 65 | C87: Stations - ST | D87: 64.22 | E87: 77.73 | F87: 100.38 | G87: 108.61 | H87: 121.37 | I87: 131.44 | J87: 149.15 | K87: 163.77 | L87: 180.01 | M87: 192.25 | N87: 185.31 | O87: 171.61 | P87: 157.91 | Q87: 149.69 | R87: 141.84 | S87: =IFERROR(VALUE(A87),A87) -> ST65
A88: =IF(C88="Stations - ST","ST"&B88,IF(C88="Iles - IL","ST"&B88,B88)) -> 66 | B88: 66 | C88: PYRENEES-ORIENTALES | D88: 55.99 | E88: 70.07 | F88: 82.66 | G88: 90.52 | H88: 102.76 | I88: 112.26 | J88: 122.12 | K88: 129.06 | L88: 139.65 | M88: 147.14 | N88: 140.19 | O88: 131.98 | P88: 124.48 | Q88: 121.37 | R88: 119.01 | S88: =IFERROR(VALUE(A88),A88) -> 66
A89: =IF(C89="Stations - ST","ST"&B89,IF(C89="Iles - IL","ST"&B89,B89)) -> ST66 | B89: 66 | C89: Stations - ST | D89: 73.72 | E89: 91.98 | F89: 108.42 | G89: 118.64 | H89: 134.55 | I89: 146.77 | J89: 159.74 | K89: 168.68 | L89: 182.39 | M89: 192.25 | N89: 183.12 | O89: 172.51 | P89: 162.65 | Q89: 158.64 | R89: 155.54 | S89: =IFERROR(VALUE(A89),A89) -> ST66
A90: =IF(C90="Stations - ST","ST"&B90,IF(C90="Iles - IL","ST"&B90,B90)) -> 67 | B90: 67 | C90: BAS-RHIN | D90: 49.79 | E90: 63.13 | F90: 75.18 | G90: 82.85 | H90: 94.36 | I90: 103.66 | J90: 113.18 | K90: 119.74 | L90: 129.97 | M90: 138 | N90: 132.34 | O90: 125.03 | P90: 118.28 | Q90: 115.54 | R90: 113.52 | S90: =IFERROR(VALUE(A90),A90) -> 67
A91: =IF(C91="Stations - ST","ST"&B91,IF(C91="Iles - IL","ST"&B91,B91)) -> 68 | B91: 68 | C91: HAUT-RHIN | D91: 49.41 | E91: 62.59 | F91: 74.27 | G91: 81.56 | H91: 92.69 | I91: 101.67 | J91: 110.78 | K91: 117.17 | L91: 127.03 | M91: 134.72 | N91: 129.06 | O91: 121.75 | P91: 114.98 | Q91: 112.43 | R91: 110.42 | S91: =IFERROR(VALUE(A91),A91) -> 68
A92: =IF(C92="Stations - ST","ST"&B92,IF(C92="Iles - IL","ST"&B92,B92)) -> 69 | B92: 69 | C92: RHONE | D92: 50.16 | E92: 60.94 | F92: 70.24 | G92: 75.35 | H92: 83.96 | I92: 90.89 | J92: 98.18 | K92: 102.21 | L92: 110.24 | M92: 114.98 | N92: 108.61 | O92: 102.03 | P92: 96.01 | Q92: 93.61 | R92: 91.61 | S92: =IFERROR(VALUE(A92),A92) -> 69
A93: =IF(C93="Stations - ST","ST"&B93,IF(C93="Iles - IL","ST"&B93,B93)) -> 70 | B93: 70 | C93: HAUTE-SAONE | D93: 42.48 | E93: 56.36 | F93: 69.34 | G93: 77.36 | H93: 86.69 | I93: 94.17 | J93: 101.13 | K93: 106.96 | L93: 113.72 | M93: 123.4 | N93: 120.66 | O93: 111.7 | P93: 103.11 | Q93: 100.38 | R93: 97.81 | S93: =IFERROR(VALUE(A93),A93) -> 70
A94: =IF(C94="Stations - ST","ST"&B94,IF(C94="Iles - IL","ST"&B94,B94)) -> 71 | B94: 71 | C94: SAONE-ET-LOIRE | D94: 68.42 | E94: 80.84 | F94: 91.06 | G94: 95.8 | H94: 104.2 | I94: 110.97 | J94: 117.92 | K94: 121.2 | L94: 130.35 | M94: 134.34 | N94: 125.57 | O94: 117.38 | P94: 110.07 | Q94: 106.77 | R94: 104.41 | S94: =IFERROR(VALUE(A94),A94) -> 71
A95: =IF(C95="Stations - ST","ST"&B95,IF(C95="Iles - IL","ST"&B95,B95)) -> 72 | B95: 72 | C95: SARTHE | D95: 40.47 | E95: 46.67 | F95: 51.79 | G95: 53.98 | H95: 58.73 | I95: 62.21 | J95: 66.04 | K95: 67.5 | L95: 72.45 | M95: 75.35 | N95: 73.72 | O95: 66.04 | P95: 58.73 | Q95: 56.91 | R95: 55.45 | S95: =IFERROR(VALUE(A95),A95) -> 72
A96: =IF(C96="Stations - ST","ST"&B96,IF(C96="Iles - IL","ST"&B96,B96)) -> 73 | B96: 73 | C96: SAVOIE | D96: 49.07 | E96: 66.58 | F96: 82.66 | G96: 93.99 | H96: 109.52 | I96: 122.29 | J96: 135.09 | K96: 145.12 | L96: 158.09 | M96: 170.69 | N96: 166.13 | O96: 157.74 | P96: 149.88 | Q96: 146.94 | R96: 144.76 | S96: =IFERROR(VALUE(A96),A96) -> 73
A97: =IF(C97="Stations - ST","ST"&B97,IF(C97="Iles - IL","ST"&B97,B97)) -> ST73 | B97: 73 | C97: Stations - ST | D97: 64.76 | E97: 87.41 | F97: 108.42 | G97: 123.04 | H97: 143.29 | I97: 159.91 | J97: 176.54 | K97: 189.51 | L97: 206.47 | M97: 222.76 | N97: 216.9 | O97: 205.93 | P97: 195.71 | Q97: 191.87 | R97: 189.13 | S97: =IFERROR(VALUE(A97),A97) -> ST73
A98: =IF(C98="Stations - ST","ST"&B98,IF(C98="Iles - IL","ST"&B98,B98)) -> 74 | B98: 74 | C98: HAUTE-SAVOIE | D98: 50.53 | E98: 64.03 | F98: 76.27 | G98: 83.96 | H98: 95.45 | I98: 104.76 | J98: 114.27 | K98: 120.83 | L98: 131.06 | M98: 139.09 | N98: 133.43 | O98: 126.12 | P98: 119.2 | Q98: 116.46 | R98: 114.44 | S98: =IFERROR(VALUE(A98),A98) -> 74
A99: =IF(C99="Stations - ST","ST"&B99,IF(C99="Iles - IL","ST"&B99,B99)) -> ST74 | B99: 74 | C99: Stations - ST | D99: 66.58 | E99: 84.13 | F99: 100 | G99: 110.07 | H99: 125.03 | I99: 137.08 | J99: 149.51 | K99: 157.91 | L99: 171.25 | M99: 181.65 | N99: 174.34 | O99: 164.86 | P99: 155.92 | Q99: 152.26 | R99: 149.69 | S99: =IFERROR(VALUE(A99),A99) -> ST74
A100: =IF(C100="Stations - ST","ST"&B100,IF(C100="Iles - IL","ST"&B100,B100)) -> 75 | B100: 75 | C100: PARIS | D100: 72.07 | E100: 82.66 | F100: 91.06 | G100: 94.72 | H100: 102.94 | I100: 108.98 | J100: 115.54 | K100: 115.73 | L100: 118.64 | M100: 119.01 | N100: 110.78 | O100: 103.66 | P100: 97.1 | Q100: 94.36 | R100: 92.35 | S100: =IFERROR(VALUE(A100),A100) -> 75
A101: =IF(C101="Stations - ST","ST"&B101,IF(C101="Iles - IL","ST"&B101,B101)) -> 76 | B101: 76 | C101: SEINE-MARITIME | D101: 45.04 | E101: 53.81 | F101: 61.48 | G101: 65.49 | H101: 72.62 | I101: 78.28 | J101: 84.13 | K101: 87.41 | L101: 94.17 | M101: 97.27 | N101: 91.06 | O101: 85.21 | P101: 79.76 | Q101: 77.55 | R101: 75.73 | S101: =IFERROR(VALUE(A101),A101) -> 76
...
