Workbook

Sheet Calcul
F1: =HYPERLINK("https://forum.excel-pratique.com/excel/arrondi-selon-une-plage-changeante-147620","Anthony.w") -> Anthony.w | G1: Selon B5:R5 de la feuille "Tarif"
B2: Poids | C2: 101
B3: Agence | C3: 1 | G3: 51 | H3: =IFERROR(CEILING(G3,OFFSET(Tarif!$C$5,0,MATCH($G3,Tarif!$D$3:$R$3,1))),G3) -> 51
G4: 76 | H4: =IFERROR(CEILING(G4,OFFSET(Tarif!$C$5,0,MATCH($G4,Tarif!$D$3:$R$3,1))),G4) -> 80
G5: 101 | H5: =IFERROR(CEILING(G5,OFFSET(Tarif!$C$5,0,MATCH($G5,Tarif!$D$3:$R$3,1))),G5) -> 110
B6: Prix | C6: {=_xlfn.XLOOKUP(C3,Tarif!$S$7:$S$123,_xlfn.XLOOKUP(Calcul!C2,Tarif!$D$3:$R$3,Tarif!D7:R123,"",-1))} -> #NAME? | D6: Poids
A8: F | B8: Prix | C8: =OFFSET(Tarif!$C$5,MATCH($C$3,Tarif!$S$6:$S$123,0),MATCH($C$2,Tarif!$D$3:$R$3,1))*(OFFSET(Tarif!$C$3,0,MATCH($C$2,Tarif!$D$3:$R$3,1))/100) -> 105.8076 | D8: Poids | E8: =$C$2 -> 101
A10: T | B10: Prix | C10: =IF($C$2<101,OFFSET(Tarif!$C$5,MATCH($C$3,Tarif!$S$6:$S$123,0),MATCH($C$2,Tarif!$D$3:$R$3,1)),OFFSET(Tarif!$C$5,MATCH($C$3,Tarif!$S$6:$S$123,0),MATCH($C$2,Tarif!$D$3:$R$3,1))*(CEILING($C$2,OFFSET(Tarif!$C$5,0,MATCH($C$2,Tarif!$D$3:$R$3,1)))/100)) -> 115.236 | D10: Poids | E10: =IFERROR(CEILING(C2,OFFSET(Tarif!$C$5,0,MATCH($C$2,Tarif!$D$3:$R$3,1))),C2) -> 110

Sheet Tarif
B1: Application | D1: [type_tranche]
B2: Tranches de unité taxation | D2: Forfait par expédition | N2: Aux 100 KG | O2: Aux 100 KG | P2: Aux 100 KG | Q2: Aux 100 KG | R2: Aux 100 KG
B3: Tranches de poids | D3: 1 | E3: 10 | F3: 20 | G3: 30 | H3: 40 | I3: 50 | J3: 60 | K3: 70 | L3: 80 | M3: 90 | N3: 101 | O3: 300 | P3: 500 | Q3: 700 | R3: 1000
D4: à 9 | E4: à 19 | F4: à 29 | G4: à 39 | H4: à 49 | I4: à 59 | J4: à 69 | K4: à 79 | L4: à 89 | M4: à 100 | N4: à 299 | O4: à 499 | P4: à 699 | Q4: à 999 | R4: à 3000
B5: Arrondi unité taxation | K5: 5 | L5: 5 | M5: 5 | N5: 10 | O5: 10 | P5: 10 | Q5: 10 | R5: 50
B6: Départements | C6: Zones | D6: F | E6: F | F6: F | G6: F | H6: F | I6: F | J6: F | K6: T | L6: T | M6: T | N6: T | O6: T | P6: T | Q6: T | R6: T
A7: =IF(C7="Stations - ST","ST"&B7,IF(C7="Iles - IL","ST"&B7,B7)) -> 1 | B7: 1 | C7: AIN | D7: 32.26 | E7: 45.59 | F7: 57.1 | G7: 63.49 | H7: 72.45 | I7: 81.39 | J7: 87.41 | K7: 91.44 | L7: 96.72 | M7: 106.23 | N7: 104.76 | O7: 95.45 | P7: 86.86 | Q7: 81.39 | R7: 76.65 | S7: =IFERROR(VALUE(A7),A7) -> 1
A8: =IF(C8="Stations - ST","ST"&B8,IF(C8="Iles - IL","ST"&B8,B8)) -> 2 | B8: 2 | C8: AISNE | D8: 33.7 | E8: 43.04 | F8: 55.82 | G8: 65.49 | H8: 76.27 | I8: 83.75 | J8: 92.52 | K8: 100 | L8: 105.87 | M8: 113.18 | N8: 109.15 | O8: 98.92 | P8: 89.06 | Q8: 83.04 | R8: 77.73 | S8: =IFERROR(VALUE(A8),A8) -> 2
A9: =IF(C9="Stations - ST","ST"&B9,IF(C9="Iles - IL","ST"&B9,B9)) -> 3 | B9: 3 | C9: ALLIER | D9: 63.67 | E9: 76.44 | F9: 87.24 | G9: 92.69 | H9: 101.67 | I9: 108.78 | J9: 116.27 | K9: 120.1 | L9: 129.6 | M9: 135.45 | N9: 128.14 | O9: 120.47 | P9: 113.35 | Q9: 110.61 | R9: 108.42 | S9: =IFERROR(VALUE(A9),A9) -> 3
A10: =IF(C10="Stations - ST","ST"&B10,IF(C10="Iles - IL","ST"&B10,B10)) -> 4 | B10: 4 | C10: ALPES DE HAUTE-PROV | D10: 50.53 | E10: 63.67 | F10: 76.44 | G10: 85.04 | H10: 96.01 | I10: 105.12 | J10: 113.72 | K10: 121.75 | L10: 130.52 | M10: 141.3 | N10: 138.19 | O10: 131.61 | P10: 127.95 | Q10: 129.77 | R10: 137.27 | S10: =IFERROR(VALUE(A10),A10) -> 4
A11: =IF(C11="Stations - ST","ST"&B11,IF(C11="Iles - IL","ST"&B11,B11)) -> ST4 | B11: 4 | C11: Stations - ST | D11: 66.58 | E11: 83.75 | F11: 100.38 | G11: 111.51 | H11: 125.78 | I11: 137.64 | J11: 148.78 | K11: 159.2 | L11: 170.52 | M11: 184.56 | N11: 180.57 | O11: 171.96 | P11: 167.22 | Q11: 169.6 | R11: 179.27 | S11: =IFERROR(VALUE(A11),A11) -> ST4
A12: =IF(C12="Stations - ST","ST"&B12,IF(C12="Iles - IL","ST"&B12,B12)) -> 5 | B12: 5 | C12: ALPES (HAUTES-) | D12: 50.53 | E12: 65.49 | F12: 80.1 | G12: 90.33 | H12: 102.76 | I12: 113.35 | J12: 123.21 | K12: 132.34 | L12: 142.57 | M12: 155 | N12: 152.06 | O12: 145.12 | P12: 140.74 | Q12: 142.57 | R12: 150.05 | S12: =IFERROR(VALUE(A12),A12) -> 5
A13: =IF(C13="Stations - ST","ST"&B13,IF(C13="Iles - IL","ST"&B13,B13)) -> ST5 | B13: 5 | C13: Stations - ST | D13: 66.58 | E13: 86.13 | F13: 105.12 | G13: 118.28 | H13: 134.55 | I13: 148.23 | J13: 161.02 | K13: 172.88 | L13: 186.23 | M13: 202.48 | N13: 198.64 | O13: 189.51 | P13: 183.85 | Q13: 186.23 | R13: 195.9 | S13: =IFERROR(VALUE(A13),A13) -> ST5
A14: =IF(C14="Stations - ST","ST"&B14,IF(C14="Iles - IL","ST"&B14,B14)) -> 6 | B14: 6 | C14: ALPES-MARITIMES | D14: 68.79 | E14: 85.59 | F14: 100.75 | G14: 110.07 | H14: 124.48 | I14: 136.18 | J14: 147.86 | K14: 155.92 | L14: 168.51 | M14: 177.46 | N14: 169.23 | O14: 159.37 | P14: 150.24 | Q14: 146.6 | R14: 143.66 | S14: =IFERROR(VALUE(A14),A14) -> 6
A15: =IF(C15="Stations - ST","ST"&B15,IF(C15="Iles - IL","ST"&B15,B15)) -> ST6 | B15: 6 | C15: Stations - ST | D15: 90.33 | E15: 112.26 | F15: 131.79 | G15: 144.03 | H15: 162.65 | I15: 178 | J15: 193.16 | K15: 203.57 | L15: 220.01 | M15: 231.5 | N15: 220.92 | O15: 208.14 | P15: 196.26 | Q15: 191.51 | R15: 187.67 | S15: =IFERROR(VALUE(A15),A15) -> ST6
A16: =IF(C16="Stations - ST","ST"&B16,IF(C16="Iles - IL","ST"&B16,B16)) -> 7 | B16: 7 | C16: ARDECHE | D16: 66.04 | E16: 86.69 | F16: 100.75 | G16: 108.23 | H16: 119.01 | I16: 130.35 | J16: 139.65 | K16: 144.39 | L16: 155.54 | M16: 166.68 | N16: 161.56 | O16: 152.43 | P16: 142.74 | Q16: 140.19 | R16: 137.27 | S16: =IFERROR(VALUE(A16),A16) -> 7
A17: =IF(C17="Stations - ST","ST"&B17,IF(C17="Iles - IL","ST"&B17,B17)) -> 8 | B17: 8 | C17: ARDENNES | D17: 46.67 | E17: 56.72 | F17: 73.35 | G17: 82.66 | H17: 93.25 | I17: 103.3 | J17: 112.97 | K17: 119.01 | L17: 126.32 | M17: 137.08 | N17: 134.17 | O17: 124.67 | P17: 114.98 | Q17: 109.15 | R17: 103.3 | S17: =IFERROR(VALUE(A17),A17) -> 8
A18: =IF(C18="Stations - ST","ST"&B18,IF(C18="Iles - IL","ST"&B18,B18)) -> 9 | B18: 9 | C18: ARIEGE | D18: 47.78 | E18: 61.11 | F18: 73.72 | G18: 81.39 | H18: 91.81 | I18: 100.75 | J18: 110.07 | K18: 118.09 | L18: 127.41 | M18: 135.64 | N18: 130.52 | O18: 121.92 | P18: 114.06 | Q18: 109.86 | R18: 106.23 | S18: =IFERROR(VALUE(A18),A18) -> 9
... A20: =IF(C20="Stations - ST","ST"&B20,IF(C20="Iles - IL","ST"&B20,B20)) -> 10 | B20: 10 | C20: AUBE | D20: 43.77 | E20: 53.81 | F20: 62.76 | G20: 68.04 | H20: 76.44 | I20: 83.04 | J20: 89.97 | K20: 94.36 | L20: 102.03 | M20: 107.14 | N20: 101.84 | O20: 95.8 | P20: 90.16 | Q20: 87.95 | R20: 86.32 | S20: =IFERROR(VALUE(A20),A20) -> 10
A21: =IF(C21="Stations - ST","ST"&B21,IF(C21="Iles - IL","ST"&B21,B21)) -> 11 | B21: 11 | C21: AUDE | D21: 47.05 | E21: 58.56 | F21: 72.45 | G21: 81.01 | H21: 91.25 | I21: 100.21 | J21: 109.15 | K21: 117.17 | L21: 125.4 | M21: 137.83 | N21: 136.35 | O21: 129.97 | P21: 123.4 | Q21: 120.83 | R21: 118.09 | S21: =IFERROR(VALUE(A21),A21) -> 11
A22: =IF(C22="Stations - ST","ST"&B22,IF(C22="Iles - IL","ST"&B22,B22)) -> 12 | B22: 12 | C22: AVEYRON | D22: 46.13 | E22: 61.84 | F22: 74.44 | G22: 84.3 | H22: 97.1 | I22: 105.87 | J22: 114.06 | K22: 122.12 | L22: 130.69 | M22: 140.38 | N22: 135.99 | O22: 127.24 | P22: 119.01 | Q22: 114.81 | R22: 111.16 | S22: =IFERROR(VALUE(A22),A22) -> 12
A23: =IF(C23="Stations - ST","ST"&B23,IF(C23="Iles - IL","ST"&B23,B23)) -> 13 | B23: 13 | C23: BOUCHES DU RHONE | D23: 60.38 | E23: 73.53 | F23: 84.86 | G23: 91.44 | H23: 102.38 | I23: 110.97 | J23: 119.74 | K23: 125.03 | L23: 135.09 | M23: 141.3 | N23: 133.8 | O23: 125.78 | P23: 118.47 | Q23: 115.54 | R23: 113.18 | S23: =IFERROR(VALUE(A23),A23) -> 13
A24: =IF(C24="Stations - ST","ST"&B24,IF(C24="Iles - IL","ST"&B24,B24)) -> 14 | B24: 14 | C24: CALVADOS | D24: 48.15 | E24: 56.72 | F24: 63.49 | G24: 66.58 | H24: 72.24 | I24: 76.82 | J24: 81.39 | K24: 83.39 | L24: 89.79 | M24: 92.52 | N24: 86.51 | O24: 80.84 | P24: 75.73 | Q24: 73.72 | R24: 72.07 | S24: =IFERROR(VALUE(A24),A24) -> 14
A25: =IF(C25="Stations - ST","ST"&B25,IF(C25="Iles - IL","ST"&B25,B25)) -> 15 | B25: 15 | C25: CANTAL | D25: 41.01 | E25: 54.9 | F25: 68.04 | G25: 76.82 | H25: 89.6 | I25: 101.13 | J25: 111.16 | K25: 121.58 | L25: 132.34 | M25: 144.76 | N25: 142.57 | O25: 134.34 | P25: 126.86 | Q25: 120.47 | R25: 114.81 | S25: =IFERROR(VALUE(A25),A25) -> 15
A26: =IF(C26="Stations - ST","ST"&B26,IF(C26="Iles - IL","ST"&B26,B26)) -> 16 | B26: 16 | C26: CHARENTE | D26: 40.66 | E26: 47.24 | F26: 52.52 | G26: 54.9 | H26: 60.02 | I26: 63.67 | J26: 67.69 | K26: 69.34 | L26: 74.44 | M26: 77.55 | N26: 75.9 | O26: 68.25 | P26: 60.94 | Q26: 58.93 | R26: 57.47 | S26: =IFERROR(VALUE(A26),A26) -> 16
A27: =IF(C27="Stations - ST","ST"&B27,IF(C27="Iles - IL","ST"&B27,B27)) -> 17 | B27: 17 | C27: CHARENTE-MARITIME | D27: 40.84 | E27: 47.97 | F27: 53.81 | G27: 56.72 | H27: 62.21 | I27: 66.41 | J27: 70.98 | K27: 72.99 | L27: 78.46 | M27: 80.47 | N27: 74.81 | O27: 69.88 | P27: 65.31 | Q27: 63.3 | R27: 62.03 | S27: =IFERROR(VALUE(A27),A27) -> 17
A28: =IF(C28="Stations - ST","ST"&B28,IF(C28="Iles - IL","ST"&B28,B28)) -> ST17 | B28: 17 | C28: Iles - IL | D28: 56.18 | E28: 65.87 | F28: 73.72 | G28: 77.55 | H28: 85.04 | I28: 90.7 | J28: 96.91 | K28: 99.65 | L28: 106.96 | M28: 109.69 | N28: 102.03 | O28: 95.45 | P28: 89.24 | Q28: 86.51 | R28: 84.86 | S28: =IFERROR(VALUE(A28),A28) -> ST17
A29: =IF(C29="Stations - ST","ST"&B29,IF(C29="Iles - IL","ST"&B29,B29)) -> 18 | B29: 18 | C29: CHER | D29: 43.58 | E29: 53.63 | F29: 62.38 | G29: 67.69 | H29: 76.1 | I29: 82.85 | J29: 89.79 | K29: 93.99 | L29: 101.67 | M29: 106.77 | N29: 101.47 | O29: 95.45 | P29: 89.97 | Q29: 87.78 | R29: 86.13 | S29: =IFERROR(VALUE(A29),A29) -> 18
A30: =IF(C30="Stations - ST","ST"&B30,IF(C30="Iles - IL","ST"&B30,B30)) -> 19 | B30: 19 | C30: CORREZE | D30: 40.47 | E30: 45.96 | F30: 50.16 | G30: 51.43 | H30: 55.45 | I30: 58.39 | J30: 61.48 | K30: 62.21 | L30: 66.41 | M30: 68.6 | N30: 67.13 | O30: 59.48 | P30: 52.35 | Q30: 50.53 | R30: 49.07 | S30: =IFERROR(VALUE(A30),A30) -> 19
A31: =IF(C31="Stations - ST","ST"&B31,IF(C31="Iles - IL","ST"&B31,B31)) -> 20 | B31: 20 | C31: CORSE | D31: 158.82 | E31: 183.12 | F31: 210.33 | G31: 234.98 | H31: 249.77 | I31: 300.18 | J31: 309.14 | K31: 340.74 | L31: 350.6 | M31: 371.97 | N31: 357.16 | O31: 326.31 | P31: 313.69 | Q31: 286.66 | R31: 246.66 | S31: =IFERROR(VALUE(A31),A31) -> 20
A32: =IF(C32="Stations - ST","ST"&B32,IF(C32="Iles - IL","ST"&B32,B32)) -> 21 | B32: 21 | C32: COTE-D OR | D32: 42.85 | E32: 51.98 | F32: 60.02 | G32: 64.59 | H32: 72.07 | I32: 78.09 | J32: 84.3 | K32: 87.95 | L32: 94.9 | M32: 99.1 | N32: 93.44 | O32: 87.78 | P32: 82.48 | Q32: 80.3 | R32: 78.63 | S32: =IFERROR(VALUE(A32),A32) -> 21
A33: =IF(C33="Stations - ST","ST"&B33,IF(C33="Iles - IL","ST"&B33,B33)) -> 22 | B33: 22 | C33: COTES-D ARMOR | D33: 41.56 | E33: 49.41 | F33: 55.82 | G33: 59.29 | H33: 65.31 | I33: 70.24 | J33: 75.18 | K33: 77.73 | L33: 83.58 | M33: 86.32 | N33: 80.66 | O33: 75.35 | P33: 70.61 | Q33: 68.6 | R33: 67.13 | S33: =IFERROR(VALUE(A33),A33) -> 22
A34: =IF(C34="Stations - ST","ST"&B34,IF(C34="Iles - IL","ST"&B34,B34)) -> ST22 | B34: 22 | C34: Iles - IL | D34: 57.1 | E34: 67.69 | F34: 76.44 | G34: 81.01 | H34: 89.24 | I34: 95.8 | J34: 102.57 | K34: 106.04 | L34: 113.89 | M34: 117.55 | N34: 109.86 | O34: 102.76 | P34: 96.35 | Q34: 93.61 | R34: 91.61 | S34: =IFERROR(VALUE(A34),A34) -> ST22
A35: =IF(C35="Stations - ST","ST"&B35,IF(C35="Iles - IL","ST"&B35,B35)) -> 23 | B35: 23 | C35: CREUSE | D35: 36.46 | E35: 42.68 | F35: 57.28 | G35: 60.19 | H35: 65.14 | I35: 68.96 | J35: 76.65 | K35: 83.58 | L35: 92.52 | M35: 98.01 | N35: 103.3 | O35: 92.15 | P35: 82.12 | Q35: 75.9 | R35: 70.61 | S35: =IFERROR(VALUE(A35),A35) -> 23
A36: =IF(C36="Stations - ST","ST"&B36,IF(C36="Iles - IL","ST"&B36,B36)) -> 24 | B36: 24 | C36: DORDOGNE | D36: 59.29 | E36: 66.04 | F36: 70.98 | G36: 71.53 | H36: 75.35 | I36: 77.92 | J36: 79.38 | K36: 83.58 | L36: 86.13 | M36: 89.41 | N36: 92.9 | O36: 79.55 | P36: 67.13 | Q36: 64.59 | R36: 62.93 | S36: =IFERROR(VALUE(A36),A36) -> 24
A37: =IF(C37="Stations - ST","ST"&B37,IF(C37="Iles - IL","ST"&B37,B37)) -> 25 | B37: 25 | C37: DOUBS | D37: 45.04 | E37: 56.91 | F37: 67.33 | G37: 74.08 | H37: 83.96 | I37: 92.15 | J37: 100.38 | K37: 105.87 | L37: 114.81 | M37: 121.58 | N37: 116.46 | O37: 109.86 | P37: 103.66 | Q37: 101.3 | R37: 99.46 | S37: =IFERROR(VALUE(A37),A37) -> 25
A38: =IF(C38="Stations - ST","ST"&B38,IF(C38="Iles - IL","ST"&B38,B38)) -> ST25 | B38: 25 | C38: Stations - ST | D38: 59.48 | E38: 74.81 | F38: 88.49 | G38: 97.27 | H38: 110.07 | I38: 120.66 | J38: 131.44 | K38: 138.54 | L38: 150.24 | M38: 158.99 | N38: 152.26 | O38: 143.66 | P38: 135.64 | Q38: 132.52 | R38: 130.14 | S38: =IFERROR(VALUE(A38),A38) -> ST25
A39: =IF(C39="Stations - ST","ST"&B39,IF(C39="Iles - IL","ST"&B39,B39)) -> 26 | B39: 26 | C39: DROME | D39: 45.59 | E39: 58.01 | F39: 69.15 | G39: 76.44 | H39: 87.05 | I39: 95.63 | J39: 104.41 | K39: 110.61 | L39: 119.93 | M39: 127.41 | N39: 122.29 | O39: 115.54 | P39: 109.15 | Q39: 106.77 | R39: 104.76 | S39: =IFERROR(VALUE(A39),A39) -> 26
A40: =IF(C40="Stations - ST","ST"&B40,IF(C40="Iles - IL","ST"&B40,B40)) -> 27 | B40: 27 | C40: EURE | D40: 43.58 | E40: 53.63 | F40: 62.59 | G40: 67.87 | H40: 76.27 | I40: 83.04 | J40: 89.97 | K40: 94.36 | L40: 102.03 | M40: 107.14 | N40: 101.84 | O40: 95.8 | P40: 90.33 | Q40: 88.15 | R40: 86.51 | S40: =IFERROR(VALUE(A40),A40) -> 27
A41: =IF(C41="Stations - ST","ST"&B41,IF(C41="Iles - IL","ST"&B41,B41)) -> 28 | B41: 28 | C41: EURE-ET-LOIR | D41: 42.85 | E41: 51.98 | F41: 59.83 | G41: 64.22 | H41: 71.7 | I41: 77.55 | J41: 83.75 | K41: 87.24 | L41: 94.17 | M41: 98.37 | N41: 92.9 | O41: 87.24 | P41: 81.93 | Q41: 79.93 | R41: 78.28 | S41: =IFERROR(VALUE(A41),A41) -> 28
...
