Workbook
Name eleves: OFFSET('Planning eleves'!$A$2,,,COUNTA('Planning eleves'!$A:$A)-1)

Sheet Planning prof
A1: Suivi rendez-vous Parents d'élèves - Enseignants
B3: Mr AINAS | C3: Mme BALLARA-BEC | D3: Mr BEKEMEN | E3: Mme BREMOND | F3: Melle CADENE | G3: Melle CAMPANI | H3: Mr CATTEUW | I3: Mme CHANEL | J3: Melle CHAVANNE | K3: Melle COURTIOL | L3: Mme COURVOISIER-LEY | M3: Mme DAIRE | N3: Mr DAVOLI | O3: Mr DELEUZE | P3: Mr DESMARTIN | Q3: Mme DUBOIS | R3: Mr FASQUEL | S3: Mr JOUNOT | T3: Melle LAYES | U3: Mr LE CHENADEC | V3: Mme LELIEVRE | W3: Mr MORTON | X3: Mr MUNIER | Y3: Mr RECOUVROT | Z3: Mme RIGAUX | AA3: Melle SEVREZ | AB3: Mr TEISSEDRE | AC3: Mr TERRAZ
A4: 13h30 | B4: eleve001 | C4: eleve002
A5: 13h40 | B5: eleve002 | C5: eleve005
A6: 13h50 | C6: eleve008
A7: 14h00 | E7: eleve007
A8: 14h10
A9: 14h20
A10: 14h30
A11: 14h40 | G11: eleve004
A12: 14h50
A13: 15h00
A14: 15h10
A15: 15h20
A16: 15h30
A17: 15h40
A18: 15h50
A19: 16h00
A20: 16h10
A21: 16h20
A22: 16h30
A23: 16h40
... A34: 18h30

Sheet Planning eleves
A1: Nom de l'élève | B1: 13h30 | C1: 13h40 | D1: 13h50 | E1: 14h00 | F1: 14h10 | G1: 14h20 | H1: 14h30 | I1: 14h40 | J1: 14h50 | K1: 15h00 | L1: 15h10 | M1: 15h20 | N1: 15h30 | O1: 15h40 | P1: 15h50 | Q1: 16h00 | R1: 16h10 | S1: 16h20 | T1: 16h30 | U1: 16h40 | V1: 16h50 | W1: 17h00 | X1: 17h10 | Y1: 17h20 | Z1: 17h30 | AA1: 17h40 | AB1: 17h50 | AC1: 18h00 | AD1: 18h10 | AE1: 18h20 | AF1: 18h30
A2: eleve001 | B2: =IF(ISERROR(MATCH($A2,OFFSET('Planning prof'!$B$3:$AC$3,COLUMN()-1,),0)),"",OFFSET('Planning prof'!$A$3,,MATCH($A2,OFFSET('Planning prof'!$B$3:$AC$3,COLUMN()-1,),0))) -> Mr AINAS | C2: =IF(ISERROR(MATCH($A2,OFFSET('Planning prof'!$B$3:$AC$3,COLUMN()-1,),0)),"",OFFSET('Planning prof'!$A$3,,MATCH($A2,OFFSET('Planning prof'!$B$3:$AC$3,COLUMN()-1,),0))) | D2: =IF(ISERROR(MATCH($A2,OFFSET('Planning prof'!$B$3:$AC$3,COLUMN()-1,),0)),"",OFFSET('Planning prof'!$A$3,,MATCH($A2,OFFSET('Planning prof'!$B$3:$AC$3,COLUMN()-1,),0))) | E2: =IF(ISERROR(MATCH($A2,OFFSET('Planning prof'!$B$3:$AC$3,COLUMN()-1,),0)),"",OFFSET('Planning prof'!$A$3,,MATCH($A2,OFFSET('Planning prof'!$B$3:$AC$3,COLUMN()-1,),0))) | F2: =IF(ISERROR(MATCH($A2,OFFSET('Planning prof'!$B$3:$AC$3,COLUMN()-1,),0)),"",OFFSET('Planning prof'!$A$3,,MATCH($A2,OFFSET('Planning prof'!$B$3:$AC$3,COLUMN()-1,),0))) | G2: =IF(ISERROR(MATCH($A2,OFFSET('Planning prof'!$B$3:$AC$3,COLUMN()-1,),0)),"",OFFSET('Planning prof'!$A$3,,MATCH($A2,OFFSET('Planning prof'!$B$3:$AC$3,COLUMN()-1,),0))) | H2: =IF(ISERROR(MATCH($A2,OFFSET('Planning prof'!$B$3:$AC$3,COLUMN()-1,),0)),"",OFFSET('Planning prof'!$A$3,,MATCH($A2,OFFSET('Planning prof'!$B$3:$AC$3,COLUMN()-1,),0))) | I2: =IF(ISERROR(MATCH($A2,OFFSET('Planning prof'!$B$3:$AC$3,COLUMN()-1,),0)),"",OFFSET('Planning prof'!$A$3,,MATCH($A2,OFFSET('Planning prof'!$B$3:$AC$3,COLUMN()-1,),0))) | ... AF2: =IF(ISERROR(MATCH($A2,OFFSET('Planning prof'!$B$3:$AC$3,COLUMN()-1,),0)),"",OFFSET('Planning prof'!$A$3,,MATCH($A2,OFFSET('Planning prof'!$B$3:$AC$3,COLUMN()-1,),0)))
A3: eleve002 | B3: =IF(ISERROR(MATCH($A3,OFFSET('Planning prof'!$B$3:$AC$3,COLUMN()-1,),0)),"",OFFSET('Planning prof'!$A$3,,MATCH($A3,OFFSET('Planning prof'!$B$3:$AC$3,COLUMN()-1,),0))) -> Mme BALLARA-BEC | C3: =IF(ISERROR(MATCH($A3,OFFSET('Planning prof'!$B$3:$AC$3,COLUMN()-1,),0)),"",OFFSET('Planning prof'!$A$3,,MATCH($A3,OFFSET('Planning prof'!$B$3:$AC$3,COLUMN()-1,),0))) -> Mr AINAS | D3: =IF(ISERROR(MATCH($A3,OFFSET('Planning prof'!$B$3:$AC$3,COLUMN()-1,),0)),"",OFFSET('Planning prof'!$A$3,,MATCH($A3,OFFSET('Planning prof'!$B$3:$AC$3,COLUMN()-1,),0))) | E3: =IF(ISERROR(MATCH($A3,OFFSET('Planning prof'!$B$3:$AC$3,COLUMN()-1,),0)),"",OFFSET('Planning prof'!$A$3,,MATCH($A3,OFFSET('Planning prof'!$B$3:$AC$3,COLUMN()-1,),0))) | F3: =IF(ISERROR(MATCH($A3,OFFSET('Planning prof'!$B$3:$AC$3,COLUMN()-1,),0)),"",OFFSET('Planning prof'!$A$3,,MATCH($A3,OFFSET('Planning prof'!$B$3:$AC$3,COLUMN()-1,),0))) | G3: =IF(ISERROR(MATCH($A3,OFFSET('Planning prof'!$B$3:$AC$3,COLUMN()-1,),0)),"",OFFSET('Planning prof'!$A$3,,MATCH($A3,OFFSET('Planning prof'!$B$3:$AC$3,COLUMN()-1,),0))) | H3: =IF(ISERROR(MATCH($A3,OFFSET('Planning prof'!$B$3:$AC$3,COLUMN()-1,),0)),"",OFFSET('Planning prof'!$A$3,,MATCH($A3,OFFSET('Planning prof'!$B$3:$AC$3,COLUMN()-1,),0))) | I3: =IF(ISERROR(MATCH($A3,OFFSET('Planning prof'!$B$3:$AC$3,COLUMN()-1,),0)),"",OFFSET('Planning prof'!$A$3,,MATCH($A3,OFFSET('Planning prof'!$B$3:$AC$3,COLUMN()-1,),0))) | ... AF3: =IF(ISERROR(MATCH($A3,OFFSET('Planning prof'!$B$3:$AC$3,COLUMN()-1,),0)),"",OFFSET('Planning prof'!$A$3,,MATCH($A3,OFFSET('Planning prof'!$B$3:$AC$3,COLUMN()-1,),0)))
A4: eleve003 | B4: =IF(ISERROR(MATCH($A4,OFFSET('Planning prof'!$B$3:$AC$3,COLUMN()-1,),0)),"",OFFSET('Planning prof'!$A$3,,MATCH($A4,OFFSET('Planning prof'!$B$3:$AC$3,COLUMN()-1,),0))) | C4: =IF(ISERROR(MATCH($A4,OFFSET('Planning prof'!$B$3:$AC$3,COLUMN()-1,),0)),"",OFFSET('Planning prof'!$A$3,,MATCH($A4,OFFSET('Planning prof'!$B$3:$AC$3,COLUMN()-1,),0))) | D4: =IF(ISERROR(MATCH($A4,OFFSET('Planning prof'!$B$3:$AC$3,COLUMN()-1,),0)),"",OFFSET('Planning prof'!$A$3,,MATCH($A4,OFFSET('Planning prof'!$B$3:$AC$3,COLUMN()-1,),0))) | E4: =IF(ISERROR(MATCH($A4,OFFSET('Planning prof'!$B$3:$AC$3,COLUMN()-1,),0)),"",OFFSET('Planning prof'!$A$3,,MATCH($A4,OFFSET('Planning prof'!$B$3:$AC$3,COLUMN()-1,),0))) | F4: =IF(ISERROR(MATCH($A4,OFFSET('Planning prof'!$B$3:$AC$3,COLUMN()-1,),0)),"",OFFSET('Planning prof'!$A$3,,MATCH($A4,OFFSET('Planning prof'!$B$3:$AC$3,COLUMN()-1,),0))) | G4: =IF(ISERROR(MATCH($A4,OFFSET('Planning prof'!$B$3:$AC$3,COLUMN()-1,),0)),"",OFFSET('Planning prof'!$A$3,,MATCH($A4,OFFSET('Planning prof'!$B$3:$AC$3,COLUMN()-1,),0))) | H4: =IF(ISERROR(MATCH($A4,OFFSET('Planning prof'!$B$3:$AC$3,COLUMN()-1,),0)),"",OFFSET('Planning prof'!$A$3,,MATCH($A4,OFFSET('Planning prof'!$B$3:$AC$3,COLUMN()-1,),0))) | I4: =IF(ISERROR(MATCH($A4,OFFSET('Planning prof'!$B$3:$AC$3,COLUMN()-1,),0)),"",OFFSET('Planning prof'!$A$3,,MATCH($A4,OFFSET('Planning prof'!$B$3:$AC$3,COLUMN()-1,),0))) | ... AF4: =IF(ISERROR(MATCH($A4,OFFSET('Planning prof'!$B$3:$AC$3,COLUMN()-1,),0)),"",OFFSET('Planning prof'!$A$3,,MATCH($A4,OFFSET('Planning prof'!$B$3:$AC$3,COLUMN()-1,),0)))
A5: eleve004 | B5: =IF(ISERROR(MATCH($A5,OFFSET('Planning prof'!$B$3:$AC$3,COLUMN()-1,),0)),"",OFFSET('Planning prof'!$A$3,,MATCH($A5,OFFSET('Planning prof'!$B$3:$AC$3,COLUMN()-1,),0))) | C5: =IF(ISERROR(MATCH($A5,OFFSET('Planning prof'!$B$3:$AC$3,COLUMN()-1,),0)),"",OFFSET('Planning prof'!$A$3,,MATCH($A5,OFFSET('Planning prof'!$B$3:$AC$3,COLUMN()-1,),0))) | D5: =IF(ISERROR(MATCH($A5,OFFSET('Planning prof'!$B$3:$AC$3,COLUMN()-1,),0)),"",OFFSET('Planning prof'!$A$3,,MATCH($A5,OFFSET('Planning prof'!$B$3:$AC$3,COLUMN()-1,),0))) | E5: =IF(ISERROR(MATCH($A5,OFFSET('Planning prof'!$B$3:$AC$3,COLUMN()-1,),0)),"",OFFSET('Planning prof'!$A$3,,MATCH($A5,OFFSET('Planning prof'!$B$3:$AC$3,COLUMN()-1,),0))) | F5: =IF(ISERROR(MATCH($A5,OFFSET('Planning prof'!$B$3:$AC$3,COLUMN()-1,),0)),"",OFFSET('Planning prof'!$A$3,,MATCH($A5,OFFSET('Planning prof'!$B$3:$AC$3,COLUMN()-1,),0))) | G5: =IF(ISERROR(MATCH($A5,OFFSET('Planning prof'!$B$3:$AC$3,COLUMN()-1,),0)),"",OFFSET('Planning prof'!$A$3,,MATCH($A5,OFFSET('Planning prof'!$B$3:$AC$3,COLUMN()-1,),0))) | H5: =IF(ISERROR(MATCH($A5,OFFSET('Planning prof'!$B$3:$AC$3,COLUMN()-1,),0)),"",OFFSET('Planning prof'!$A$3,,MATCH($A5,OFFSET('Planning prof'!$B$3:$AC$3,COLUMN()-1,),0))) | I5: =IF(ISERROR(MATCH($A5,OFFSET('Planning prof'!$B$3:$AC$3,COLUMN()-1,),0)),"",OFFSET('Planning prof'!$A$3,,MATCH($A5,OFFSET('Planning prof'!$B$3:$AC$3,COLUMN()-1,),0))) -> Melle CAMPANI | ... AF5: =IF(ISERROR(MATCH($A5,OFFSET('Planning prof'!$B$3:$AC$3,COLUMN()-1,),0)),"",OFFSET('Planning prof'!$A$3,,MATCH($A5,OFFSET('Planning prof'!$B$3:$AC$3,COLUMN()-1,),0)))
A6: eleve005 | B6: =IF(ISERROR(MATCH($A6,OFFSET('Planning prof'!$B$3:$AC$3,COLUMN()-1,),0)),"",OFFSET('Planning prof'!$A$3,,MATCH($A6,OFFSET('Planning prof'!$B$3:$AC$3,COLUMN()-1,),0))) | C6: =IF(ISERROR(MATCH($A6,OFFSET('Planning prof'!$B$3:$AC$3,COLUMN()-1,),0)),"",OFFSET('Planning prof'!$A$3,,MATCH($A6,OFFSET('Planning prof'!$B$3:$AC$3,COLUMN()-1,),0))) -> Mme BALLARA-BEC | D6: =IF(ISERROR(MATCH($A6,OFFSET('Planning prof'!$B$3:$AC$3,COLUMN()-1,),0)),"",OFFSET('Planning prof'!$A$3,,MATCH($A6,OFFSET('Planning prof'!$B$3:$AC$3,COLUMN()-1,),0))) | E6: =IF(ISERROR(MATCH($A6,OFFSET('Planning prof'!$B$3:$AC$3,COLUMN()-1,),0)),"",OFFSET('Planning prof'!$A$3,,MATCH($A6,OFFSET('Planning prof'!$B$3:$AC$3,COLUMN()-1,),0))) | F6: =IF(ISERROR(MATCH($A6,OFFSET('Planning prof'!$B$3:$AC$3,COLUMN()-1,),0)),"",OFFSET('Planning prof'!$A$3,,MATCH($A6,OFFSET('Planning prof'!$B$3:$AC$3,COLUMN()-1,),0))) | G6: =IF(ISERROR(MATCH($A6,OFFSET('Planning prof'!$B$3:$AC$3,COLUMN()-1,),0)),"",OFFSET('Planning prof'!$A$3,,MATCH($A6,OFFSET('Planning prof'!$B$3:$AC$3,COLUMN()-1,),0))) | H6: =IF(ISERROR(MATCH($A6,OFFSET('Planning prof'!$B$3:$AC$3,COLUMN()-1,),0)),"",OFFSET('Planning prof'!$A$3,,MATCH($A6,OFFSET('Planning prof'!$B$3:$AC$3,COLUMN()-1,),0))) | I6: =IF(ISERROR(MATCH($A6,OFFSET('Planning prof'!$B$3:$AC$3,COLUMN()-1,),0)),"",OFFSET('Planning prof'!$A$3,,MATCH($A6,OFFSET('Planning prof'!$B$3:$AC$3,COLUMN()-1,),0))) | ... AF6: =IF(ISERROR(MATCH($A6,OFFSET('Planning prof'!$B$3:$AC$3,COLUMN()-1,),0)),"",OFFSET('Planning prof'!$A$3,,MATCH($A6,OFFSET('Planning prof'!$B$3:$AC$3,COLUMN()-1,),0)))
A7: eleve006 | B7: =IF(ISERROR(MATCH($A7,OFFSET('Planning prof'!$B$3:$AC$3,COLUMN()-1,),0)),"",OFFSET('Planning prof'!$A$3,,MATCH($A7,OFFSET('Planning prof'!$B$3:$AC$3,COLUMN()-1,),0))) | C7: =IF(ISERROR(MATCH($A7,OFFSET('Planning prof'!$B$3:$AC$3,COLUMN()-1,),0)),"",OFFSET('Planning prof'!$A$3,,MATCH($A7,OFFSET('Planning prof'!$B$3:$AC$3,COLUMN()-1,),0))) | D7: =IF(ISERROR(MATCH($A7,OFFSET('Planning prof'!$B$3:$AC$3,COLUMN()-1,),0)),"",OFFSET('Planning prof'!$A$3,,MATCH($A7,OFFSET('Planning prof'!$B$3:$AC$3,COLUMN()-1,),0))) | E7: =IF(ISERROR(MATCH($A7,OFFSET('Planning prof'!$B$3:$AC$3,COLUMN()-1,),0)),"",OFFSET('Planning prof'!$A$3,,MATCH($A7,OFFSET('Planning prof'!$B$3:$AC$3,COLUMN()-1,),0))) | F7: =IF(ISERROR(MATCH($A7,OFFSET('Planning prof'!$B$3:$AC$3,COLUMN()-1,),0)),"",OFFSET('Planning prof'!$A$3,,MATCH($A7,OFFSET('Planning prof'!$B$3:$AC$3,COLUMN()-1,),0))) | G7: =IF(ISERROR(MATCH($A7,OFFSET('Planning prof'!$B$3:$AC$3,COLUMN()-1,),0)),"",OFFSET('Planning prof'!$A$3,,MATCH($A7,OFFSET('Planning prof'!$B$3:$AC$3,COLUMN()-1,),0))) | H7: =IF(ISERROR(MATCH($A7,OFFSET('Planning prof'!$B$3:$AC$3,COLUMN()-1,),0)),"",OFFSET('Planning prof'!$A$3,,MATCH($A7,OFFSET('Planning prof'!$B$3:$AC$3,COLUMN()-1,),0))) | I7: =IF(ISERROR(MATCH($A7,OFFSET('Planning prof'!$B$3:$AC$3,COLUMN()-1,),0)),"",OFFSET('Planning prof'!$A$3,,MATCH($A7,OFFSET('Planning prof'!$B$3:$AC$3,COLUMN()-1,),0))) | ... AF7: =IF(ISERROR(MATCH($A7,OFFSET('Planning prof'!$B$3:$AC$3,COLUMN()-1,),0)),"",OFFSET('Planning prof'!$A$3,,MATCH($A7,OFFSET('Planning prof'!$B$3:$AC$3,COLUMN()-1,),0)))
A8: eleve007 | B8: =IF(ISERROR(MATCH($A8,OFFSET('Planning prof'!$B$3:$AC$3,COLUMN()-1,),0)),"",OFFSET('Planning prof'!$A$3,,MATCH($A8,OFFSET('Planning prof'!$B$3:$AC$3,COLUMN()-1,),0))) | C8: =IF(ISERROR(MATCH($A8,OFFSET('Planning prof'!$B$3:$AC$3,COLUMN()-1,),0)),"",OFFSET('Planning prof'!$A$3,,MATCH($A8,OFFSET('Planning prof'!$B$3:$AC$3,COLUMN()-1,),0))) | D8: =IF(ISERROR(MATCH($A8,OFFSET('Planning prof'!$B$3:$AC$3,COLUMN()-1,),0)),"",OFFSET('Planning prof'!$A$3,,MATCH($A8,OFFSET('Planning prof'!$B$3:$AC$3,COLUMN()-1,),0))) | E8: =IF(ISERROR(MATCH($A8,OFFSET('Planning prof'!$B$3:$AC$3,COLUMN()-1,),0)),"",OFFSET('Planning prof'!$A$3,,MATCH($A8,OFFSET('Planning prof'!$B$3:$AC$3,COLUMN()-1,),0))) -> Mme BREMOND | F8: =IF(ISERROR(MATCH($A8,OFFSET('Planning prof'!$B$3:$AC$3,COLUMN()-1,),0)),"",OFFSET('Planning prof'!$A$3,,MATCH($A8,OFFSET('Planning prof'!$B$3:$AC$3,COLUMN()-1,),0))) | G8: =IF(ISERROR(MATCH($A8,OFFSET('Planning prof'!$B$3:$AC$3,COLUMN()-1,),0)),"",OFFSET('Planning prof'!$A$3,,MATCH($A8,OFFSET('Planning prof'!$B$3:$AC$3,COLUMN()-1,),0))) | H8: =IF(ISERROR(MATCH($A8,OFFSET('Planning prof'!$B$3:$AC$3,COLUMN()-1,),0)),"",OFFSET('Planning prof'!$A$3,,MATCH($A8,OFFSET('Planning prof'!$B$3:$AC$3,COLUMN()-1,),0))) | I8: =IF(ISERROR(MATCH($A8,OFFSET('Planning prof'!$B$3:$AC$3,COLUMN()-1,),0)),"",OFFSET('Planning prof'!$A$3,,MATCH($A8,OFFSET('Planning prof'!$B$3:$AC$3,COLUMN()-1,),0))) | ... AF8: =IF(ISERROR(MATCH($A8,OFFSET('Planning prof'!$B$3:$AC$3,COLUMN()-1,),0)),"",OFFSET('Planning prof'!$A$3,,MATCH($A8,OFFSET('Planning prof'!$B$3:$AC$3,COLUMN()-1,),0)))
A9: eleve008 | B9: =IF(ISERROR(MATCH($A9,OFFSET('Planning prof'!$B$3:$AC$3,COLUMN()-1,),0)),"",OFFSET('Planning prof'!$A$3,,MATCH($A9,OFFSET('Planning prof'!$B$3:$AC$3,COLUMN()-1,),0))) | C9: =IF(ISERROR(MATCH($A9,OFFSET('Planning prof'!$B$3:$AC$3,COLUMN()-1,),0)),"",OFFSET('Planning prof'!$A$3,,MATCH($A9,OFFSET('Planning prof'!$B$3:$AC$3,COLUMN()-1,),0))) | D9: =IF(ISERROR(MATCH($A9,OFFSET('Planning prof'!$B$3:$AC$3,COLUMN()-1,),0)),"",OFFSET('Planning prof'!$A$3,,MATCH($A9,OFFSET('Planning prof'!$B$3:$AC$3,COLUMN()-1,),0))) -> Mme BALLARA-BEC | E9: =IF(ISERROR(MATCH($A9,OFFSET('Planning prof'!$B$3:$AC$3,COLUMN()-1,),0)),"",OFFSET('Planning prof'!$A$3,,MATCH($A9,OFFSET('Planning prof'!$B$3:$AC$3,COLUMN()-1,),0))) | F9: =IF(ISERROR(MATCH($A9,OFFSET('Planning prof'!$B$3:$AC$3,COLUMN()-1,),0)),"",OFFSET('Planning prof'!$A$3,,MATCH($A9,OFFSET('Planning prof'!$B$3:$AC$3,COLUMN()-1,),0))) | G9: =IF(ISERROR(MATCH($A9,OFFSET('Planning prof'!$B$3:$AC$3,COLUMN()-1,),0)),"",OFFSET('Planning prof'!$A$3,,MATCH($A9,OFFSET('Planning prof'!$B$3:$AC$3,COLUMN()-1,),0))) | H9: =IF(ISERROR(MATCH($A9,OFFSET('Planning prof'!$B$3:$AC$3,COLUMN()-1,),0)),"",OFFSET('Planning prof'!$A$3,,MATCH($A9,OFFSET('Planning prof'!$B$3:$AC$3,COLUMN()-1,),0))) | I9: =IF(ISERROR(MATCH($A9,OFFSET('Planning prof'!$B$3:$AC$3,COLUMN()-1,),0)),"",OFFSET('Planning prof'!$A$3,,MATCH($A9,OFFSET('Planning prof'!$B$3:$AC$3,COLUMN()-1,),0))) | ... AF9: =IF(ISERROR(MATCH($A9,OFFSET('Planning prof'!$B$3:$AC$3,COLUMN()-1,),0)),"",OFFSET('Planning prof'!$A$3,,MATCH($A9,OFFSET('Planning prof'!$B$3:$AC$3,COLUMN()-1,),0)))
A10: eleve009 | B10: =IF(ISERROR(MATCH($A10,OFFSET('Planning prof'!$B$3:$AC$3,COLUMN()-1,),0)),"",OFFSET('Planning prof'!$A$3,,MATCH($A10,OFFSET('Planning prof'!$B$3:$AC$3,COLUMN()-1,),0))) | C10: =IF(ISERROR(MATCH($A10,OFFSET('Planning prof'!$B$3:$AC$3,COLUMN()-1,),0)),"",OFFSET('Planning prof'!$A$3,,MATCH($A10,OFFSET('Planning prof'!$B$3:$AC$3,COLUMN()-1,),0))) | D10: =IF(ISERROR(MATCH($A10,OFFSET('Planning prof'!$B$3:$AC$3,COLUMN()-1,),0)),"",OFFSET('Planning prof'!$A$3,,MATCH($A10,OFFSET('Planning prof'!$B$3:$AC$3,COLUMN()-1,),0))) | E10: =IF(ISERROR(MATCH($A10,OFFSET('Planning prof'!$B$3:$AC$3,COLUMN()-1,),0)),"",OFFSET('Planning prof'!$A$3,,MATCH($A10,OFFSET('Planning prof'!$B$3:$AC$3,COLUMN()-1,),0))) | F10: =IF(ISERROR(MATCH($A10,OFFSET('Planning prof'!$B$3:$AC$3,COLUMN()-1,),0)),"",OFFSET('Planning prof'!$A$3,,MATCH($A10,OFFSET('Planning prof'!$B$3:$AC$3,COLUMN()-1,),0))) | G10: =IF(ISERROR(MATCH($A10,OFFSET('Planning prof'!$B$3:$AC$3,COLUMN()-1,),0)),"",OFFSET('Planning prof'!$A$3,,MATCH($A10,OFFSET('Planning prof'!$B$3:$AC$3,COLUMN()-1,),0))) | H10: =IF(ISERROR(MATCH($A10,OFFSET('Planning prof'!$B$3:$AC$3,COLUMN()-1,),0)),"",OFFSET('Planning prof'!$A$3,,MATCH($A10,OFFSET('Planning prof'!$B$3:$AC$3,COLUMN()-1,),0))) | I10: =IF(ISERROR(MATCH($A10,OFFSET('Planning prof'!$B$3:$AC$3,COLUMN()-1,),0)),"",OFFSET('Planning prof'!$A$3,,MATCH($A10,OFFSET('Planning prof'!$B$3:$AC$3,COLUMN()-1,),0))) | ... AF10: =IF(ISERROR(MATCH($A10,OFFSET('Planning prof'!$B$3:$AC$3,COLUMN()-1,),0)),"",OFFSET('Planning prof'!$A$3,,MATCH($A10,OFFSET('Planning prof'!$B$3:$AC$3,COLUMN()-1,),0)))
A11: eleve010 | B11: =IF(ISERROR(MATCH($A11,OFFSET('Planning prof'!$B$3:$AC$3,COLUMN()-1,),0)),"",OFFSET('Planning prof'!$A$3,,MATCH($A11,OFFSET('Planning prof'!$B$3:$AC$3,COLUMN()-1,),0))) | C11: =IF(ISERROR(MATCH($A11,OFFSET('Planning prof'!$B$3:$AC$3,COLUMN()-1,),0)),"",OFFSET('Planning prof'!$A$3,,MATCH($A11,OFFSET('Planning prof'!$B$3:$AC$3,COLUMN()-1,),0))) | D11: =IF(ISERROR(MATCH($A11,OFFSET('Planning prof'!$B$3:$AC$3,COLUMN()-1,),0)),"",OFFSET('Planning prof'!$A$3,,MATCH($A11,OFFSET('Planning prof'!$B$3:$AC$3,COLUMN()-1,),0))) | E11: =IF(ISERROR(MATCH($A11,OFFSET('Planning prof'!$B$3:$AC$3,COLUMN()-1,),0)),"",OFFSET('Planning prof'!$A$3,,MATCH($A11,OFFSET('Planning prof'!$B$3:$AC$3,COLUMN()-1,),0))) | F11: =IF(ISERROR(MATCH($A11,OFFSET('Planning prof'!$B$3:$AC$3,COLUMN()-1,),0)),"",OFFSET('Planning prof'!$A$3,,MATCH($A11,OFFSET('Planning prof'!$B$3:$AC$3,COLUMN()-1,),0))) | G11: =IF(ISERROR(MATCH($A11,OFFSET('Planning prof'!$B$3:$AC$3,COLUMN()-1,),0)),"",OFFSET('Planning prof'!$A$3,,MATCH($A11,OFFSET('Planning prof'!$B$3:$AC$3,COLUMN()-1,),0))) | H11: =IF(ISERROR(MATCH($A11,OFFSET('Planning prof'!$B$3:$AC$3,COLUMN()-1,),0)),"",OFFSET('Planning prof'!$A$3,,MATCH($A11,OFFSET('Planning prof'!$B$3:$AC$3,COLUMN()-1,),0))) | I11: =IF(ISERROR(MATCH($A11,OFFSET('Planning prof'!$B$3:$AC$3,COLUMN()-1,),0)),"",OFFSET('Planning prof'!$A$3,,MATCH($A11,OFFSET('Planning prof'!$B$3:$AC$3,COLUMN()-1,),0))) | ... AF11: =IF(ISERROR(MATCH($A11,OFFSET('Planning prof'!$B$3:$AC$3,COLUMN()-1,),0)),"",OFFSET('Planning prof'!$A$3,,MATCH($A11,OFFSET('Planning prof'!$B$3:$AC$3,COLUMN()-1,),0)))
A12: eleve011 | B12: =IF(ISERROR(MATCH($A12,OFFSET('Planning prof'!$B$3:$AC$3,COLUMN()-1,),0)),"",OFFSET('Planning prof'!$A$3,,MATCH($A12,OFFSET('Planning prof'!$B$3:$AC$3,COLUMN()-1,),0))) | C12: =IF(ISERROR(MATCH($A12,OFFSET('Planning prof'!$B$3:$AC$3,COLUMN()-1,),0)),"",OFFSET('Planning prof'!$A$3,,MATCH($A12,OFFSET('Planning prof'!$B$3:$AC$3,COLUMN()-1,),0))) | D12: =IF(ISERROR(MATCH($A12,OFFSET('Planning prof'!$B$3:$AC$3,COLUMN()-1,),0)),"",OFFSET('Planning prof'!$A$3,,MATCH($A12,OFFSET('Planning prof'!$B$3:$AC$3,COLUMN()-1,),0))) | E12: =IF(ISERROR(MATCH($A12,OFFSET('Planning prof'!$B$3:$AC$3,COLUMN()-1,),0)),"",OFFSET('Planning prof'!$A$3,,MATCH($A12,OFFSET('Planning prof'!$B$3:$AC$3,COLUMN()-1,),0))) | F12: =IF(ISERROR(MATCH($A12,OFFSET('Planning prof'!$B$3:$AC$3,COLUMN()-1,),0)),"",OFFSET('Planning prof'!$A$3,,MATCH($A12,OFFSET('Planning prof'!$B$3:$AC$3,COLUMN()-1,),0))) | G12: =IF(ISERROR(MATCH($A12,OFFSET('Planning prof'!$B$3:$AC$3,COLUMN()-1,),0)),"",OFFSET('Planning prof'!$A$3,,MATCH($A12,OFFSET('Planning prof'!$B$3:$AC$3,COLUMN()-1,),0))) | H12: =IF(ISERROR(MATCH($A12,OFFSET('Planning prof'!$B$3:$AC$3,COLUMN()-1,),0)),"",OFFSET('Planning prof'!$A$3,,MATCH($A12,OFFSET('Planning prof'!$B$3:$AC$3,COLUMN()-1,),0))) | I12: =IF(ISERROR(MATCH($A12,OFFSET('Planning prof'!$B$3:$AC$3,COLUMN()-1,),0)),"",OFFSET('Planning prof'!$A$3,,MATCH($A12,OFFSET('Planning prof'!$B$3:$AC$3,COLUMN()-1,),0))) | ... AF12: =IF(ISERROR(MATCH($A12,OFFSET('Planning prof'!$B$3:$AC$3,COLUMN()-1,),0)),"",OFFSET('Planning prof'!$A$3,,MATCH($A12,OFFSET('Planning prof'!$B$3:$AC$3,COLUMN()-1,),0)))
A13: eleve012 | B13: =IF(ISERROR(MATCH($A13,OFFSET('Planning prof'!$B$3:$AC$3,COLUMN()-1,),0)),"",OFFSET('Planning prof'!$A$3,,MATCH($A13,OFFSET('Planning prof'!$B$3:$AC$3,COLUMN()-1,),0))) | C13: =IF(ISERROR(MATCH($A13,OFFSET('Planning prof'!$B$3:$AC$3,COLUMN()-1,),0)),"",OFFSET('Planning prof'!$A$3,,MATCH($A13,OFFSET('Planning prof'!$B$3:$AC$3,COLUMN()-1,),0))) | D13: =IF(ISERROR(MATCH($A13,OFFSET('Planning prof'!$B$3:$AC$3,COLUMN()-1,),0)),"",OFFSET('Planning prof'!$A$3,,MATCH($A13,OFFSET('Planning prof'!$B$3:$AC$3,COLUMN()-1,),0))) | E13: =IF(ISERROR(MATCH($A13,OFFSET('Planning prof'!$B$3:$AC$3,COLUMN()-1,),0)),"",OFFSET('Planning prof'!$A$3,,MATCH($A13,OFFSET('Planning prof'!$B$3:$AC$3,COLUMN()-1,),0))) | F13: =IF(ISERROR(MATCH($A13,OFFSET('Planning prof'!$B$3:$AC$3,COLUMN()-1,),0)),"",OFFSET('Planning prof'!$A$3,,MATCH($A13,OFFSET('Planning prof'!$B$3:$AC$3,COLUMN()-1,),0))) | G13: =IF(ISERROR(MATCH($A13,OFFSET('Planning prof'!$B$3:$AC$3,COLUMN()-1,),0)),"",OFFSET('Planning prof'!$A$3,,MATCH($A13,OFFSET('Planning prof'!$B$3:$AC$3,COLUMN()-1,),0))) | H13: =IF(ISERROR(MATCH($A13,OFFSET('Planning prof'!$B$3:$AC$3,COLUMN()-1,),0)),"",OFFSET('Planning prof'!$A$3,,MATCH($A13,OFFSET('Planning prof'!$B$3:$AC$3,COLUMN()-1,),0))) | I13: =IF(ISERROR(MATCH($A13,OFFSET('Planning prof'!$B$3:$AC$3,COLUMN()-1,),0)),"",OFFSET('Planning prof'!$A$3,,MATCH($A13,OFFSET('Planning prof'!$B$3:$AC$3,COLUMN()-1,),0))) | ... AF13: =IF(ISERROR(MATCH($A13,OFFSET('Planning prof'!$B$3:$AC$3,COLUMN()-1,),0)),"",OFFSET('Planning prof'!$A$3,,MATCH($A13,OFFSET('Planning prof'!$B$3:$AC$3,COLUMN()-1,),0)))
... A21: eleve020 | B21: =IF(ISERROR(MATCH($A21,OFFSET('Planning prof'!$B$3:$AC$3,COLUMN()-1,),0)),"",OFFSET('Planning prof'!$A$3,,MATCH($A21,OFFSET('Planning prof'!$B$3:$AC$3,COLUMN()-1,),0))) | C21: =IF(ISERROR(MATCH($A21,OFFSET('Planning prof'!$B$3:$AC$3,COLUMN()-1,),0)),"",OFFSET('Planning prof'!$A$3,,MATCH($A21,OFFSET('Planning prof'!$B$3:$AC$3,COLUMN()-1,),0))) | D21: =IF(ISERROR(MATCH($A21,OFFSET('Planning prof'!$B$3:$AC$3,COLUMN()-1,),0)),"",OFFSET('Planning prof'!$A$3,,MATCH($A21,OFFSET('Planning prof'!$B$3:$AC$3,COLUMN()-1,),0))) | E21: =IF(ISERROR(MATCH($A21,OFFSET('Planning prof'!$B$3:$AC$3,COLUMN()-1,),0)),"",OFFSET('Planning prof'!$A$3,,MATCH($A21,OFFSET('Planning prof'!$B$3:$AC$3,COLUMN()-1,),0))) | F21: =IF(ISERROR(MATCH($A21,OFFSET('Planning prof'!$B$3:$AC$3,COLUMN()-1,),0)),"",OFFSET('Planning prof'!$A$3,,MATCH($A21,OFFSET('Planning prof'!$B$3:$AC$3,COLUMN()-1,),0))) | G21: =IF(ISERROR(MATCH($A21,OFFSET('Planning prof'!$B$3:$AC$3,COLUMN()-1,),0)),"",OFFSET('Planning prof'!$A$3,,MATCH($A21,OFFSET('Planning prof'!$B$3:$AC$3,COLUMN()-1,),0))) | H21: =IF(ISERROR(MATCH($A21,OFFSET('Planning prof'!$B$3:$AC$3,COLUMN()-1,),0)),"",OFFSET('Planning prof'!$A$3,,MATCH($A21,OFFSET('Planning prof'!$B$3:$AC$3,COLUMN()-1,),0))) | I21: =IF(ISERROR(MATCH($A21,OFFSET('Planning prof'!$B$3:$AC$3,COLUMN()-1,),0)),"",OFFSET('Planning prof'!$A$3,,MATCH($A21,OFFSET('Planning prof'!$B$3:$AC$3,COLUMN()-1,),0))) | ... AF21: =IF(ISERROR(MATCH($A21,OFFSET('Planning prof'!$B$3:$AC$3,COLUMN()-1,),0)),"",OFFSET('Planning prof'!$A$3,,MATCH($A21,OFFSET('Planning prof'!$B$3:$AC$3,COLUMN()-1,),0)))

Sheet Feuil3
