Workbook
Name calcul: [1]Feuil1!$A$1:$S$45
Name plage: Feuil1!$B$1:$S$1
Name plage4: [1]Feuil1!$A$1:$S$1
Name tble: Feuil1!$A$1:$S$14

Sheet Feuil1
B1: DN20 | C1: DN25 | E1: DN32 | G1: DN40 | I1: DN50 | K1: DN65 | M1: DN80 | O1: DN100 | Q1: DN125 | S1: DN150
A2: VANNE ARRET BS | B2: 2.7 | C2: 4.8 | D2: =C2*2 -> 9.6 | E2: 7.6 | F2: =E2*2 -> 15.2 | G2: 11.1 | H2: =G2*2 -> 22.2 | I2: 17 | J2: =I2*2 -> 34 | K2: 33.71 | L2: =K2*2 -> 67.42
A3: VANNE ARRET PAPILLON | I3: 19.53 | K3: 21.11 | M3: 24.78 | N3: =M3*2 -> 49.56 | O3: 31.19 | P3: =O3*2 -> 62.38 | Q3: 39.55 | R3: =Q3*2 -> 79.1 | S3: 48.65
A4: EQUIPEMENT VANNE PAPILLON | I4: 16.27 | K4: 19.32 | M4: 29.95 | N4: =M4*2 -> 59.9 | O4: 29.3 | P4: =O4*2 -> 58.6 | Q4: 39.93 | R4: =Q4*2 -> 79.86 | S4: 50.16
A5: FILTRE | C5: 5.76 | D5: =C5*1 -> 5.76 | E5: 9.28 | F5: =E5*1 -> 9.28 | G5: 12.44 | H5: =G5*1 -> 12.44 | I5: 19.4 | J5: =I5*1 -> 19.4 | K5: 37.8 | L5: =K5*1 -> 37.8 | M5: 50.62 | N5: =M5*1 -> 50.62 | O5: 68.06 | P5: =O5*1 -> 68.06 | Q5: 101.52 | R5: =Q5*1 -> 101.52 | S5: 127.91
A6: EQUIPEMENT FILTRE | K6: 21.25 | L6: =K6*1 -> 21.25 | M6: 29.8 | N6: =M6*1 -> 29.8 | O6: 34.32 | P6: =O6*1 -> 34.32 | Q6: 44.22 | R6: =Q6*1 -> 44.22 | S6: 57.42
A7: VANNE 2 VOIES AVEC MOTEUR | C7: 146 | D7: =C7*1 -> 146 | E7: 168 | F7: =E7*1 -> 168 | G7: 181 | H7: =G7*1 -> 181 | I7: 206.8 | J7: =I7*1 -> 206.8 | K7: 492 | L7: =K7*1 -> 492 | M7: 600 | N7: =M7*1 -> 600 | O7: 855 | P7: =O7*1 -> 855 | Q7: 1306 | R7: =Q7*1 -> 1306 | S7: 1566
A8: VANNE 3 VOIES AVEC MOTEUR | C8: 182 | D8: =C8*1 -> 182 | E8: 217 | F8: =E8*1 -> 217 | G8: 262 | H8: =G8*1 -> 262 | I8: 368 | J8: =I8*1 -> 368 | K8: 793 | L8: =K8*1 -> 793 | M8: 861 | N8: =M8*1 -> 861 | O8: 989 | P8: =O8*1 -> 989 | Q8: 1491 | R8: =Q8*1 -> 1491 | S8: 1730
A9: VANNE DE REGLAGE DEBIT | C9: 39.68 | D9: =C9*1 -> 39.68 | E9: 51.83 | F9: =E9*1 -> 51.83 | G9: 59.84 | H9: =G9*1 -> 59.84 | I9: 86.08 | J9: =I9*1 -> 86.08 | K9: 190.08 | L9: =K9*1 -> 190.08 | M9: 332.8 | N9: =M9*1 -> 332.8 | O9: 451.2 | P9: =O9*1 -> 451.2 | Q9: 707.2 | R9: =Q9*1 -> 707.2 | S9: 912
A10: EQUIPEMENT VANNE DE REGLAGE | K10: 21.25 | L10: =K10*1 -> 21.25 | M10: 29.8 | N10: =M10*1 -> 29.8 | O10: 34.32 | P10: =O10*1 -> 34.32 | Q10: 44.22 | R10: =Q10*1 -> 44.22 | S10: 57.42
A11: VANNE DE VIDANGE | C11: 2.7 | D11: =C11*2 -> 5.4 | E11: 2.7 | F11: =E11*2 -> 5.4 | G11: 2.7 | H11: =G11*2 -> 5.4 | I11: 2.7 | J11: =I11*2 -> 5.4 | K11: 2.7 | L11: =K11*2 -> 5.4 | M11: 4.8 | N11: =M11*2 -> 9.6 | O11: 4.8 | P11: =O11*2 -> 9.6 | Q11: 4.8 | R11: =Q11*2 -> 9.6 | S11: 4.8
A12: THERMOMETRE MERCURE DROIT | C12: 13.8 | D12: =C12*2 -> 27.6 | E12: 13.8 | F12: =E12*2 -> 27.6 | G12: 13.8 | H12: =G12*2 -> 27.6 | I12: 13.8 | J12: =I12*2 -> 27.6 | K12: 13.8 | L12: =K12*2 -> 27.6 | M12: 13.8 | N12: =M12*2 -> 27.6 | O12: 13.8 | P12: =O12*2 -> 27.6 | Q12: 13.8 | R12: =Q12*2 -> 27.6 | S12: 13.8
A13: KIT MANO DIFERENTIEL | C13: 50 | D13: =C13*1 -> 50 | E13: 50 | F13: =E13*1 -> 50 | G13: 50 | H13: =G13*1 -> 50 | I13: 50 | J13: =I13*1 -> 50 | K13: 50 | L13: =K13*1 -> 50 | M13: 50 | N13: =M13*1 -> 50 | O13: 50 | P13: =O13*1 -> 50 | Q13: 50 | R13: =Q13*1 -> 50 | S13: 50
A14: MANCHETTE COMPTEUR | C14: 150 | D14: 150 | E14: 150 | F14: 150 | G14: 200 | H14: 200 | I14: 250 | J14: 250 | K14: 300 | L14: 300 | M14: 350 | N14: 350 | O14: 400 | P14: 400 | Q14: 450 | R14: 450 | S14: 500
A15: COMPTEUR

Sheet Feuil2
G2: DN
B3: Qté | C3: Prix unitaire | D3: Prix | G3: DN50
A4: VANNE ARRET BS | C4: =IF($G$3<>"",OFFSET(Feuil1!$A$1,MATCH(A4,Feuil1!$A$2:$A$14,0),MATCH($G$3,plage,0)),"") -> 17 | M4: DN20
A5: VANNE ARRET PAPILLON | C5: =IF($G$3<>"",OFFSET(Feuil1!$A$1,MATCH(A5,Feuil1!$A$2:$A$14,0),MATCH($G$3,plage,0)),"") -> 19.53 | M5: DN25
A6: EQUIPEMENT VANNE PAPILLON | C6: =IF($G$3<>"",OFFSET(Feuil1!$A$1,MATCH(A6,Feuil1!$A$2:$A$14,0),MATCH($G$3,plage,0)),"") -> 16.27 | M6: DN32
A7: FILTRE | C7: =IF($G$3<>"",OFFSET(Feuil1!$A$1,MATCH(A7,Feuil1!$A$2:$A$14,0),MATCH($G$3,plage,0)),"") -> 19.4 | M7: DN40
A8: EQUIPEMENT FILTRE | C8: =IF($G$3<>"",OFFSET(Feuil1!$A$1,MATCH(A8,Feuil1!$A$2:$A$14,0),MATCH($G$3,plage,0)),"") -> 0 | M8: DN50
A9: VANNE 2 VOIES AVEC MOTEUR | C9: =IF($G$3<>"",OFFSET(Feuil1!$A$1,MATCH(A9,Feuil1!$A$2:$A$14,0),MATCH($G$3,plage,0)),"") -> 206.8 | M9: DN65
A10: VANNE 3 VOIES AVEC MOTEUR | C10: =IF($G$3<>"",OFFSET(Feuil1!$A$1,MATCH(A10,Feuil1!$A$2:$A$14,0),MATCH($G$3,plage,0)),"") -> 368 | M10: DN80
A11: VANNE DE REGLAGE DEBIT | C11: =IF($G$3<>"",OFFSET(Feuil1!$A$1,MATCH(A11,Feuil1!$A$2:$A$14,0),MATCH($G$3,plage,0)),"") -> 86.08 | M11: DN100
A12: EQUIPEMENT VANNE DE REGLAGE | C12: =IF($G$3<>"",OFFSET(Feuil1!$A$1,MATCH(A12,Feuil1!$A$2:$A$14,0),MATCH($G$3,plage,0)),"") -> 0 | M12: DN125
A13: VANNE DE VIDANGE | C13: =IF($G$3<>"",OFFSET(Feuil1!$A$1,MATCH(A13,Feuil1!$A$2:$A$14,0),MATCH($G$3,plage,0)),"") -> 2.7 | M13: DN150
A14: THERMOMETRE MERCURE DROIT | C14: =IF($G$3<>"",OFFSET(Feuil1!$A$1,MATCH(A14,Feuil1!$A$2:$A$14,0),MATCH($G$3,plage,0)),"") -> 13.8
A15: KIT MANO DIFERENTIEL | C15: =IF($G$3<>"",OFFSET(Feuil1!$A$1,MATCH(A15,Feuil1!$A$2:$A$14,0),MATCH($G$3,plage,0)),"") -> 50
A16: MANCHETTE COMPTEUR | C16: =IF($G$3<>"",OFFSET(Feuil1!$A$1,MATCH(A16,Feuil1!$A$2:$A$14,0),MATCH($G$3,plage,0)),"") -> 250
A17: COMPTEUR

Sheet Feuil3
