Workbook
Name Estimate_Quote: #REF!
Name Yes_No: #REF!

Sheet base de données
A1: projet | B1: Segmentation | C1: Product designation | D1: price /u
A2: B02yes | B2: FNP | C2: A | D2: 1
A3: B02yes | B3: FNP | C3: B | D3: 2
A4: B02no | B4: FELT | C4: C | D4: 3
A5: F12 | B5: FELT | C5: D | D5: 4
A6: B02yes | B6: FELT | C6: E | D6: 5

Sheet synthèse B02yes
A2: PROJET B02yes
C4: Index(N° Ligne)
A5: Segmentation | B5: price/u | D5: << Vide ou 0 | E5: A la main, ce qui devrait apparaitre
A6: =IF(ISERROR(MATCH(TRIM(SUBSTITUTE($A$2,"PROJET","")),OFFSET('base de données'!$A$2:$A$100,C5,),0)),"",INDEX(OFFSET('base de données'!$B$2:$B$100,C5,),MATCH(TRIM(SUBSTITUTE($A$2,"PROJET","")),OFFSET('base de données'!$A$2:$A$100,C5,),0))) -> FNP | B6: =IF(A6="","",OFFSET('base de données'!$D$1,C6,)) -> 1 | C6: =IF(A6="","",ROW(INDEX(OFFSET('base de données'!$B$2:$B$100,C5,),MATCH(TRIM(SUBSTITUTE($A$2,"PROJET","")),OFFSET('base de données'!$A$2:$A$100,C5,),0)))-1) -> 1 | E6: Segmentation | F6: price/u
A7: =IF(ISERROR(MATCH(TRIM(SUBSTITUTE($A$2,"PROJET","")),OFFSET('base de données'!$A$2:$A$100,C6,),0)),"",INDEX(OFFSET('base de données'!$B$2:$B$100,C6,),MATCH(TRIM(SUBSTITUTE($A$2,"PROJET","")),OFFSET('base de données'!$A$2:$A$100,C6,),0))) -> FNP | B7: =IF(A7="","",OFFSET('base de données'!$D$1,C7,)) -> 2 | C7: =IF(A7="","",ROW(INDEX(OFFSET('base de données'!$B$2:$B$100,C6,),MATCH(TRIM(SUBSTITUTE($A$2,"PROJET","")),OFFSET('base de données'!$A$2:$A$100,C6,),0)))-1) -> 2 | E7: FNP | F7: 1
A8: =IF(ISERROR(MATCH(TRIM(SUBSTITUTE($A$2,"PROJET","")),OFFSET('base de données'!$A$2:$A$100,C7,),0)),"",INDEX(OFFSET('base de données'!$B$2:$B$100,C7,),MATCH(TRIM(SUBSTITUTE($A$2,"PROJET","")),OFFSET('base de données'!$A$2:$A$100,C7,),0))) -> FELT | B8: =IF(A8="","",OFFSET('base de données'!$D$1,C8,)) -> 5 | C8: =IF(A8="","",ROW(INDEX(OFFSET('base de données'!$B$2:$B$100,C7,),MATCH(TRIM(SUBSTITUTE($A$2,"PROJET","")),OFFSET('base de données'!$A$2:$A$100,C7,),0)))-1) -> 5 | E8: FNP | F8: 2
A9: =IF(ISERROR(MATCH(TRIM(SUBSTITUTE($A$2,"PROJET","")),OFFSET('base de données'!$A$2:$A$100,C8,),0)),"",INDEX(OFFSET('base de données'!$B$2:$B$100,C8,),MATCH(TRIM(SUBSTITUTE($A$2,"PROJET","")),OFFSET('base de données'!$A$2:$A$100,C8,),0))) | B9: =IF(A9="","",OFFSET('base de données'!$D$1,C9,)) | C9: =IF(A9="","",ROW(INDEX(OFFSET('base de données'!$B$2:$B$100,C8,),MATCH(TRIM(SUBSTITUTE($A$2,"PROJET","")),OFFSET('base de données'!$A$2:$A$100,C8,),0)))-1) | E9: FELT | F9: 5
A10: =IF(ISERROR(MATCH(TRIM(SUBSTITUTE($A$2,"PROJET","")),OFFSET('base de données'!$A$2:$A$100,C9,),0)),"",INDEX(OFFSET('base de données'!$B$2:$B$100,C9,),MATCH(TRIM(SUBSTITUTE($A$2,"PROJET","")),OFFSET('base de données'!$A$2:$A$100,C9,),0))) | B10: =IF(A10="","",OFFSET('base de données'!$D$1,C10,)) | C10: =IF(A10="","",ROW(INDEX(OFFSET('base de données'!$B$2:$B$100,C9,),MATCH(TRIM(SUBSTITUTE($A$2,"PROJET","")),OFFSET('base de données'!$A$2:$A$100,C9,),0)))-1)
A11: =IF(ISERROR(MATCH(TRIM(SUBSTITUTE($A$2,"PROJET","")),OFFSET('base de données'!$A$2:$A$100,C10,),0)),"",INDEX(OFFSET('base de données'!$B$2:$B$100,C10,),MATCH(TRIM(SUBSTITUTE($A$2,"PROJET","")),OFFSET('base de données'!$A$2:$A$100,C10,),0))) | B11: =IF(A11="","",OFFSET('base de données'!$D$1,C11,)) | C11: =IF(A11="","",ROW(INDEX(OFFSET('base de données'!$B$2:$B$100,C10,),MATCH(TRIM(SUBSTITUTE($A$2,"PROJET","")),OFFSET('base de données'!$A$2:$A$100,C10,),0)))-1)
A12: =IF(ISERROR(MATCH(TRIM(SUBSTITUTE($A$2,"PROJET","")),OFFSET('base de données'!$A$2:$A$100,C11,),0)),"",INDEX(OFFSET('base de données'!$B$2:$B$100,C11,),MATCH(TRIM(SUBSTITUTE($A$2,"PROJET","")),OFFSET('base de données'!$A$2:$A$100,C11,),0))) | B12: =IF(A12="","",OFFSET('base de données'!$D$1,C12,)) | C12: =IF(A12="","",ROW(INDEX(OFFSET('base de données'!$B$2:$B$100,C11,),MATCH(TRIM(SUBSTITUTE($A$2,"PROJET","")),OFFSET('base de données'!$A$2:$A$100,C11,),0)))-1)
A13: =IF(ISERROR(MATCH(TRIM(SUBSTITUTE($A$2,"PROJET","")),OFFSET('base de données'!$A$2:$A$100,C12,),0)),"",INDEX(OFFSET('base de données'!$B$2:$B$100,C12,),MATCH(TRIM(SUBSTITUTE($A$2,"PROJET","")),OFFSET('base de données'!$A$2:$A$100,C12,),0))) | B13: =IF(A13="","",OFFSET('base de données'!$D$1,C13,)) | C13: =IF(A13="","",ROW(INDEX(OFFSET('base de données'!$B$2:$B$100,C12,),MATCH(TRIM(SUBSTITUTE($A$2,"PROJET","")),OFFSET('base de données'!$A$2:$A$100,C12,),0)))-1)
A14: =IF(ISERROR(MATCH(TRIM(SUBSTITUTE($A$2,"PROJET","")),OFFSET('base de données'!$A$2:$A$100,C13,),0)),"",INDEX(OFFSET('base de données'!$B$2:$B$100,C13,),MATCH(TRIM(SUBSTITUTE($A$2,"PROJET","")),OFFSET('base de données'!$A$2:$A$100,C13,),0))) | B14: =IF(A14="","",OFFSET('base de données'!$D$1,C14,)) | C14: =IF(A14="","",ROW(INDEX(OFFSET('base de données'!$B$2:$B$100,C13,),MATCH(TRIM(SUBSTITUTE($A$2,"PROJET","")),OFFSET('base de données'!$A$2:$A$100,C13,),0)))-1)
