Workbook
Name Base: OFFSET(Base!$A$3:$G$3,,,COUNTA(Sociétés)-1)
Name Noms: OFFSET(Base!$G$3,,,COUNTA(Base!$A:$A)-1)
Name socA: OFFSET(listes!$B$2,,,SUMPRODUCT(N(LEN(listes!$B$2:$B$100)>0)))
Name socB: OFFSET(listes!$D$2,,,SUMPRODUCT(N(LEN(listes!$D$2:$D$100)>0)))
Name socC: listes!$F$2:$F$10
Name socD: OFFSET(listes!$H$2,,,SUMPRODUCT(N(LEN(listes!$H$2:$H$100)>0)))
Name société: OFFSET(listes!$A$2,,,SUMPRODUCT((N(LEN(listes!$A$2:$A$500)>0))))
Name Sociétés: OFFSET(Base!$A$3,,,COUNTA(Base!$A:$A)-1)

Sheet listes
A1: Société | B1: socA | D1: socB | F1: socC | H1: socD
A2: {=INDEX(Base!$A:$A,MIN(IF(COUNTIF(A$1:A1,Sociétés)=0,ROW(Sociétés))))&""} -> socA | B2: =IF(C2="","",INDEX(OFFSET(Base,C1,),MATCH(B$1,OFFSET(Sociétés,C1,),0),7)) -> socAnom 1 | C2: =IF(ISERROR(ROW(INDEX(OFFSET(Base,C1,),MATCH(B$1,OFFSET(Sociétés,C1,),0),7))-2),"",ROW(INDEX(OFFSET(Base,C1,),MATCH(B$1,OFFSET(Sociétés,C1,),0),7))-2) -> 1 | D2: =IF(E2="","",INDEX(OFFSET(Base,E1,),MATCH(D$1,OFFSET(Sociétés,E1,),0),7)) -> socBnom1 | E2: =IF(ISERROR(ROW(INDEX(OFFSET(Base,E1,),MATCH(D$1,OFFSET(Sociétés,E1,),0),7))-2),"",ROW(INDEX(OFFSET(Base,E1,),MATCH(D$1,OFFSET(Sociétés,E1,),0),7))-2) -> 10 | F2: =IF(G2="","",INDEX(OFFSET(Base,G1,),MATCH(F$1,OFFSET(Sociétés,G1,),0),7)) -> socCnom1 | G2: =IF(ISERROR(ROW(INDEX(OFFSET(Base,G1,),MATCH(F$1,OFFSET(Sociétés,G1,),0),7))-2),"",ROW(INDEX(OFFSET(Base,G1,),MATCH(F$1,OFFSET(Sociétés,G1,),0),7))-2) -> 19 | H2: =IF(I2="","",INDEX(OFFSET(Base,I1,),MATCH(H$1,OFFSET(Sociétés,I1,),0),7)) -> socDnom1 | I2: =IF(ISERROR(ROW(INDEX(OFFSET(Base,I1,),MATCH(H$1,OFFSET(Sociétés,I1,),0),7))-2),"",ROW(INDEX(OFFSET(Base,I1,),MATCH(H$1,OFFSET(Sociétés,I1,),0),7))-2) -> 28
A3: {=INDEX(Base!$A:$A,MIN(IF(COUNTIF(A$1:A2,Sociétés)=0,ROW(Sociétés))))&""} -> socB | B3: =IF(C3="","",INDEX(OFFSET(Base,C2,),MATCH(B$1,OFFSET(Sociétés,C2,),0),7)) -> socAnom 2 | C3: =IF(ISERROR(ROW(INDEX(OFFSET(Base,C2,),MATCH(B$1,OFFSET(Sociétés,C2,),0),7))-2),"",ROW(INDEX(OFFSET(Base,C2,),MATCH(B$1,OFFSET(Sociétés,C2,),0),7))-2) -> 2 | D3: =IF(E3="","",INDEX(OFFSET(Base,E2,),MATCH(D$1,OFFSET(Sociétés,E2,),0),7)) -> socBnom2 | E3: =IF(ISERROR(ROW(INDEX(OFFSET(Base,E2,),MATCH(D$1,OFFSET(Sociétés,E2,),0),7))-2),"",ROW(INDEX(OFFSET(Base,E2,),MATCH(D$1,OFFSET(Sociétés,E2,),0),7))-2) -> 11 | F3: =IF(G3="","",INDEX(OFFSET(Base,G2,),MATCH(F$1,OFFSET(Sociétés,G2,),0),7)) -> socCnom2 | G3: =IF(ISERROR(ROW(INDEX(OFFSET(Base,G2,),MATCH(F$1,OFFSET(Sociétés,G2,),0),7))-2),"",ROW(INDEX(OFFSET(Base,G2,),MATCH(F$1,OFFSET(Sociétés,G2,),0),7))-2) -> 20 | H3: =IF(I3="","",INDEX(OFFSET(Base,I2,),MATCH(H$1,OFFSET(Sociétés,I2,),0),7)) -> socDnom2 | I3: =IF(ISERROR(ROW(INDEX(OFFSET(Base,I2,),MATCH(H$1,OFFSET(Sociétés,I2,),0),7))-2),"",ROW(INDEX(OFFSET(Base,I2,),MATCH(H$1,OFFSET(Sociétés,I2,),0),7))-2) -> 29
A4: {=INDEX(Base!$A:$A,MIN(IF(COUNTIF(A$1:A3,Sociétés)=0,ROW(Sociétés))))&""} -> socC | B4: =IF(C4="","",INDEX(OFFSET(Base,C3,),MATCH(B$1,OFFSET(Sociétés,C3,),0),7)) -> socAnom 3 | C4: =IF(ISERROR(ROW(INDEX(OFFSET(Base,C3,),MATCH(B$1,OFFSET(Sociétés,C3,),0),7))-2),"",ROW(INDEX(OFFSET(Base,C3,),MATCH(B$1,OFFSET(Sociétés,C3,),0),7))-2) -> 3 | D4: =IF(E4="","",INDEX(OFFSET(Base,E3,),MATCH(D$1,OFFSET(Sociétés,E3,),0),7)) -> socBnom3 | E4: =IF(ISERROR(ROW(INDEX(OFFSET(Base,E3,),MATCH(D$1,OFFSET(Sociétés,E3,),0),7))-2),"",ROW(INDEX(OFFSET(Base,E3,),MATCH(D$1,OFFSET(Sociétés,E3,),0),7))-2) -> 12 | F4: =IF(G4="","",INDEX(OFFSET(Base,G3,),MATCH(F$1,OFFSET(Sociétés,G3,),0),7)) -> socCnom3 | G4: =IF(ISERROR(ROW(INDEX(OFFSET(Base,G3,),MATCH(F$1,OFFSET(Sociétés,G3,),0),7))-2),"",ROW(INDEX(OFFSET(Base,G3,),MATCH(F$1,OFFSET(Sociétés,G3,),0),7))-2) -> 21 | H4: =IF(I4="","",INDEX(OFFSET(Base,I3,),MATCH(H$1,OFFSET(Sociétés,I3,),0),7)) -> socDnom3 | I4: =IF(ISERROR(ROW(INDEX(OFFSET(Base,I3,),MATCH(H$1,OFFSET(Sociétés,I3,),0),7))-2),"",ROW(INDEX(OFFSET(Base,I3,),MATCH(H$1,OFFSET(Sociétés,I3,),0),7))-2) -> 30
A5: {=INDEX(Base!$A:$A,MIN(IF(COUNTIF(A$1:A4,Sociétés)=0,ROW(Sociétés))))&""} -> socD | B5: =IF(C5="","",INDEX(OFFSET(Base,C4,),MATCH(B$1,OFFSET(Sociétés,C4,),0),7)) -> socAnom 4 | C5: =IF(ISERROR(ROW(INDEX(OFFSET(Base,C4,),MATCH(B$1,OFFSET(Sociétés,C4,),0),7))-2),"",ROW(INDEX(OFFSET(Base,C4,),MATCH(B$1,OFFSET(Sociétés,C4,),0),7))-2) -> 4 | D5: =IF(E5="","",INDEX(OFFSET(Base,E4,),MATCH(D$1,OFFSET(Sociétés,E4,),0),7)) -> socBnom4 | E5: =IF(ISERROR(ROW(INDEX(OFFSET(Base,E4,),MATCH(D$1,OFFSET(Sociétés,E4,),0),7))-2),"",ROW(INDEX(OFFSET(Base,E4,),MATCH(D$1,OFFSET(Sociétés,E4,),0),7))-2) -> 13 | F5: =IF(G5="","",INDEX(OFFSET(Base,G4,),MATCH(F$1,OFFSET(Sociétés,G4,),0),7)) -> socCnom4 | G5: =IF(ISERROR(ROW(INDEX(OFFSET(Base,G4,),MATCH(F$1,OFFSET(Sociétés,G4,),0),7))-2),"",ROW(INDEX(OFFSET(Base,G4,),MATCH(F$1,OFFSET(Sociétés,G4,),0),7))-2) -> 22 | H5: =IF(I5="","",INDEX(OFFSET(Base,I4,),MATCH(H$1,OFFSET(Sociétés,I4,),0),7)) -> socDnom4 | I5: =IF(ISERROR(ROW(INDEX(OFFSET(Base,I4,),MATCH(H$1,OFFSET(Sociétés,I4,),0),7))-2),"",ROW(INDEX(OFFSET(Base,I4,),MATCH(H$1,OFFSET(Sociétés,I4,),0),7))-2) -> 31
A6: {=INDEX(Base!$A:$A,MIN(IF(COUNTIF(A$1:A5,Sociétés)=0,ROW(Sociétés))))&""} | B6: =IF(C6="","",INDEX(OFFSET(Base,C5,),MATCH(B$1,OFFSET(Sociétés,C5,),0),7)) -> socAnom 5 | C6: =IF(ISERROR(ROW(INDEX(OFFSET(Base,C5,),MATCH(B$1,OFFSET(Sociétés,C5,),0),7))-2),"",ROW(INDEX(OFFSET(Base,C5,),MATCH(B$1,OFFSET(Sociétés,C5,),0),7))-2) -> 5 | D6: =IF(E6="","",INDEX(OFFSET(Base,E5,),MATCH(D$1,OFFSET(Sociétés,E5,),0),7)) -> socBnom5 | E6: =IF(ISERROR(ROW(INDEX(OFFSET(Base,E5,),MATCH(D$1,OFFSET(Sociétés,E5,),0),7))-2),"",ROW(INDEX(OFFSET(Base,E5,),MATCH(D$1,OFFSET(Sociétés,E5,),0),7))-2) -> 14 | F6: =IF(G6="","",INDEX(OFFSET(Base,G5,),MATCH(F$1,OFFSET(Sociétés,G5,),0),7)) -> socCnom5 | G6: =IF(ISERROR(ROW(INDEX(OFFSET(Base,G5,),MATCH(F$1,OFFSET(Sociétés,G5,),0),7))-2),"",ROW(INDEX(OFFSET(Base,G5,),MATCH(F$1,OFFSET(Sociétés,G5,),0),7))-2) -> 23 | H6: =IF(I6="","",INDEX(OFFSET(Base,I5,),MATCH(H$1,OFFSET(Sociétés,I5,),0),7)) -> socDnom5 | I6: =IF(ISERROR(ROW(INDEX(OFFSET(Base,I5,),MATCH(H$1,OFFSET(Sociétés,I5,),0),7))-2),"",ROW(INDEX(OFFSET(Base,I5,),MATCH(H$1,OFFSET(Sociétés,I5,),0),7))-2) -> 32
A7: {=INDEX(Base!$A:$A,MIN(IF(COUNTIF(A$1:A6,Sociétés)=0,ROW(Sociétés))))&""} | B7: =IF(C7="","",INDEX(OFFSET(Base,C6,),MATCH(B$1,OFFSET(Sociétés,C6,),0),7)) -> socAnom 6 | C7: =IF(ISERROR(ROW(INDEX(OFFSET(Base,C6,),MATCH(B$1,OFFSET(Sociétés,C6,),0),7))-2),"",ROW(INDEX(OFFSET(Base,C6,),MATCH(B$1,OFFSET(Sociétés,C6,),0),7))-2) -> 6 | D7: =IF(E7="","",INDEX(OFFSET(Base,E6,),MATCH(D$1,OFFSET(Sociétés,E6,),0),7)) -> socBnom6 | E7: =IF(ISERROR(ROW(INDEX(OFFSET(Base,E6,),MATCH(D$1,OFFSET(Sociétés,E6,),0),7))-2),"",ROW(INDEX(OFFSET(Base,E6,),MATCH(D$1,OFFSET(Sociétés,E6,),0),7))-2) -> 15 | F7: =IF(G7="","",INDEX(OFFSET(Base,G6,),MATCH(F$1,OFFSET(Sociétés,G6,),0),7)) -> socCnom6 | G7: =IF(ISERROR(ROW(INDEX(OFFSET(Base,G6,),MATCH(F$1,OFFSET(Sociétés,G6,),0),7))-2),"",ROW(INDEX(OFFSET(Base,G6,),MATCH(F$1,OFFSET(Sociétés,G6,),0),7))-2) -> 24 | H7: =IF(I7="","",INDEX(OFFSET(Base,I6,),MATCH(H$1,OFFSET(Sociétés,I6,),0),7)) -> socDnom6 | I7: =IF(ISERROR(ROW(INDEX(OFFSET(Base,I6,),MATCH(H$1,OFFSET(Sociétés,I6,),0),7))-2),"",ROW(INDEX(OFFSET(Base,I6,),MATCH(H$1,OFFSET(Sociétés,I6,),0),7))-2) -> 33
A8: {=INDEX(Base!$A:$A,MIN(IF(COUNTIF(A$1:A7,Sociétés)=0,ROW(Sociétés))))&""} | B8: =IF(C8="","",INDEX(OFFSET(Base,C7,),MATCH(B$1,OFFSET(Sociétés,C7,),0),7)) -> socAnom 7 | C8: =IF(ISERROR(ROW(INDEX(OFFSET(Base,C7,),MATCH(B$1,OFFSET(Sociétés,C7,),0),7))-2),"",ROW(INDEX(OFFSET(Base,C7,),MATCH(B$1,OFFSET(Sociétés,C7,),0),7))-2) -> 7 | D8: =IF(E8="","",INDEX(OFFSET(Base,E7,),MATCH(D$1,OFFSET(Sociétés,E7,),0),7)) -> socBnom7 | E8: =IF(ISERROR(ROW(INDEX(OFFSET(Base,E7,),MATCH(D$1,OFFSET(Sociétés,E7,),0),7))-2),"",ROW(INDEX(OFFSET(Base,E7,),MATCH(D$1,OFFSET(Sociétés,E7,),0),7))-2) -> 16 | F8: =IF(G8="","",INDEX(OFFSET(Base,G7,),MATCH(F$1,OFFSET(Sociétés,G7,),0),7)) -> socCnom7 | G8: =IF(ISERROR(ROW(INDEX(OFFSET(Base,G7,),MATCH(F$1,OFFSET(Sociétés,G7,),0),7))-2),"",ROW(INDEX(OFFSET(Base,G7,),MATCH(F$1,OFFSET(Sociétés,G7,),0),7))-2) -> 25 | H8: =IF(I8="","",INDEX(OFFSET(Base,I7,),MATCH(H$1,OFFSET(Sociétés,I7,),0),7)) -> socDnom7 | I8: =IF(ISERROR(ROW(INDEX(OFFSET(Base,I7,),MATCH(H$1,OFFSET(Sociétés,I7,),0),7))-2),"",ROW(INDEX(OFFSET(Base,I7,),MATCH(H$1,OFFSET(Sociétés,I7,),0),7))-2) -> 34
B9: =IF(C9="","",INDEX(OFFSET(Base,C8,),MATCH(B$1,OFFSET(Sociétés,C8,),0),7)) -> socAnom 8 | C9: =IF(ISERROR(ROW(INDEX(OFFSET(Base,C8,),MATCH(B$1,OFFSET(Sociétés,C8,),0),7))-2),"",ROW(INDEX(OFFSET(Base,C8,),MATCH(B$1,OFFSET(Sociétés,C8,),0),7))-2) -> 8 | D9: =IF(E9="","",INDEX(OFFSET(Base,E8,),MATCH(D$1,OFFSET(Sociétés,E8,),0),7)) -> socBnom8 | E9: =IF(ISERROR(ROW(INDEX(OFFSET(Base,E8,),MATCH(D$1,OFFSET(Sociétés,E8,),0),7))-2),"",ROW(INDEX(OFFSET(Base,E8,),MATCH(D$1,OFFSET(Sociétés,E8,),0),7))-2) -> 17 | F9: =IF(G9="","",INDEX(OFFSET(Base,G8,),MATCH(F$1,OFFSET(Sociétés,G8,),0),7)) -> socCnom8 | G9: =IF(ISERROR(ROW(INDEX(OFFSET(Base,G8,),MATCH(F$1,OFFSET(Sociétés,G8,),0),7))-2),"",ROW(INDEX(OFFSET(Base,G8,),MATCH(F$1,OFFSET(Sociétés,G8,),0),7))-2) -> 26 | H9: =IF(I9="","",INDEX(OFFSET(Base,I8,),MATCH(H$1,OFFSET(Sociétés,I8,),0),7)) -> socDnom8 | I9: =IF(ISERROR(ROW(INDEX(OFFSET(Base,I8,),MATCH(H$1,OFFSET(Sociétés,I8,),0),7))-2),"",ROW(INDEX(OFFSET(Base,I8,),MATCH(H$1,OFFSET(Sociétés,I8,),0),7))-2) -> 35
B10: =IF(C10="","",INDEX(OFFSET(Base,C9,),MATCH(B$1,OFFSET(Sociétés,C9,),0),7)) -> socAnom 9 | C10: =IF(ISERROR(ROW(INDEX(OFFSET(Base,C9,),MATCH(B$1,OFFSET(Sociétés,C9,),0),7))-2),"",ROW(INDEX(OFFSET(Base,C9,),MATCH(B$1,OFFSET(Sociétés,C9,),0),7))-2) -> 9 | D10: =IF(E10="","",INDEX(OFFSET(Base,E9,),MATCH(D$1,OFFSET(Sociétés,E9,),0),7)) -> socBnom9 | E10: =IF(ISERROR(ROW(INDEX(OFFSET(Base,E9,),MATCH(D$1,OFFSET(Sociétés,E9,),0),7))-2),"",ROW(INDEX(OFFSET(Base,E9,),MATCH(D$1,OFFSET(Sociétés,E9,),0),7))-2) -> 18 | F10: =IF(G10="","",INDEX(OFFSET(Base,G9,),MATCH(F$1,OFFSET(Sociétés,G9,),0),7)) -> socCnom9 | G10: =IF(ISERROR(ROW(INDEX(OFFSET(Base,G9,),MATCH(F$1,OFFSET(Sociétés,G9,),0),7))-2),"",ROW(INDEX(OFFSET(Base,G9,),MATCH(F$1,OFFSET(Sociétés,G9,),0),7))-2) -> 27 | H10: =IF(I10="","",INDEX(OFFSET(Base,I9,),MATCH(H$1,OFFSET(Sociétés,I9,),0),7)) -> socDnom9 | I10: =IF(ISERROR(ROW(INDEX(OFFSET(Base,I9,),MATCH(H$1,OFFSET(Sociétés,I9,),0),7))-2),"",ROW(INDEX(OFFSET(Base,I9,),MATCH(H$1,OFFSET(Sociétés,I9,),0),7))-2) -> 36
B11: =IF(C11="","",INDEX(OFFSET(Base,C10,),MATCH(B$1,OFFSET(Sociétés,C10,),0),7)) | C11: =IF(ISERROR(ROW(INDEX(OFFSET(Base,C10,),MATCH(B$1,OFFSET(Sociétés,C10,),0),7))-2),"",ROW(INDEX(OFFSET(Base,C10,),MATCH(B$1,OFFSET(Sociétés,C10,),0),7))-2) | D11: =IF(E11="","",INDEX(OFFSET(Base,E10,),MATCH(D$1,OFFSET(Sociétés,E10,),0),7)) | E11: =IF(ISERROR(ROW(INDEX(OFFSET(Base,E10,),MATCH(D$1,OFFSET(Sociétés,E10,),0),7))-2),"",ROW(INDEX(OFFSET(Base,E10,),MATCH(D$1,OFFSET(Sociétés,E10,),0),7))-2) | F11: =IF(G11="","",INDEX(OFFSET(Base,G10,),MATCH(F$1,OFFSET(Sociétés,G10,),0),7)) | G11: =IF(ISERROR(ROW(INDEX(OFFSET(Base,G10,),MATCH(F$1,OFFSET(Sociétés,G10,),0),7))-2),"",ROW(INDEX(OFFSET(Base,G10,),MATCH(F$1,OFFSET(Sociétés,G10,),0),7))-2) | H11: =IF(I11="","",INDEX(OFFSET(Base,I10,),MATCH(H$1,OFFSET(Sociétés,I10,),0),7)) -> socDnom10 | I11: =IF(ISERROR(ROW(INDEX(OFFSET(Base,I10,),MATCH(H$1,OFFSET(Sociétés,I10,),0),7))-2),"",ROW(INDEX(OFFSET(Base,I10,),MATCH(H$1,OFFSET(Sociétés,I10,),0),7))-2) -> 37
B12: =IF(C12="","",INDEX(OFFSET(Base,C11,),MATCH(B$1,OFFSET(Sociétés,C11,),0),7)) | C12: =IF(ISERROR(ROW(INDEX(OFFSET(Base,C11,),MATCH(B$1,OFFSET(Sociétés,C11,),0),7))-2),"",ROW(INDEX(OFFSET(Base,C11,),MATCH(B$1,OFFSET(Sociétés,C11,),0),7))-2) | D12: =IF(E12="","",INDEX(OFFSET(Base,E11,),MATCH(D$1,OFFSET(Sociétés,E11,),0),7)) | E12: =IF(ISERROR(ROW(INDEX(OFFSET(Base,E11,),MATCH(D$1,OFFSET(Sociétés,E11,),0),7))-2),"",ROW(INDEX(OFFSET(Base,E11,),MATCH(D$1,OFFSET(Sociétés,E11,),0),7))-2) | F12: =IF(G12="","",INDEX(OFFSET(Base,G11,),MATCH(F$1,OFFSET(Sociétés,G11,),0),7)) | G12: =IF(ISERROR(ROW(INDEX(OFFSET(Base,G11,),MATCH(F$1,OFFSET(Sociétés,G11,),0),7))-2),"",ROW(INDEX(OFFSET(Base,G11,),MATCH(F$1,OFFSET(Sociétés,G11,),0),7))-2) | H12: =IF(I12="","",INDEX(OFFSET(Base,I11,),MATCH(H$1,OFFSET(Sociétés,I11,),0),7)) -> socDnom11 | I12: =IF(ISERROR(ROW(INDEX(OFFSET(Base,I11,),MATCH(H$1,OFFSET(Sociétés,I11,),0),7))-2),"",ROW(INDEX(OFFSET(Base,I11,),MATCH(H$1,OFFSET(Sociétés,I11,),0),7))-2) -> 38
B13: =IF(C13="","",INDEX(OFFSET(Base,C12,),MATCH(B$1,OFFSET(Sociétés,C12,),0),7)) | C13: =IF(ISERROR(ROW(INDEX(OFFSET(Base,C12,),MATCH(B$1,OFFSET(Sociétés,C12,),0),7))-2),"",ROW(INDEX(OFFSET(Base,C12,),MATCH(B$1,OFFSET(Sociétés,C12,),0),7))-2) | D13: =IF(E13="","",INDEX(OFFSET(Base,E12,),MATCH(D$1,OFFSET(Sociétés,E12,),0),7)) | E13: =IF(ISERROR(ROW(INDEX(OFFSET(Base,E12,),MATCH(D$1,OFFSET(Sociétés,E12,),0),7))-2),"",ROW(INDEX(OFFSET(Base,E12,),MATCH(D$1,OFFSET(Sociétés,E12,),0),7))-2) | F13: =IF(G13="","",INDEX(OFFSET(Base,G12,),MATCH(F$1,OFFSET(Sociétés,G12,),0),7)) | G13: =IF(ISERROR(ROW(INDEX(OFFSET(Base,G12,),MATCH(F$1,OFFSET(Sociétés,G12,),0),7))-2),"",ROW(INDEX(OFFSET(Base,G12,),MATCH(F$1,OFFSET(Sociétés,G12,),0),7))-2) | H13: =IF(I13="","",INDEX(OFFSET(Base,I12,),MATCH(H$1,OFFSET(Sociétés,I12,),0),7)) | I13: =IF(ISERROR(ROW(INDEX(OFFSET(Base,I12,),MATCH(H$1,OFFSET(Sociétés,I12,),0),7))-2),"",ROW(INDEX(OFFSET(Base,I12,),MATCH(H$1,OFFSET(Sociétés,I12,),0),7))-2)
B14: =IF(C14="","",INDEX(OFFSET(Base,C13,),MATCH(B$1,OFFSET(Sociétés,C13,),0),7)) | C14: =IF(ISERROR(ROW(INDEX(OFFSET(Base,C13,),MATCH(B$1,OFFSET(Sociétés,C13,),0),7))-2),"",ROW(INDEX(OFFSET(Base,C13,),MATCH(B$1,OFFSET(Sociétés,C13,),0),7))-2) | D14: =IF(E14="","",INDEX(OFFSET(Base,E13,),MATCH(D$1,OFFSET(Sociétés,E13,),0),7)) | E14: =IF(ISERROR(ROW(INDEX(OFFSET(Base,E13,),MATCH(D$1,OFFSET(Sociétés,E13,),0),7))-2),"",ROW(INDEX(OFFSET(Base,E13,),MATCH(D$1,OFFSET(Sociétés,E13,),0),7))-2) | F14: =IF(G14="","",INDEX(OFFSET(Base,G13,),MATCH(F$1,OFFSET(Sociétés,G13,),0),7)) | G14: =IF(ISERROR(ROW(INDEX(OFFSET(Base,G13,),MATCH(F$1,OFFSET(Sociétés,G13,),0),7))-2),"",ROW(INDEX(OFFSET(Base,G13,),MATCH(F$1,OFFSET(Sociétés,G13,),0),7))-2) | H14: =IF(I14="","",INDEX(OFFSET(Base,I13,),MATCH(H$1,OFFSET(Sociétés,I13,),0),7)) | I14: =IF(ISERROR(ROW(INDEX(OFFSET(Base,I13,),MATCH(H$1,OFFSET(Sociétés,I13,),0),7))-2),"",ROW(INDEX(OFFSET(Base,I13,),MATCH(H$1,OFFSET(Sociétés,I13,),0),7))-2)
B15: =IF(C15="","",INDEX(OFFSET(Base,C14,),MATCH(B$1,OFFSET(Sociétés,C14,),0),7)) | C15: =IF(ISERROR(ROW(INDEX(OFFSET(Base,C14,),MATCH(B$1,OFFSET(Sociétés,C14,),0),7))-2),"",ROW(INDEX(OFFSET(Base,C14,),MATCH(B$1,OFFSET(Sociétés,C14,),0),7))-2) | D15: =IF(E15="","",INDEX(OFFSET(Base,E14,),MATCH(D$1,OFFSET(Sociétés,E14,),0),7)) | E15: =IF(ISERROR(ROW(INDEX(OFFSET(Base,E14,),MATCH(D$1,OFFSET(Sociétés,E14,),0),7))-2),"",ROW(INDEX(OFFSET(Base,E14,),MATCH(D$1,OFFSET(Sociétés,E14,),0),7))-2) | F15: =IF(G15="","",INDEX(OFFSET(Base,G14,),MATCH(F$1,OFFSET(Sociétés,G14,),0),7)) | G15: =IF(ISERROR(ROW(INDEX(OFFSET(Base,G14,),MATCH(F$1,OFFSET(Sociétés,G14,),0),7))-2),"",ROW(INDEX(OFFSET(Base,G14,),MATCH(F$1,OFFSET(Sociétés,G14,),0),7))-2) | H15: =IF(I15="","",INDEX(OFFSET(Base,I14,),MATCH(H$1,OFFSET(Sociétés,I14,),0),7)) | I15: =IF(ISERROR(ROW(INDEX(OFFSET(Base,I14,),MATCH(H$1,OFFSET(Sociétés,I14,),0),7))-2),"",ROW(INDEX(OFFSET(Base,I14,),MATCH(H$1,OFFSET(Sociétés,I14,),0),7))-2)
B18: Pavé 1

Sheet Base
A2: société | B2: adresse | C2: cp | D2: ville | E2: tel | F2: mail | G2: nom
A3: socA | B3: adressebsocA | C3: cpsocA | D3: villesocA | E3: telsocA | F3: mailsocA | G3: socAnom 1
A4: socA | B4: adressebsocA | C4: cpsocA | D4: villesocA | E4: telsocA | F4: mailsocA | G4: socAnom 2
A5: socA | B5: adressebsocA | C5: cpsocA | D5: villesocA | E5: telsocA | F5: mailsocA | G5: socAnom 3
A6: socA | B6: adressebsocA | C6: cpsocA | D6: villesocA | E6: telsocA | F6: mailsocA | G6: socAnom 4
A7: socA | B7: adressebsocA | C7: cpsocA | D7: villesocA | E7: telsocA | F7: mailsocA | G7: socAnom 5
A8: socA | B8: adressebsocA | C8: cpsocA | D8: villesocA | E8: telsocA | F8: mailsocA | G8: socAnom 6
A9: socA | B9: adressebsocA | C9: cpsocA | D9: villesocA | E9: telsocA | F9: mailsocA | G9: socAnom 7
A10: socA | B10: adressebsocA | C10: cpsocA | D10: villesocA | E10: telsocA | F10: mailsocA | G10: socAnom 8
A11: socA | B11: adressebsocA | C11: cpsocA | D11: villesocA | E11: telsocA | F11: mailsocA | G11: socAnom 9
A12: socB | B12: adressebsocB | C12: cpsocB | D12: villesocB | E12: telsocB | F12: mailsocB | G12: socBnom1
A13: socB | B13: adressebsocB | C13: cpsocB | D13: villesocB | E13: telsocB | F13: mailsocB | G13: socBnom2
... A40: socD | B40: adressebsocD | C40: cpsocD | D40: villesocD | E40: telsocD | F40: mailsocD | G40: socDnom11

Sheet Feuil3
B1: bon de commande
B3: société | C3: nom | D3: adresse | E3: cp | F3: ville
B4: socC | C4: socCnom2 | D4: =IF(B4="","",VLOOKUP($B4,Base,COLUMN()-2,0)) -> adressebsocC | E4: =IF(C4="","",VLOOKUP($B4,Base,COLUMN()-2,0)) -> cpsocC | F4: =IF(D4="","",VLOOKUP($B4,Base,COLUMN()-2,0)) -> villesocC
B5: socC | C5: socCnom3 | D5: =IF(B5="","",VLOOKUP($B5,Base,COLUMN()-2,0)) -> adressebsocC | E5: =IF(C5="","",VLOOKUP($B5,Base,COLUMN()-2,0)) -> cpsocC | F5: =IF(D5="","",VLOOKUP($B5,Base,COLUMN()-2,0)) -> villesocC
B6: socD | C6: socDnom6 | D6: =IF(B6="","",VLOOKUP($B6,Base,COLUMN()-2,0)) -> adressebsocD | E6: =IF(C6="","",VLOOKUP($B6,Base,COLUMN()-2,0)) -> cpsocD | F6: =IF(D6="","",VLOOKUP($B6,Base,COLUMN()-2,0)) -> villesocD
D7: =IF(B7="","",VLOOKUP($B7,Base,COLUMN()-2,0)) | E7: =IF(C7="","",VLOOKUP($B7,Base,COLUMN()-2,0)) | F7: =IF(D7="","",VLOOKUP($B7,Base,COLUMN()-2,0))
D8: =IF(B8="","",VLOOKUP($B8,Base,COLUMN()-2,0)) | E8: =IF(C8="","",VLOOKUP($B8,Base,COLUMN()-2,0)) | F8: =IF(D8="","",VLOOKUP($B8,Base,COLUMN()-2,0))
D9: =IF(B9="","",VLOOKUP($B9,Base,COLUMN()-2,0)) | E9: =IF(C9="","",VLOOKUP($B9,Base,COLUMN()-2,0)) | F9: =IF(D9="","",VLOOKUP($B9,Base,COLUMN()-2,0))
D10: =IF(B10="","",VLOOKUP($B10,Base,COLUMN()-2,0)) | E10: =IF(C10="","",VLOOKUP($B10,Base,COLUMN()-2,0)) | F10: =IF(D10="","",VLOOKUP($B10,Base,COLUMN()-2,0))
D11: =IF(B11="","",VLOOKUP($B11,Base,COLUMN()-2,0)) | E11: =IF(C11="","",VLOOKUP($B11,Base,COLUMN()-2,0)) | F11: =IF(D11="","",VLOOKUP($B11,Base,COLUMN()-2,0))
D12: =IF(B12="","",VLOOKUP($B12,Base,COLUMN()-2,0)) | E12: =IF(C12="","",VLOOKUP($B12,Base,COLUMN()-2,0)) | F12: =IF(D12="","",VLOOKUP($B12,Base,COLUMN()-2,0))
D13: =IF(B13="","",VLOOKUP($B13,Base,COLUMN()-2,0)) | E13: =IF(C13="","",VLOOKUP($B13,Base,COLUMN()-2,0)) | F13: =IF(D13="","",VLOOKUP($B13,Base,COLUMN()-2,0))
D14: =IF(B14="","",VLOOKUP($B14,Base,COLUMN()-2,0)) | E14: =IF(C14="","",VLOOKUP($B14,Base,COLUMN()-2,0)) | F14: =IF(D14="","",VLOOKUP($B14,Base,COLUMN()-2,0))
D15: =IF(B15="","",VLOOKUP($B15,Base,COLUMN()-2,0)) | E15: =IF(C15="","",VLOOKUP($B15,Base,COLUMN()-2,0)) | F15: =IF(D15="","",VLOOKUP($B15,Base,COLUMN()-2,0))
D16: =IF(B16="","",VLOOKUP($B16,Base,COLUMN()-2,0)) | E16: =IF(C16="","",VLOOKUP($B16,Base,COLUMN()-2,0)) | F16: =IF(D16="","",VLOOKUP($B16,Base,COLUMN()-2,0))
D17: =IF(B17="","",VLOOKUP($B17,Base,COLUMN()-2,0)) | E17: =IF(C17="","",VLOOKUP($B17,Base,COLUMN()-2,0)) | F17: =IF(D17="","",VLOOKUP($B17,Base,COLUMN()-2,0))
