Workbook
Name Athus: CHARGES!$A$123
Name Bfan: CHARGES!$A$78
Name Biowanze: CHARGES!$A$153
Name Châtelet: CHARGES!$A$63
Name Dalle: CHARGES!$A$3
Name Electrabel: CHARGES!$A$138
Name Empotage: CHARGES!$A$108
Name Ensachage: CHARGES!$A$93
Name Hena: CHARGES!$A$168
Name Kinkempois: CHARGES!$A$48
Name Prayon: CHARGES!$A$183
Name Renory: CHARGES!$A$33
Name Safak: CHARGES!$A$18
Name Silox: CHARGES!$A$198
Name Sites: CHARGES!$A$213

Sheet CA
C1: A | D1: B | E1: C | F1: D | G1: E | H1: F | I1: G | J1: H | K1: I | L1: j | M1: k | N1: L | O1: M | P1: N | Q1: O
C2: 101 | D2: 301 | E2: 302 | F2: 303 | G2: 306 | H2: 308 | I2: 405 | J2: 410 | K2: 411 | L2: 501 | M2: 502 | N2: 503 | O2: 504 | P2: 506 | Q2: 508
A3: 2018 | B3: Janvier | C3: 429093.23 | D3: 63719.62 | E3: 39684.84 | F3: 336374.25 | G3: 122551.29 | H3: 25969.85 | I3: 8917.58 | J3: 263317.12 | K3: 15882.08 | L3: 56381.62 | M3: 47047.74 | N3: 20779.04 | O3: 18074 | P3: 6916 | Q3: 0
B4: Février | C4: 439251.39 | D4: 92840.64 | E4: 36266.07 | F4: 203798.27 | G4: 97312.94 | H4: 25501.3 | I4: 7676.83 | J4: 222307.47 | K4: 0 | L4: 45964.03 | M4: 39779.75 | N4: 10871.79 | O4: 15054.58 | P4: 3724 | Q4: 0
B5: Mars | C5: 478999.32 | D5: 92249.35 | E5: 27212.32 | F5: 262321.01 | G5: 70284.99 | H5: 21495.86 | I5: 8442.48 | J5: 322805.59 | K5: 17531.76 | L5: 51266.59 | M5: 44677.36 | N5: 17494 | O5: 13384.96 | P5: 2660 | Q5: 2152
B6: Avril
B7: Mai
B8: Juin
B9: Juillet
B10: Août
B11: Septembre
B12: Octobre
B13: Novembre
B14: Décembre

Sheet CHARGES
A1: Raccourcis | B1: A | C1: B | D1: C | E1: D | F1: E | G1: F | H1: G | I1: H | J1: I | K1: j | L1: k | M1: L | N1: M | O1: N | P1: O
A3: A | B3: Janvier | C3: Février | D3: Mars | E3: Avril | F3: Mai | G3: Juin | H3: Juillet | I3: Août | J3: Septembre | K3: Octobre | L3: Novembre | M3: Décembre
A4: Variable
A5: Approvisionnements | B5: 0.12 | C5: 0.1
A6: Transport et Sous-traitances | B6: 0.1 | C6: 0.09
A7: Personnel | B7: 0.08 | C7: 0.07
A8: Energies | B8: 0.1 | C8: 0.12
A9: Redevances PAL | B9: 0.04 | C9: 0.03
A10: Autres frais variables | B10: 0.01 | C10: 0.02
A11: Fixe
A12: Immeubles | B12: 10000 | C12: 11000
A13: Matériel | B13: 2500 | C13: 2510
A14: Administration | B14: 4580 | C14: 4581
A15: Autres frais fixes | B15: 3500 | C15: 3510
A18: B | B18: Janvier | C18: Février | D18: Mars | E18: Avril | F18: Mai | G18: Juin | H18: Juillet | I18: Août | J18: Septembre | K18: Octobre | L18: Novembre | M18: Décembre
A19: Variable
A20: Approvisionnements | B20: 0.13 | C20: 0.12
A21: Transport et Sous-traitances | B21: 0.08 | C21: 0.1
A22: Personnel | B22: 0.06 | C22: 0.08
A23: Energies | B23: 0.14 | C23: 0.1
A24: Redevances PAL | B24: 0.07 | C24: 0.04
A25: Autres frais variables | B25: 0.06 | C25: 0.01
A26: Fixe
A27: Immeubles | B27: 10001 | C27: 10000
A28: Matériel | B28: 2501 | C28: 2500
A29: Administration | B29: 4581 | C29: 4580
A30: Autres frais fixes | B30: 3501 | C30: 3500
A33: C | B33: Janvier | C33: Février | D33: Mars | E33: Avril | F33: Mai | G33: Juin | H33: Juillet | I33: Août | J33: Septembre | K33: Octobre | L33: Novembre | M33: Décembre
A34: Variable
A35: Approvisionnements
A36: Transport et Sous-traitances
A37: Personnel
A38: Energies
A39: Redevances PAL
A40: Autres frais variables
A41: Fixe
A42: Immeubles
A43: Matériel
A44: Administration
A45: Autres frais fixes
A48: D | B48: Janvier | C48: Février | D48: Mars | E48: Avril | F48: Mai | G48: Juin | H48: Juillet | I48: Août | J48: Septembre | K48: Octobre | L48: Novembre | M48: Décembre
A49: Variable
A50: Approvisionnements
A51: Transport et Sous-traitances
A52: Personnel
A53: Energies
A54: Redevances PAL
A55: Autres frais variables
A56: Fixe
A57: Immeubles
A58: Matériel
A59: Administration
A60: Autres frais fixes
A63: E | B63: Janvier | C63: Février | D63: Mars | E63: Avril | F63: Mai | G63: Juin | H63: Juillet | I63: Août | J63: Septembre | K63: Octobre | L63: Novembre | M63: Décembre
A64: Variable
A65: Approvisionnements
A66: Transport et Sous-traitances
A67: Personnel
A68: Energies
A69: Redevances PAL
A70: Autres frais variables
A71: Fixe
A72: Immeubles
A73: Matériel
A74: Administration
A75: Autres frais fixes
A78: F | B78: Janvier | C78: Février | D78: Mars | E78: Avril | F78: Mai | G78: Juin | H78: Juillet | I78: Août | J78: Septembre | K78: Octobre | L78: Novembre | M78: Décembre
A79: Variable
A80: Approvisionnements
A81: Transport et Sous-traitances
A82: Personnel
A83: Energies
A84: Redevances PAL
A85: Autres frais variables
A86: Fixe
A87: Immeubles
A88: Matériel
A89: Administration
A90: Autres frais fixes
A93: G | B93: Janvier | C93: Février | D93: Mars | E93: Avril | F93: Mai | G93: Juin | H93: Juillet | I93: Août | J93: Septembre | K93: Octobre | L93: Novembre | M93: Décembre
A94: Variable
A95: Approvisionnements
A96: Transport et Sous-traitances
A97: Personnel
A98: Energies
A99: Redevances PAL
A100: Autres frais variables
A101: Fixe
A102: Immeubles
A103: Matériel
A104: Administration
A105: Autres frais fixes
A108: H | B108: Janvier | C108: Février | D108: Mars | E108: Avril | F108: Mai | G108: Juin | H108: Juillet | I108: Août | J108: Septembre | K108: Octobre | L108: Novembre | M108: Décembre
A109: Variable
A110: Approvisionnements
A111: Transport et Sous-traitances
A112: Personnel
A113: Energies
A114: Redevances PAL
A115: Autres frais variables
...

Sheet Vue
A2: Site recherché | B2: A
B21: Janvier | D21: Février | F21: Mars | H21: Avril | J21: Mai | L21: Juin | N21: Juillet | P21: Août | R21: Septembre | T21: Octobre | V21: Novembre | X21: Décembre
A22: VOLUME D'ACTIVITE | B22: =SUM(B23:B24) -> 429093.23 | D22: =SUM(D23:D24) -> 439251.39 | F22: =SUM(F23:F24) -> 478999.32 | H22: =SUM(H23:H24) -> 0 | J22: =SUM(J23:J24) -> 0 | L22: =SUM(L23:L24) -> 0 | N22: =SUM(N23:N24) -> 0 | P22: =SUM(P23:P24) -> 0 | R22: =SUM(R23:R24) -> 0 | T22: =SUM(T23:T24) -> 0 | V22: =SUM(V23:V24) -> 0 | X22: =SUM(X23:X24) -> 0
A23: Chiffre d'affaires | B23: =INDEX(CA!$C$3:$Q$14,MATCH(Vue!B21,CA!$B$3:$B$14,0),MATCH(Vue!$B$2,CA!$C$1:$Q$1,0)) -> 429093.23 | D23: =INDEX(CA!$C$3:$Q$14,MATCH(Vue!D21,CA!$B$3:$B$14,0),MATCH(Vue!$B$2,CA!$C$1:$Q$1,0)) -> 439251.39 | F23: =INDEX(CA!$C$3:$Q$14,MATCH(Vue!F21,CA!$B$3:$B$14,0),MATCH(Vue!$B$2,CA!$C$1:$Q$1,0)) -> 478999.32 | H23: =INDEX(CA!$C$3:$Q$14,MATCH(Vue!H21,CA!$B$3:$B$14,0),MATCH(Vue!$B$2,CA!$C$1:$Q$1,0)) -> 0 | J23: =INDEX(CA!$C$3:$Q$14,MATCH(Vue!J21,CA!$B$3:$B$14,0),MATCH(Vue!$B$2,CA!$C$1:$Q$1,0)) -> 0 | L23: =INDEX(CA!$C$3:$Q$14,MATCH(Vue!L21,CA!$B$3:$B$14,0),MATCH(Vue!$B$2,CA!$C$1:$Q$1,0)) -> 0 | N23: =INDEX(CA!$C$3:$Q$14,MATCH(Vue!N21,CA!$B$3:$B$14,0),MATCH(Vue!$B$2,CA!$C$1:$Q$1,0)) -> 0 | P23: =INDEX(CA!$C$3:$Q$14,MATCH(Vue!P21,CA!$B$3:$B$14,0),MATCH(Vue!$B$2,CA!$C$1:$Q$1,0)) -> 0 | R23: =INDEX(CA!$C$3:$Q$14,MATCH(Vue!R21,CA!$B$3:$B$14,0),MATCH(Vue!$B$2,CA!$C$1:$Q$1,0)) -> 0 | T23: =INDEX(CA!$C$3:$Q$14,MATCH(Vue!T21,CA!$B$3:$B$14,0),MATCH(Vue!$B$2,CA!$C$1:$Q$1,0)) -> 0 | V23: =INDEX(CA!$C$3:$Q$14,MATCH(Vue!V21,CA!$B$3:$B$14,0),MATCH(Vue!$B$2,CA!$C$1:$Q$1,0)) -> 0 | X23: =INDEX(CA!$C$3:$Q$14,MATCH(Vue!X21,CA!$B$3:$B$14,0),MATCH(Vue!$B$2,CA!$C$1:$Q$1,0)) -> 0
A24: Autres produits
A25: Frais Variables directs | B25: =SUM(B26:B31) -> 0 | D25: =SUM(D26:D31) -> 0 | F25: =SUM(F26:F31) -> 0 | H25: =SUM(H26:H31) -> 0 | J25: =SUM(J26:J31) -> 0 | L25: =SUM(L26:L31) -> 0 | N25: =SUM(N26:N31) -> 0 | P25: =SUM(P26:P31) -> 0 | R25: =SUM(R26:R31) -> 0 | T25: =SUM(T26:T31) -> 0 | V25: =SUM(V26:V31) -> 0 | X25: =SUM(X26:X31) -> 0
A26: Approvisionnements | C26: =VLOOKUP($A26,OFFSET(CHARGES!$A$3:$M$17,(CODE($B$2)-65)*ROWS(CHARGES!$A$3:$M$17),0),COUNTA($B$21:B$21)+1,0) -> 0.12 | E26: =VLOOKUP($A26,OFFSET(CHARGES!$A$3:$M$17,(CODE($B$2)-65)*ROWS(CHARGES!$A$3:$M$17),0),COUNTA($B$21:D$21)+1,0) -> 0.1
A27: Transport et Sous-traitances | C27: =VLOOKUP($A27,OFFSET(CHARGES!$A$3:$M$17,(CODE($B$2)-65)*ROWS(CHARGES!$A$3:$M$17),0),COUNTA($B$21:B$21)+1,0) -> 0.1 | E27: =VLOOKUP($A27,OFFSET(CHARGES!$A$3:$M$17,(CODE($B$2)-65)*ROWS(CHARGES!$A$3:$M$17),0),COUNTA($B$21:D$21)+1,0) -> 0.09
A28: Personnel | C28: =VLOOKUP($A28,OFFSET(CHARGES!$A$3:$M$17,(CODE($B$2)-65)*ROWS(CHARGES!$A$3:$M$17),0),COUNTA($B$21:B$21)+1,0) -> 0.08 | E28: =VLOOKUP($A28,OFFSET(CHARGES!$A$3:$M$17,(CODE($B$2)-65)*ROWS(CHARGES!$A$3:$M$17),0),COUNTA($B$21:D$21)+1,0) -> 0.07
A29: Energies | C29: =VLOOKUP($A29,OFFSET(CHARGES!$A$3:$M$17,(CODE($B$2)-65)*ROWS(CHARGES!$A$3:$M$17),0),COUNTA($B$21:B$21)+1,0) -> 0.1 | E29: =VLOOKUP($A29,OFFSET(CHARGES!$A$3:$M$17,(CODE($B$2)-65)*ROWS(CHARGES!$A$3:$M$17),0),COUNTA($B$21:D$21)+1,0) -> 0.12
A30: Redevances PAL | C30: =VLOOKUP($A30,OFFSET(CHARGES!$A$3:$M$17,(CODE($B$2)-65)*ROWS(CHARGES!$A$3:$M$17),0),COUNTA($B$21:B$21)+1,0) -> 0.04 | E30: =VLOOKUP($A30,OFFSET(CHARGES!$A$3:$M$17,(CODE($B$2)-65)*ROWS(CHARGES!$A$3:$M$17),0),COUNTA($B$21:D$21)+1,0) -> 0.03
A31: Autres frais variables | C31: =VLOOKUP($A31,OFFSET(CHARGES!$A$3:$M$17,(CODE($B$2)-65)*ROWS(CHARGES!$A$3:$M$17),0),COUNTA($B$21:B$21)+1,0) -> 0.01 | E31: =VLOOKUP($A31,OFFSET(CHARGES!$A$3:$M$17,(CODE($B$2)-65)*ROWS(CHARGES!$A$3:$M$17),0),COUNTA($B$21:D$21)+1,0) -> 0.02
A32: MARGE BRUTE | B32: =B22-B25 -> 429093.23 | D32: =D22-D25 -> 439251.39 | F32: =F22-F25 -> 478999.32 | H32: =H22-H25 -> 0 | J32: =J22-J25 -> 0 | L32: =L22-L25 -> 0 | N32: =N22-N25 -> 0 | P32: =P22-P25 -> 0 | R32: =R22-R25 -> 0 | T32: =T22-T25 -> 0 | V32: =V22-V25 -> 0 | X32: =X22-X25 -> 0
A33: Frais Variables directs | B33: =SUM(B34:B37) -> 0 | D33: =SUM(D34:D37) -> 0 | F33: =SUM(F34:F37) -> 0 | H33: =SUM(H34:H37) -> 0 | J33: =SUM(J34:J37) -> 0 | L33: =SUM(L34:L37) -> 0 | N33: =SUM(N34:N37) -> 0 | P33: =SUM(P34:P37) -> 0 | R33: =SUM(R34:R37) -> 0 | T33: =SUM(T34:T37) -> 0 | V33: =SUM(V34:V37) -> 0 | X33: =SUM(X34:X37) -> 0
A34: Immeubles | C34: =VLOOKUP($A34,OFFSET(CHARGES!$A$3:$M$17,(CODE($B$2)-65)*ROWS(CHARGES!$A$3:$M$17),0),COUNTA($B$21:B$21)+1,0) -> 10000 | E34: =VLOOKUP($A34,OFFSET(CHARGES!$A$3:$M$17,(CODE($B$2)-65)*ROWS(CHARGES!$A$3:$M$17),0),COUNTA($B$21:D$21)+1,0) -> 11000
A35: Matériel | C35: =VLOOKUP($A35,OFFSET(CHARGES!$A$3:$M$17,(CODE($B$2)-65)*ROWS(CHARGES!$A$3:$M$17),0),COUNTA($B$21:B$21)+1,0) -> 2500 | E35: =VLOOKUP($A35,OFFSET(CHARGES!$A$3:$M$17,(CODE($B$2)-65)*ROWS(CHARGES!$A$3:$M$17),0),COUNTA($B$21:D$21)+1,0) -> 2510
A36: Administration | C36: =VLOOKUP($A36,OFFSET(CHARGES!$A$3:$M$17,(CODE($B$2)-65)*ROWS(CHARGES!$A$3:$M$17),0),COUNTA($B$21:B$21)+1,0) -> 4580 | E36: =VLOOKUP($A36,OFFSET(CHARGES!$A$3:$M$17,(CODE($B$2)-65)*ROWS(CHARGES!$A$3:$M$17),0),COUNTA($B$21:D$21)+1,0) -> 4581
A37: Autres frais fixes | C37: =VLOOKUP($A37,OFFSET(CHARGES!$A$3:$M$17,(CODE($B$2)-65)*ROWS(CHARGES!$A$3:$M$17),0),COUNTA($B$21:B$21)+1,0) -> 3500 | E37: =VLOOKUP($A37,OFFSET(CHARGES!$A$3:$M$17,(CODE($B$2)-65)*ROWS(CHARGES!$A$3:$M$17),0),COUNTA($B$21:D$21)+1,0) -> 3510
A38: MARGE NETTE | B38: =B32-B33 -> 429093.23 | D38: =D32-D33 -> 439251.39 | F38: =F32-F33 -> 478999.32 | H38: =H32-H33 -> 0 | J38: =J32-J33 -> 0 | L38: =L32-L33 -> 0 | N38: =N32-N33 -> 0 | P38: =P32-P33 -> 0 | R38: =R32-R33 -> 0 | T38: =T32-T33 -> 0 | V38: =V32-V33 -> 0 | X38: =X32-X33 -> 0
A39: Marge nette sans
