Workbook
Name Codes: [1]Config!$A$2:$A$8
Name Date_début: 'RECAP (2)'!$B$2
Name Date_début: Année!$B$2
Name JoursFériés: [1]Config!$L$3:$L$14
Name Position: Config!$A$2:$A$4
Name ref_annee: [1]Config!$F$2

Sheet Config
A1: Codes | B1: Description | C1: Année | D1: 2017
A2: SEM | B2: Astreintes du Lundi au Jeudi
A3: WE | B3: Astreintes du Vendredi au Dimanche
A4: CA | B4: Congés

Sheet Janvier
A1: Date début | B1: 42736
A2: Date fin | B2: =EOMONTH(B1,0) -> 42766 | C2: Astreintes conducteurs du mois de : | Q2: =PROPER(TEXT(B1,("mmmm"))) -> Janvier
A3: Date du jour | B3: =TODAY() -> 42804
A5: n° de semaine en cours | B5: =INT((B3-SUM(MOD(DATE(YEAR(B3-MOD(B3-2,7)+3),1,2),{1E+99;7})*{1;-1})+5)/7) -> 10 | C5: =B1 -> 42736 | D5: =C5+1 -> 42737 | E5: =D5+1 -> 42738 | F5: =E5+1 -> 42739 | G5: =F5+1 -> 42740 | H5: =G5+1 -> 42741 | I5: =H5+1 -> 42742 | J5: =I5+1 -> 42743 | K5: =J5+1 -> 42744 | ... AC5: =AB5+1 -> 42762 | AD5: =IFERROR(IF(AC5+1>B2,"",AC5+1),"") -> 42763 | AE5: =IFERROR(IF(AD5+1>B2,"",AD5+1),"") -> 42764 | AF5: =IFERROR(IF(AE5+1>B2,"",AE5+1),"") -> 42765 | AG5: =IFERROR(IF(AF5+1>B2,"",AF5+1),"") -> 42766
C7: ="S"&INT((C5-SUM(MOD(DATE(YEAR(C5-MOD(C5-2,7)+3),1,2),{1E+99;7})*{1;-1})+5)/7) -> S52 | D7: =IFERROR(IF(D10="lun","S"&INT((D5-SUM(MOD(DATE(YEAR(D5-MOD(D5-2,7)+3),1,2),{1E+99;7})*{1;-1})+5)/7),""),"") -> S1 | E7: =IFERROR(IF(E10="lun","S"&INT((E5-SUM(MOD(DATE(YEAR(E5-MOD(E5-2,7)+3),1,2),{1E+99;7})*{1;-1})+5)/7),""),"") | F7: =IFERROR(IF(F10="lun","S"&INT((F5-SUM(MOD(DATE(YEAR(F5-MOD(F5-2,7)+3),1,2),{1E+99;7})*{1;-1})+5)/7),""),"") | G7: =IFERROR(IF(G10="lun","S"&INT((G5-SUM(MOD(DATE(YEAR(G5-MOD(G5-2,7)+3),1,2),{1E+99;7})*{1;-1})+5)/7),""),"") | H7: =IFERROR(IF(H10="lun","S"&INT((H5-SUM(MOD(DATE(YEAR(H5-MOD(H5-2,7)+3),1,2),{1E+99;7})*{1;-1})+5)/7),""),"") | I7: =IFERROR(IF(I10="lun","S"&INT((I5-SUM(MOD(DATE(YEAR(I5-MOD(I5-2,7)+3),1,2),{1E+99;7})*{1;-1})+5)/7),""),"") | J7: =IFERROR(IF(J10="lun","S"&INT((J5-SUM(MOD(DATE(YEAR(J5-MOD(J5-2,7)+3),1,2),{1E+99;7})*{1;-1})+5)/7),""),"") | K7: =IFERROR(IF(K10="lun","S"&INT((K5-SUM(MOD(DATE(YEAR(K5-MOD(K5-2,7)+3),1,2),{1E+99;7})*{1;-1})+5)/7),""),"") -> S2 | ... AG7: =IFERROR(IF(AG10="lun","S"&INT((AG5-SUM(MOD(DATE(YEAR(AG5-MOD(AG5-2,7)+3),1,2),{1E+99;7})*{1;-1})+5)/7),""),"")
C10: =IFERROR(CHOOSE(WEEKDAY(C5),"DIM","LUN","MAR","MER","JEU","VEN","SAM"),"") -> DIM | D10: =IFERROR(CHOOSE(WEEKDAY(D5),"DIM","LUN","MAR","MER","JEU","VEN","SAM"),"") -> LUN | E10: =IFERROR(CHOOSE(WEEKDAY(E5),"DIM","LUN","MAR","MER","JEU","VEN","SAM"),"") -> MAR | F10: =IFERROR(CHOOSE(WEEKDAY(F5),"DIM","LUN","MAR","MER","JEU","VEN","SAM"),"") -> MER | G10: =IFERROR(CHOOSE(WEEKDAY(G5),"DIM","LUN","MAR","MER","JEU","VEN","SAM"),"") -> JEU | H10: =IFERROR(CHOOSE(WEEKDAY(H5),"DIM","LUN","MAR","MER","JEU","VEN","SAM"),"") -> VEN | I10: =IFERROR(CHOOSE(WEEKDAY(I5),"DIM","LUN","MAR","MER","JEU","VEN","SAM"),"") -> SAM | J10: =IFERROR(CHOOSE(WEEKDAY(J5),"DIM","LUN","MAR","MER","JEU","VEN","SAM"),"") -> DIM | ... AG10: =IFERROR(CHOOSE(WEEKDAY(AG5),"DIM","LUN","MAR","MER","JEU","VEN","SAM"),"") -> MAR
A11: Prénom | C11: =B1 -> 42736 | D11: =C11+1 -> 42737 | E11: =D11+1 -> 42738 | F11: =E11+1 -> 42739 | G11: =F11+1 -> 42740 | H11: =G11+1 -> 42741 | I11: =H11+1 -> 42742 | J11: =I11+1 -> 42743 | K11: =J11+1 -> 42744 | ... AC11: =AB11+1 -> 42762 | AD11: =IFERROR(IF(AC11<EOMONTH(AC11,0),AC11+1,""),"") -> 42763 | AE11: =IFERROR(IF(AD11<EOMONTH(AD11,0),AD11+1,""),"") -> 42764 | AF11: =IFERROR(IF(AE11<EOMONTH(AE11,0),AE11+1,""),"") -> 42765 | AG11: =IFERROR(IF(AF11<EOMONTH(AF11,0),AF11+1,""),"") -> 42766
A12: A | D12: CA | E12: CA | F12: CA | G12: CA | H12: CA | I12: CA | J12: CA | L12: CA | M12: CA | N12: CA | O12: CA | P12: CA | Q12: CA | T12: CA | U12: CA | V12: CA | W12: CA | X12: CA
A13: B
A14: C | D14: SEM | E14: SEM | F14: SEM | G14: SEM
A15: D | AF15: SEM | AG15: SEM
A16: E | R16: SEM | S16: SEM | T16: SEM | U16: SEM
A17: F | K17: SEM | L17: SEM | M17: SEM | N17: SEM
A18: G | AC18: WE | AD18: WE | AE18: WE
A19: H | H19: WE | I19: WE | J19: WE
A20: I
A21: J | C21: WE
A22: K
A23: L | O23: WE | P23: WE | Q23: WE
A24: M
A25: N | Y25: SEM | Z25: SEM | AA25: SEM | AB25: SEM
A26: O
A27: P
A28: Q
A29: R
A30: S | V30: WE | W30: WE | X30: WE

Sheet Février
A1: Date début | B1: =EDATE(DATE(ref_annee,1,1),1) -> 42767
A2: Date fin | B2: =EOMONTH(B1,0) -> 42794 | I2: Planing du mois de : | P2: =PROPER(TEXT(B1,("mmmm"))) -> Février
A3: Date du jour | B3: =TODAY() -> 42804
A5: n° de semaine en cours | B5: =INT((B3-SUM(MOD(DATE(YEAR(B3-MOD(B3-2,7)+3),1,2),{1E+99;7})*{1;-1})+5)/7) -> 10 | C5: =B1 -> 42767 | D5: =C5+1 -> 42768 | E5: =D5+1 -> 42769 | F5: =E5+1 -> 42770 | G5: =F5+1 -> 42771 | H5: =G5+1 -> 42772 | I5: =H5+1 -> 42773 | J5: =I5+1 -> 42774 | K5: =J5+1 -> 42775 | ... AC5: =AB5+1 -> 42793 | AD5: =IFERROR(IF(AC5+1>B2,"",AC5+1),"") -> 42794
C7: ="S"&INT((C5-SUM(MOD(DATE(YEAR(C5-MOD(C5-2,7)+3),1,2),{1E+99;7})*{1;-1})+5)/7) -> S5 | D7: =IFERROR(IF(D10="lun","S"&INT((D5-SUM(MOD(DATE(YEAR(D5-MOD(D5-2,7)+3),1,2),{1E+99;7})*{1;-1})+5)/7),""),"") | E7: =IFERROR(IF(E10="lun","S"&INT((E5-SUM(MOD(DATE(YEAR(E5-MOD(E5-2,7)+3),1,2),{1E+99;7})*{1;-1})+5)/7),""),"") | F7: =IFERROR(IF(F10="lun","S"&INT((F5-SUM(MOD(DATE(YEAR(F5-MOD(F5-2,7)+3),1,2),{1E+99;7})*{1;-1})+5)/7),""),"") | G7: =IFERROR(IF(G10="lun","S"&INT((G5-SUM(MOD(DATE(YEAR(G5-MOD(G5-2,7)+3),1,2),{1E+99;7})*{1;-1})+5)/7),""),"") | H7: =IFERROR(IF(H10="lun","S"&INT((H5-SUM(MOD(DATE(YEAR(H5-MOD(H5-2,7)+3),1,2),{1E+99;7})*{1;-1})+5)/7),""),"") -> S6 | I7: =IFERROR(IF(I10="lun","S"&INT((I5-SUM(MOD(DATE(YEAR(I5-MOD(I5-2,7)+3),1,2),{1E+99;7})*{1;-1})+5)/7),""),"") | J7: =IFERROR(IF(J10="lun","S"&INT((J5-SUM(MOD(DATE(YEAR(J5-MOD(J5-2,7)+3),1,2),{1E+99;7})*{1;-1})+5)/7),""),"") | K7: =IFERROR(IF(K10="lun","S"&INT((K5-SUM(MOD(DATE(YEAR(K5-MOD(K5-2,7)+3),1,2),{1E+99;7})*{1;-1})+5)/7),""),"") | ... AD7: =IFERROR(IF(AD10="lun","S"&INT((AD5-SUM(MOD(DATE(YEAR(AD5-MOD(AD5-2,7)+3),1,2),{1E+99;7})*{1;-1})+5)/7),""),"")
C10: =IFERROR(CHOOSE(WEEKDAY(C5),"DIM","LUN","MAR","MER","JEU","VEN","SAM"),"") -> MER | D10: =IFERROR(CHOOSE(WEEKDAY(D5),"DIM","LUN","MAR","MER","JEU","VEN","SAM"),"") -> JEU | E10: =IFERROR(CHOOSE(WEEKDAY(E5),"DIM","LUN","MAR","MER","JEU","VEN","SAM"),"") -> VEN | F10: =IFERROR(CHOOSE(WEEKDAY(F5),"DIM","LUN","MAR","MER","JEU","VEN","SAM"),"") -> SAM | G10: =IFERROR(CHOOSE(WEEKDAY(G5),"DIM","LUN","MAR","MER","JEU","VEN","SAM"),"") -> DIM | H10: =IFERROR(CHOOSE(WEEKDAY(H5),"DIM","LUN","MAR","MER","JEU","VEN","SAM"),"") -> LUN | I10: =IFERROR(CHOOSE(WEEKDAY(I5),"DIM","LUN","MAR","MER","JEU","VEN","SAM"),"") -> MAR | J10: =IFERROR(CHOOSE(WEEKDAY(J5),"DIM","LUN","MAR","MER","JEU","VEN","SAM"),"") -> MER | ... AD10: =IFERROR(CHOOSE(WEEKDAY(AD5),"DIM","LUN","MAR","MER","JEU","VEN","SAM"),"") -> MAR
A11: Prénom | C11: =B1 -> 42767 | D11: =C11+1 -> 42768 | E11: =D11+1 -> 42769 | F11: =E11+1 -> 42770 | G11: =F11+1 -> 42771 | H11: =G11+1 -> 42772 | I11: =H11+1 -> 42773 | J11: =I11+1 -> 42774 | K11: =J11+1 -> 42775 | ... AC11: =AB11+1 -> 42793 | AD11: =IFERROR(IF(AC11<EOMONTH(AC11,0),AC11+1,""),"") -> 42794
A12: A
A13: B | H13: SEM | I13: SEM | J13: SEM | K13: SEM
A14: C | AC14: SEM | AD14: SEM
A15: D | C15: SEM | D15: SEM
A16: E
A17: F | Z17: WE | AA17: WE | AB17: WE
A18: G
A19: H
A20: I | O20: SEM | P20: SEM | Q20: SEM | R20: SEM
A21: J
A22: K | E22: WE | F22: WE | G22: WE
A23: L | L23: WE | M23: WE | N23: WE
A24: M | V24: SEM | W24: SEM | X24: SEM | Y24: SEM
A25: N
A26: O | S26: WE | T26: WE | U26: WE
A27: P
A28: Q
A29: R
A30: S

Sheet Mars
A1: Date début | B1: =EDATE(DATE(ref_annee,1,1),2) -> 42795
A2: Date fin | B2: =EOMONTH(B1,0) -> 42825 | I2: Planing du mois de : | Q2: =PROPER(TEXT(B1,("mmmm"))) -> Mars
A3: Date du jour | B3: =TODAY() -> 42804
A5: n° de semaine en cours | B5: =INT((B3-SUM(MOD(DATE(YEAR(B3-MOD(B3-2,7)+3),1,2),{1E+99;7})*{1;-1})+5)/7) -> 10 | C5: =B1 -> 42795 | D5: =C5+1 -> 42796 | E5: =D5+1 -> 42797 | F5: =E5+1 -> 42798 | G5: =F5+1 -> 42799 | H5: =G5+1 -> 42800 | I5: =H5+1 -> 42801 | J5: =I5+1 -> 42802 | K5: =J5+1 -> 42803 | ... AC5: =AB5+1 -> 42821 | AD5: =IFERROR(IF(AC5+1>B2,"",AC5+1),"") -> 42822 | AE5: =IFERROR(IF(AD5+1>B2,"",AD5+1),"") -> 42823 | AF5: =IFERROR(IF(AE5+1>B2,"",AE5+1),"") -> 42824 | AG5: =IFERROR(IF(AF5+1>B2,"",AF5+1),"") -> 42825
C7: ="S"&INT((C5-SUM(MOD(DATE(YEAR(C5-MOD(C5-2,7)+3),1,2),{1E+99;7})*{1;-1})+5)/7) -> S9 | D7: =IFERROR(IF(D10="lun","S"&INT((D5-SUM(MOD(DATE(YEAR(D5-MOD(D5-2,7)+3),1,2),{1E+99;7})*{1;-1})+5)/7),""),"") | E7: =IFERROR(IF(E10="lun","S"&INT((E5-SUM(MOD(DATE(YEAR(E5-MOD(E5-2,7)+3),1,2),{1E+99;7})*{1;-1})+5)/7),""),"") | F7: =IFERROR(IF(F10="lun","S"&INT((F5-SUM(MOD(DATE(YEAR(F5-MOD(F5-2,7)+3),1,2),{1E+99;7})*{1;-1})+5)/7),""),"") | G7: =IFERROR(IF(G10="lun","S"&INT((G5-SUM(MOD(DATE(YEAR(G5-MOD(G5-2,7)+3),1,2),{1E+99;7})*{1;-1})+5)/7),""),"") | H7: =IFERROR(IF(H10="lun","S"&INT((H5-SUM(MOD(DATE(YEAR(H5-MOD(H5-2,7)+3),1,2),{1E+99;7})*{1;-1})+5)/7),""),"") -> S10 | I7: =IFERROR(IF(I10="lun","S"&INT((I5-SUM(MOD(DATE(YEAR(I5-MOD(I5-2,7)+3),1,2),{1E+99;7})*{1;-1})+5)/7),""),"") | J7: =IFERROR(IF(J10="lun","S"&INT((J5-SUM(MOD(DATE(YEAR(J5-MOD(J5-2,7)+3),1,2),{1E+99;7})*{1;-1})+5)/7),""),"") | K7: =IFERROR(IF(K10="lun","S"&INT((K5-SUM(MOD(DATE(YEAR(K5-MOD(K5-2,7)+3),1,2),{1E+99;7})*{1;-1})+5)/7),""),"") | ... AG7: =IFERROR(IF(AG10="lun","S"&INT((AG5-SUM(MOD(DATE(YEAR(AG5-MOD(AG5-2,7)+3),1,2),{1E+99;7})*{1;-1})+5)/7),""),"")
C10: =IFERROR(CHOOSE(WEEKDAY(C5),"DIM","LUN","MAR","MER","JEU","VEN","SAM"),"") -> MER | D10: =IFERROR(CHOOSE(WEEKDAY(D5),"DIM","LUN","MAR","MER","JEU","VEN","SAM"),"") -> JEU | E10: =IFERROR(CHOOSE(WEEKDAY(E5),"DIM","LUN","MAR","MER","JEU","VEN","SAM"),"") -> VEN | F10: =IFERROR(CHOOSE(WEEKDAY(F5),"DIM","LUN","MAR","MER","JEU","VEN","SAM"),"") -> SAM | G10: =IFERROR(CHOOSE(WEEKDAY(G5),"DIM","LUN","MAR","MER","JEU","VEN","SAM"),"") -> DIM | H10: =IFERROR(CHOOSE(WEEKDAY(H5),"DIM","LUN","MAR","MER","JEU","VEN","SAM"),"") -> LUN | I10: =IFERROR(CHOOSE(WEEKDAY(I5),"DIM","LUN","MAR","MER","JEU","VEN","SAM"),"") -> MAR | J10: =IFERROR(CHOOSE(WEEKDAY(J5),"DIM","LUN","MAR","MER","JEU","VEN","SAM"),"") -> MER | ... AG10: =IFERROR(CHOOSE(WEEKDAY(AG5),"DIM","LUN","MAR","MER","JEU","VEN","SAM"),"") -> VEN
A11: Prénom | C11: =B1 -> 42795 | D11: =C11+1 -> 42796 | E11: =D11+1 -> 42797 | F11: =E11+1 -> 42798 | G11: =F11+1 -> 42799 | H11: =G11+1 -> 42800 | I11: =H11+1 -> 42801 | J11: =I11+1 -> 42802 | K11: =J11+1 -> 42803 | ... AC11: =AB11+1 -> 42821 | AD11: =IFERROR(IF(AC11<EOMONTH(AC11,0),AC11+1,""),"") -> 42822 | AE11: =IFERROR(IF(AD11<EOMONTH(AD11,0),AD11+1,""),"") -> 42823 | AF11: =IFERROR(IF(AE11<EOMONTH(AE11,0),AE11+1,""),"") -> 42824 | AG11: =IFERROR(IF(AF11<EOMONTH(AF11,0),AF11+1,""),"") -> 42825
A12: A
A13: B
A14: C | C14: SEM | D14: SEM
A15: D | E15: WE | F15: WE | G15: WE
A16: E
A17: F | O17: SEM | P17: SEM | Q17: SEM | R17: SEM
A18: G | H18: SEM | I18: SEM | J18: SEM | K18: SEM
A19: H | V19: SEM | W19: SEM | X19: SEM | Y19: SEM
A20: I | S20: WE | T20: WE | U20: WE
A21: J | Z21: WE | AA21: WE | AB21: WE
A22: K | AC22: SEM | AD22: SEM | AE22: SEM | AF22: SEM
A23: L
A24: M
A25: N | L25: WE | M25: WE | N25: WE
A26: O
A27: P
A28: Q
A29: R
A30: S | AG30: WE

Sheet Avril
A1: Date début | B1: 42826
A2: Date fin | B2: =EOMONTH(B1,0) -> 42855 | I2: Planing du mois de : | Q2: =PROPER(TEXT(B1,("mmmm"))) -> Avril
A3: Date du jour | B3: =TODAY() -> 42804
A5: n° de semaine en cours | B5: =INT((B3-SUM(MOD(DATE(YEAR(B3-MOD(B3-2,7)+3),1,2),{1E+99;7})*{1;-1})+5)/7) -> 10 | C5: =B1 -> 42826 | D5: =C5+1 -> 42827 | E5: =D5+1 -> 42828 | F5: =E5+1 -> 42829 | G5: =F5+1 -> 42830 | H5: =G5+1 -> 42831 | I5: =H5+1 -> 42832 | J5: =I5+1 -> 42833 | K5: =J5+1 -> 42834 | ... AC5: =AB5+1 -> 42852 | AD5: =IFERROR(IF(AC5+1>B2,"",AC5+1),"") -> 42853 | AE5: =IFERROR(IF(AD5+1>B2,"",AD5+1),"") -> 42854 | AF5: =IFERROR(IF(AE5+1>B2,"",AE5+1),"") -> 42855 | AG5: =IFERROR(IF(AF5+1>B2,"",AF5+1),"")
C7: ="S"&INT((C5-SUM(MOD(DATE(YEAR(C5-MOD(C5-2,7)+3),1,2),{1E+99;7})*{1;-1})+5)/7) -> S13 | D7: =IFERROR(IF(D10="lun","S"&INT((D5-SUM(MOD(DATE(YEAR(D5-MOD(D5-2,7)+3),1,2),{1E+99;7})*{1;-1})+5)/7),""),"") | E7: =IFERROR(IF(E10="lun","S"&INT((E5-SUM(MOD(DATE(YEAR(E5-MOD(E5-2,7)+3),1,2),{1E+99;7})*{1;-1})+5)/7),""),"") -> S14 | F7: =IFERROR(IF(F10="lun","S"&INT((F5-SUM(MOD(DATE(YEAR(F5-MOD(F5-2,7)+3),1,2),{1E+99;7})*{1;-1})+5)/7),""),"") | G7: =IFERROR(IF(G10="lun","S"&INT((G5-SUM(MOD(DATE(YEAR(G5-MOD(G5-2,7)+3),1,2),{1E+99;7})*{1;-1})+5)/7),""),"") | H7: =IFERROR(IF(H10="lun","S"&INT((H5-SUM(MOD(DATE(YEAR(H5-MOD(H5-2,7)+3),1,2),{1E+99;7})*{1;-1})+5)/7),""),"") | I7: =IFERROR(IF(I10="lun","S"&INT((I5-SUM(MOD(DATE(YEAR(I5-MOD(I5-2,7)+3),1,2),{1E+99;7})*{1;-1})+5)/7),""),"") | J7: =IFERROR(IF(J10="lun","S"&INT((J5-SUM(MOD(DATE(YEAR(J5-MOD(J5-2,7)+3),1,2),{1E+99;7})*{1;-1})+5)/7),""),"") | K7: =IFERROR(IF(K10="lun","S"&INT((K5-SUM(MOD(DATE(YEAR(K5-MOD(K5-2,7)+3),1,2),{1E+99;7})*{1;-1})+5)/7),""),"") | ... AG7: =IFERROR(IF(AG10="lun","S"&INT((AG5-SUM(MOD(DATE(YEAR(AG5-MOD(AG5-2,7)+3),1,2),{1E+99;7})*{1;-1})+5)/7),""),"")
C10: =IFERROR(CHOOSE(WEEKDAY(C5),"DIM","LUN","MAR","MER","JEU","VEN","SAM"),"") -> SAM | D10: =IFERROR(CHOOSE(WEEKDAY(D5),"DIM","LUN","MAR","MER","JEU","VEN","SAM"),"") -> DIM | E10: =IFERROR(CHOOSE(WEEKDAY(E5),"DIM","LUN","MAR","MER","JEU","VEN","SAM"),"") -> LUN | F10: =IFERROR(CHOOSE(WEEKDAY(F5),"DIM","LUN","MAR","MER","JEU","VEN","SAM"),"") -> MAR | G10: =IFERROR(CHOOSE(WEEKDAY(G5),"DIM","LUN","MAR","MER","JEU","VEN","SAM"),"") -> MER | H10: =IFERROR(CHOOSE(WEEKDAY(H5),"DIM","LUN","MAR","MER","JEU","VEN","SAM"),"") -> JEU | I10: =IFERROR(CHOOSE(WEEKDAY(I5),"DIM","LUN","MAR","MER","JEU","VEN","SAM"),"") -> VEN | J10: =IFERROR(CHOOSE(WEEKDAY(J5),"DIM","LUN","MAR","MER","JEU","VEN","SAM"),"") -> SAM | ... AG10: =IFERROR(CHOOSE(WEEKDAY(AG5),"DIM","LUN","MAR","MER","JEU","VEN","SAM"),"")
A11: Prénom | C11: =B1 -> 42826 | D11: =C11+1 -> 42827 | E11: =D11+1 -> 42828 | F11: =E11+1 -> 42829 | G11: =F11+1 -> 42830 | H11: =G11+1 -> 42831 | I11: =H11+1 -> 42832 | J11: =I11+1 -> 42833 | K11: =J11+1 -> 42834 | ... AC11: =AB11+1 -> 42852 | AD11: =IFERROR(IF(AC11<EOMONTH(AC11,0),AC11+1,""),"") -> 42853 | AE11: =IFERROR(IF(AD11<EOMONTH(AD11,0),AD11+1,""),"") -> 42854 | AF11: =IFERROR(IF(AE11<EOMONTH(AE11,0),AE11+1,""),"") -> 42855 | AG11: =IFERROR(IF(AF11<EOMONTH(AF11,0),AF11+1,""),"")
A12: A | L12: SEM | M12: SEM | N12: SEM | O12: SEM
A13: B
A14: C
A15: D
A16: E
A17: F
A18: G | P18: WE | Q18: WE | R18: WE | U18: CA | V18: CA | W18: CA
A19: H
A20: I
A21: J | T21: CA | U21: CA | V21: CA | W21: CA
A22: K | S22: SEM | T22: SEM | U22: SEM | V22: SEM
A23: L | W23: WE | X23: WE | Y23: WE
A24: M | I24: WE | J24: WE | K24: WE
A25: N
A26: O | E26: SEM | F26: SEM | G26: SEM | H26: SEM
A27: P | Z27: SEM | AA27: SEM | AB27: SEM | AC27: SEM
A28: Q | AD28: WE | AE28: WE | AF28: WE
A29: R
A30: S | C30: WE | D30: WE

Sheet Mai
A1: Date début | B1: 42856
A2: Date fin | B2: =EOMONTH(B1,0) -> 42886 | I2: Planing du mois de : | Q2: =PROPER(TEXT(B1,("mmmm"))) -> Mai
A3: Date du jour | B3: =TODAY() -> 42804
A5: n° de semaine en cours | B5: =INT((B3-SUM(MOD(DATE(YEAR(B3-MOD(B3-2,7)+3),1,2),{1E+99;7})*{1;-1})+5)/7) -> 10 | C5: =B1 -> 42856 | D5: =C5+1 -> 42857 | E5: =D5+1 -> 42858 | F5: =E5+1 -> 42859 | G5: =F5+1 -> 42860 | H5: =G5+1 -> 42861 | I5: =H5+1 -> 42862 | J5: =I5+1 -> 42863 | K5: =J5+1 -> 42864 | ... AC5: =AB5+1 -> 42882 | AD5: =IFERROR(IF(AC5+1>B2,"",AC5+1),"") -> 42883 | AE5: =IFERROR(IF(AD5+1>B2,"",AD5+1),"") -> 42884 | AF5: =IFERROR(IF(AE5+1>B2,"",AE5+1),"") -> 42885 | AG5: =IFERROR(IF(AF5+1>B2,"",AF5+1),"") -> 42886
C7: ="S"&INT((C5-SUM(MOD(DATE(YEAR(C5-MOD(C5-2,7)+3),1,2),{1E+99;7})*{1;-1})+5)/7) -> S18 | D7: =IFERROR(IF(D10="lun","S"&INT((D5-SUM(MOD(DATE(YEAR(D5-MOD(D5-2,7)+3),1,2),{1E+99;7})*{1;-1})+5)/7),""),"") | E7: =IFERROR(IF(E10="lun","S"&INT((E5-SUM(MOD(DATE(YEAR(E5-MOD(E5-2,7)+3),1,2),{1E+99;7})*{1;-1})+5)/7),""),"") | F7: =IFERROR(IF(F10="lun","S"&INT((F5-SUM(MOD(DATE(YEAR(F5-MOD(F5-2,7)+3),1,2),{1E+99;7})*{1;-1})+5)/7),""),"") | G7: =IFERROR(IF(G10="lun","S"&INT((G5-SUM(MOD(DATE(YEAR(G5-MOD(G5-2,7)+3),1,2),{1E+99;7})*{1;-1})+5)/7),""),"") | H7: =IFERROR(IF(H10="lun","S"&INT((H5-SUM(MOD(DATE(YEAR(H5-MOD(H5-2,7)+3),1,2),{1E+99;7})*{1;-1})+5)/7),""),"") | I7: =IFERROR(IF(I10="lun","S"&INT((I5-SUM(MOD(DATE(YEAR(I5-MOD(I5-2,7)+3),1,2),{1E+99;7})*{1;-1})+5)/7),""),"") | J7: =IFERROR(IF(J10="lun","S"&INT((J5-SUM(MOD(DATE(YEAR(J5-MOD(J5-2,7)+3),1,2),{1E+99;7})*{1;-1})+5)/7),""),"") -> S19 | K7: =IFERROR(IF(K10="lun","S"&INT((K5-SUM(MOD(DATE(YEAR(K5-MOD(K5-2,7)+3),1,2),{1E+99;7})*{1;-1})+5)/7),""),"") | ... AG7: =IFERROR(IF(AG10="lun","S"&INT((AG5-SUM(MOD(DATE(YEAR(AG5-MOD(AG5-2,7)+3),1,2),{1E+99;7})*{1;-1})+5)/7),""),"")
C10: =IFERROR(CHOOSE(WEEKDAY(C5),"DIM","LUN","MAR","MER","JEU","VEN","SAM"),"") -> LUN | D10: =IFERROR(CHOOSE(WEEKDAY(D5),"DIM","LUN","MAR","MER","JEU","VEN","SAM"),"") -> MAR | E10: =IFERROR(CHOOSE(WEEKDAY(E5),"DIM","LUN","MAR","MER","JEU","VEN","SAM"),"") -> MER | F10: =IFERROR(CHOOSE(WEEKDAY(F5),"DIM","LUN","MAR","MER","JEU","VEN","SAM"),"") -> JEU | G10: =IFERROR(CHOOSE(WEEKDAY(G5),"DIM","LUN","MAR","MER","JEU","VEN","SAM"),"") -> VEN | H10: =IFERROR(CHOOSE(WEEKDAY(H5),"DIM","LUN","MAR","MER","JEU","VEN","SAM"),"") -> SAM | I10: =IFERROR(CHOOSE(WEEKDAY(I5),"DIM","LUN","MAR","MER","JEU","VEN","SAM"),"") -> DIM | J10: =IFERROR(CHOOSE(WEEKDAY(J5),"DIM","LUN","MAR","MER","JEU","VEN","SAM"),"") -> LUN | ... AG10: =IFERROR(CHOOSE(WEEKDAY(AG5),"DIM","LUN","MAR","MER","JEU","VEN","SAM"),"") -> MER
A11: Prénom | C11: =B1 -> 42856 | D11: =C11+1 -> 42857 | E11: =D11+1 -> 42858 | F11: =E11+1 -> 42859 | G11: =F11+1 -> 42860 | H11: =G11+1 -> 42861 | I11: =H11+1 -> 42862 | J11: =I11+1 -> 42863 | K11: =J11+1 -> 42864 | ... AC11: =AB11+1 -> 42882 | AD11: =IFERROR(IF(AC11<EOMONTH(AC11,0),AC11+1,""),"") -> 42883 | AE11: =IFERROR(IF(AD11<EOMONTH(AD11,0),AD11+1,""),"") -> 42884 | AF11: =IFERROR(IF(AE11<EOMONTH(AE11,0),AE11+1,""),"") -> 42885 | AG11: =IFERROR(IF(AF11<EOMONTH(AF11,0),AF11+1,""),"") -> 42886
A12: A
A13: B
A14: C
A15: D
A16: E
A17: F
A18: G
A19: H
A20: I
A21: J
A22: K
A23: L
... A30: S

Sheet Juin
A1: Date début | B1: 42887
A2: Date fin | B2: =EOMONTH(B1,0) -> 42916 | I2: Planing du mois de : | Q2: =PROPER(TEXT(B1,("mmmm"))) -> Juin
A3: Date du jour | B3: =TODAY() -> 42804
A5: n° de semaine en cours | B5: =INT((B3-SUM(MOD(DATE(YEAR(B3-MOD(B3-2,7)+3),1,2),{1E+99;7})*{1;-1})+5)/7) -> 10 | C5: =B1 -> 42887 | D5: =C5+1 -> 42888 | E5: =D5+1 -> 42889 | F5: =E5+1 -> 42890 | G5: =F5+1 -> 42891 | H5: =G5+1 -> 42892 | I5: =H5+1 -> 42893 | J5: =I5+1 -> 42894 | K5: =J5+1 -> 42895 | ... AC5: =AB5+1 -> 42913 | AD5: =IFERROR(IF(AC5+1>B2,"",AC5+1),"") -> 42914 | AE5: =IFERROR(IF(AD5+1>B2,"",AD5+1),"") -> 42915 | AF5: =IFERROR(IF(AE5+1>B2,"",AE5+1),"") -> 42916 | AG5: =IFERROR(IF(AF5+1>B2,"",AF5+1),"")
C7: ="S"&INT((C5-SUM(MOD(DATE(YEAR(C5-MOD(C5-2,7)+3),1,2),{1E+99;7})*{1;-1})+5)/7) -> S22 | D7: =IFERROR(IF(D10="lun","S"&INT((D5-SUM(MOD(DATE(YEAR(D5-MOD(D5-2,7)+3),1,2),{1E+99;7})*{1;-1})+5)/7),""),"") | E7: =IFERROR(IF(E10="lun","S"&INT((E5-SUM(MOD(DATE(YEAR(E5-MOD(E5-2,7)+3),1,2),{1E+99;7})*{1;-1})+5)/7),""),"") | F7: =IFERROR(IF(F10="lun","S"&INT((F5-SUM(MOD(DATE(YEAR(F5-MOD(F5-2,7)+3),1,2),{1E+99;7})*{1;-1})+5)/7),""),"") | G7: =IFERROR(IF(G10="lun","S"&INT((G5-SUM(MOD(DATE(YEAR(G5-MOD(G5-2,7)+3),1,2),{1E+99;7})*{1;-1})+5)/7),""),"") -> S23 | H7: =IFERROR(IF(H10="lun","S"&INT((H5-SUM(MOD(DATE(YEAR(H5-MOD(H5-2,7)+3),1,2),{1E+99;7})*{1;-1})+5)/7),""),"") | I7: =IFERROR(IF(I10="lun","S"&INT((I5-SUM(MOD(DATE(YEAR(I5-MOD(I5-2,7)+3),1,2),{1E+99;7})*{1;-1})+5)/7),""),"") | J7: =IFERROR(IF(J10="lun","S"&INT((J5-SUM(MOD(DATE(YEAR(J5-MOD(J5-2,7)+3),1,2),{1E+99;7})*{1;-1})+5)/7),""),"") | K7: =IFERROR(IF(K10="lun","S"&INT((K5-SUM(MOD(DATE(YEAR(K5-MOD(K5-2,7)+3),1,2),{1E+99;7})*{1;-1})+5)/7),""),"") | ... AG7: =IFERROR(IF(AG10="lun","S"&INT((AG5-SUM(MOD(DATE(YEAR(AG5-MOD(AG5-2,7)+3),1,2),{1E+99;7})*{1;-1})+5)/7),""),"")
C10: =IFERROR(CHOOSE(WEEKDAY(C5),"DIM","LUN","MAR","MER","JEU","VEN","SAM"),"") -> JEU | D10: =IFERROR(CHOOSE(WEEKDAY(D5),"DIM","LUN","MAR","MER","JEU","VEN","SAM"),"") -> VEN | E10: =IFERROR(CHOOSE(WEEKDAY(E5),"DIM","LUN","MAR","MER","JEU","VEN","SAM"),"") -> SAM | F10: =IFERROR(CHOOSE(WEEKDAY(F5),"DIM","LUN","MAR","MER","JEU","VEN","SAM"),"") -> DIM | G10: =IFERROR(CHOOSE(WEEKDAY(G5),"DIM","LUN","MAR","MER","JEU","VEN","SAM"),"") -> LUN | H10: =IFERROR(CHOOSE(WEEKDAY(H5),"DIM","LUN","MAR","MER","JEU","VEN","SAM"),"") -> MAR | I10: =IFERROR(CHOOSE(WEEKDAY(I5),"DIM","LUN","MAR","MER","JEU","VEN","SAM"),"") -> MER | J10: =IFERROR(CHOOSE(WEEKDAY(J5),"DIM","LUN","MAR","MER","JEU","VEN","SAM"),"") -> JEU | ... AG10: =IFERROR(CHOOSE(WEEKDAY(AG5),"DIM","LUN","MAR","MER","JEU","VEN","SAM"),"")
A11: Prénom | C11: =B1 -> 42887 | D11: =C11+1 -> 42888 | E11: =D11+1 -> 42889 | F11: =E11+1 -> 42890 | G11: =F11+1 -> 42891 | H11: =G11+1 -> 42892 | I11: =H11+1 -> 42893 | J11: =I11+1 -> 42894 | K11: =J11+1 -> 42895 | ... AC11: =AB11+1 -> 42913 | AD11: =IFERROR(IF(AC11<EOMONTH(AC11,0),AC11+1,""),"") -> 42914 | AE11: =IFERROR(IF(AD11<EOMONTH(AD11,0),AD11+1,""),"") -> 42915 | AF11: =IFERROR(IF(AE11<EOMONTH(AE11,0),AE11+1,""),"") -> 42916 | AG11: =IFERROR(IF(AF11<EOMONTH(AF11,0),AF11+1,""),"")
A12: A
A13: B
A14: C
A15: D
A16: E
A17: F
A18: G
A19: H
A20: I
A21: J
A22: K
A23: L
... A30: S

Sheet Juillet
A1: Date début | B1: 42917
A2: Date fin | B2: =EOMONTH(B1,0) -> 42947 | I2: Planing du mois de : | Q2: =PROPER(TEXT(B1,("mmmm"))) -> Juillet
A3: Date du jour | B3: =TODAY() -> 42804
A5: n° de semaine en cours | B5: =INT((B3-SUM(MOD(DATE(YEAR(B3-MOD(B3-2,7)+3),1,2),{1E+99;7})*{1;-1})+5)/7) -> 10 | C5: =B1 -> 42917 | D5: =C5+1 -> 42918 | E5: =D5+1 -> 42919 | F5: =E5+1 -> 42920 | G5: =F5+1 -> 42921 | H5: =G5+1 -> 42922 | I5: =H5+1 -> 42923 | J5: =I5+1 -> 42924 | K5: =J5+1 -> 42925 | ... AC5: =AB5+1 -> 42943 | AD5: =IFERROR(IF(AC5+1>B2,"",AC5+1),"") -> 42944 | AE5: =IFERROR(IF(AD5+1>B2,"",AD5+1),"") -> 42945 | AF5: =IFERROR(IF(AE5+1>B2,"",AE5+1),"") -> 42946 | AG5: =IFERROR(IF(AF5+1>B2,"",AF5+1),"") -> 42947
C7: ="S"&INT((C5-SUM(MOD(DATE(YEAR(C5-MOD(C5-2,7)+3),1,2),{1E+99;7})*{1;-1})+5)/7) -> S26 | D7: =IFERROR(IF(D10="lun","S"&INT((D5-SUM(MOD(DATE(YEAR(D5-MOD(D5-2,7)+3),1,2),{1E+99;7})*{1;-1})+5)/7),""),"") | E7: =IFERROR(IF(E10="lun","S"&INT((E5-SUM(MOD(DATE(YEAR(E5-MOD(E5-2,7)+3),1,2),{1E+99;7})*{1;-1})+5)/7),""),"") -> S27 | F7: =IFERROR(IF(F10="lun","S"&INT((F5-SUM(MOD(DATE(YEAR(F5-MOD(F5-2,7)+3),1,2),{1E+99;7})*{1;-1})+5)/7),""),"") | G7: =IFERROR(IF(G10="lun","S"&INT((G5-SUM(MOD(DATE(YEAR(G5-MOD(G5-2,7)+3),1,2),{1E+99;7})*{1;-1})+5)/7),""),"") | H7: =IFERROR(IF(H10="lun","S"&INT((H5-SUM(MOD(DATE(YEAR(H5-MOD(H5-2,7)+3),1,2),{1E+99;7})*{1;-1})+5)/7),""),"") | I7: =IFERROR(IF(I10="lun","S"&INT((I5-SUM(MOD(DATE(YEAR(I5-MOD(I5-2,7)+3),1,2),{1E+99;7})*{1;-1})+5)/7),""),"") | J7: =IFERROR(IF(J10="lun","S"&INT((J5-SUM(MOD(DATE(YEAR(J5-MOD(J5-2,7)+3),1,2),{1E+99;7})*{1;-1})+5)/7),""),"") | K7: =IFERROR(IF(K10="lun","S"&INT((K5-SUM(MOD(DATE(YEAR(K5-MOD(K5-2,7)+3),1,2),{1E+99;7})*{1;-1})+5)/7),""),"") | ... AG7: =IFERROR(IF(AG10="lun","S"&INT((AG5-SUM(MOD(DATE(YEAR(AG5-MOD(AG5-2,7)+3),1,2),{1E+99;7})*{1;-1})+5)/7),""),"") -> S31
C10: =IFERROR(CHOOSE(WEEKDAY(C5),"DIM","LUN","MAR","MER","JEU","VEN","SAM"),"") -> SAM | D10: =IFERROR(CHOOSE(WEEKDAY(D5),"DIM","LUN","MAR","MER","JEU","VEN","SAM"),"") -> DIM | E10: =IFERROR(CHOOSE(WEEKDAY(E5),"DIM","LUN","MAR","MER","JEU","VEN","SAM"),"") -> LUN | F10: =IFERROR(CHOOSE(WEEKDAY(F5),"DIM","LUN","MAR","MER","JEU","VEN","SAM"),"") -> MAR | G10: =IFERROR(CHOOSE(WEEKDAY(G5),"DIM","LUN","MAR","MER","JEU","VEN","SAM"),"") -> MER | H10: =IFERROR(CHOOSE(WEEKDAY(H5),"DIM","LUN","MAR","MER","JEU","VEN","SAM"),"") -> JEU | I10: =IFERROR(CHOOSE(WEEKDAY(I5),"DIM","LUN","MAR","MER","JEU","VEN","SAM"),"") -> VEN | J10: =IFERROR(CHOOSE(WEEKDAY(J5),"DIM","LUN","MAR","MER","JEU","VEN","SAM"),"") -> SAM | ... AG10: =IFERROR(CHOOSE(WEEKDAY(AG5),"DIM","LUN","MAR","MER","JEU","VEN","SAM"),"") -> LUN
A11: Prénom | C11: =B1 -> 42917 | D11: =C11+1 -> 42918 | E11: =D11+1 -> 42919 | F11: =E11+1 -> 42920 | G11: =F11+1 -> 42921 | H11: =G11+1 -> 42922 | I11: =H11+1 -> 42923 | J11: =I11+1 -> 42924 | K11: =J11+1 -> 42925 | ... AC11: =AB11+1 -> 42943 | AD11: =IFERROR(IF(AC11<EOMONTH(AC11,0),AC11+1,""),"") -> 42944 | AE11: =IFERROR(IF(AD11<EOMONTH(AD11,0),AD11+1,""),"") -> 42945 | AF11: =IFERROR(IF(AE11<EOMONTH(AE11,0),AE11+1,""),"") -> 42946 | AG11: =IFERROR(IF(AF11<EOMONTH(AF11,0),AF11+1,""),"") -> 42947
A12: A
A13: B
A14: C
A15: D
A16: E
A17: F
A18: G
A19: H
A20: I
A21: J
A22: K
A23: L
... A30: S

Sheet Août
A1: Date début | B1: 42948
A2: Date fin | B2: =EOMONTH(B1,0) -> 42978 | I2: Planing du mois de : | Q2: =PROPER(TEXT(B1,("mmmm"))) -> Août
A3: Date du jour | B3: =TODAY() -> 42804
A5: n° de semaine en cours | B5: =INT((B3-SUM(MOD(DATE(YEAR(B3-MOD(B3-2,7)+3),1,2),{1E+99;7})*{1;-1})+5)/7) -> 10 | C5: =B1 -> 42948 | D5: =C5+1 -> 42949 | E5: =D5+1 -> 42950 | F5: =E5+1 -> 42951 | G5: =F5+1 -> 42952 | H5: =G5+1 -> 42953 | I5: =H5+1 -> 42954 | J5: =I5+1 -> 42955 | K5: =J5+1 -> 42956 | ... AC5: =AB5+1 -> 42974 | AD5: =IFERROR(IF(AC5+1>B2,"",AC5+1),"") -> 42975 | AE5: =IFERROR(IF(AD5+1>B2,"",AD5+1),"") -> 42976 | AF5: =IFERROR(IF(AE5+1>B2,"",AE5+1),"") -> 42977 | AG5: =IFERROR(IF(AF5+1>B2,"",AF5+1),"") -> 42978
C7: ="S"&INT((C5-SUM(MOD(DATE(YEAR(C5-MOD(C5-2,7)+3),1,2),{1E+99;7})*{1;-1})+5)/7) -> S31 | D7: =IFERROR(IF(D10="lun","S"&INT((D5-SUM(MOD(DATE(YEAR(D5-MOD(D5-2,7)+3),1,2),{1E+99;7})*{1;-1})+5)/7),""),"") | E7: =IFERROR(IF(E10="lun","S"&INT((E5-SUM(MOD(DATE(YEAR(E5-MOD(E5-2,7)+3),1,2),{1E+99;7})*{1;-1})+5)/7),""),"") | F7: =IFERROR(IF(F10="lun","S"&INT((F5-SUM(MOD(DATE(YEAR(F5-MOD(F5-2,7)+3),1,2),{1E+99;7})*{1;-1})+5)/7),""),"") | G7: =IFERROR(IF(G10="lun","S"&INT((G5-SUM(MOD(DATE(YEAR(G5-MOD(G5-2,7)+3),1,2),{1E+99;7})*{1;-1})+5)/7),""),"") | H7: =IFERROR(IF(H10="lun","S"&INT((H5-SUM(MOD(DATE(YEAR(H5-MOD(H5-2,7)+3),1,2),{1E+99;7})*{1;-1})+5)/7),""),"") | I7: =IFERROR(IF(I10="lun","S"&INT((I5-SUM(MOD(DATE(YEAR(I5-MOD(I5-2,7)+3),1,2),{1E+99;7})*{1;-1})+5)/7),""),"") -> S32 | J7: =IFERROR(IF(J10="lun","S"&INT((J5-SUM(MOD(DATE(YEAR(J5-MOD(J5-2,7)+3),1,2),{1E+99;7})*{1;-1})+5)/7),""),"") | K7: =IFERROR(IF(K10="lun","S"&INT((K5-SUM(MOD(DATE(YEAR(K5-MOD(K5-2,7)+3),1,2),{1E+99;7})*{1;-1})+5)/7),""),"") | ... AG7: =IFERROR(IF(AG10="lun","S"&INT((AG5-SUM(MOD(DATE(YEAR(AG5-MOD(AG5-2,7)+3),1,2),{1E+99;7})*{1;-1})+5)/7),""),"")
C10: =IFERROR(CHOOSE(WEEKDAY(C5),"DIM","LUN","MAR","MER","JEU","VEN","SAM"),"") -> MAR | D10: =IFERROR(CHOOSE(WEEKDAY(D5),"DIM","LUN","MAR","MER","JEU","VEN","SAM"),"") -> MER | E10: =IFERROR(CHOOSE(WEEKDAY(E5),"DIM","LUN","MAR","MER","JEU","VEN","SAM"),"") -> JEU | F10: =IFERROR(CHOOSE(WEEKDAY(F5),"DIM","LUN","MAR","MER","JEU","VEN","SAM"),"") -> VEN | G10: =IFERROR(CHOOSE(WEEKDAY(G5),"DIM","LUN","MAR","MER","JEU","VEN","SAM"),"") -> SAM | H10: =IFERROR(CHOOSE(WEEKDAY(H5),"DIM","LUN","MAR","MER","JEU","VEN","SAM"),"") -> DIM | I10: =IFERROR(CHOOSE(WEEKDAY(I5),"DIM","LUN","MAR","MER","JEU","VEN","SAM"),"") -> LUN | J10: =IFERROR(CHOOSE(WEEKDAY(J5),"DIM","LUN","MAR","MER","JEU","VEN","SAM"),"") -> MAR | ... AG10: =IFERROR(CHOOSE(WEEKDAY(AG5),"DIM","LUN","MAR","MER","JEU","VEN","SAM"),"") -> JEU
A11: Prénom | C11: =B1 -> 42948 | D11: =C11+1 -> 42949 | E11: =D11+1 -> 42950 | F11: =E11+1 -> 42951 | G11: =F11+1 -> 42952 | H11: =G11+1 -> 42953 | I11: =H11+1 -> 42954 | J11: =I11+1 -> 42955 | K11: =J11+1 -> 42956 | ... AC11: =AB11+1 -> 42974 | AD11: =IFERROR(IF(AC11<EOMONTH(AC11,0),AC11+1,""),"") -> 42975 | AE11: =IFERROR(IF(AD11<EOMONTH(AD11,0),AD11+1,""),"") -> 42976 | AF11: =IFERROR(IF(AE11<EOMONTH(AE11,0),AE11+1,""),"") -> 42977 | AG11: =IFERROR(IF(AF11<EOMONTH(AF11,0),AF11+1,""),"") -> 42978
A12: A
A13: B
A14: C
A15: D
A16: E
A17: F
A18: G
A19: H
A20: I
A21: J
A22: K
A23: L
... A30: S

Sheet Septembre
A1: Date début | B1: 42979
A2: Date fin | B2: =EOMONTH(B1,0) -> 43008 | I2: Planing du mois de : | Q2: =PROPER(TEXT(B1,("mmmm"))) -> Septembre
A3: Date du jour | B3: =TODAY() -> 42804
A5: n° de semaine en cours | B5: =INT((B3-SUM(MOD(DATE(YEAR(B3-MOD(B3-2,7)+3),1,2),{1E+99;7})*{1;-1})+5)/7) -> 10 | C5: =B1 -> 42979 | D5: =C5+1 -> 42980 | E5: =D5+1 -> 42981 | F5: =E5+1 -> 42982 | G5: =F5+1 -> 42983 | H5: =G5+1 -> 42984 | I5: =H5+1 -> 42985 | J5: =I5+1 -> 42986 | K5: =J5+1 -> 42987 | ... AC5: =AB5+1 -> 43005 | AD5: =IFERROR(IF(AC5+1>B2,"",AC5+1),"") -> 43006 | AE5: =IFERROR(IF(AD5+1>B2,"",AD5+1),"") -> 43007 | AF5: =IFERROR(IF(AE5+1>B2,"",AE5+1),"") -> 43008 | AG5: =IFERROR(IF(AF5+1>B2,"",AF5+1),"")
C7: ="S"&INT((C5-SUM(MOD(DATE(YEAR(C5-MOD(C5-2,7)+3),1,2),{1E+99;7})*{1;-1})+5)/7) -> S35 | D7: =IFERROR(IF(D10="lun","S"&INT((D5-SUM(MOD(DATE(YEAR(D5-MOD(D5-2,7)+3),1,2),{1E+99;7})*{1;-1})+5)/7),""),"") | E7: =IFERROR(IF(E10="lun","S"&INT((E5-SUM(MOD(DATE(YEAR(E5-MOD(E5-2,7)+3),1,2),{1E+99;7})*{1;-1})+5)/7),""),"") | F7: =IFERROR(IF(F10="lun","S"&INT((F5-SUM(MOD(DATE(YEAR(F5-MOD(F5-2,7)+3),1,2),{1E+99;7})*{1;-1})+5)/7),""),"") -> S36 | G7: =IFERROR(IF(G10="lun","S"&INT((G5-SUM(MOD(DATE(YEAR(G5-MOD(G5-2,7)+3),1,2),{1E+99;7})*{1;-1})+5)/7),""),"") | H7: =IFERROR(IF(H10="lun","S"&INT((H5-SUM(MOD(DATE(YEAR(H5-MOD(H5-2,7)+3),1,2),{1E+99;7})*{1;-1})+5)/7),""),"") | I7: =IFERROR(IF(I10="lun","S"&INT((I5-SUM(MOD(DATE(YEAR(I5-MOD(I5-2,7)+3),1,2),{1E+99;7})*{1;-1})+5)/7),""),"") | J7: =IFERROR(IF(J10="lun","S"&INT((J5-SUM(MOD(DATE(YEAR(J5-MOD(J5-2,7)+3),1,2),{1E+99;7})*{1;-1})+5)/7),""),"") | K7: =IFERROR(IF(K10="lun","S"&INT((K5-SUM(MOD(DATE(YEAR(K5-MOD(K5-2,7)+3),1,2),{1E+99;7})*{1;-1})+5)/7),""),"") | ... AG7: =IFERROR(IF(AG10="lun","S"&INT((AG5-SUM(MOD(DATE(YEAR(AG5-MOD(AG5-2,7)+3),1,2),{1E+99;7})*{1;-1})+5)/7),""),"")
C10: =IFERROR(CHOOSE(WEEKDAY(C5),"DIM","LUN","MAR","MER","JEU","VEN","SAM"),"") -> VEN | D10: =IFERROR(CHOOSE(WEEKDAY(D5),"DIM","LUN","MAR","MER","JEU","VEN","SAM"),"") -> SAM | E10: =IFERROR(CHOOSE(WEEKDAY(E5),"DIM","LUN","MAR","MER","JEU","VEN","SAM"),"") -> DIM | F10: =IFERROR(CHOOSE(WEEKDAY(F5),"DIM","LUN","MAR","MER","JEU","VEN","SAM"),"") -> LUN | G10: =IFERROR(CHOOSE(WEEKDAY(G5),"DIM","LUN","MAR","MER","JEU","VEN","SAM"),"") -> MAR | H10: =IFERROR(CHOOSE(WEEKDAY(H5),"DIM","LUN","MAR","MER","JEU","VEN","SAM"),"") -> MER | I10: =IFERROR(CHOOSE(WEEKDAY(I5),"DIM","LUN","MAR","MER","JEU","VEN","SAM"),"") -> JEU | J10: =IFERROR(CHOOSE(WEEKDAY(J5),"DIM","LUN","MAR","MER","JEU","VEN","SAM"),"") -> VEN | ... AG10: =IFERROR(CHOOSE(WEEKDAY(AG5),"DIM","LUN","MAR","MER","JEU","VEN","SAM"),"")
A11: Prénom | C11: =B1 -> 42979 | D11: =C11+1 -> 42980 | E11: =D11+1 -> 42981 | F11: =E11+1 -> 42982 | G11: =F11+1 -> 42983 | H11: =G11+1 -> 42984 | I11: =H11+1 -> 42985 | J11: =I11+1 -> 42986 | K11: =J11+1 -> 42987 | ... AC11: =AB11+1 -> 43005 | AD11: =IFERROR(IF(AC11<EOMONTH(AC11,0),AC11+1,""),"") -> 43006 | AE11: =IFERROR(IF(AD11<EOMONTH(AD11,0),AD11+1,""),"") -> 43007 | AF11: =IFERROR(IF(AE11<EOMONTH(AE11,0),AE11+1,""),"") -> 43008 | AG11: =IFERROR(IF(AF11<EOMONTH(AF11,0),AF11+1,""),"")
A12: A
A13: B
A14: C
A15: D
A16: E
A17: F
A18: G
A19: H
A20: I
A21: J
A22: K
A23: L
... A30: S

Sheet Octobre
A1: Date début | B1: 43009
A2: Date fin | B2: =EOMONTH(B1,0) -> 43039 | I2: Planing du mois de : | Q2: =PROPER(TEXT(B1,("mmmm"))) -> Octobre
A3: Date du jour | B3: =TODAY() -> 42804
A5: n° de semaine en cours | B5: =INT((B3-SUM(MOD(DATE(YEAR(B3-MOD(B3-2,7)+3),1,2),{1E+99;7})*{1;-1})+5)/7) -> 10 | C5: =B1 -> 43009 | D5: =C5+1 -> 43010 | E5: =D5+1 -> 43011 | F5: =E5+1 -> 43012 | G5: =F5+1 -> 43013 | H5: =G5+1 -> 43014 | I5: =H5+1 -> 43015 | J5: =I5+1 -> 43016 | K5: =J5+1 -> 43017 | ... AC5: =AB5+1 -> 43035 | AD5: =IFERROR(IF(AC5+1>B2,"",AC5+1),"") -> 43036 | AE5: =IFERROR(IF(AD5+1>B2,"",AD5+1),"") -> 43037 | AF5: =IFERROR(IF(AE5+1>B2,"",AE5+1),"") -> 43038 | AG5: =IFERROR(IF(AF5+1>B2,"",AF5+1),"") -> 43039
C7: ="S"&INT((C5-SUM(MOD(DATE(YEAR(C5-MOD(C5-2,7)+3),1,2),{1E+99;7})*{1;-1})+5)/7) -> S39 | D7: =IFERROR(IF(D10="lun","S"&INT((D5-SUM(MOD(DATE(YEAR(D5-MOD(D5-2,7)+3),1,2),{1E+99;7})*{1;-1})+5)/7),""),"") -> S40 | E7: =IFERROR(IF(E10="lun","S"&INT((E5-SUM(MOD(DATE(YEAR(E5-MOD(E5-2,7)+3),1,2),{1E+99;7})*{1;-1})+5)/7),""),"") | F7: =IFERROR(IF(F10="lun","S"&INT((F5-SUM(MOD(DATE(YEAR(F5-MOD(F5-2,7)+3),1,2),{1E+99;7})*{1;-1})+5)/7),""),"") | G7: =IFERROR(IF(G10="lun","S"&INT((G5-SUM(MOD(DATE(YEAR(G5-MOD(G5-2,7)+3),1,2),{1E+99;7})*{1;-1})+5)/7),""),"") | H7: =IFERROR(IF(H10="lun","S"&INT((H5-SUM(MOD(DATE(YEAR(H5-MOD(H5-2,7)+3),1,2),{1E+99;7})*{1;-1})+5)/7),""),"") | I7: =IFERROR(IF(I10="lun","S"&INT((I5-SUM(MOD(DATE(YEAR(I5-MOD(I5-2,7)+3),1,2),{1E+99;7})*{1;-1})+5)/7),""),"") | J7: =IFERROR(IF(J10="lun","S"&INT((J5-SUM(MOD(DATE(YEAR(J5-MOD(J5-2,7)+3),1,2),{1E+99;7})*{1;-1})+5)/7),""),"") | K7: =IFERROR(IF(K10="lun","S"&INT((K5-SUM(MOD(DATE(YEAR(K5-MOD(K5-2,7)+3),1,2),{1E+99;7})*{1;-1})+5)/7),""),"") -> S41 | ... AG7: =IFERROR(IF(AG10="lun","S"&INT((AG5-SUM(MOD(DATE(YEAR(AG5-MOD(AG5-2,7)+3),1,2),{1E+99;7})*{1;-1})+5)/7),""),"")
C10: =IFERROR(CHOOSE(WEEKDAY(C5),"DIM","LUN","MAR","MER","JEU","VEN","SAM"),"") -> DIM | D10: =IFERROR(CHOOSE(WEEKDAY(D5),"DIM","LUN","MAR","MER","JEU","VEN","SAM"),"") -> LUN | E10: =IFERROR(CHOOSE(WEEKDAY(E5),"DIM","LUN","MAR","MER","JEU","VEN","SAM"),"") -> MAR | F10: =IFERROR(CHOOSE(WEEKDAY(F5),"DIM","LUN","MAR","MER","JEU","VEN","SAM"),"") -> MER | G10: =IFERROR(CHOOSE(WEEKDAY(G5),"DIM","LUN","MAR","MER","JEU","VEN","SAM"),"") -> JEU | H10: =IFERROR(CHOOSE(WEEKDAY(H5),"DIM","LUN","MAR","MER","JEU","VEN","SAM"),"") -> VEN | I10: =IFERROR(CHOOSE(WEEKDAY(I5),"DIM","LUN","MAR","MER","JEU","VEN","SAM"),"") -> SAM | J10: =IFERROR(CHOOSE(WEEKDAY(J5),"DIM","LUN","MAR","MER","JEU","VEN","SAM"),"") -> DIM | ... AG10: =IFERROR(CHOOSE(WEEKDAY(AG5),"DIM","LUN","MAR","MER","JEU","VEN","SAM"),"") -> MAR
A11: Prénom | C11: =B1 -> 43009 | D11: =C11+1 -> 43010 | E11: =D11+1 -> 43011 | F11: =E11+1 -> 43012 | G11: =F11+1 -> 43013 | H11: =G11+1 -> 43014 | I11: =H11+1 -> 43015 | J11: =I11+1 -> 43016 | K11: =J11+1 -> 43017 | ... AC11: =AB11+1 -> 43035 | AD11: =IFERROR(IF(AC11<EOMONTH(AC11,0),AC11+1,""),"") -> 43036 | AE11: =IFERROR(IF(AD11<EOMONTH(AD11,0),AD11+1,""),"") -> 43037 | AF11: =IFERROR(IF(AE11<EOMONTH(AE11,0),AE11+1,""),"") -> 43038 | AG11: =IFERROR(IF(AF11<EOMONTH(AF11,0),AF11+1,""),"") -> 43039
A12: A
A13: B
A14: C
A15: D
A16: E
A17: F
A18: G
A19: H
A20: I
A21: J
A22: K
A23: L
... A30: S

Sheet Novembre
A1: Date début | B1: 43040
A2: Date fin | B2: =EOMONTH(B1,0) -> 43069 | I2: Planing du mois de : | Q2: =PROPER(TEXT(B1,("mmmm"))) -> Novembre
A3: Date du jour | B3: =TODAY() -> 42804
A5: n° de semaine en cours | B5: =INT((B3-SUM(MOD(DATE(YEAR(B3-MOD(B3-2,7)+3),1,2),{1E+99;7})*{1;-1})+5)/7) -> 10 | C5: =B1 -> 43040 | D5: =C5+1 -> 43041 | E5: =D5+1 -> 43042 | F5: =E5+1 -> 43043 | G5: =F5+1 -> 43044 | H5: =G5+1 -> 43045 | I5: =H5+1 -> 43046 | J5: =I5+1 -> 43047 | K5: =J5+1 -> 43048 | ... AC5: =AB5+1 -> 43066 | AD5: =IFERROR(IF(AC5+1>B2,"",AC5+1),"") -> 43067 | AE5: =IFERROR(IF(AD5+1>B2,"",AD5+1),"") -> 43068 | AF5: =IFERROR(IF(AE5+1>B2,"",AE5+1),"") -> 43069 | AG5: =IFERROR(IF(AF5+1>B2,"",AF5+1),"")
C7: ="S"&INT((C5-SUM(MOD(DATE(YEAR(C5-MOD(C5-2,7)+3),1,2),{1E+99;7})*{1;-1})+5)/7) -> S44 | D7: =IFERROR(IF(D10="lun","S"&INT((D5-SUM(MOD(DATE(YEAR(D5-MOD(D5-2,7)+3),1,2),{1E+99;7})*{1;-1})+5)/7),""),"") | E7: =IFERROR(IF(E10="lun","S"&INT((E5-SUM(MOD(DATE(YEAR(E5-MOD(E5-2,7)+3),1,2),{1E+99;7})*{1;-1})+5)/7),""),"") | F7: =IFERROR(IF(F10="lun","S"&INT((F5-SUM(MOD(DATE(YEAR(F5-MOD(F5-2,7)+3),1,2),{1E+99;7})*{1;-1})+5)/7),""),"") | G7: =IFERROR(IF(G10="lun","S"&INT((G5-SUM(MOD(DATE(YEAR(G5-MOD(G5-2,7)+3),1,2),{1E+99;7})*{1;-1})+5)/7),""),"") | H7: =IFERROR(IF(H10="lun","S"&INT((H5-SUM(MOD(DATE(YEAR(H5-MOD(H5-2,7)+3),1,2),{1E+99;7})*{1;-1})+5)/7),""),"") -> S45 | I7: =IFERROR(IF(I10="lun","S"&INT((I5-SUM(MOD(DATE(YEAR(I5-MOD(I5-2,7)+3),1,2),{1E+99;7})*{1;-1})+5)/7),""),"") | J7: =IFERROR(IF(J10="lun","S"&INT((J5-SUM(MOD(DATE(YEAR(J5-MOD(J5-2,7)+3),1,2),{1E+99;7})*{1;-1})+5)/7),""),"") | K7: =IFERROR(IF(K10="lun","S"&INT((K5-SUM(MOD(DATE(YEAR(K5-MOD(K5-2,7)+3),1,2),{1E+99;7})*{1;-1})+5)/7),""),"") | ... AG7: =IFERROR(IF(AG10="lun","S"&INT((AG5-SUM(MOD(DATE(YEAR(AG5-MOD(AG5-2,7)+3),1,2),{1E+99;7})*{1;-1})+5)/7),""),"")
C10: =IFERROR(CHOOSE(WEEKDAY(C5),"DIM","LUN","MAR","MER","JEU","VEN","SAM"),"") -> MER | D10: =IFERROR(CHOOSE(WEEKDAY(D5),"DIM","LUN","MAR","MER","JEU","VEN","SAM"),"") -> JEU | E10: =IFERROR(CHOOSE(WEEKDAY(E5),"DIM","LUN","MAR","MER","JEU","VEN","SAM"),"") -> VEN | F10: =IFERROR(CHOOSE(WEEKDAY(F5),"DIM","LUN","MAR","MER","JEU","VEN","SAM"),"") -> SAM | G10: =IFERROR(CHOOSE(WEEKDAY(G5),"DIM","LUN","MAR","MER","JEU","VEN","SAM"),"") -> DIM | H10: =IFERROR(CHOOSE(WEEKDAY(H5),"DIM","LUN","MAR","MER","JEU","VEN","SAM"),"") -> LUN | I10: =IFERROR(CHOOSE(WEEKDAY(I5),"DIM","LUN","MAR","MER","JEU","VEN","SAM"),"") -> MAR | J10: =IFERROR(CHOOSE(WEEKDAY(J5),"DIM","LUN","MAR","MER","JEU","VEN","SAM"),"") -> MER | ... AG10: =IFERROR(CHOOSE(WEEKDAY(AG5),"DIM","LUN","MAR","MER","JEU","VEN","SAM"),"")
A11: Prénom | C11: =B1 -> 43040 | D11: =C11+1 -> 43041 | E11: =D11+1 -> 43042 | F11: =E11+1 -> 43043 | G11: =F11+1 -> 43044 | H11: =G11+1 -> 43045 | I11: =H11+1 -> 43046 | J11: =I11+1 -> 43047 | K11: =J11+1 -> 43048 | ... AC11: =AB11+1 -> 43066 | AD11: =IFERROR(IF(AC11<EOMONTH(AC11,0),AC11+1,""),"") -> 43067 | AE11: =IFERROR(IF(AD11<EOMONTH(AD11,0),AD11+1,""),"") -> 43068 | AF11: =IFERROR(IF(AE11<EOMONTH(AE11,0),AE11+1,""),"") -> 43069 | AG11: =IFERROR(IF(AF11<EOMONTH(AF11,0),AF11+1,""),"")
A12: A
A13: B
A14: C
A15: D
A16: E
A17: F
A18: G
A19: H
A20: I
A21: J
A22: K
A23: L
... A30: S

Sheet Décembre
A1: Date début | B1: 43070
A2: Date fin | B2: =EOMONTH(B1,0) -> 43100 | I2: Planing du mois de : | Q2: =PROPER(TEXT(B1,("mmmm"))) -> Décembre
A3: Date du jour | B3: =TODAY() -> 42804
A5: n° de semaine en cours | B5: =INT((B3-SUM(MOD(DATE(YEAR(B3-MOD(B3-2,7)+3),1,2),{1E+99;7})*{1;-1})+5)/7) -> 10 | C5: =B1 -> 43070 | D5: =C5+1 -> 43071 | E5: =D5+1 -> 43072 | F5: =E5+1 -> 43073 | G5: =F5+1 -> 43074 | H5: =G5+1 -> 43075 | I5: =H5+1 -> 43076 | J5: =I5+1 -> 43077 | K5: =J5+1 -> 43078 | ... AC5: =AB5+1 -> 43096 | AD5: =IFERROR(IF(AC5+1>B2,"",AC5+1),"") -> 43097 | AE5: =IFERROR(IF(AD5+1>B2,"",AD5+1),"") -> 43098 | AF5: =IFERROR(IF(AE5+1>B2,"",AE5+1),"") -> 43099 | AG5: =IFERROR(IF(AF5+1>B2,"",AF5+1),"") -> 43100
C7: ="S"&INT((C5-SUM(MOD(DATE(YEAR(C5-MOD(C5-2,7)+3),1,2),{1E+99;7})*{1;-1})+5)/7) -> S48 | D7: =IFERROR(IF(D10="lun","S"&INT((D5-SUM(MOD(DATE(YEAR(D5-MOD(D5-2,7)+3),1,2),{1E+99;7})*{1;-1})+5)/7),""),"") | E7: =IFERROR(IF(E10="lun","S"&INT((E5-SUM(MOD(DATE(YEAR(E5-MOD(E5-2,7)+3),1,2),{1E+99;7})*{1;-1})+5)/7),""),"") | F7: =IFERROR(IF(F10="lun","S"&INT((F5-SUM(MOD(DATE(YEAR(F5-MOD(F5-2,7)+3),1,2),{1E+99;7})*{1;-1})+5)/7),""),"") -> S49 | G7: =IFERROR(IF(G10="lun","S"&INT((G5-SUM(MOD(DATE(YEAR(G5-MOD(G5-2,7)+3),1,2),{1E+99;7})*{1;-1})+5)/7),""),"") | H7: =IFERROR(IF(H10="lun","S"&INT((H5-SUM(MOD(DATE(YEAR(H5-MOD(H5-2,7)+3),1,2),{1E+99;7})*{1;-1})+5)/7),""),"") | I7: =IFERROR(IF(I10="lun","S"&INT((I5-SUM(MOD(DATE(YEAR(I5-MOD(I5-2,7)+3),1,2),{1E+99;7})*{1;-1})+5)/7),""),"") | J7: =IFERROR(IF(J10="lun","S"&INT((J5-SUM(MOD(DATE(YEAR(J5-MOD(J5-2,7)+3),1,2),{1E+99;7})*{1;-1})+5)/7),""),"") | K7: =IFERROR(IF(K10="lun","S"&INT((K5-SUM(MOD(DATE(YEAR(K5-MOD(K5-2,7)+3),1,2),{1E+99;7})*{1;-1})+5)/7),""),"") | ... AG7: =IFERROR(IF(AG10="lun","S"&INT((AG5-SUM(MOD(DATE(YEAR(AG5-MOD(AG5-2,7)+3),1,2),{1E+99;7})*{1;-1})+5)/7),""),"")
C10: =IFERROR(CHOOSE(WEEKDAY(C5),"DIM","LUN","MAR","MER","JEU","VEN","SAM"),"") -> VEN | D10: =IFERROR(CHOOSE(WEEKDAY(D5),"DIM","LUN","MAR","MER","JEU","VEN","SAM"),"") -> SAM | E10: =IFERROR(CHOOSE(WEEKDAY(E5),"DIM","LUN","MAR","MER","JEU","VEN","SAM"),"") -> DIM | F10: =IFERROR(CHOOSE(WEEKDAY(F5),"DIM","LUN","MAR","MER","JEU","VEN","SAM"),"") -> LUN | G10: =IFERROR(CHOOSE(WEEKDAY(G5),"DIM","LUN","MAR","MER","JEU","VEN","SAM"),"") -> MAR | H10: =IFERROR(CHOOSE(WEEKDAY(H5),"DIM","LUN","MAR","MER","JEU","VEN","SAM"),"") -> MER | I10: =IFERROR(CHOOSE(WEEKDAY(I5),"DIM","LUN","MAR","MER","JEU","VEN","SAM"),"") -> JEU | J10: =IFERROR(CHOOSE(WEEKDAY(J5),"DIM","LUN","MAR","MER","JEU","VEN","SAM"),"") -> VEN | ... AG10: =IFERROR(CHOOSE(WEEKDAY(AG5),"DIM","LUN","MAR","MER","JEU","VEN","SAM"),"") -> DIM
A11: Prénom | C11: =B1 -> 43070 | D11: =C11+1 -> 43071 | E11: =D11+1 -> 43072 | F11: =E11+1 -> 43073 | G11: =F11+1 -> 43074 | H11: =G11+1 -> 43075 | I11: =H11+1 -> 43076 | J11: =I11+1 -> 43077 | K11: =J11+1 -> 43078 | ... AC11: =AB11+1 -> 43096 | AD11: =IFERROR(IF(AC11<EOMONTH(AC11,0),AC11+1,""),"") -> 43097 | AE11: =IFERROR(IF(AD11<EOMONTH(AD11,0),AD11+1,""),"") -> 43098 | AF11: =IFERROR(IF(AE11<EOMONTH(AE11,0),AE11+1,""),"") -> 43099 | AG11: =IFERROR(IF(AF11<EOMONTH(AF11,0),AF11+1,""),"") -> 43100
A12: A
A13: B
A14: C
A15: D
A16: E
A17: F
A18: G
A19: H
A20: I
A21: J
A22: K
A23: L
... A30: S

Sheet Année
A1: Gestion des astreintes
A2: Date début : | B2: 42736
A3: Date fin : | B3: =Date_début+364 -> 43100
A4: Date du jour : | B4: =TODAY() -> 42804
B6: =Date_début -> 42736 | C6: =B6+1 -> 42737 | D6: =C6+1 -> 42738 | E6: =D6+1 -> 42739 | F6: =E6+1 -> 42740 | G6: =F6+1 -> 42741 | H6: =G6+1 -> 42742 | I6: =H6+1 -> 42743 | J6: =I6+1 -> 42744 | ... NB6: =NA6+1 -> 43100
B8: ="S"&INT((B6-SUM(MOD(DATE(YEAR(B6-MOD(B6-2,7)+3),1,2),{1E+99;7})*{1;-1})+5)/7) -> S52 | C8: =IFERROR(IF(C9="lu","S"&INT((C6-SUM(MOD(DATE(YEAR(C6-MOD(C6-2,7)+3),1,2),{1E+99;7})*{1;-1})+5)/7),""),"") -> S1 | D8: =IFERROR(IF(D9="lu","S"&INT((D6-SUM(MOD(DATE(YEAR(D6-MOD(D6-2,7)+3),1,2),{1E+99;7})*{1;-1})+5)/7),""),"") | E8: =IFERROR(IF(E9="lu","S"&INT((E6-SUM(MOD(DATE(YEAR(E6-MOD(E6-2,7)+3),1,2),{1E+99;7})*{1;-1})+5)/7),""),"") | F8: =IFERROR(IF(F9="lu","S"&INT((F6-SUM(MOD(DATE(YEAR(F6-MOD(F6-2,7)+3),1,2),{1E+99;7})*{1;-1})+5)/7),""),"") | G8: =IFERROR(IF(G9="lu","S"&INT((G6-SUM(MOD(DATE(YEAR(G6-MOD(G6-2,7)+3),1,2),{1E+99;7})*{1;-1})+5)/7),""),"") | H8: =IFERROR(IF(H9="lu","S"&INT((H6-SUM(MOD(DATE(YEAR(H6-MOD(H6-2,7)+3),1,2),{1E+99;7})*{1;-1})+5)/7),""),"") | I8: =IFERROR(IF(I9="lu","S"&INT((I6-SUM(MOD(DATE(YEAR(I6-MOD(I6-2,7)+3),1,2),{1E+99;7})*{1;-1})+5)/7),""),"") | J8: =IFERROR(IF(J9="lu","S"&INT((J6-SUM(MOD(DATE(YEAR(J6-MOD(J6-2,7)+3),1,2),{1E+99;7})*{1;-1})+5)/7),""),"") -> S2 | ... NB8: =IFERROR(IF(NB9="lu","S"&INT((NB6-SUM(MOD(DATE(YEAR(NB6-MOD(NB6-2,7)+3),1,2),{1E+99;7})*{1;-1})+5)/7),""),"")
B9: =IFERROR(CHOOSE(WEEKDAY(B6),"DI","LU","MA","ME","JE","VE","SA"),"") -> DI | C9: =IFERROR(CHOOSE(WEEKDAY(C6),"DI","LU","MA","ME","JE","VE","SA"),"") -> LU | D9: =IFERROR(CHOOSE(WEEKDAY(D6),"DI","LU","MA","ME","JE","VE","SA"),"") -> MA | E9: =IFERROR(CHOOSE(WEEKDAY(E6),"DI","LU","MA","ME","JE","VE","SA"),"") -> ME | F9: =IFERROR(CHOOSE(WEEKDAY(F6),"DI","LU","MA","ME","JE","VE","SA"),"") -> JE | G9: =IFERROR(CHOOSE(WEEKDAY(G6),"DI","LU","MA","ME","JE","VE","SA"),"") -> VE | H9: =IFERROR(CHOOSE(WEEKDAY(H6),"DI","LU","MA","ME","JE","VE","SA"),"") -> SA | I9: =IFERROR(CHOOSE(WEEKDAY(I6),"DI","LU","MA","ME","JE","VE","SA"),"") -> DI | ... NB9: =IFERROR(CHOOSE(WEEKDAY(NB6),"DI","LU","MA","ME","JE","VE","SA"),"") -> DI
A10: Prénom | B10: =DAY(B6) -> 1 | C10: =DAY(C6) -> 2 | D10: =DAY(D6) -> 3 | E10: =DAY(E6) -> 4 | F10: =DAY(F6) -> 5 | G10: =DAY(G6) -> 6 | H10: =DAY(H6) -> 7 | I10: =DAY(I6) -> 8 | ... NB10: =DAY(NB6) -> 31
A11: A | C11: =IFERROR(INDIRECT(ADDRESS(ROWS($1:12),COLUMNS($A:D),,,TEXT(C$6,"mmmm"))),"") -> CA | D11: =IFERROR(INDIRECT(ADDRESS(ROWS($1:12),COLUMNS($A:E),,,TEXT(D$6,"mmmm"))),"") -> CA | E11: =IFERROR(INDIRECT(ADDRESS(ROWS($1:12),COLUMNS($A:F),,,TEXT(E$6,"mmmm"))),"") -> CA | F11: =IFERROR(INDIRECT(ADDRESS(ROWS($1:12),COLUMNS($A:G),,,TEXT(F$6,"mmmm"))),"") -> CA | G11: =IFERROR(INDIRECT(ADDRESS(ROWS($1:12),COLUMNS($A:H),,,TEXT(G$6,"mmmm"))),"") -> CA | H11: =IFERROR(INDIRECT(ADDRESS(ROWS($1:12),COLUMNS($A:I),,,TEXT(H$6,"mmmm"))),"") -> CA | I11: =IFERROR(INDIRECT(ADDRESS(ROWS($1:12),COLUMNS($A:J),,,TEXT(I$6,"mmmm"))),"") -> CA | J11: =IFERROR(INDIRECT(ADDRESS(ROWS($1:12),COLUMNS($A:K),,,TEXT(J$6,"mmmm"))),"") -> 0 | K11: =IFERROR(INDIRECT(ADDRESS(ROWS($1:12),COLUMNS($A:L),,,TEXT(K$6,"mmmm"))),"") -> CA | L11: =IFERROR(INDIRECT(ADDRESS(ROWS($1:12),COLUMNS($A:M),,,TEXT(L$6,"mmmm"))),"") -> CA | M11: =IFERROR(INDIRECT(ADDRESS(ROWS($1:12),COLUMNS($A:N),,,TEXT(M$6,"mmmm"))),"") -> CA | N11: =IFERROR(INDIRECT(ADDRESS(ROWS($1:12),COLUMNS($A:O),,,TEXT(N$6,"mmmm"))),"") -> CA | O11: =IFERROR(INDIRECT(ADDRESS(ROWS($1:12),COLUMNS($A:P),,,TEXT(O$6,"mmmm"))),"") -> CA | P11: =IFERROR(INDIRECT(ADDRESS(ROWS($1:12),COLUMNS($A:Q),,,TEXT(P$6,"mmmm"))),"") -> CA | Q11: =IFERROR(INDIRECT(ADDRESS(ROWS($1:12),COLUMNS($A:R),,,TEXT(Q$6,"mmmm"))),"") -> 0 | R11: =IFERROR(INDIRECT(ADDRESS(ROWS($1:12),COLUMNS($A:S),,,TEXT(R$6,"mmmm"))),"") -> 0 | S11: =IFERROR(INDIRECT(ADDRESS(ROWS($1:12),COLUMNS($A:T),,,TEXT(S$6,"mmmm"))),"") -> CA | T11: =IFERROR(INDIRECT(ADDRESS(ROWS($1:12),COLUMNS($A:U),,,TEXT(T$6,"mmmm"))),"") -> CA | U11: =IFERROR(INDIRECT(ADDRESS(ROWS($1:12),COLUMNS($A:V),,,TEXT(U$6,"mmmm"))),"") -> CA | V11: =IFERROR(INDIRECT(ADDRESS(ROWS($1:12),COLUMNS($A:W),,,TEXT(V$6,"mmmm"))),"") -> CA | W11: =IFERROR(INDIRECT(ADDRESS(ROWS($1:12),COLUMNS($A:X),,,TEXT(W$6,"mmmm"))),"") -> CA | X11: =IFERROR(INDIRECT(ADDRESS(ROWS($1:12),COLUMNS($A:Y),,,TEXT(X$6,"mmmm"))),"") -> 0 | Y11: =IFERROR(INDIRECT(ADDRESS(ROWS($1:12),COLUMNS($A:Z),,,TEXT(Y$6,"mmmm"))),"") -> 0 | Z11: =IFERROR(INDIRECT(ADDRESS(ROWS($1:12),COLUMNS($A:AA),,,TEXT(Z$6,"mmmm"))),"") -> 0 | AA11: =IFERROR(INDIRECT(ADDRESS(ROWS($1:12),COLUMNS($A:AB),,,TEXT(AA$6,"mmmm"))),"") -> 0 | AB11: =IFERROR(INDIRECT(ADDRESS(ROWS($1:12),COLUMNS($A:AC),,,TEXT(AB$6,"mmmm"))),"") -> 0 | AC11: =IFERROR(INDIRECT(ADDRESS(ROWS($1:12),COLUMNS($A:AD),,,TEXT(AC$6,"mmmm"))),"") -> 0 | AD11: =IFERROR(INDIRECT(ADDRESS(ROWS($1:12),COLUMNS($A:AE),,,TEXT(AD$6,"mmmm"))),"") -> 0 | AE11: =IFERROR(INDIRECT(ADDRESS(ROWS($1:12),COLUMNS($A:AF),,,TEXT(AE$6,"mmmm"))),"") -> 0 | AF11: =IFERROR(INDIRECT(ADDRESS(ROWS($1:12),COLUMNS($A:AG),,,TEXT(AF$6,"mmmm"))),"") -> 0 | AG11: =IFERROR(INDIRECT(ADDRESS(ROWS($1:12),COLUMNS(Février!$A:C),,,TEXT(AG$6,"mmmm"))),"") -> 0 | AH11: =IFERROR(INDIRECT(ADDRESS(ROWS($1:12),COLUMNS(Février!$A:D),,,TEXT(AH$6,"mmmm"))),"") -> 0 | AI11: =IFERROR(INDIRECT(ADDRESS(ROWS($1:12),COLUMNS(Février!$A:E),,,TEXT(AI$6,"mmmm"))),"") -> 0 | AJ11: =IFERROR(INDIRECT(ADDRESS(ROWS($1:12),COLUMNS(Février!$A:F),,,TEXT(AJ$6,"mmmm"))),"") -> 0 | AK11: =IFERROR(INDIRECT(ADDRESS(ROWS($1:12),COLUMNS(Février!$A:G),,,TEXT(AK$6,"mmmm"))),"") -> 0 | AL11: =IFERROR(INDIRECT(ADDRESS(ROWS($1:12),COLUMNS(Février!$A:H),,,TEXT(AL$6,"mmmm"))),"") -> 0 | AM11: =IFERROR(INDIRECT(ADDRESS(ROWS($1:12),COLUMNS(Février!$A:I),,,TEXT(AM$6,"mmmm"))),"") -> 0 | AN11: =IFERROR(INDIRECT(ADDRESS(ROWS($1:12),COLUMNS(Février!$A:J),,,TEXT(AN$6,"mmmm"))),"") -> 0 | AO11: =IFERROR(INDIRECT(ADDRESS(ROWS($1:12),COLUMNS(Février!$A:K),,,TEXT(AO$6,"mmmm"))),"") -> 0 | AP11: =IFERROR(INDIRECT(ADDRESS(ROWS($1:12),COLUMNS(Février!$A:L),,,TEXT(AP$6,"mmmm"))),"") -> 0 | AQ11: =IFERROR(INDIRECT(ADDRESS(ROWS($1:12),COLUMNS(Février!$A:M),,,TEXT(AQ$6,"mmmm"))),"") -> 0 | AR11: =IFERROR(INDIRECT(ADDRESS(ROWS($1:12),COLUMNS(Février!$A:N),,,TEXT(AR$6,"mmmm"))),"") -> 0 | AS11: =IFERROR(INDIRECT(ADDRESS(ROWS($1:12),COLUMNS(Février!$A:O),,,TEXT(AS$6,"mmmm"))),"") -> 0 | AT11: =IFERROR(INDIRECT(ADDRESS(ROWS($1:12),COLUMNS(Février!$A:P),,,TEXT(AT$6,"mmmm"))),"") -> 0 | AU11: =IFERROR(INDIRECT(ADDRESS(ROWS($1:12),COLUMNS(Février!$A:Q),,,TEXT(AU$6,"mmmm"))),"") -> 0 | AV11: =IFERROR(INDIRECT(ADDRESS(ROWS($1:12),COLUMNS(Février!$A:R),,,TEXT(AV$6,"mmmm"))),"") -> 0 | AW11: =IFERROR(INDIRECT(ADDRESS(ROWS($1:12),COLUMNS(Février!$A:S),,,TEXT(AW$6,"mmmm"))),"") -> 0 | AX11: =IFERROR(INDIRECT(ADDRESS(ROWS($1:12),COLUMNS(Février!$A:T),,,TEXT(AX$6,"mmmm"))),"") -> 0 | AY11: =IFERROR(INDIRECT(ADDRESS(ROWS($1:12),COLUMNS(Février!$A:U),,,TEXT(AY$6,"mmmm"))),"") -> 0 | AZ11: =IFERROR(INDIRECT(ADDRESS(ROWS($1:12),COLUMNS(Février!$A:V),,,TEXT(AZ$6,"mmmm"))),"") -> 0 | BA11: =IFERROR(INDIRECT(ADDRESS(ROWS($1:12),COLUMNS(Février!$A:W),,,TEXT(BA$6,"mmmm"))),"") -> 0 | BB11: =IFERROR(INDIRECT(ADDRESS(ROWS($1:12),COLUMNS(Février!$A:X),,,TEXT(BB$6,"mmmm"))),"") -> 0 | BC11: =IFERROR(INDIRECT(ADDRESS(ROWS($1:12),COLUMNS(Février!$A:Y),,,TEXT(BC$6,"mmmm"))),"") -> 0 | BD11: =IFERROR(INDIRECT(ADDRESS(ROWS($1:12),COLUMNS(Février!$A:Z),,,TEXT(BD$6,"mmmm"))),"") -> 0 | BE11: =IFERROR(INDIRECT(ADDRESS(ROWS($1:12),COLUMNS(Février!$A:AA),,,TEXT(BE$6,"mmmm"))),"") -> 0 | BF11: =IFERROR(INDIRECT(ADDRESS(ROWS($1:12),COLUMNS(Février!$A:AB),,,TEXT(BF$6,"mmmm"))),"") -> 0 | BG11: =IFERROR(INDIRECT(ADDRESS(ROWS($1:12),COLUMNS(Février!$A:AC),,,TEXT(BG$6,"mmmm"))),"") -> 0 | BH11: =IFERROR(INDIRECT(ADDRESS(ROWS($1:12),COLUMNS(Février!$A:AD),,,TEXT(BH$6,"mmmm"))),"") -> 0 | BI11: =IFERROR(INDIRECT(ADDRESS(ROWS($1:12),COLUMNS(Mars!$A:C),,,TEXT(BI$6,"mmmm"))),"") -> 0 | BJ11: =IFERROR(INDIRECT(ADDRESS(ROWS($1:12),COLUMNS(Mars!$A:D),,,TEXT(BJ$6,"mmmm"))),"") -> 0 | BK11: =IFERROR(INDIRECT(ADDRESS(ROWS($1:12),COLUMNS(Mars!$A:E),,,TEXT(BK$6,"mmmm"))),"") -> 0 | BL11: =IFERROR(INDIRECT(ADDRESS(ROWS($1:12),COLUMNS(Mars!$A:F),,,TEXT(BL$6,"mmmm"))),"") -> 0 | BM11: =IFERROR(INDIRECT(ADDRESS(ROWS($1:12),COLUMNS(Mars!$A:G),,,TEXT(BM$6,"mmmm"))),"") -> 0 | BN11: =IFERROR(INDIRECT(ADDRESS(ROWS($1:12),COLUMNS(Mars!$A:H),,,TEXT(BN$6,"mmmm"))),"") -> 0 | BO11: =IFERROR(INDIRECT(ADDRESS(ROWS($1:12),COLUMNS(Mars!$A:I),,,TEXT(BO$6,"mmmm"))),"") -> 0 | BP11: =IFERROR(INDIRECT(ADDRESS(ROWS($1:12),COLUMNS(Mars!$A:J),,,TEXT(BP$6,"mmmm"))),"") -> 0 | BQ11: =IFERROR(INDIRECT(ADDRESS(ROWS($1:12),COLUMNS(Mars!$A:K),,,TEXT(BQ$6,"mmmm"))),"") -> 0 | BR11: =IFERROR(INDIRECT(ADDRESS(ROWS($1:12),COLUMNS(Mars!$A:L),,,TEXT(BR$6,"mmmm"))),"") -> 0 | BS11: =IFERROR(INDIRECT(ADDRESS(ROWS($1:12),COLUMNS(Mars!$A:M),,,TEXT(BS$6,"mmmm"))),"") -> 0 | BT11: =IFERROR(INDIRECT(ADDRESS(ROWS($1:12),COLUMNS(Mars!$A:N),,,TEXT(BT$6,"mmmm"))),"") -> 0 | BU11: =IFERROR(INDIRECT(ADDRESS(ROWS($1:12),COLUMNS(Mars!$A:O),,,TEXT(BU$6,"mmmm"))),"") -> 0 | BV11: =IFERROR(INDIRECT(ADDRESS(ROWS($1:12),COLUMNS(Mars!$A:P),,,TEXT(BV$6,"mmmm"))),"") -> 0 | BW11: =IFERROR(INDIRECT(ADDRESS(ROWS($1:12),COLUMNS(Mars!$A:Q),,,TEXT(BW$6,"mmmm"))),"") -> 0 | BX11: =IFERROR(INDIRECT(ADDRESS(ROWS($1:12),COLUMNS(Mars!$A:R),,,TEXT(BX$6,"mmmm"))),"") -> 0 | BY11: =IFERROR(INDIRECT(ADDRESS(ROWS($1:12),COLUMNS(Mars!$A:S),,,TEXT(BY$6,"mmmm"))),"") -> 0 | BZ11: =IFERROR(INDIRECT(ADDRESS(ROWS($1:12),COLUMNS(Mars!$A:T),,,TEXT(BZ$6,"mmmm"))),"") -> 0 | CA11: =IFERROR(INDIRECT(ADDRESS(ROWS($1:12),COLUMNS(Mars!$A:U),,,TEXT(CA$6,"mmmm"))),"") -> 0 | CB11: =IFERROR(INDIRECT(ADDRESS(ROWS($1:12),COLUMNS(Mars!$A:V),,,TEXT(CB$6,"mmmm"))),"") -> 0 | CC11: =IFERROR(INDIRECT(ADDRESS(ROWS($1:12),COLUMNS(Mars!$A:W),,,TEXT(CC$6,"mmmm"))),"") -> 0 | CD11: =IFERROR(INDIRECT(ADDRESS(ROWS($1:12),COLUMNS(Mars!$A:X),,,TEXT(CD$6,"mmmm"))),"") -> 0 | CE11: =IFERROR(INDIRECT(ADDRESS(ROWS($1:12),COLUMNS(Mars!$A:Y),,,TEXT(CE$6,"mmmm"))),"") -> 0 | CF11: =IFERROR(INDIRECT(ADDRESS(ROWS($1:12),COLUMNS(Mars!$A:Z),,,TEXT(CF$6,"mmmm"))),"") -> 0 | CG11: =IFERROR(INDIRECT(ADDRESS(ROWS($1:12),COLUMNS(Mars!$A:AA),,,TEXT(CG$6,"mmmm"))),"") -> 0 | CH11: =IFERROR(INDIRECT(ADDRESS(ROWS($1:12),COLUMNS(Mars!$A:AB),,,TEXT(CH$6,"mmmm"))),"") -> 0 | CI11: =IFERROR(INDIRECT(ADDRESS(ROWS($1:12),COLUMNS(Mars!$A:AC),,,TEXT(CI$6,"mmmm"))),"") -> 0 | CJ11: =IFERROR(INDIRECT(ADDRESS(ROWS($1:12),COLUMNS(Mars!$A:AD),,,TEXT(CJ$6,"mmmm"))),"") -> 0 | CK11: =IFERROR(INDIRECT(ADDRESS(ROWS($1:12),COLUMNS(Mars!$A:AE),,,TEXT(CK$6,"mmmm"))),"") -> 0 | CL11: =IFERROR(INDIRECT(ADDRESS(ROWS($1:12),COLUMNS(Mars!$A:AF),,,TEXT(CL$6,"mmmm"))),"") -> 0 | CM11: =IFERROR(INDIRECT(ADDRESS(ROWS($1:12),COLUMNS(Mars!$A:AG),,,TEXT(CM$6,"mmmm"))),"") -> 0 | CN11: =IFERROR(INDIRECT(ADDRESS(ROWS($1:12),COLUMNS(Avril!$A:C),,,TEXT(CN$6,"mmmm"))),"") -> 0 | CO11: =IFERROR(INDIRECT(ADDRESS(ROWS($1:12),COLUMNS(Avril!$A:D),,,TEXT(CO$6,"mmmm"))),"") -> 0 | CP11: =IFERROR(INDIRECT(ADDRESS(ROWS($1:12),COLUMNS(Avril!$A:E),,,TEXT(CP$6,"mmmm"))),"") -> 0 | CQ11: =IFERROR(INDIRECT(ADDRESS(ROWS($1:12),COLUMNS(Avril!$A:F),,,TEXT(CQ$6,"mmmm"))),"") -> 0 | CR11: =IFERROR(INDIRECT(ADDRESS(ROWS($1:12),COLUMNS(Avril!$A:G),,,TEXT(CR$6,"mmmm"))),"") -> 0 | CS11: =IFERROR(INDIRECT(ADDRESS(ROWS($1:12),COLUMNS(Avril!$A:H),,,TEXT(CS$6,"mmmm"))),"") -> 0 | CT11: =IFERROR(INDIRECT(ADDRESS(ROWS($1:12),COLUMNS(Avril!$A:I),,,TEXT(CT$6,"mmmm"))),"") -> 0 | CU11: =IFERROR(INDIRECT(ADDRESS(ROWS($1:12),COLUMNS(Avril!$A:J),,,TEXT(CU$6,"mmmm"))),"") -> 0 | CV11: =IFERROR(INDIRECT(ADDRESS(ROWS($1:12),COLUMNS(Avril!$A:K),,,TEXT(CV$6,"mmmm"))),"") -> 0 | CW11: =IFERROR(INDIRECT(ADDRESS(ROWS($1:12),COLUMNS(Avril!$A:L),,,TEXT(CW$6,"mmmm"))),"") -> SEM | CX11: =IFERROR(INDIRECT(ADDRESS(ROWS($1:12),COLUMNS(Avril!$A:M),,,TEXT(CX$6,"mmmm"))),"") -> SEM | CY11: =IFERROR(INDIRECT(ADDRESS(ROWS($1:12),COLUMNS(Avril!$A:N),,,TEXT(CY$6,"mmmm"))),"") -> SEM | CZ11: =IFERROR(INDIRECT(ADDRESS(ROWS($1:12),COLUMNS(Avril!$A:O),,,TEXT(CZ$6,"mmmm"))),"") -> SEM | DA11: =IFERROR(INDIRECT(ADDRESS(ROWS($1:12),COLUMNS(Avril!$A:P),,,TEXT(DA$6,"mmmm"))),"") -> 0 | DB11: =IFERROR(INDIRECT(ADDRESS(ROWS($1:12),COLUMNS(Avril!$A:Q),,,TEXT(DB$6,"mmmm"))),"") -> 0 | DC11: =IFERROR(INDIRECT(ADDRESS(ROWS($1:12),COLUMNS(Avril!$A:R),,,TEXT(DC$6,"mmmm"))),"") -> 0 | DD11: =IFERROR(INDIRECT(ADDRESS(ROWS($1:12),COLUMNS(Avril!$A:S),,,TEXT(DD$6,"mmmm"))),"") -> 0 | DE11: =IFERROR(INDIRECT(ADDRESS(ROWS($1:12),COLUMNS(Avril!$A:T),,,TEXT(DE$6,"mmmm"))),"") -> 0 | DF11: =IFERROR(INDIRECT(ADDRESS(ROWS($1:12),COLUMNS(Avril!$A:U),,,TEXT(DF$6,"mmmm"))),"") -> 0 | DG11: =IFERROR(INDIRECT(ADDRESS(ROWS($1:12),COLUMNS(Avril!$A:V),,,TEXT(DG$6,"mmmm"))),"") -> 0 | DH11: =IFERROR(INDIRECT(ADDRESS(ROWS($1:12),COLUMNS(Avril!$A:W),,,TEXT(DH$6,"mmmm"))),"") -> 0 | DI11: =IFERROR(INDIRECT(ADDRESS(ROWS($1:12),COLUMNS(Avril!$A:X),,,TEXT(DI$6,"mmmm"))),"") -> 0 | DJ11: =IFERROR(INDIRECT(ADDRESS(ROWS($1:12),COLUMNS(Avril!$A:Y),,,TEXT(DJ$6,"mmmm"))),"") -> 0 | DK11: =IFERROR(INDIRECT(ADDRESS(ROWS($1:12),COLUMNS(Avril!$A:Z),,,TEXT(DK$6,"mmmm"))),"") -> 0 | DL11: =IFERROR(INDIRECT(ADDRESS(ROWS($1:12),COLUMNS(Avril!$A:AA),,,TEXT(DL$6,"mmmm"))),"") -> 0 | DM11: =IFERROR(INDIRECT(ADDRESS(ROWS($1:12),COLUMNS(Avril!$A:AB),,,TEXT(DM$6,"mmmm"))),"") -> 0 | DN11: =IFERROR(INDIRECT(ADDRESS(ROWS($1:12),COLUMNS(Avril!$A:AC),,,TEXT(DN$6,"mmmm"))),"") -> 0 | DO11: =IFERROR(INDIRECT(ADDRESS(ROWS($1:12),COLUMNS(Avril!$A:AD),,,TEXT(DO$6,"mmmm"))),"") -> 0 | DP11: =IFERROR(INDIRECT(ADDRESS(ROWS($1:12),COLUMNS(Avril!$A:AE),,,TEXT(DP$6,"mmmm"))),"") -> 0 | DQ11: =IFERROR(INDIRECT(ADDRESS(ROWS($1:12),COLUMNS(Avril!$A:AF),,,TEXT(DQ$6,"mmmm"))),"") -> 0 | DR11: =IFERROR(INDIRECT(ADDRESS(ROWS($1:12),COLUMNS(Avril!$A:C),,,TEXT(DR$6,"mmmm"))),"") -> 0 | DS11: =IFERROR(INDIRECT(ADDRESS(ROWS($1:12),COLUMNS(Avril!$A:D),,,TEXT(DS$6,"mmmm"))),"") -> 0 | DT11: =IFERROR(INDIRECT(ADDRESS(ROWS($1:12),COLUMNS(Avril!$A:E),,,TEXT(DT$6,"mmmm"))),"") -> 0 | DU11: =IFERROR(INDIRECT(ADDRESS(ROWS($1:12),COLUMNS(Avril!$A:F),,,TEXT(DU$6,"mmmm"))),"") -> 0 | DV11: =IFERROR(INDIRECT(ADDRESS(ROWS($1:12),COLUMNS(Avril!$A:G),,,TEXT(DV$6,"mmmm"))),"") -> 0 | DW11: =IFERROR(INDIRECT(ADDRESS(ROWS($1:12),COLUMNS(Avril!$A:H),,,TEXT(DW$6,"mmmm"))),"") -> 0 | DX11: =IFERROR(INDIRECT(ADDRESS(ROWS($1:12),COLUMNS(Avril!$A:I),,,TEXT(DX$6,"mmmm"))),"") -> 0 | DY11: =IFERROR(INDIRECT(ADDRESS(ROWS($1:12),COLUMNS(Avril!$A:J),,,TEXT(DY$6,"mmmm"))),"") -> 0 | DZ11: =IFERROR(INDIRECT(ADDRESS(ROWS($1:12),COLUMNS(Avril!$A:K),,,TEXT(DZ$6,"mmmm"))),"") -> 0 | EA11: =IFERROR(INDIRECT(ADDRESS(ROWS($1:12),COLUMNS(Avril!$A:L),,,TEXT(EA$6,"mmmm"))),"") -> 0 | EB11: =IFERROR(INDIRECT(ADDRESS(ROWS($1:12),COLUMNS(Avril!$A:M),,,TEXT(EB$6,"mmmm"))),"") -> 0 | EC11: =IFERROR(INDIRECT(ADDRESS(ROWS($1:12),COLUMNS(Avril!$A:N),,,TEXT(EC$6,"mmmm"))),"") -> 0 | ED11: =IFERROR(INDIRECT(ADDRESS(ROWS($1:12),COLUMNS(Avril!$A:O),,,TEXT(ED$6,"mmmm"))),"") -> 0 | EE11: =IFERROR(INDIRECT(ADDRESS(ROWS($1:12),COLUMNS(Avril!$A:P),,,TEXT(EE$6,"mmmm"))),"") -> 0 | EF11: =IFERROR(INDIRECT(ADDRESS(ROWS($1:12),COLUMNS(Avril!$A:Q),,,TEXT(EF$6,"mmmm"))),"") -> 0 | EG11: =IFERROR(INDIRECT(ADDRESS(ROWS($1:12),COLUMNS(Avril!$A:R),,,TEXT(EG$6,"mmmm"))),"") -> 0 | EH11: =IFERROR(INDIRECT(ADDRESS(ROWS($1:12),COLUMNS(Avril!$A:S),,,TEXT(EH$6,"mmmm"))),"") -> 0 | EI11: =IFERROR(INDIRECT(ADDRESS(ROWS($1:12),COLUMNS(Avril!$A:T),,,TEXT(EI$6,"mmmm"))),"") -> 0 | EJ11: =IFERROR(INDIRECT(ADDRESS(ROWS($1:12),COLUMNS(Avril!$A:U),,,TEXT(EJ$6,"mmmm"))),"") -> 0 | EK11: =IFERROR(INDIRECT(ADDRESS(ROWS($1:12),COLUMNS(Avril!$A:V),,,TEXT(EK$6,"mmmm"))),"") -> 0 | EL11: =IFERROR(INDIRECT(ADDRESS(ROWS($1:12),COLUMNS(Avril!$A:W),,,TEXT(EL$6,"mmmm"))),"") -> 0 | EM11: =IFERROR(INDIRECT(ADDRESS(ROWS($1:12),COLUMNS(Avril!$A:X),,,TEXT(EM$6,"mmmm"))),"") -> 0 | EN11: =IFERROR(INDIRECT(ADDRESS(ROWS($1:12),COLUMNS(Avril!$A:Y),,,TEXT(EN$6,"mmmm"))),"") -> 0 | EO11: =IFERROR(INDIRECT(ADDRESS(ROWS($1:12),COLUMNS(Avril!$A:Z),,,TEXT(EO$6,"mmmm"))),"") -> 0 | EP11: =IFERROR(INDIRECT(ADDRESS(ROWS($1:12),COLUMNS(Avril!$A:AA),,,TEXT(EP$6,"mmmm"))),"") -> 0 | EQ11: =IFERROR(INDIRECT(ADDRESS(ROWS($1:12),COLUMNS(Avril!$A:AB),,,TEXT(EQ$6,"mmmm"))),"") -> 0 | ER11: =IFERROR(INDIRECT(ADDRESS(ROWS($1:12),COLUMNS(Avril!$A:AC),,,TEXT(ER$6,"mmmm"))),"") -> 0 | ES11: =IFERROR(INDIRECT(ADDRESS(ROWS($1:12),COLUMNS(Avril!$A:AD),,,TEXT(ES$6,"mmmm"))),"") -> 0 | ET11: =IFERROR(INDIRECT(ADDRESS(ROWS($1:12),COLUMNS(Avril!$A:AE),,,TEXT(ET$6,"mmmm"))),"") -> 0 | EU11: =IFERROR(INDIRECT(ADDRESS(ROWS($1:12),COLUMNS(Avril!$A:AF),,,TEXT(EU$6,"mmmm"))),"") -> 0 | EV11: =IFERROR(INDIRECT(ADDRESS(ROWS($1:12),COLUMNS(Avril!$A:AG),,,TEXT(EV$6,"mmmm"))),"") -> 0 | EW11: =IFERROR(INDIRECT(ADDRESS(ROWS($1:12),COLUMNS(Juin!$A:C),,,TEXT(EW$6,"mmmm"))),"") -> 0 | EX11: =IFERROR(INDIRECT(ADDRESS(ROWS($1:12),COLUMNS(Juin!$A:D),,,TEXT(EX$6,"mmmm"))),"") -> 0 | EY11: =IFERROR(INDIRECT(ADDRESS(ROWS($1:12),COLUMNS(Juin!$A:E),,,TEXT(EY$6,"mmmm"))),"") -> 0 | EZ11: =IFERROR(INDIRECT(ADDRESS(ROWS($1:12),COLUMNS(Juin!$A:F),,,TEXT(EZ$6,"mmmm"))),"") -> 0 | FA11: =IFERROR(INDIRECT(ADDRESS(ROWS($1:12),COLUMNS(Juin!$A:G),,,TEXT(FA$6,"mmmm"))),"") -> 0 | FB11: =IFERROR(INDIRECT(ADDRESS(ROWS($1:12),COLUMNS(Juin!$A:H),,,TEXT(FB$6,"mmmm"))),"") -> 0 | FC11: =IFERROR(INDIRECT(ADDRESS(ROWS($1:12),COLUMNS(Juin!$A:I),,,TEXT(FC$6,"mmmm"))),"") -> 0 | FD11: =IFERROR(INDIRECT(ADDRESS(ROWS($1:12),COLUMNS(Juin!$A:J),,,TEXT(FD$6,"mmmm"))),"") -> 0 | FE11: =IFERROR(INDIRECT(ADDRESS(ROWS($1:12),COLUMNS(Juin!$A:K),,,TEXT(FE$6,"mmmm"))),"") -> 0 | FF11: =IFERROR(INDIRECT(ADDRESS(ROWS($1:12),COLUMNS(Juin!$A:L),,,TEXT(FF$6,"mmmm"))),"") -> 0 | FG11: =IFERROR(INDIRECT(ADDRESS(ROWS($1:12),COLUMNS(Juin!$A:M),,,TEXT(FG$6,"mmmm"))),"") -> 0 | FH11: =IFERROR(INDIRECT(ADDRESS(ROWS($1:12),COLUMNS(Juin!$A:N),,,TEXT(FH$6,"mmmm"))),"") -> 0 | FI11: =IFERROR(INDIRECT(ADDRESS(ROWS($1:12),COLUMNS(Juin!$A:O),,,TEXT(FI$6,"mmmm"))),"") -> 0 | FJ11: =IFERROR(INDIRECT(ADDRESS(ROWS($1:12),COLUMNS(Juin!$A:P),,,TEXT(FJ$6,"mmmm"))),"") -> 0 | FK11: =IFERROR(INDIRECT(ADDRESS(ROWS($1:12),COLUMNS(Juin!$A:Q),,,TEXT(FK$6,"mmmm"))),"") -> 0 | FL11: =IFERROR(INDIRECT(ADDRESS(ROWS($1:12),COLUMNS(Juin!$A:R),,,TEXT(FL$6,"mmmm"))),"") -> 0 | FM11: =IFERROR(INDIRECT(ADDRESS(ROWS($1:12),COLUMNS(Juin!$A:S),,,TEXT(FM$6,"mmmm"))),"") -> 0 | FN11: =IFERROR(INDIRECT(ADDRESS(ROWS($1:12),COLUMNS(Juin!$A:T),,,TEXT(FN$6,"mmmm"))),"") -> 0 | FO11: =IFERROR(INDIRECT(ADDRESS(ROWS($1:12),COLUMNS(Juin!$A:U),,,TEXT(FO$6,"mmmm"))),"") -> 0 | FP11: =IFERROR(INDIRECT(ADDRESS(ROWS($1:12),COLUMNS(Juin!$A:V),,,TEXT(FP$6,"mmmm"))),"") -> 0 | FQ11: =IFERROR(INDIRECT(ADDRESS(ROWS($1:12),COLUMNS(Juin!$A:W),,,TEXT(FQ$6,"mmmm"))),"") -> 0 | FR11: =IFERROR(INDIRECT(ADDRESS(ROWS($1:12),COLUMNS(Juin!$A:X),,,TEXT(FR$6,"mmmm"))),"") -> 0 | FS11: =IFERROR(INDIRECT(ADDRESS(ROWS($1:12),COLUMNS(Juin!$A:Y),,,TEXT(FS$6,"mmmm"))),"") -> 0 | FT11: =IFERROR(INDIRECT(ADDRESS(ROWS($1:12),COLUMNS(Juin!$A:Z),,,TEXT(FT$6,"mmmm"))),"") -> 0 | FU11: =IFERROR(INDIRECT(ADDRESS(ROWS($1:12),COLUMNS(Juin!$A:AA),,,TEXT(FU$6,"mmmm"))),"") -> 0 | FV11: =IFERROR(INDIRECT(ADDRESS(ROWS($1:12),COLUMNS(Juin!$A:AB),,,TEXT(FV$6,"mmmm"))),"") -> 0 | FW11: =IFERROR(INDIRECT(ADDRESS(ROWS($1:12),COLUMNS(Juin!$A:AC),,,TEXT(FW$6,"mmmm"))),"") -> 0 | FX11: =IFERROR(INDIRECT(ADDRESS(ROWS($1:12),COLUMNS(Juin!$A:AD),,,TEXT(FX$6,"mmmm"))),"") -> 0 | FY11: =IFERROR(INDIRECT(ADDRESS(ROWS($1:12),COLUMNS(Juin!$A:AE),,,TEXT(FY$6,"mmmm"))),"") -> 0 | FZ11: =IFERROR(INDIRECT(ADDRESS(ROWS($1:12),COLUMNS(Juin!$A:AF),,,TEXT(FZ$6,"mmmm"))),"") -> 0 | GA11: =IFERROR(INDIRECT(ADDRESS(ROWS($1:12),COLUMNS(Juillet!$A:C),,,TEXT(GA$6,"mmmm"))),"") -> 0 | GB11: =IFERROR(INDIRECT(ADDRESS(ROWS($1:12),COLUMNS(Juillet!$A:D),,,TEXT(GB$6,"mmmm"))),"") -> 0 | GC11: =IFERROR(INDIRECT(ADDRESS(ROWS($1:12),COLUMNS(Juillet!$A:E),,,TEXT(GC$6,"mmmm"))),"") -> 0 | GD11: =IFERROR(INDIRECT(ADDRESS(ROWS($1:12),COLUMNS(Juillet!$A:F),,,TEXT(GD$6,"mmmm"))),"") -> 0 | GE11: =IFERROR(INDIRECT(ADDRESS(ROWS($1:12),COLUMNS(Juillet!$A:G),,,TEXT(GE$6,"mmmm"))),"") -> 0 | GF11: =IFERROR(INDIRECT(ADDRESS(ROWS($1:12),COLUMNS(Juillet!$A:H),,,TEXT(GF$6,"mmmm"))),"") -> 0 | GG11: =IFERROR(INDIRECT(ADDRESS(ROWS($1:12),COLUMNS(Juillet!$A:I),,,TEXT(GG$6,"mmmm"))),"") -> 0 | GH11: =IFERROR(INDIRECT(ADDRESS(ROWS($1:12),COLUMNS(Juillet!$A:J),,,TEXT(GH$6,"mmmm"))),"") -> 0 | GI11: =IFERROR(INDIRECT(ADDRESS(ROWS($1:12),COLUMNS(Juillet!$A:K),,,TEXT(GI$6,"mmmm"))),"") -> 0 | GJ11: =IFERROR(INDIRECT(ADDRESS(ROWS($1:12),COLUMNS(Juillet!$A:L),,,TEXT(GJ$6,"mmmm"))),"") -> 0 | GK11: =IFERROR(INDIRECT(ADDRESS(ROWS($1:12),COLUMNS(Juillet!$A:M),,,TEXT(GK$6,"mmmm"))),"") -> 0 | GL11: =IFERROR(INDIRECT(ADDRESS(ROWS($1:12),COLUMNS(Juillet!$A:N),,,TEXT(GL$6,"mmmm"))),"") -> 0 | GM11: =IFERROR(INDIRECT(ADDRESS(ROWS($1:12),COLUMNS(Juillet!$A:O),,,TEXT(GM$6,"mmmm"))),"") -> 0 | GN11: =IFERROR(INDIRECT(ADDRESS(ROWS($1:12),COLUMNS(Juillet!$A:P),,,TEXT(GN$6,"mmmm"))),"") -> 0 | GO11: =IFERROR(INDIRECT(ADDRESS(ROWS($1:12),COLUMNS(Juillet!$A:Q),,,TEXT(GO$6,"mmmm"))),"") -> 0 | GP11: =IFERROR(INDIRECT(ADDRESS(ROWS($1:12),COLUMNS(Juillet!$A:R),,,TEXT(GP$6,"mmmm"))),"") -> 0 | GQ11: =IFERROR(INDIRECT(ADDRESS(ROWS($1:12),COLUMNS(Juillet!$A:S),,,TEXT(GQ$6,"mmmm"))),"") -> 0 | GR11: =IFERROR(INDIRECT(ADDRESS(ROWS($1:12),COLUMNS(Juillet!$A:T),,,TEXT(GR$6,"mmmm"))),"") -> 0 | GS11: =IFERROR(INDIRECT(ADDRESS(ROWS($1:12),COLUMNS(Juillet!$A:U),,,TEXT(GS$6,"mmmm"))),"") -> 0 | GT11: =IFERROR(INDIRECT(ADDRESS(ROWS($1:12),COLUMNS(Juillet!$A:V),,,TEXT(GT$6,"mmmm"))),"") -> 0 | GU11: =IFERROR(INDIRECT(ADDRESS(ROWS($1:12),COLUMNS(Juillet!$A:W),,,TEXT(GU$6,"mmmm"))),"") -> 0 | GV11: =IFERROR(INDIRECT(ADDRESS(ROWS($1:12),COLUMNS(Juillet!$A:X),,,TEXT(GV$6,"mmmm"))),"") -> 0 | GW11: =IFERROR(INDIRECT(ADDRESS(ROWS($1:12),COLUMNS(Juillet!$A:Y),,,TEXT(GW$6,"mmmm"))),"") -> 0 | GX11: =IFERROR(INDIRECT(ADDRESS(ROWS($1:12),COLUMNS(Juillet!$A:Z),,,TEXT(GX$6,"mmmm"))),"") -> 0 | GY11: =IFERROR(INDIRECT(ADDRESS(ROWS($1:12),COLUMNS(Juillet!$A:AA),,,TEXT(GY$6,"mmmm"))),"") -> 0 | GZ11: =IFERROR(INDIRECT(ADDRESS(ROWS($1:12),COLUMNS(Juillet!$A:AB),,,TEXT(GZ$6,"mmmm"))),"") -> 0 | HA11: =IFERROR(INDIRECT(ADDRESS(ROWS($1:12),COLUMNS(Juillet!$A:AC),,,TEXT(HA$6,"mmmm"))),"") -> 0 | HB11: =IFERROR(INDIRECT(ADDRESS(ROWS($1:12),COLUMNS(Juillet!$A:AD),,,TEXT(HB$6,"mmmm"))),"") -> 0 | HC11: =IFERROR(INDIRECT(ADDRESS(ROWS($1:12),COLUMNS(Juillet!$A:AE),,,TEXT(HC$6,"mmmm"))),"") -> 0 | HD11: =IFERROR(INDIRECT(ADDRESS(ROWS($1:12),COLUMNS(Juillet!$A:AF),,,TEXT(HD$6,"mmmm"))),"") -> 0 | HE11: =IFERROR(INDIRECT(ADDRESS(ROWS($1:12),COLUMNS(Juillet!$A:AG),,,TEXT(HE$6,"mmmm"))),"") -> 0 | HF11: =IFERROR(INDIRECT(ADDRESS(ROWS($1:12),COLUMNS(Août!$A:C),,,TEXT(HF$6,"mmmm"))),"") -> 0 | HG11: =IFERROR(INDIRECT(ADDRESS(ROWS($1:12),COLUMNS(Août!$A:D),,,TEXT(HG$6,"mmmm"))),"") -> 0 | HH11: =IFERROR(INDIRECT(ADDRESS(ROWS($1:12),COLUMNS(Août!$A:E),,,TEXT(HH$6,"mmmm"))),"") -> 0 | HI11: =IFERROR(INDIRECT(ADDRESS(ROWS($1:12),COLUMNS(Août!$A:F),,,TEXT(HI$6,"mmmm"))),"") -> 0 | HJ11: =IFERROR(INDIRECT(ADDRESS(ROWS($1:12),COLUMNS(Août!$A:G),,,TEXT(HJ$6,"mmmm"))),"") -> 0 | HK11: =IFERROR(INDIRECT(ADDRESS(ROWS($1:12),COLUMNS(Août!$A:H),,,TEXT(HK$6,"mmmm"))),"") -> 0 | HL11: =IFERROR(INDIRECT(ADDRESS(ROWS($1:12),COLUMNS(Août!$A:I),,,TEXT(HL$6,"mmmm"))),"") -> 0 | HM11: =IFERROR(INDIRECT(ADDRESS(ROWS($1:12),COLUMNS(Août!$A:J),,,TEXT(HM$6,"mmmm"))),"") -> 0 | HN11: =IFERROR(INDIRECT(ADDRESS(ROWS($1:12),COLUMNS(Août!$A:K),,,TEXT(HN$6,"mmmm"))),"") -> 0 | HO11: =IFERROR(INDIRECT(ADDRESS(ROWS($1:12),COLUMNS(Août!$A:L),,,TEXT(HO$6,"mmmm"))),"") -> 0 | HP11: =IFERROR(INDIRECT(ADDRESS(ROWS($1:12),COLUMNS(Août!$A:M),,,TEXT(HP$6,"mmmm"))),"") -> 0 | HQ11: =IFERROR(INDIRECT(ADDRESS(ROWS($1:12),COLUMNS(Août!$A:N),,,TEXT(HQ$6,"mmmm"))),"") -> 0 | HR11: =IFERROR(INDIRECT(ADDRESS(ROWS($1:12),COLUMNS(Août!$A:O),,,TEXT(HR$6,"mmmm"))),"") -> 0 | HS11: =IFERROR(INDIRECT(ADDRESS(ROWS($1:12),COLUMNS(Août!$A:P),,,TEXT(HS$6,"mmmm"))),"") -> 0 | HT11: =IFERROR(INDIRECT(ADDRESS(ROWS($1:12),COLUMNS(Août!$A:Q),,,TEXT(HT$6,"mmmm"))),"") -> 0 | HU11: =IFERROR(INDIRECT(ADDRESS(ROWS($1:12),COLUMNS(Août!$A:R),,,TEXT(HU$6,"mmmm"))),"") -> 0 | HV11: =IFERROR(INDIRECT(ADDRESS(ROWS($1:12),COLUMNS(Août!$A:S),,,TEXT(HV$6,"mmmm"))),"") -> 0 | HW11: =IFERROR(INDIRECT(ADDRESS(ROWS($1:12),COLUMNS(Août!$A:T),,,TEXT(HW$6,"mmmm"))),"") -> 0 | HX11: =IFERROR(INDIRECT(ADDRESS(ROWS($1:12),COLUMNS(Août!$A:U),,,TEXT(HX$6,"mmmm"))),"") -> 0 | HY11: =IFERROR(INDIRECT(ADDRESS(ROWS($1:12),COLUMNS(Août!$A:V),,,TEXT(HY$6,"mmmm"))),"") -> 0 | HZ11: =IFERROR(INDIRECT(ADDRESS(ROWS($1:12),COLUMNS(Août!$A:W),,,TEXT(HZ$6,"mmmm"))),"") -> 0 | IA11: =IFERROR(INDIRECT(ADDRESS(ROWS($1:12),COLUMNS(Août!$A:X),,,TEXT(IA$6,"mmmm"))),"") -> 0 | IB11: =IFERROR(INDIRECT(ADDRESS(ROWS($1:12),COLUMNS(Août!$A:Y),,,TEXT(IB$6,"mmmm"))),"") -> 0 | IC11: =IFERROR(INDIRECT(ADDRESS(ROWS($1:12),COLUMNS(Août!$A:Z),,,TEXT(IC$6,"mmmm"))),"") -> 0 | ID11: =IFERROR(INDIRECT(ADDRESS(ROWS($1:12),COLUMNS(Août!$A:AA),,,TEXT(ID$6,"mmmm"))),"") -> 0 | IE11: =IFERROR(INDIRECT(ADDRESS(ROWS($1:12),COLUMNS(Août!$A:AB),,,TEXT(IE$6,"mmmm"))),"") -> 0 | IF11: =IFERROR(INDIRECT(ADDRESS(ROWS($1:12),COLUMNS(Août!$A:AC),,,TEXT(IF$6,"mmmm"))),"") -> 0 | IG11: =IFERROR(INDIRECT(ADDRESS(ROWS($1:12),COLUMNS(Août!$A:AD),,,TEXT(IG$6,"mmmm"))),"") -> 0 | IH11: =IFERROR(INDIRECT(ADDRESS(ROWS($1:12),COLUMNS(Août!$A:AE),,,TEXT(IH$6,"mmmm"))),"") -> 0 | II11: =IFERROR(INDIRECT(ADDRESS(ROWS($1:12),COLUMNS(Août!$A:AF),,,TEXT(II$6,"mmmm"))),"") -> 0 | IJ11: =IFERROR(INDIRECT(ADDRESS(ROWS($1:12),COLUMNS(Août!$A:AG),,,TEXT(IJ$6,"mmmm"))),"") -> 0 | IK11: =IFERROR(INDIRECT(ADDRESS(ROWS($1:12),COLUMNS(Septembre!$A:C),,,TEXT(IK$6,"mmmm"))),"") -> 0 | IL11: =IFERROR(INDIRECT(ADDRESS(ROWS($1:12),COLUMNS(Septembre!$A:D),,,TEXT(IL$6,"mmmm"))),"") -> 0 | IM11: =IFERROR(INDIRECT(ADDRESS(ROWS($1:12),COLUMNS(Septembre!$A:E),,,TEXT(IM$6,"mmmm"))),"") -> 0 | IN11: =IFERROR(INDIRECT(ADDRESS(ROWS($1:12),COLUMNS(Septembre!$A:F),,,TEXT(IN$6,"mmmm"))),"") -> 0 | IO11: =IFERROR(INDIRECT(ADDRESS(ROWS($1:12),COLUMNS(Septembre!$A:G),,,TEXT(IO$6,"mmmm"))),"") -> 0 | IP11: =IFERROR(INDIRECT(ADDRESS(ROWS($1:12),COLUMNS(Septembre!$A:H),,,TEXT(IP$6,"mmmm"))),"") -> 0 | IQ11: =IFERROR(INDIRECT(ADDRESS(ROWS($1:12),COLUMNS(Septembre!$A:I),,,TEXT(IQ$6,"mmmm"))),"") -> 0 | IR11: =IFERROR(INDIRECT(ADDRESS(ROWS($1:12),COLUMNS(Septembre!$A:J),,,TEXT(IR$6,"mmmm"))),"") -> 0 | IS11: =IFERROR(INDIRECT(ADDRESS(ROWS($1:12),COLUMNS(Septembre!$A:K),,,TEXT(IS$6,"mmmm"))),"") -> 0 | IT11: =IFERROR(INDIRECT(ADDRESS(ROWS($1:12),COLUMNS(Septembre!$A:L),,,TEXT(IT$6,"mmmm"))),"") -> 0 | IU11: =IFERROR(INDIRECT(ADDRESS(ROWS($1:12),COLUMNS(Septembre!$A:M),,,TEXT(IU$6,"mmmm"))),"") -> 0 | IV11: =IFERROR(INDIRECT(ADDRESS(ROWS($1:12),COLUMNS(Septembre!$A:N),,,TEXT(IV$6,"mmmm"))),"") -> 0 | IW11: =IFERROR(INDIRECT(ADDRESS(ROWS($1:12),COLUMNS(Septembre!$A:O),,,TEXT(IW$6,"mmmm"))),"") -> 0 | IX11: =IFERROR(INDIRECT(ADDRESS(ROWS($1:12),COLUMNS(Septembre!$A:P),,,TEXT(IX$6,"mmmm"))),"") -> 0 | IY11: =IFERROR(INDIRECT(ADDRESS(ROWS($1:12),COLUMNS(Septembre!$A:Q),,,TEXT(IY$6,"mmmm"))),"") -> 0 | IZ11: =IFERROR(INDIRECT(ADDRESS(ROWS($1:12),COLUMNS(Septembre!$A:R),,,TEXT(IZ$6,"mmmm"))),"") -> 0 | JA11: =IFERROR(INDIRECT(ADDRESS(ROWS($1:12),COLUMNS(Septembre!$A:S),,,TEXT(JA$6,"mmmm"))),"") -> 0 | JB11: =IFERROR(INDIRECT(ADDRESS(ROWS($1:12),COLUMNS(Septembre!$A:T),,,TEXT(JB$6,"mmmm"))),"") -> 0 | JC11: =IFERROR(INDIRECT(ADDRESS(ROWS($1:12),COLUMNS(Septembre!$A:U),,,TEXT(JC$6,"mmmm"))),"") -> 0 | JD11: =IFERROR(INDIRECT(ADDRESS(ROWS($1:12),COLUMNS(Septembre!$A:V),,,TEXT(JD$6,"mmmm"))),"") -> 0 | JE11: =IFERROR(INDIRECT(ADDRESS(ROWS($1:12),COLUMNS(Septembre!$A:W),,,TEXT(JE$6,"mmmm"))),"") -> 0 | JF11: =IFERROR(INDIRECT(ADDRESS(ROWS($1:12),COLUMNS(Septembre!$A:X),,,TEXT(JF$6,"mmmm"))),"") -> 0 | JG11: =IFERROR(INDIRECT(ADDRESS(ROWS($1:12),COLUMNS(Septembre!$A:Y),,,TEXT(JG$6,"mmmm"))),"") -> 0 | JH11: =IFERROR(INDIRECT(ADDRESS(ROWS($1:12),COLUMNS(Septembre!$A:Z),,,TEXT(JH$6,"mmmm"))),"") -> 0 | JI11: =IFERROR(INDIRECT(ADDRESS(ROWS($1:12),COLUMNS(Septembre!$A:AA),,,TEXT(JI$6,"mmmm"))),"") -> 0 | JJ11: =IFERROR(INDIRECT(ADDRESS(ROWS($1:12),COLUMNS(Septembre!$A:AB),,,TEXT(JJ$6,"mmmm"))),"") -> 0 | JK11: =IFERROR(INDIRECT(ADDRESS(ROWS($1:12),COLUMNS(Septembre!$A:AC),,,TEXT(JK$6,"mmmm"))),"") -> 0 | JL11: =IFERROR(INDIRECT(ADDRESS(ROWS($1:12),COLUMNS(Septembre!$A:AD),,,TEXT(JL$6,"mmmm"))),"") -> 0 | JM11: =IFERROR(INDIRECT(ADDRESS(ROWS($1:12),COLUMNS(Septembre!$A:AE),,,TEXT(JM$6,"mmmm"))),"") -> 0 | JN11: =IFERROR(INDIRECT(ADDRESS(ROWS($1:12),COLUMNS(Septembre!$A:AF),,,TEXT(JN$6,"mmmm"))),"") -> 0 | JO11: =IFERROR(INDIRECT(ADDRESS(ROWS($1:12),COLUMNS(Octobre!$A:C),,,TEXT(JO$6,"mmmm"))),"") -> 0 | JP11: =IFERROR(INDIRECT(ADDRESS(ROWS($1:12),COLUMNS(Octobre!$A:D),,,TEXT(JP$6,"mmmm"))),"") -> 0 | JQ11: =IFERROR(INDIRECT(ADDRESS(ROWS($1:12),COLUMNS(Octobre!$A:E),,,TEXT(JQ$6,"mmmm"))),"") -> 0 | JR11: =IFERROR(INDIRECT(ADDRESS(ROWS($1:12),COLUMNS(Octobre!$A:F),,,TEXT(JR$6,"mmmm"))),"") -> 0 | JS11: =IFERROR(INDIRECT(ADDRESS(ROWS($1:12),COLUMNS(Octobre!$A:G),,,TEXT(JS$6,"mmmm"))),"") -> 0 | JT11: =IFERROR(INDIRECT(ADDRESS(ROWS($1:12),COLUMNS(Octobre!$A:H),,,TEXT(JT$6,"mmmm"))),"") -> 0 | JU11: =IFERROR(INDIRECT(ADDRESS(ROWS($1:12),COLUMNS(Octobre!$A:I),,,TEXT(JU$6,"mmmm"))),"") -> 0 | JV11: =IFERROR(INDIRECT(ADDRESS(ROWS($1:12),COLUMNS(Octobre!$A:J),,,TEXT(JV$6,"mmmm"))),"") -> 0 | JW11: =IFERROR(INDIRECT(ADDRESS(ROWS($1:12),COLUMNS(Octobre!$A:K),,,TEXT(JW$6,"mmmm"))),"") -> 0 | JX11: =IFERROR(INDIRECT(ADDRESS(ROWS($1:12),COLUMNS(Octobre!$A:L),,,TEXT(JX$6,"mmmm"))),"") -> 0 | JY11: =IFERROR(INDIRECT(ADDRESS(ROWS($1:12),COLUMNS(Octobre!$A:M),,,TEXT(JY$6,"mmmm"))),"") -> 0 | JZ11: =IFERROR(INDIRECT(ADDRESS(ROWS($1:12),COLUMNS(Octobre!$A:N),,,TEXT(JZ$6,"mmmm"))),"") -> 0 | KA11: =IFERROR(INDIRECT(ADDRESS(ROWS($1:12),COLUMNS(Octobre!$A:O),,,TEXT(KA$6,"mmmm"))),"") -> 0 | KB11: =IFERROR(INDIRECT(ADDRESS(ROWS($1:12),COLUMNS(Octobre!$A:P),,,TEXT(KB$6,"mmmm"))),"") -> 0 | KC11: =IFERROR(INDIRECT(ADDRESS(ROWS($1:12),COLUMNS(Octobre!$A:Q),,,TEXT(KC$6,"mmmm"))),"") -> 0 | KD11: =IFERROR(INDIRECT(ADDRESS(ROWS($1:12),COLUMNS(Octobre!$A:R),,,TEXT(KD$6,"mmmm"))),"") -> 0 | KE11: =IFERROR(INDIRECT(ADDRESS(ROWS($1:12),COLUMNS(Octobre!$A:S),,,TEXT(KE$6,"mmmm"))),"") -> 0 | KF11: =IFERROR(INDIRECT(ADDRESS(ROWS($1:12),COLUMNS(Octobre!$A:T),,,TEXT(KF$6,"mmmm"))),"") -> 0 | KG11: =IFERROR(INDIRECT(ADDRESS(ROWS($1:12),COLUMNS(Octobre!$A:U),,,TEXT(KG$6,"mmmm"))),"") -> 0 | KH11: =IFERROR(INDIRECT(ADDRESS(ROWS($1:12),COLUMNS(Octobre!$A:V),,,TEXT(KH$6,"mmmm"))),"") -> 0 | KI11: =IFERROR(INDIRECT(ADDRESS(ROWS($1:12),COLUMNS(Octobre!$A:W),,,TEXT(KI$6,"mmmm"))),"") -> 0 | KJ11: =IFERROR(INDIRECT(ADDRESS(ROWS($1:12),COLUMNS(Octobre!$A:X),,,TEXT(KJ$6,"mmmm"))),"") -> 0 | KK11: =IFERROR(INDIRECT(ADDRESS(ROWS($1:12),COLUMNS(Octobre!$A:Y),,,TEXT(KK$6,"mmmm"))),"") -> 0 | KL11: =IFERROR(INDIRECT(ADDRESS(ROWS($1:12),COLUMNS(Octobre!$A:Z),,,TEXT(KL$6,"mmmm"))),"") -> 0 | KM11: =IFERROR(INDIRECT(ADDRESS(ROWS($1:12),COLUMNS(Octobre!$A:AA),,,TEXT(KM$6,"mmmm"))),"") -> 0 | KN11: =IFERROR(INDIRECT(ADDRESS(ROWS($1:12),COLUMNS(Octobre!$A:AB),,,TEXT(KN$6,"mmmm"))),"") -> 0 | KO11: =IFERROR(INDIRECT(ADDRESS(ROWS($1:12),COLUMNS(Octobre!$A:AC),,,TEXT(KO$6,"mmmm"))),"") -> 0 | KP11: =IFERROR(INDIRECT(ADDRESS(ROWS($1:12),COLUMNS(Octobre!$A:AD),,,TEXT(KP$6,"mmmm"))),"") -> 0 | KQ11: =IFERROR(INDIRECT(ADDRESS(ROWS($1:12),COLUMNS(Octobre!$A:AE),,,TEXT(KQ$6,"mmmm"))),"") -> 0 | KR11: =IFERROR(INDIRECT(ADDRESS(ROWS($1:12),COLUMNS(Octobre!$A:AF),,,TEXT(KR$6,"mmmm"))),"") -> 0 | KS11: =IFERROR(INDIRECT(ADDRESS(ROWS($1:12),COLUMNS(Octobre!$A:AG),,,TEXT(KS$6,"mmmm"))),"") -> 0 | KT11: =IFERROR(INDIRECT(ADDRESS(ROWS($1:12),COLUMNS(Novembre!$A:C),,,TEXT(KT$6,"mmmm"))),"") -> 0 | KU11: =IFERROR(INDIRECT(ADDRESS(ROWS($1:12),COLUMNS(Novembre!$A:D),,,TEXT(KU$6,"mmmm"))),"") -> 0 | KV11: =IFERROR(INDIRECT(ADDRESS(ROWS($1:12),COLUMNS(Novembre!$A:E),,,TEXT(KV$6,"mmmm"))),"") -> 0 | KW11: =IFERROR(INDIRECT(ADDRESS(ROWS($1:12),COLUMNS(Novembre!$A:F),,,TEXT(KW$6,"mmmm"))),"") -> 0 | KX11: =IFERROR(INDIRECT(ADDRESS(ROWS($1:12),COLUMNS(Novembre!$A:G),,,TEXT(KX$6,"mmmm"))),"") -> 0 | KY11: =IFERROR(INDIRECT(ADDRESS(ROWS($1:12),COLUMNS(Novembre!$A:H),,,TEXT(KY$6,"mmmm"))),"") -> 0 | KZ11: =IFERROR(INDIRECT(ADDRESS(ROWS($1:12),COLUMNS(Novembre!$A:I),,,TEXT(KZ$6,"mmmm"))),"") -> 0 | LA11: =IFERROR(INDIRECT(ADDRESS(ROWS($1:12),COLUMNS(Novembre!$A:J),,,TEXT(LA$6,"mmmm"))),"") -> 0 | LB11: =IFERROR(INDIRECT(ADDRESS(ROWS($1:12),COLUMNS(Novembre!$A:K),,,TEXT(LB$6,"mmmm"))),"") -> 0 | LC11: =IFERROR(INDIRECT(ADDRESS(ROWS($1:12),COLUMNS(Novembre!$A:L),,,TEXT(LC$6,"mmmm"))),"") -> 0 | LD11: =IFERROR(INDIRECT(ADDRESS(ROWS($1:12),COLUMNS(Novembre!$A:M),,,TEXT(LD$6,"mmmm"))),"") -> 0 | LE11: =IFERROR(INDIRECT(ADDRESS(ROWS($1:12),COLUMNS(Novembre!$A:N),,,TEXT(LE$6,"mmmm"))),"") -> 0 | LF11: =IFERROR(INDIRECT(ADDRESS(ROWS($1:12),COLUMNS(Novembre!$A:O),,,TEXT(LF$6,"mmmm"))),"") -> 0 | LG11: =IFERROR(INDIRECT(ADDRESS(ROWS($1:12),COLUMNS(Novembre!$A:P),,,TEXT(LG$6,"mmmm"))),"") -> 0 | LH11: =IFERROR(INDIRECT(ADDRESS(ROWS($1:12),COLUMNS(Novembre!$A:Q),,,TEXT(LH$6,"mmmm"))),"") -> 0 | LI11: =IFERROR(INDIRECT(ADDRESS(ROWS($1:12),COLUMNS(Novembre!$A:R),,,TEXT(LI$6,"mmmm"))),"") -> 0 | LJ11: =IFERROR(INDIRECT(ADDRESS(ROWS($1:12),COLUMNS(Novembre!$A:S),,,TEXT(LJ$6,"mmmm"))),"") -> 0 | LK11: =IFERROR(INDIRECT(ADDRESS(ROWS($1:12),COLUMNS(Novembre!$A:T),,,TEXT(LK$6,"mmmm"))),"") -> 0 | LL11: =IFERROR(INDIRECT(ADDRESS(ROWS($1:12),COLUMNS(Novembre!$A:U),,,TEXT(LL$6,"mmmm"))),"") -> 0 | LM11: =IFERROR(INDIRECT(ADDRESS(ROWS($1:12),COLUMNS(Novembre!$A:V),,,TEXT(LM$6,"mmmm"))),"") -> 0 | LN11: =IFERROR(INDIRECT(ADDRESS(ROWS($1:12),COLUMNS(Novembre!$A:W),,,TEXT(LN$6,"mmmm"))),"") -> 0 | LO11: =IFERROR(INDIRECT(ADDRESS(ROWS($1:12),COLUMNS(Novembre!$A:X),,,TEXT(LO$6,"mmmm"))),"") -> 0 | LP11: =IFERROR(INDIRECT(ADDRESS(ROWS($1:12),COLUMNS(Novembre!$A:Y),,,TEXT(LP$6,"mmmm"))),"") -> 0 | LQ11: =IFERROR(INDIRECT(ADDRESS(ROWS($1:12),COLUMNS(Novembre!$A:Z),,,TEXT(LQ$6,"mmmm"))),"") -> 0 | LR11: =IFERROR(INDIRECT(ADDRESS(ROWS($1:12),COLUMNS(Novembre!$A:AA),,,TEXT(LR$6,"mmmm"))),"") -> 0 | LS11: =IFERROR(INDIRECT(ADDRESS(ROWS($1:12),COLUMNS(Novembre!$A:AB),,,TEXT(LS$6,"mmmm"))),"") -> 0 | LT11: =IFERROR(INDIRECT(ADDRESS(ROWS($1:12),COLUMNS(Novembre!$A:AC),,,TEXT(LT$6,"mmmm"))),"") -> 0 | LU11: =IFERROR(INDIRECT(ADDRESS(ROWS($1:12),COLUMNS(Novembre!$A:AD),,,TEXT(LU$6,"mmmm"))),"") -> 0 | LV11: =IFERROR(INDIRECT(ADDRESS(ROWS($1:12),COLUMNS(Novembre!$A:AE),,,TEXT(LV$6,"mmmm"))),"") -> 0 | LW11: =IFERROR(INDIRECT(ADDRESS(ROWS($1:12),COLUMNS(Novembre!$A:AF),,,TEXT(LW$6,"mmmm"))),"") -> 0 | LX11: =IFERROR(INDIRECT(ADDRESS(ROWS($1:12),COLUMNS(Décembre!$A:C),,,TEXT(LX$6,"mmmm"))),"") -> 0 | LY11: =IFERROR(INDIRECT(ADDRESS(ROWS($1:12),COLUMNS(Décembre!$A:D),,,TEXT(LY$6,"mmmm"))),"") -> 0 | LZ11: =IFERROR(INDIRECT(ADDRESS(ROWS($1:12),COLUMNS(Décembre!$A:E),,,TEXT(LZ$6,"mmmm"))),"") -> 0 | MA11: =IFERROR(INDIRECT(ADDRESS(ROWS($1:12),COLUMNS(Décembre!$A:F),,,TEXT(MA$6,"mmmm"))),"") -> 0 | MB11: =IFERROR(INDIRECT(ADDRESS(ROWS($1:12),COLUMNS(Décembre!$A:G),,,TEXT(MB$6,"mmmm"))),"") -> 0 | MC11: =IFERROR(INDIRECT(ADDRESS(ROWS($1:12),COLUMNS(Décembre!$A:H),,,TEXT(MC$6,"mmmm"))),"") -> 0 | MD11: =IFERROR(INDIRECT(ADDRESS(ROWS($1:12),COLUMNS(Décembre!$A:I),,,TEXT(MD$6,"mmmm"))),"") -> 0 | ME11: =IFERROR(INDIRECT(ADDRESS(ROWS($1:12),COLUMNS(Décembre!$A:J),,,TEXT(ME$6,"mmmm"))),"") -> 0 | MF11: =IFERROR(INDIRECT(ADDRESS(ROWS($1:12),COLUMNS(Décembre!$A:K),,,TEXT(MF$6,"mmmm"))),"") -> 0 | MG11: =IFERROR(INDIRECT(ADDRESS(ROWS($1:12),COLUMNS(Décembre!$A:L),,,TEXT(MG$6,"mmmm"))),"") -> 0 | MH11: =IFERROR(INDIRECT(ADDRESS(ROWS($1:12),COLUMNS(Décembre!$A:M),,,TEXT(MH$6,"mmmm"))),"") -> 0 | MI11: =IFERROR(INDIRECT(ADDRESS(ROWS($1:12),COLUMNS(Décembre!$A:N),,,TEXT(MI$6,"mmmm"))),"") -> 0 | MJ11: =IFERROR(INDIRECT(ADDRESS(ROWS($1:12),COLUMNS(Décembre!$A:O),,,TEXT(MJ$6,"mmmm"))),"") -> 0 | MK11: =IFERROR(INDIRECT(ADDRESS(ROWS($1:12),COLUMNS(Décembre!$A:P),,,TEXT(MK$6,"mmmm"))),"") -> 0 | ML11: =IFERROR(INDIRECT(ADDRESS(ROWS($1:12),COLUMNS(Décembre!$A:Q),,,TEXT(ML$6,"mmmm"))),"") -> 0 | MM11: =IFERROR(INDIRECT(ADDRESS(ROWS($1:12),COLUMNS(Décembre!$A:R),,,TEXT(MM$6,"mmmm"))),"") -> 0 | MN11: =IFERROR(INDIRECT(ADDRESS(ROWS($1:12),COLUMNS(Décembre!$A:S),,,TEXT(MN$6,"mmmm"))),"") -> 0 | MO11: =IFERROR(INDIRECT(ADDRESS(ROWS($1:12),COLUMNS(Décembre!$A:T),,,TEXT(MO$6,"mmmm"))),"") -> 0 | MP11: =IFERROR(INDIRECT(ADDRESS(ROWS($1:12),COLUMNS(Décembre!$A:U),,,TEXT(MP$6,"mmmm"))),"") -> 0 | MQ11: =IFERROR(INDIRECT(ADDRESS(ROWS($1:12),COLUMNS(Décembre!$A:V),,,TEXT(MQ$6,"mmmm"))),"") -> 0 | MR11: =IFERROR(INDIRECT(ADDRESS(ROWS($1:12),COLUMNS(Décembre!$A:W),,,TEXT(MR$6,"mmmm"))),"") -> 0 | MS11: =IFERROR(INDIRECT(ADDRESS(ROWS($1:12),COLUMNS(Décembre!$A:X),,,TEXT(MS$6,"mmmm"))),"") -> 0 | MT11: =IFERROR(INDIRECT(ADDRESS(ROWS($1:12),COLUMNS(Décembre!$A:Y),,,TEXT(MT$6,"mmmm"))),"") -> 0 | MU11: =IFERROR(INDIRECT(ADDRESS(ROWS($1:12),COLUMNS(Décembre!$A:Z),,,TEXT(MU$6,"mmmm"))),"") -> 0 | MV11: =IFERROR(INDIRECT(ADDRESS(ROWS($1:12),COLUMNS(Décembre!$A:AA),,,TEXT(MV$6,"mmmm"))),"") -> 0 | MW11: =IFERROR(INDIRECT(ADDRESS(ROWS($1:12),COLUMNS(Décembre!$A:AB),,,TEXT(MW$6,"mmmm"))),"") -> 0 | MX11: =IFERROR(INDIRECT(ADDRESS(ROWS($1:12),COLUMNS(Décembre!$A:AC),,,TEXT(MX$6,"mmmm"))),"") -> 0 | MY11: =IFERROR(INDIRECT(ADDRESS(ROWS($1:12),COLUMNS(Décembre!$A:AD),,,TEXT(MY$6,"mmmm"))),"") -> 0 | MZ11: =IFERROR(INDIRECT(ADDRESS(ROWS($1:12),COLUMNS(Décembre!$A:AE),,,TEXT(MZ$6,"mmmm"))),"") -> 0 | NA11: =IFERROR(INDIRECT(ADDRESS(ROWS($1:12),COLUMNS(Décembre!$A:AF),,,TEXT(NA$6,"mmmm"))),"") -> 0 | NB11: =IFERROR(INDIRECT(ADDRESS(ROWS($1:12),COLUMNS(Décembre!$A:AG),,,TEXT(NB$6,"mmmm"))),"") -> 0
A12: B | C12: =IFERROR(INDIRECT(ADDRESS(ROWS($1:13),COLUMNS($A:D),,,TEXT(C$6,"mmmm"))),"") -> 0 | D12: =IFERROR(INDIRECT(ADDRESS(ROWS($1:13),COLUMNS($A:E),,,TEXT(D$6,"mmmm"))),"") -> 0 | E12: =IFERROR(INDIRECT(ADDRESS(ROWS($1:13),COLUMNS($A:F),,,TEXT(E$6,"mmmm"))),"") -> 0 | F12: =IFERROR(INDIRECT(ADDRESS(ROWS($1:13),COLUMNS($A:G),,,TEXT(F$6,"mmmm"))),"") -> 0 | G12: =IFERROR(INDIRECT(ADDRESS(ROWS($1:13),COLUMNS($A:H),,,TEXT(G$6,"mmmm"))),"") -> 0 | H12: =IFERROR(INDIRECT(ADDRESS(ROWS($1:13),COLUMNS($A:I),,,TEXT(H$6,"mmmm"))),"") -> 0 | I12: =IFERROR(INDIRECT(ADDRESS(ROWS($1:13),COLUMNS($A:J),,,TEXT(I$6,"mmmm"))),"") -> 0 | J12: =IFERROR(INDIRECT(ADDRESS(ROWS($1:13),COLUMNS($A:K),,,TEXT(J$6,"mmmm"))),"") -> 0 | K12: =IFERROR(INDIRECT(ADDRESS(ROWS($1:13),COLUMNS($A:L),,,TEXT(K$6,"mmmm"))),"") -> 0 | L12: =IFERROR(INDIRECT(ADDRESS(ROWS($1:13),COLUMNS($A:M),,,TEXT(L$6,"mmmm"))),"") -> 0 | M12: =IFERROR(INDIRECT(ADDRESS(ROWS($1:13),COLUMNS($A:N),,,TEXT(M$6,"mmmm"))),"") -> 0 | N12: =IFERROR(INDIRECT(ADDRESS(ROWS($1:13),COLUMNS($A:O),,,TEXT(N$6,"mmmm"))),"") -> 0 | O12: =IFERROR(INDIRECT(ADDRESS(ROWS($1:13),COLUMNS($A:P),,,TEXT(O$6,"mmmm"))),"") -> 0 | P12: =IFERROR(INDIRECT(ADDRESS(ROWS($1:13),COLUMNS($A:Q),,,TEXT(P$6,"mmmm"))),"") -> 0 | Q12: =IFERROR(INDIRECT(ADDRESS(ROWS($1:13),COLUMNS($A:R),,,TEXT(Q$6,"mmmm"))),"") -> 0 | R12: =IFERROR(INDIRECT(ADDRESS(ROWS($1:13),COLUMNS($A:S),,,TEXT(R$6,"mmmm"))),"") -> 0 | S12: =IFERROR(INDIRECT(ADDRESS(ROWS($1:13),COLUMNS($A:T),,,TEXT(S$6,"mmmm"))),"") -> 0 | T12: =IFERROR(INDIRECT(ADDRESS(ROWS($1:13),COLUMNS($A:U),,,TEXT(T$6,"mmmm"))),"") -> 0 | U12: =IFERROR(INDIRECT(ADDRESS(ROWS($1:13),COLUMNS($A:V),,,TEXT(U$6,"mmmm"))),"") -> 0 | V12: =IFERROR(INDIRECT(ADDRESS(ROWS($1:13),COLUMNS($A:W),,,TEXT(V$6,"mmmm"))),"") -> 0 | W12: =IFERROR(INDIRECT(ADDRESS(ROWS($1:13),COLUMNS($A:X),,,TEXT(W$6,"mmmm"))),"") -> 0 | X12: =IFERROR(INDIRECT(ADDRESS(ROWS($1:13),COLUMNS($A:Y),,,TEXT(X$6,"mmmm"))),"") -> 0 | Y12: =IFERROR(INDIRECT(ADDRESS(ROWS($1:13),COLUMNS($A:Z),,,TEXT(Y$6,"mmmm"))),"") -> 0 | Z12: =IFERROR(INDIRECT(ADDRESS(ROWS($1:13),COLUMNS($A:AA),,,TEXT(Z$6,"mmmm"))),"") -> 0 | AA12: =IFERROR(INDIRECT(ADDRESS(ROWS($1:13),COLUMNS($A:AB),,,TEXT(AA$6,"mmmm"))),"") -> 0 | AB12: =IFERROR(INDIRECT(ADDRESS(ROWS($1:13),COLUMNS($A:AC),,,TEXT(AB$6,"mmmm"))),"") -> 0 | AC12: =IFERROR(INDIRECT(ADDRESS(ROWS($1:13),COLUMNS($A:AD),,,TEXT(AC$6,"mmmm"))),"") -> 0 | AD12: =IFERROR(INDIRECT(ADDRESS(ROWS($1:13),COLUMNS($A:AE),,,TEXT(AD$6,"mmmm"))),"") -> 0 | AE12: =IFERROR(INDIRECT(ADDRESS(ROWS($1:13),COLUMNS($A:AF),,,TEXT(AE$6,"mmmm"))),"") -> 0 | AF12: =IFERROR(INDIRECT(ADDRESS(ROWS($1:13),COLUMNS($A:AG),,,TEXT(AF$6,"mmmm"))),"") -> 0 | AG12: =IFERROR(INDIRECT(ADDRESS(ROWS($1:13),COLUMNS(Février!$A:C),,,TEXT(AG$6,"mmmm"))),"") -> 0 | AH12: =IFERROR(INDIRECT(ADDRESS(ROWS($1:13),COLUMNS(Février!$A:D),,,TEXT(AH$6,"mmmm"))),"") -> 0 | AI12: =IFERROR(INDIRECT(ADDRESS(ROWS($1:13),COLUMNS(Février!$A:E),,,TEXT(AI$6,"mmmm"))),"") -> 0 | AJ12: =IFERROR(INDIRECT(ADDRESS(ROWS($1:13),COLUMNS(Février!$A:F),,,TEXT(AJ$6,"mmmm"))),"") -> 0 | AK12: =IFERROR(INDIRECT(ADDRESS(ROWS($1:13),COLUMNS(Février!$A:G),,,TEXT(AK$6,"mmmm"))),"") -> 0 | AL12: =IFERROR(INDIRECT(ADDRESS(ROWS($1:13),COLUMNS(Février!$A:H),,,TEXT(AL$6,"mmmm"))),"") -> SEM | AM12: =IFERROR(INDIRECT(ADDRESS(ROWS($1:13),COLUMNS(Février!$A:I),,,TEXT(AM$6,"mmmm"))),"") -> SEM | AN12: =IFERROR(INDIRECT(ADDRESS(ROWS($1:13),COLUMNS(Février!$A:J),,,TEXT(AN$6,"mmmm"))),"") -> SEM | AO12: =IFERROR(INDIRECT(ADDRESS(ROWS($1:13),COLUMNS(Février!$A:K),,,TEXT(AO$6,"mmmm"))),"") -> SEM | AP12: =IFERROR(INDIRECT(ADDRESS(ROWS($1:13),COLUMNS(Février!$A:L),,,TEXT(AP$6,"mmmm"))),"") -> 0 | AQ12: =IFERROR(INDIRECT(ADDRESS(ROWS($1:13),COLUMNS(Février!$A:M),,,TEXT(AQ$6,"mmmm"))),"") -> 0 | AR12: =IFERROR(INDIRECT(ADDRESS(ROWS($1:13),COLUMNS(Février!$A:N),,,TEXT(AR$6,"mmmm"))),"") -> 0 | AS12: =IFERROR(INDIRECT(ADDRESS(ROWS($1:13),COLUMNS(Février!$A:O),,,TEXT(AS$6,"mmmm"))),"") -> 0 | AT12: =IFERROR(INDIRECT(ADDRESS(ROWS($1:13),COLUMNS(Février!$A:P),,,TEXT(AT$6,"mmmm"))),"") -> 0 | AU12: =IFERROR(INDIRECT(ADDRESS(ROWS($1:13),COLUMNS(Février!$A:Q),,,TEXT(AU$6,"mmmm"))),"") -> 0 | AV12: =IFERROR(INDIRECT(ADDRESS(ROWS($1:13),COLUMNS(Février!$A:R),,,TEXT(AV$6,"mmmm"))),"") -> 0 | AW12: =IFERROR(INDIRECT(ADDRESS(ROWS($1:13),COLUMNS(Février!$A:S),,,TEXT(AW$6,"mmmm"))),"") -> 0 | AX12: =IFERROR(INDIRECT(ADDRESS(ROWS($1:13),COLUMNS(Février!$A:T),,,TEXT(AX$6,"mmmm"))),"") -> 0 | AY12: =IFERROR(INDIRECT(ADDRESS(ROWS($1:13),COLUMNS(Février!$A:U),,,TEXT(AY$6,"mmmm"))),"") -> 0 | AZ12: =IFERROR(INDIRECT(ADDRESS(ROWS($1:13),COLUMNS(Février!$A:V),,,TEXT(AZ$6,"mmmm"))),"") -> 0 | BA12: =IFERROR(INDIRECT(ADDRESS(ROWS($1:13),COLUMNS(Février!$A:W),,,TEXT(BA$6,"mmmm"))),"") -> 0 | BB12: =IFERROR(INDIRECT(ADDRESS(ROWS($1:13),COLUMNS(Février!$A:X),,,TEXT(BB$6,"mmmm"))),"") -> 0 | BC12: =IFERROR(INDIRECT(ADDRESS(ROWS($1:13),COLUMNS(Février!$A:Y),,,TEXT(BC$6,"mmmm"))),"") -> 0 | BD12: =IFERROR(INDIRECT(ADDRESS(ROWS($1:13),COLUMNS(Février!$A:Z),,,TEXT(BD$6,"mmmm"))),"") -> 0 | BE12: =IFERROR(INDIRECT(ADDRESS(ROWS($1:13),COLUMNS(Février!$A:AA),,,TEXT(BE$6,"mmmm"))),"") -> 0 | BF12: =IFERROR(INDIRECT(ADDRESS(ROWS($1:13),COLUMNS(Février!$A:AB),,,TEXT(BF$6,"mmmm"))),"") -> 0 | BG12: =IFERROR(INDIRECT(ADDRESS(ROWS($1:13),COLUMNS(Février!$A:AC),,,TEXT(BG$6,"mmmm"))),"") -> 0 | BH12: =IFERROR(INDIRECT(ADDRESS(ROWS($1:13),COLUMNS(Février!$A:AD),,,TEXT(BH$6,"mmmm"))),"") -> 0 | BI12: =IFERROR(INDIRECT(ADDRESS(ROWS($1:13),COLUMNS(Mars!$A:C),,,TEXT(BI$6,"mmmm"))),"") -> 0 | BJ12: =IFERROR(INDIRECT(ADDRESS(ROWS($1:13),COLUMNS(Mars!$A:D),,,TEXT(BJ$6,"mmmm"))),"") -> 0 | BK12: =IFERROR(INDIRECT(ADDRESS(ROWS($1:13),COLUMNS(Mars!$A:E),,,TEXT(BK$6,"mmmm"))),"") -> 0 | BL12: =IFERROR(INDIRECT(ADDRESS(ROWS($1:13),COLUMNS(Mars!$A:F),,,TEXT(BL$6,"mmmm"))),"") -> 0 | BM12: =IFERROR(INDIRECT(ADDRESS(ROWS($1:13),COLUMNS(Mars!$A:G),,,TEXT(BM$6,"mmmm"))),"") -> 0 | BN12: =IFERROR(INDIRECT(ADDRESS(ROWS($1:13),COLUMNS(Mars!$A:H),,,TEXT(BN$6,"mmmm"))),"") -> 0 | BO12: =IFERROR(INDIRECT(ADDRESS(ROWS($1:13),COLUMNS(Mars!$A:I),,,TEXT(BO$6,"mmmm"))),"") -> 0 | BP12: =IFERROR(INDIRECT(ADDRESS(ROWS($1:13),COLUMNS(Mars!$A:J),,,TEXT(BP$6,"mmmm"))),"") -> 0 | BQ12: =IFERROR(INDIRECT(ADDRESS(ROWS($1:13),COLUMNS(Mars!$A:K),,,TEXT(BQ$6,"mmmm"))),"") -> 0 | BR12: =IFERROR(INDIRECT(ADDRESS(ROWS($1:13),COLUMNS(Mars!$A:L),,,TEXT(BR$6,"mmmm"))),"") -> 0 | BS12: =IFERROR(INDIRECT(ADDRESS(ROWS($1:13),COLUMNS(Mars!$A:M),,,TEXT(BS$6,"mmmm"))),"") -> 0 | BT12: =IFERROR(INDIRECT(ADDRESS(ROWS($1:13),COLUMNS(Mars!$A:N),,,TEXT(BT$6,"mmmm"))),"") -> 0 | BU12: =IFERROR(INDIRECT(ADDRESS(ROWS($1:13),COLUMNS(Mars!$A:O),,,TEXT(BU$6,"mmmm"))),"") -> 0 | BV12: =IFERROR(INDIRECT(ADDRESS(ROWS($1:13),COLUMNS(Mars!$A:P),,,TEXT(BV$6,"mmmm"))),"") -> 0 | BW12: =IFERROR(INDIRECT(ADDRESS(ROWS($1:13),COLUMNS(Mars!$A:Q),,,TEXT(BW$6,"mmmm"))),"") -> 0 | BX12: =IFERROR(INDIRECT(ADDRESS(ROWS($1:13),COLUMNS(Mars!$A:R),,,TEXT(BX$6,"mmmm"))),"") -> 0 | BY12: =IFERROR(INDIRECT(ADDRESS(ROWS($1:13),COLUMNS(Mars!$A:S),,,TEXT(BY$6,"mmmm"))),"") -> 0 | BZ12: =IFERROR(INDIRECT(ADDRESS(ROWS($1:13),COLUMNS(Mars!$A:T),,,TEXT(BZ$6,"mmmm"))),"") -> 0 | CA12: =IFERROR(INDIRECT(ADDRESS(ROWS($1:13),COLUMNS(Mars!$A:U),,,TEXT(CA$6,"mmmm"))),"") -> 0 | CB12: =IFERROR(INDIRECT(ADDRESS(ROWS($1:13),COLUMNS(Mars!$A:V),,,TEXT(CB$6,"mmmm"))),"") -> 0 | CC12: =IFERROR(INDIRECT(ADDRESS(ROWS($1:13),COLUMNS(Mars!$A:W),,,TEXT(CC$6,"mmmm"))),"") -> 0 | CD12: =IFERROR(INDIRECT(ADDRESS(ROWS($1:13),COLUMNS(Mars!$A:X),,,TEXT(CD$6,"mmmm"))),"") -> 0 | CE12: =IFERROR(INDIRECT(ADDRESS(ROWS($1:13),COLUMNS(Mars!$A:Y),,,TEXT(CE$6,"mmmm"))),"") -> 0 | CF12: =IFERROR(INDIRECT(ADDRESS(ROWS($1:13),COLUMNS(Mars!$A:Z),,,TEXT(CF$6,"mmmm"))),"") -> 0 | CG12: =IFERROR(INDIRECT(ADDRESS(ROWS($1:13),COLUMNS(Mars!$A:AA),,,TEXT(CG$6,"mmmm"))),"") -> 0 | CH12: =IFERROR(INDIRECT(ADDRESS(ROWS($1:13),COLUMNS(Mars!$A:AB),,,TEXT(CH$6,"mmmm"))),"") -> 0 | CI12: =IFERROR(INDIRECT(ADDRESS(ROWS($1:13),COLUMNS(Mars!$A:AC),,,TEXT(CI$6,"mmmm"))),"") -> 0 | CJ12: =IFERROR(INDIRECT(ADDRESS(ROWS($1:13),COLUMNS(Mars!$A:AD),,,TEXT(CJ$6,"mmmm"))),"") -> 0 | CK12: =IFERROR(INDIRECT(ADDRESS(ROWS($1:13),COLUMNS(Mars!$A:AE),,,TEXT(CK$6,"mmmm"))),"") -> 0 | CL12: =IFERROR(INDIRECT(ADDRESS(ROWS($1:13),COLUMNS(Mars!$A:AF),,,TEXT(CL$6,"mmmm"))),"") -> 0 | CM12: =IFERROR(INDIRECT(ADDRESS(ROWS($1:13),COLUMNS(Mars!$A:AG),,,TEXT(CM$6,"mmmm"))),"") -> 0 | CN12: =IFERROR(INDIRECT(ADDRESS(ROWS($1:13),COLUMNS(Avril!$A:C),,,TEXT(CN$6,"mmmm"))),"") -> 0 | CO12: =IFERROR(INDIRECT(ADDRESS(ROWS($1:13),COLUMNS(Avril!$A:D),,,TEXT(CO$6,"mmmm"))),"") -> 0 | CP12: =IFERROR(INDIRECT(ADDRESS(ROWS($1:13),COLUMNS(Avril!$A:E),,,TEXT(CP$6,"mmmm"))),"") -> 0 | CQ12: =IFERROR(INDIRECT(ADDRESS(ROWS($1:13),COLUMNS(Avril!$A:F),,,TEXT(CQ$6,"mmmm"))),"") -> 0 | CR12: =IFERROR(INDIRECT(ADDRESS(ROWS($1:13),COLUMNS(Avril!$A:G),,,TEXT(CR$6,"mmmm"))),"") -> 0 | CS12: =IFERROR(INDIRECT(ADDRESS(ROWS($1:13),COLUMNS(Avril!$A:H),,,TEXT(CS$6,"mmmm"))),"") -> 0 | CT12: =IFERROR(INDIRECT(ADDRESS(ROWS($1:13),COLUMNS(Avril!$A:I),,,TEXT(CT$6,"mmmm"))),"") -> 0 | CU12: =IFERROR(INDIRECT(ADDRESS(ROWS($1:13),COLUMNS(Avril!$A:J),,,TEXT(CU$6,"mmmm"))),"") -> 0 | CV12: =IFERROR(INDIRECT(ADDRESS(ROWS($1:13),COLUMNS(Avril!$A:K),,,TEXT(CV$6,"mmmm"))),"") -> 0 | CW12: =IFERROR(INDIRECT(ADDRESS(ROWS($1:13),COLUMNS(Avril!$A:L),,,TEXT(CW$6,"mmmm"))),"") -> 0 | CX12: =IFERROR(INDIRECT(ADDRESS(ROWS($1:13),COLUMNS(Avril!$A:M),,,TEXT(CX$6,"mmmm"))),"") -> 0 | CY12: =IFERROR(INDIRECT(ADDRESS(ROWS($1:13),COLUMNS(Avril!$A:N),,,TEXT(CY$6,"mmmm"))),"") -> 0 | CZ12: =IFERROR(INDIRECT(ADDRESS(ROWS($1:13),COLUMNS(Avril!$A:O),,,TEXT(CZ$6,"mmmm"))),"") -> 0 | DA12: =IFERROR(INDIRECT(ADDRESS(ROWS($1:13),COLUMNS(Avril!$A:P),,,TEXT(DA$6,"mmmm"))),"") -> 0 | DB12: =IFERROR(INDIRECT(ADDRESS(ROWS($1:13),COLUMNS(Avril!$A:Q),,,TEXT(DB$6,"mmmm"))),"") -> 0 | DC12: =IFERROR(INDIRECT(ADDRESS(ROWS($1:13),COLUMNS(Avril!$A:R),,,TEXT(DC$6,"mmmm"))),"") -> 0 | DD12: =IFERROR(INDIRECT(ADDRESS(ROWS($1:13),COLUMNS(Avril!$A:S),,,TEXT(DD$6,"mmmm"))),"") -> 0 | DE12: =IFERROR(INDIRECT(ADDRESS(ROWS($1:13),COLUMNS(Avril!$A:T),,,TEXT(DE$6,"mmmm"))),"") -> 0 | DF12: =IFERROR(INDIRECT(ADDRESS(ROWS($1:13),COLUMNS(Avril!$A:U),,,TEXT(DF$6,"mmmm"))),"") -> 0 | DG12: =IFERROR(INDIRECT(ADDRESS(ROWS($1:13),COLUMNS(Avril!$A:V),,,TEXT(DG$6,"mmmm"))),"") -> 0 | DH12: =IFERROR(INDIRECT(ADDRESS(ROWS($1:13),COLUMNS(Avril!$A:W),,,TEXT(DH$6,"mmmm"))),"") -> 0 | DI12: =IFERROR(INDIRECT(ADDRESS(ROWS($1:13),COLUMNS(Avril!$A:X),,,TEXT(DI$6,"mmmm"))),"") -> 0 | DJ12: =IFERROR(INDIRECT(ADDRESS(ROWS($1:13),COLUMNS(Avril!$A:Y),,,TEXT(DJ$6,"mmmm"))),"") -> 0 | DK12: =IFERROR(INDIRECT(ADDRESS(ROWS($1:13),COLUMNS(Avril!$A:Z),,,TEXT(DK$6,"mmmm"))),"") -> 0 | DL12: =IFERROR(INDIRECT(ADDRESS(ROWS($1:13),COLUMNS(Avril!$A:AA),,,TEXT(DL$6,"mmmm"))),"") -> 0 | DM12: =IFERROR(INDIRECT(ADDRESS(ROWS($1:13),COLUMNS(Avril!$A:AB),,,TEXT(DM$6,"mmmm"))),"") -> 0 | DN12: =IFERROR(INDIRECT(ADDRESS(ROWS($1:13),COLUMNS(Avril!$A:AC),,,TEXT(DN$6,"mmmm"))),"") -> 0 | DO12: =IFERROR(INDIRECT(ADDRESS(ROWS($1:13),COLUMNS(Avril!$A:AD),,,TEXT(DO$6,"mmmm"))),"") -> 0 | DP12: =IFERROR(INDIRECT(ADDRESS(ROWS($1:13),COLUMNS(Avril!$A:AE),,,TEXT(DP$6,"mmmm"))),"") -> 0 | DQ12: =IFERROR(INDIRECT(ADDRESS(ROWS($1:13),COLUMNS(Avril!$A:AF),,,TEXT(DQ$6,"mmmm"))),"") -> 0 | DR12: =IFERROR(INDIRECT(ADDRESS(ROWS($1:13),COLUMNS(Avril!$A:C),,,TEXT(DR$6,"mmmm"))),"") -> 0 | DS12: =IFERROR(INDIRECT(ADDRESS(ROWS($1:13),COLUMNS(Avril!$A:D),,,TEXT(DS$6,"mmmm"))),"") -> 0 | DT12: =IFERROR(INDIRECT(ADDRESS(ROWS($1:13),COLUMNS(Avril!$A:E),,,TEXT(DT$6,"mmmm"))),"") -> 0 | DU12: =IFERROR(INDIRECT(ADDRESS(ROWS($1:13),COLUMNS(Avril!$A:F),,,TEXT(DU$6,"mmmm"))),"") -> 0 | DV12: =IFERROR(INDIRECT(ADDRESS(ROWS($1:13),COLUMNS(Avril!$A:G),,,TEXT(DV$6,"mmmm"))),"") -> 0 | DW12: =IFERROR(INDIRECT(ADDRESS(ROWS($1:13),COLUMNS(Avril!$A:H),,,TEXT(DW$6,"mmmm"))),"") -> 0 | DX12: =IFERROR(INDIRECT(ADDRESS(ROWS($1:13),COLUMNS(Avril!$A:I),,,TEXT(DX$6,"mmmm"))),"") -> 0 | DY12: =IFERROR(INDIRECT(ADDRESS(ROWS($1:13),COLUMNS(Avril!$A:J),,,TEXT(DY$6,"mmmm"))),"") -> 0 | DZ12: =IFERROR(INDIRECT(ADDRESS(ROWS($1:13),COLUMNS(Avril!$A:K),,,TEXT(DZ$6,"mmmm"))),"") -> 0 | EA12: =IFERROR(INDIRECT(ADDRESS(ROWS($1:13),COLUMNS(Avril!$A:L),,,TEXT(EA$6,"mmmm"))),"") -> 0 | EB12: =IFERROR(INDIRECT(ADDRESS(ROWS($1:13),COLUMNS(Avril!$A:M),,,TEXT(EB$6,"mmmm"))),"") -> 0 | EC12: =IFERROR(INDIRECT(ADDRESS(ROWS($1:13),COLUMNS(Avril!$A:N),,,TEXT(EC$6,"mmmm"))),"") -> 0 | ED12: =IFERROR(INDIRECT(ADDRESS(ROWS($1:13),COLUMNS(Avril!$A:O),,,TEXT(ED$6,"mmmm"))),"") -> 0 | EE12: =IFERROR(INDIRECT(ADDRESS(ROWS($1:13),COLUMNS(Avril!$A:P),,,TEXT(EE$6,"mmmm"))),"") -> 0 | EF12: =IFERROR(INDIRECT(ADDRESS(ROWS($1:13),COLUMNS(Avril!$A:Q),,,TEXT(EF$6,"mmmm"))),"") -> 0 | EG12: =IFERROR(INDIRECT(ADDRESS(ROWS($1:13),COLUMNS(Avril!$A:R),,,TEXT(EG$6,"mmmm"))),"") -> 0 | EH12: =IFERROR(INDIRECT(ADDRESS(ROWS($1:13),COLUMNS(Avril!$A:S),,,TEXT(EH$6,"mmmm"))),"") -> 0 | EI12: =IFERROR(INDIRECT(ADDRESS(ROWS($1:13),COLUMNS(Avril!$A:T),,,TEXT(EI$6,"mmmm"))),"") -> 0 | EJ12: =IFERROR(INDIRECT(ADDRESS(ROWS($1:13),COLUMNS(Avril!$A:U),,,TEXT(EJ$6,"mmmm"))),"") -> 0 | EK12: =IFERROR(INDIRECT(ADDRESS(ROWS($1:13),COLUMNS(Avril!$A:V),,,TEXT(EK$6,"mmmm"))),"") -> 0 | EL12: =IFERROR(INDIRECT(ADDRESS(ROWS($1:13),COLUMNS(Avril!$A:W),,,TEXT(EL$6,"mmmm"))),"") -> 0 | EM12: =IFERROR(INDIRECT(ADDRESS(ROWS($1:13),COLUMNS(Avril!$A:X),,,TEXT(EM$6,"mmmm"))),"") -> 0 | EN12: =IFERROR(INDIRECT(ADDRESS(ROWS($1:13),COLUMNS(Avril!$A:Y),,,TEXT(EN$6,"mmmm"))),"") -> 0 | EO12: =IFERROR(INDIRECT(ADDRESS(ROWS($1:13),COLUMNS(Avril!$A:Z),,,TEXT(EO$6,"mmmm"))),"") -> 0 | EP12: =IFERROR(INDIRECT(ADDRESS(ROWS($1:13),COLUMNS(Avril!$A:AA),,,TEXT(EP$6,"mmmm"))),"") -> 0 | EQ12: =IFERROR(INDIRECT(ADDRESS(ROWS($1:13),COLUMNS(Avril!$A:AB),,,TEXT(EQ$6,"mmmm"))),"") -> 0 | ER12: =IFERROR(INDIRECT(ADDRESS(ROWS($1:13),COLUMNS(Avril!$A:AC),,,TEXT(ER$6,"mmmm"))),"") -> 0 | ES12: =IFERROR(INDIRECT(ADDRESS(ROWS($1:13),COLUMNS(Avril!$A:AD),,,TEXT(ES$6,"mmmm"))),"") -> 0 | ET12: =IFERROR(INDIRECT(ADDRESS(ROWS($1:13),COLUMNS(Avril!$A:AE),,,TEXT(ET$6,"mmmm"))),"") -> 0 | EU12: =IFERROR(INDIRECT(ADDRESS(ROWS($1:13),COLUMNS(Avril!$A:AF),,,TEXT(EU$6,"mmmm"))),"") -> 0 | EV12: =IFERROR(INDIRECT(ADDRESS(ROWS($1:13),COLUMNS(Avril!$A:AG),,,TEXT(EV$6,"mmmm"))),"") -> 0 | EW12: =IFERROR(INDIRECT(ADDRESS(ROWS($1:13),COLUMNS(Juin!$A:C),,,TEXT(EW$6,"mmmm"))),"") -> 0 | EX12: =IFERROR(INDIRECT(ADDRESS(ROWS($1:13),COLUMNS(Juin!$A:D),,,TEXT(EX$6,"mmmm"))),"") -> 0 | EY12: =IFERROR(INDIRECT(ADDRESS(ROWS($1:13),COLUMNS(Juin!$A:E),,,TEXT(EY$6,"mmmm"))),"") -> 0 | EZ12: =IFERROR(INDIRECT(ADDRESS(ROWS($1:13),COLUMNS(Juin!$A:F),,,TEXT(EZ$6,"mmmm"))),"") -> 0 | FA12: =IFERROR(INDIRECT(ADDRESS(ROWS($1:13),COLUMNS(Juin!$A:G),,,TEXT(FA$6,"mmmm"))),"") -> 0 | FB12: =IFERROR(INDIRECT(ADDRESS(ROWS($1:13),COLUMNS(Juin!$A:H),,,TEXT(FB$6,"mmmm"))),"") -> 0 | FC12: =IFERROR(INDIRECT(ADDRESS(ROWS($1:13),COLUMNS(Juin!$A:I),,,TEXT(FC$6,"mmmm"))),"") -> 0 | FD12: =IFERROR(INDIRECT(ADDRESS(ROWS($1:13),COLUMNS(Juin!$A:J),,,TEXT(FD$6,"mmmm"))),"") -> 0 | FE12: =IFERROR(INDIRECT(ADDRESS(ROWS($1:13),COLUMNS(Juin!$A:K),,,TEXT(FE$6,"mmmm"))),"") -> 0 | FF12: =IFERROR(INDIRECT(ADDRESS(ROWS($1:13),COLUMNS(Juin!$A:L),,,TEXT(FF$6,"mmmm"))),"") -> 0 | FG12: =IFERROR(INDIRECT(ADDRESS(ROWS($1:13),COLUMNS(Juin!$A:M),,,TEXT(FG$6,"mmmm"))),"") -> 0 | FH12: =IFERROR(INDIRECT(ADDRESS(ROWS($1:13),COLUMNS(Juin!$A:N),,,TEXT(FH$6,"mmmm"))),"") -> 0 | FI12: =IFERROR(INDIRECT(ADDRESS(ROWS($1:13),COLUMNS(Juin!$A:O),,,TEXT(FI$6,"mmmm"))),"") -> 0 | FJ12: =IFERROR(INDIRECT(ADDRESS(ROWS($1:13),COLUMNS(Juin!$A:P),,,TEXT(FJ$6,"mmmm"))),"") -> 0 | FK12: =IFERROR(INDIRECT(ADDRESS(ROWS($1:13),COLUMNS(Juin!$A:Q),,,TEXT(FK$6,"mmmm"))),"") -> 0 | FL12: =IFERROR(INDIRECT(ADDRESS(ROWS($1:13),COLUMNS(Juin!$A:R),,,TEXT(FL$6,"mmmm"))),"") -> 0 | FM12: =IFERROR(INDIRECT(ADDRESS(ROWS($1:13),COLUMNS(Juin!$A:S),,,TEXT(FM$6,"mmmm"))),"") -> 0 | FN12: =IFERROR(INDIRECT(ADDRESS(ROWS($1:13),COLUMNS(Juin!$A:T),,,TEXT(FN$6,"mmmm"))),"") -> 0 | FO12: =IFERROR(INDIRECT(ADDRESS(ROWS($1:13),COLUMNS(Juin!$A:U),,,TEXT(FO$6,"mmmm"))),"") -> 0 | FP12: =IFERROR(INDIRECT(ADDRESS(ROWS($1:13),COLUMNS(Juin!$A:V),,,TEXT(FP$6,"mmmm"))),"") -> 0 | FQ12: =IFERROR(INDIRECT(ADDRESS(ROWS($1:13),COLUMNS(Juin!$A:W),,,TEXT(FQ$6,"mmmm"))),"") -> 0 | FR12: =IFERROR(INDIRECT(ADDRESS(ROWS($1:13),COLUMNS(Juin!$A:X),,,TEXT(FR$6,"mmmm"))),"") -> 0 | FS12: =IFERROR(INDIRECT(ADDRESS(ROWS($1:13),COLUMNS(Juin!$A:Y),,,TEXT(FS$6,"mmmm"))),"") -> 0 | FT12: =IFERROR(INDIRECT(ADDRESS(ROWS($1:13),COLUMNS(Juin!$A:Z),,,TEXT(FT$6,"mmmm"))),"") -> 0 | FU12: =IFERROR(INDIRECT(ADDRESS(ROWS($1:13),COLUMNS(Juin!$A:AA),,,TEXT(FU$6,"mmmm"))),"") -> 0 | FV12: =IFERROR(INDIRECT(ADDRESS(ROWS($1:13),COLUMNS(Juin!$A:AB),,,TEXT(FV$6,"mmmm"))),"") -> 0 | FW12: =IFERROR(INDIRECT(ADDRESS(ROWS($1:13),COLUMNS(Juin!$A:AC),,,TEXT(FW$6,"mmmm"))),"") -> 0 | FX12: =IFERROR(INDIRECT(ADDRESS(ROWS($1:13),COLUMNS(Juin!$A:AD),,,TEXT(FX$6,"mmmm"))),"") -> 0 | FY12: =IFERROR(INDIRECT(ADDRESS(ROWS($1:13),COLUMNS(Juin!$A:AE),,,TEXT(FY$6,"mmmm"))),"") -> 0 | FZ12: =IFERROR(INDIRECT(ADDRESS(ROWS($1:13),COLUMNS(Juin!$A:AF),,,TEXT(FZ$6,"mmmm"))),"") -> 0 | GA12: =IFERROR(INDIRECT(ADDRESS(ROWS($1:13),COLUMNS(Juillet!$A:C),,,TEXT(GA$6,"mmmm"))),"") -> 0 | GB12: =IFERROR(INDIRECT(ADDRESS(ROWS($1:13),COLUMNS(Juillet!$A:D),,,TEXT(GB$6,"mmmm"))),"") -> 0 | GC12: =IFERROR(INDIRECT(ADDRESS(ROWS($1:13),COLUMNS(Juillet!$A:E),,,TEXT(GC$6,"mmmm"))),"") -> 0 | GD12: =IFERROR(INDIRECT(ADDRESS(ROWS($1:13),COLUMNS(Juillet!$A:F),,,TEXT(GD$6,"mmmm"))),"") -> 0 | GE12: =IFERROR(INDIRECT(ADDRESS(ROWS($1:13),COLUMNS(Juillet!$A:G),,,TEXT(GE$6,"mmmm"))),"") -> 0 | GF12: =IFERROR(INDIRECT(ADDRESS(ROWS($1:13),COLUMNS(Juillet!$A:H),,,TEXT(GF$6,"mmmm"))),"") -> 0 | GG12: =IFERROR(INDIRECT(ADDRESS(ROWS($1:13),COLUMNS(Juillet!$A:I),,,TEXT(GG$6,"mmmm"))),"") -> 0 | GH12: =IFERROR(INDIRECT(ADDRESS(ROWS($1:13),COLUMNS(Juillet!$A:J),,,TEXT(GH$6,"mmmm"))),"") -> 0 | GI12: =IFERROR(INDIRECT(ADDRESS(ROWS($1:13),COLUMNS(Juillet!$A:K),,,TEXT(GI$6,"mmmm"))),"") -> 0 | GJ12: =IFERROR(INDIRECT(ADDRESS(ROWS($1:13),COLUMNS(Juillet!$A:L),,,TEXT(GJ$6,"mmmm"))),"") -> 0 | GK12: =IFERROR(INDIRECT(ADDRESS(ROWS($1:13),COLUMNS(Juillet!$A:M),,,TEXT(GK$6,"mmmm"))),"") -> 0 | GL12: =IFERROR(INDIRECT(ADDRESS(ROWS($1:13),COLUMNS(Juillet!$A:N),,,TEXT(GL$6,"mmmm"))),"") -> 0 | GM12: =IFERROR(INDIRECT(ADDRESS(ROWS($1:13),COLUMNS(Juillet!$A:O),,,TEXT(GM$6,"mmmm"))),"") -> 0 | GN12: =IFERROR(INDIRECT(ADDRESS(ROWS($1:13),COLUMNS(Juillet!$A:P),,,TEXT(GN$6,"mmmm"))),"") -> 0 | GO12: =IFERROR(INDIRECT(ADDRESS(ROWS($1:13),COLUMNS(Juillet!$A:Q),,,TEXT(GO$6,"mmmm"))),"") -> 0 | GP12: =IFERROR(INDIRECT(ADDRESS(ROWS($1:13),COLUMNS(Juillet!$A:R),,,TEXT(GP$6,"mmmm"))),"") -> 0 | GQ12: =IFERROR(INDIRECT(ADDRESS(ROWS($1:13),COLUMNS(Juillet!$A:S),,,TEXT(GQ$6,"mmmm"))),"") -> 0 | GR12: =IFERROR(INDIRECT(ADDRESS(ROWS($1:13),COLUMNS(Juillet!$A:T),,,TEXT(GR$6,"mmmm"))),"") -> 0 | GS12: =IFERROR(INDIRECT(ADDRESS(ROWS($1:13),COLUMNS(Juillet!$A:U),,,TEXT(GS$6,"mmmm"))),"") -> 0 | GT12: =IFERROR(INDIRECT(ADDRESS(ROWS($1:13),COLUMNS(Juillet!$A:V),,,TEXT(GT$6,"mmmm"))),"") -> 0 | GU12: =IFERROR(INDIRECT(ADDRESS(ROWS($1:13),COLUMNS(Juillet!$A:W),,,TEXT(GU$6,"mmmm"))),"") -> 0 | GV12: =IFERROR(INDIRECT(ADDRESS(ROWS($1:13),COLUMNS(Juillet!$A:X),,,TEXT(GV$6,"mmmm"))),"") -> 0 | GW12: =IFERROR(INDIRECT(ADDRESS(ROWS($1:13),COLUMNS(Juillet!$A:Y),,,TEXT(GW$6,"mmmm"))),"") -> 0 | GX12: =IFERROR(INDIRECT(ADDRESS(ROWS($1:13),COLUMNS(Juillet!$A:Z),,,TEXT(GX$6,"mmmm"))),"") -> 0 | GY12: =IFERROR(INDIRECT(ADDRESS(ROWS($1:13),COLUMNS(Juillet!$A:AA),,,TEXT(GY$6,"mmmm"))),"") -> 0 | GZ12: =IFERROR(INDIRECT(ADDRESS(ROWS($1:13),COLUMNS(Juillet!$A:AB),,,TEXT(GZ$6,"mmmm"))),"") -> 0 | HA12: =IFERROR(INDIRECT(ADDRESS(ROWS($1:13),COLUMNS(Juillet!$A:AC),,,TEXT(HA$6,"mmmm"))),"") -> 0 | HB12: =IFERROR(INDIRECT(ADDRESS(ROWS($1:13),COLUMNS(Juillet!$A:AD),,,TEXT(HB$6,"mmmm"))),"") -> 0 | HC12: =IFERROR(INDIRECT(ADDRESS(ROWS($1:13),COLUMNS(Juillet!$A:AE),,,TEXT(HC$6,"mmmm"))),"") -> 0 | HD12: =IFERROR(INDIRECT(ADDRESS(ROWS($1:13),COLUMNS(Juillet!$A:AF),,,TEXT(HD$6,"mmmm"))),"") -> 0 | HE12: =IFERROR(INDIRECT(ADDRESS(ROWS($1:13),COLUMNS(Juillet!$A:AG),,,TEXT(HE$6,"mmmm"))),"") -> 0 | HF12: =IFERROR(INDIRECT(ADDRESS(ROWS($1:13),COLUMNS(Août!$A:C),,,TEXT(HF$6,"mmmm"))),"") -> 0 | HG12: =IFERROR(INDIRECT(ADDRESS(ROWS($1:13),COLUMNS(Août!$A:D),,,TEXT(HG$6,"mmmm"))),"") -> 0 | HH12: =IFERROR(INDIRECT(ADDRESS(ROWS($1:13),COLUMNS(Août!$A:E),,,TEXT(HH$6,"mmmm"))),"") -> 0 | HI12: =IFERROR(INDIRECT(ADDRESS(ROWS($1:13),COLUMNS(Août!$A:F),,,TEXT(HI$6,"mmmm"))),"") -> 0 | HJ12: =IFERROR(INDIRECT(ADDRESS(ROWS($1:13),COLUMNS(Août!$A:G),,,TEXT(HJ$6,"mmmm"))),"") -> 0 | HK12: =IFERROR(INDIRECT(ADDRESS(ROWS($1:13),COLUMNS(Août!$A:H),,,TEXT(HK$6,"mmmm"))),"") -> 0 | HL12: =IFERROR(INDIRECT(ADDRESS(ROWS($1:13),COLUMNS(Août!$A:I),,,TEXT(HL$6,"mmmm"))),"") -> 0 | HM12: =IFERROR(INDIRECT(ADDRESS(ROWS($1:13),COLUMNS(Août!$A:J),,,TEXT(HM$6,"mmmm"))),"") -> 0 | HN12: =IFERROR(INDIRECT(ADDRESS(ROWS($1:13),COLUMNS(Août!$A:K),,,TEXT(HN$6,"mmmm"))),"") -> 0 | HO12: =IFERROR(INDIRECT(ADDRESS(ROWS($1:13),COLUMNS(Août!$A:L),,,TEXT(HO$6,"mmmm"))),"") -> 0 | HP12: =IFERROR(INDIRECT(ADDRESS(ROWS($1:13),COLUMNS(Août!$A:M),,,TEXT(HP$6,"mmmm"))),"") -> 0 | HQ12: =IFERROR(INDIRECT(ADDRESS(ROWS($1:13),COLUMNS(Août!$A:N),,,TEXT(HQ$6,"mmmm"))),"") -> 0 | HR12: =IFERROR(INDIRECT(ADDRESS(ROWS($1:13),COLUMNS(Août!$A:O),,,TEXT(HR$6,"mmmm"))),"") -> 0 | HS12: =IFERROR(INDIRECT(ADDRESS(ROWS($1:13),COLUMNS(Août!$A:P),,,TEXT(HS$6,"mmmm"))),"") -> 0 | HT12: =IFERROR(INDIRECT(ADDRESS(ROWS($1:13),COLUMNS(Août!$A:Q),,,TEXT(HT$6,"mmmm"))),"") -> 0 | HU12: =IFERROR(INDIRECT(ADDRESS(ROWS($1:13),COLUMNS(Août!$A:R),,,TEXT(HU$6,"mmmm"))),"") -> 0 | HV12: =IFERROR(INDIRECT(ADDRESS(ROWS($1:13),COLUMNS(Août!$A:S),,,TEXT(HV$6,"mmmm"))),"") -> 0 | HW12: =IFERROR(INDIRECT(ADDRESS(ROWS($1:13),COLUMNS(Août!$A:T),,,TEXT(HW$6,"mmmm"))),"") -> 0 | HX12: =IFERROR(INDIRECT(ADDRESS(ROWS($1:13),COLUMNS(Août!$A:U),,,TEXT(HX$6,"mmmm"))),"") -> 0 | HY12: =IFERROR(INDIRECT(ADDRESS(ROWS($1:13),COLUMNS(Août!$A:V),,,TEXT(HY$6,"mmmm"))),"") -> 0 | HZ12: =IFERROR(INDIRECT(ADDRESS(ROWS($1:13),COLUMNS(Août!$A:W),,,TEXT(HZ$6,"mmmm"))),"") -> 0 | IA12: =IFERROR(INDIRECT(ADDRESS(ROWS($1:13),COLUMNS(Août!$A:X),,,TEXT(IA$6,"mmmm"))),"") -> 0 | IB12: =IFERROR(INDIRECT(ADDRESS(ROWS($1:13),COLUMNS(Août!$A:Y),,,TEXT(IB$6,"mmmm"))),"") -> 0 | IC12: =IFERROR(INDIRECT(ADDRESS(ROWS($1:13),COLUMNS(Août!$A:Z),,,TEXT(IC$6,"mmmm"))),"") -> 0 | ID12: =IFERROR(INDIRECT(ADDRESS(ROWS($1:13),COLUMNS(Août!$A:AA),,,TEXT(ID$6,"mmmm"))),"") -> 0 | IE12: =IFERROR(INDIRECT(ADDRESS(ROWS($1:13),COLUMNS(Août!$A:AB),,,TEXT(IE$6,"mmmm"))),"") -> 0 | IF12: =IFERROR(INDIRECT(ADDRESS(ROWS($1:13),COLUMNS(Août!$A:AC),,,TEXT(IF$6,"mmmm"))),"") -> 0 | IG12: =IFERROR(INDIRECT(ADDRESS(ROWS($1:13),COLUMNS(Août!$A:AD),,,TEXT(IG$6,"mmmm"))),"") -> 0 | IH12: =IFERROR(INDIRECT(ADDRESS(ROWS($1:13),COLUMNS(Août!$A:AE),,,TEXT(IH$6,"mmmm"))),"") -> 0 | II12: =IFERROR(INDIRECT(ADDRESS(ROWS($1:13),COLUMNS(Août!$A:AF),,,TEXT(II$6,"mmmm"))),"") -> 0 | IJ12: =IFERROR(INDIRECT(ADDRESS(ROWS($1:13),COLUMNS(Août!$A:AG),,,TEXT(IJ$6,"mmmm"))),"") -> 0 | IK12: =IFERROR(INDIRECT(ADDRESS(ROWS($1:13),COLUMNS(Septembre!$A:C),,,TEXT(IK$6,"mmmm"))),"") -> 0 | IL12: =IFERROR(INDIRECT(ADDRESS(ROWS($1:13),COLUMNS(Septembre!$A:D),,,TEXT(IL$6,"mmmm"))),"") -> 0 | IM12: =IFERROR(INDIRECT(ADDRESS(ROWS($1:13),COLUMNS(Septembre!$A:E),,,TEXT(IM$6,"mmmm"))),"") -> 0 | IN12: =IFERROR(INDIRECT(ADDRESS(ROWS($1:13),COLUMNS(Septembre!$A:F),,,TEXT(IN$6,"mmmm"))),"") -> 0 | IO12: =IFERROR(INDIRECT(ADDRESS(ROWS($1:13),COLUMNS(Septembre!$A:G),,,TEXT(IO$6,"mmmm"))),"") -> 0 | IP12: =IFERROR(INDIRECT(ADDRESS(ROWS($1:13),COLUMNS(Septembre!$A:H),,,TEXT(IP$6,"mmmm"))),"") -> 0 | IQ12: =IFERROR(INDIRECT(ADDRESS(ROWS($1:13),COLUMNS(Septembre!$A:I),,,TEXT(IQ$6,"mmmm"))),"") -> 0 | IR12: =IFERROR(INDIRECT(ADDRESS(ROWS($1:13),COLUMNS(Septembre!$A:J),,,TEXT(IR$6,"mmmm"))),"") -> 0 | IS12: =IFERROR(INDIRECT(ADDRESS(ROWS($1:13),COLUMNS(Septembre!$A:K),,,TEXT(IS$6,"mmmm"))),"") -> 0 | IT12: =IFERROR(INDIRECT(ADDRESS(ROWS($1:13),COLUMNS(Septembre!$A:L),,,TEXT(IT$6,"mmmm"))),"") -> 0 | IU12: =IFERROR(INDIRECT(ADDRESS(ROWS($1:13),COLUMNS(Septembre!$A:M),,,TEXT(IU$6,"mmmm"))),"") -> 0 | IV12: =IFERROR(INDIRECT(ADDRESS(ROWS($1:13),COLUMNS(Septembre!$A:N),,,TEXT(IV$6,"mmmm"))),"") -> 0 | IW12: =IFERROR(INDIRECT(ADDRESS(ROWS($1:13),COLUMNS(Septembre!$A:O),,,TEXT(IW$6,"mmmm"))),"") -> 0 | IX12: =IFERROR(INDIRECT(ADDRESS(ROWS($1:13),COLUMNS(Septembre!$A:P),,,TEXT(IX$6,"mmmm"))),"") -> 0 | IY12: =IFERROR(INDIRECT(ADDRESS(ROWS($1:13),COLUMNS(Septembre!$A:Q),,,TEXT(IY$6,"mmmm"))),"") -> 0 | IZ12: =IFERROR(INDIRECT(ADDRESS(ROWS($1:13),COLUMNS(Septembre!$A:R),,,TEXT(IZ$6,"mmmm"))),"") -> 0 | JA12: =IFERROR(INDIRECT(ADDRESS(ROWS($1:13),COLUMNS(Septembre!$A:S),,,TEXT(JA$6,"mmmm"))),"") -> 0 | JB12: =IFERROR(INDIRECT(ADDRESS(ROWS($1:13),COLUMNS(Septembre!$A:T),,,TEXT(JB$6,"mmmm"))),"") -> 0 | JC12: =IFERROR(INDIRECT(ADDRESS(ROWS($1:13),COLUMNS(Septembre!$A:U),,,TEXT(JC$6,"mmmm"))),"") -> 0 | JD12: =IFERROR(INDIRECT(ADDRESS(ROWS($1:13),COLUMNS(Septembre!$A:V),,,TEXT(JD$6,"mmmm"))),"") -> 0 | JE12: =IFERROR(INDIRECT(ADDRESS(ROWS($1:13),COLUMNS(Septembre!$A:W),,,TEXT(JE$6,"mmmm"))),"") -> 0 | JF12: =IFERROR(INDIRECT(ADDRESS(ROWS($1:13),COLUMNS(Septembre!$A:X),,,TEXT(JF$6,"mmmm"))),"") -> 0 | JG12: =IFERROR(INDIRECT(ADDRESS(ROWS($1:13),COLUMNS(Septembre!$A:Y),,,TEXT(JG$6,"mmmm"))),"") -> 0 | JH12: =IFERROR(INDIRECT(ADDRESS(ROWS($1:13),COLUMNS(Septembre!$A:Z),,,TEXT(JH$6,"mmmm"))),"") -> 0 | JI12: =IFERROR(INDIRECT(ADDRESS(ROWS($1:13),COLUMNS(Septembre!$A:AA),,,TEXT(JI$6,"mmmm"))),"") -> 0 | JJ12: =IFERROR(INDIRECT(ADDRESS(ROWS($1:13),COLUMNS(Septembre!$A:AB),,,TEXT(JJ$6,"mmmm"))),"") -> 0 | JK12: =IFERROR(INDIRECT(ADDRESS(ROWS($1:13),COLUMNS(Septembre!$A:AC),,,TEXT(JK$6,"mmmm"))),"") -> 0 | JL12: =IFERROR(INDIRECT(ADDRESS(ROWS($1:13),COLUMNS(Septembre!$A:AD),,,TEXT(JL$6,"mmmm"))),"") -> 0 | JM12: =IFERROR(INDIRECT(ADDRESS(ROWS($1:13),COLUMNS(Septembre!$A:AE),,,TEXT(JM$6,"mmmm"))),"") -> 0 | JN12: =IFERROR(INDIRECT(ADDRESS(ROWS($1:13),COLUMNS(Septembre!$A:AF),,,TEXT(JN$6,"mmmm"))),"") -> 0 | JO12: =IFERROR(INDIRECT(ADDRESS(ROWS($1:13),COLUMNS(Octobre!$A:C),,,TEXT(JO$6,"mmmm"))),"") -> 0 | JP12: =IFERROR(INDIRECT(ADDRESS(ROWS($1:13),COLUMNS(Octobre!$A:D),,,TEXT(JP$6,"mmmm"))),"") -> 0 | JQ12: =IFERROR(INDIRECT(ADDRESS(ROWS($1:13),COLUMNS(Octobre!$A:E),,,TEXT(JQ$6,"mmmm"))),"") -> 0 | JR12: =IFERROR(INDIRECT(ADDRESS(ROWS($1:13),COLUMNS(Octobre!$A:F),,,TEXT(JR$6,"mmmm"))),"") -> 0 | JS12: =IFERROR(INDIRECT(ADDRESS(ROWS($1:13),COLUMNS(Octobre!$A:G),,,TEXT(JS$6,"mmmm"))),"") -> 0 | JT12: =IFERROR(INDIRECT(ADDRESS(ROWS($1:13),COLUMNS(Octobre!$A:H),,,TEXT(JT$6,"mmmm"))),"") -> 0 | JU12: =IFERROR(INDIRECT(ADDRESS(ROWS($1:13),COLUMNS(Octobre!$A:I),,,TEXT(JU$6,"mmmm"))),"") -> 0 | JV12: =IFERROR(INDIRECT(ADDRESS(ROWS($1:13),COLUMNS(Octobre!$A:J),,,TEXT(JV$6,"mmmm"))),"") -> 0 | JW12: =IFERROR(INDIRECT(ADDRESS(ROWS($1:13),COLUMNS(Octobre!$A:K),,,TEXT(JW$6,"mmmm"))),"") -> 0 | JX12: =IFERROR(INDIRECT(ADDRESS(ROWS($1:13),COLUMNS(Octobre!$A:L),,,TEXT(JX$6,"mmmm"))),"") -> 0 | JY12: =IFERROR(INDIRECT(ADDRESS(ROWS($1:13),COLUMNS(Octobre!$A:M),,,TEXT(JY$6,"mmmm"))),"") -> 0 | JZ12: =IFERROR(INDIRECT(ADDRESS(ROWS($1:13),COLUMNS(Octobre!$A:N),,,TEXT(JZ$6,"mmmm"))),"") -> 0 | KA12: =IFERROR(INDIRECT(ADDRESS(ROWS($1:13),COLUMNS(Octobre!$A:O),,,TEXT(KA$6,"mmmm"))),"") -> 0 | KB12: =IFERROR(INDIRECT(ADDRESS(ROWS($1:13),COLUMNS(Octobre!$A:P),,,TEXT(KB$6,"mmmm"))),"") -> 0 | KC12: =IFERROR(INDIRECT(ADDRESS(ROWS($1:13),COLUMNS(Octobre!$A:Q),,,TEXT(KC$6,"mmmm"))),"") -> 0 | KD12: =IFERROR(INDIRECT(ADDRESS(ROWS($1:13),COLUMNS(Octobre!$A:R),,,TEXT(KD$6,"mmmm"))),"") -> 0 | KE12: =IFERROR(INDIRECT(ADDRESS(ROWS($1:13),COLUMNS(Octobre!$A:S),,,TEXT(KE$6,"mmmm"))),"") -> 0 | KF12: =IFERROR(INDIRECT(ADDRESS(ROWS($1:13),COLUMNS(Octobre!$A:T),,,TEXT(KF$6,"mmmm"))),"") -> 0 | KG12: =IFERROR(INDIRECT(ADDRESS(ROWS($1:13),COLUMNS(Octobre!$A:U),,,TEXT(KG$6,"mmmm"))),"") -> 0 | KH12: =IFERROR(INDIRECT(ADDRESS(ROWS($1:13),COLUMNS(Octobre!$A:V),,,TEXT(KH$6,"mmmm"))),"") -> 0 | KI12: =IFERROR(INDIRECT(ADDRESS(ROWS($1:13),COLUMNS(Octobre!$A:W),,,TEXT(KI$6,"mmmm"))),"") -> 0 | KJ12: =IFERROR(INDIRECT(ADDRESS(ROWS($1:13),COLUMNS(Octobre!$A:X),,,TEXT(KJ$6,"mmmm"))),"") -> 0 | KK12: =IFERROR(INDIRECT(ADDRESS(ROWS($1:13),COLUMNS(Octobre!$A:Y),,,TEXT(KK$6,"mmmm"))),"") -> 0 | KL12: =IFERROR(INDIRECT(ADDRESS(ROWS($1:13),COLUMNS(Octobre!$A:Z),,,TEXT(KL$6,"mmmm"))),"") -> 0 | KM12: =IFERROR(INDIRECT(ADDRESS(ROWS($1:13),COLUMNS(Octobre!$A:AA),,,TEXT(KM$6,"mmmm"))),"") -> 0 | KN12: =IFERROR(INDIRECT(ADDRESS(ROWS($1:13),COLUMNS(Octobre!$A:AB),,,TEXT(KN$6,"mmmm"))),"") -> 0 | KO12: =IFERROR(INDIRECT(ADDRESS(ROWS($1:13),COLUMNS(Octobre!$A:AC),,,TEXT(KO$6,"mmmm"))),"") -> 0 | KP12: =IFERROR(INDIRECT(ADDRESS(ROWS($1:13),COLUMNS(Octobre!$A:AD),,,TEXT(KP$6,"mmmm"))),"") -> 0 | KQ12: =IFERROR(INDIRECT(ADDRESS(ROWS($1:13),COLUMNS(Octobre!$A:AE),,,TEXT(KQ$6,"mmmm"))),"") -> 0 | KR12: =IFERROR(INDIRECT(ADDRESS(ROWS($1:13),COLUMNS(Octobre!$A:AF),,,TEXT(KR$6,"mmmm"))),"") -> 0 | KS12: =IFERROR(INDIRECT(ADDRESS(ROWS($1:13),COLUMNS(Octobre!$A:AG),,,TEXT(KS$6,"mmmm"))),"") -> 0 | KT12: =IFERROR(INDIRECT(ADDRESS(ROWS($1:13),COLUMNS(Novembre!$A:C),,,TEXT(KT$6,"mmmm"))),"") -> 0 | KU12: =IFERROR(INDIRECT(ADDRESS(ROWS($1:13),COLUMNS(Novembre!$A:D),,,TEXT(KU$6,"mmmm"))),"") -> 0 | KV12: =IFERROR(INDIRECT(ADDRESS(ROWS($1:13),COLUMNS(Novembre!$A:E),,,TEXT(KV$6,"mmmm"))),"") -> 0 | KW12: =IFERROR(INDIRECT(ADDRESS(ROWS($1:13),COLUMNS(Novembre!$A:F),,,TEXT(KW$6,"mmmm"))),"") -> 0 | KX12: =IFERROR(INDIRECT(ADDRESS(ROWS($1:13),COLUMNS(Novembre!$A:G),,,TEXT(KX$6,"mmmm"))),"") -> 0 | KY12: =IFERROR(INDIRECT(ADDRESS(ROWS($1:13),COLUMNS(Novembre!$A:H),,,TEXT(KY$6,"mmmm"))),"") -> 0 | KZ12: =IFERROR(INDIRECT(ADDRESS(ROWS($1:13),COLUMNS(Novembre!$A:I),,,TEXT(KZ$6,"mmmm"))),"") -> 0 | LA12: =IFERROR(INDIRECT(ADDRESS(ROWS($1:13),COLUMNS(Novembre!$A:J),,,TEXT(LA$6,"mmmm"))),"") -> 0 | LB12: =IFERROR(INDIRECT(ADDRESS(ROWS($1:13),COLUMNS(Novembre!$A:K),,,TEXT(LB$6,"mmmm"))),"") -> 0 | LC12: =IFERROR(INDIRECT(ADDRESS(ROWS($1:13),COLUMNS(Novembre!$A:L),,,TEXT(LC$6,"mmmm"))),"") -> 0 | LD12: =IFERROR(INDIRECT(ADDRESS(ROWS($1:13),COLUMNS(Novembre!$A:M),,,TEXT(LD$6,"mmmm"))),"") -> 0 | LE12: =IFERROR(INDIRECT(ADDRESS(ROWS($1:13),COLUMNS(Novembre!$A:N),,,TEXT(LE$6,"mmmm"))),"") -> 0 | LF12: =IFERROR(INDIRECT(ADDRESS(ROWS($1:13),COLUMNS(Novembre!$A:O),,,TEXT(LF$6,"mmmm"))),"") -> 0 | LG12: =IFERROR(INDIRECT(ADDRESS(ROWS($1:13),COLUMNS(Novembre!$A:P),,,TEXT(LG$6,"mmmm"))),"") -> 0 | LH12: =IFERROR(INDIRECT(ADDRESS(ROWS($1:13),COLUMNS(Novembre!$A:Q),,,TEXT(LH$6,"mmmm"))),"") -> 0 | LI12: =IFERROR(INDIRECT(ADDRESS(ROWS($1:13),COLUMNS(Novembre!$A:R),,,TEXT(LI$6,"mmmm"))),"") -> 0 | LJ12: =IFERROR(INDIRECT(ADDRESS(ROWS($1:13),COLUMNS(Novembre!$A:S),,,TEXT(LJ$6,"mmmm"))),"") -> 0 | LK12: =IFERROR(INDIRECT(ADDRESS(ROWS($1:13),COLUMNS(Novembre!$A:T),,,TEXT(LK$6,"mmmm"))),"") -> 0 | LL12: =IFERROR(INDIRECT(ADDRESS(ROWS($1:13),COLUMNS(Novembre!$A:U),,,TEXT(LL$6,"mmmm"))),"") -> 0 | LM12: =IFERROR(INDIRECT(ADDRESS(ROWS($1:13),COLUMNS(Novembre!$A:V),,,TEXT(LM$6,"mmmm"))),"") -> 0 | LN12: =IFERROR(INDIRECT(ADDRESS(ROWS($1:13),COLUMNS(Novembre!$A:W),,,TEXT(LN$6,"mmmm"))),"") -> 0 | LO12: =IFERROR(INDIRECT(ADDRESS(ROWS($1:13),COLUMNS(Novembre!$A:X),,,TEXT(LO$6,"mmmm"))),"") -> 0 | LP12: =IFERROR(INDIRECT(ADDRESS(ROWS($1:13),COLUMNS(Novembre!$A:Y),,,TEXT(LP$6,"mmmm"))),"") -> 0 | LQ12: =IFERROR(INDIRECT(ADDRESS(ROWS($1:13),COLUMNS(Novembre!$A:Z),,,TEXT(LQ$6,"mmmm"))),"") -> 0 | LR12: =IFERROR(INDIRECT(ADDRESS(ROWS($1:13),COLUMNS(Novembre!$A:AA),,,TEXT(LR$6,"mmmm"))),"") -> 0 | LS12: =IFERROR(INDIRECT(ADDRESS(ROWS($1:13),COLUMNS(Novembre!$A:AB),,,TEXT(LS$6,"mmmm"))),"") -> 0 | LT12: =IFERROR(INDIRECT(ADDRESS(ROWS($1:13),COLUMNS(Novembre!$A:AC),,,TEXT(LT$6,"mmmm"))),"") -> 0 | LU12: =IFERROR(INDIRECT(ADDRESS(ROWS($1:13),COLUMNS(Novembre!$A:AD),,,TEXT(LU$6,"mmmm"))),"") -> 0 | LV12: =IFERROR(INDIRECT(ADDRESS(ROWS($1:13),COLUMNS(Novembre!$A:AE),,,TEXT(LV$6,"mmmm"))),"") -> 0 | LW12: =IFERROR(INDIRECT(ADDRESS(ROWS($1:13),COLUMNS(Novembre!$A:AF),,,TEXT(LW$6,"mmmm"))),"") -> 0 | LX12: =IFERROR(INDIRECT(ADDRESS(ROWS($1:13),COLUMNS(Décembre!$A:C),,,TEXT(LX$6,"mmmm"))),"") -> 0 | LY12: =IFERROR(INDIRECT(ADDRESS(ROWS($1:13),COLUMNS(Décembre!$A:D),,,TEXT(LY$6,"mmmm"))),"") -> 0 | LZ12: =IFERROR(INDIRECT(ADDRESS(ROWS($1:13),COLUMNS(Décembre!$A:E),,,TEXT(LZ$6,"mmmm"))),"") -> 0 | MA12: =IFERROR(INDIRECT(ADDRESS(ROWS($1:13),COLUMNS(Décembre!$A:F),,,TEXT(MA$6,"mmmm"))),"") -> 0 | MB12: =IFERROR(INDIRECT(ADDRESS(ROWS($1:13),COLUMNS(Décembre!$A:G),,,TEXT(MB$6,"mmmm"))),"") -> 0 | MC12: =IFERROR(INDIRECT(ADDRESS(ROWS($1:13),COLUMNS(Décembre!$A:H),,,TEXT(MC$6,"mmmm"))),"") -> 0 | MD12: =IFERROR(INDIRECT(ADDRESS(ROWS($1:13),COLUMNS(Décembre!$A:I),,,TEXT(MD$6,"mmmm"))),"") -> 0 | ME12: =IFERROR(INDIRECT(ADDRESS(ROWS($1:13),COLUMNS(Décembre!$A:J),,,TEXT(ME$6,"mmmm"))),"") -> 0 | MF12: =IFERROR(INDIRECT(ADDRESS(ROWS($1:13),COLUMNS(Décembre!$A:K),,,TEXT(MF$6,"mmmm"))),"") -> 0 | MG12: =IFERROR(INDIRECT(ADDRESS(ROWS($1:13),COLUMNS(Décembre!$A:L),,,TEXT(MG$6,"mmmm"))),"") -> 0 | MH12: =IFERROR(INDIRECT(ADDRESS(ROWS($1:13),COLUMNS(Décembre!$A:M),,,TEXT(MH$6,"mmmm"))),"") -> 0 | MI12: =IFERROR(INDIRECT(ADDRESS(ROWS($1:13),COLUMNS(Décembre!$A:N),,,TEXT(MI$6,"mmmm"))),"") -> 0 | MJ12: =IFERROR(INDIRECT(ADDRESS(ROWS($1:13),COLUMNS(Décembre!$A:O),,,TEXT(MJ$6,"mmmm"))),"") -> 0 | MK12: =IFERROR(INDIRECT(ADDRESS(ROWS($1:13),COLUMNS(Décembre!$A:P),,,TEXT(MK$6,"mmmm"))),"") -> 0 | ML12: =IFERROR(INDIRECT(ADDRESS(ROWS($1:13),COLUMNS(Décembre!$A:Q),,,TEXT(ML$6,"mmmm"))),"") -> 0 | MM12: =IFERROR(INDIRECT(ADDRESS(ROWS($1:13),COLUMNS(Décembre!$A:R),,,TEXT(MM$6,"mmmm"))),"") -> 0 | MN12: =IFERROR(INDIRECT(ADDRESS(ROWS($1:13),COLUMNS(Décembre!$A:S),,,TEXT(MN$6,"mmmm"))),"") -> 0 | MO12: =IFERROR(INDIRECT(ADDRESS(ROWS($1:13),COLUMNS(Décembre!$A:T),,,TEXT(MO$6,"mmmm"))),"") -> 0 | MP12: =IFERROR(INDIRECT(ADDRESS(ROWS($1:13),COLUMNS(Décembre!$A:U),,,TEXT(MP$6,"mmmm"))),"") -> 0 | MQ12: =IFERROR(INDIRECT(ADDRESS(ROWS($1:13),COLUMNS(Décembre!$A:V),,,TEXT(MQ$6,"mmmm"))),"") -> 0 | MR12: =IFERROR(INDIRECT(ADDRESS(ROWS($1:13),COLUMNS(Décembre!$A:W),,,TEXT(MR$6,"mmmm"))),"") -> 0 | MS12: =IFERROR(INDIRECT(ADDRESS(ROWS($1:13),COLUMNS(Décembre!$A:X),,,TEXT(MS$6,"mmmm"))),"") -> 0 | MT12: =IFERROR(INDIRECT(ADDRESS(ROWS($1:13),COLUMNS(Décembre!$A:Y),,,TEXT(MT$6,"mmmm"))),"") -> 0 | MU12: =IFERROR(INDIRECT(ADDRESS(ROWS($1:13),COLUMNS(Décembre!$A:Z),,,TEXT(MU$6,"mmmm"))),"") -> 0 | MV12: =IFERROR(INDIRECT(ADDRESS(ROWS($1:13),COLUMNS(Décembre!$A:AA),,,TEXT(MV$6,"mmmm"))),"") -> 0 | MW12: =IFERROR(INDIRECT(ADDRESS(ROWS($1:13),COLUMNS(Décembre!$A:AB),,,TEXT(MW$6,"mmmm"))),"") -> 0 | MX12: =IFERROR(INDIRECT(ADDRESS(ROWS($1:13),COLUMNS(Décembre!$A:AC),,,TEXT(MX$6,"mmmm"))),"") -> 0 | MY12: =IFERROR(INDIRECT(ADDRESS(ROWS($1:13),COLUMNS(Décembre!$A:AD),,,TEXT(MY$6,"mmmm"))),"") -> 0 | MZ12: =IFERROR(INDIRECT(ADDRESS(ROWS($1:13),COLUMNS(Décembre!$A:AE),,,TEXT(MZ$6,"mmmm"))),"") -> 0 | NA12: =IFERROR(INDIRECT(ADDRESS(ROWS($1:13),COLUMNS(Décembre!$A:AF),,,TEXT(NA$6,"mmmm"))),"") -> 0 | NB12: =IFERROR(INDIRECT(ADDRESS(ROWS($1:13),COLUMNS(Décembre!$A:AG),,,TEXT(NB$6,"mmmm"))),"") -> 0
A13: C | C13: =IFERROR(INDIRECT(ADDRESS(ROWS($1:14),COLUMNS($A:D),,,TEXT(C$6,"mmmm"))),"") -> SEM | D13: =IFERROR(INDIRECT(ADDRESS(ROWS($1:14),COLUMNS($A:E),,,TEXT(D$6,"mmmm"))),"") -> SEM | E13: =IFERROR(INDIRECT(ADDRESS(ROWS($1:14),COLUMNS($A:F),,,TEXT(E$6,"mmmm"))),"") -> SEM | F13: =IFERROR(INDIRECT(ADDRESS(ROWS($1:14),COLUMNS($A:G),,,TEXT(F$6,"mmmm"))),"") -> SEM | G13: =IFERROR(INDIRECT(ADDRESS(ROWS($1:14),COLUMNS($A:H),,,TEXT(G$6,"mmmm"))),"") -> 0 | H13: =IFERROR(INDIRECT(ADDRESS(ROWS($1:14),COLUMNS($A:I),,,TEXT(H$6,"mmmm"))),"") -> 0 | I13: =IFERROR(INDIRECT(ADDRESS(ROWS($1:14),COLUMNS($A:J),,,TEXT(I$6,"mmmm"))),"") -> 0 | J13: =IFERROR(INDIRECT(ADDRESS(ROWS($1:14),COLUMNS($A:K),,,TEXT(J$6,"mmmm"))),"") -> 0 | K13: =IFERROR(INDIRECT(ADDRESS(ROWS($1:14),COLUMNS($A:L),,,TEXT(K$6,"mmmm"))),"") -> 0 | L13: =IFERROR(INDIRECT(ADDRESS(ROWS($1:14),COLUMNS($A:M),,,TEXT(L$6,"mmmm"))),"") -> 0 | M13: =IFERROR(INDIRECT(ADDRESS(ROWS($1:14),COLUMNS($A:N),,,TEXT(M$6,"mmmm"))),"") -> 0 | N13: =IFERROR(INDIRECT(ADDRESS(ROWS($1:14),COLUMNS($A:O),,,TEXT(N$6,"mmmm"))),"") -> 0 | O13: =IFERROR(INDIRECT(ADDRESS(ROWS($1:14),COLUMNS($A:P),,,TEXT(O$6,"mmmm"))),"") -> 0 | P13: =IFERROR(INDIRECT(ADDRESS(ROWS($1:14),COLUMNS($A:Q),,,TEXT(P$6,"mmmm"))),"") -> 0 | Q13: =IFERROR(INDIRECT(ADDRESS(ROWS($1:14),COLUMNS($A:R),,,TEXT(Q$6,"mmmm"))),"") -> 0 | R13: =IFERROR(INDIRECT(ADDRESS(ROWS($1:14),COLUMNS($A:S),,,TEXT(R$6,"mmmm"))),"") -> 0 | S13: =IFERROR(INDIRECT(ADDRESS(ROWS($1:14),COLUMNS($A:T),,,TEXT(S$6,"mmmm"))),"") -> 0 | T13: =IFERROR(INDIRECT(ADDRESS(ROWS($1:14),COLUMNS($A:U),,,TEXT(T$6,"mmmm"))),"") -> 0 | U13: =IFERROR(INDIRECT(ADDRESS(ROWS($1:14),COLUMNS($A:V),,,TEXT(U$6,"mmmm"))),"") -> 0 | V13: =IFERROR(INDIRECT(ADDRESS(ROWS($1:14),COLUMNS($A:W),,,TEXT(V$6,"mmmm"))),"") -> 0 | W13: =IFERROR(INDIRECT(ADDRESS(ROWS($1:14),COLUMNS($A:X),,,TEXT(W$6,"mmmm"))),"") -> 0 | X13: =IFERROR(INDIRECT(ADDRESS(ROWS($1:14),COLUMNS($A:Y),,,TEXT(X$6,"mmmm"))),"") -> 0 | Y13: =IFERROR(INDIRECT(ADDRESS(ROWS($1:14),COLUMNS($A:Z),,,TEXT(Y$6,"mmmm"))),"") -> 0 | Z13: =IFERROR(INDIRECT(ADDRESS(ROWS($1:14),COLUMNS($A:AA),,,TEXT(Z$6,"mmmm"))),"") -> 0 | AA13: =IFERROR(INDIRECT(ADDRESS(ROWS($1:14),COLUMNS($A:AB),,,TEXT(AA$6,"mmmm"))),"") -> 0 | AB13: =IFERROR(INDIRECT(ADDRESS(ROWS($1:14),COLUMNS($A:AC),,,TEXT(AB$6,"mmmm"))),"") -> 0 | AC13: =IFERROR(INDIRECT(ADDRESS(ROWS($1:14),COLUMNS($A:AD),,,TEXT(AC$6,"mmmm"))),"") -> 0 | AD13: =IFERROR(INDIRECT(ADDRESS(ROWS($1:14),COLUMNS($A:AE),,,TEXT(AD$6,"mmmm"))),"") -> 0 | AE13: =IFERROR(INDIRECT(ADDRESS(ROWS($1:14),COLUMNS($A:AF),,,TEXT(AE$6,"mmmm"))),"") -> 0 | AF13: =IFERROR(INDIRECT(ADDRESS(ROWS($1:14),COLUMNS($A:AG),,,TEXT(AF$6,"mmmm"))),"") -> 0 | AG13: =IFERROR(INDIRECT(ADDRESS(ROWS($1:14),COLUMNS(Février!$A:C),,,TEXT(AG$6,"mmmm"))),"") -> 0 | AH13: =IFERROR(INDIRECT(ADDRESS(ROWS($1:14),COLUMNS(Février!$A:D),,,TEXT(AH$6,"mmmm"))),"") -> 0 | AI13: =IFERROR(INDIRECT(ADDRESS(ROWS($1:14),COLUMNS(Février!$A:E),,,TEXT(AI$6,"mmmm"))),"") -> 0 | AJ13: =IFERROR(INDIRECT(ADDRESS(ROWS($1:14),COLUMNS(Février!$A:F),,,TEXT(AJ$6,"mmmm"))),"") -> 0 | AK13: =IFERROR(INDIRECT(ADDRESS(ROWS($1:14),COLUMNS(Février!$A:G),,,TEXT(AK$6,"mmmm"))),"") -> 0 | AL13: =IFERROR(INDIRECT(ADDRESS(ROWS($1:14),COLUMNS(Février!$A:H),,,TEXT(AL$6,"mmmm"))),"") -> 0 | AM13: =IFERROR(INDIRECT(ADDRESS(ROWS($1:14),COLUMNS(Février!$A:I),,,TEXT(AM$6,"mmmm"))),"") -> 0 | AN13: =IFERROR(INDIRECT(ADDRESS(ROWS($1:14),COLUMNS(Février!$A:J),,,TEXT(AN$6,"mmmm"))),"") -> 0 | AO13: =IFERROR(INDIRECT(ADDRESS(ROWS($1:14),COLUMNS(Février!$A:K),,,TEXT(AO$6,"mmmm"))),"") -> 0 | AP13: =IFERROR(INDIRECT(ADDRESS(ROWS($1:14),COLUMNS(Février!$A:L),,,TEXT(AP$6,"mmmm"))),"") -> 0 | AQ13: =IFERROR(INDIRECT(ADDRESS(ROWS($1:14),COLUMNS(Février!$A:M),,,TEXT(AQ$6,"mmmm"))),"") -> 0 | AR13: =IFERROR(INDIRECT(ADDRESS(ROWS($1:14),COLUMNS(Février!$A:N),,,TEXT(AR$6,"mmmm"))),"") -> 0 | AS13: =IFERROR(INDIRECT(ADDRESS(ROWS($1:14),COLUMNS(Février!$A:O),,,TEXT(AS$6,"mmmm"))),"") -> 0 | AT13: =IFERROR(INDIRECT(ADDRESS(ROWS($1:14),COLUMNS(Février!$A:P),,,TEXT(AT$6,"mmmm"))),"") -> 0 | AU13: =IFERROR(INDIRECT(ADDRESS(ROWS($1:14),COLUMNS(Février!$A:Q),,,TEXT(AU$6,"mmmm"))),"") -> 0 | AV13: =IFERROR(INDIRECT(ADDRESS(ROWS($1:14),COLUMNS(Février!$A:R),,,TEXT(AV$6,"mmmm"))),"") -> 0 | AW13: =IFERROR(INDIRECT(ADDRESS(ROWS($1:14),COLUMNS(Février!$A:S),,,TEXT(AW$6,"mmmm"))),"") -> 0 | AX13: =IFERROR(INDIRECT(ADDRESS(ROWS($1:14),COLUMNS(Février!$A:T),,,TEXT(AX$6,"mmmm"))),"") -> 0 | AY13: =IFERROR(INDIRECT(ADDRESS(ROWS($1:14),COLUMNS(Février!$A:U),,,TEXT(AY$6,"mmmm"))),"") -> 0 | AZ13: =IFERROR(INDIRECT(ADDRESS(ROWS($1:14),COLUMNS(Février!$A:V),,,TEXT(AZ$6,"mmmm"))),"") -> 0 | BA13: =IFERROR(INDIRECT(ADDRESS(ROWS($1:14),COLUMNS(Février!$A:W),,,TEXT(BA$6,"mmmm"))),"") -> 0 | BB13: =IFERROR(INDIRECT(ADDRESS(ROWS($1:14),COLUMNS(Février!$A:X),,,TEXT(BB$6,"mmmm"))),"") -> 0 | BC13: =IFERROR(INDIRECT(ADDRESS(ROWS($1:14),COLUMNS(Février!$A:Y),,,TEXT(BC$6,"mmmm"))),"") -> 0 | BD13: =IFERROR(INDIRECT(ADDRESS(ROWS($1:14),COLUMNS(Février!$A:Z),,,TEXT(BD$6,"mmmm"))),"") -> 0 | BE13: =IFERROR(INDIRECT(ADDRESS(ROWS($1:14),COLUMNS(Février!$A:AA),,,TEXT(BE$6,"mmmm"))),"") -> 0 | BF13: =IFERROR(INDIRECT(ADDRESS(ROWS($1:14),COLUMNS(Février!$A:AB),,,TEXT(BF$6,"mmmm"))),"") -> 0 | BG13: =IFERROR(INDIRECT(ADDRESS(ROWS($1:14),COLUMNS(Février!$A:AC),,,TEXT(BG$6,"mmmm"))),"") -> SEM | BH13: =IFERROR(INDIRECT(ADDRESS(ROWS($1:14),COLUMNS(Février!$A:AD),,,TEXT(BH$6,"mmmm"))),"") -> SEM | BI13: =IFERROR(INDIRECT(ADDRESS(ROWS($1:14),COLUMNS(Mars!$A:C),,,TEXT(BI$6,"mmmm"))),"") -> SEM | BJ13: =IFERROR(INDIRECT(ADDRESS(ROWS($1:14),COLUMNS(Mars!$A:D),,,TEXT(BJ$6,"mmmm"))),"") -> SEM | BK13: =IFERROR(INDIRECT(ADDRESS(ROWS($1:14),COLUMNS(Mars!$A:E),,,TEXT(BK$6,"mmmm"))),"") -> 0 | BL13: =IFERROR(INDIRECT(ADDRESS(ROWS($1:14),COLUMNS(Mars!$A:F),,,TEXT(BL$6,"mmmm"))),"") -> 0 | BM13: =IFERROR(INDIRECT(ADDRESS(ROWS($1:14),COLUMNS(Mars!$A:G),,,TEXT(BM$6,"mmmm"))),"") -> 0 | BN13: =IFERROR(INDIRECT(ADDRESS(ROWS($1:14),COLUMNS(Mars!$A:H),,,TEXT(BN$6,"mmmm"))),"") -> 0 | BO13: =IFERROR(INDIRECT(ADDRESS(ROWS($1:14),COLUMNS(Mars!$A:I),,,TEXT(BO$6,"mmmm"))),"") -> 0 | BP13: =IFERROR(INDIRECT(ADDRESS(ROWS($1:14),COLUMNS(Mars!$A:J),,,TEXT(BP$6,"mmmm"))),"") -> 0 | BQ13: =IFERROR(INDIRECT(ADDRESS(ROWS($1:14),COLUMNS(Mars!$A:K),,,TEXT(BQ$6,"mmmm"))),"") -> 0 | BR13: =IFERROR(INDIRECT(ADDRESS(ROWS($1:14),COLUMNS(Mars!$A:L),,,TEXT(BR$6,"mmmm"))),"") -> 0 | BS13: =IFERROR(INDIRECT(ADDRESS(ROWS($1:14),COLUMNS(Mars!$A:M),,,TEXT(BS$6,"mmmm"))),"") -> 0 | BT13: =IFERROR(INDIRECT(ADDRESS(ROWS($1:14),COLUMNS(Mars!$A:N),,,TEXT(BT$6,"mmmm"))),"") -> 0 | BU13: =IFERROR(INDIRECT(ADDRESS(ROWS($1:14),COLUMNS(Mars!$A:O),,,TEXT(BU$6,"mmmm"))),"") -> 0 | BV13: =IFERROR(INDIRECT(ADDRESS(ROWS($1:14),COLUMNS(Mars!$A:P),,,TEXT(BV$6,"mmmm"))),"") -> 0 | BW13: =IFERROR(INDIRECT(ADDRESS(ROWS($1:14),COLUMNS(Mars!$A:Q),,,TEXT(BW$6,"mmmm"))),"") -> 0 | BX13: =IFERROR(INDIRECT(ADDRESS(ROWS($1:14),COLUMNS(Mars!$A:R),,,TEXT(BX$6,"mmmm"))),"") -> 0 | BY13: =IFERROR(INDIRECT(ADDRESS(ROWS($1:14),COLUMNS(Mars!$A:S),,,TEXT(BY$6,"mmmm"))),"") -> 0 | BZ13: =IFERROR(INDIRECT(ADDRESS(ROWS($1:14),COLUMNS(Mars!$A:T),,,TEXT(BZ$6,"mmmm"))),"") -> 0 | CA13: =IFERROR(INDIRECT(ADDRESS(ROWS($1:14),COLUMNS(Mars!$A:U),,,TEXT(CA$6,"mmmm"))),"") -> 0 | CB13: =IFERROR(INDIRECT(ADDRESS(ROWS($1:14),COLUMNS(Mars!$A:V),,,TEXT(CB$6,"mmmm"))),"") -> 0 | CC13: =IFERROR(INDIRECT(ADDRESS(ROWS($1:14),COLUMNS(Mars!$A:W),,,TEXT(CC$6,"mmmm"))),"") -> 0 | CD13: =IFERROR(INDIRECT(ADDRESS(ROWS($1:14),COLUMNS(Mars!$A:X),,,TEXT(CD$6,"mmmm"))),"") -> 0 | CE13: =IFERROR(INDIRECT(ADDRESS(ROWS($1:14),COLUMNS(Mars!$A:Y),,,TEXT(CE$6,"mmmm"))),"") -> 0 | CF13: =IFERROR(INDIRECT(ADDRESS(ROWS($1:14),COLUMNS(Mars!$A:Z),,,TEXT(CF$6,"mmmm"))),"") -> 0 | CG13: =IFERROR(INDIRECT(ADDRESS(ROWS($1:14),COLUMNS(Mars!$A:AA),,,TEXT(CG$6,"mmmm"))),"") -> 0 | CH13: =IFERROR(INDIRECT(ADDRESS(ROWS($1:14),COLUMNS(Mars!$A:AB),,,TEXT(CH$6,"mmmm"))),"") -> 0 | CI13: =IFERROR(INDIRECT(ADDRESS(ROWS($1:14),COLUMNS(Mars!$A:AC),,,TEXT(CI$6,"mmmm"))),"") -> 0 | CJ13: =IFERROR(INDIRECT(ADDRESS(ROWS($1:14),COLUMNS(Mars!$A:AD),,,TEXT(CJ$6,"mmmm"))),"") -> 0 | CK13: =IFERROR(INDIRECT(ADDRESS(ROWS($1:14),COLUMNS(Mars!$A:AE),,,TEXT(CK$6,"mmmm"))),"") -> 0 | CL13: =IFERROR(INDIRECT(ADDRESS(ROWS($1:14),COLUMNS(Mars!$A:AF),,,TEXT(CL$6,"mmmm"))),"") -> 0 | CM13: =IFERROR(INDIRECT(ADDRESS(ROWS($1:14),COLUMNS(Mars!$A:AG),,,TEXT(CM$6,"mmmm"))),"") -> 0 | CN13: =IFERROR(INDIRECT(ADDRESS(ROWS($1:14),COLUMNS(Avril!$A:C),,,TEXT(CN$6,"mmmm"))),"") -> 0 | CO13: =IFERROR(INDIRECT(ADDRESS(ROWS($1:14),COLUMNS(Avril!$A:D),,,TEXT(CO$6,"mmmm"))),"") -> 0 | CP13: =IFERROR(INDIRECT(ADDRESS(ROWS($1:14),COLUMNS(Avril!$A:E),,,TEXT(CP$6,"mmmm"))),"") -> 0 | CQ13: =IFERROR(INDIRECT(ADDRESS(ROWS($1:14),COLUMNS(Avril!$A:F),,,TEXT(CQ$6,"mmmm"))),"") -> 0 | CR13: =IFERROR(INDIRECT(ADDRESS(ROWS($1:14),COLUMNS(Avril!$A:G),,,TEXT(CR$6,"mmmm"))),"") -> 0 | CS13: =IFERROR(INDIRECT(ADDRESS(ROWS($1:14),COLUMNS(Avril!$A:H),,,TEXT(CS$6,"mmmm"))),"") -> 0 | CT13: =IFERROR(INDIRECT(ADDRESS(ROWS($1:14),COLUMNS(Avril!$A:I),,,TEXT(CT$6,"mmmm"))),"") -> 0 | CU13: =IFERROR(INDIRECT(ADDRESS(ROWS($1:14),COLUMNS(Avril!$A:J),,,TEXT(CU$6,"mmmm"))),"") -> 0 | CV13: =IFERROR(INDIRECT(ADDRESS(ROWS($1:14),COLUMNS(Avril!$A:K),,,TEXT(CV$6,"mmmm"))),"") -> 0 | CW13: =IFERROR(INDIRECT(ADDRESS(ROWS($1:14),COLUMNS(Avril!$A:L),,,TEXT(CW$6,"mmmm"))),"") -> 0 | CX13: =IFERROR(INDIRECT(ADDRESS(ROWS($1:14),COLUMNS(Avril!$A:M),,,TEXT(CX$6,"mmmm"))),"") -> 0 | CY13: =IFERROR(INDIRECT(ADDRESS(ROWS($1:14),COLUMNS(Avril!$A:N),,,TEXT(CY$6,"mmmm"))),"") -> 0 | CZ13: =IFERROR(INDIRECT(ADDRESS(ROWS($1:14),COLUMNS(Avril!$A:O),,,TEXT(CZ$6,"mmmm"))),"") -> 0 | DA13: =IFERROR(INDIRECT(ADDRESS(ROWS($1:14),COLUMNS(Avril!$A:P),,,TEXT(DA$6,"mmmm"))),"") -> 0 | DB13: =IFERROR(INDIRECT(ADDRESS(ROWS($1:14),COLUMNS(Avril!$A:Q),,,TEXT(DB$6,"mmmm"))),"") -> 0 | DC13: =IFERROR(INDIRECT(ADDRESS(ROWS($1:14),COLUMNS(Avril!$A:R),,,TEXT(DC$6,"mmmm"))),"") -> 0 | DD13: =IFERROR(INDIRECT(ADDRESS(ROWS($1:14),COLUMNS(Avril!$A:S),,,TEXT(DD$6,"mmmm"))),"") -> 0 | DE13: =IFERROR(INDIRECT(ADDRESS(ROWS($1:14),COLUMNS(Avril!$A:T),,,TEXT(DE$6,"mmmm"))),"") -> 0 | DF13: =IFERROR(INDIRECT(ADDRESS(ROWS($1:14),COLUMNS(Avril!$A:U),,,TEXT(DF$6,"mmmm"))),"") -> 0 | DG13: =IFERROR(INDIRECT(ADDRESS(ROWS($1:14),COLUMNS(Avril!$A:V),,,TEXT(DG$6,"mmmm"))),"") -> 0 | DH13: =IFERROR(INDIRECT(ADDRESS(ROWS($1:14),COLUMNS(Avril!$A:W),,,TEXT(DH$6,"mmmm"))),"") -> 0 | DI13: =IFERROR(INDIRECT(ADDRESS(ROWS($1:14),COLUMNS(Avril!$A:X),,,TEXT(DI$6,"mmmm"))),"") -> 0 | DJ13: =IFERROR(INDIRECT(ADDRESS(ROWS($1:14),COLUMNS(Avril!$A:Y),,,TEXT(DJ$6,"mmmm"))),"") -> 0 | DK13: =IFERROR(INDIRECT(ADDRESS(ROWS($1:14),COLUMNS(Avril!$A:Z),,,TEXT(DK$6,"mmmm"))),"") -> 0 | DL13: =IFERROR(INDIRECT(ADDRESS(ROWS($1:14),COLUMNS(Avril!$A:AA),,,TEXT(DL$6,"mmmm"))),"") -> 0 | DM13: =IFERROR(INDIRECT(ADDRESS(ROWS($1:14),COLUMNS(Avril!$A:AB),,,TEXT(DM$6,"mmmm"))),"") -> 0 | DN13: =IFERROR(INDIRECT(ADDRESS(ROWS($1:14),COLUMNS(Avril!$A:AC),,,TEXT(DN$6,"mmmm"))),"") -> 0 | DO13: =IFERROR(INDIRECT(ADDRESS(ROWS($1:14),COLUMNS(Avril!$A:AD),,,TEXT(DO$6,"mmmm"))),"") -> 0 | DP13: =IFERROR(INDIRECT(ADDRESS(ROWS($1:14),COLUMNS(Avril!$A:AE),,,TEXT(DP$6,"mmmm"))),"") -> 0 | DQ13: =IFERROR(INDIRECT(ADDRESS(ROWS($1:14),COLUMNS(Avril!$A:AF),,,TEXT(DQ$6,"mmmm"))),"") -> 0 | DR13: =IFERROR(INDIRECT(ADDRESS(ROWS($1:14),COLUMNS(Avril!$A:C),,,TEXT(DR$6,"mmmm"))),"") -> 0 | DS13: =IFERROR(INDIRECT(ADDRESS(ROWS($1:14),COLUMNS(Avril!$A:D),,,TEXT(DS$6,"mmmm"))),"") -> 0 | DT13: =IFERROR(INDIRECT(ADDRESS(ROWS($1:14),COLUMNS(Avril!$A:E),,,TEXT(DT$6,"mmmm"))),"") -> 0 | DU13: =IFERROR(INDIRECT(ADDRESS(ROWS($1:14),COLUMNS(Avril!$A:F),,,TEXT(DU$6,"mmmm"))),"") -> 0 | DV13: =IFERROR(INDIRECT(ADDRESS(ROWS($1:14),COLUMNS(Avril!$A:G),,,TEXT(DV$6,"mmmm"))),"") -> 0 | DW13: =IFERROR(INDIRECT(ADDRESS(ROWS($1:14),COLUMNS(Avril!$A:H),,,TEXT(DW$6,"mmmm"))),"") -> 0 | DX13: =IFERROR(INDIRECT(ADDRESS(ROWS($1:14),COLUMNS(Avril!$A:I),,,TEXT(DX$6,"mmmm"))),"") -> 0 | DY13: =IFERROR(INDIRECT(ADDRESS(ROWS($1:14),COLUMNS(Avril!$A:J),,,TEXT(DY$6,"mmmm"))),"") -> 0 | DZ13: =IFERROR(INDIRECT(ADDRESS(ROWS($1:14),COLUMNS(Avril!$A:K),,,TEXT(DZ$6,"mmmm"))),"") -> 0 | EA13: =IFERROR(INDIRECT(ADDRESS(ROWS($1:14),COLUMNS(Avril!$A:L),,,TEXT(EA$6,"mmmm"))),"") -> 0 | EB13: =IFERROR(INDIRECT(ADDRESS(ROWS($1:14),COLUMNS(Avril!$A:M),,,TEXT(EB$6,"mmmm"))),"") -> 0 | EC13: =IFERROR(INDIRECT(ADDRESS(ROWS($1:14),COLUMNS(Avril!$A:N),,,TEXT(EC$6,"mmmm"))),"") -> 0 | ED13: =IFERROR(INDIRECT(ADDRESS(ROWS($1:14),COLUMNS(Avril!$A:O),,,TEXT(ED$6,"mmmm"))),"") -> 0 | EE13: =IFERROR(INDIRECT(ADDRESS(ROWS($1:14),COLUMNS(Avril!$A:P),,,TEXT(EE$6,"mmmm"))),"") -> 0 | EF13: =IFERROR(INDIRECT(ADDRESS(ROWS($1:14),COLUMNS(Avril!$A:Q),,,TEXT(EF$6,"mmmm"))),"") -> 0 | EG13: =IFERROR(INDIRECT(ADDRESS(ROWS($1:14),COLUMNS(Avril!$A:R),,,TEXT(EG$6,"mmmm"))),"") -> 0 | EH13: =IFERROR(INDIRECT(ADDRESS(ROWS($1:14),COLUMNS(Avril!$A:S),,,TEXT(EH$6,"mmmm"))),"") -> 0 | EI13: =IFERROR(INDIRECT(ADDRESS(ROWS($1:14),COLUMNS(Avril!$A:T),,,TEXT(EI$6,"mmmm"))),"") -> 0 | EJ13: =IFERROR(INDIRECT(ADDRESS(ROWS($1:14),COLUMNS(Avril!$A:U),,,TEXT(EJ$6,"mmmm"))),"") -> 0 | EK13: =IFERROR(INDIRECT(ADDRESS(ROWS($1:14),COLUMNS(Avril!$A:V),,,TEXT(EK$6,"mmmm"))),"") -> 0 | EL13: =IFERROR(INDIRECT(ADDRESS(ROWS($1:14),COLUMNS(Avril!$A:W),,,TEXT(EL$6,"mmmm"))),"") -> 0 | EM13: =IFERROR(INDIRECT(ADDRESS(ROWS($1:14),COLUMNS(Avril!$A:X),,,TEXT(EM$6,"mmmm"))),"") -> 0 | EN13: =IFERROR(INDIRECT(ADDRESS(ROWS($1:14),COLUMNS(Avril!$A:Y),,,TEXT(EN$6,"mmmm"))),"") -> 0 | EO13: =IFERROR(INDIRECT(ADDRESS(ROWS($1:14),COLUMNS(Avril!$A:Z),,,TEXT(EO$6,"mmmm"))),"") -> 0 | EP13: =IFERROR(INDIRECT(ADDRESS(ROWS($1:14),COLUMNS(Avril!$A:AA),,,TEXT(EP$6,"mmmm"))),"") -> 0 | EQ13: =IFERROR(INDIRECT(ADDRESS(ROWS($1:14),COLUMNS(Avril!$A:AB),,,TEXT(EQ$6,"mmmm"))),"") -> 0 | ER13: =IFERROR(INDIRECT(ADDRESS(ROWS($1:14),COLUMNS(Avril!$A:AC),,,TEXT(ER$6,"mmmm"))),"") -> 0 | ES13: =IFERROR(INDIRECT(ADDRESS(ROWS($1:14),COLUMNS(Avril!$A:AD),,,TEXT(ES$6,"mmmm"))),"") -> 0 | ET13: =IFERROR(INDIRECT(ADDRESS(ROWS($1:14),COLUMNS(Avril!$A:AE),,,TEXT(ET$6,"mmmm"))),"") -> 0 | EU13: =IFERROR(INDIRECT(ADDRESS(ROWS($1:14),COLUMNS(Avril!$A:AF),,,TEXT(EU$6,"mmmm"))),"") -> 0 | EV13: =IFERROR(INDIRECT(ADDRESS(ROWS($1:14),COLUMNS(Avril!$A:AG),,,TEXT(EV$6,"mmmm"))),"") -> 0 | EW13: =IFERROR(INDIRECT(ADDRESS(ROWS($1:14),COLUMNS(Juin!$A:C),,,TEXT(EW$6,"mmmm"))),"") -> 0 | EX13: =IFERROR(INDIRECT(ADDRESS(ROWS($1:14),COLUMNS(Juin!$A:D),,,TEXT(EX$6,"mmmm"))),"") -> 0 | EY13: =IFERROR(INDIRECT(ADDRESS(ROWS($1:14),COLUMNS(Juin!$A:E),,,TEXT(EY$6,"mmmm"))),"") -> 0 | EZ13: =IFERROR(INDIRECT(ADDRESS(ROWS($1:14),COLUMNS(Juin!$A:F),,,TEXT(EZ$6,"mmmm"))),"") -> 0 | FA13: =IFERROR(INDIRECT(ADDRESS(ROWS($1:14),COLUMNS(Juin!$A:G),,,TEXT(FA$6,"mmmm"))),"") -> 0 | FB13: =IFERROR(INDIRECT(ADDRESS(ROWS($1:14),COLUMNS(Juin!$A:H),,,TEXT(FB$6,"mmmm"))),"") -> 0 | FC13: =IFERROR(INDIRECT(ADDRESS(ROWS($1:14),COLUMNS(Juin!$A:I),,,TEXT(FC$6,"mmmm"))),"") -> 0 | FD13: =IFERROR(INDIRECT(ADDRESS(ROWS($1:14),COLUMNS(Juin!$A:J),,,TEXT(FD$6,"mmmm"))),"") -> 0 | FE13: =IFERROR(INDIRECT(ADDRESS(ROWS($1:14),COLUMNS(Juin!$A:K),,,TEXT(FE$6,"mmmm"))),"") -> 0 | FF13: =IFERROR(INDIRECT(ADDRESS(ROWS($1:14),COLUMNS(Juin!$A:L),,,TEXT(FF$6,"mmmm"))),"") -> 0 | FG13: =IFERROR(INDIRECT(ADDRESS(ROWS($1:14),COLUMNS(Juin!$A:M),,,TEXT(FG$6,"mmmm"))),"") -> 0 | FH13: =IFERROR(INDIRECT(ADDRESS(ROWS($1:14),COLUMNS(Juin!$A:N),,,TEXT(FH$6,"mmmm"))),"") -> 0 | FI13: =IFERROR(INDIRECT(ADDRESS(ROWS($1:14),COLUMNS(Juin!$A:O),,,TEXT(FI$6,"mmmm"))),"") -> 0 | FJ13: =IFERROR(INDIRECT(ADDRESS(ROWS($1:14),COLUMNS(Juin!$A:P),,,TEXT(FJ$6,"mmmm"))),"") -> 0 | FK13: =IFERROR(INDIRECT(ADDRESS(ROWS($1:14),COLUMNS(Juin!$A:Q),,,TEXT(FK$6,"mmmm"))),"") -> 0 | FL13: =IFERROR(INDIRECT(ADDRESS(ROWS($1:14),COLUMNS(Juin!$A:R),,,TEXT(FL$6,"mmmm"))),"") -> 0 | FM13: =IFERROR(INDIRECT(ADDRESS(ROWS($1:14),COLUMNS(Juin!$A:S),,,TEXT(FM$6,"mmmm"))),"") -> 0 | FN13: =IFERROR(INDIRECT(ADDRESS(ROWS($1:14),COLUMNS(Juin!$A:T),,,TEXT(FN$6,"mmmm"))),"") -> 0 | FO13: =IFERROR(INDIRECT(ADDRESS(ROWS($1:14),COLUMNS(Juin!$A:U),,,TEXT(FO$6,"mmmm"))),"") -> 0 | FP13: =IFERROR(INDIRECT(ADDRESS(ROWS($1:14),COLUMNS(Juin!$A:V),,,TEXT(FP$6,"mmmm"))),"") -> 0 | FQ13: =IFERROR(INDIRECT(ADDRESS(ROWS($1:14),COLUMNS(Juin!$A:W),,,TEXT(FQ$6,"mmmm"))),"") -> 0 | FR13: =IFERROR(INDIRECT(ADDRESS(ROWS($1:14),COLUMNS(Juin!$A:X),,,TEXT(FR$6,"mmmm"))),"") -> 0 | FS13: =IFERROR(INDIRECT(ADDRESS(ROWS($1:14),COLUMNS(Juin!$A:Y),,,TEXT(FS$6,"mmmm"))),"") -> 0 | FT13: =IFERROR(INDIRECT(ADDRESS(ROWS($1:14),COLUMNS(Juin!$A:Z),,,TEXT(FT$6,"mmmm"))),"") -> 0 | FU13: =IFERROR(INDIRECT(ADDRESS(ROWS($1:14),COLUMNS(Juin!$A:AA),,,TEXT(FU$6,"mmmm"))),"") -> 0 | FV13: =IFERROR(INDIRECT(ADDRESS(ROWS($1:14),COLUMNS(Juin!$A:AB),,,TEXT(FV$6,"mmmm"))),"") -> 0 | FW13: =IFERROR(INDIRECT(ADDRESS(ROWS($1:14),COLUMNS(Juin!$A:AC),,,TEXT(FW$6,"mmmm"))),"") -> 0 | FX13: =IFERROR(INDIRECT(ADDRESS(ROWS($1:14),COLUMNS(Juin!$A:AD),,,TEXT(FX$6,"mmmm"))),"") -> 0 | FY13: =IFERROR(INDIRECT(ADDRESS(ROWS($1:14),COLUMNS(Juin!$A:AE),,,TEXT(FY$6,"mmmm"))),"") -> 0 | FZ13: =IFERROR(INDIRECT(ADDRESS(ROWS($1:14),COLUMNS(Juin!$A:AF),,,TEXT(FZ$6,"mmmm"))),"") -> 0 | GA13: =IFERROR(INDIRECT(ADDRESS(ROWS($1:14),COLUMNS(Juillet!$A:C),,,TEXT(GA$6,"mmmm"))),"") -> 0 | GB13: =IFERROR(INDIRECT(ADDRESS(ROWS($1:14),COLUMNS(Juillet!$A:D),,,TEXT(GB$6,"mmmm"))),"") -> 0 | GC13: =IFERROR(INDIRECT(ADDRESS(ROWS($1:14),COLUMNS(Juillet!$A:E),,,TEXT(GC$6,"mmmm"))),"") -> 0 | GD13: =IFERROR(INDIRECT(ADDRESS(ROWS($1:14),COLUMNS(Juillet!$A:F),,,TEXT(GD$6,"mmmm"))),"") -> 0 | GE13: =IFERROR(INDIRECT(ADDRESS(ROWS($1:14),COLUMNS(Juillet!$A:G),,,TEXT(GE$6,"mmmm"))),"") -> 0 | GF13: =IFERROR(INDIRECT(ADDRESS(ROWS($1:14),COLUMNS(Juillet!$A:H),,,TEXT(GF$6,"mmmm"))),"") -> 0 | GG13: =IFERROR(INDIRECT(ADDRESS(ROWS($1:14),COLUMNS(Juillet!$A:I),,,TEXT(GG$6,"mmmm"))),"") -> 0 | GH13: =IFERROR(INDIRECT(ADDRESS(ROWS($1:14),COLUMNS(Juillet!$A:J),,,TEXT(GH$6,"mmmm"))),"") -> 0 | GI13: =IFERROR(INDIRECT(ADDRESS(ROWS($1:14),COLUMNS(Juillet!$A:K),,,TEXT(GI$6,"mmmm"))),"") -> 0 | GJ13: =IFERROR(INDIRECT(ADDRESS(ROWS($1:14),COLUMNS(Juillet!$A:L),,,TEXT(GJ$6,"mmmm"))),"") -> 0 | GK13: =IFERROR(INDIRECT(ADDRESS(ROWS($1:14),COLUMNS(Juillet!$A:M),,,TEXT(GK$6,"mmmm"))),"") -> 0 | GL13: =IFERROR(INDIRECT(ADDRESS(ROWS($1:14),COLUMNS(Juillet!$A:N),,,TEXT(GL$6,"mmmm"))),"") -> 0 | GM13: =IFERROR(INDIRECT(ADDRESS(ROWS($1:14),COLUMNS(Juillet!$A:O),,,TEXT(GM$6,"mmmm"))),"") -> 0 | GN13: =IFERROR(INDIRECT(ADDRESS(ROWS($1:14),COLUMNS(Juillet!$A:P),,,TEXT(GN$6,"mmmm"))),"") -> 0 | GO13: =IFERROR(INDIRECT(ADDRESS(ROWS($1:14),COLUMNS(Juillet!$A:Q),,,TEXT(GO$6,"mmmm"))),"") -> 0 | GP13: =IFERROR(INDIRECT(ADDRESS(ROWS($1:14),COLUMNS(Juillet!$A:R),,,TEXT(GP$6,"mmmm"))),"") -> 0 | GQ13: =IFERROR(INDIRECT(ADDRESS(ROWS($1:14),COLUMNS(Juillet!$A:S),,,TEXT(GQ$6,"mmmm"))),"") -> 0 | GR13: =IFERROR(INDIRECT(ADDRESS(ROWS($1:14),COLUMNS(Juillet!$A:T),,,TEXT(GR$6,"mmmm"))),"") -> 0 | GS13: =IFERROR(INDIRECT(ADDRESS(ROWS($1:14),COLUMNS(Juillet!$A:U),,,TEXT(GS$6,"mmmm"))),"") -> 0 | GT13: =IFERROR(INDIRECT(ADDRESS(ROWS($1:14),COLUMNS(Juillet!$A:V),,,TEXT(GT$6,"mmmm"))),"") -> 0 | GU13: =IFERROR(INDIRECT(ADDRESS(ROWS($1:14),COLUMNS(Juillet!$A:W),,,TEXT(GU$6,"mmmm"))),"") -> 0 | GV13: =IFERROR(INDIRECT(ADDRESS(ROWS($1:14),COLUMNS(Juillet!$A:X),,,TEXT(GV$6,"mmmm"))),"") -> 0 | GW13: =IFERROR(INDIRECT(ADDRESS(ROWS($1:14),COLUMNS(Juillet!$A:Y),,,TEXT(GW$6,"mmmm"))),"") -> 0 | GX13: =IFERROR(INDIRECT(ADDRESS(ROWS($1:14),COLUMNS(Juillet!$A:Z),,,TEXT(GX$6,"mmmm"))),"") -> 0 | GY13: =IFERROR(INDIRECT(ADDRESS(ROWS($1:14),COLUMNS(Juillet!$A:AA),,,TEXT(GY$6,"mmmm"))),"") -> 0 | GZ13: =IFERROR(INDIRECT(ADDRESS(ROWS($1:14),COLUMNS(Juillet!$A:AB),,,TEXT(GZ$6,"mmmm"))),"") -> 0 | HA13: =IFERROR(INDIRECT(ADDRESS(ROWS($1:14),COLUMNS(Juillet!$A:AC),,,TEXT(HA$6,"mmmm"))),"") -> 0 | HB13: =IFERROR(INDIRECT(ADDRESS(ROWS($1:14),COLUMNS(Juillet!$A:AD),,,TEXT(HB$6,"mmmm"))),"") -> 0 | HC13: =IFERROR(INDIRECT(ADDRESS(ROWS($1:14),COLUMNS(Juillet!$A:AE),,,TEXT(HC$6,"mmmm"))),"") -> 0 | HD13: =IFERROR(INDIRECT(ADDRESS(ROWS($1:14),COLUMNS(Juillet!$A:AF),,,TEXT(HD$6,"mmmm"))),"") -> 0 | HE13: =IFERROR(INDIRECT(ADDRESS(ROWS($1:14),COLUMNS(Juillet!$A:AG),,,TEXT(HE$6,"mmmm"))),"") -> 0 | HF13: =IFERROR(INDIRECT(ADDRESS(ROWS($1:14),COLUMNS(Août!$A:C),,,TEXT(HF$6,"mmmm"))),"") -> 0 | HG13: =IFERROR(INDIRECT(ADDRESS(ROWS($1:14),COLUMNS(Août!$A:D),,,TEXT(HG$6,"mmmm"))),"") -> 0 | HH13: =IFERROR(INDIRECT(ADDRESS(ROWS($1:14),COLUMNS(Août!$A:E),,,TEXT(HH$6,"mmmm"))),"") -> 0 | HI13: =IFERROR(INDIRECT(ADDRESS(ROWS($1:14),COLUMNS(Août!$A:F),,,TEXT(HI$6,"mmmm"))),"") -> 0 | HJ13: =IFERROR(INDIRECT(ADDRESS(ROWS($1:14),COLUMNS(Août!$A:G),,,TEXT(HJ$6,"mmmm"))),"") -> 0 | HK13: =IFERROR(INDIRECT(ADDRESS(ROWS($1:14),COLUMNS(Août!$A:H),,,TEXT(HK$6,"mmmm"))),"") -> 0 | HL13: =IFERROR(INDIRECT(ADDRESS(ROWS($1:14),COLUMNS(Août!$A:I),,,TEXT(HL$6,"mmmm"))),"") -> 0 | HM13: =IFERROR(INDIRECT(ADDRESS(ROWS($1:14),COLUMNS(Août!$A:J),,,TEXT(HM$6,"mmmm"))),"") -> 0 | HN13: =IFERROR(INDIRECT(ADDRESS(ROWS($1:14),COLUMNS(Août!$A:K),,,TEXT(HN$6,"mmmm"))),"") -> 0 | HO13: =IFERROR(INDIRECT(ADDRESS(ROWS($1:14),COLUMNS(Août!$A:L),,,TEXT(HO$6,"mmmm"))),"") -> 0 | HP13: =IFERROR(INDIRECT(ADDRESS(ROWS($1:14),COLUMNS(Août!$A:M),,,TEXT(HP$6,"mmmm"))),"") -> 0 | HQ13: =IFERROR(INDIRECT(ADDRESS(ROWS($1:14),COLUMNS(Août!$A:N),,,TEXT(HQ$6,"mmmm"))),"") -> 0 | HR13: =IFERROR(INDIRECT(ADDRESS(ROWS($1:14),COLUMNS(Août!$A:O),,,TEXT(HR$6,"mmmm"))),"") -> 0 | HS13: =IFERROR(INDIRECT(ADDRESS(ROWS($1:14),COLUMNS(Août!$A:P),,,TEXT(HS$6,"mmmm"))),"") -> 0 | HT13: =IFERROR(INDIRECT(ADDRESS(ROWS($1:14),COLUMNS(Août!$A:Q),,,TEXT(HT$6,"mmmm"))),"") -> 0 | HU13: =IFERROR(INDIRECT(ADDRESS(ROWS($1:14),COLUMNS(Août!$A:R),,,TEXT(HU$6,"mmmm"))),"") -> 0 | HV13: =IFERROR(INDIRECT(ADDRESS(ROWS($1:14),COLUMNS(Août!$A:S),,,TEXT(HV$6,"mmmm"))),"") -> 0 | HW13: =IFERROR(INDIRECT(ADDRESS(ROWS($1:14),COLUMNS(Août!$A:T),,,TEXT(HW$6,"mmmm"))),"") -> 0 | HX13: =IFERROR(INDIRECT(ADDRESS(ROWS($1:14),COLUMNS(Août!$A:U),,,TEXT(HX$6,"mmmm"))),"") -> 0 | HY13: =IFERROR(INDIRECT(ADDRESS(ROWS($1:14),COLUMNS(Août!$A:V),,,TEXT(HY$6,"mmmm"))),"") -> 0 | HZ13: =IFERROR(INDIRECT(ADDRESS(ROWS($1:14),COLUMNS(Août!$A:W),,,TEXT(HZ$6,"mmmm"))),"") -> 0 | IA13: =IFERROR(INDIRECT(ADDRESS(ROWS($1:14),COLUMNS(Août!$A:X),,,TEXT(IA$6,"mmmm"))),"") -> 0 | IB13: =IFERROR(INDIRECT(ADDRESS(ROWS($1:14),COLUMNS(Août!$A:Y),,,TEXT(IB$6,"mmmm"))),"") -> 0 | IC13: =IFERROR(INDIRECT(ADDRESS(ROWS($1:14),COLUMNS(Août!$A:Z),,,TEXT(IC$6,"mmmm"))),"") -> 0 | ID13: =IFERROR(INDIRECT(ADDRESS(ROWS($1:14),COLUMNS(Août!$A:AA),,,TEXT(ID$6,"mmmm"))),"") -> 0 | IE13: =IFERROR(INDIRECT(ADDRESS(ROWS($1:14),COLUMNS(Août!$A:AB),,,TEXT(IE$6,"mmmm"))),"") -> 0 | IF13: =IFERROR(INDIRECT(ADDRESS(ROWS($1:14),COLUMNS(Août!$A:AC),,,TEXT(IF$6,"mmmm"))),"") -> 0 | IG13: =IFERROR(INDIRECT(ADDRESS(ROWS($1:14),COLUMNS(Août!$A:AD),,,TEXT(IG$6,"mmmm"))),"") -> 0 | IH13: =IFERROR(INDIRECT(ADDRESS(ROWS($1:14),COLUMNS(Août!$A:AE),,,TEXT(IH$6,"mmmm"))),"") -> 0 | II13: =IFERROR(INDIRECT(ADDRESS(ROWS($1:14),COLUMNS(Août!$A:AF),,,TEXT(II$6,"mmmm"))),"") -> 0 | IJ13: =IFERROR(INDIRECT(ADDRESS(ROWS($1:14),COLUMNS(Août!$A:AG),,,TEXT(IJ$6,"mmmm"))),"") -> 0 | IK13: =IFERROR(INDIRECT(ADDRESS(ROWS($1:14),COLUMNS(Septembre!$A:C),,,TEXT(IK$6,"mmmm"))),"") -> 0 | IL13: =IFERROR(INDIRECT(ADDRESS(ROWS($1:14),COLUMNS(Septembre!$A:D),,,TEXT(IL$6,"mmmm"))),"") -> 0 | IM13: =IFERROR(INDIRECT(ADDRESS(ROWS($1:14),COLUMNS(Septembre!$A:E),,,TEXT(IM$6,"mmmm"))),"") -> 0 | IN13: =IFERROR(INDIRECT(ADDRESS(ROWS($1:14),COLUMNS(Septembre!$A:F),,,TEXT(IN$6,"mmmm"))),"") -> 0 | IO13: =IFERROR(INDIRECT(ADDRESS(ROWS($1:14),COLUMNS(Septembre!$A:G),,,TEXT(IO$6,"mmmm"))),"") -> 0 | IP13: =IFERROR(INDIRECT(ADDRESS(ROWS($1:14),COLUMNS(Septembre!$A:H),,,TEXT(IP$6,"mmmm"))),"") -> 0 | IQ13: =IFERROR(INDIRECT(ADDRESS(ROWS($1:14),COLUMNS(Septembre!$A:I),,,TEXT(IQ$6,"mmmm"))),"") -> 0 | IR13: =IFERROR(INDIRECT(ADDRESS(ROWS($1:14),COLUMNS(Septembre!$A:J),,,TEXT(IR$6,"mmmm"))),"") -> 0 | IS13: =IFERROR(INDIRECT(ADDRESS(ROWS($1:14),COLUMNS(Septembre!$A:K),,,TEXT(IS$6,"mmmm"))),"") -> 0 | IT13: =IFERROR(INDIRECT(ADDRESS(ROWS($1:14),COLUMNS(Septembre!$A:L),,,TEXT(IT$6,"mmmm"))),"") -> 0 | IU13: =IFERROR(INDIRECT(ADDRESS(ROWS($1:14),COLUMNS(Septembre!$A:M),,,TEXT(IU$6,"mmmm"))),"") -> 0 | IV13: =IFERROR(INDIRECT(ADDRESS(ROWS($1:14),COLUMNS(Septembre!$A:N),,,TEXT(IV$6,"mmmm"))),"") -> 0 | IW13: =IFERROR(INDIRECT(ADDRESS(ROWS($1:14),COLUMNS(Septembre!$A:O),,,TEXT(IW$6,"mmmm"))),"") -> 0 | IX13: =IFERROR(INDIRECT(ADDRESS(ROWS($1:14),COLUMNS(Septembre!$A:P),,,TEXT(IX$6,"mmmm"))),"") -> 0 | IY13: =IFERROR(INDIRECT(ADDRESS(ROWS($1:14),COLUMNS(Septembre!$A:Q),,,TEXT(IY$6,"mmmm"))),"") -> 0 | IZ13: =IFERROR(INDIRECT(ADDRESS(ROWS($1:14),COLUMNS(Septembre!$A:R),,,TEXT(IZ$6,"mmmm"))),"") -> 0 | JA13: =IFERROR(INDIRECT(ADDRESS(ROWS($1:14),COLUMNS(Septembre!$A:S),,,TEXT(JA$6,"mmmm"))),"") -> 0 | JB13: =IFERROR(INDIRECT(ADDRESS(ROWS($1:14),COLUMNS(Septembre!$A:T),,,TEXT(JB$6,"mmmm"))),"") -> 0 | JC13: =IFERROR(INDIRECT(ADDRESS(ROWS($1:14),COLUMNS(Septembre!$A:U),,,TEXT(JC$6,"mmmm"))),"") -> 0 | JD13: =IFERROR(INDIRECT(ADDRESS(ROWS($1:14),COLUMNS(Septembre!$A:V),,,TEXT(JD$6,"mmmm"))),"") -> 0 | JE13: =IFERROR(INDIRECT(ADDRESS(ROWS($1:14),COLUMNS(Septembre!$A:W),,,TEXT(JE$6,"mmmm"))),"") -> 0 | JF13: =IFERROR(INDIRECT(ADDRESS(ROWS($1:14),COLUMNS(Septembre!$A:X),,,TEXT(JF$6,"mmmm"))),"") -> 0 | JG13: =IFERROR(INDIRECT(ADDRESS(ROWS($1:14),COLUMNS(Septembre!$A:Y),,,TEXT(JG$6,"mmmm"))),"") -> 0 | JH13: =IFERROR(INDIRECT(ADDRESS(ROWS($1:14),COLUMNS(Septembre!$A:Z),,,TEXT(JH$6,"mmmm"))),"") -> 0 | JI13: =IFERROR(INDIRECT(ADDRESS(ROWS($1:14),COLUMNS(Septembre!$A:AA),,,TEXT(JI$6,"mmmm"))),"") -> 0 | JJ13: =IFERROR(INDIRECT(ADDRESS(ROWS($1:14),COLUMNS(Septembre!$A:AB),,,TEXT(JJ$6,"mmmm"))),"") -> 0 | JK13: =IFERROR(INDIRECT(ADDRESS(ROWS($1:14),COLUMNS(Septembre!$A:AC),,,TEXT(JK$6,"mmmm"))),"") -> 0 | JL13: =IFERROR(INDIRECT(ADDRESS(ROWS($1:14),COLUMNS(Septembre!$A:AD),,,TEXT(JL$6,"mmmm"))),"") -> 0 | JM13: =IFERROR(INDIRECT(ADDRESS(ROWS($1:14),COLUMNS(Septembre!$A:AE),,,TEXT(JM$6,"mmmm"))),"") -> 0 | JN13: =IFERROR(INDIRECT(ADDRESS(ROWS($1:14),COLUMNS(Septembre!$A:AF),,,TEXT(JN$6,"mmmm"))),"") -> 0 | JO13: =IFERROR(INDIRECT(ADDRESS(ROWS($1:14),COLUMNS(Octobre!$A:C),,,TEXT(JO$6,"mmmm"))),"") -> 0 | JP13: =IFERROR(INDIRECT(ADDRESS(ROWS($1:14),COLUMNS(Octobre!$A:D),,,TEXT(JP$6,"mmmm"))),"") -> 0 | JQ13: =IFERROR(INDIRECT(ADDRESS(ROWS($1:14),COLUMNS(Octobre!$A:E),,,TEXT(JQ$6,"mmmm"))),"") -> 0 | JR13: =IFERROR(INDIRECT(ADDRESS(ROWS($1:14),COLUMNS(Octobre!$A:F),,,TEXT(JR$6,"mmmm"))),"") -> 0 | JS13: =IFERROR(INDIRECT(ADDRESS(ROWS($1:14),COLUMNS(Octobre!$A:G),,,TEXT(JS$6,"mmmm"))),"") -> 0 | JT13: =IFERROR(INDIRECT(ADDRESS(ROWS($1:14),COLUMNS(Octobre!$A:H),,,TEXT(JT$6,"mmmm"))),"") -> 0 | JU13: =IFERROR(INDIRECT(ADDRESS(ROWS($1:14),COLUMNS(Octobre!$A:I),,,TEXT(JU$6,"mmmm"))),"") -> 0 | JV13: =IFERROR(INDIRECT(ADDRESS(ROWS($1:14),COLUMNS(Octobre!$A:J),,,TEXT(JV$6,"mmmm"))),"") -> 0 | JW13: =IFERROR(INDIRECT(ADDRESS(ROWS($1:14),COLUMNS(Octobre!$A:K),,,TEXT(JW$6,"mmmm"))),"") -> 0 | JX13: =IFERROR(INDIRECT(ADDRESS(ROWS($1:14),COLUMNS(Octobre!$A:L),,,TEXT(JX$6,"mmmm"))),"") -> 0 | JY13: =IFERROR(INDIRECT(ADDRESS(ROWS($1:14),COLUMNS(Octobre!$A:M),,,TEXT(JY$6,"mmmm"))),"") -> 0 | JZ13: =IFERROR(INDIRECT(ADDRESS(ROWS($1:14),COLUMNS(Octobre!$A:N),,,TEXT(JZ$6,"mmmm"))),"") -> 0 | KA13: =IFERROR(INDIRECT(ADDRESS(ROWS($1:14),COLUMNS(Octobre!$A:O),,,TEXT(KA$6,"mmmm"))),"") -> 0 | KB13: =IFERROR(INDIRECT(ADDRESS(ROWS($1:14),COLUMNS(Octobre!$A:P),,,TEXT(KB$6,"mmmm"))),"") -> 0 | KC13: =IFERROR(INDIRECT(ADDRESS(ROWS($1:14),COLUMNS(Octobre!$A:Q),,,TEXT(KC$6,"mmmm"))),"") -> 0 | KD13: =IFERROR(INDIRECT(ADDRESS(ROWS($1:14),COLUMNS(Octobre!$A:R),,,TEXT(KD$6,"mmmm"))),"") -> 0 | KE13: =IFERROR(INDIRECT(ADDRESS(ROWS($1:14),COLUMNS(Octobre!$A:S),,,TEXT(KE$6,"mmmm"))),"") -> 0 | KF13: =IFERROR(INDIRECT(ADDRESS(ROWS($1:14),COLUMNS(Octobre!$A:T),,,TEXT(KF$6,"mmmm"))),"") -> 0 | KG13: =IFERROR(INDIRECT(ADDRESS(ROWS($1:14),COLUMNS(Octobre!$A:U),,,TEXT(KG$6,"mmmm"))),"") -> 0 | KH13: =IFERROR(INDIRECT(ADDRESS(ROWS($1:14),COLUMNS(Octobre!$A:V),,,TEXT(KH$6,"mmmm"))),"") -> 0 | KI13: =IFERROR(INDIRECT(ADDRESS(ROWS($1:14),COLUMNS(Octobre!$A:W),,,TEXT(KI$6,"mmmm"))),"") -> 0 | KJ13: =IFERROR(INDIRECT(ADDRESS(ROWS($1:14),COLUMNS(Octobre!$A:X),,,TEXT(KJ$6,"mmmm"))),"") -> 0 | KK13: =IFERROR(INDIRECT(ADDRESS(ROWS($1:14),COLUMNS(Octobre!$A:Y),,,TEXT(KK$6,"mmmm"))),"") -> 0 | KL13: =IFERROR(INDIRECT(ADDRESS(ROWS($1:14),COLUMNS(Octobre!$A:Z),,,TEXT(KL$6,"mmmm"))),"") -> 0 | KM13: =IFERROR(INDIRECT(ADDRESS(ROWS($1:14),COLUMNS(Octobre!$A:AA),,,TEXT(KM$6,"mmmm"))),"") -> 0 | KN13: =IFERROR(INDIRECT(ADDRESS(ROWS($1:14),COLUMNS(Octobre!$A:AB),,,TEXT(KN$6,"mmmm"))),"") -> 0 | KO13: =IFERROR(INDIRECT(ADDRESS(ROWS($1:14),COLUMNS(Octobre!$A:AC),,,TEXT(KO$6,"mmmm"))),"") -> 0 | KP13: =IFERROR(INDIRECT(ADDRESS(ROWS($1:14),COLUMNS(Octobre!$A:AD),,,TEXT(KP$6,"mmmm"))),"") -> 0 | KQ13: =IFERROR(INDIRECT(ADDRESS(ROWS($1:14),COLUMNS(Octobre!$A:AE),,,TEXT(KQ$6,"mmmm"))),"") -> 0 | KR13: =IFERROR(INDIRECT(ADDRESS(ROWS($1:14),COLUMNS(Octobre!$A:AF),,,TEXT(KR$6,"mmmm"))),"") -> 0 | KS13: =IFERROR(INDIRECT(ADDRESS(ROWS($1:14),COLUMNS(Octobre!$A:AG),,,TEXT(KS$6,"mmmm"))),"") -> 0 | KT13: =IFERROR(INDIRECT(ADDRESS(ROWS($1:14),COLUMNS(Novembre!$A:C),,,TEXT(KT$6,"mmmm"))),"") -> 0 | KU13: =IFERROR(INDIRECT(ADDRESS(ROWS($1:14),COLUMNS(Novembre!$A:D),,,TEXT(KU$6,"mmmm"))),"") -> 0 | KV13: =IFERROR(INDIRECT(ADDRESS(ROWS($1:14),COLUMNS(Novembre!$A:E),,,TEXT(KV$6,"mmmm"))),"") -> 0 | KW13: =IFERROR(INDIRECT(ADDRESS(ROWS($1:14),COLUMNS(Novembre!$A:F),,,TEXT(KW$6,"mmmm"))),"") -> 0 | KX13: =IFERROR(INDIRECT(ADDRESS(ROWS($1:14),COLUMNS(Novembre!$A:G),,,TEXT(KX$6,"mmmm"))),"") -> 0 | KY13: =IFERROR(INDIRECT(ADDRESS(ROWS($1:14),COLUMNS(Novembre!$A:H),,,TEXT(KY$6,"mmmm"))),"") -> 0 | KZ13: =IFERROR(INDIRECT(ADDRESS(ROWS($1:14),COLUMNS(Novembre!$A:I),,,TEXT(KZ$6,"mmmm"))),"") -> 0 | LA13: =IFERROR(INDIRECT(ADDRESS(ROWS($1:14),COLUMNS(Novembre!$A:J),,,TEXT(LA$6,"mmmm"))),"") -> 0 | LB13: =IFERROR(INDIRECT(ADDRESS(ROWS($1:14),COLUMNS(Novembre!$A:K),,,TEXT(LB$6,"mmmm"))),"") -> 0 | LC13: =IFERROR(INDIRECT(ADDRESS(ROWS($1:14),COLUMNS(Novembre!$A:L),,,TEXT(LC$6,"mmmm"))),"") -> 0 | LD13: =IFERROR(INDIRECT(ADDRESS(ROWS($1:14),COLUMNS(Novembre!$A:M),,,TEXT(LD$6,"mmmm"))),"") -> 0 | LE13: =IFERROR(INDIRECT(ADDRESS(ROWS($1:14),COLUMNS(Novembre!$A:N),,,TEXT(LE$6,"mmmm"))),"") -> 0 | LF13: =IFERROR(INDIRECT(ADDRESS(ROWS($1:14),COLUMNS(Novembre!$A:O),,,TEXT(LF$6,"mmmm"))),"") -> 0 | LG13: =IFERROR(INDIRECT(ADDRESS(ROWS($1:14),COLUMNS(Novembre!$A:P),,,TEXT(LG$6,"mmmm"))),"") -> 0 | LH13: =IFERROR(INDIRECT(ADDRESS(ROWS($1:14),COLUMNS(Novembre!$A:Q),,,TEXT(LH$6,"mmmm"))),"") -> 0 | LI13: =IFERROR(INDIRECT(ADDRESS(ROWS($1:14),COLUMNS(Novembre!$A:R),,,TEXT(LI$6,"mmmm"))),"") -> 0 | LJ13: =IFERROR(INDIRECT(ADDRESS(ROWS($1:14),COLUMNS(Novembre!$A:S),,,TEXT(LJ$6,"mmmm"))),"") -> 0 | LK13: =IFERROR(INDIRECT(ADDRESS(ROWS($1:14),COLUMNS(Novembre!$A:T),,,TEXT(LK$6,"mmmm"))),"") -> 0 | LL13: =IFERROR(INDIRECT(ADDRESS(ROWS($1:14),COLUMNS(Novembre!$A:U),,,TEXT(LL$6,"mmmm"))),"") -> 0 | LM13: =IFERROR(INDIRECT(ADDRESS(ROWS($1:14),COLUMNS(Novembre!$A:V),,,TEXT(LM$6,"mmmm"))),"") -> 0 | LN13: =IFERROR(INDIRECT(ADDRESS(ROWS($1:14),COLUMNS(Novembre!$A:W),,,TEXT(LN$6,"mmmm"))),"") -> 0 | LO13: =IFERROR(INDIRECT(ADDRESS(ROWS($1:14),COLUMNS(Novembre!$A:X),,,TEXT(LO$6,"mmmm"))),"") -> 0 | LP13: =IFERROR(INDIRECT(ADDRESS(ROWS($1:14),COLUMNS(Novembre!$A:Y),,,TEXT(LP$6,"mmmm"))),"") -> 0 | LQ13: =IFERROR(INDIRECT(ADDRESS(ROWS($1:14),COLUMNS(Novembre!$A:Z),,,TEXT(LQ$6,"mmmm"))),"") -> 0 | LR13: =IFERROR(INDIRECT(ADDRESS(ROWS($1:14),COLUMNS(Novembre!$A:AA),,,TEXT(LR$6,"mmmm"))),"") -> 0 | LS13: =IFERROR(INDIRECT(ADDRESS(ROWS($1:14),COLUMNS(Novembre!$A:AB),,,TEXT(LS$6,"mmmm"))),"") -> 0 | LT13: =IFERROR(INDIRECT(ADDRESS(ROWS($1:14),COLUMNS(Novembre!$A:AC),,,TEXT(LT$6,"mmmm"))),"") -> 0 | LU13: =IFERROR(INDIRECT(ADDRESS(ROWS($1:14),COLUMNS(Novembre!$A:AD),,,TEXT(LU$6,"mmmm"))),"") -> 0 | LV13: =IFERROR(INDIRECT(ADDRESS(ROWS($1:14),COLUMNS(Novembre!$A:AE),,,TEXT(LV$6,"mmmm"))),"") -> 0 | LW13: =IFERROR(INDIRECT(ADDRESS(ROWS($1:14),COLUMNS(Novembre!$A:AF),,,TEXT(LW$6,"mmmm"))),"") -> 0 | LX13: =IFERROR(INDIRECT(ADDRESS(ROWS($1:14),COLUMNS(Décembre!$A:C),,,TEXT(LX$6,"mmmm"))),"") -> 0 | LY13: =IFERROR(INDIRECT(ADDRESS(ROWS($1:14),COLUMNS(Décembre!$A:D),,,TEXT(LY$6,"mmmm"))),"") -> 0 | LZ13: =IFERROR(INDIRECT(ADDRESS(ROWS($1:14),COLUMNS(Décembre!$A:E),,,TEXT(LZ$6,"mmmm"))),"") -> 0 | MA13: =IFERROR(INDIRECT(ADDRESS(ROWS($1:14),COLUMNS(Décembre!$A:F),,,TEXT(MA$6,"mmmm"))),"") -> 0 | MB13: =IFERROR(INDIRECT(ADDRESS(ROWS($1:14),COLUMNS(Décembre!$A:G),,,TEXT(MB$6,"mmmm"))),"") -> 0 | MC13: =IFERROR(INDIRECT(ADDRESS(ROWS($1:14),COLUMNS(Décembre!$A:H),,,TEXT(MC$6,"mmmm"))),"") -> 0 | MD13: =IFERROR(INDIRECT(ADDRESS(ROWS($1:14),COLUMNS(Décembre!$A:I),,,TEXT(MD$6,"mmmm"))),"") -> 0 | ME13: =IFERROR(INDIRECT(ADDRESS(ROWS($1:14),COLUMNS(Décembre!$A:J),,,TEXT(ME$6,"mmmm"))),"") -> 0 | MF13: =IFERROR(INDIRECT(ADDRESS(ROWS($1:14),COLUMNS(Décembre!$A:K),,,TEXT(MF$6,"mmmm"))),"") -> 0 | MG13: =IFERROR(INDIRECT(ADDRESS(ROWS($1:14),COLUMNS(Décembre!$A:L),,,TEXT(MG$6,"mmmm"))),"") -> 0 | MH13: =IFERROR(INDIRECT(ADDRESS(ROWS($1:14),COLUMNS(Décembre!$A:M),,,TEXT(MH$6,"mmmm"))),"") -> 0 | MI13: =IFERROR(INDIRECT(ADDRESS(ROWS($1:14),COLUMNS(Décembre!$A:N),,,TEXT(MI$6,"mmmm"))),"") -> 0 | MJ13: =IFERROR(INDIRECT(ADDRESS(ROWS($1:14),COLUMNS(Décembre!$A:O),,,TEXT(MJ$6,"mmmm"))),"") -> 0 | MK13: =IFERROR(INDIRECT(ADDRESS(ROWS($1:14),COLUMNS(Décembre!$A:P),,,TEXT(MK$6,"mmmm"))),"") -> 0 | ML13: =IFERROR(INDIRECT(ADDRESS(ROWS($1:14),COLUMNS(Décembre!$A:Q),,,TEXT(ML$6,"mmmm"))),"") -> 0 | MM13: =IFERROR(INDIRECT(ADDRESS(ROWS($1:14),COLUMNS(Décembre!$A:R),,,TEXT(MM$6,"mmmm"))),"") -> 0 | MN13: =IFERROR(INDIRECT(ADDRESS(ROWS($1:14),COLUMNS(Décembre!$A:S),,,TEXT(MN$6,"mmmm"))),"") -> 0 | MO13: =IFERROR(INDIRECT(ADDRESS(ROWS($1:14),COLUMNS(Décembre!$A:T),,,TEXT(MO$6,"mmmm"))),"") -> 0 | MP13: =IFERROR(INDIRECT(ADDRESS(ROWS($1:14),COLUMNS(Décembre!$A:U),,,TEXT(MP$6,"mmmm"))),"") -> 0 | MQ13: =IFERROR(INDIRECT(ADDRESS(ROWS($1:14),COLUMNS(Décembre!$A:V),,,TEXT(MQ$6,"mmmm"))),"") -> 0 | MR13: =IFERROR(INDIRECT(ADDRESS(ROWS($1:14),COLUMNS(Décembre!$A:W),,,TEXT(MR$6,"mmmm"))),"") -> 0 | MS13: =IFERROR(INDIRECT(ADDRESS(ROWS($1:14),COLUMNS(Décembre!$A:X),,,TEXT(MS$6,"mmmm"))),"") -> 0 | MT13: =IFERROR(INDIRECT(ADDRESS(ROWS($1:14),COLUMNS(Décembre!$A:Y),,,TEXT(MT$6,"mmmm"))),"") -> 0 | MU13: =IFERROR(INDIRECT(ADDRESS(ROWS($1:14),COLUMNS(Décembre!$A:Z),,,TEXT(MU$6,"mmmm"))),"") -> 0 | MV13: =IFERROR(INDIRECT(ADDRESS(ROWS($1:14),COLUMNS(Décembre!$A:AA),,,TEXT(MV$6,"mmmm"))),"") -> 0 | MW13: =IFERROR(INDIRECT(ADDRESS(ROWS($1:14),COLUMNS(Décembre!$A:AB),,,TEXT(MW$6,"mmmm"))),"") -> 0 | MX13: =IFERROR(INDIRECT(ADDRESS(ROWS($1:14),COLUMNS(Décembre!$A:AC),,,TEXT(MX$6,"mmmm"))),"") -> 0 | MY13: =IFERROR(INDIRECT(ADDRESS(ROWS($1:14),COLUMNS(Décembre!$A:AD),,,TEXT(MY$6,"mmmm"))),"") -> 0 | MZ13: =IFERROR(INDIRECT(ADDRESS(ROWS($1:14),COLUMNS(Décembre!$A:AE),,,TEXT(MZ$6,"mmmm"))),"") -> 0 | NA13: =IFERROR(INDIRECT(ADDRESS(ROWS($1:14),COLUMNS(Décembre!$A:AF),,,TEXT(NA$6,"mmmm"))),"") -> 0 | NB13: =IFERROR(INDIRECT(ADDRESS(ROWS($1:14),COLUMNS(Décembre!$A:AG),,,TEXT(NB$6,"mmmm"))),"") -> 0
A14: D | C14: =IFERROR(INDIRECT(ADDRESS(ROWS($1:15),COLUMNS($A:D),,,TEXT(C$6,"mmmm"))),"") -> 0 | D14: =IFERROR(INDIRECT(ADDRESS(ROWS($1:15),COLUMNS($A:E),,,TEXT(D$6,"mmmm"))),"") -> 0 | E14: =IFERROR(INDIRECT(ADDRESS(ROWS($1:15),COLUMNS($A:F),,,TEXT(E$6,"mmmm"))),"") -> 0 | F14: =IFERROR(INDIRECT(ADDRESS(ROWS($1:15),COLUMNS($A:G),,,TEXT(F$6,"mmmm"))),"") -> 0 | G14: =IFERROR(INDIRECT(ADDRESS(ROWS($1:15),COLUMNS($A:H),,,TEXT(G$6,"mmmm"))),"") -> 0 | H14: =IFERROR(INDIRECT(ADDRESS(ROWS($1:15),COLUMNS($A:I),,,TEXT(H$6,"mmmm"))),"") -> 0 | I14: =IFERROR(INDIRECT(ADDRESS(ROWS($1:15),COLUMNS($A:J),,,TEXT(I$6,"mmmm"))),"") -> 0 | J14: =IFERROR(INDIRECT(ADDRESS(ROWS($1:15),COLUMNS($A:K),,,TEXT(J$6,"mmmm"))),"") -> 0 | K14: =IFERROR(INDIRECT(ADDRESS(ROWS($1:15),COLUMNS($A:L),,,TEXT(K$6,"mmmm"))),"") -> 0 | L14: =IFERROR(INDIRECT(ADDRESS(ROWS($1:15),COLUMNS($A:M),,,TEXT(L$6,"mmmm"))),"") -> 0 | M14: =IFERROR(INDIRECT(ADDRESS(ROWS($1:15),COLUMNS($A:N),,,TEXT(M$6,"mmmm"))),"") -> 0 | N14: =IFERROR(INDIRECT(ADDRESS(ROWS($1:15),COLUMNS($A:O),,,TEXT(N$6,"mmmm"))),"") -> 0 | O14: =IFERROR(INDIRECT(ADDRESS(ROWS($1:15),COLUMNS($A:P),,,TEXT(O$6,"mmmm"))),"") -> 0 | P14: =IFERROR(INDIRECT(ADDRESS(ROWS($1:15),COLUMNS($A:Q),,,TEXT(P$6,"mmmm"))),"") -> 0 | Q14: =IFERROR(INDIRECT(ADDRESS(ROWS($1:15),COLUMNS($A:R),,,TEXT(Q$6,"mmmm"))),"") -> 0 | R14: =IFERROR(INDIRECT(ADDRESS(ROWS($1:15),COLUMNS($A:S),,,TEXT(R$6,"mmmm"))),"") -> 0 | S14: =IFERROR(INDIRECT(ADDRESS(ROWS($1:15),COLUMNS($A:T),,,TEXT(S$6,"mmmm"))),"") -> 0 | T14: =IFERROR(INDIRECT(ADDRESS(ROWS($1:15),COLUMNS($A:U),,,TEXT(T$6,"mmmm"))),"") -> 0 | U14: =IFERROR(INDIRECT(ADDRESS(ROWS($1:15),COLUMNS($A:V),,,TEXT(U$6,"mmmm"))),"") -> 0 | V14: =IFERROR(INDIRECT(ADDRESS(ROWS($1:15),COLUMNS($A:W),,,TEXT(V$6,"mmmm"))),"") -> 0 | W14: =IFERROR(INDIRECT(ADDRESS(ROWS($1:15),COLUMNS($A:X),,,TEXT(W$6,"mmmm"))),"") -> 0 | X14: =IFERROR(INDIRECT(ADDRESS(ROWS($1:15),COLUMNS($A:Y),,,TEXT(X$6,"mmmm"))),"") -> 0 | Y14: =IFERROR(INDIRECT(ADDRESS(ROWS($1:15),COLUMNS($A:Z),,,TEXT(Y$6,"mmmm"))),"") -> 0 | Z14: =IFERROR(INDIRECT(ADDRESS(ROWS($1:15),COLUMNS($A:AA),,,TEXT(Z$6,"mmmm"))),"") -> 0 | AA14: =IFERROR(INDIRECT(ADDRESS(ROWS($1:15),COLUMNS($A:AB),,,TEXT(AA$6,"mmmm"))),"") -> 0 | AB14: =IFERROR(INDIRECT(ADDRESS(ROWS($1:15),COLUMNS($A:AC),,,TEXT(AB$6,"mmmm"))),"") -> 0 | AC14: =IFERROR(INDIRECT(ADDRESS(ROWS($1:15),COLUMNS($A:AD),,,TEXT(AC$6,"mmmm"))),"") -> 0 | AD14: =IFERROR(INDIRECT(ADDRESS(ROWS($1:15),COLUMNS($A:AE),,,TEXT(AD$6,"mmmm"))),"") -> 0 | AE14: =IFERROR(INDIRECT(ADDRESS(ROWS($1:15),COLUMNS($A:AF),,,TEXT(AE$6,"mmmm"))),"") -> SEM | AF14: =IFERROR(INDIRECT(ADDRESS(ROWS($1:15),COLUMNS($A:AG),,,TEXT(AF$6,"mmmm"))),"") -> SEM | AG14: =IFERROR(INDIRECT(ADDRESS(ROWS($1:15),COLUMNS(Février!$A:C),,,TEXT(AG$6,"mmmm"))),"") -> SEM | AH14: =IFERROR(INDIRECT(ADDRESS(ROWS($1:15),COLUMNS(Février!$A:D),,,TEXT(AH$6,"mmmm"))),"") -> SEM | AI14: =IFERROR(INDIRECT(ADDRESS(ROWS($1:15),COLUMNS(Février!$A:E),,,TEXT(AI$6,"mmmm"))),"") -> 0 | AJ14: =IFERROR(INDIRECT(ADDRESS(ROWS($1:15),COLUMNS(Février!$A:F),,,TEXT(AJ$6,"mmmm"))),"") -> 0 | AK14: =IFERROR(INDIRECT(ADDRESS(ROWS($1:15),COLUMNS(Février!$A:G),,,TEXT(AK$6,"mmmm"))),"") -> 0 | AL14: =IFERROR(INDIRECT(ADDRESS(ROWS($1:15),COLUMNS(Février!$A:H),,,TEXT(AL$6,"mmmm"))),"") -> 0 | AM14: =IFERROR(INDIRECT(ADDRESS(ROWS($1:15),COLUMNS(Février!$A:I),,,TEXT(AM$6,"mmmm"))),"") -> 0 | AN14: =IFERROR(INDIRECT(ADDRESS(ROWS($1:15),COLUMNS(Février!$A:J),,,TEXT(AN$6,"mmmm"))),"") -> 0 | AO14: =IFERROR(INDIRECT(ADDRESS(ROWS($1:15),COLUMNS(Février!$A:K),,,TEXT(AO$6,"mmmm"))),"") -> 0 | AP14: =IFERROR(INDIRECT(ADDRESS(ROWS($1:15),COLUMNS(Février!$A:L),,,TEXT(AP$6,"mmmm"))),"") -> 0 | AQ14: =IFERROR(INDIRECT(ADDRESS(ROWS($1:15),COLUMNS(Février!$A:M),,,TEXT(AQ$6,"mmmm"))),"") -> 0 | AR14: =IFERROR(INDIRECT(ADDRESS(ROWS($1:15),COLUMNS(Février!$A:N),,,TEXT(AR$6,"mmmm"))),"") -> 0 | AS14: =IFERROR(INDIRECT(ADDRESS(ROWS($1:15),COLUMNS(Février!$A:O),,,TEXT(AS$6,"mmmm"))),"") -> 0 | AT14: =IFERROR(INDIRECT(ADDRESS(ROWS($1:15),COLUMNS(Février!$A:P),,,TEXT(AT$6,"mmmm"))),"") -> 0 | AU14: =IFERROR(INDIRECT(ADDRESS(ROWS($1:15),COLUMNS(Février!$A:Q),,,TEXT(AU$6,"mmmm"))),"") -> 0 | AV14: =IFERROR(INDIRECT(ADDRESS(ROWS($1:15),COLUMNS(Février!$A:R),,,TEXT(AV$6,"mmmm"))),"") -> 0 | AW14: =IFERROR(INDIRECT(ADDRESS(ROWS($1:15),COLUMNS(Février!$A:S),,,TEXT(AW$6,"mmmm"))),"") -> 0 | AX14: =IFERROR(INDIRECT(ADDRESS(ROWS($1:15),COLUMNS(Février!$A:T),,,TEXT(AX$6,"mmmm"))),"") -> 0 | AY14: =IFERROR(INDIRECT(ADDRESS(ROWS($1:15),COLUMNS(Février!$A:U),,,TEXT(AY$6,"mmmm"))),"") -> 0 | AZ14: =IFERROR(INDIRECT(ADDRESS(ROWS($1:15),COLUMNS(Février!$A:V),,,TEXT(AZ$6,"mmmm"))),"") -> 0 | BA14: =IFERROR(INDIRECT(ADDRESS(ROWS($1:15),COLUMNS(Février!$A:W),,,TEXT(BA$6,"mmmm"))),"") -> 0 | BB14: =IFERROR(INDIRECT(ADDRESS(ROWS($1:15),COLUMNS(Février!$A:X),,,TEXT(BB$6,"mmmm"))),"") -> 0 | BC14: =IFERROR(INDIRECT(ADDRESS(ROWS($1:15),COLUMNS(Février!$A:Y),,,TEXT(BC$6,"mmmm"))),"") -> 0 | BD14: =IFERROR(INDIRECT(ADDRESS(ROWS($1:15),COLUMNS(Février!$A:Z),,,TEXT(BD$6,"mmmm"))),"") -> 0 | BE14: =IFERROR(INDIRECT(ADDRESS(ROWS($1:15),COLUMNS(Février!$A:AA),,,TEXT(BE$6,"mmmm"))),"") -> 0 | BF14: =IFERROR(INDIRECT(ADDRESS(ROWS($1:15),COLUMNS(Février!$A:AB),,,TEXT(BF$6,"mmmm"))),"") -> 0 | BG14: =IFERROR(INDIRECT(ADDRESS(ROWS($1:15),COLUMNS(Février!$A:AC),,,TEXT(BG$6,"mmmm"))),"") -> 0 | BH14: =IFERROR(INDIRECT(ADDRESS(ROWS($1:15),COLUMNS(Février!$A:AD),,,TEXT(BH$6,"mmmm"))),"") -> 0 | BI14: =IFERROR(INDIRECT(ADDRESS(ROWS($1:15),COLUMNS(Mars!$A:C),,,TEXT(BI$6,"mmmm"))),"") -> 0 | BJ14: =IFERROR(INDIRECT(ADDRESS(ROWS($1:15),COLUMNS(Mars!$A:D),,,TEXT(BJ$6,"mmmm"))),"") -> 0 | BK14: =IFERROR(INDIRECT(ADDRESS(ROWS($1:15),COLUMNS(Mars!$A:E),,,TEXT(BK$6,"mmmm"))),"") -> WE | BL14: =IFERROR(INDIRECT(ADDRESS(ROWS($1:15),COLUMNS(Mars!$A:F),,,TEXT(BL$6,"mmmm"))),"") -> WE | BM14: =IFERROR(INDIRECT(ADDRESS(ROWS($1:15),COLUMNS(Mars!$A:G),,,TEXT(BM$6,"mmmm"))),"") -> WE | BN14: =IFERROR(INDIRECT(ADDRESS(ROWS($1:15),COLUMNS(Mars!$A:H),,,TEXT(BN$6,"mmmm"))),"") -> 0 | BO14: =IFERROR(INDIRECT(ADDRESS(ROWS($1:15),COLUMNS(Mars!$A:I),,,TEXT(BO$6,"mmmm"))),"") -> 0 | BP14: =IFERROR(INDIRECT(ADDRESS(ROWS($1:15),COLUMNS(Mars!$A:J),,,TEXT(BP$6,"mmmm"))),"") -> 0 | BQ14: =IFERROR(INDIRECT(ADDRESS(ROWS($1:15),COLUMNS(Mars!$A:K),,,TEXT(BQ$6,"mmmm"))),"") -> 0 | BR14: =IFERROR(INDIRECT(ADDRESS(ROWS($1:15),COLUMNS(Mars!$A:L),,,TEXT(BR$6,"mmmm"))),"") -> 0 | BS14: =IFERROR(INDIRECT(ADDRESS(ROWS($1:15),COLUMNS(Mars!$A:M),,,TEXT(BS$6,"mmmm"))),"") -> 0 | BT14: =IFERROR(INDIRECT(ADDRESS(ROWS($1:15),COLUMNS(Mars!$A:N),,,TEXT(BT$6,"mmmm"))),"") -> 0 | BU14: =IFERROR(INDIRECT(ADDRESS(ROWS($1:15),COLUMNS(Mars!$A:O),,,TEXT(BU$6,"mmmm"))),"") -> 0 | BV14: =IFERROR(INDIRECT(ADDRESS(ROWS($1:15),COLUMNS(Mars!$A:P),,,TEXT(BV$6,"mmmm"))),"") -> 0 | BW14: =IFERROR(INDIRECT(ADDRESS(ROWS($1:15),COLUMNS(Mars!$A:Q),,,TEXT(BW$6,"mmmm"))),"") -> 0 | BX14: =IFERROR(INDIRECT(ADDRESS(ROWS($1:15),COLUMNS(Mars!$A:R),,,TEXT(BX$6,"mmmm"))),"") -> 0 | BY14: =IFERROR(INDIRECT(ADDRESS(ROWS($1:15),COLUMNS(Mars!$A:S),,,TEXT(BY$6,"mmmm"))),"") -> 0 | BZ14: =IFERROR(INDIRECT(ADDRESS(ROWS($1:15),COLUMNS(Mars!$A:T),,,TEXT(BZ$6,"mmmm"))),"") -> 0 | CA14: =IFERROR(INDIRECT(ADDRESS(ROWS($1:15),COLUMNS(Mars!$A:U),,,TEXT(CA$6,"mmmm"))),"") -> 0 | CB14: =IFERROR(INDIRECT(ADDRESS(ROWS($1:15),COLUMNS(Mars!$A:V),,,TEXT(CB$6,"mmmm"))),"") -> 0 | CC14: =IFERROR(INDIRECT(ADDRESS(ROWS($1:15),COLUMNS(Mars!$A:W),,,TEXT(CC$6,"mmmm"))),"") -> 0 | CD14: =IFERROR(INDIRECT(ADDRESS(ROWS($1:15),COLUMNS(Mars!$A:X),,,TEXT(CD$6,"mmmm"))),"") -> 0 | CE14: =IFERROR(INDIRECT(ADDRESS(ROWS($1:15),COLUMNS(Mars!$A:Y),,,TEXT(CE$6,"mmmm"))),"") -> 0 | CF14: =IFERROR(INDIRECT(ADDRESS(ROWS($1:15),COLUMNS(Mars!$A:Z),,,TEXT(CF$6,"mmmm"))),"") -> 0 | CG14: =IFERROR(INDIRECT(ADDRESS(ROWS($1:15),COLUMNS(Mars!$A:AA),,,TEXT(CG$6,"mmmm"))),"") -> 0 | CH14: =IFERROR(INDIRECT(ADDRESS(ROWS($1:15),COLUMNS(Mars!$A:AB),,,TEXT(CH$6,"mmmm"))),"") -> 0 | CI14: =IFERROR(INDIRECT(ADDRESS(ROWS($1:15),COLUMNS(Mars!$A:AC),,,TEXT(CI$6,"mmmm"))),"") -> 0 | CJ14: =IFERROR(INDIRECT(ADDRESS(ROWS($1:15),COLUMNS(Mars!$A:AD),,,TEXT(CJ$6,"mmmm"))),"") -> 0 | CK14: =IFERROR(INDIRECT(ADDRESS(ROWS($1:15),COLUMNS(Mars!$A:AE),,,TEXT(CK$6,"mmmm"))),"") -> 0 | CL14: =IFERROR(INDIRECT(ADDRESS(ROWS($1:15),COLUMNS(Mars!$A:AF),,,TEXT(CL$6,"mmmm"))),"") -> 0 | CM14: =IFERROR(INDIRECT(ADDRESS(ROWS($1:15),COLUMNS(Mars!$A:AG),,,TEXT(CM$6,"mmmm"))),"") -> 0 | CN14: =IFERROR(INDIRECT(ADDRESS(ROWS($1:15),COLUMNS(Avril!$A:C),,,TEXT(CN$6,"mmmm"))),"") -> 0 | CO14: =IFERROR(INDIRECT(ADDRESS(ROWS($1:15),COLUMNS(Avril!$A:D),,,TEXT(CO$6,"mmmm"))),"") -> 0 | CP14: =IFERROR(INDIRECT(ADDRESS(ROWS($1:15),COLUMNS(Avril!$A:E),,,TEXT(CP$6,"mmmm"))),"") -> 0 | CQ14: =IFERROR(INDIRECT(ADDRESS(ROWS($1:15),COLUMNS(Avril!$A:F),,,TEXT(CQ$6,"mmmm"))),"") -> 0 | CR14: =IFERROR(INDIRECT(ADDRESS(ROWS($1:15),COLUMNS(Avril!$A:G),,,TEXT(CR$6,"mmmm"))),"") -> 0 | CS14: =IFERROR(INDIRECT(ADDRESS(ROWS($1:15),COLUMNS(Avril!$A:H),,,TEXT(CS$6,"mmmm"))),"") -> 0 | CT14: =IFERROR(INDIRECT(ADDRESS(ROWS($1:15),COLUMNS(Avril!$A:I),,,TEXT(CT$6,"mmmm"))),"") -> 0 | CU14: =IFERROR(INDIRECT(ADDRESS(ROWS($1:15),COLUMNS(Avril!$A:J),,,TEXT(CU$6,"mmmm"))),"") -> 0 | CV14: =IFERROR(INDIRECT(ADDRESS(ROWS($1:15),COLUMNS(Avril!$A:K),,,TEXT(CV$6,"mmmm"))),"") -> 0 | CW14: =IFERROR(INDIRECT(ADDRESS(ROWS($1:15),COLUMNS(Avril!$A:L),,,TEXT(CW$6,"mmmm"))),"") -> 0 | CX14: =IFERROR(INDIRECT(ADDRESS(ROWS($1:15),COLUMNS(Avril!$A:M),,,TEXT(CX$6,"mmmm"))),"") -> 0 | CY14: =IFERROR(INDIRECT(ADDRESS(ROWS($1:15),COLUMNS(Avril!$A:N),,,TEXT(CY$6,"mmmm"))),"") -> 0 | CZ14: =IFERROR(INDIRECT(ADDRESS(ROWS($1:15),COLUMNS(Avril!$A:O),,,TEXT(CZ$6,"mmmm"))),"") -> 0 | DA14: =IFERROR(INDIRECT(ADDRESS(ROWS($1:15),COLUMNS(Avril!$A:P),,,TEXT(DA$6,"mmmm"))),"") -> 0 | DB14: =IFERROR(INDIRECT(ADDRESS(ROWS($1:15),COLUMNS(Avril!$A:Q),,,TEXT(DB$6,"mmmm"))),"") -> 0 | DC14: =IFERROR(INDIRECT(ADDRESS(ROWS($1:15),COLUMNS(Avril!$A:R),,,TEXT(DC$6,"mmmm"))),"") -> 0 | DD14: =IFERROR(INDIRECT(ADDRESS(ROWS($1:15),COLUMNS(Avril!$A:S),,,TEXT(DD$6,"mmmm"))),"") -> 0 | DE14: =IFERROR(INDIRECT(ADDRESS(ROWS($1:15),COLUMNS(Avril!$A:T),,,TEXT(DE$6,"mmmm"))),"") -> 0 | DF14: =IFERROR(INDIRECT(ADDRESS(ROWS($1:15),COLUMNS(Avril!$A:U),,,TEXT(DF$6,"mmmm"))),"") -> 0 | DG14: =IFERROR(INDIRECT(ADDRESS(ROWS($1:15),COLUMNS(Avril!$A:V),,,TEXT(DG$6,"mmmm"))),"") -> 0 | DH14: =IFERROR(INDIRECT(ADDRESS(ROWS($1:15),COLUMNS(Avril!$A:W),,,TEXT(DH$6,"mmmm"))),"") -> 0 | DI14: =IFERROR(INDIRECT(ADDRESS(ROWS($1:15),COLUMNS(Avril!$A:X),,,TEXT(DI$6,"mmmm"))),"") -> 0 | DJ14: =IFERROR(INDIRECT(ADDRESS(ROWS($1:15),COLUMNS(Avril!$A:Y),,,TEXT(DJ$6,"mmmm"))),"") -> 0 | DK14: =IFERROR(INDIRECT(ADDRESS(ROWS($1:15),COLUMNS(Avril!$A:Z),,,TEXT(DK$6,"mmmm"))),"") -> 0 | DL14: =IFERROR(INDIRECT(ADDRESS(ROWS($1:15),COLUMNS(Avril!$A:AA),,,TEXT(DL$6,"mmmm"))),"") -> 0 | DM14: =IFERROR(INDIRECT(ADDRESS(ROWS($1:15),COLUMNS(Avril!$A:AB),,,TEXT(DM$6,"mmmm"))),"") -> 0 | DN14: =IFERROR(INDIRECT(ADDRESS(ROWS($1:15),COLUMNS(Avril!$A:AC),,,TEXT(DN$6,"mmmm"))),"") -> 0 | DO14: =IFERROR(INDIRECT(ADDRESS(ROWS($1:15),COLUMNS(Avril!$A:AD),,,TEXT(DO$6,"mmmm"))),"") -> 0 | DP14: =IFERROR(INDIRECT(ADDRESS(ROWS($1:15),COLUMNS(Avril!$A:AE),,,TEXT(DP$6,"mmmm"))),"") -> 0 | DQ14: =IFERROR(INDIRECT(ADDRESS(ROWS($1:15),COLUMNS(Avril!$A:AF),,,TEXT(DQ$6,"mmmm"))),"") -> 0 | DR14: =IFERROR(INDIRECT(ADDRESS(ROWS($1:15),COLUMNS(Avril!$A:C),,,TEXT(DR$6,"mmmm"))),"") -> 0 | DS14: =IFERROR(INDIRECT(ADDRESS(ROWS($1:15),COLUMNS(Avril!$A:D),,,TEXT(DS$6,"mmmm"))),"") -> 0 | DT14: =IFERROR(INDIRECT(ADDRESS(ROWS($1:15),COLUMNS(Avril!$A:E),,,TEXT(DT$6,"mmmm"))),"") -> 0 | DU14: =IFERROR(INDIRECT(ADDRESS(ROWS($1:15),COLUMNS(Avril!$A:F),,,TEXT(DU$6,"mmmm"))),"") -> 0 | DV14: =IFERROR(INDIRECT(ADDRESS(ROWS($1:15),COLUMNS(Avril!$A:G),,,TEXT(DV$6,"mmmm"))),"") -> 0 | DW14: =IFERROR(INDIRECT(ADDRESS(ROWS($1:15),COLUMNS(Avril!$A:H),,,TEXT(DW$6,"mmmm"))),"") -> 0 | DX14: =IFERROR(INDIRECT(ADDRESS(ROWS($1:15),COLUMNS(Avril!$A:I),,,TEXT(DX$6,"mmmm"))),"") -> 0 | DY14: =IFERROR(INDIRECT(ADDRESS(ROWS($1:15),COLUMNS(Avril!$A:J),,,TEXT(DY$6,"mmmm"))),"") -> 0 | DZ14: =IFERROR(INDIRECT(ADDRESS(ROWS($1:15),COLUMNS(Avril!$A:K),,,TEXT(DZ$6,"mmmm"))),"") -> 0 | EA14: =IFERROR(INDIRECT(ADDRESS(ROWS($1:15),COLUMNS(Avril!$A:L),,,TEXT(EA$6,"mmmm"))),"") -> 0 | EB14: =IFERROR(INDIRECT(ADDRESS(ROWS($1:15),COLUMNS(Avril!$A:M),,,TEXT(EB$6,"mmmm"))),"") -> 0 | EC14: =IFERROR(INDIRECT(ADDRESS(ROWS($1:15),COLUMNS(Avril!$A:N),,,TEXT(EC$6,"mmmm"))),"") -> 0 | ED14: =IFERROR(INDIRECT(ADDRESS(ROWS($1:15),COLUMNS(Avril!$A:O),,,TEXT(ED$6,"mmmm"))),"") -> 0 | EE14: =IFERROR(INDIRECT(ADDRESS(ROWS($1:15),COLUMNS(Avril!$A:P),,,TEXT(EE$6,"mmmm"))),"") -> 0 | EF14: =IFERROR(INDIRECT(ADDRESS(ROWS($1:15),COLUMNS(Avril!$A:Q),,,TEXT(EF$6,"mmmm"))),"") -> 0 | EG14: =IFERROR(INDIRECT(ADDRESS(ROWS($1:15),COLUMNS(Avril!$A:R),,,TEXT(EG$6,"mmmm"))),"") -> 0 | EH14: =IFERROR(INDIRECT(ADDRESS(ROWS($1:15),COLUMNS(Avril!$A:S),,,TEXT(EH$6,"mmmm"))),"") -> 0 | EI14: =IFERROR(INDIRECT(ADDRESS(ROWS($1:15),COLUMNS(Avril!$A:T),,,TEXT(EI$6,"mmmm"))),"") -> 0 | EJ14: =IFERROR(INDIRECT(ADDRESS(ROWS($1:15),COLUMNS(Avril!$A:U),,,TEXT(EJ$6,"mmmm"))),"") -> 0 | EK14: =IFERROR(INDIRECT(ADDRESS(ROWS($1:15),COLUMNS(Avril!$A:V),,,TEXT(EK$6,"mmmm"))),"") -> 0 | EL14: =IFERROR(INDIRECT(ADDRESS(ROWS($1:15),COLUMNS(Avril!$A:W),,,TEXT(EL$6,"mmmm"))),"") -> 0 | EM14: =IFERROR(INDIRECT(ADDRESS(ROWS($1:15),COLUMNS(Avril!$A:X),,,TEXT(EM$6,"mmmm"))),"") -> 0 | EN14: =IFERROR(INDIRECT(ADDRESS(ROWS($1:15),COLUMNS(Avril!$A:Y),,,TEXT(EN$6,"mmmm"))),"") -> 0 | EO14: =IFERROR(INDIRECT(ADDRESS(ROWS($1:15),COLUMNS(Avril!$A:Z),,,TEXT(EO$6,"mmmm"))),"") -> 0 | EP14: =IFERROR(INDIRECT(ADDRESS(ROWS($1:15),COLUMNS(Avril!$A:AA),,,TEXT(EP$6,"mmmm"))),"") -> 0 | EQ14: =IFERROR(INDIRECT(ADDRESS(ROWS($1:15),COLUMNS(Avril!$A:AB),,,TEXT(EQ$6,"mmmm"))),"") -> 0 | ER14: =IFERROR(INDIRECT(ADDRESS(ROWS($1:15),COLUMNS(Avril!$A:AC),,,TEXT(ER$6,"mmmm"))),"") -> 0 | ES14: =IFERROR(INDIRECT(ADDRESS(ROWS($1:15),COLUMNS(Avril!$A:AD),,,TEXT(ES$6,"mmmm"))),"") -> 0 | ET14: =IFERROR(INDIRECT(ADDRESS(ROWS($1:15),COLUMNS(Avril!$A:AE),,,TEXT(ET$6,"mmmm"))),"") -> 0 | EU14: =IFERROR(INDIRECT(ADDRESS(ROWS($1:15),COLUMNS(Avril!$A:AF),,,TEXT(EU$6,"mmmm"))),"") -> 0 | EV14: =IFERROR(INDIRECT(ADDRESS(ROWS($1:15),COLUMNS(Avril!$A:AG),,,TEXT(EV$6,"mmmm"))),"") -> 0 | EW14: =IFERROR(INDIRECT(ADDRESS(ROWS($1:15),COLUMNS(Juin!$A:C),,,TEXT(EW$6,"mmmm"))),"") -> 0 | EX14: =IFERROR(INDIRECT(ADDRESS(ROWS($1:15),COLUMNS(Juin!$A:D),,,TEXT(EX$6,"mmmm"))),"") -> 0 | EY14: =IFERROR(INDIRECT(ADDRESS(ROWS($1:15),COLUMNS(Juin!$A:E),,,TEXT(EY$6,"mmmm"))),"") -> 0 | EZ14: =IFERROR(INDIRECT(ADDRESS(ROWS($1:15),COLUMNS(Juin!$A:F),,,TEXT(EZ$6,"mmmm"))),"") -> 0 | FA14: =IFERROR(INDIRECT(ADDRESS(ROWS($1:15),COLUMNS(Juin!$A:G),,,TEXT(FA$6,"mmmm"))),"") -> 0 | FB14: =IFERROR(INDIRECT(ADDRESS(ROWS($1:15),COLUMNS(Juin!$A:H),,,TEXT(FB$6,"mmmm"))),"") -> 0 | FC14: =IFERROR(INDIRECT(ADDRESS(ROWS($1:15),COLUMNS(Juin!$A:I),,,TEXT(FC$6,"mmmm"))),"") -> 0 | FD14: =IFERROR(INDIRECT(ADDRESS(ROWS($1:15),COLUMNS(Juin!$A:J),,,TEXT(FD$6,"mmmm"))),"") -> 0 | FE14: =IFERROR(INDIRECT(ADDRESS(ROWS($1:15),COLUMNS(Juin!$A:K),,,TEXT(FE$6,"mmmm"))),"") -> 0 | FF14: =IFERROR(INDIRECT(ADDRESS(ROWS($1:15),COLUMNS(Juin!$A:L),,,TEXT(FF$6,"mmmm"))),"") -> 0 | FG14: =IFERROR(INDIRECT(ADDRESS(ROWS($1:15),COLUMNS(Juin!$A:M),,,TEXT(FG$6,"mmmm"))),"") -> 0 | FH14: =IFERROR(INDIRECT(ADDRESS(ROWS($1:15),COLUMNS(Juin!$A:N),,,TEXT(FH$6,"mmmm"))),"") -> 0 | FI14: =IFERROR(INDIRECT(ADDRESS(ROWS($1:15),COLUMNS(Juin!$A:O),,,TEXT(FI$6,"mmmm"))),"") -> 0 | FJ14: =IFERROR(INDIRECT(ADDRESS(ROWS($1:15),COLUMNS(Juin!$A:P),,,TEXT(FJ$6,"mmmm"))),"") -> 0 | FK14: =IFERROR(INDIRECT(ADDRESS(ROWS($1:15),COLUMNS(Juin!$A:Q),,,TEXT(FK$6,"mmmm"))),"") -> 0 | FL14: =IFERROR(INDIRECT(ADDRESS(ROWS($1:15),COLUMNS(Juin!$A:R),,,TEXT(FL$6,"mmmm"))),"") -> 0 | FM14: =IFERROR(INDIRECT(ADDRESS(ROWS($1:15),COLUMNS(Juin!$A:S),,,TEXT(FM$6,"mmmm"))),"") -> 0 | FN14: =IFERROR(INDIRECT(ADDRESS(ROWS($1:15),COLUMNS(Juin!$A:T),,,TEXT(FN$6,"mmmm"))),"") -> 0 | FO14: =IFERROR(INDIRECT(ADDRESS(ROWS($1:15),COLUMNS(Juin!$A:U),,,TEXT(FO$6,"mmmm"))),"") -> 0 | FP14: =IFERROR(INDIRECT(ADDRESS(ROWS($1:15),COLUMNS(Juin!$A:V),,,TEXT(FP$6,"mmmm"))),"") -> 0 | FQ14: =IFERROR(INDIRECT(ADDRESS(ROWS($1:15),COLUMNS(Juin!$A:W),,,TEXT(FQ$6,"mmmm"))),"") -> 0 | FR14: =IFERROR(INDIRECT(ADDRESS(ROWS($1:15),COLUMNS(Juin!$A:X),,,TEXT(FR$6,"mmmm"))),"") -> 0 | FS14: =IFERROR(INDIRECT(ADDRESS(ROWS($1:15),COLUMNS(Juin!$A:Y),,,TEXT(FS$6,"mmmm"))),"") -> 0 | FT14: =IFERROR(INDIRECT(ADDRESS(ROWS($1:15),COLUMNS(Juin!$A:Z),,,TEXT(FT$6,"mmmm"))),"") -> 0 | FU14: =IFERROR(INDIRECT(ADDRESS(ROWS($1:15),COLUMNS(Juin!$A:AA),,,TEXT(FU$6,"mmmm"))),"") -> 0 | FV14: =IFERROR(INDIRECT(ADDRESS(ROWS($1:15),COLUMNS(Juin!$A:AB),,,TEXT(FV$6,"mmmm"))),"") -> 0 | FW14: =IFERROR(INDIRECT(ADDRESS(ROWS($1:15),COLUMNS(Juin!$A:AC),,,TEXT(FW$6,"mmmm"))),"") -> 0 | FX14: =IFERROR(INDIRECT(ADDRESS(ROWS($1:15),COLUMNS(Juin!$A:AD),,,TEXT(FX$6,"mmmm"))),"") -> 0 | FY14: =IFERROR(INDIRECT(ADDRESS(ROWS($1:15),COLUMNS(Juin!$A:AE),,,TEXT(FY$6,"mmmm"))),"") -> 0 | FZ14: =IFERROR(INDIRECT(ADDRESS(ROWS($1:15),COLUMNS(Juin!$A:AF),,,TEXT(FZ$6,"mmmm"))),"") -> 0 | GA14: =IFERROR(INDIRECT(ADDRESS(ROWS($1:15),COLUMNS(Juillet!$A:C),,,TEXT(GA$6,"mmmm"))),"") -> 0 | GB14: =IFERROR(INDIRECT(ADDRESS(ROWS($1:15),COLUMNS(Juillet!$A:D),,,TEXT(GB$6,"mmmm"))),"") -> 0 | GC14: =IFERROR(INDIRECT(ADDRESS(ROWS($1:15),COLUMNS(Juillet!$A:E),,,TEXT(GC$6,"mmmm"))),"") -> 0 | GD14: =IFERROR(INDIRECT(ADDRESS(ROWS($1:15),COLUMNS(Juillet!$A:F),,,TEXT(GD$6,"mmmm"))),"") -> 0 | GE14: =IFERROR(INDIRECT(ADDRESS(ROWS($1:15),COLUMNS(Juillet!$A:G),,,TEXT(GE$6,"mmmm"))),"") -> 0 | GF14: =IFERROR(INDIRECT(ADDRESS(ROWS($1:15),COLUMNS(Juillet!$A:H),,,TEXT(GF$6,"mmmm"))),"") -> 0 | GG14: =IFERROR(INDIRECT(ADDRESS(ROWS($1:15),COLUMNS(Juillet!$A:I),,,TEXT(GG$6,"mmmm"))),"") -> 0 | GH14: =IFERROR(INDIRECT(ADDRESS(ROWS($1:15),COLUMNS(Juillet!$A:J),,,TEXT(GH$6,"mmmm"))),"") -> 0 | GI14: =IFERROR(INDIRECT(ADDRESS(ROWS($1:15),COLUMNS(Juillet!$A:K),,,TEXT(GI$6,"mmmm"))),"") -> 0 | GJ14: =IFERROR(INDIRECT(ADDRESS(ROWS($1:15),COLUMNS(Juillet!$A:L),,,TEXT(GJ$6,"mmmm"))),"") -> 0 | GK14: =IFERROR(INDIRECT(ADDRESS(ROWS($1:15),COLUMNS(Juillet!$A:M),,,TEXT(GK$6,"mmmm"))),"") -> 0 | GL14: =IFERROR(INDIRECT(ADDRESS(ROWS($1:15),COLUMNS(Juillet!$A:N),,,TEXT(GL$6,"mmmm"))),"") -> 0 | GM14: =IFERROR(INDIRECT(ADDRESS(ROWS($1:15),COLUMNS(Juillet!$A:O),,,TEXT(GM$6,"mmmm"))),"") -> 0 | GN14: =IFERROR(INDIRECT(ADDRESS(ROWS($1:15),COLUMNS(Juillet!$A:P),,,TEXT(GN$6,"mmmm"))),"") -> 0 | GO14: =IFERROR(INDIRECT(ADDRESS(ROWS($1:15),COLUMNS(Juillet!$A:Q),,,TEXT(GO$6,"mmmm"))),"") -> 0 | GP14: =IFERROR(INDIRECT(ADDRESS(ROWS($1:15),COLUMNS(Juillet!$A:R),,,TEXT(GP$6,"mmmm"))),"") -> 0 | GQ14: =IFERROR(INDIRECT(ADDRESS(ROWS($1:15),COLUMNS(Juillet!$A:S),,,TEXT(GQ$6,"mmmm"))),"") -> 0 | GR14: =IFERROR(INDIRECT(ADDRESS(ROWS($1:15),COLUMNS(Juillet!$A:T),,,TEXT(GR$6,"mmmm"))),"") -> 0 | GS14: =IFERROR(INDIRECT(ADDRESS(ROWS($1:15),COLUMNS(Juillet!$A:U),,,TEXT(GS$6,"mmmm"))),"") -> 0 | GT14: =IFERROR(INDIRECT(ADDRESS(ROWS($1:15),COLUMNS(Juillet!$A:V),,,TEXT(GT$6,"mmmm"))),"") -> 0 | GU14: =IFERROR(INDIRECT(ADDRESS(ROWS($1:15),COLUMNS(Juillet!$A:W),,,TEXT(GU$6,"mmmm"))),"") -> 0 | GV14: =IFERROR(INDIRECT(ADDRESS(ROWS($1:15),COLUMNS(Juillet!$A:X),,,TEXT(GV$6,"mmmm"))),"") -> 0 | GW14: =IFERROR(INDIRECT(ADDRESS(ROWS($1:15),COLUMNS(Juillet!$A:Y),,,TEXT(GW$6,"mmmm"))),"") -> 0 | GX14: =IFERROR(INDIRECT(ADDRESS(ROWS($1:15),COLUMNS(Juillet!$A:Z),,,TEXT(GX$6,"mmmm"))),"") -> 0 | GY14: =IFERROR(INDIRECT(ADDRESS(ROWS($1:15),COLUMNS(Juillet!$A:AA),,,TEXT(GY$6,"mmmm"))),"") -> 0 | GZ14: =IFERROR(INDIRECT(ADDRESS(ROWS($1:15),COLUMNS(Juillet!$A:AB),,,TEXT(GZ$6,"mmmm"))),"") -> 0 | HA14: =IFERROR(INDIRECT(ADDRESS(ROWS($1:15),COLUMNS(Juillet!$A:AC),,,TEXT(HA$6,"mmmm"))),"") -> 0 | HB14: =IFERROR(INDIRECT(ADDRESS(ROWS($1:15),COLUMNS(Juillet!$A:AD),,,TEXT(HB$6,"mmmm"))),"") -> 0 | HC14: =IFERROR(INDIRECT(ADDRESS(ROWS($1:15),COLUMNS(Juillet!$A:AE),,,TEXT(HC$6,"mmmm"))),"") -> 0 | HD14: =IFERROR(INDIRECT(ADDRESS(ROWS($1:15),COLUMNS(Juillet!$A:AF),,,TEXT(HD$6,"mmmm"))),"") -> 0 | HE14: =IFERROR(INDIRECT(ADDRESS(ROWS($1:15),COLUMNS(Juillet!$A:AG),,,TEXT(HE$6,"mmmm"))),"") -> 0 | HF14: =IFERROR(INDIRECT(ADDRESS(ROWS($1:15),COLUMNS(Août!$A:C),,,TEXT(HF$6,"mmmm"))),"") -> 0 | HG14: =IFERROR(INDIRECT(ADDRESS(ROWS($1:15),COLUMNS(Août!$A:D),,,TEXT(HG$6,"mmmm"))),"") -> 0 | HH14: =IFERROR(INDIRECT(ADDRESS(ROWS($1:15),COLUMNS(Août!$A:E),,,TEXT(HH$6,"mmmm"))),"") -> 0 | HI14: =IFERROR(INDIRECT(ADDRESS(ROWS($1:15),COLUMNS(Août!$A:F),,,TEXT(HI$6,"mmmm"))),"") -> 0 | HJ14: =IFERROR(INDIRECT(ADDRESS(ROWS($1:15),COLUMNS(Août!$A:G),,,TEXT(HJ$6,"mmmm"))),"") -> 0 | HK14: =IFERROR(INDIRECT(ADDRESS(ROWS($1:15),COLUMNS(Août!$A:H),,,TEXT(HK$6,"mmmm"))),"") -> 0 | HL14: =IFERROR(INDIRECT(ADDRESS(ROWS($1:15),COLUMNS(Août!$A:I),,,TEXT(HL$6,"mmmm"))),"") -> 0 | HM14: =IFERROR(INDIRECT(ADDRESS(ROWS($1:15),COLUMNS(Août!$A:J),,,TEXT(HM$6,"mmmm"))),"") -> 0 | HN14: =IFERROR(INDIRECT(ADDRESS(ROWS($1:15),COLUMNS(Août!$A:K),,,TEXT(HN$6,"mmmm"))),"") -> 0 | HO14: =IFERROR(INDIRECT(ADDRESS(ROWS($1:15),COLUMNS(Août!$A:L),,,TEXT(HO$6,"mmmm"))),"") -> 0 | HP14: =IFERROR(INDIRECT(ADDRESS(ROWS($1:15),COLUMNS(Août!$A:M),,,TEXT(HP$6,"mmmm"))),"") -> 0 | HQ14: =IFERROR(INDIRECT(ADDRESS(ROWS($1:15),COLUMNS(Août!$A:N),,,TEXT(HQ$6,"mmmm"))),"") -> 0 | HR14: =IFERROR(INDIRECT(ADDRESS(ROWS($1:15),COLUMNS(Août!$A:O),,,TEXT(HR$6,"mmmm"))),"") -> 0 | HS14: =IFERROR(INDIRECT(ADDRESS(ROWS($1:15),COLUMNS(Août!$A:P),,,TEXT(HS$6,"mmmm"))),"") -> 0 | HT14: =IFERROR(INDIRECT(ADDRESS(ROWS($1:15),COLUMNS(Août!$A:Q),,,TEXT(HT$6,"mmmm"))),"") -> 0 | HU14: =IFERROR(INDIRECT(ADDRESS(ROWS($1:15),COLUMNS(Août!$A:R),,,TEXT(HU$6,"mmmm"))),"") -> 0 | HV14: =IFERROR(INDIRECT(ADDRESS(ROWS($1:15),COLUMNS(Août!$A:S),,,TEXT(HV$6,"mmmm"))),"") -> 0 | HW14: =IFERROR(INDIRECT(ADDRESS(ROWS($1:15),COLUMNS(Août!$A:T),,,TEXT(HW$6,"mmmm"))),"") -> 0 | HX14: =IFERROR(INDIRECT(ADDRESS(ROWS($1:15),COLUMNS(Août!$A:U),,,TEXT(HX$6,"mmmm"))),"") -> 0 | HY14: =IFERROR(INDIRECT(ADDRESS(ROWS($1:15),COLUMNS(Août!$A:V),,,TEXT(HY$6,"mmmm"))),"") -> 0 | HZ14: =IFERROR(INDIRECT(ADDRESS(ROWS($1:15),COLUMNS(Août!$A:W),,,TEXT(HZ$6,"mmmm"))),"") -> 0 | IA14: =IFERROR(INDIRECT(ADDRESS(ROWS($1:15),COLUMNS(Août!$A:X),,,TEXT(IA$6,"mmmm"))),"") -> 0 | IB14: =IFERROR(INDIRECT(ADDRESS(ROWS($1:15),COLUMNS(Août!$A:Y),,,TEXT(IB$6,"mmmm"))),"") -> 0 | IC14: =IFERROR(INDIRECT(ADDRESS(ROWS($1:15),COLUMNS(Août!$A:Z),,,TEXT(IC$6,"mmmm"))),"") -> 0 | ID14: =IFERROR(INDIRECT(ADDRESS(ROWS($1:15),COLUMNS(Août!$A:AA),,,TEXT(ID$6,"mmmm"))),"") -> 0 | IE14: =IFERROR(INDIRECT(ADDRESS(ROWS($1:15),COLUMNS(Août!$A:AB),,,TEXT(IE$6,"mmmm"))),"") -> 0 | IF14: =IFERROR(INDIRECT(ADDRESS(ROWS($1:15),COLUMNS(Août!$A:AC),,,TEXT(IF$6,"mmmm"))),"") -> 0 | IG14: =IFERROR(INDIRECT(ADDRESS(ROWS($1:15),COLUMNS(Août!$A:AD),,,TEXT(IG$6,"mmmm"))),"") -> 0 | IH14: =IFERROR(INDIRECT(ADDRESS(ROWS($1:15),COLUMNS(Août!$A:AE),,,TEXT(IH$6,"mmmm"))),"") -> 0 | II14: =IFERROR(INDIRECT(ADDRESS(ROWS($1:15),COLUMNS(Août!$A:AF),,,TEXT(II$6,"mmmm"))),"") -> 0 | IJ14: =IFERROR(INDIRECT(ADDRESS(ROWS($1:15),COLUMNS(Août!$A:AG),,,TEXT(IJ$6,"mmmm"))),"") -> 0 | IK14: =IFERROR(INDIRECT(ADDRESS(ROWS($1:15),COLUMNS(Septembre!$A:C),,,TEXT(IK$6,"mmmm"))),"") -> 0 | IL14: =IFERROR(INDIRECT(ADDRESS(ROWS($1:15),COLUMNS(Septembre!$A:D),,,TEXT(IL$6,"mmmm"))),"") -> 0 | IM14: =IFERROR(INDIRECT(ADDRESS(ROWS($1:15),COLUMNS(Septembre!$A:E),,,TEXT(IM$6,"mmmm"))),"") -> 0 | IN14: =IFERROR(INDIRECT(ADDRESS(ROWS($1:15),COLUMNS(Septembre!$A:F),,,TEXT(IN$6,"mmmm"))),"") -> 0 | IO14: =IFERROR(INDIRECT(ADDRESS(ROWS($1:15),COLUMNS(Septembre!$A:G),,,TEXT(IO$6,"mmmm"))),"") -> 0 | IP14: =IFERROR(INDIRECT(ADDRESS(ROWS($1:15),COLUMNS(Septembre!$A:H),,,TEXT(IP$6,"mmmm"))),"") -> 0 | IQ14: =IFERROR(INDIRECT(ADDRESS(ROWS($1:15),COLUMNS(Septembre!$A:I),,,TEXT(IQ$6,"mmmm"))),"") -> 0 | IR14: =IFERROR(INDIRECT(ADDRESS(ROWS($1:15),COLUMNS(Septembre!$A:J),,,TEXT(IR$6,"mmmm"))),"") -> 0 | IS14: =IFERROR(INDIRECT(ADDRESS(ROWS($1:15),COLUMNS(Septembre!$A:K),,,TEXT(IS$6,"mmmm"))),"") -> 0 | IT14: =IFERROR(INDIRECT(ADDRESS(ROWS($1:15),COLUMNS(Septembre!$A:L),,,TEXT(IT$6,"mmmm"))),"") -> 0 | IU14: =IFERROR(INDIRECT(ADDRESS(ROWS($1:15),COLUMNS(Septembre!$A:M),,,TEXT(IU$6,"mmmm"))),"") -> 0 | IV14: =IFERROR(INDIRECT(ADDRESS(ROWS($1:15),COLUMNS(Septembre!$A:N),,,TEXT(IV$6,"mmmm"))),"") -> 0 | IW14: =IFERROR(INDIRECT(ADDRESS(ROWS($1:15),COLUMNS(Septembre!$A:O),,,TEXT(IW$6,"mmmm"))),"") -> 0 | IX14: =IFERROR(INDIRECT(ADDRESS(ROWS($1:15),COLUMNS(Septembre!$A:P),,,TEXT(IX$6,"mmmm"))),"") -> 0 | IY14: =IFERROR(INDIRECT(ADDRESS(ROWS($1:15),COLUMNS(Septembre!$A:Q),,,TEXT(IY$6,"mmmm"))),"") -> 0 | IZ14: =IFERROR(INDIRECT(ADDRESS(ROWS($1:15),COLUMNS(Septembre!$A:R),,,TEXT(IZ$6,"mmmm"))),"") -> 0 | JA14: =IFERROR(INDIRECT(ADDRESS(ROWS($1:15),COLUMNS(Septembre!$A:S),,,TEXT(JA$6,"mmmm"))),"") -> 0 | JB14: =IFERROR(INDIRECT(ADDRESS(ROWS($1:15),COLUMNS(Septembre!$A:T),,,TEXT(JB$6,"mmmm"))),"") -> 0 | JC14: =IFERROR(INDIRECT(ADDRESS(ROWS($1:15),COLUMNS(Septembre!$A:U),,,TEXT(JC$6,"mmmm"))),"") -> 0 | JD14: =IFERROR(INDIRECT(ADDRESS(ROWS($1:15),COLUMNS(Septembre!$A:V),,,TEXT(JD$6,"mmmm"))),"") -> 0 | JE14: =IFERROR(INDIRECT(ADDRESS(ROWS($1:15),COLUMNS(Septembre!$A:W),,,TEXT(JE$6,"mmmm"))),"") -> 0 | JF14: =IFERROR(INDIRECT(ADDRESS(ROWS($1:15),COLUMNS(Septembre!$A:X),,,TEXT(JF$6,"mmmm"))),"") -> 0 | JG14: =IFERROR(INDIRECT(ADDRESS(ROWS($1:15),COLUMNS(Septembre!$A:Y),,,TEXT(JG$6,"mmmm"))),"") -> 0 | JH14: =IFERROR(INDIRECT(ADDRESS(ROWS($1:15),COLUMNS(Septembre!$A:Z),,,TEXT(JH$6,"mmmm"))),"") -> 0 | JI14: =IFERROR(INDIRECT(ADDRESS(ROWS($1:15),COLUMNS(Septembre!$A:AA),,,TEXT(JI$6,"mmmm"))),"") -> 0 | JJ14: =IFERROR(INDIRECT(ADDRESS(ROWS($1:15),COLUMNS(Septembre!$A:AB),,,TEXT(JJ$6,"mmmm"))),"") -> 0 | JK14: =IFERROR(INDIRECT(ADDRESS(ROWS($1:15),COLUMNS(Septembre!$A:AC),,,TEXT(JK$6,"mmmm"))),"") -> 0 | JL14: =IFERROR(INDIRECT(ADDRESS(ROWS($1:15),COLUMNS(Septembre!$A:AD),,,TEXT(JL$6,"mmmm"))),"") -> 0 | JM14: =IFERROR(INDIRECT(ADDRESS(ROWS($1:15),COLUMNS(Septembre!$A:AE),,,TEXT(JM$6,"mmmm"))),"") -> 0 | JN14: =IFERROR(INDIRECT(ADDRESS(ROWS($1:15),COLUMNS(Septembre!$A:AF),,,TEXT(JN$6,"mmmm"))),"") -> 0 | JO14: =IFERROR(INDIRECT(ADDRESS(ROWS($1:15),COLUMNS(Octobre!$A:C),,,TEXT(JO$6,"mmmm"))),"") -> 0 | JP14: =IFERROR(INDIRECT(ADDRESS(ROWS($1:15),COLUMNS(Octobre!$A:D),,,TEXT(JP$6,"mmmm"))),"") -> 0 | JQ14: =IFERROR(INDIRECT(ADDRESS(ROWS($1:15),COLUMNS(Octobre!$A:E),,,TEXT(JQ$6,"mmmm"))),"") -> 0 | JR14: =IFERROR(INDIRECT(ADDRESS(ROWS($1:15),COLUMNS(Octobre!$A:F),,,TEXT(JR$6,"mmmm"))),"") -> 0 | JS14: =IFERROR(INDIRECT(ADDRESS(ROWS($1:15),COLUMNS(Octobre!$A:G),,,TEXT(JS$6,"mmmm"))),"") -> 0 | JT14: =IFERROR(INDIRECT(ADDRESS(ROWS($1:15),COLUMNS(Octobre!$A:H),,,TEXT(JT$6,"mmmm"))),"") -> 0 | JU14: =IFERROR(INDIRECT(ADDRESS(ROWS($1:15),COLUMNS(Octobre!$A:I),,,TEXT(JU$6,"mmmm"))),"") -> 0 | JV14: =IFERROR(INDIRECT(ADDRESS(ROWS($1:15),COLUMNS(Octobre!$A:J),,,TEXT(JV$6,"mmmm"))),"") -> 0 | JW14: =IFERROR(INDIRECT(ADDRESS(ROWS($1:15),COLUMNS(Octobre!$A:K),,,TEXT(JW$6,"mmmm"))),"") -> 0 | JX14: =IFERROR(INDIRECT(ADDRESS(ROWS($1:15),COLUMNS(Octobre!$A:L),,,TEXT(JX$6,"mmmm"))),"") -> 0 | JY14: =IFERROR(INDIRECT(ADDRESS(ROWS($1:15),COLUMNS(Octobre!$A:M),,,TEXT(JY$6,"mmmm"))),"") -> 0 | JZ14: =IFERROR(INDIRECT(ADDRESS(ROWS($1:15),COLUMNS(Octobre!$A:N),,,TEXT(JZ$6,"mmmm"))),"") -> 0 | KA14: =IFERROR(INDIRECT(ADDRESS(ROWS($1:15),COLUMNS(Octobre!$A:O),,,TEXT(KA$6,"mmmm"))),"") -> 0 | KB14: =IFERROR(INDIRECT(ADDRESS(ROWS($1:15),COLUMNS(Octobre!$A:P),,,TEXT(KB$6,"mmmm"))),"") -> 0 | KC14: =IFERROR(INDIRECT(ADDRESS(ROWS($1:15),COLUMNS(Octobre!$A:Q),,,TEXT(KC$6,"mmmm"))),"") -> 0 | KD14: =IFERROR(INDIRECT(ADDRESS(ROWS($1:15),COLUMNS(Octobre!$A:R),,,TEXT(KD$6,"mmmm"))),"") -> 0 | KE14: =IFERROR(INDIRECT(ADDRESS(ROWS($1:15),COLUMNS(Octobre!$A:S),,,TEXT(KE$6,"mmmm"))),"") -> 0 | KF14: =IFERROR(INDIRECT(ADDRESS(ROWS($1:15),COLUMNS(Octobre!$A:T),,,TEXT(KF$6,"mmmm"))),"") -> 0 | KG14: =IFERROR(INDIRECT(ADDRESS(ROWS($1:15),COLUMNS(Octobre!$A:U),,,TEXT(KG$6,"mmmm"))),"") -> 0 | KH14: =IFERROR(INDIRECT(ADDRESS(ROWS($1:15),COLUMNS(Octobre!$A:V),,,TEXT(KH$6,"mmmm"))),"") -> 0 | KI14: =IFERROR(INDIRECT(ADDRESS(ROWS($1:15),COLUMNS(Octobre!$A:W),,,TEXT(KI$6,"mmmm"))),"") -> 0 | KJ14: =IFERROR(INDIRECT(ADDRESS(ROWS($1:15),COLUMNS(Octobre!$A:X),,,TEXT(KJ$6,"mmmm"))),"") -> 0 | KK14: =IFERROR(INDIRECT(ADDRESS(ROWS($1:15),COLUMNS(Octobre!$A:Y),,,TEXT(KK$6,"mmmm"))),"") -> 0 | KL14: =IFERROR(INDIRECT(ADDRESS(ROWS($1:15),COLUMNS(Octobre!$A:Z),,,TEXT(KL$6,"mmmm"))),"") -> 0 | KM14: =IFERROR(INDIRECT(ADDRESS(ROWS($1:15),COLUMNS(Octobre!$A:AA),,,TEXT(KM$6,"mmmm"))),"") -> 0 | KN14: =IFERROR(INDIRECT(ADDRESS(ROWS($1:15),COLUMNS(Octobre!$A:AB),,,TEXT(KN$6,"mmmm"))),"") -> 0 | KO14: =IFERROR(INDIRECT(ADDRESS(ROWS($1:15),COLUMNS(Octobre!$A:AC),,,TEXT(KO$6,"mmmm"))),"") -> 0 | KP14: =IFERROR(INDIRECT(ADDRESS(ROWS($1:15),COLUMNS(Octobre!$A:AD),,,TEXT(KP$6,"mmmm"))),"") -> 0 | KQ14: =IFERROR(INDIRECT(ADDRESS(ROWS($1:15),COLUMNS(Octobre!$A:AE),,,TEXT(KQ$6,"mmmm"))),"") -> 0 | KR14: =IFERROR(INDIRECT(ADDRESS(ROWS($1:15),COLUMNS(Octobre!$A:AF),,,TEXT(KR$6,"mmmm"))),"") -> 0 | KS14: =IFERROR(INDIRECT(ADDRESS(ROWS($1:15),COLUMNS(Octobre!$A:AG),,,TEXT(KS$6,"mmmm"))),"") -> 0 | KT14: =IFERROR(INDIRECT(ADDRESS(ROWS($1:15),COLUMNS(Novembre!$A:C),,,TEXT(KT$6,"mmmm"))),"") -> 0 | KU14: =IFERROR(INDIRECT(ADDRESS(ROWS($1:15),COLUMNS(Novembre!$A:D),,,TEXT(KU$6,"mmmm"))),"") -> 0 | KV14: =IFERROR(INDIRECT(ADDRESS(ROWS($1:15),COLUMNS(Novembre!$A:E),,,TEXT(KV$6,"mmmm"))),"") -> 0 | KW14: =IFERROR(INDIRECT(ADDRESS(ROWS($1:15),COLUMNS(Novembre!$A:F),,,TEXT(KW$6,"mmmm"))),"") -> 0 | KX14: =IFERROR(INDIRECT(ADDRESS(ROWS($1:15),COLUMNS(Novembre!$A:G),,,TEXT(KX$6,"mmmm"))),"") -> 0 | KY14: =IFERROR(INDIRECT(ADDRESS(ROWS($1:15),COLUMNS(Novembre!$A:H),,,TEXT(KY$6,"mmmm"))),"") -> 0 | KZ14: =IFERROR(INDIRECT(ADDRESS(ROWS($1:15),COLUMNS(Novembre!$A:I),,,TEXT(KZ$6,"mmmm"))),"") -> 0 | LA14: =IFERROR(INDIRECT(ADDRESS(ROWS($1:15),COLUMNS(Novembre!$A:J),,,TEXT(LA$6,"mmmm"))),"") -> 0 | LB14: =IFERROR(INDIRECT(ADDRESS(ROWS($1:15),COLUMNS(Novembre!$A:K),,,TEXT(LB$6,"mmmm"))),"") -> 0 | LC14: =IFERROR(INDIRECT(ADDRESS(ROWS($1:15),COLUMNS(Novembre!$A:L),,,TEXT(LC$6,"mmmm"))),"") -> 0 | LD14: =IFERROR(INDIRECT(ADDRESS(ROWS($1:15),COLUMNS(Novembre!$A:M),,,TEXT(LD$6,"mmmm"))),"") -> 0 | LE14: =IFERROR(INDIRECT(ADDRESS(ROWS($1:15),COLUMNS(Novembre!$A:N),,,TEXT(LE$6,"mmmm"))),"") -> 0 | LF14: =IFERROR(INDIRECT(ADDRESS(ROWS($1:15),COLUMNS(Novembre!$A:O),,,TEXT(LF$6,"mmmm"))),"") -> 0 | LG14: =IFERROR(INDIRECT(ADDRESS(ROWS($1:15),COLUMNS(Novembre!$A:P),,,TEXT(LG$6,"mmmm"))),"") -> 0 | LH14: =IFERROR(INDIRECT(ADDRESS(ROWS($1:15),COLUMNS(Novembre!$A:Q),,,TEXT(LH$6,"mmmm"))),"") -> 0 | LI14: =IFERROR(INDIRECT(ADDRESS(ROWS($1:15),COLUMNS(Novembre!$A:R),,,TEXT(LI$6,"mmmm"))),"") -> 0 | LJ14: =IFERROR(INDIRECT(ADDRESS(ROWS($1:15),COLUMNS(Novembre!$A:S),,,TEXT(LJ$6,"mmmm"))),"") -> 0 | LK14: =IFERROR(INDIRECT(ADDRESS(ROWS($1:15),COLUMNS(Novembre!$A:T),,,TEXT(LK$6,"mmmm"))),"") -> 0 | LL14: =IFERROR(INDIRECT(ADDRESS(ROWS($1:15),COLUMNS(Novembre!$A:U),,,TEXT(LL$6,"mmmm"))),"") -> 0 | LM14: =IFERROR(INDIRECT(ADDRESS(ROWS($1:15),COLUMNS(Novembre!$A:V),,,TEXT(LM$6,"mmmm"))),"") -> 0 | LN14: =IFERROR(INDIRECT(ADDRESS(ROWS($1:15),COLUMNS(Novembre!$A:W),,,TEXT(LN$6,"mmmm"))),"") -> 0 | LO14: =IFERROR(INDIRECT(ADDRESS(ROWS($1:15),COLUMNS(Novembre!$A:X),,,TEXT(LO$6,"mmmm"))),"") -> 0 | LP14: =IFERROR(INDIRECT(ADDRESS(ROWS($1:15),COLUMNS(Novembre!$A:Y),,,TEXT(LP$6,"mmmm"))),"") -> 0 | LQ14: =IFERROR(INDIRECT(ADDRESS(ROWS($1:15),COLUMNS(Novembre!$A:Z),,,TEXT(LQ$6,"mmmm"))),"") -> 0 | LR14: =IFERROR(INDIRECT(ADDRESS(ROWS($1:15),COLUMNS(Novembre!$A:AA),,,TEXT(LR$6,"mmmm"))),"") -> 0 | LS14: =IFERROR(INDIRECT(ADDRESS(ROWS($1:15),COLUMNS(Novembre!$A:AB),,,TEXT(LS$6,"mmmm"))),"") -> 0 | LT14: =IFERROR(INDIRECT(ADDRESS(ROWS($1:15),COLUMNS(Novembre!$A:AC),,,TEXT(LT$6,"mmmm"))),"") -> 0 | LU14: =IFERROR(INDIRECT(ADDRESS(ROWS($1:15),COLUMNS(Novembre!$A:AD),,,TEXT(LU$6,"mmmm"))),"") -> 0 | LV14: =IFERROR(INDIRECT(ADDRESS(ROWS($1:15),COLUMNS(Novembre!$A:AE),,,TEXT(LV$6,"mmmm"))),"") -> 0 | LW14: =IFERROR(INDIRECT(ADDRESS(ROWS($1:15),COLUMNS(Novembre!$A:AF),,,TEXT(LW$6,"mmmm"))),"") -> 0 | LX14: =IFERROR(INDIRECT(ADDRESS(ROWS($1:15),COLUMNS(Décembre!$A:C),,,TEXT(LX$6,"mmmm"))),"") -> 0 | LY14: =IFERROR(INDIRECT(ADDRESS(ROWS($1:15),COLUMNS(Décembre!$A:D),,,TEXT(LY$6,"mmmm"))),"") -> 0 | LZ14: =IFERROR(INDIRECT(ADDRESS(ROWS($1:15),COLUMNS(Décembre!$A:E),,,TEXT(LZ$6,"mmmm"))),"") -> 0 | MA14: =IFERROR(INDIRECT(ADDRESS(ROWS($1:15),COLUMNS(Décembre!$A:F),,,TEXT(MA$6,"mmmm"))),"") -> 0 | MB14: =IFERROR(INDIRECT(ADDRESS(ROWS($1:15),COLUMNS(Décembre!$A:G),,,TEXT(MB$6,"mmmm"))),"") -> 0 | MC14: =IFERROR(INDIRECT(ADDRESS(ROWS($1:15),COLUMNS(Décembre!$A:H),,,TEXT(MC$6,"mmmm"))),"") -> 0 | MD14: =IFERROR(INDIRECT(ADDRESS(ROWS($1:15),COLUMNS(Décembre!$A:I),,,TEXT(MD$6,"mmmm"))),"") -> 0 | ME14: =IFERROR(INDIRECT(ADDRESS(ROWS($1:15),COLUMNS(Décembre!$A:J),,,TEXT(ME$6,"mmmm"))),"") -> 0 | MF14: =IFERROR(INDIRECT(ADDRESS(ROWS($1:15),COLUMNS(Décembre!$A:K),,,TEXT(MF$6,"mmmm"))),"") -> 0 | MG14: =IFERROR(INDIRECT(ADDRESS(ROWS($1:15),COLUMNS(Décembre!$A:L),,,TEXT(MG$6,"mmmm"))),"") -> 0 | MH14: =IFERROR(INDIRECT(ADDRESS(ROWS($1:15),COLUMNS(Décembre!$A:M),,,TEXT(MH$6,"mmmm"))),"") -> 0 | MI14: =IFERROR(INDIRECT(ADDRESS(ROWS($1:15),COLUMNS(Décembre!$A:N),,,TEXT(MI$6,"mmmm"))),"") -> 0 | MJ14: =IFERROR(INDIRECT(ADDRESS(ROWS($1:15),COLUMNS(Décembre!$A:O),,,TEXT(MJ$6,"mmmm"))),"") -> 0 | MK14: =IFERROR(INDIRECT(ADDRESS(ROWS($1:15),COLUMNS(Décembre!$A:P),,,TEXT(MK$6,"mmmm"))),"") -> 0 | ML14: =IFERROR(INDIRECT(ADDRESS(ROWS($1:15),COLUMNS(Décembre!$A:Q),,,TEXT(ML$6,"mmmm"))),"") -> 0 | MM14: =IFERROR(INDIRECT(ADDRESS(ROWS($1:15),COLUMNS(Décembre!$A:R),,,TEXT(MM$6,"mmmm"))),"") -> 0 | MN14: =IFERROR(INDIRECT(ADDRESS(ROWS($1:15),COLUMNS(Décembre!$A:S),,,TEXT(MN$6,"mmmm"))),"") -> 0 | MO14: =IFERROR(INDIRECT(ADDRESS(ROWS($1:15),COLUMNS(Décembre!$A:T),,,TEXT(MO$6,"mmmm"))),"") -> 0 | MP14: =IFERROR(INDIRECT(ADDRESS(ROWS($1:15),COLUMNS(Décembre!$A:U),,,TEXT(MP$6,"mmmm"))),"") -> 0 | MQ14: =IFERROR(INDIRECT(ADDRESS(ROWS($1:15),COLUMNS(Décembre!$A:V),,,TEXT(MQ$6,"mmmm"))),"") -> 0 | MR14: =IFERROR(INDIRECT(ADDRESS(ROWS($1:15),COLUMNS(Décembre!$A:W),,,TEXT(MR$6,"mmmm"))),"") -> 0 | MS14: =IFERROR(INDIRECT(ADDRESS(ROWS($1:15),COLUMNS(Décembre!$A:X),,,TEXT(MS$6,"mmmm"))),"") -> 0 | MT14: =IFERROR(INDIRECT(ADDRESS(ROWS($1:15),COLUMNS(Décembre!$A:Y),,,TEXT(MT$6,"mmmm"))),"") -> 0 | MU14: =IFERROR(INDIRECT(ADDRESS(ROWS($1:15),COLUMNS(Décembre!$A:Z),,,TEXT(MU$6,"mmmm"))),"") -> 0 | MV14: =IFERROR(INDIRECT(ADDRESS(ROWS($1:15),COLUMNS(Décembre!$A:AA),,,TEXT(MV$6,"mmmm"))),"") -> 0 | MW14: =IFERROR(INDIRECT(ADDRESS(ROWS($1:15),COLUMNS(Décembre!$A:AB),,,TEXT(MW$6,"mmmm"))),"") -> 0 | MX14: =IFERROR(INDIRECT(ADDRESS(ROWS($1:15),COLUMNS(Décembre!$A:AC),,,TEXT(MX$6,"mmmm"))),"") -> 0 | MY14: =IFERROR(INDIRECT(ADDRESS(ROWS($1:15),COLUMNS(Décembre!$A:AD),,,TEXT(MY$6,"mmmm"))),"") -> 0 | MZ14: =IFERROR(INDIRECT(ADDRESS(ROWS($1:15),COLUMNS(Décembre!$A:AE),,,TEXT(MZ$6,"mmmm"))),"") -> 0 | NA14: =IFERROR(INDIRECT(ADDRESS(ROWS($1:15),COLUMNS(Décembre!$A:AF),,,TEXT(NA$6,"mmmm"))),"") -> 0 | NB14: =IFERROR(INDIRECT(ADDRESS(ROWS($1:15),COLUMNS(Décembre!$A:AG),,,TEXT(NB$6,"mmmm"))),"") -> 0
