Workbook
Name Codes: [1]Config!$A$2:$A$8
Name Date_début: 'RECAP (2)'!$B$2
Name Date_début: Année!$B$2
Name JoursFériés: [1]Config!$L$3:$L$14
Name Position: Config!$A$2:$A$4
Name ref_annee: [1]Config!$F$2

Sheet Config
A1: Codes | B1: Description | C1: Année | D1: 2017
A2: SEM | B2: Astreintes du Lundi au Jeudi
A3: WE | B3: Astreintes du Vendredi au Dimanche
A4: CA | B4: Congés

Sheet Janvier
A1: Date début | B1: 42736
A2: Date fin | B2: =EOMONTH(B1,0) -> 42766 | C2: Astreintes conducteurs du mois de : | Q2: =PROPER(TEXT(B1,("mmmm"))) -> Janvier
A3: Date du jour | B3: =TODAY() -> 42804
A5: n° de semaine en cours | B5: =INT((B3-SUM(MOD(DATE(YEAR(B3-MOD(B3-2,7)+3),1,2),{1E+99;7})*{1;-1})+5)/7) -> 10 | C5: =B1 -> 42736 | D5: =C5+1 -> 42737 | E5: =D5+1 -> 42738 | F5: =E5+1 -> 42739 | G5: =F5+1 -> 42740 | H5: =G5+1 -> 42741 | I5: =H5+1 -> 42742 | J5: =I5+1 -> 42743 | K5: =J5+1 -> 42744 | ... AC5: =AB5+1 -> 42762 | AD5: =IFERROR(IF(AC5+1>B2,"",AC5+1),"") -> 42763 | AE5: =IFERROR(IF(AD5+1>B2,"",AD5+1),"") -> 42764 | AF5: =IFERROR(IF(AE5+1>B2,"",AE5+1),"") -> 42765 | AG5: =IFERROR(IF(AF5+1>B2,"",AF5+1),"") -> 42766
C7: ="S"&INT((C5-SUM(MOD(DATE(YEAR(C5-MOD(C5-2,7)+3),1,2),{1E+99;7})*{1;-1})+5)/7) -> S52 | D7: =IFERROR(IF(D10="lun","S"&INT((D5-SUM(MOD(DATE(YEAR(D5-MOD(D5-2,7)+3),1,2),{1E+99;7})*{1;-1})+5)/7),""),"") -> S1 | E7: =IFERROR(IF(E10="lun","S"&INT((E5-SUM(MOD(DATE(YEAR(E5-MOD(E5-2,7)+3),1,2),{1E+99;7})*{1;-1})+5)/7),""),"") | F7: =IFERROR(IF(F10="lun","S"&INT((F5-SUM(MOD(DATE(YEAR(F5-MOD(F5-2,7)+3),1,2),{1E+99;7})*{1;-1})+5)/7),""),"") | G7: =IFERROR(IF(G10="lun","S"&INT((G5-SUM(MOD(DATE(YEAR(G5-MOD(G5-2,7)+3),1,2),{1E+99;7})*{1;-1})+5)/7),""),"") | H7: =IFERROR(IF(H10="lun","S"&INT((H5-SUM(MOD(DATE(YEAR(H5-MOD(H5-2,7)+3),1,2),{1E+99;7})*{1;-1})+5)/7),""),"") | I7: =IFERROR(IF(I10="lun","S"&INT((I5-SUM(MOD(DATE(YEAR(I5-MOD(I5-2,7)+3),1,2),{1E+99;7})*{1;-1})+5)/7),""),"") | J7: =IFERROR(IF(J10="lun","S"&INT((J5-SUM(MOD(DATE(YEAR(J5-MOD(J5-2,7)+3),1,2),{1E+99;7})*{1;-1})+5)/7),""),"") | K7: =IFERROR(IF(K10="lun","S"&INT((K5-SUM(MOD(DATE(YEAR(K5-MOD(K5-2,7)+3),1,2),{1E+99;7})*{1;-1})+5)/7),""),"") -> S2 | ... AG7: =IFERROR(IF(AG10="lun","S"&INT((AG5-SUM(MOD(DATE(YEAR(AG5-MOD(AG5-2,7)+3),1,2),{1E+99;7})*{1;-1})+5)/7),""),"")
C10: =IFERROR(CHOOSE(WEEKDAY(C5),"DIM","LUN","MAR","MER","JEU","VEN","SAM"),"") -> DIM | D10: =IFERROR(CHOOSE(WEEKDAY(D5),"DIM","LUN","MAR","MER","JEU","VEN","SAM"),"") -> LUN | E10: =IFERROR(CHOOSE(WEEKDAY(E5),"DIM","LUN","MAR","MER","JEU","VEN","SAM"),"") -> MAR | F10: =IFERROR(CHOOSE(WEEKDAY(F5),"DIM","LUN","MAR","MER","JEU","VEN","SAM"),"") -> MER | G10: =IFERROR(CHOOSE(WEEKDAY(G5),"DIM","LUN","MAR","MER","JEU","VEN","SAM"),"") -> JEU | H10: =IFERROR(CHOOSE(WEEKDAY(H5),"DIM","LUN","MAR","MER","JEU","VEN","SAM"),"") -> VEN | I10: =IFERROR(CHOOSE(WEEKDAY(I5),"DIM","LUN","MAR","MER","JEU","VEN","SAM"),"") -> SAM | J10: =IFERROR(CHOOSE(WEEKDAY(J5),"DIM","LUN","MAR","MER","JEU","VEN","SAM"),"") -> DIM | ... AG10: =IFERROR(CHOOSE(WEEKDAY(AG5),"DIM","LUN","MAR","MER","JEU","VEN","SAM"),"") -> MAR
A11: Prénom | C11: =B1 -> 42736 | D11: =C11+1 -> 42737 | E11: =D11+1 -> 42738 | F11: =E11+1 -> 42739 | G11: =F11+1 -> 42740 | H11: =G11+1 -> 42741 | I11: =H11+1 -> 42742 | J11: =I11+1 -> 42743 | K11: =J11+1 -> 42744 | ... AC11: =AB11+1 -> 42762 | AD11: =IFERROR(IF(AC11<EOMONTH(AC11,0),AC11+1,""),"") -> 42763 | AE11: =IFERROR(IF(AD11<EOMONTH(AD11,0),AD11+1,""),"") -> 42764 | AF11: =IFERROR(IF(AE11<EOMONTH(AE11,0),AE11+1,""),"") -> 42765 | AG11: =IFERROR(IF(AF11<EOMONTH(AF11,0),AF11+1,""),"") -> 42766
A12: A | D12: CA | E12: CA | F12: CA | G12: CA | H12: CA | I12: CA | J12: CA | L12: CA | M12: CA | N12: CA | O12: CA | P12: CA | Q12: CA | T12: CA | U12: CA | V12: CA | W12: CA | X12: CA
A13: B
A14: C | D14: SEM | E14: SEM | F14: SEM | G14: SEM
A15: D | AF15: SEM | AG15: SEM
A16: E | R16: SEM | S16: SEM | T16: SEM | U16: SEM
A17: F | K17: SEM | L17: SEM | M17: SEM | N17: SEM
A18: G | AC18: WE | AD18: WE | AE18: WE
A19: H | H19: WE | I19: WE | J19: WE
A20: I
A21: J | C21: WE
A22: K
A23: L | O23: WE | P23: WE | Q23: WE
A24: M
A25: N | Y25: SEM | Z25: SEM | AA25: SEM | AB25: SEM
A26: O
A27: P
A28: Q
A29: R
A30: S | V30: WE | W30: WE | X30: WE

Sheet Février
A1: Date début | B1: =EDATE(DATE(ref_annee,1,1),1) -> 42767
A2: Date fin | B2: =EOMONTH(B1,0) -> 42794 | I2: Planing du mois de : | P2: =PROPER(TEXT(B1,("mmmm"))) -> Février
A3: Date du jour | B3: =TODAY() -> 42804
A5: n° de semaine en cours | B5: =INT((B3-SUM(MOD(DATE(YEAR(B3-MOD(B3-2,7)+3),1,2),{1E+99;7})*{1;-1})+5)/7) -> 10 | C5: =B1 -> 42767 | D5: =C5+1 -> 42768 | E5: =D5+1 -> 42769 | F5: =E5+1 -> 42770 | G5: =F5+1 -> 42771 | H5: =G5+1 -> 42772 | I5: =H5+1 -> 42773 | J5: =I5+1 -> 42774 | K5: =J5+1 -> 42775 | ... AC5: =AB5+1 -> 42793 | AD5: =IFERROR(IF(AC5+1>B2,"",AC5+1),"") -> 42794
C7: ="S"&INT((C5-SUM(MOD(DATE(YEAR(C5-MOD(C5-2,7)+3),1,2),{1E+99;7})*{1;-1})+5)/7) -> S5 | D7: =IFERROR(IF(D10="lun","S"&INT((D5-SUM(MOD(DATE(YEAR(D5-MOD(D5-2,7)+3),1,2),{1E+99;7})*{1;-1})+5)/7),""),"") | E7: =IFERROR(IF(E10="lun","S"&INT((E5-SUM(MOD(DATE(YEAR(E5-MOD(E5-2,7)+3),1,2),{1E+99;7})*{1;-1})+5)/7),""),"") | F7: =IFERROR(IF(F10="lun","S"&INT((F5-SUM(MOD(DATE(YEAR(F5-MOD(F5-2,7)+3),1,2),{1E+99;7})*{1;-1})+5)/7),""),"") | G7: =IFERROR(IF(G10="lun","S"&INT((G5-SUM(MOD(DATE(YEAR(G5-MOD(G5-2,7)+3),1,2),{1E+99;7})*{1;-1})+5)/7),""),"") | H7: =IFERROR(IF(H10="lun","S"&INT((H5-SUM(MOD(DATE(YEAR(H5-MOD(H5-2,7)+3),1,2),{1E+99;7})*{1;-1})+5)/7),""),"") -> S6 | I7: =IFERROR(IF(I10="lun","S"&INT((I5-SUM(MOD(DATE(YEAR(I5-MOD(I5-2,7)+3),1,2),{1E+99;7})*{1;-1})+5)/7),""),"") | J7: =IFERROR(IF(J10="lun","S"&INT((J5-SUM(MOD(DATE(YEAR(J5-MOD(J5-2,7)+3),1,2),{1E+99;7})*{1;-1})+5)/7),""),"") | K7: =IFERROR(IF(K10="lun","S"&INT((K5-SUM(MOD(DATE(YEAR(K5-MOD(K5-2,7)+3),1,2),{1E+99;7})*{1;-1})+5)/7),""),"") | ... AD7: =IFERROR(IF(AD10="lun","S"&INT((AD5-SUM(MOD(DATE(YEAR(AD5-MOD(AD5-2,7)+3),1,2),{1E+99;7})*{1;-1})+5)/7),""),"")
C10: =IFERROR(CHOOSE(WEEKDAY(C5),"DIM","LUN","MAR","MER","JEU","VEN","SAM"),"") -> MER | D10: =IFERROR(CHOOSE(WEEKDAY(D5),"DIM","LUN","MAR","MER","JEU","VEN","SAM"),"") -> JEU | E10: =IFERROR(CHOOSE(WEEKDAY(E5),"DIM","LUN","MAR","MER","JEU","VEN","SAM"),"") -> VEN | F10: =IFERROR(CHOOSE(WEEKDAY(F5),"DIM","LUN","MAR","MER","JEU","VEN","SAM"),"") -> SAM | G10: =IFERROR(CHOOSE(WEEKDAY(G5),"DIM","LUN","MAR","MER","JEU","VEN","SAM"),"") -> DIM | H10: =IFERROR(CHOOSE(WEEKDAY(H5),"DIM","LUN","MAR","MER","JEU","VEN","SAM"),"") -> LUN | I10: =IFERROR(CHOOSE(WEEKDAY(I5),"DIM","LUN","MAR","MER","JEU","VEN","SAM"),"") -> MAR | J10: =IFERROR(CHOOSE(WEEKDAY(J5),"DIM","LUN","MAR","MER","JEU","VEN","SAM"),"") -> MER | ... AD10: =IFERROR(CHOOSE(WEEKDAY(AD5),"DIM","LUN","MAR","MER","JEU","VEN","SAM"),"") -> MAR
A11: Prénom | C11: =B1 -> 42767 | D11: =C11+1 -> 42768 | E11: =D11+1 -> 42769 | F11: =E11+1 -> 42770 | G11: =F11+1 -> 42771 | H11: =G11+1 -> 42772 | I11: =H11+1 -> 42773 | J11: =I11+1 -> 42774 | K11: =J11+1 -> 42775 | ... AC11: =AB11+1 -> 42793 | AD11: =IFERROR(IF(AC11<EOMONTH(AC11,0),AC11+1,""),"") -> 42794
A12: A
A13: B | H13: SEM | I13: SEM | J13: SEM | K13: SEM
A14: C | AC14: SEM | AD14: SEM
A15: D | C15: SEM | D15: SEM
A16: E
A17: F | Z17: WE | AA17: WE | AB17: WE
A18: G
A19: H
A20: I | O20: SEM | P20: SEM | Q20: SEM | R20: SEM
A21: J
A22: K | E22: WE | F22: WE | G22: WE
A23: L | L23: WE | M23: WE | N23: WE
A24: M | V24: SEM | W24: SEM | X24: SEM | Y24: SEM
A25: N
A26: O | S26: WE | T26: WE | U26: WE
A27: P
A28: Q
A29: R
A30: S

Sheet Mars
A1: Date début | B1: =EDATE(DATE(ref_annee,1,1),2) -> 42795
A2: Date fin | B2: =EOMONTH(B1,0) -> 42825 | I2: Planing du mois de : | Q2: =PROPER(TEXT(B1,("mmmm"))) -> Mars
A3: Date du jour | B3: =TODAY() -> 42804
A5: n° de semaine en cours | B5: =INT((B3-SUM(MOD(DATE(YEAR(B3-MOD(B3-2,7)+3),1,2),{1E+99;7})*{1;-1})+5)/7) -> 10 | C5: =B1 -> 42795 | D5: =C5+1 -> 42796 | E5: =D5+1 -> 42797 | F5: =E5+1 -> 42798 | G5: =F5+1 -> 42799 | H5: =G5+1 -> 42800 | I5: =H5+1 -> 42801 | J5: =I5+1 -> 42802 | K5: =J5+1 -> 42803 | ... AC5: =AB5+1 -> 42821 | AD5: =IFERROR(IF(AC5+1>B2,"",AC5+1),"") -> 42822 | AE5: =IFERROR(IF(AD5+1>B2,"",AD5+1),"") -> 42823 | AF5: =IFERROR(IF(AE5+1>B2,"",AE5+1),"") -> 42824 | AG5: =IFERROR(IF(AF5+1>B2,"",AF5+1),"") -> 42825
C7: ="S"&INT((C5-SUM(MOD(DATE(YEAR(C5-MOD(C5-2,7)+3),1,2),{1E+99;7})*{1;-1})+5)/7) -> S9 | D7: =IFERROR(IF(D10="lun","S"&INT((D5-SUM(MOD(DATE(YEAR(D5-MOD(D5-2,7)+3),1,2),{1E+99;7})*{1;-1})+5)/7),""),"") | E7: =IFERROR(IF(E10="lun","S"&INT((E5-SUM(MOD(DATE(YEAR(E5-MOD(E5-2,7)+3),1,2),{1E+99;7})*{1;-1})+5)/7),""),"") | F7: =IFERROR(IF(F10="lun","S"&INT((F5-SUM(MOD(DATE(YEAR(F5-MOD(F5-2,7)+3),1,2),{1E+99;7})*{1;-1})+5)/7),""),"") | G7: =IFERROR(IF(G10="lun","S"&INT((G5-SUM(MOD(DATE(YEAR(G5-MOD(G5-2,7)+3),1,2),{1E+99;7})*{1;-1})+5)/7),""),"") | H7: =IFERROR(IF(H10="lun","S"&INT((H5-SUM(MOD(DATE(YEAR(H5-MOD(H5-2,7)+3),1,2),{1E+99;7})*{1;-1})+5)/7),""),"") -> S10 | I7: =IFERROR(IF(I10="lun","S"&INT((I5-SUM(MOD(DATE(YEAR(I5-MOD(I5-2,7)+3),1,2),{1E+99;7})*{1;-1})+5)/7),""),"") | J7: =IFERROR(IF(J10="lun","S"&INT((J5-SUM(MOD(DATE(YEAR(J5-MOD(J5-2,7)+3),1,2),{1E+99;7})*{1;-1})+5)/7),""),"") | K7: =IFERROR(IF(K10="lun","S"&INT((K5-SUM(MOD(DATE(YEAR(K5-MOD(K5-2,7)+3),1,2),{1E+99;7})*{1;-1})+5)/7),""),"") | ... AG7: =IFERROR(IF(AG10="lun","S"&INT((AG5-SUM(MOD(DATE(YEAR(AG5-MOD(AG5-2,7)+3),1,2),{1E+99;7})*{1;-1})+5)/7),""),"")
C10: =IFERROR(CHOOSE(WEEKDAY(C5),"DIM","LUN","MAR","MER","JEU","VEN","SAM"),"") -> MER | D10: =IFERROR(CHOOSE(WEEKDAY(D5),"DIM","LUN","MAR","MER","JEU","VEN","SAM"),"") -> JEU | E10: =IFERROR(CHOOSE(WEEKDAY(E5),"DIM","LUN","MAR","MER","JEU","VEN","SAM"),"") -> VEN | F10: =IFERROR(CHOOSE(WEEKDAY(F5),"DIM","LUN","MAR","MER","JEU","VEN","SAM"),"") -> SAM | G10: =IFERROR(CHOOSE(WEEKDAY(G5),"DIM","LUN","MAR","MER","JEU","VEN","SAM"),"") -> DIM | H10: =IFERROR(CHOOSE(WEEKDAY(H5),"DIM","LUN","MAR","MER","JEU","VEN","SAM"),"") -> LUN | I10: =IFERROR(CHOOSE(WEEKDAY(I5),"DIM","LUN","MAR","MER","JEU","VEN","SAM"),"") -> MAR | J10: =IFERROR(CHOOSE(WEEKDAY(J5),"DIM","LUN","MAR","MER","JEU","VEN","SAM"),"") -> MER | ... AG10: =IFERROR(CHOOSE(WEEKDAY(AG5),"DIM","LUN","MAR","MER","JEU","VEN","SAM"),"") -> VEN
A11: Prénom | C11: =B1 -> 42795 | D11: =C11+1 -> 42796 | E11: =D11+1 -> 42797 | F11: =E11+1 -> 42798 | G11: =F11+1 -> 42799 | H11: =G11+1 -> 42800 | I11: =H11+1 -> 42801 | J11: =I11+1 -> 42802 | K11: =J11+1 -> 42803 | ... AC11: =AB11+1 -> 42821 | AD11: =IFERROR(IF(AC11<EOMONTH(AC11,0),AC11+1,""),"") -> 42822 | AE11: =IFERROR(IF(AD11<EOMONTH(AD11,0),AD11+1,""),"") -> 42823 | AF11: =IFERROR(IF(AE11<EOMONTH(AE11,0),AE11+1,""),"") -> 42824 | AG11: =IFERROR(IF(AF11<EOMONTH(AF11,0),AF11+1,""),"") -> 42825
A12: A
A13: B
A14: C | C14: SEM | D14: SEM
A15: D | E15: WE | F15: WE | G15: WE
A16: E
A17: F | O17: SEM | P17: SEM | Q17: SEM | R17: SEM
A18: G | H18: SEM | I18: SEM | J18: SEM | K18: SEM
A19: H | V19: SEM | W19: SEM | X19: SEM | Y19: SEM
A20: I | S20: WE | T20: WE | U20: WE
A21: J | Z21: WE | AA21: WE | AB21: WE
A22: K | AC22: SEM | AD22: SEM | AE22: SEM | AF22: SEM
A23: L
A24: M
A25: N | L25: WE | M25: WE | N25: WE
A26: O
A27: P
A28: Q
A29: R
A30: S | AG30: WE

Sheet Avril
A1: Date début | B1: 42826
A2: Date fin | B2: =EOMONTH(B1,0) -> 42855 | I2: Planing du mois de : | Q2: =PROPER(TEXT(B1,("mmmm"))) -> Avril
A3: Date du jour | B3: =TODAY() -> 42804
A5: n° de semaine en cours | B5: =INT((B3-SUM(MOD(DATE(YEAR(B3-MOD(B3-2,7)+3),1,2),{1E+99;7})*{1;-1})+5)/7) -> 10 | C5: =B1 -> 42826 | D5: =C5+1 -> 42827 | E5: =D5+1 -> 42828 | F5: =E5+1 -> 42829 | G5: =F5+1 -> 42830 | H5: =G5+1 -> 42831 | I5: =H5+1 -> 42832 | J5: =I5+1 -> 42833 | K5: =J5+1 -> 42834 | ... AC5: =AB5+1 -> 42852 | AD5: =IFERROR(IF(AC5+1>B2,"",AC5+1),"") -> 42853 | AE5: =IFERROR(IF(AD5+1>B2,"",AD5+1),"") -> 42854 | AF5: =IFERROR(IF(AE5+1>B2,"",AE5+1),"") -> 42855 | AG5: =IFERROR(IF(AF5+1>B2,"",AF5+1),"")
C7: ="S"&INT((C5-SUM(MOD(DATE(YEAR(C5-MOD(C5-2,7)+3),1,2),{1E+99;7})*{1;-1})+5)/7) -> S13 | D7: =IFERROR(IF(D10="lun","S"&INT((D5-SUM(MOD(DATE(YEAR(D5-MOD(D5-2,7)+3),1,2),{1E+99;7})*{1;-1})+5)/7),""),"") | E7: =IFERROR(IF(E10="lun","S"&INT((E5-SUM(MOD(DATE(YEAR(E5-MOD(E5-2,7)+3),1,2),{1E+99;7})*{1;-1})+5)/7),""),"") -> S14 | F7: =IFERROR(IF(F10="lun","S"&INT((F5-SUM(MOD(DATE(YEAR(F5-MOD(F5-2,7)+3),1,2),{1E+99;7})*{1;-1})+5)/7),""),"") | G7: =IFERROR(IF(G10="lun","S"&INT((G5-SUM(MOD(DATE(YEAR(G5-MOD(G5-2,7)+3),1,2),{1E+99;7})*{1;-1})+5)/7),""),"") | H7: =IFERROR(IF(H10="lun","S"&INT((H5-SUM(MOD(DATE(YEAR(H5-MOD(H5-2,7)+3),1,2),{1E+99;7})*{1;-1})+5)/7),""),"") | I7: =IFERROR(IF(I10="lun","S"&INT((I5-SUM(MOD(DATE(YEAR(I5-MOD(I5-2,7)+3),1,2),{1E+99;7})*{1;-1})+5)/7),""),"") | J7: =IFERROR(IF(J10="lun","S"&INT((J5-SUM(MOD(DATE(YEAR(J5-MOD(J5-2,7)+3),1,2),{1E+99;7})*{1;-1})+5)/7),""),"") | K7: =IFERROR(IF(K10="lun","S"&INT((K5-SUM(MOD(DATE(YEAR(K5-MOD(K5-2,7)+3),1,2),{1E+99;7})*{1;-1})+5)/7),""),"") | ... AG7: =IFERROR(IF(AG10="lun","S"&INT((AG5-SUM(MOD(DATE(YEAR(AG5-MOD(AG5-2,7)+3),1,2),{1E+99;7})*{1;-1})+5)/7),""),"")
C10: =IFERROR(CHOOSE(WEEKDAY(C5),"DIM","LUN","MAR","MER","JEU","VEN","SAM"),"") -> SAM | D10: =IFERROR(CHOOSE(WEEKDAY(D5),"DIM","LUN","MAR","MER","JEU","VEN","SAM"),"") -> DIM | E10: =IFERROR(CHOOSE(WEEKDAY(E5),"DIM","LUN","MAR","MER","JEU","VEN","SAM"),"") -> LUN | F10: =IFERROR(CHOOSE(WEEKDAY(F5),"DIM","LUN","MAR","MER","JEU","VEN","SAM"),"") -> MAR | G10: =IFERROR(CHOOSE(WEEKDAY(G5),"DIM","LUN","MAR","MER","JEU","VEN","SAM"),"") -> MER | H10: =IFERROR(CHOOSE(WEEKDAY(H5),"DIM","LUN","MAR","MER","JEU","VEN","SAM"),"") -> JEU | I10: =IFERROR(CHOOSE(WEEKDAY(I5),"DIM","LUN","MAR","MER","JEU","VEN","SAM"),"") -> VEN | J10: =IFERROR(CHOOSE(WEEKDAY(J5),"DIM","LUN","MAR","MER","JEU","VEN","SAM"),"") -> SAM | ... AG10: =IFERROR(CHOOSE(WEEKDAY(AG5),"DIM","LUN","MAR","MER","JEU","VEN","SAM"),"")
A11: Prénom | C11: =B1 -> 42826 | D11: =C11+1 -> 42827 | E11: =D11+1 -> 42828 | F11: =E11+1 -> 42829 | G11: =F11+1 -> 42830 | H11: =G11+1 -> 42831 | I11: =H11+1 -> 42832 | J11: =I11+1 -> 42833 | K11: =J11+1 -> 42834 | ... AC11: =AB11+1 -> 42852 | AD11: =IFERROR(IF(AC11<EOMONTH(AC11,0),AC11+1,""),"") -> 42853 | AE11: =IFERROR(IF(AD11<EOMONTH(AD11,0),AD11+1,""),"") -> 42854 | AF11: =IFERROR(IF(AE11<EOMONTH(AE11,0),AE11+1,""),"") -> 42855 | AG11: =IFERROR(IF(AF11<EOMONTH(AF11,0),AF11+1,""),"")
A12: A | L12: SEM | M12: SEM | N12: SEM | O12: SEM
A13: B
A14: C
A15: D
A16: E
A17: F
A18: G | P18: WE | Q18: WE | R18: WE | U18: CA | V18: CA | W18: CA
A19: H
A20: I
A21: J | T21: CA | U21: CA | V21: CA | W21: CA
A22: K | S22: SEM | T22: SEM | U22: SEM | V22: SEM
A23: L | W23: WE | X23: WE | Y23: WE
A24: M | I24: WE | J24: WE | K24: WE
A25: N
A26: O | E26: SEM | F26: SEM | G26: SEM | H26: SEM
A27: P | Z27: SEM | AA27: SEM | AB27: SEM | AC27: SEM
A28: Q | AD28: WE | AE28: WE | AF28: WE
A29: R
A30: S | C30: WE | D30: WE

Sheet Mai
A1: Date début | B1: 42856
A2: Date fin | B2: =EOMONTH(B1,0) -> 42886 | I2: Planing du mois de : | Q2: =PROPER(TEXT(B1,("mmmm"))) -> Mai
A3: Date du jour | B3: =TODAY() -> 42804
A5: n° de semaine en cours | B5: =INT((B3-SUM(MOD(DATE(YEAR(B3-MOD(B3-2,7)+3),1,2),{1E+99;7})*{1;-1})+5)/7) -> 10 | C5: =B1 -> 42856 | D5: =C5+1 -> 42857 | E5: =D5+1 -> 42858 | F5: =E5+1 -> 42859 | G5: =F5+1 -> 42860 | H5: =G5+1 -> 42861 | I5: =H5+1 -> 42862 | J5: =I5+1 -> 42863 | K5: =J5+1 -> 42864 | ... AC5: =AB5+1 -> 42882 | AD5: =IFERROR(IF(AC5+1>B2,"",AC5+1),"") -> 42883 | AE5: =IFERROR(IF(AD5+1>B2,"",AD5+1),"") -> 42884 | AF5: =IFERROR(IF(AE5+1>B2,"",AE5+1),"") -> 42885 | AG5: =IFERROR(IF(AF5+1>B2,"",AF5+1),"") -> 42886
C7: ="S"&INT((C5-SUM(MOD(DATE(YEAR(C5-MOD(C5-2,7)+3),1,2),{1E+99;7})*{1;-1})+5)/7) -> S18 | D7: =IFERROR(IF(D10="lun","S"&INT((D5-SUM(MOD(DATE(YEAR(D5-MOD(D5-2,7)+3),1,2),{1E+99;7})*{1;-1})+5)/7),""),"") | E7: =IFERROR(IF(E10="lun","S"&INT((E5-SUM(MOD(DATE(YEAR(E5-MOD(E5-2,7)+3),1,2),{1E+99;7})*{1;-1})+5)/7),""),"") | F7: =IFERROR(IF(F10="lun","S"&INT((F5-SUM(MOD(DATE(YEAR(F5-MOD(F5-2,7)+3),1,2),{1E+99;7})*{1;-1})+5)/7),""),"") | G7: =IFERROR(IF(G10="lun","S"&INT((G5-SUM(MOD(DATE(YEAR(G5-MOD(G5-2,7)+3),1,2),{1E+99;7})*{1;-1})+5)/7),""),"") | H7: =IFERROR(IF(H10="lun","S"&INT((H5-SUM(MOD(DATE(YEAR(H5-MOD(H5-2,7)+3),1,2),{1E+99;7})*{1;-1})+5)/7),""),"") | I7: =IFERROR(IF(I10="lun","S"&INT((I5-SUM(MOD(DATE(YEAR(I5-MOD(I5-2,7)+3),1,2),{1E+99;7})*{1;-1})+5)/7),""),"") | J7: =IFERROR(IF(J10="lun","S"&INT((J5-SUM(MOD(DATE(YEAR(J5-MOD(J5-2,7)+3),1,2),{1E+99;7})*{1;-1})+5)/7),""),"") -> S19 | K7: =IFERROR(IF(K10="lun","S"&INT((K5-SUM(MOD(DATE(YEAR(K5-MOD(K5-2,7)+3),1,2),{1E+99;7})*{1;-1})+5)/7),""),"") | ... AG7: =IFERROR(IF(AG10="lun","S"&INT((AG5-SUM(MOD(DATE(YEAR(AG5-MOD(AG5-2,7)+3),1,2),{1E+99;7})*{1;-1})+5)/7),""),"")
C10: =IFERROR(CHOOSE(WEEKDAY(C5),"DIM","LUN","MAR","MER","JEU","VEN","SAM"),"") -> LUN | D10: =IFERROR(CHOOSE(WEEKDAY(D5),"DIM","LUN","MAR","MER","JEU","VEN","SAM"),"") -> MAR | E10: =IFERROR(CHOOSE(WEEKDAY(E5),"DIM","LUN","MAR","MER","JEU","VEN","SAM"),"") -> MER | F10: =IFERROR(CHOOSE(WEEKDAY(F5),"DIM","LUN","MAR","MER","JEU","VEN","SAM"),"") -> JEU | G10: =IFERROR(CHOOSE(WEEKDAY(G5),"DIM","LUN","MAR","MER","JEU","VEN","SAM"),"") -> VEN | H10: =IFERROR(CHOOSE(WEEKDAY(H5),"DIM","LUN","MAR","MER","JEU","VEN","SAM"),"") -> SAM | I10: =IFERROR(CHOOSE(WEEKDAY(I5),"DIM","LUN","MAR","MER","JEU","VEN","SAM"),"") -> DIM | J10: =IFERROR(CHOOSE(WEEKDAY(J5),"DIM","LUN","MAR","MER","JEU","VEN","SAM"),"") -> LUN | ... AG10: =IFERROR(CHOOSE(WEEKDAY(AG5),"DIM","LUN","MAR","MER","JEU","VEN","SAM"),"") -> MER
A11: Prénom | C11: =B1 -> 42856 | D11: =C11+1 -> 42857 | E11: =D11+1 -> 42858 | F11: =E11+1 -> 42859 | G11: =F11+1 -> 42860 | H11: =G11+1 -> 42861 | I11: =H11+1 -> 42862 | J11: =I11+1 -> 42863 | K11: =J11+1 -> 42864 | ... AC11: =AB11+1 -> 42882 | AD11: =IFERROR(IF(AC11<EOMONTH(AC11,0),AC11+1,""),"") -> 42883 | AE11: =IFERROR(IF(AD11<EOMONTH(AD11,0),AD11+1,""),"") -> 42884 | AF11: =IFERROR(IF(AE11<EOMONTH(AE11,0),AE11+1,""),"") -> 42885 | AG11: =IFERROR(IF(AF11<EOMONTH(AF11,0),AF11+1,""),"") -> 42886
A12: A
A13: B
A14: C
A15: D
A16: E
A17: F
A18: G
A19: H
A20: I
A21: J
A22: K
A23: L
... A30: S

Sheet Juin
A1: Date début | B1: 42887
A2: Date fin | B2: =EOMONTH(B1,0) -> 42916 | I2: Planing du mois de : | Q2: =PROPER(TEXT(B1,("mmmm"))) -> Juin
A3: Date du jour | B3: =TODAY() -> 42804
A5: n° de semaine en cours | B5: =INT((B3-SUM(MOD(DATE(YEAR(B3-MOD(B3-2,7)+3),1,2),{1E+99;7})*{1;-1})+5)/7) -> 10 | C5: =B1 -> 42887 | D5: =C5+1 -> 42888 | E5: =D5+1 -> 42889 | F5: =E5+1 -> 42890 | G5: =F5+1 -> 42891 | H5: =G5+1 -> 42892 | I5: =H5+1 -> 42893 | J5: =I5+1 -> 42894 | K5: =J5+1 -> 42895 | ... AC5: =AB5+1 -> 42913 | AD5: =IFERROR(IF(AC5+1>B2,"",AC5+1),"") -> 42914 | AE5: =IFERROR(IF(AD5+1>B2,"",AD5+1),"") -> 42915 | AF5: =IFERROR(IF(AE5+1>B2,"",AE5+1),"") -> 42916 | AG5: =IFERROR(IF(AF5+1>B2,"",AF5+1),"")
C7: ="S"&INT((C5-SUM(MOD(DATE(YEAR(C5-MOD(C5-2,7)+3),1,2),{1E+99;7})*{1;-1})+5)/7) -> S22 | D7: =IFERROR(IF(D10="lun","S"&INT((D5-SUM(MOD(DATE(YEAR(D5-MOD(D5-2,7)+3),1,2),{1E+99;7})*{1;-1})+5)/7),""),"") | E7: =IFERROR(IF(E10="lun","S"&INT((E5-SUM(MOD(DATE(YEAR(E5-MOD(E5-2,7)+3),1,2),{1E+99;7})*{1;-1})+5)/7),""),"") | F7: =IFERROR(IF(F10="lun","S"&INT((F5-SUM(MOD(DATE(YEAR(F5-MOD(F5-2,7)+3),1,2),{1E+99;7})*{1;-1})+5)/7),""),"") | G7: =IFERROR(IF(G10="lun","S"&INT((G5-SUM(MOD(DATE(YEAR(G5-MOD(G5-2,7)+3),1,2),{1E+99;7})*{1;-1})+5)/7),""),"") -> S23 | H7: =IFERROR(IF(H10="lun","S"&INT((H5-SUM(MOD(DATE(YEAR(H5-MOD(H5-2,7)+3),1,2),{1E+99;7})*{1;-1})+5)/7),""),"") | I7: =IFERROR(IF(I10="lun","S"&INT((I5-SUM(MOD(DATE(YEAR(I5-MOD(I5-2,7)+3),1,2),{1E+99;7})*{1;-1})+5)/7),""),"") | J7: =IFERROR(IF(J10="lun","S"&INT((J5-SUM(MOD(DATE(YEAR(J5-MOD(J5-2,7)+3),1,2),{1E+99;7})*{1;-1})+5)/7),""),"") | K7: =IFERROR(IF(K10="lun","S"&INT((K5-SUM(MOD(DATE(YEAR(K5-MOD(K5-2,7)+3),1,2),{1E+99;7})*{1;-1})+5)/7),""),"") | ... AG7: =IFERROR(IF(AG10="lun","S"&INT((AG5-SUM(MOD(DATE(YEAR(AG5-MOD(AG5-2,7)+3),1,2),{1E+99;7})*{1;-1})+5)/7),""),"")
C10: =IFERROR(CHOOSE(WEEKDAY(C5),"DIM","LUN","MAR","MER","JEU","VEN","SAM"),"") -> JEU | D10: =IFERROR(CHOOSE(WEEKDAY(D5),"DIM","LUN","MAR","MER","JEU","VEN","SAM"),"") -> VEN | E10: =IFERROR(CHOOSE(WEEKDAY(E5),"DIM","LUN","MAR","MER","JEU","VEN","SAM"),"") -> SAM | F10: =IFERROR(CHOOSE(WEEKDAY(F5),"DIM","LUN","MAR","MER","JEU","VEN","SAM"),"") -> DIM | G10: =IFERROR(CHOOSE(WEEKDAY(G5),"DIM","LUN","MAR","MER","JEU","VEN","SAM"),"") -> LUN | H10: =IFERROR(CHOOSE(WEEKDAY(H5),"DIM","LUN","MAR","MER","JEU","VEN","SAM"),"") -> MAR | I10: =IFERROR(CHOOSE(WEEKDAY(I5),"DIM","LUN","MAR","MER","JEU","VEN","SAM"),"") -> MER | J10: =IFERROR(CHOOSE(WEEKDAY(J5),"DIM","LUN","MAR","MER","JEU","VEN","SAM"),"") -> JEU | ... AG10: =IFERROR(CHOOSE(WEEKDAY(AG5),"DIM","LUN","MAR","MER","JEU","VEN","SAM"),"")
A11: Prénom | C11: =B1 -> 42887 | D11: =C11+1 -> 42888 | E11: =D11+1 -> 42889 | F11: =E11+1 -> 42890 | G11: =F11+1 -> 42891 | H11: =G11+1 -> 42892 | I11: =H11+1 -> 42893 | J11: =I11+1 -> 42894 | K11: =J11+1 -> 42895 | ... AC11: =AB11+1 -> 42913 | AD11: =IFERROR(IF(AC11<EOMONTH(AC11,0),AC11+1,""),"") -> 42914 | AE11: =IFERROR(IF(AD11<EOMONTH(AD11,0),AD11+1,""),"") -> 42915 | AF11: =IFERROR(IF(AE11<EOMONTH(AE11,0),AE11+1,""),"") -> 42916 | AG11: =IFERROR(IF(AF11<EOMONTH(AF11,0),AF11+1,""),"")
A12: A
A13: B
A14: C
A15: D
A16: E
A17: F
A18: G
A19: H
A20: I
A21: J
A22: K
A23: L
... A30: S

Sheet Juillet
A1: Date début | B1: 42917
A2: Date fin | B2: =EOMONTH(B1,0) -> 42947 | I2: Planing du mois de : | Q2: =PROPER(TEXT(B1,("mmmm"))) -> Juillet
A3: Date du jour | B3: =TODAY() -> 42804
A5: n° de semaine en cours | B5: =INT((B3-SUM(MOD(DATE(YEAR(B3-MOD(B3-2,7)+3),1,2),{1E+99;7})*{1;-1})+5)/7) -> 10 | C5: =B1 -> 42917 | D5: =C5+1 -> 42918 | E5: =D5+1 -> 42919 | F5: =E5+1 -> 42920 | G5: =F5+1 -> 42921 | H5: =G5+1 -> 42922 | I5: =H5+1 -> 42923 | J5: =I5+1 -> 42924 | K5: =J5+1 -> 42925 | ... AC5: =AB5+1 -> 42943 | AD5: =IFERROR(IF(AC5+1>B2,"",AC5+1),"") -> 42944 | AE5: =IFERROR(IF(AD5+1>B2,"",AD5+1),"") -> 42945 | AF5: =IFERROR(IF(AE5+1>B2,"",AE5+1),"") -> 42946 | AG5: =IFERROR(IF(AF5+1>B2,"",AF5+1),"") -> 42947
C7: ="S"&INT((C5-SUM(MOD(DATE(YEAR(C5-MOD(C5-2,7)+3),1,2),{1E+99;7})*{1;-1})+5)/7) -> S26 | D7: =IFERROR(IF(D10="lun","S"&INT((D5-SUM(MOD(DATE(YEAR(D5-MOD(D5-2,7)+3),1,2),{1E+99;7})*{1;-1})+5)/7),""),"") | E7: =IFERROR(IF(E10="lun","S"&INT((E5-SUM(MOD(DATE(YEAR(E5-MOD(E5-2,7)+3),1,2),{1E+99;7})*{1;-1})+5)/7),""),"") -> S27 | F7: =IFERROR(IF(F10="lun","S"&INT((F5-SUM(MOD(DATE(YEAR(F5-MOD(F5-2,7)+3),1,2),{1E+99;7})*{1;-1})+5)/7),""),"") | G7: =IFERROR(IF(G10="lun","S"&INT((G5-SUM(MOD(DATE(YEAR(G5-MOD(G5-2,7)+3),1,2),{1E+99;7})*{1;-1})+5)/7),""),"") | H7: =IFERROR(IF(H10="lun","S"&INT((H5-SUM(MOD(DATE(YEAR(H5-MOD(H5-2,7)+3),1,2),{1E+99;7})*{1;-1})+5)/7),""),"") | I7: =IFERROR(IF(I10="lun","S"&INT((I5-SUM(MOD(DATE(YEAR(I5-MOD(I5-2,7)+3),1,2),{1E+99;7})*{1;-1})+5)/7),""),"") | J7: =IFERROR(IF(J10="lun","S"&INT((J5-SUM(MOD(DATE(YEAR(J5-MOD(J5-2,7)+3),1,2),{1E+99;7})*{1;-1})+5)/7),""),"") | K7: =IFERROR(IF(K10="lun","S"&INT((K5-SUM(MOD(DATE(YEAR(K5-MOD(K5-2,7)+3),1,2),{1E+99;7})*{1;-1})+5)/7),""),"") | ... AG7: =IFERROR(IF(AG10="lun","S"&INT((AG5-SUM(MOD(DATE(YEAR(AG5-MOD(AG5-2,7)+3),1,2),{1E+99;7})*{1;-1})+5)/7),""),"") -> S31
C10: =IFERROR(CHOOSE(WEEKDAY(C5),"DIM","LUN","MAR","MER","JEU","VEN","SAM"),"") -> SAM | D10: =IFERROR(CHOOSE(WEEKDAY(D5),"DIM","LUN","MAR","MER","JEU","VEN","SAM"),"") -> DIM | E10: =IFERROR(CHOOSE(WEEKDAY(E5),"DIM","LUN","MAR","MER","JEU","VEN","SAM"),"") -> LUN | F10: =IFERROR(CHOOSE(WEEKDAY(F5),"DIM","LUN","MAR","MER","JEU","VEN","SAM"),"") -> MAR | G10: =IFERROR(CHOOSE(WEEKDAY(G5),"DIM","LUN","MAR","MER","JEU","VEN","SAM"),"") -> MER | H10: =IFERROR(CHOOSE(WEEKDAY(H5),"DIM","LUN","MAR","MER","JEU","VEN","SAM"),"") -> JEU | I10: =IFERROR(CHOOSE(WEEKDAY(I5),"DIM","LUN","MAR","MER","JEU","VEN","SAM"),"") -> VEN | J10: =IFERROR(CHOOSE(WEEKDAY(J5),"DIM","LUN","MAR","MER","JEU","VEN","SAM"),"") -> SAM | ... AG10: =IFERROR(CHOOSE(WEEKDAY(AG5),"DIM","LUN","MAR","MER","JEU","VEN","SAM"),"") -> LUN
A11: Prénom | C11: =B1 -> 42917 | D11: =C11+1 -> 42918 | E11: =D11+1 -> 42919 | F11: =E11+1 -> 42920 | G11: =F11+1 -> 42921 | H11: =G11+1 -> 42922 | I11: =H11+1 -> 42923 | J11: =I11+1 -> 42924 | K11: =J11+1 -> 42925 | ... AC11: =AB11+1 -> 42943 | AD11: =IFERROR(IF(AC11<EOMONTH(AC11,0),AC11+1,""),"") -> 42944 | AE11: =IFERROR(IF(AD11<EOMONTH(AD11,0),AD11+1,""),"") -> 42945 | AF11: =IFERROR(IF(AE11<EOMONTH(AE11,0),AE11+1,""),"") -> 42946 | AG11: =IFERROR(IF(AF11<EOMONTH(AF11,0),AF11+1,""),"") -> 42947
A12: A
A13: B
A14: C
A15: D
A16: E
A17: F
A18: G
A19: H
A20: I
A21: J
A22: K
A23: L
... A30: S

Sheet Août
A1: Date début | B1: 42948
A2: Date fin | B2: =EOMONTH(B1,0) -> 42978 | I2: Planing du mois de : | Q2: =PROPER(TEXT(B1,("mmmm"))) -> Août
A3: Date du jour | B3: =TODAY() -> 42804
A5: n° de semaine en cours | B5: =INT((B3-SUM(MOD(DATE(YEAR(B3-MOD(B3-2,7)+3),1,2),{1E+99;7})*{1;-1})+5)/7) -> 10 | C5: =B1 -> 42948 | D5: =C5+1 -> 42949 | E5: =D5+1 -> 42950 | F5: =E5+1 -> 42951 | G5: =F5+1 -> 42952 | H5: =G5+1 -> 42953 | I5: =H5+1 -> 42954 | J5: =I5+1 -> 42955 | K5: =J5+1 -> 42956 | ... AC5: =AB5+1 -> 42974 | AD5: =IFERROR(IF(AC5+1>B2,"",AC5+1),"") -> 42975 | AE5: =IFERROR(IF(AD5+1>B2,"",AD5+1),"") -> 42976 | AF5: =IFERROR(IF(AE5+1>B2,"",AE5+1),"") -> 42977 | AG5: =IFERROR(IF(AF5+1>B2,"",AF5+1),"") -> 42978
C7: ="S"&INT((C5-SUM(MOD(DATE(YEAR(C5-MOD(C5-2,7)+3),1,2),{1E+99;7})*{1;-1})+5)/7) -> S31 | D7: =IFERROR(IF(D10="lun","S"&INT((D5-SUM(MOD(DATE(YEAR(D5-MOD(D5-2,7)+3),1,2),{1E+99;7})*{1;-1})+5)/7),""),"") | E7: =IFERROR(IF(E10="lun","S"&INT((E5-SUM(MOD(DATE(YEAR(E5-MOD(E5-2,7)+3),1,2),{1E+99;7})*{1;-1})+5)/7),""),"") | F7: =IFERROR(IF(F10="lun","S"&INT((F5-SUM(MOD(DATE(YEAR(F5-MOD(F5-2,7)+3),1,2),{1E+99;7})*{1;-1})+5)/7),""),"") | G7: =IFERROR(IF(G10="lun","S"&INT((G5-SUM(MOD(DATE(YEAR(G5-MOD(G5-2,7)+3),1,2),{1E+99;7})*{1;-1})+5)/7),""),"") | H7: =IFERROR(IF(H10="lun","S"&INT((H5-SUM(MOD(DATE(YEAR(H5-MOD(H5-2,7)+3),1,2),{1E+99;7})*{1;-1})+5)/7),""),"") | I7: =IFERROR(IF(I10="lun","S"&INT((I5-SUM(MOD(DATE(YEAR(I5-MOD(I5-2,7)+3),1,2),{1E+99;7})*{1;-1})+5)/7),""),"") -> S32 | J7: =IFERROR(IF(J10="lun","S"&INT((J5-SUM(MOD(DATE(YEAR(J5-MOD(J5-2,7)+3),1,2),{1E+99;7})*{1;-1})+5)/7),""),"") | K7: =IFERROR(IF(K10="lun","S"&INT((K5-SUM(MOD(DATE(YEAR(K5-MOD(K5-2,7)+3),1,2),{1E+99;7})*{1;-1})+5)/7),""),"") | ... AG7: =IFERROR(IF(AG10="lun","S"&INT((AG5-SUM(MOD(DATE(YEAR(AG5-MOD(AG5-2,7)+3),1,2),{1E+99;7})*{1;-1})+5)/7),""),"")
C10: =IFERROR(CHOOSE(WEEKDAY(C5),"DIM","LUN","MAR","MER","JEU","VEN","SAM"),"") -> MAR | D10: =IFERROR(CHOOSE(WEEKDAY(D5),"DIM","LUN","MAR","MER","JEU","VEN","SAM"),"") -> MER | E10: =IFERROR(CHOOSE(WEEKDAY(E5),"DIM","LUN","MAR","MER","JEU","VEN","SAM"),"") -> JEU | F10: =IFERROR(CHOOSE(WEEKDAY(F5),"DIM","LUN","MAR","MER","JEU","VEN","SAM"),"") -> VEN | G10: =IFERROR(CHOOSE(WEEKDAY(G5),"DIM","LUN","MAR","MER","JEU","VEN","SAM"),"") -> SAM | H10: =IFERROR(CHOOSE(WEEKDAY(H5),"DIM","LUN","MAR","MER","JEU","VEN","SAM"),"") -> DIM | I10: =IFERROR(CHOOSE(WEEKDAY(I5),"DIM","LUN","MAR","MER","JEU","VEN","SAM"),"") -> LUN | J10: =IFERROR(CHOOSE(WEEKDAY(J5),"DIM","LUN","MAR","MER","JEU","VEN","SAM"),"") -> MAR | ... AG10: =IFERROR(CHOOSE(WEEKDAY(AG5),"DIM","LUN","MAR","MER","JEU","VEN","SAM"),"") -> JEU
A11: Prénom | C11: =B1 -> 42948 | D11: =C11+1 -> 42949 | E11: =D11+1 -> 42950 | F11: =E11+1 -> 42951 | G11: =F11+1 -> 42952 | H11: =G11+1 -> 42953 | I11: =H11+1 -> 42954 | J11: =I11+1 -> 42955 | K11: =J11+1 -> 42956 | ... AC11: =AB11+1 -> 42974 | AD11: =IFERROR(IF(AC11<EOMONTH(AC11,0),AC11+1,""),"") -> 42975 | AE11: =IFERROR(IF(AD11<EOMONTH(AD11,0),AD11+1,""),"") -> 42976 | AF11: =IFERROR(IF(AE11<EOMONTH(AE11,0),AE11+1,""),"") -> 42977 | AG11: =IFERROR(IF(AF11<EOMONTH(AF11,0),AF11+1,""),"") -> 42978
A12: A
A13: B
A14: C
A15: D
A16: E
A17: F
A18: G
A19: H
A20: I
A21: J
A22: K
A23: L
... A30: S

Sheet Septembre
A1: Date début | B1: 42979
A2: Date fin | B2: =EOMONTH(B1,0) -> 43008 | I2: Planing du mois de : | Q2: =PROPER(TEXT(B1,("mmmm"))) -> Septembre
A3: Date du jour | B3: =TODAY() -> 42804
A5: n° de semaine en cours | B5: =INT((B3-SUM(MOD(DATE(YEAR(B3-MOD(B3-2,7)+3),1,2),{1E+99;7})*{1;-1})+5)/7) -> 10 | C5: =B1 -> 42979 | D5: =C5+1 -> 42980 | E5: =D5+1 -> 42981 | F5: =E5+1 -> 42982 | G5: =F5+1 -> 42983 | H5: =G5+1 -> 42984 | I5: =H5+1 -> 42985 | J5: =I5+1 -> 42986 | K5: =J5+1 -> 42987 | ... AC5: =AB5+1 -> 43005 | AD5: =IFERROR(IF(AC5+1>B2,"",AC5+1),"") -> 43006 | AE5: =IFERROR(IF(AD5+1>B2,"",AD5+1),"") -> 43007 | AF5: =IFERROR(IF(AE5+1>B2,"",AE5+1),"") -> 43008 | AG5: =IFERROR(IF(AF5+1>B2,"",AF5+1),"")
C7: ="S"&INT((C5-SUM(MOD(DATE(YEAR(C5-MOD(C5-2,7)+3),1,2),{1E+99;7})*{1;-1})+5)/7) -> S35 | D7: =IFERROR(IF(D10="lun","S"&INT((D5-SUM(MOD(DATE(YEAR(D5-MOD(D5-2,7)+3),1,2),{1E+99;7})*{1;-1})+5)/7),""),"") | E7: =IFERROR(IF(E10="lun","S"&INT((E5-SUM(MOD(DATE(YEAR(E5-MOD(E5-2,7)+3),1,2),{1E+99;7})*{1;-1})+5)/7),""),"") | F7: =IFERROR(IF(F10="lun","S"&INT((F5-SUM(MOD(DATE(YEAR(F5-MOD(F5-2,7)+3),1,2),{1E+99;7})*{1;-1})+5)/7),""),"") -> S36 | G7: =IFERROR(IF(G10="lun","S"&INT((G5-SUM(MOD(DATE(YEAR(G5-MOD(G5-2,7)+3),1,2),{1E+99;7})*{1;-1})+5)/7),""),"") | H7: =IFERROR(IF(H10="lun","S"&INT((H5-SUM(MOD(DATE(YEAR(H5-MOD(H5-2,7)+3),1,2),{1E+99;7})*{1;-1})+5)/7),""),"") | I7: =IFERROR(IF(I10="lun","S"&INT((I5-SUM(MOD(DATE(YEAR(I5-MOD(I5-2,7)+3),1,2),{1E+99;7})*{1;-1})+5)/7),""),"") | J7: =IFERROR(IF(J10="lun","S"&INT((J5-SUM(MOD(DATE(YEAR(J5-MOD(J5-2,7)+3),1,2),{1E+99;7})*{1;-1})+5)/7),""),"") | K7: =IFERROR(IF(K10="lun","S"&INT((K5-SUM(MOD(DATE(YEAR(K5-MOD(K5-2,7)+3),1,2),{1E+99;7})*{1;-1})+5)/7),""),"") | ... AG7: =IFERROR(IF(AG10="lun","S"&INT((AG5-SUM(MOD(DATE(YEAR(AG5-MOD(AG5-2,7)+3),1,2),{1E+99;7})*{1;-1})+5)/7),""),"")
C10: =IFERROR(CHOOSE(WEEKDAY(C5),"DIM","LUN","MAR","MER","JEU","VEN","SAM"),"") -> VEN | D10: =IFERROR(CHOOSE(WEEKDAY(D5),"DIM","LUN","MAR","MER","JEU","VEN","SAM"),"") -> SAM | E10: =IFERROR(CHOOSE(WEEKDAY(E5),"DIM","LUN","MAR","MER","JEU","VEN","SAM"),"") -> DIM | F10: =IFERROR(CHOOSE(WEEKDAY(F5),"DIM","LUN","MAR","MER","JEU","VEN","SAM"),"") -> LUN | G10: =IFERROR(CHOOSE(WEEKDAY(G5),"DIM","LUN","MAR","MER","JEU","VEN","SAM"),"") -> MAR | H10: =IFERROR(CHOOSE(WEEKDAY(H5),"DIM","LUN","MAR","MER","JEU","VEN","SAM"),"") -> MER | I10: =IFERROR(CHOOSE(WEEKDAY(I5),"DIM","LUN","MAR","MER","JEU","VEN","SAM"),"") -> JEU | J10: =IFERROR(CHOOSE(WEEKDAY(J5),"DIM","LUN","MAR","MER","JEU","VEN","SAM"),"") -> VEN | ... AG10: =IFERROR(CHOOSE(WEEKDAY(AG5),"DIM","LUN","MAR","MER","JEU","VEN","SAM"),"")
A11: Prénom | C11: =B1 -> 42979 | D11: =C11+1 -> 42980 | E11: =D11+1 -> 42981 | F11: =E11+1 -> 42982 | G11: =F11+1 -> 42983 | H11: =G11+1 -> 42984 | I11: =H11+1 -> 42985 | J11: =I11+1 -> 42986 | K11: =J11+1 -> 42987 | ... AC11: =AB11+1 -> 43005 | AD11: =IFERROR(IF(AC11<EOMONTH(AC11,0),AC11+1,""),"") -> 43006 | AE11: =IFERROR(IF(AD11<EOMONTH(AD11,0),AD11+1,""),"") -> 43007 | AF11: =IFERROR(IF(AE11<EOMONTH(AE11,0),AE11+1,""),"") -> 43008 | AG11: =IFERROR(IF(AF11<EOMONTH(AF11,0),AF11+1,""),"")
A12: A
A13: B
A14: C
A15: D
A16: E
A17: F
A18: G
A19: H
A20: I
A21: J
A22: K
A23: L
... A30: S

Sheet Octobre
A1: Date début | B1: 43009
A2: Date fin | B2: =EOMONTH(B1,0) -> 43039 | I2: Planing du mois de : | Q2: =PROPER(TEXT(B1,("mmmm"))) -> Octobre
A3: Date du jour | B3: =TODAY() -> 42804
A5: n° de semaine en cours | B5: =INT((B3-SUM(MOD(DATE(YEAR(B3-MOD(B3-2,7)+3),1,2),{1E+99;7})*{1;-1})+5)/7) -> 10 | C5: =B1 -> 43009 | D5: =C5+1 -> 43010 | E5: =D5+1 -> 43011 | F5: =E5+1 -> 43012 | G5: =F5+1 -> 43013 | H5: =G5+1 -> 43014 | I5: =H5+1 -> 43015 | J5: =I5+1 -> 43016 | K5: =J5+1 -> 43017 | ... AC5: =AB5+1 -> 43035 | AD5: =IFERROR(IF(AC5+1>B2,"",AC5+1),"") -> 43036 | AE5: =IFERROR(IF(AD5+1>B2,"",AD5+1),"") -> 43037 | AF5: =IFERROR(IF(AE5+1>B2,"",AE5+1),"") -> 43038 | AG5: =IFERROR(IF(AF5+1>B2,"",AF5+1),"") -> 43039
C7: ="S"&INT((C5-SUM(MOD(DATE(YEAR(C5-MOD(C5-2,7)+3),1,2),{1E+99;7})*{1;-1})+5)/7) -> S39 | D7: =IFERROR(IF(D10="lun","S"&INT((D5-SUM(MOD(DATE(YEAR(D5-MOD(D5-2,7)+3),1,2),{1E+99;7})*{1;-1})+5)/7),""),"") -> S40 | E7: =IFERROR(IF(E10="lun","S"&INT((E5-SUM(MOD(DATE(YEAR(E5-MOD(E5-2,7)+3),1,2),{1E+99;7})*{1;-1})+5)/7),""),"") | F7: =IFERROR(IF(F10="lun","S"&INT((F5-SUM(MOD(DATE(YEAR(F5-MOD(F5-2,7)+3),1,2),{1E+99;7})*{1;-1})+5)/7),""),"") | G7: =IFERROR(IF(G10="lun","S"&INT((G5-SUM(MOD(DATE(YEAR(G5-MOD(G5-2,7)+3),1,2),{1E+99;7})*{1;-1})+5)/7),""),"") | H7: =IFERROR(IF(H10="lun","S"&INT((H5-SUM(MOD(DATE(YEAR(H5-MOD(H5-2,7)+3),1,2),{1E+99;7})*{1;-1})+5)/7),""),"") | I7: =IFERROR(IF(I10="lun","S"&INT((I5-SUM(MOD(DATE(YEAR(I5-MOD(I5-2,7)+3),1,2),{1E+99;7})*{1;-1})+5)/7),""),"") | J7: =IFERROR(IF(J10="lun","S"&INT((J5-SUM(MOD(DATE(YEAR(J5-MOD(J5-2,7)+3),1,2),{1E+99;7})*{1;-1})+5)/7),""),"") | K7: =IFERROR(IF(K10="lun","S"&INT((K5-SUM(MOD(DATE(YEAR(K5-MOD(K5-2,7)+3),1,2),{1E+99;7})*{1;-1})+5)/7),""),"") -> S41 | ... AG7: =IFERROR(IF(AG10="lun","S"&INT((AG5-SUM(MOD(DATE(YEAR(AG5-MOD(AG5-2,7)+3),1,2),{1E+99;7})*{1;-1})+5)/7),""),"")
C10: =IFERROR(CHOOSE(WEEKDAY(C5),"DIM","LUN","MAR","MER","JEU","VEN","SAM"),"") -> DIM | D10: =IFERROR(CHOOSE(WEEKDAY(D5),"DIM","LUN","MAR","MER","JEU","VEN","SAM"),"") -> LUN | E10: =IFERROR(CHOOSE(WEEKDAY(E5),"DIM","LUN","MAR","MER","JEU","VEN","SAM"),"") -> MAR | F10: =IFERROR(CHOOSE(WEEKDAY(F5),"DIM","LUN","MAR","MER","JEU","VEN","SAM"),"") -> MER | G10: =IFERROR(CHOOSE(WEEKDAY(G5),"DIM","LUN","MAR","MER","JEU","VEN","SAM"),"") -> JEU | H10: =IFERROR(CHOOSE(WEEKDAY(H5),"DIM","LUN","MAR","MER","JEU","VEN","SAM"),"") -> VEN | I10: =IFERROR(CHOOSE(WEEKDAY(I5),"DIM","LUN","MAR","MER","JEU","VEN","SAM"),"") -> SAM | J10: =IFERROR(CHOOSE(WEEKDAY(J5),"DIM","LUN","MAR","MER","JEU","VEN","SAM"),"") -> DIM | ... AG10: =IFERROR(CHOOSE(WEEKDAY(AG5),"DIM","LUN","MAR","MER","JEU","VEN","SAM"),"") -> MAR
A11: Prénom | C11: =B1 -> 43009 | D11: =C11+1 -> 43010 | E11: =D11+1 -> 43011 | F11: =E11+1 -> 43012 | G11: =F11+1 -> 43013 | H11: =G11+1 -> 43014 | I11: =H11+1 -> 43015 | J11: =I11+1 -> 43016 | K11: =J11+1 -> 43017 | ... AC11: =AB11+1 -> 43035 | AD11: =IFERROR(IF(AC11<EOMONTH(AC11,0),AC11+1,""),"") -> 43036 | AE11: =IFERROR(IF(AD11<EOMONTH(AD11,0),AD11+1,""),"") -> 43037 | AF11: =IFERROR(IF(AE11<EOMONTH(AE11,0),AE11+1,""),"") -> 43038 | AG11: =IFERROR(IF(AF11<EOMONTH(AF11,0),AF11+1,""),"") -> 43039
A12: A
A13: B
A14: C
A15: D
A16: E
A17: F
A18: G
A19: H
A20: I
A21: J
A22: K
A23: L
... A30: S

Sheet Novembre
A1: Date début | B1: 43040
A2: Date fin | B2: =EOMONTH(B1,0) -> 43069 | I2: Planing du mois de : | Q2: =PROPER(TEXT(B1,("mmmm"))) -> Novembre
A3: Date du jour | B3: =TODAY() -> 42804
A5: n° de semaine en cours | B5: =INT((B3-SUM(MOD(DATE(YEAR(B3-MOD(B3-2,7)+3),1,2),{1E+99;7})*{1;-1})+5)/7) -> 10 | C5: =B1 -> 43040 | D5: =C5+1 -> 43041 | E5: =D5+1 -> 43042 | F5: =E5+1 -> 43043 | G5: =F5+1 -> 43044 | H5: =G5+1 -> 43045 | I5: =H5+1 -> 43046 | J5: =I5+1 -> 43047 | K5: =J5+1 -> 43048 | ... AC5: =AB5+1 -> 43066 | AD5: =IFERROR(IF(AC5+1>B2,"",AC5+1),"") -> 43067 | AE5: =IFERROR(IF(AD5+1>B2,"",AD5+1),"") -> 43068 | AF5: =IFERROR(IF(AE5+1>B2,"",AE5+1),"") -> 43069 | AG5: =IFERROR(IF(AF5+1>B2,"",AF5+1),"")
C7: ="S"&INT((C5-SUM(MOD(DATE(YEAR(C5-MOD(C5-2,7)+3),1,2),{1E+99;7})*{1;-1})+5)/7) -> S44 | D7: =IFERROR(IF(D10="lun","S"&INT((D5-SUM(MOD(DATE(YEAR(D5-MOD(D5-2,7)+3),1,2),{1E+99;7})*{1;-1})+5)/7),""),"") | E7: =IFERROR(IF(E10="lun","S"&INT((E5-SUM(MOD(DATE(YEAR(E5-MOD(E5-2,7)+3),1,2),{1E+99;7})*{1;-1})+5)/7),""),"") | F7: =IFERROR(IF(F10="lun","S"&INT((F5-SUM(MOD(DATE(YEAR(F5-MOD(F5-2,7)+3),1,2),{1E+99;7})*{1;-1})+5)/7),""),"") | G7: =IFERROR(IF(G10="lun","S"&INT((G5-SUM(MOD(DATE(YEAR(G5-MOD(G5-2,7)+3),1,2),{1E+99;7})*{1;-1})+5)/7),""),"") | H7: =IFERROR(IF(H10="lun","S"&INT((H5-SUM(MOD(DATE(YEAR(H5-MOD(H5-2,7)+3),1,2),{1E+99;7})*{1;-1})+5)/7),""),"") -> S45 | I7: =IFERROR(IF(I10="lun","S"&INT((I5-SUM(MOD(DATE(YEAR(I5-MOD(I5-2,7)+3),1,2),{1E+99;7})*{1;-1})+5)/7),""),"") | J7: =IFERROR(IF(J10="lun","S"&INT((J5-SUM(MOD(DATE(YEAR(J5-MOD(J5-2,7)+3),1,2),{1E+99;7})*{1;-1})+5)/7),""),"") | K7: =IFERROR(IF(K10="lun","S"&INT((K5-SUM(MOD(DATE(YEAR(K5-MOD(K5-2,7)+3),1,2),{1E+99;7})*{1;-1})+5)/7),""),"") | ... AG7: =IFERROR(IF(AG10="lun","S"&INT((AG5-SUM(MOD(DATE(YEAR(AG5-MOD(AG5-2,7)+3),1,2),{1E+99;7})*{1;-1})+5)/7),""),"")
C10: =IFERROR(CHOOSE(WEEKDAY(C5),"DIM","LUN","MAR","MER","JEU","VEN","SAM"),"") -> MER | D10: =IFERROR(CHOOSE(WEEKDAY(D5),"DIM","LUN","MAR","MER","JEU","VEN","SAM"),"") -> JEU | E10: =IFERROR(CHOOSE(WEEKDAY(E5),"DIM","LUN","MAR","MER","JEU","VEN","SAM"),"") -> VEN | F10: =IFERROR(CHOOSE(WEEKDAY(F5),"DIM","LUN","MAR","MER","JEU","VEN","SAM"),"") -> SAM | G10: =IFERROR(CHOOSE(WEEKDAY(G5),"DIM","LUN","MAR","MER","JEU","VEN","SAM"),"") -> DIM | H10: =IFERROR(CHOOSE(WEEKDAY(H5),"DIM","LUN","MAR","MER","JEU","VEN","SAM"),"") -> LUN | I10: =IFERROR(CHOOSE(WEEKDAY(I5),"DIM","LUN","MAR","MER","JEU","VEN","SAM"),"") -> MAR | J10: =IFERROR(CHOOSE(WEEKDAY(J5),"DIM","LUN","MAR","MER","JEU","VEN","SAM"),"") -> MER | ... AG10: =IFERROR(CHOOSE(WEEKDAY(AG5),"DIM","LUN","MAR","MER","JEU","VEN","SAM"),"")
A11: Prénom | C11: =B1 -> 43040 | D11: =C11+1 -> 43041 | E11: =D11+1 -> 43042 | F11: =E11+1 -> 43043 | G11: =F11+1 -> 43044 | H11: =G11+1 -> 43045 | I11: =H11+1 -> 43046 | J11: =I11+1 -> 43047 | K11: =J11+1 -> 43048 | ... AC11: =AB11+1 -> 43066 | AD11: =IFERROR(IF(AC11<EOMONTH(AC11,0),AC11+1,""),"") -> 43067 | AE11: =IFERROR(IF(AD11<EOMONTH(AD11,0),AD11+1,""),"") -> 43068 | AF11: =IFERROR(IF(AE11<EOMONTH(AE11,0),AE11+1,""),"") -> 43069 | AG11: =IFERROR(IF(AF11<EOMONTH(AF11,0),AF11+1,""),"")
A12: A
A13: B
A14: C
A15: D
A16: E
A17: F
A18: G
A19: H
A20: I
A21: J
A22: K
A23: L
... A30: S

Sheet Décembre
A1: Date début | B1: 43070
A2: Date fin | B2: =EOMONTH(B1,0) -> 43100 | I2: Planing du mois de : | Q2: =PROPER(TEXT(B1,("mmmm"))) -> Décembre
A3: Date du jour | B3: =TODAY() -> 42804
A5: n° de semaine en cours | B5: =INT((B3-SUM(MOD(DATE(YEAR(B3-MOD(B3-2,7)+3),1,2),{1E+99;7})*{1;-1})+5)/7) -> 10 | C5: =B1 -> 43070 | D5: =C5+1 -> 43071 | E5: =D5+1 -> 43072 | F5: =E5+1 -> 43073 | G5: =F5+1 -> 43074 | H5: =G5+1 -> 43075 | I5: =H5+1 -> 43076 | J5: =I5+1 -> 43077 | K5: =J5+1 -> 43078 | ... AC5: =AB5+1 -> 43096 | AD5: =IFERROR(IF(AC5+1>B2,"",AC5+1),"") -> 43097 | AE5: =IFERROR(IF(AD5+1>B2,"",AD5+1),"") -> 43098 | AF5: =IFERROR(IF(AE5+1>B2,"",AE5+1),"") -> 43099 | AG5: =IFERROR(IF(AF5+1>B2,"",AF5+1),"") -> 43100
C7: ="S"&INT((C5-SUM(MOD(DATE(YEAR(C5-MOD(C5-2,7)+3),1,2),{1E+99;7})*{1;-1})+5)/7) -> S48 | D7: =IFERROR(IF(D10="lun","S"&INT((D5-SUM(MOD(DATE(YEAR(D5-MOD(D5-2,7)+3),1,2),{1E+99;7})*{1;-1})+5)/7),""),"") | E7: =IFERROR(IF(E10="lun","S"&INT((E5-SUM(MOD(DATE(YEAR(E5-MOD(E5-2,7)+3),1,2),{1E+99;7})*{1;-1})+5)/7),""),"") | F7: =IFERROR(IF(F10="lun","S"&INT((F5-SUM(MOD(DATE(YEAR(F5-MOD(F5-2,7)+3),1,2),{1E+99;7})*{1;-1})+5)/7),""),"") -> S49 | G7: =IFERROR(IF(G10="lun","S"&INT((G5-SUM(MOD(DATE(YEAR(G5-MOD(G5-2,7)+3),1,2),{1E+99;7})*{1;-1})+5)/7),""),"") | H7: =IFERROR(IF(H10="lun","S"&INT((H5-SUM(MOD(DATE(YEAR(H5-MOD(H5-2,7)+3),1,2),{1E+99;7})*{1;-1})+5)/7),""),"") | I7: =IFERROR(IF(I10="lun","S"&INT((I5-SUM(MOD(DATE(YEAR(I5-MOD(I5-2,7)+3),1,2),{1E+99;7})*{1;-1})+5)/7),""),"") | J7: =IFERROR(IF(J10="lun","S"&INT((J5-SUM(MOD(DATE(YEAR(J5-MOD(J5-2,7)+3),1,2),{1E+99;7})*{1;-1})+5)/7),""),"") | K7: =IFERROR(IF(K10="lun","S"&INT((K5-SUM(MOD(DATE(YEAR(K5-MOD(K5-2,7)+3),1,2),{1E+99;7})*{1;-1})+5)/7),""),"") | ... AG7: =IFERROR(IF(AG10="lun","S"&INT((AG5-SUM(MOD(DATE(YEAR(AG5-MOD(AG5-2,7)+3),1,2),{1E+99;7})*{1;-1})+5)/7),""),"")
C10: =IFERROR(CHOOSE(WEEKDAY(C5),"DIM","LUN","MAR","MER","JEU","VEN","SAM"),"") -> VEN | D10: =IFERROR(CHOOSE(WEEKDAY(D5),"DIM","LUN","MAR","MER","JEU","VEN","SAM"),"") -> SAM | E10: =IFERROR(CHOOSE(WEEKDAY(E5),"DIM","LUN","MAR","MER","JEU","VEN","SAM"),"") -> DIM | F10: =IFERROR(CHOOSE(WEEKDAY(F5),"DIM","LUN","MAR","MER","JEU","VEN","SAM"),"") -> LUN | G10: =IFERROR(CHOOSE(WEEKDAY(G5),"DIM","LUN","MAR","MER","JEU","VEN","SAM"),"") -> MAR | H10: =IFERROR(CHOOSE(WEEKDAY(H5),"DIM","LUN","MAR","MER","JEU","VEN","SAM"),"") -> MER | I10: =IFERROR(CHOOSE(WEEKDAY(I5),"DIM","LUN","MAR","MER","JEU","VEN","SAM"),"") -> JEU | J10: =IFERROR(CHOOSE(WEEKDAY(J5),"DIM","LUN","MAR","MER","JEU","VEN","SAM"),"") -> VEN | ... AG10: =IFERROR(CHOOSE(WEEKDAY(AG5),"DIM","LUN","MAR","MER","JEU","VEN","SAM"),"") -> DIM
A11: Prénom | C11: =B1 -> 43070 | D11: =C11+1 -> 43071 | E11: =D11+1 -> 43072 | F11: =E11+1 -> 43073 | G11: =F11+1 -> 43074 | H11: =G11+1 -> 43075 | I11: =H11+1 -> 43076 | J11: =I11+1 -> 43077 | K11: =J11+1 -> 43078 | ... AC11: =AB11+1 -> 43096 | AD11: =IFERROR(IF(AC11<EOMONTH(AC11,0),AC11+1,""),"") -> 43097 | AE11: =IFERROR(IF(AD11<EOMONTH(AD11,0),AD11+1,""),"") -> 43098 | AF11: =IFERROR(IF(AE11<EOMONTH(AE11,0),AE11+1,""),"") -> 43099 | AG11: =IFERROR(IF(AF11<EOMONTH(AF11,0),AF11+1,""),"") -> 43100
A12: A
A13: B
A14: C
A15: D
A16: E
A17: F
A18: G
A19: H
A20: I
A21: J
A22: K
A23: L
... A30: S

Sheet Année
A1: Gestion des astreintes
A2: Date début : | B2: 42736
A3: Date fin : | B3: =Date_début+364 -> 43100
A4: Date du jour : | B4: =TODAY() -> 42804
B6: =Date_début -> 42736 | C6: =B6+1 -> 42737 | D6: =C6+1 -> 42738 | E6: =D6+1 -> 42739 | F6: =E6+1 -> 42740 | G6: =F6+1 -> 42741 | H6: =G6+1 -> 42742 | I6: =H6+1 -> 42743 | J6: =I6+1 -> 42744 | ... NB6: =NA6+1 -> 43100
B8: ="S"&INT((B6-SUM(MOD(DATE(YEAR(B6-MOD(B6-2,7)+3),1,2),{1E+99;7})*{1;-1})+5)/7) -> S52 | C8: =IFERROR(IF(C9="lu","S"&INT((C6-SUM(MOD(DATE(YEAR(C6-MOD(C6-2,7)+3),1,2),{1E+99;7})*{1;-1})+5)/7),""),"") -> S1 | D8: =IFERROR(IF(D9="lu","S"&INT((D6-SUM(MOD(DATE(YEAR(D6-MOD(D6-2,7)+3),1,2),{1E+99;7})*{1;-1})+5)/7),""),"") | E8: =IFERROR(IF(E9="lu","S"&INT((E6-SUM(MOD(DATE(YEAR(E6-MOD(E6-2,7)+3),1,2),{1E+99;7})*{1;-1})+5)/7),""),"") | F8: =IFERROR(IF(F9="lu","S"&INT((F6-SUM(MOD(DATE(YEAR(F6-MOD(F6-2,7)+3),1,2),{1E+99;7})*{1;-1})+5)/7),""),"") | G8: =IFERROR(IF(G9="lu","S"&INT((G6-SUM(MOD(DATE(YEAR(G6-MOD(G6-2,7)+3),1,2),{1E+99;7})*{1;-1})+5)/7),""),"") | H8: =IFERROR(IF(H9="lu","S"&INT((H6-SUM(MOD(DATE(YEAR(H6-MOD(H6-2,7)+3),1,2),{1E+99;7})*{1;-1})+5)/7),""),"") | I8: =IFERROR(IF(I9="lu","S"&INT((I6-SUM(MOD(DATE(YEAR(I6-MOD(I6-2,7)+3),1,2),{1E+99;7})*{1;-1})+5)/7),""),"") | J8: =IFERROR(IF(J9="lu","S"&INT((J6-SUM(MOD(DATE(YEAR(J6-MOD(J6-2,7)+3),1,2),{1E+99;7})*{1;-1})+5)/7),""),"") -> S2 | ... NB8: =IFERROR(IF(NB9="lu","S"&INT((NB6-SUM(MOD(DATE(YEAR(NB6-MOD(NB6-2,7)+3),1,2),{1E+99;7})*{1;-1})+5)/7),""),"")
B9: =IFERROR(CHOOSE(WEEKDAY(B6),"DI","LU","MA","ME","JE","VE","SA"),"") -> DI | C9: =IFERROR(CHOOSE(WEEKDAY(C6),"DI","LU","MA","ME","JE","VE","SA"),"") -> LU | D9: =IFERROR(CHOOSE(WEEKDAY(D6),"DI","LU","MA","ME","JE","VE","SA"),"") -> MA | E9: =IFERROR(CHOOSE(WEEKDAY(E6),"DI","LU","MA","ME","JE","VE","SA"),"") -> ME | F9: =IFERROR(CHOOSE(WEEKDAY(F6),"DI","LU","MA","ME","JE","VE","SA"),"") -> JE | G9: =IFERROR(CHOOSE(WEEKDAY(G6),"DI","LU","MA","ME","JE","VE","SA"),"") -> VE | H9: =IFERROR(CHOOSE(WEEKDAY(H6),"DI","LU","MA","ME","JE","VE","SA"),"") -> SA | I9: =IFERROR(CHOOSE(WEEKDAY(I6),"DI","LU","MA","ME","JE","VE","SA"),"") -> DI | ... NB9: =IFERROR(CHOOSE(WEEKDAY(NB6),"DI","LU","MA","ME","JE","VE","SA"),"") -> DI
A10: Prénom | B10: =DAY(B6) -> 1 | C10: =DAY(C6) -> 2 | D10: =DAY(D6) -> 3 | E10: =DAY(E6) -> 4 | F10: =DAY(F6) -> 5 | G10: =DAY(G6) -> 6 | H10: =DAY(H6) -> 7 | I10: =DAY(I6) -> 8 | ... NB10: =DAY(NB6) -> 31
