Workbook

Sheet Mois
D2: Planning Mars 2017
B4: Amelie | C4: Amandine | D4: Camille B | E4: Mireille | F4: Elsa | G4: Margot | H4: Marine | I4: Eva
A12: 42800 | B12: Bureau | C12: 09h00/17h00 | D12: 07h15/14h15 | E12: 11h30/18h30 | F12: 07h30/14h30 | G12: 11h30/18h30 | H12: CFA | I12: 10h00/17h00 | K12: Saisie des dates en colonne A >> 06/3/17
A13: 42801 | B13: 11h30/18h30 | C13: 0.8 | D13: 11h30/18h30 | E13: 07h30/14h30 | F13: 09h00/17h00 | G13: 07h15/14h15 | H13: CFA | I13: 10h00/17h00 | K13: Tous les horaires sont corrigés avec 2 chiffres avant et 2 chiffres après le h
A14: 42802 | B14: 11h30/18h30 | C14: 11H30/18H30 | D14: 10h00/17h00 | E14: 7h30/14h30 | F14: CL | G14: 07h15/14h15 | H14: CFA | I14: 09h00/17h00
A15: 42803 | B15: 07h15/14h15 | C15: 07h30/14h30 | D15: concours | E15: 11h30/18h30 | F15: 09h00/17h00 | G15: 11h30/18h30 | H15: CFA
A16: 42804 | B16: 0.8 | C16: 11h30/18h30 | D16: 07h15/14h15 | E16: 11h30/18h30 | F16: 07h30/14h30 | G16: concours | H16: CFA | I16: 09h00/17h00
A19: 42807 | B19: Bureau | C19: 10h/17h | D19: 7h15/14h15 | E19: 7h30/14h30 | F19: 09/17h | G19: 11h30/18h30 | H19: 11h30/18h30
A20: 42808 | B20: 0.8 | C20: 09h00/17h | D20: 11H30/18H30 | E20: 11H30/18H30 | F20: 7h30/14h30 | G20: 7h15/14h15 | H20: 10h/17h
A21: 42809 | B21: 7h15/14h15 | C21: 0.8 | D21: 11H30/18H30 | E21: 7h30/14h30 | F21: CL | G21: 11H30/18H30 | H21: 09h/17h | I21: 10H/17H
A22: 42810 | B22: 11h30/18h30 | C22: 09h00/17h | D22: 10h/17h | E22: Ménage | F22: 11H30/18H30 | G22: 7h15/14h15 | H22: 7h30/14h30
A23: 42811 | B23: 10h/17h | C23: Bilupo | D23: 7h15/14h15 | E23: 11H30/18H30 | F23: 7h30/14h30 | G23: 11H30/18H30 | H23: 09h/17h
A26: 42814 | B26: Bureau | C26: 09h/17h | D26: 11H30/18H30 | E26: 11H30/18H30 | F26: 7h30/14h30 | G26: 7h15/14h15 | H26: CFA | I26: 10h/17h
A27: 42815 | B27: 0.8 | C27: 09h00/17h | D27: 7h15/14h15 | E27: 7h30/14h30 | F27: 11H30/18H30 | G27: 11H30/18H30 | H27: CFA | I27: 9h/16h
A28: 42816 | B28: 7h30/14h30 | C28: 11H30/18H30 | D28: 11H30/18H30 | E28: 09h/17h | F28: CL | G28: 7h15/14h15 | H28: CFA | I28: 10h/17h
A29: 42817 | B29: 7h15/14h15 | C29: 09h/17h | D29: 10h/17h | E29: 11H30/18H30 | F29: 7h30/14h30 | G29: 11H30/18H30 | H29: CFA
A30: 42818 | B30: 11h30/18h30 | C30: 0.8 | D30: 7h15/14h15 | E30: 7h30/14h30 | F30: 11H30/18H30 | G30: 09h/17h | H30: CFA | I30: 10h/17h
A32: 42821 | B32: Bureau | C32: 09h00/17h | D32: 7h15/14h15 | E32: 7h30/14h30 | F32: 11H30/18H30 | G32: 11H30/18H30 | H32: 10h/17h
A33: 42822 | B33: 11H30/18H30 | C33: 0.8 | D33: 10H/17H | E33: 11H30/18H30 | F33: 7h30/14h30 | G33: 7h15/14h15 | H33: 09h/17h
A34: 42823 | B34: 7h15/14h15 | C34: CA | D34: 11H30/18H30 | E34: 11H30/18H30 | F34: CL | G34: 10H/17H | H34: 7h30/14h30 | I34: 09h/17h
A35: 42824 | B35: 0.8 | C35: CA | D35: 7h15/14h15 | E35: 10H/17H | F35: 7h30/14h30 | G35: 11H30/18H30 | H35: 11H30/18H30 | I35: 09H/17H
A36: 42825 | B36: CA | C36: CA | D36: 11H30/18H30 | E36: 7h30/14h30 | F36: 11H30/18H30 | G36: 7h15/14h15 | H36: 10H/17H | I36: 09H/17H
A39: Mardi 14 / réunion d'équipe
A40: Elsa, en gras adaptation Andréa
A41: Détachement prépa spectacle qui éviteront des heures sup pour réunion
A42: Jour en gras rouge, chercher les repas et les préparer
A43: Deux jours de détachement ménage car les heures de Sandrine ne suffisent pas à tout faire

Sheet Sem1
A1: PLANNING DU 06 AU 10 MARS 2017
B2: 0.29166667 | C2: =B2+(1/1440)*15 -> 0.30208333 | D2: =C2+(1/1440)*15 -> 0.3125 | E2: =D2+(1/1440)*15 -> 0.32291667 | F2: =E2+(1/1440)*15 -> 0.33333333 | G2: =F2+(1/1440)*15 -> 0.34375 | H2: =G2+(1/1440)*15 -> 0.35416667 | I2: =H2+(1/1440)*15 -> 0.36458333 | J2: =I2+(1/1440)*15 -> 0.375 | ... AV2: =AU2+(1/1440)*15 -> 0.77083333 | AW2: 0.78125 | AX2: =AW2+(1/1440)*15 -> 0.79166667
A3: 42800 | B3: =OR(AND(INDIRECT("Mois!B"&MATCH('Sem1'!$A$3,Mois!$A$1:$A$36,0))<>"",SUMPRODUCT(COUNTIF(INDIRECT("Mois!B"&MATCH('Sem1'!$A$3,Mois!$A$1:$A$36,0)),"*"&CHAR(47)&"*"))=0),IFERROR(AND(B$2>VALUE(SUBSTITUTE(LEFT(INDIRECT("Mois!B"&MATCH($A$3,Mois!$A$1:$A$36,0)),5),"h",":")),B$2<VALUE(SUBSTITUTE(RIGHT(INDIRECT("Mois!B"&MATCH($A$3,Mois!$A$1:$A$36,0)),5),"h",":"))+(1/1440*15)),"FAUX")) -> TRUE | C3: =OR(AND(INDIRECT("Mois!B"&MATCH('Sem1'!$A$3,Mois!$A$1:$A$36,0))<>"",SUMPRODUCT(COUNTIF(INDIRECT("Mois!B"&MATCH('Sem1'!$A$3,Mois!$A$1:$A$36,0)),"*"&CHAR(47)&"*"))=0),IFERROR(AND(C$2>VALUE(SUBSTITUTE(LEFT(INDIRECT("Mois!B"&MATCH($A$3,Mois!$A$1:$A$36,0)),5),"h",":")),C$2<VALUE(SUBSTITUTE(RIGHT(INDIRECT("Mois!B"&MATCH($A$3,Mois!$A$1:$A$36,0)),5),"h",":"))+(1/1440*15)),"FAUX")) -> TRUE | D3: =OR(AND(INDIRECT("Mois!B"&MATCH('Sem1'!$A$3,Mois!$A$1:$A$36,0))<>"",SUMPRODUCT(COUNTIF(INDIRECT("Mois!B"&MATCH('Sem1'!$A$3,Mois!$A$1:$A$36,0)),"*"&CHAR(47)&"*"))=0),IFERROR(AND(D$2>VALUE(SUBSTITUTE(LEFT(INDIRECT("Mois!B"&MATCH($A$3,Mois!$A$1:$A$36,0)),5),"h",":")),D$2<VALUE(SUBSTITUTE(RIGHT(INDIRECT("Mois!B"&MATCH($A$3,Mois!$A$1:$A$36,0)),5),"h",":"))+(1/1440*15)),"FAUX")) -> TRUE | E3: =OR(AND(INDIRECT("Mois!B"&MATCH('Sem1'!$A$3,Mois!$A$1:$A$36,0))<>"",SUMPRODUCT(COUNTIF(INDIRECT("Mois!B"&MATCH('Sem1'!$A$3,Mois!$A$1:$A$36,0)),"*"&CHAR(47)&"*"))=0),IFERROR(AND(E$2>VALUE(SUBSTITUTE(LEFT(INDIRECT("Mois!B"&MATCH($A$3,Mois!$A$1:$A$36,0)),5),"h",":")),E$2<VALUE(SUBSTITUTE(RIGHT(INDIRECT("Mois!B"&MATCH($A$3,Mois!$A$1:$A$36,0)),5),"h",":"))+(1/1440*15)),"FAUX")) -> TRUE | F3: =OR(AND(INDIRECT("Mois!B"&MATCH('Sem1'!$A$3,Mois!$A$1:$A$36,0))<>"",SUMPRODUCT(COUNTIF(INDIRECT("Mois!B"&MATCH('Sem1'!$A$3,Mois!$A$1:$A$36,0)),"*"&CHAR(47)&"*"))=0),IFERROR(AND(F$2>VALUE(SUBSTITUTE(LEFT(INDIRECT("Mois!B"&MATCH($A$3,Mois!$A$1:$A$36,0)),5),"h",":")),F$2<VALUE(SUBSTITUTE(RIGHT(INDIRECT("Mois!B"&MATCH($A$3,Mois!$A$1:$A$36,0)),5),"h",":"))+(1/1440*15)),"FAUX")) -> TRUE | G3: =OR(AND(INDIRECT("Mois!B"&MATCH('Sem1'!$A$3,Mois!$A$1:$A$36,0))<>"",SUMPRODUCT(COUNTIF(INDIRECT("Mois!B"&MATCH('Sem1'!$A$3,Mois!$A$1:$A$36,0)),"*"&CHAR(47)&"*"))=0),IFERROR(AND(G$2>VALUE(SUBSTITUTE(LEFT(INDIRECT("Mois!B"&MATCH($A$3,Mois!$A$1:$A$36,0)),5),"h",":")),G$2<VALUE(SUBSTITUTE(RIGHT(INDIRECT("Mois!B"&MATCH($A$3,Mois!$A$1:$A$36,0)),5),"h",":"))+(1/1440*15)),"FAUX")) -> TRUE | H3: =OR(AND(INDIRECT("Mois!B"&MATCH('Sem1'!$A$3,Mois!$A$1:$A$36,0))<>"",SUMPRODUCT(COUNTIF(INDIRECT("Mois!B"&MATCH('Sem1'!$A$3,Mois!$A$1:$A$36,0)),"*"&CHAR(47)&"*"))=0),IFERROR(AND(H$2>VALUE(SUBSTITUTE(LEFT(INDIRECT("Mois!B"&MATCH($A$3,Mois!$A$1:$A$36,0)),5),"h",":")),H$2<VALUE(SUBSTITUTE(RIGHT(INDIRECT("Mois!B"&MATCH($A$3,Mois!$A$1:$A$36,0)),5),"h",":"))+(1/1440*15)),"FAUX")) -> TRUE | I3: =OR(AND(INDIRECT("Mois!B"&MATCH('Sem1'!$A$3,Mois!$A$1:$A$36,0))<>"",SUMPRODUCT(COUNTIF(INDIRECT("Mois!B"&MATCH('Sem1'!$A$3,Mois!$A$1:$A$36,0)),"*"&CHAR(47)&"*"))=0),IFERROR(AND(I$2>VALUE(SUBSTITUTE(LEFT(INDIRECT("Mois!B"&MATCH($A$3,Mois!$A$1:$A$36,0)),5),"h",":")),I$2<VALUE(SUBSTITUTE(RIGHT(INDIRECT("Mois!B"&MATCH($A$3,Mois!$A$1:$A$36,0)),5),"h",":"))+(1/1440*15)),"FAUX")) -> TRUE | ... AX3: =OR(AND(INDIRECT("Mois!B"&MATCH('Sem1'!$A$3,Mois!$A$1:$A$36,0))<>"",SUMPRODUCT(COUNTIF(INDIRECT("Mois!B"&MATCH('Sem1'!$A$3,Mois!$A$1:$A$36,0)),"*"&CHAR(47)&"*"))=0),IFERROR(AND(AX$2>VALUE(SUBSTITUTE(LEFT(INDIRECT("Mois!B"&MATCH($A$3,Mois!$A$1:$A$36,0)),5),"h",":")),AX$2<VALUE(SUBSTITUTE(RIGHT(INDIRECT("Mois!B"&MATCH($A$3,Mois!$A$1:$A$36,0)),5),"h",":"))+(1/1440*15)),"FAUX")) -> TRUE
B4: =OR(AND(INDIRECT("Mois!C"&MATCH('Sem1'!$A$3,Mois!$A$1:$A$36,0))<>"",SUMPRODUCT(COUNTIF(INDIRECT("Mois!C"&MATCH('Sem1'!$A$3,Mois!$A$1:$A$36,0)),"*"&CHAR(47)&"*"))=0),IFERROR(AND(B$2>VALUE(SUBSTITUTE(LEFT(INDIRECT("Mois!C"&MATCH($A$3,Mois!$A$1:$A$36,0)),5),"h",":")),B$2<VALUE(SUBSTITUTE(RIGHT(INDIRECT("Mois!C"&MATCH($A$3,Mois!$A$1:$A$36,0)),5),"h",":"))+(1/1440*15)),"FAUX")) -> FALSE | C4: =OR(AND(INDIRECT("Mois!C"&MATCH('Sem1'!$A$3,Mois!$A$1:$A$36,0))<>"",SUMPRODUCT(COUNTIF(INDIRECT("Mois!C"&MATCH('Sem1'!$A$3,Mois!$A$1:$A$36,0)),"*"&CHAR(47)&"*"))=0),IFERROR(AND(C$2>VALUE(SUBSTITUTE(LEFT(INDIRECT("Mois!C"&MATCH($A$3,Mois!$A$1:$A$36,0)),5),"h",":")),C$2<VALUE(SUBSTITUTE(RIGHT(INDIRECT("Mois!C"&MATCH($A$3,Mois!$A$1:$A$36,0)),5),"h",":"))+(1/1440*15)),"FAUX")) -> FALSE | D4: =OR(AND(INDIRECT("Mois!C"&MATCH('Sem1'!$A$3,Mois!$A$1:$A$36,0))<>"",SUMPRODUCT(COUNTIF(INDIRECT("Mois!C"&MATCH('Sem1'!$A$3,Mois!$A$1:$A$36,0)),"*"&CHAR(47)&"*"))=0),IFERROR(AND(D$2>VALUE(SUBSTITUTE(LEFT(INDIRECT("Mois!C"&MATCH($A$3,Mois!$A$1:$A$36,0)),5),"h",":")),D$2<VALUE(SUBSTITUTE(RIGHT(INDIRECT("Mois!C"&MATCH($A$3,Mois!$A$1:$A$36,0)),5),"h",":"))+(1/1440*15)),"FAUX")) -> FALSE | E4: =OR(AND(INDIRECT("Mois!C"&MATCH('Sem1'!$A$3,Mois!$A$1:$A$36,0))<>"",SUMPRODUCT(COUNTIF(INDIRECT("Mois!C"&MATCH('Sem1'!$A$3,Mois!$A$1:$A$36,0)),"*"&CHAR(47)&"*"))=0),IFERROR(AND(E$2>VALUE(SUBSTITUTE(LEFT(INDIRECT("Mois!C"&MATCH($A$3,Mois!$A$1:$A$36,0)),5),"h",":")),E$2<VALUE(SUBSTITUTE(RIGHT(INDIRECT("Mois!C"&MATCH($A$3,Mois!$A$1:$A$36,0)),5),"h",":"))+(1/1440*15)),"FAUX")) -> FALSE | F4: =OR(AND(INDIRECT("Mois!C"&MATCH('Sem1'!$A$3,Mois!$A$1:$A$36,0))<>"",SUMPRODUCT(COUNTIF(INDIRECT("Mois!C"&MATCH('Sem1'!$A$3,Mois!$A$1:$A$36,0)),"*"&CHAR(47)&"*"))=0),IFERROR(AND(F$2>VALUE(SUBSTITUTE(LEFT(INDIRECT("Mois!C"&MATCH($A$3,Mois!$A$1:$A$36,0)),5),"h",":")),F$2<VALUE(SUBSTITUTE(RIGHT(INDIRECT("Mois!C"&MATCH($A$3,Mois!$A$1:$A$36,0)),5),"h",":"))+(1/1440*15)),"FAUX")) -> FALSE | G4: =OR(AND(INDIRECT("Mois!C"&MATCH('Sem1'!$A$3,Mois!$A$1:$A$36,0))<>"",SUMPRODUCT(COUNTIF(INDIRECT("Mois!C"&MATCH('Sem1'!$A$3,Mois!$A$1:$A$36,0)),"*"&CHAR(47)&"*"))=0),IFERROR(AND(G$2>VALUE(SUBSTITUTE(LEFT(INDIRECT("Mois!C"&MATCH($A$3,Mois!$A$1:$A$36,0)),5),"h",":")),G$2<VALUE(SUBSTITUTE(RIGHT(INDIRECT("Mois!C"&MATCH($A$3,Mois!$A$1:$A$36,0)),5),"h",":"))+(1/1440*15)),"FAUX")) -> FALSE | H4: =OR(AND(INDIRECT("Mois!C"&MATCH('Sem1'!$A$3,Mois!$A$1:$A$36,0))<>"",SUMPRODUCT(COUNTIF(INDIRECT("Mois!C"&MATCH('Sem1'!$A$3,Mois!$A$1:$A$36,0)),"*"&CHAR(47)&"*"))=0),IFERROR(AND(H$2>VALUE(SUBSTITUTE(LEFT(INDIRECT("Mois!C"&MATCH($A$3,Mois!$A$1:$A$36,0)),5),"h",":")),H$2<VALUE(SUBSTITUTE(RIGHT(INDIRECT("Mois!C"&MATCH($A$3,Mois!$A$1:$A$36,0)),5),"h",":"))+(1/1440*15)),"FAUX")) -> FALSE | I4: =OR(AND(INDIRECT("Mois!C"&MATCH('Sem1'!$A$3,Mois!$A$1:$A$36,0))<>"",SUMPRODUCT(COUNTIF(INDIRECT("Mois!C"&MATCH('Sem1'!$A$3,Mois!$A$1:$A$36,0)),"*"&CHAR(47)&"*"))=0),IFERROR(AND(I$2>VALUE(SUBSTITUTE(LEFT(INDIRECT("Mois!C"&MATCH($A$3,Mois!$A$1:$A$36,0)),5),"h",":")),I$2<VALUE(SUBSTITUTE(RIGHT(INDIRECT("Mois!C"&MATCH($A$3,Mois!$A$1:$A$36,0)),5),"h",":"))+(1/1440*15)),"FAUX")) -> FALSE | ... AX4: =OR(AND(INDIRECT("Mois!C"&MATCH('Sem1'!$A$3,Mois!$A$1:$A$36,0))<>"",SUMPRODUCT(COUNTIF(INDIRECT("Mois!C"&MATCH('Sem1'!$A$3,Mois!$A$1:$A$36,0)),"*"&CHAR(47)&"*"))=0),IFERROR(AND(AX$2>VALUE(SUBSTITUTE(LEFT(INDIRECT("Mois!C"&MATCH($A$3,Mois!$A$1:$A$36,0)),5),"h",":")),AX$2<VALUE(SUBSTITUTE(RIGHT(INDIRECT("Mois!C"&MATCH($A$3,Mois!$A$1:$A$36,0)),5),"h",":"))+(1/1440*15)),"FAUX")) -> FALSE
B5: =OR(AND(INDIRECT("Mois!D"&MATCH('Sem1'!$A$3,Mois!$A$1:$A$36,0))<>"",SUMPRODUCT(COUNTIF(INDIRECT("Mois!D"&MATCH('Sem1'!$A$3,Mois!$A$1:$A$36,0)),"*"&CHAR(47)&"*"))=0),IFERROR(AND(B$2>VALUE(SUBSTITUTE(LEFT(INDIRECT("Mois!D"&MATCH($A$3,Mois!$A$1:$A$36,0)),5),"h",":")),B$2<VALUE(SUBSTITUTE(RIGHT(INDIRECT("Mois!D"&MATCH($A$3,Mois!$A$1:$A$36,0)),5),"h",":"))+(1/1440*15)),"FAUX")) -> FALSE | C5: =OR(AND(INDIRECT("Mois!D"&MATCH('Sem1'!$A$3,Mois!$A$1:$A$36,0))<>"",SUMPRODUCT(COUNTIF(INDIRECT("Mois!D"&MATCH('Sem1'!$A$3,Mois!$A$1:$A$36,0)),"*"&CHAR(47)&"*"))=0),IFERROR(AND(C$2>VALUE(SUBSTITUTE(LEFT(INDIRECT("Mois!D"&MATCH($A$3,Mois!$A$1:$A$36,0)),5),"h",":")),C$2<VALUE(SUBSTITUTE(RIGHT(INDIRECT("Mois!D"&MATCH($A$3,Mois!$A$1:$A$36,0)),5),"h",":"))+(1/1440*15)),"FAUX")) -> FALSE | D5: =OR(AND(INDIRECT("Mois!D"&MATCH('Sem1'!$A$3,Mois!$A$1:$A$36,0))<>"",SUMPRODUCT(COUNTIF(INDIRECT("Mois!D"&MATCH('Sem1'!$A$3,Mois!$A$1:$A$36,0)),"*"&CHAR(47)&"*"))=0),IFERROR(AND(D$2>VALUE(SUBSTITUTE(LEFT(INDIRECT("Mois!D"&MATCH($A$3,Mois!$A$1:$A$36,0)),5),"h",":")),D$2<VALUE(SUBSTITUTE(RIGHT(INDIRECT("Mois!D"&MATCH($A$3,Mois!$A$1:$A$36,0)),5),"h",":"))+(1/1440*15)),"FAUX")) -> TRUE | E5: =OR(AND(INDIRECT("Mois!D"&MATCH('Sem1'!$A$3,Mois!$A$1:$A$36,0))<>"",SUMPRODUCT(COUNTIF(INDIRECT("Mois!D"&MATCH('Sem1'!$A$3,Mois!$A$1:$A$36,0)),"*"&CHAR(47)&"*"))=0),IFERROR(AND(E$2>VALUE(SUBSTITUTE(LEFT(INDIRECT("Mois!D"&MATCH($A$3,Mois!$A$1:$A$36,0)),5),"h",":")),E$2<VALUE(SUBSTITUTE(RIGHT(INDIRECT("Mois!D"&MATCH($A$3,Mois!$A$1:$A$36,0)),5),"h",":"))+(1/1440*15)),"FAUX")) -> TRUE | F5: =OR(AND(INDIRECT("Mois!D"&MATCH('Sem1'!$A$3,Mois!$A$1:$A$36,0))<>"",SUMPRODUCT(COUNTIF(INDIRECT("Mois!D"&MATCH('Sem1'!$A$3,Mois!$A$1:$A$36,0)),"*"&CHAR(47)&"*"))=0),IFERROR(AND(F$2>VALUE(SUBSTITUTE(LEFT(INDIRECT("Mois!D"&MATCH($A$3,Mois!$A$1:$A$36,0)),5),"h",":")),F$2<VALUE(SUBSTITUTE(RIGHT(INDIRECT("Mois!D"&MATCH($A$3,Mois!$A$1:$A$36,0)),5),"h",":"))+(1/1440*15)),"FAUX")) -> TRUE | G5: =OR(AND(INDIRECT("Mois!D"&MATCH('Sem1'!$A$3,Mois!$A$1:$A$36,0))<>"",SUMPRODUCT(COUNTIF(INDIRECT("Mois!D"&MATCH('Sem1'!$A$3,Mois!$A$1:$A$36,0)),"*"&CHAR(47)&"*"))=0),IFERROR(AND(G$2>VALUE(SUBSTITUTE(LEFT(INDIRECT("Mois!D"&MATCH($A$3,Mois!$A$1:$A$36,0)),5),"h",":")),G$2<VALUE(SUBSTITUTE(RIGHT(INDIRECT("Mois!D"&MATCH($A$3,Mois!$A$1:$A$36,0)),5),"h",":"))+(1/1440*15)),"FAUX")) -> TRUE | H5: =OR(AND(INDIRECT("Mois!D"&MATCH('Sem1'!$A$3,Mois!$A$1:$A$36,0))<>"",SUMPRODUCT(COUNTIF(INDIRECT("Mois!D"&MATCH('Sem1'!$A$3,Mois!$A$1:$A$36,0)),"*"&CHAR(47)&"*"))=0),IFERROR(AND(H$2>VALUE(SUBSTITUTE(LEFT(INDIRECT("Mois!D"&MATCH($A$3,Mois!$A$1:$A$36,0)),5),"h",":")),H$2<VALUE(SUBSTITUTE(RIGHT(INDIRECT("Mois!D"&MATCH($A$3,Mois!$A$1:$A$36,0)),5),"h",":"))+(1/1440*15)),"FAUX")) -> TRUE | I5: =OR(AND(INDIRECT("Mois!D"&MATCH('Sem1'!$A$3,Mois!$A$1:$A$36,0))<>"",SUMPRODUCT(COUNTIF(INDIRECT("Mois!D"&MATCH('Sem1'!$A$3,Mois!$A$1:$A$36,0)),"*"&CHAR(47)&"*"))=0),IFERROR(AND(I$2>VALUE(SUBSTITUTE(LEFT(INDIRECT("Mois!D"&MATCH($A$3,Mois!$A$1:$A$36,0)),5),"h",":")),I$2<VALUE(SUBSTITUTE(RIGHT(INDIRECT("Mois!D"&MATCH($A$3,Mois!$A$1:$A$36,0)),5),"h",":"))+(1/1440*15)),"FAUX")) -> TRUE | ... AX5: =OR(AND(INDIRECT("Mois!D"&MATCH('Sem1'!$A$3,Mois!$A$1:$A$36,0))<>"",SUMPRODUCT(COUNTIF(INDIRECT("Mois!D"&MATCH('Sem1'!$A$3,Mois!$A$1:$A$36,0)),"*"&CHAR(47)&"*"))=0),IFERROR(AND(AX$2>VALUE(SUBSTITUTE(LEFT(INDIRECT("Mois!D"&MATCH($A$3,Mois!$A$1:$A$36,0)),5),"h",":")),AX$2<VALUE(SUBSTITUTE(RIGHT(INDIRECT("Mois!D"&MATCH($A$3,Mois!$A$1:$A$36,0)),5),"h",":"))+(1/1440*15)),"FAUX")) -> FALSE
B6: =OR(AND(INDIRECT("Mois!E"&MATCH('Sem1'!$A$3,Mois!$A$1:$A$36,0))<>"",SUMPRODUCT(COUNTIF(INDIRECT("Mois!E"&MATCH('Sem1'!$A$3,Mois!$A$1:$A$36,0)),"*"&CHAR(47)&"*"))=0),IFERROR(AND(B$2>VALUE(SUBSTITUTE(LEFT(INDIRECT("Mois!E"&MATCH($A$3,Mois!$A$1:$A$36,0)),5),"h",":")),B$2<VALUE(SUBSTITUTE(RIGHT(INDIRECT("Mois!E"&MATCH($A$3,Mois!$A$1:$A$36,0)),5),"h",":"))+(1/1440*15)),"FAUX")) -> FALSE | C6: =OR(AND(INDIRECT("Mois!E"&MATCH('Sem1'!$A$3,Mois!$A$1:$A$36,0))<>"",SUMPRODUCT(COUNTIF(INDIRECT("Mois!E"&MATCH('Sem1'!$A$3,Mois!$A$1:$A$36,0)),"*"&CHAR(47)&"*"))=0),IFERROR(AND(C$2>VALUE(SUBSTITUTE(LEFT(INDIRECT("Mois!E"&MATCH($A$3,Mois!$A$1:$A$36,0)),5),"h",":")),C$2<VALUE(SUBSTITUTE(RIGHT(INDIRECT("Mois!E"&MATCH($A$3,Mois!$A$1:$A$36,0)),5),"h",":"))+(1/1440*15)),"FAUX")) -> FALSE | D6: =OR(AND(INDIRECT("Mois!E"&MATCH('Sem1'!$A$3,Mois!$A$1:$A$36,0))<>"",SUMPRODUCT(COUNTIF(INDIRECT("Mois!E"&MATCH('Sem1'!$A$3,Mois!$A$1:$A$36,0)),"*"&CHAR(47)&"*"))=0),IFERROR(AND(D$2>VALUE(SUBSTITUTE(LEFT(INDIRECT("Mois!E"&MATCH($A$3,Mois!$A$1:$A$36,0)),5),"h",":")),D$2<VALUE(SUBSTITUTE(RIGHT(INDIRECT("Mois!E"&MATCH($A$3,Mois!$A$1:$A$36,0)),5),"h",":"))+(1/1440*15)),"FAUX")) -> FALSE | E6: =OR(AND(INDIRECT("Mois!E"&MATCH('Sem1'!$A$3,Mois!$A$1:$A$36,0))<>"",SUMPRODUCT(COUNTIF(INDIRECT("Mois!E"&MATCH('Sem1'!$A$3,Mois!$A$1:$A$36,0)),"*"&CHAR(47)&"*"))=0),IFERROR(AND(E$2>VALUE(SUBSTITUTE(LEFT(INDIRECT("Mois!E"&MATCH($A$3,Mois!$A$1:$A$36,0)),5),"h",":")),E$2<VALUE(SUBSTITUTE(RIGHT(INDIRECT("Mois!E"&MATCH($A$3,Mois!$A$1:$A$36,0)),5),"h",":"))+(1/1440*15)),"FAUX")) -> FALSE | F6: =OR(AND(INDIRECT("Mois!E"&MATCH('Sem1'!$A$3,Mois!$A$1:$A$36,0))<>"",SUMPRODUCT(COUNTIF(INDIRECT("Mois!E"&MATCH('Sem1'!$A$3,Mois!$A$1:$A$36,0)),"*"&CHAR(47)&"*"))=0),IFERROR(AND(F$2>VALUE(SUBSTITUTE(LEFT(INDIRECT("Mois!E"&MATCH($A$3,Mois!$A$1:$A$36,0)),5),"h",":")),F$2<VALUE(SUBSTITUTE(RIGHT(INDIRECT("Mois!E"&MATCH($A$3,Mois!$A$1:$A$36,0)),5),"h",":"))+(1/1440*15)),"FAUX")) -> FALSE | G6: =OR(AND(INDIRECT("Mois!E"&MATCH('Sem1'!$A$3,Mois!$A$1:$A$36,0))<>"",SUMPRODUCT(COUNTIF(INDIRECT("Mois!E"&MATCH('Sem1'!$A$3,Mois!$A$1:$A$36,0)),"*"&CHAR(47)&"*"))=0),IFERROR(AND(G$2>VALUE(SUBSTITUTE(LEFT(INDIRECT("Mois!E"&MATCH($A$3,Mois!$A$1:$A$36,0)),5),"h",":")),G$2<VALUE(SUBSTITUTE(RIGHT(INDIRECT("Mois!E"&MATCH($A$3,Mois!$A$1:$A$36,0)),5),"h",":"))+(1/1440*15)),"FAUX")) -> FALSE | H6: =OR(AND(INDIRECT("Mois!E"&MATCH('Sem1'!$A$3,Mois!$A$1:$A$36,0))<>"",SUMPRODUCT(COUNTIF(INDIRECT("Mois!E"&MATCH('Sem1'!$A$3,Mois!$A$1:$A$36,0)),"*"&CHAR(47)&"*"))=0),IFERROR(AND(H$2>VALUE(SUBSTITUTE(LEFT(INDIRECT("Mois!E"&MATCH($A$3,Mois!$A$1:$A$36,0)),5),"h",":")),H$2<VALUE(SUBSTITUTE(RIGHT(INDIRECT("Mois!E"&MATCH($A$3,Mois!$A$1:$A$36,0)),5),"h",":"))+(1/1440*15)),"FAUX")) -> FALSE | I6: =OR(AND(INDIRECT("Mois!E"&MATCH('Sem1'!$A$3,Mois!$A$1:$A$36,0))<>"",SUMPRODUCT(COUNTIF(INDIRECT("Mois!E"&MATCH('Sem1'!$A$3,Mois!$A$1:$A$36,0)),"*"&CHAR(47)&"*"))=0),IFERROR(AND(I$2>VALUE(SUBSTITUTE(LEFT(INDIRECT("Mois!E"&MATCH($A$3,Mois!$A$1:$A$36,0)),5),"h",":")),I$2<VALUE(SUBSTITUTE(RIGHT(INDIRECT("Mois!E"&MATCH($A$3,Mois!$A$1:$A$36,0)),5),"h",":"))+(1/1440*15)),"FAUX")) -> FALSE | ... AX6: =OR(AND(INDIRECT("Mois!E"&MATCH('Sem1'!$A$3,Mois!$A$1:$A$36,0))<>"",SUMPRODUCT(COUNTIF(INDIRECT("Mois!E"&MATCH('Sem1'!$A$3,Mois!$A$1:$A$36,0)),"*"&CHAR(47)&"*"))=0),IFERROR(AND(AX$2>VALUE(SUBSTITUTE(LEFT(INDIRECT("Mois!E"&MATCH($A$3,Mois!$A$1:$A$36,0)),5),"h",":")),AX$2<VALUE(SUBSTITUTE(RIGHT(INDIRECT("Mois!E"&MATCH($A$3,Mois!$A$1:$A$36,0)),5),"h",":"))+(1/1440*15)),"FAUX")) -> FALSE
B7: =OR(AND(INDIRECT("Mois!F"&MATCH('Sem1'!$A$3,Mois!$A$1:$A$36,0))<>"",SUMPRODUCT(COUNTIF(INDIRECT("Mois!F"&MATCH('Sem1'!$A$3,Mois!$A$1:$A$36,0)),"*"&CHAR(47)&"*"))=0),IFERROR(AND(B$2>VALUE(SUBSTITUTE(LEFT(INDIRECT("Mois!F"&MATCH($A$3,Mois!$A$1:$A$36,0)),5),"h",":")),B$2<VALUE(SUBSTITUTE(RIGHT(INDIRECT("Mois!F"&MATCH($A$3,Mois!$A$1:$A$36,0)),5),"h",":"))+(1/1440*15)),"FAUX")) -> FALSE | C7: =OR(AND(INDIRECT("Mois!F"&MATCH('Sem1'!$A$3,Mois!$A$1:$A$36,0))<>"",SUMPRODUCT(COUNTIF(INDIRECT("Mois!F"&MATCH('Sem1'!$A$3,Mois!$A$1:$A$36,0)),"*"&CHAR(47)&"*"))=0),IFERROR(AND(C$2>VALUE(SUBSTITUTE(LEFT(INDIRECT("Mois!F"&MATCH($A$3,Mois!$A$1:$A$36,0)),5),"h",":")),C$2<VALUE(SUBSTITUTE(RIGHT(INDIRECT("Mois!F"&MATCH($A$3,Mois!$A$1:$A$36,0)),5),"h",":"))+(1/1440*15)),"FAUX")) -> FALSE | D7: =OR(AND(INDIRECT("Mois!F"&MATCH('Sem1'!$A$3,Mois!$A$1:$A$36,0))<>"",SUMPRODUCT(COUNTIF(INDIRECT("Mois!F"&MATCH('Sem1'!$A$3,Mois!$A$1:$A$36,0)),"*"&CHAR(47)&"*"))=0),IFERROR(AND(D$2>VALUE(SUBSTITUTE(LEFT(INDIRECT("Mois!F"&MATCH($A$3,Mois!$A$1:$A$36,0)),5),"h",":")),D$2<VALUE(SUBSTITUTE(RIGHT(INDIRECT("Mois!F"&MATCH($A$3,Mois!$A$1:$A$36,0)),5),"h",":"))+(1/1440*15)),"FAUX")) -> FALSE | E7: =OR(AND(INDIRECT("Mois!F"&MATCH('Sem1'!$A$3,Mois!$A$1:$A$36,0))<>"",SUMPRODUCT(COUNTIF(INDIRECT("Mois!F"&MATCH('Sem1'!$A$3,Mois!$A$1:$A$36,0)),"*"&CHAR(47)&"*"))=0),IFERROR(AND(E$2>VALUE(SUBSTITUTE(LEFT(INDIRECT("Mois!F"&MATCH($A$3,Mois!$A$1:$A$36,0)),5),"h",":")),E$2<VALUE(SUBSTITUTE(RIGHT(INDIRECT("Mois!F"&MATCH($A$3,Mois!$A$1:$A$36,0)),5),"h",":"))+(1/1440*15)),"FAUX")) -> TRUE | F7: =OR(AND(INDIRECT("Mois!F"&MATCH('Sem1'!$A$3,Mois!$A$1:$A$36,0))<>"",SUMPRODUCT(COUNTIF(INDIRECT("Mois!F"&MATCH('Sem1'!$A$3,Mois!$A$1:$A$36,0)),"*"&CHAR(47)&"*"))=0),IFERROR(AND(F$2>VALUE(SUBSTITUTE(LEFT(INDIRECT("Mois!F"&MATCH($A$3,Mois!$A$1:$A$36,0)),5),"h",":")),F$2<VALUE(SUBSTITUTE(RIGHT(INDIRECT("Mois!F"&MATCH($A$3,Mois!$A$1:$A$36,0)),5),"h",":"))+(1/1440*15)),"FAUX")) -> TRUE | G7: =OR(AND(INDIRECT("Mois!F"&MATCH('Sem1'!$A$3,Mois!$A$1:$A$36,0))<>"",SUMPRODUCT(COUNTIF(INDIRECT("Mois!F"&MATCH('Sem1'!$A$3,Mois!$A$1:$A$36,0)),"*"&CHAR(47)&"*"))=0),IFERROR(AND(G$2>VALUE(SUBSTITUTE(LEFT(INDIRECT("Mois!F"&MATCH($A$3,Mois!$A$1:$A$36,0)),5),"h",":")),G$2<VALUE(SUBSTITUTE(RIGHT(INDIRECT("Mois!F"&MATCH($A$3,Mois!$A$1:$A$36,0)),5),"h",":"))+(1/1440*15)),"FAUX")) -> TRUE | H7: =OR(AND(INDIRECT("Mois!F"&MATCH('Sem1'!$A$3,Mois!$A$1:$A$36,0))<>"",SUMPRODUCT(COUNTIF(INDIRECT("Mois!F"&MATCH('Sem1'!$A$3,Mois!$A$1:$A$36,0)),"*"&CHAR(47)&"*"))=0),IFERROR(AND(H$2>VALUE(SUBSTITUTE(LEFT(INDIRECT("Mois!F"&MATCH($A$3,Mois!$A$1:$A$36,0)),5),"h",":")),H$2<VALUE(SUBSTITUTE(RIGHT(INDIRECT("Mois!F"&MATCH($A$3,Mois!$A$1:$A$36,0)),5),"h",":"))+(1/1440*15)),"FAUX")) -> TRUE | I7: =OR(AND(INDIRECT("Mois!F"&MATCH('Sem1'!$A$3,Mois!$A$1:$A$36,0))<>"",SUMPRODUCT(COUNTIF(INDIRECT("Mois!F"&MATCH('Sem1'!$A$3,Mois!$A$1:$A$36,0)),"*"&CHAR(47)&"*"))=0),IFERROR(AND(I$2>VALUE(SUBSTITUTE(LEFT(INDIRECT("Mois!F"&MATCH($A$3,Mois!$A$1:$A$36,0)),5),"h",":")),I$2<VALUE(SUBSTITUTE(RIGHT(INDIRECT("Mois!F"&MATCH($A$3,Mois!$A$1:$A$36,0)),5),"h",":"))+(1/1440*15)),"FAUX")) -> TRUE | ... AX7: =OR(AND(INDIRECT("Mois!F"&MATCH('Sem1'!$A$3,Mois!$A$1:$A$36,0))<>"",SUMPRODUCT(COUNTIF(INDIRECT("Mois!F"&MATCH('Sem1'!$A$3,Mois!$A$1:$A$36,0)),"*"&CHAR(47)&"*"))=0),IFERROR(AND(AX$2>VALUE(SUBSTITUTE(LEFT(INDIRECT("Mois!F"&MATCH($A$3,Mois!$A$1:$A$36,0)),5),"h",":")),AX$2<VALUE(SUBSTITUTE(RIGHT(INDIRECT("Mois!F"&MATCH($A$3,Mois!$A$1:$A$36,0)),5),"h",":"))+(1/1440*15)),"FAUX")) -> FALSE
B8: =OR(AND(INDIRECT("Mois!G"&MATCH('Sem1'!$A$3,Mois!$A$1:$A$36,0))<>"",SUMPRODUCT(COUNTIF(INDIRECT("Mois!G"&MATCH('Sem1'!$A$3,Mois!$A$1:$A$36,0)),"*"&CHAR(47)&"*"))=0),IFERROR(AND(B$2>VALUE(SUBSTITUTE(LEFT(INDIRECT("Mois!G"&MATCH($A$3,Mois!$A$1:$A$36,0)),5),"h",":")),B$2<VALUE(SUBSTITUTE(RIGHT(INDIRECT("Mois!G"&MATCH($A$3,Mois!$A$1:$A$36,0)),5),"h",":"))+(1/1440*15)),"FAUX")) -> FALSE | C8: =OR(AND(INDIRECT("Mois!G"&MATCH('Sem1'!$A$3,Mois!$A$1:$A$36,0))<>"",SUMPRODUCT(COUNTIF(INDIRECT("Mois!G"&MATCH('Sem1'!$A$3,Mois!$A$1:$A$36,0)),"*"&CHAR(47)&"*"))=0),IFERROR(AND(C$2>VALUE(SUBSTITUTE(LEFT(INDIRECT("Mois!G"&MATCH($A$3,Mois!$A$1:$A$36,0)),5),"h",":")),C$2<VALUE(SUBSTITUTE(RIGHT(INDIRECT("Mois!G"&MATCH($A$3,Mois!$A$1:$A$36,0)),5),"h",":"))+(1/1440*15)),"FAUX")) -> FALSE | D8: =OR(AND(INDIRECT("Mois!G"&MATCH('Sem1'!$A$3,Mois!$A$1:$A$36,0))<>"",SUMPRODUCT(COUNTIF(INDIRECT("Mois!G"&MATCH('Sem1'!$A$3,Mois!$A$1:$A$36,0)),"*"&CHAR(47)&"*"))=0),IFERROR(AND(D$2>VALUE(SUBSTITUTE(LEFT(INDIRECT("Mois!G"&MATCH($A$3,Mois!$A$1:$A$36,0)),5),"h",":")),D$2<VALUE(SUBSTITUTE(RIGHT(INDIRECT("Mois!G"&MATCH($A$3,Mois!$A$1:$A$36,0)),5),"h",":"))+(1/1440*15)),"FAUX")) -> FALSE | E8: =OR(AND(INDIRECT("Mois!G"&MATCH('Sem1'!$A$3,Mois!$A$1:$A$36,0))<>"",SUMPRODUCT(COUNTIF(INDIRECT("Mois!G"&MATCH('Sem1'!$A$3,Mois!$A$1:$A$36,0)),"*"&CHAR(47)&"*"))=0),IFERROR(AND(E$2>VALUE(SUBSTITUTE(LEFT(INDIRECT("Mois!G"&MATCH($A$3,Mois!$A$1:$A$36,0)),5),"h",":")),E$2<VALUE(SUBSTITUTE(RIGHT(INDIRECT("Mois!G"&MATCH($A$3,Mois!$A$1:$A$36,0)),5),"h",":"))+(1/1440*15)),"FAUX")) -> FALSE | F8: =OR(AND(INDIRECT("Mois!G"&MATCH('Sem1'!$A$3,Mois!$A$1:$A$36,0))<>"",SUMPRODUCT(COUNTIF(INDIRECT("Mois!G"&MATCH('Sem1'!$A$3,Mois!$A$1:$A$36,0)),"*"&CHAR(47)&"*"))=0),IFERROR(AND(F$2>VALUE(SUBSTITUTE(LEFT(INDIRECT("Mois!G"&MATCH($A$3,Mois!$A$1:$A$36,0)),5),"h",":")),F$2<VALUE(SUBSTITUTE(RIGHT(INDIRECT("Mois!G"&MATCH($A$3,Mois!$A$1:$A$36,0)),5),"h",":"))+(1/1440*15)),"FAUX")) -> FALSE | G8: =OR(AND(INDIRECT("Mois!G"&MATCH('Sem1'!$A$3,Mois!$A$1:$A$36,0))<>"",SUMPRODUCT(COUNTIF(INDIRECT("Mois!G"&MATCH('Sem1'!$A$3,Mois!$A$1:$A$36,0)),"*"&CHAR(47)&"*"))=0),IFERROR(AND(G$2>VALUE(SUBSTITUTE(LEFT(INDIRECT("Mois!G"&MATCH($A$3,Mois!$A$1:$A$36,0)),5),"h",":")),G$2<VALUE(SUBSTITUTE(RIGHT(INDIRECT("Mois!G"&MATCH($A$3,Mois!$A$1:$A$36,0)),5),"h",":"))+(1/1440*15)),"FAUX")) -> FALSE | H8: =OR(AND(INDIRECT("Mois!G"&MATCH('Sem1'!$A$3,Mois!$A$1:$A$36,0))<>"",SUMPRODUCT(COUNTIF(INDIRECT("Mois!G"&MATCH('Sem1'!$A$3,Mois!$A$1:$A$36,0)),"*"&CHAR(47)&"*"))=0),IFERROR(AND(H$2>VALUE(SUBSTITUTE(LEFT(INDIRECT("Mois!G"&MATCH($A$3,Mois!$A$1:$A$36,0)),5),"h",":")),H$2<VALUE(SUBSTITUTE(RIGHT(INDIRECT("Mois!G"&MATCH($A$3,Mois!$A$1:$A$36,0)),5),"h",":"))+(1/1440*15)),"FAUX")) -> FALSE | I8: =OR(AND(INDIRECT("Mois!G"&MATCH('Sem1'!$A$3,Mois!$A$1:$A$36,0))<>"",SUMPRODUCT(COUNTIF(INDIRECT("Mois!G"&MATCH('Sem1'!$A$3,Mois!$A$1:$A$36,0)),"*"&CHAR(47)&"*"))=0),IFERROR(AND(I$2>VALUE(SUBSTITUTE(LEFT(INDIRECT("Mois!G"&MATCH($A$3,Mois!$A$1:$A$36,0)),5),"h",":")),I$2<VALUE(SUBSTITUTE(RIGHT(INDIRECT("Mois!G"&MATCH($A$3,Mois!$A$1:$A$36,0)),5),"h",":"))+(1/1440*15)),"FAUX")) -> FALSE | ... AX8: =OR(AND(INDIRECT("Mois!G"&MATCH('Sem1'!$A$3,Mois!$A$1:$A$36,0))<>"",SUMPRODUCT(COUNTIF(INDIRECT("Mois!G"&MATCH('Sem1'!$A$3,Mois!$A$1:$A$36,0)),"*"&CHAR(47)&"*"))=0),IFERROR(AND(AX$2>VALUE(SUBSTITUTE(LEFT(INDIRECT("Mois!G"&MATCH($A$3,Mois!$A$1:$A$36,0)),5),"h",":")),AX$2<VALUE(SUBSTITUTE(RIGHT(INDIRECT("Mois!G"&MATCH($A$3,Mois!$A$1:$A$36,0)),5),"h",":"))+(1/1440*15)),"FAUX")) -> FALSE
B9: =OR(AND(INDIRECT("Mois!H"&MATCH('Sem1'!$A$3,Mois!$A$1:$A$36,0))<>"",SUMPRODUCT(COUNTIF(INDIRECT("Mois!H"&MATCH('Sem1'!$A$3,Mois!$A$1:$A$36,0)),"*"&CHAR(47)&"*"))=0),IFERROR(AND(B$2>VALUE(SUBSTITUTE(LEFT(INDIRECT("Mois!H"&MATCH($A$3,Mois!$A$1:$A$36,0)),5),"h",":")),B$2<VALUE(SUBSTITUTE(RIGHT(INDIRECT("Mois!H"&MATCH($A$3,Mois!$A$1:$A$36,0)),5),"h",":"))+(1/1440*15)),"FAUX")) -> TRUE | C9: =OR(AND(INDIRECT("Mois!H"&MATCH('Sem1'!$A$3,Mois!$A$1:$A$36,0))<>"",SUMPRODUCT(COUNTIF(INDIRECT("Mois!H"&MATCH('Sem1'!$A$3,Mois!$A$1:$A$36,0)),"*"&CHAR(47)&"*"))=0),IFERROR(AND(C$2>VALUE(SUBSTITUTE(LEFT(INDIRECT("Mois!H"&MATCH($A$3,Mois!$A$1:$A$36,0)),5),"h",":")),C$2<VALUE(SUBSTITUTE(RIGHT(INDIRECT("Mois!H"&MATCH($A$3,Mois!$A$1:$A$36,0)),5),"h",":"))+(1/1440*15)),"FAUX")) -> TRUE | D9: =OR(AND(INDIRECT("Mois!H"&MATCH('Sem1'!$A$3,Mois!$A$1:$A$36,0))<>"",SUMPRODUCT(COUNTIF(INDIRECT("Mois!H"&MATCH('Sem1'!$A$3,Mois!$A$1:$A$36,0)),"*"&CHAR(47)&"*"))=0),IFERROR(AND(D$2>VALUE(SUBSTITUTE(LEFT(INDIRECT("Mois!H"&MATCH($A$3,Mois!$A$1:$A$36,0)),5),"h",":")),D$2<VALUE(SUBSTITUTE(RIGHT(INDIRECT("Mois!H"&MATCH($A$3,Mois!$A$1:$A$36,0)),5),"h",":"))+(1/1440*15)),"FAUX")) -> TRUE | E9: =OR(AND(INDIRECT("Mois!H"&MATCH('Sem1'!$A$3,Mois!$A$1:$A$36,0))<>"",SUMPRODUCT(COUNTIF(INDIRECT("Mois!H"&MATCH('Sem1'!$A$3,Mois!$A$1:$A$36,0)),"*"&CHAR(47)&"*"))=0),IFERROR(AND(E$2>VALUE(SUBSTITUTE(LEFT(INDIRECT("Mois!H"&MATCH($A$3,Mois!$A$1:$A$36,0)),5),"h",":")),E$2<VALUE(SUBSTITUTE(RIGHT(INDIRECT("Mois!H"&MATCH($A$3,Mois!$A$1:$A$36,0)),5),"h",":"))+(1/1440*15)),"FAUX")) -> TRUE | F9: =OR(AND(INDIRECT("Mois!H"&MATCH('Sem1'!$A$3,Mois!$A$1:$A$36,0))<>"",SUMPRODUCT(COUNTIF(INDIRECT("Mois!H"&MATCH('Sem1'!$A$3,Mois!$A$1:$A$36,0)),"*"&CHAR(47)&"*"))=0),IFERROR(AND(F$2>VALUE(SUBSTITUTE(LEFT(INDIRECT("Mois!H"&MATCH($A$3,Mois!$A$1:$A$36,0)),5),"h",":")),F$2<VALUE(SUBSTITUTE(RIGHT(INDIRECT("Mois!H"&MATCH($A$3,Mois!$A$1:$A$36,0)),5),"h",":"))+(1/1440*15)),"FAUX")) -> TRUE | G9: =OR(AND(INDIRECT("Mois!H"&MATCH('Sem1'!$A$3,Mois!$A$1:$A$36,0))<>"",SUMPRODUCT(COUNTIF(INDIRECT("Mois!H"&MATCH('Sem1'!$A$3,Mois!$A$1:$A$36,0)),"*"&CHAR(47)&"*"))=0),IFERROR(AND(G$2>VALUE(SUBSTITUTE(LEFT(INDIRECT("Mois!H"&MATCH($A$3,Mois!$A$1:$A$36,0)),5),"h",":")),G$2<VALUE(SUBSTITUTE(RIGHT(INDIRECT("Mois!H"&MATCH($A$3,Mois!$A$1:$A$36,0)),5),"h",":"))+(1/1440*15)),"FAUX")) -> TRUE | H9: =OR(AND(INDIRECT("Mois!H"&MATCH('Sem1'!$A$3,Mois!$A$1:$A$36,0))<>"",SUMPRODUCT(COUNTIF(INDIRECT("Mois!H"&MATCH('Sem1'!$A$3,Mois!$A$1:$A$36,0)),"*"&CHAR(47)&"*"))=0),IFERROR(AND(H$2>VALUE(SUBSTITUTE(LEFT(INDIRECT("Mois!H"&MATCH($A$3,Mois!$A$1:$A$36,0)),5),"h",":")),H$2<VALUE(SUBSTITUTE(RIGHT(INDIRECT("Mois!H"&MATCH($A$3,Mois!$A$1:$A$36,0)),5),"h",":"))+(1/1440*15)),"FAUX")) -> TRUE | I9: =OR(AND(INDIRECT("Mois!H"&MATCH('Sem1'!$A$3,Mois!$A$1:$A$36,0))<>"",SUMPRODUCT(COUNTIF(INDIRECT("Mois!H"&MATCH('Sem1'!$A$3,Mois!$A$1:$A$36,0)),"*"&CHAR(47)&"*"))=0),IFERROR(AND(I$2>VALUE(SUBSTITUTE(LEFT(INDIRECT("Mois!H"&MATCH($A$3,Mois!$A$1:$A$36,0)),5),"h",":")),I$2<VALUE(SUBSTITUTE(RIGHT(INDIRECT("Mois!H"&MATCH($A$3,Mois!$A$1:$A$36,0)),5),"h",":"))+(1/1440*15)),"FAUX")) -> TRUE | ... AX9: =OR(AND(INDIRECT("Mois!H"&MATCH('Sem1'!$A$3,Mois!$A$1:$A$36,0))<>"",SUMPRODUCT(COUNTIF(INDIRECT("Mois!H"&MATCH('Sem1'!$A$3,Mois!$A$1:$A$36,0)),"*"&CHAR(47)&"*"))=0),IFERROR(AND(AX$2>VALUE(SUBSTITUTE(LEFT(INDIRECT("Mois!H"&MATCH($A$3,Mois!$A$1:$A$36,0)),5),"h",":")),AX$2<VALUE(SUBSTITUTE(RIGHT(INDIRECT("Mois!H"&MATCH($A$3,Mois!$A$1:$A$36,0)),5),"h",":"))+(1/1440*15)),"FAUX")) -> TRUE
B10: =OR(AND(INDIRECT("Mois!I"&MATCH('Sem1'!$A$3,Mois!$A$1:$A$36,0))<>"",SUMPRODUCT(COUNTIF(INDIRECT("Mois!I"&MATCH('Sem1'!$A$3,Mois!$A$1:$A$36,0)),"*"&CHAR(47)&"*"))=0),IFERROR(AND(B$2>VALUE(SUBSTITUTE(LEFT(INDIRECT("Mois!I"&MATCH($A$3,Mois!$A$1:$A$36,0)),5),"h",":")),B$2<VALUE(SUBSTITUTE(RIGHT(INDIRECT("Mois!I"&MATCH($A$3,Mois!$A$1:$A$36,0)),5),"h",":"))+(1/1440*15)),"FAUX")) -> FALSE | C10: =OR(AND(INDIRECT("Mois!I"&MATCH('Sem1'!$A$3,Mois!$A$1:$A$36,0))<>"",SUMPRODUCT(COUNTIF(INDIRECT("Mois!I"&MATCH('Sem1'!$A$3,Mois!$A$1:$A$36,0)),"*"&CHAR(47)&"*"))=0),IFERROR(AND(C$2>VALUE(SUBSTITUTE(LEFT(INDIRECT("Mois!I"&MATCH($A$3,Mois!$A$1:$A$36,0)),5),"h",":")),C$2<VALUE(SUBSTITUTE(RIGHT(INDIRECT("Mois!I"&MATCH($A$3,Mois!$A$1:$A$36,0)),5),"h",":"))+(1/1440*15)),"FAUX")) -> FALSE | D10: =OR(AND(INDIRECT("Mois!I"&MATCH('Sem1'!$A$3,Mois!$A$1:$A$36,0))<>"",SUMPRODUCT(COUNTIF(INDIRECT("Mois!I"&MATCH('Sem1'!$A$3,Mois!$A$1:$A$36,0)),"*"&CHAR(47)&"*"))=0),IFERROR(AND(D$2>VALUE(SUBSTITUTE(LEFT(INDIRECT("Mois!I"&MATCH($A$3,Mois!$A$1:$A$36,0)),5),"h",":")),D$2<VALUE(SUBSTITUTE(RIGHT(INDIRECT("Mois!I"&MATCH($A$3,Mois!$A$1:$A$36,0)),5),"h",":"))+(1/1440*15)),"FAUX")) -> FALSE | E10: =OR(AND(INDIRECT("Mois!I"&MATCH('Sem1'!$A$3,Mois!$A$1:$A$36,0))<>"",SUMPRODUCT(COUNTIF(INDIRECT("Mois!I"&MATCH('Sem1'!$A$3,Mois!$A$1:$A$36,0)),"*"&CHAR(47)&"*"))=0),IFERROR(AND(E$2>VALUE(SUBSTITUTE(LEFT(INDIRECT("Mois!I"&MATCH($A$3,Mois!$A$1:$A$36,0)),5),"h",":")),E$2<VALUE(SUBSTITUTE(RIGHT(INDIRECT("Mois!I"&MATCH($A$3,Mois!$A$1:$A$36,0)),5),"h",":"))+(1/1440*15)),"FAUX")) -> FALSE | F10: =OR(AND(INDIRECT("Mois!I"&MATCH('Sem1'!$A$3,Mois!$A$1:$A$36,0))<>"",SUMPRODUCT(COUNTIF(INDIRECT("Mois!I"&MATCH('Sem1'!$A$3,Mois!$A$1:$A$36,0)),"*"&CHAR(47)&"*"))=0),IFERROR(AND(F$2>VALUE(SUBSTITUTE(LEFT(INDIRECT("Mois!I"&MATCH($A$3,Mois!$A$1:$A$36,0)),5),"h",":")),F$2<VALUE(SUBSTITUTE(RIGHT(INDIRECT("Mois!I"&MATCH($A$3,Mois!$A$1:$A$36,0)),5),"h",":"))+(1/1440*15)),"FAUX")) -> FALSE | G10: =OR(AND(INDIRECT("Mois!I"&MATCH('Sem1'!$A$3,Mois!$A$1:$A$36,0))<>"",SUMPRODUCT(COUNTIF(INDIRECT("Mois!I"&MATCH('Sem1'!$A$3,Mois!$A$1:$A$36,0)),"*"&CHAR(47)&"*"))=0),IFERROR(AND(G$2>VALUE(SUBSTITUTE(LEFT(INDIRECT("Mois!I"&MATCH($A$3,Mois!$A$1:$A$36,0)),5),"h",":")),G$2<VALUE(SUBSTITUTE(RIGHT(INDIRECT("Mois!I"&MATCH($A$3,Mois!$A$1:$A$36,0)),5),"h",":"))+(1/1440*15)),"FAUX")) -> FALSE | H10: =OR(AND(INDIRECT("Mois!I"&MATCH('Sem1'!$A$3,Mois!$A$1:$A$36,0))<>"",SUMPRODUCT(COUNTIF(INDIRECT("Mois!I"&MATCH('Sem1'!$A$3,Mois!$A$1:$A$36,0)),"*"&CHAR(47)&"*"))=0),IFERROR(AND(H$2>VALUE(SUBSTITUTE(LEFT(INDIRECT("Mois!I"&MATCH($A$3,Mois!$A$1:$A$36,0)),5),"h",":")),H$2<VALUE(SUBSTITUTE(RIGHT(INDIRECT("Mois!I"&MATCH($A$3,Mois!$A$1:$A$36,0)),5),"h",":"))+(1/1440*15)),"FAUX")) -> FALSE | I10: =OR(AND(INDIRECT("Mois!I"&MATCH('Sem1'!$A$3,Mois!$A$1:$A$36,0))<>"",SUMPRODUCT(COUNTIF(INDIRECT("Mois!I"&MATCH('Sem1'!$A$3,Mois!$A$1:$A$36,0)),"*"&CHAR(47)&"*"))=0),IFERROR(AND(I$2>VALUE(SUBSTITUTE(LEFT(INDIRECT("Mois!I"&MATCH($A$3,Mois!$A$1:$A$36,0)),5),"h",":")),I$2<VALUE(SUBSTITUTE(RIGHT(INDIRECT("Mois!I"&MATCH($A$3,Mois!$A$1:$A$36,0)),5),"h",":"))+(1/1440*15)),"FAUX")) -> FALSE | ... AX10: =OR(AND(INDIRECT("Mois!I"&MATCH('Sem1'!$A$3,Mois!$A$1:$A$36,0))<>"",SUMPRODUCT(COUNTIF(INDIRECT("Mois!I"&MATCH('Sem1'!$A$3,Mois!$A$1:$A$36,0)),"*"&CHAR(47)&"*"))=0),IFERROR(AND(AX$2>VALUE(SUBSTITUTE(LEFT(INDIRECT("Mois!I"&MATCH($A$3,Mois!$A$1:$A$36,0)),5),"h",":")),AX$2<VALUE(SUBSTITUTE(RIGHT(INDIRECT("Mois!I"&MATCH($A$3,Mois!$A$1:$A$36,0)),5),"h",":"))+(1/1440*15)),"FAUX")) -> FALSE
A11: =A3+1 -> 42801 | B11: =OR(AND(INDIRECT("Mois!B"&MATCH('Sem1'!$A$11,Mois!$A$1:$A$36,0))<>"",SUMPRODUCT(COUNTIF(INDIRECT("Mois!B"&MATCH('Sem1'!$A$11,Mois!$A$1:$A$36,0)),"*"&CHAR(47)&"*"))=0),IFERROR(AND(B$2>VALUE(SUBSTITUTE(LEFT(INDIRECT("Mois!B"&MATCH($A$11,Mois!$A$1:$A$36,0)),5),"h",":")),B$2<VALUE(SUBSTITUTE(RIGHT(INDIRECT("Mois!B"&MATCH($A$11,Mois!$A$1:$A$36,0)),5),"h",":"))+(1/1440*15)),"FAUX")) -> FALSE | C11: =OR(AND(INDIRECT("Mois!B"&MATCH('Sem1'!$A$11,Mois!$A$1:$A$36,0))<>"",SUMPRODUCT(COUNTIF(INDIRECT("Mois!B"&MATCH('Sem1'!$A$11,Mois!$A$1:$A$36,0)),"*"&CHAR(47)&"*"))=0),IFERROR(AND(C$2>VALUE(SUBSTITUTE(LEFT(INDIRECT("Mois!B"&MATCH($A$11,Mois!$A$1:$A$36,0)),5),"h",":")),C$2<VALUE(SUBSTITUTE(RIGHT(INDIRECT("Mois!B"&MATCH($A$11,Mois!$A$1:$A$36,0)),5),"h",":"))+(1/1440*15)),"FAUX")) -> FALSE | D11: =OR(AND(INDIRECT("Mois!B"&MATCH('Sem1'!$A$11,Mois!$A$1:$A$36,0))<>"",SUMPRODUCT(COUNTIF(INDIRECT("Mois!B"&MATCH('Sem1'!$A$11,Mois!$A$1:$A$36,0)),"*"&CHAR(47)&"*"))=0),IFERROR(AND(D$2>VALUE(SUBSTITUTE(LEFT(INDIRECT("Mois!B"&MATCH($A$11,Mois!$A$1:$A$36,0)),5),"h",":")),D$2<VALUE(SUBSTITUTE(RIGHT(INDIRECT("Mois!B"&MATCH($A$11,Mois!$A$1:$A$36,0)),5),"h",":"))+(1/1440*15)),"FAUX")) -> FALSE | E11: =OR(AND(INDIRECT("Mois!B"&MATCH('Sem1'!$A$11,Mois!$A$1:$A$36,0))<>"",SUMPRODUCT(COUNTIF(INDIRECT("Mois!B"&MATCH('Sem1'!$A$11,Mois!$A$1:$A$36,0)),"*"&CHAR(47)&"*"))=0),IFERROR(AND(E$2>VALUE(SUBSTITUTE(LEFT(INDIRECT("Mois!B"&MATCH($A$11,Mois!$A$1:$A$36,0)),5),"h",":")),E$2<VALUE(SUBSTITUTE(RIGHT(INDIRECT("Mois!B"&MATCH($A$11,Mois!$A$1:$A$36,0)),5),"h",":"))+(1/1440*15)),"FAUX")) -> FALSE | F11: =OR(AND(INDIRECT("Mois!B"&MATCH('Sem1'!$A$11,Mois!$A$1:$A$36,0))<>"",SUMPRODUCT(COUNTIF(INDIRECT("Mois!B"&MATCH('Sem1'!$A$11,Mois!$A$1:$A$36,0)),"*"&CHAR(47)&"*"))=0),IFERROR(AND(F$2>VALUE(SUBSTITUTE(LEFT(INDIRECT("Mois!B"&MATCH($A$11,Mois!$A$1:$A$36,0)),5),"h",":")),F$2<VALUE(SUBSTITUTE(RIGHT(INDIRECT("Mois!B"&MATCH($A$11,Mois!$A$1:$A$36,0)),5),"h",":"))+(1/1440*15)),"FAUX")) -> FALSE | G11: =OR(AND(INDIRECT("Mois!B"&MATCH('Sem1'!$A$11,Mois!$A$1:$A$36,0))<>"",SUMPRODUCT(COUNTIF(INDIRECT("Mois!B"&MATCH('Sem1'!$A$11,Mois!$A$1:$A$36,0)),"*"&CHAR(47)&"*"))=0),IFERROR(AND(G$2>VALUE(SUBSTITUTE(LEFT(INDIRECT("Mois!B"&MATCH($A$11,Mois!$A$1:$A$36,0)),5),"h",":")),G$2<VALUE(SUBSTITUTE(RIGHT(INDIRECT("Mois!B"&MATCH($A$11,Mois!$A$1:$A$36,0)),5),"h",":"))+(1/1440*15)),"FAUX")) -> FALSE | H11: =OR(AND(INDIRECT("Mois!B"&MATCH('Sem1'!$A$11,Mois!$A$1:$A$36,0))<>"",SUMPRODUCT(COUNTIF(INDIRECT("Mois!B"&MATCH('Sem1'!$A$11,Mois!$A$1:$A$36,0)),"*"&CHAR(47)&"*"))=0),IFERROR(AND(H$2>VALUE(SUBSTITUTE(LEFT(INDIRECT("Mois!B"&MATCH($A$11,Mois!$A$1:$A$36,0)),5),"h",":")),H$2<VALUE(SUBSTITUTE(RIGHT(INDIRECT("Mois!B"&MATCH($A$11,Mois!$A$1:$A$36,0)),5),"h",":"))+(1/1440*15)),"FAUX")) -> FALSE | I11: =OR(AND(INDIRECT("Mois!B"&MATCH('Sem1'!$A$11,Mois!$A$1:$A$36,0))<>"",SUMPRODUCT(COUNTIF(INDIRECT("Mois!B"&MATCH('Sem1'!$A$11,Mois!$A$1:$A$36,0)),"*"&CHAR(47)&"*"))=0),IFERROR(AND(I$2>VALUE(SUBSTITUTE(LEFT(INDIRECT("Mois!B"&MATCH($A$11,Mois!$A$1:$A$36,0)),5),"h",":")),I$2<VALUE(SUBSTITUTE(RIGHT(INDIRECT("Mois!B"&MATCH($A$11,Mois!$A$1:$A$36,0)),5),"h",":"))+(1/1440*15)),"FAUX")) -> FALSE | ... AX11: =OR(AND(INDIRECT("Mois!B"&MATCH('Sem1'!$A$11,Mois!$A$1:$A$36,0))<>"",SUMPRODUCT(COUNTIF(INDIRECT("Mois!B"&MATCH('Sem1'!$A$11,Mois!$A$1:$A$36,0)),"*"&CHAR(47)&"*"))=0),IFERROR(AND(AX$2>VALUE(SUBSTITUTE(LEFT(INDIRECT("Mois!B"&MATCH($A$11,Mois!$A$1:$A$36,0)),5),"h",":")),AX$2<VALUE(SUBSTITUTE(RIGHT(INDIRECT("Mois!B"&MATCH($A$11,Mois!$A$1:$A$36,0)),5),"h",":"))+(1/1440*15)),"FAUX")) -> FALSE
B12: =OR(AND(INDIRECT("Mois!C"&MATCH('Sem1'!$A$11,Mois!$A$1:$A$36,0))<>"",SUMPRODUCT(COUNTIF(INDIRECT("Mois!C"&MATCH('Sem1'!$A$11,Mois!$A$1:$A$36,0)),"*"&CHAR(47)&"*"))=0),IFERROR(AND(B$2>VALUE(SUBSTITUTE(LEFT(INDIRECT("Mois!C"&MATCH($A$11,Mois!$A$1:$A$36,0)),5),"h",":")),B$2<VALUE(SUBSTITUTE(RIGHT(INDIRECT("Mois!C"&MATCH($A$11,Mois!$A$1:$A$36,0)),5),"h",":"))+(1/1440*15)),"FAUX")) -> TRUE | C12: =OR(AND(INDIRECT("Mois!C"&MATCH('Sem1'!$A$11,Mois!$A$1:$A$36,0))<>"",SUMPRODUCT(COUNTIF(INDIRECT("Mois!C"&MATCH('Sem1'!$A$11,Mois!$A$1:$A$36,0)),"*"&CHAR(47)&"*"))=0),IFERROR(AND(C$2>VALUE(SUBSTITUTE(LEFT(INDIRECT("Mois!C"&MATCH($A$11,Mois!$A$1:$A$36,0)),5),"h",":")),C$2<VALUE(SUBSTITUTE(RIGHT(INDIRECT("Mois!C"&MATCH($A$11,Mois!$A$1:$A$36,0)),5),"h",":"))+(1/1440*15)),"FAUX")) -> TRUE | D12: =OR(AND(INDIRECT("Mois!C"&MATCH('Sem1'!$A$11,Mois!$A$1:$A$36,0))<>"",SUMPRODUCT(COUNTIF(INDIRECT("Mois!C"&MATCH('Sem1'!$A$11,Mois!$A$1:$A$36,0)),"*"&CHAR(47)&"*"))=0),IFERROR(AND(D$2>VALUE(SUBSTITUTE(LEFT(INDIRECT("Mois!C"&MATCH($A$11,Mois!$A$1:$A$36,0)),5),"h",":")),D$2<VALUE(SUBSTITUTE(RIGHT(INDIRECT("Mois!C"&MATCH($A$11,Mois!$A$1:$A$36,0)),5),"h",":"))+(1/1440*15)),"FAUX")) -> TRUE | E12: =OR(AND(INDIRECT("Mois!C"&MATCH('Sem1'!$A$11,Mois!$A$1:$A$36,0))<>"",SUMPRODUCT(COUNTIF(INDIRECT("Mois!C"&MATCH('Sem1'!$A$11,Mois!$A$1:$A$36,0)),"*"&CHAR(47)&"*"))=0),IFERROR(AND(E$2>VALUE(SUBSTITUTE(LEFT(INDIRECT("Mois!C"&MATCH($A$11,Mois!$A$1:$A$36,0)),5),"h",":")),E$2<VALUE(SUBSTITUTE(RIGHT(INDIRECT("Mois!C"&MATCH($A$11,Mois!$A$1:$A$36,0)),5),"h",":"))+(1/1440*15)),"FAUX")) -> TRUE | F12: =OR(AND(INDIRECT("Mois!C"&MATCH('Sem1'!$A$11,Mois!$A$1:$A$36,0))<>"",SUMPRODUCT(COUNTIF(INDIRECT("Mois!C"&MATCH('Sem1'!$A$11,Mois!$A$1:$A$36,0)),"*"&CHAR(47)&"*"))=0),IFERROR(AND(F$2>VALUE(SUBSTITUTE(LEFT(INDIRECT("Mois!C"&MATCH($A$11,Mois!$A$1:$A$36,0)),5),"h",":")),F$2<VALUE(SUBSTITUTE(RIGHT(INDIRECT("Mois!C"&MATCH($A$11,Mois!$A$1:$A$36,0)),5),"h",":"))+(1/1440*15)),"FAUX")) -> TRUE | G12: =OR(AND(INDIRECT("Mois!C"&MATCH('Sem1'!$A$11,Mois!$A$1:$A$36,0))<>"",SUMPRODUCT(COUNTIF(INDIRECT("Mois!C"&MATCH('Sem1'!$A$11,Mois!$A$1:$A$36,0)),"*"&CHAR(47)&"*"))=0),IFERROR(AND(G$2>VALUE(SUBSTITUTE(LEFT(INDIRECT("Mois!C"&MATCH($A$11,Mois!$A$1:$A$36,0)),5),"h",":")),G$2<VALUE(SUBSTITUTE(RIGHT(INDIRECT("Mois!C"&MATCH($A$11,Mois!$A$1:$A$36,0)),5),"h",":"))+(1/1440*15)),"FAUX")) -> TRUE | H12: =OR(AND(INDIRECT("Mois!C"&MATCH('Sem1'!$A$11,Mois!$A$1:$A$36,0))<>"",SUMPRODUCT(COUNTIF(INDIRECT("Mois!C"&MATCH('Sem1'!$A$11,Mois!$A$1:$A$36,0)),"*"&CHAR(47)&"*"))=0),IFERROR(AND(H$2>VALUE(SUBSTITUTE(LEFT(INDIRECT("Mois!C"&MATCH($A$11,Mois!$A$1:$A$36,0)),5),"h",":")),H$2<VALUE(SUBSTITUTE(RIGHT(INDIRECT("Mois!C"&MATCH($A$11,Mois!$A$1:$A$36,0)),5),"h",":"))+(1/1440*15)),"FAUX")) -> TRUE | I12: =OR(AND(INDIRECT("Mois!C"&MATCH('Sem1'!$A$11,Mois!$A$1:$A$36,0))<>"",SUMPRODUCT(COUNTIF(INDIRECT("Mois!C"&MATCH('Sem1'!$A$11,Mois!$A$1:$A$36,0)),"*"&CHAR(47)&"*"))=0),IFERROR(AND(I$2>VALUE(SUBSTITUTE(LEFT(INDIRECT("Mois!C"&MATCH($A$11,Mois!$A$1:$A$36,0)),5),"h",":")),I$2<VALUE(SUBSTITUTE(RIGHT(INDIRECT("Mois!C"&MATCH($A$11,Mois!$A$1:$A$36,0)),5),"h",":"))+(1/1440*15)),"FAUX")) -> TRUE | ... AX12: =OR(AND(INDIRECT("Mois!C"&MATCH('Sem1'!$A$11,Mois!$A$1:$A$36,0))<>"",SUMPRODUCT(COUNTIF(INDIRECT("Mois!C"&MATCH('Sem1'!$A$11,Mois!$A$1:$A$36,0)),"*"&CHAR(47)&"*"))=0),IFERROR(AND(AX$2>VALUE(SUBSTITUTE(LEFT(INDIRECT("Mois!C"&MATCH($A$11,Mois!$A$1:$A$36,0)),5),"h",":")),AX$2<VALUE(SUBSTITUTE(RIGHT(INDIRECT("Mois!C"&MATCH($A$11,Mois!$A$1:$A$36,0)),5),"h",":"))+(1/1440*15)),"FAUX")) -> TRUE
B13: =OR(AND(INDIRECT("Mois!D"&MATCH('Sem1'!$A$11,Mois!$A$1:$A$36,0))<>"",SUMPRODUCT(COUNTIF(INDIRECT("Mois!D"&MATCH('Sem1'!$A$11,Mois!$A$1:$A$36,0)),"*"&CHAR(47)&"*"))=0),IFERROR(AND(B$2>VALUE(SUBSTITUTE(LEFT(INDIRECT("Mois!D"&MATCH($A$11,Mois!$A$1:$A$36,0)),5),"h",":")),B$2<VALUE(SUBSTITUTE(RIGHT(INDIRECT("Mois!D"&MATCH($A$11,Mois!$A$1:$A$36,0)),5),"h",":"))+(1/1440*15)),"FAUX")) -> FALSE | C13: =OR(AND(INDIRECT("Mois!D"&MATCH('Sem1'!$A$11,Mois!$A$1:$A$36,0))<>"",SUMPRODUCT(COUNTIF(INDIRECT("Mois!D"&MATCH('Sem1'!$A$11,Mois!$A$1:$A$36,0)),"*"&CHAR(47)&"*"))=0),IFERROR(AND(C$2>VALUE(SUBSTITUTE(LEFT(INDIRECT("Mois!D"&MATCH($A$11,Mois!$A$1:$A$36,0)),5),"h",":")),C$2<VALUE(SUBSTITUTE(RIGHT(INDIRECT("Mois!D"&MATCH($A$11,Mois!$A$1:$A$36,0)),5),"h",":"))+(1/1440*15)),"FAUX")) -> FALSE | D13: =OR(AND(INDIRECT("Mois!D"&MATCH('Sem1'!$A$11,Mois!$A$1:$A$36,0))<>"",SUMPRODUCT(COUNTIF(INDIRECT("Mois!D"&MATCH('Sem1'!$A$11,Mois!$A$1:$A$36,0)),"*"&CHAR(47)&"*"))=0),IFERROR(AND(D$2>VALUE(SUBSTITUTE(LEFT(INDIRECT("Mois!D"&MATCH($A$11,Mois!$A$1:$A$36,0)),5),"h",":")),D$2<VALUE(SUBSTITUTE(RIGHT(INDIRECT("Mois!D"&MATCH($A$11,Mois!$A$1:$A$36,0)),5),"h",":"))+(1/1440*15)),"FAUX")) -> FALSE | E13: =OR(AND(INDIRECT("Mois!D"&MATCH('Sem1'!$A$11,Mois!$A$1:$A$36,0))<>"",SUMPRODUCT(COUNTIF(INDIRECT("Mois!D"&MATCH('Sem1'!$A$11,Mois!$A$1:$A$36,0)),"*"&CHAR(47)&"*"))=0),IFERROR(AND(E$2>VALUE(SUBSTITUTE(LEFT(INDIRECT("Mois!D"&MATCH($A$11,Mois!$A$1:$A$36,0)),5),"h",":")),E$2<VALUE(SUBSTITUTE(RIGHT(INDIRECT("Mois!D"&MATCH($A$11,Mois!$A$1:$A$36,0)),5),"h",":"))+(1/1440*15)),"FAUX")) -> FALSE | F13: =OR(AND(INDIRECT("Mois!D"&MATCH('Sem1'!$A$11,Mois!$A$1:$A$36,0))<>"",SUMPRODUCT(COUNTIF(INDIRECT("Mois!D"&MATCH('Sem1'!$A$11,Mois!$A$1:$A$36,0)),"*"&CHAR(47)&"*"))=0),IFERROR(AND(F$2>VALUE(SUBSTITUTE(LEFT(INDIRECT("Mois!D"&MATCH($A$11,Mois!$A$1:$A$36,0)),5),"h",":")),F$2<VALUE(SUBSTITUTE(RIGHT(INDIRECT("Mois!D"&MATCH($A$11,Mois!$A$1:$A$36,0)),5),"h",":"))+(1/1440*15)),"FAUX")) -> FALSE | G13: =OR(AND(INDIRECT("Mois!D"&MATCH('Sem1'!$A$11,Mois!$A$1:$A$36,0))<>"",SUMPRODUCT(COUNTIF(INDIRECT("Mois!D"&MATCH('Sem1'!$A$11,Mois!$A$1:$A$36,0)),"*"&CHAR(47)&"*"))=0),IFERROR(AND(G$2>VALUE(SUBSTITUTE(LEFT(INDIRECT("Mois!D"&MATCH($A$11,Mois!$A$1:$A$36,0)),5),"h",":")),G$2<VALUE(SUBSTITUTE(RIGHT(INDIRECT("Mois!D"&MATCH($A$11,Mois!$A$1:$A$36,0)),5),"h",":"))+(1/1440*15)),"FAUX")) -> FALSE | H13: =OR(AND(INDIRECT("Mois!D"&MATCH('Sem1'!$A$11,Mois!$A$1:$A$36,0))<>"",SUMPRODUCT(COUNTIF(INDIRECT("Mois!D"&MATCH('Sem1'!$A$11,Mois!$A$1:$A$36,0)),"*"&CHAR(47)&"*"))=0),IFERROR(AND(H$2>VALUE(SUBSTITUTE(LEFT(INDIRECT("Mois!D"&MATCH($A$11,Mois!$A$1:$A$36,0)),5),"h",":")),H$2<VALUE(SUBSTITUTE(RIGHT(INDIRECT("Mois!D"&MATCH($A$11,Mois!$A$1:$A$36,0)),5),"h",":"))+(1/1440*15)),"FAUX")) -> FALSE | I13: =OR(AND(INDIRECT("Mois!D"&MATCH('Sem1'!$A$11,Mois!$A$1:$A$36,0))<>"",SUMPRODUCT(COUNTIF(INDIRECT("Mois!D"&MATCH('Sem1'!$A$11,Mois!$A$1:$A$36,0)),"*"&CHAR(47)&"*"))=0),IFERROR(AND(I$2>VALUE(SUBSTITUTE(LEFT(INDIRECT("Mois!D"&MATCH($A$11,Mois!$A$1:$A$36,0)),5),"h",":")),I$2<VALUE(SUBSTITUTE(RIGHT(INDIRECT("Mois!D"&MATCH($A$11,Mois!$A$1:$A$36,0)),5),"h",":"))+(1/1440*15)),"FAUX")) -> FALSE | ... AX13: =OR(AND(INDIRECT("Mois!D"&MATCH('Sem1'!$A$11,Mois!$A$1:$A$36,0))<>"",SUMPRODUCT(COUNTIF(INDIRECT("Mois!D"&MATCH('Sem1'!$A$11,Mois!$A$1:$A$36,0)),"*"&CHAR(47)&"*"))=0),IFERROR(AND(AX$2>VALUE(SUBSTITUTE(LEFT(INDIRECT("Mois!D"&MATCH($A$11,Mois!$A$1:$A$36,0)),5),"h",":")),AX$2<VALUE(SUBSTITUTE(RIGHT(INDIRECT("Mois!D"&MATCH($A$11,Mois!$A$1:$A$36,0)),5),"h",":"))+(1/1440*15)),"FAUX")) -> FALSE
B14: =OR(AND(INDIRECT("Mois!E"&MATCH('Sem1'!$A$11,Mois!$A$1:$A$36,0))<>"",SUMPRODUCT(COUNTIF(INDIRECT("Mois!E"&MATCH('Sem1'!$A$11,Mois!$A$1:$A$36,0)),"*"&CHAR(47)&"*"))=0),IFERROR(AND(B$2>VALUE(SUBSTITUTE(LEFT(INDIRECT("Mois!E"&MATCH($A$11,Mois!$A$1:$A$36,0)),5),"h",":")),B$2<VALUE(SUBSTITUTE(RIGHT(INDIRECT("Mois!E"&MATCH($A$11,Mois!$A$1:$A$36,0)),5),"h",":"))+(1/1440*15)),"FAUX")) -> FALSE | C14: =OR(AND(INDIRECT("Mois!E"&MATCH('Sem1'!$A$11,Mois!$A$1:$A$36,0))<>"",SUMPRODUCT(COUNTIF(INDIRECT("Mois!E"&MATCH('Sem1'!$A$11,Mois!$A$1:$A$36,0)),"*"&CHAR(47)&"*"))=0),IFERROR(AND(C$2>VALUE(SUBSTITUTE(LEFT(INDIRECT("Mois!E"&MATCH($A$11,Mois!$A$1:$A$36,0)),5),"h",":")),C$2<VALUE(SUBSTITUTE(RIGHT(INDIRECT("Mois!E"&MATCH($A$11,Mois!$A$1:$A$36,0)),5),"h",":"))+(1/1440*15)),"FAUX")) -> FALSE | D14: =OR(AND(INDIRECT("Mois!E"&MATCH('Sem1'!$A$11,Mois!$A$1:$A$36,0))<>"",SUMPRODUCT(COUNTIF(INDIRECT("Mois!E"&MATCH('Sem1'!$A$11,Mois!$A$1:$A$36,0)),"*"&CHAR(47)&"*"))=0),IFERROR(AND(D$2>VALUE(SUBSTITUTE(LEFT(INDIRECT("Mois!E"&MATCH($A$11,Mois!$A$1:$A$36,0)),5),"h",":")),D$2<VALUE(SUBSTITUTE(RIGHT(INDIRECT("Mois!E"&MATCH($A$11,Mois!$A$1:$A$36,0)),5),"h",":"))+(1/1440*15)),"FAUX")) -> FALSE | E14: =OR(AND(INDIRECT("Mois!E"&MATCH('Sem1'!$A$11,Mois!$A$1:$A$36,0))<>"",SUMPRODUCT(COUNTIF(INDIRECT("Mois!E"&MATCH('Sem1'!$A$11,Mois!$A$1:$A$36,0)),"*"&CHAR(47)&"*"))=0),IFERROR(AND(E$2>VALUE(SUBSTITUTE(LEFT(INDIRECT("Mois!E"&MATCH($A$11,Mois!$A$1:$A$36,0)),5),"h",":")),E$2<VALUE(SUBSTITUTE(RIGHT(INDIRECT("Mois!E"&MATCH($A$11,Mois!$A$1:$A$36,0)),5),"h",":"))+(1/1440*15)),"FAUX")) -> TRUE | F14: =OR(AND(INDIRECT("Mois!E"&MATCH('Sem1'!$A$11,Mois!$A$1:$A$36,0))<>"",SUMPRODUCT(COUNTIF(INDIRECT("Mois!E"&MATCH('Sem1'!$A$11,Mois!$A$1:$A$36,0)),"*"&CHAR(47)&"*"))=0),IFERROR(AND(F$2>VALUE(SUBSTITUTE(LEFT(INDIRECT("Mois!E"&MATCH($A$11,Mois!$A$1:$A$36,0)),5),"h",":")),F$2<VALUE(SUBSTITUTE(RIGHT(INDIRECT("Mois!E"&MATCH($A$11,Mois!$A$1:$A$36,0)),5),"h",":"))+(1/1440*15)),"FAUX")) -> TRUE | G14: =OR(AND(INDIRECT("Mois!E"&MATCH('Sem1'!$A$11,Mois!$A$1:$A$36,0))<>"",SUMPRODUCT(COUNTIF(INDIRECT("Mois!E"&MATCH('Sem1'!$A$11,Mois!$A$1:$A$36,0)),"*"&CHAR(47)&"*"))=0),IFERROR(AND(G$2>VALUE(SUBSTITUTE(LEFT(INDIRECT("Mois!E"&MATCH($A$11,Mois!$A$1:$A$36,0)),5),"h",":")),G$2<VALUE(SUBSTITUTE(RIGHT(INDIRECT("Mois!E"&MATCH($A$11,Mois!$A$1:$A$36,0)),5),"h",":"))+(1/1440*15)),"FAUX")) -> TRUE | H14: =OR(AND(INDIRECT("Mois!E"&MATCH('Sem1'!$A$11,Mois!$A$1:$A$36,0))<>"",SUMPRODUCT(COUNTIF(INDIRECT("Mois!E"&MATCH('Sem1'!$A$11,Mois!$A$1:$A$36,0)),"*"&CHAR(47)&"*"))=0),IFERROR(AND(H$2>VALUE(SUBSTITUTE(LEFT(INDIRECT("Mois!E"&MATCH($A$11,Mois!$A$1:$A$36,0)),5),"h",":")),H$2<VALUE(SUBSTITUTE(RIGHT(INDIRECT("Mois!E"&MATCH($A$11,Mois!$A$1:$A$36,0)),5),"h",":"))+(1/1440*15)),"FAUX")) -> TRUE | I14: =OR(AND(INDIRECT("Mois!E"&MATCH('Sem1'!$A$11,Mois!$A$1:$A$36,0))<>"",SUMPRODUCT(COUNTIF(INDIRECT("Mois!E"&MATCH('Sem1'!$A$11,Mois!$A$1:$A$36,0)),"*"&CHAR(47)&"*"))=0),IFERROR(AND(I$2>VALUE(SUBSTITUTE(LEFT(INDIRECT("Mois!E"&MATCH($A$11,Mois!$A$1:$A$36,0)),5),"h",":")),I$2<VALUE(SUBSTITUTE(RIGHT(INDIRECT("Mois!E"&MATCH($A$11,Mois!$A$1:$A$36,0)),5),"h",":"))+(1/1440*15)),"FAUX")) -> TRUE | ... AX14: =OR(AND(INDIRECT("Mois!E"&MATCH('Sem1'!$A$11,Mois!$A$1:$A$36,0))<>"",SUMPRODUCT(COUNTIF(INDIRECT("Mois!E"&MATCH('Sem1'!$A$11,Mois!$A$1:$A$36,0)),"*"&CHAR(47)&"*"))=0),IFERROR(AND(AX$2>VALUE(SUBSTITUTE(LEFT(INDIRECT("Mois!E"&MATCH($A$11,Mois!$A$1:$A$36,0)),5),"h",":")),AX$2<VALUE(SUBSTITUTE(RIGHT(INDIRECT("Mois!E"&MATCH($A$11,Mois!$A$1:$A$36,0)),5),"h",":"))+(1/1440*15)),"FAUX")) -> FALSE
B15: =OR(AND(INDIRECT("Mois!F"&MATCH('Sem1'!$A$11,Mois!$A$1:$A$36,0))<>"",SUMPRODUCT(COUNTIF(INDIRECT("Mois!F"&MATCH('Sem1'!$A$11,Mois!$A$1:$A$36,0)),"*"&CHAR(47)&"*"))=0),IFERROR(AND(B$2>VALUE(SUBSTITUTE(LEFT(INDIRECT("Mois!F"&MATCH($A$11,Mois!$A$1:$A$36,0)),5),"h",":")),B$2<VALUE(SUBSTITUTE(RIGHT(INDIRECT("Mois!F"&MATCH($A$11,Mois!$A$1:$A$36,0)),5),"h",":"))+(1/1440*15)),"FAUX")) -> FALSE | C15: =OR(AND(INDIRECT("Mois!F"&MATCH('Sem1'!$A$11,Mois!$A$1:$A$36,0))<>"",SUMPRODUCT(COUNTIF(INDIRECT("Mois!F"&MATCH('Sem1'!$A$11,Mois!$A$1:$A$36,0)),"*"&CHAR(47)&"*"))=0),IFERROR(AND(C$2>VALUE(SUBSTITUTE(LEFT(INDIRECT("Mois!F"&MATCH($A$11,Mois!$A$1:$A$36,0)),5),"h",":")),C$2<VALUE(SUBSTITUTE(RIGHT(INDIRECT("Mois!F"&MATCH($A$11,Mois!$A$1:$A$36,0)),5),"h",":"))+(1/1440*15)),"FAUX")) -> FALSE | D15: =OR(AND(INDIRECT("Mois!F"&MATCH('Sem1'!$A$11,Mois!$A$1:$A$36,0))<>"",SUMPRODUCT(COUNTIF(INDIRECT("Mois!F"&MATCH('Sem1'!$A$11,Mois!$A$1:$A$36,0)),"*"&CHAR(47)&"*"))=0),IFERROR(AND(D$2>VALUE(SUBSTITUTE(LEFT(INDIRECT("Mois!F"&MATCH($A$11,Mois!$A$1:$A$36,0)),5),"h",":")),D$2<VALUE(SUBSTITUTE(RIGHT(INDIRECT("Mois!F"&MATCH($A$11,Mois!$A$1:$A$36,0)),5),"h",":"))+(1/1440*15)),"FAUX")) -> FALSE | E15: =OR(AND(INDIRECT("Mois!F"&MATCH('Sem1'!$A$11,Mois!$A$1:$A$36,0))<>"",SUMPRODUCT(COUNTIF(INDIRECT("Mois!F"&MATCH('Sem1'!$A$11,Mois!$A$1:$A$36,0)),"*"&CHAR(47)&"*"))=0),IFERROR(AND(E$2>VALUE(SUBSTITUTE(LEFT(INDIRECT("Mois!F"&MATCH($A$11,Mois!$A$1:$A$36,0)),5),"h",":")),E$2<VALUE(SUBSTITUTE(RIGHT(INDIRECT("Mois!F"&MATCH($A$11,Mois!$A$1:$A$36,0)),5),"h",":"))+(1/1440*15)),"FAUX")) -> FALSE | F15: =OR(AND(INDIRECT("Mois!F"&MATCH('Sem1'!$A$11,Mois!$A$1:$A$36,0))<>"",SUMPRODUCT(COUNTIF(INDIRECT("Mois!F"&MATCH('Sem1'!$A$11,Mois!$A$1:$A$36,0)),"*"&CHAR(47)&"*"))=0),IFERROR(AND(F$2>VALUE(SUBSTITUTE(LEFT(INDIRECT("Mois!F"&MATCH($A$11,Mois!$A$1:$A$36,0)),5),"h",":")),F$2<VALUE(SUBSTITUTE(RIGHT(INDIRECT("Mois!F"&MATCH($A$11,Mois!$A$1:$A$36,0)),5),"h",":"))+(1/1440*15)),"FAUX")) -> FALSE | G15: =OR(AND(INDIRECT("Mois!F"&MATCH('Sem1'!$A$11,Mois!$A$1:$A$36,0))<>"",SUMPRODUCT(COUNTIF(INDIRECT("Mois!F"&MATCH('Sem1'!$A$11,Mois!$A$1:$A$36,0)),"*"&CHAR(47)&"*"))=0),IFERROR(AND(G$2>VALUE(SUBSTITUTE(LEFT(INDIRECT("Mois!F"&MATCH($A$11,Mois!$A$1:$A$36,0)),5),"h",":")),G$2<VALUE(SUBSTITUTE(RIGHT(INDIRECT("Mois!F"&MATCH($A$11,Mois!$A$1:$A$36,0)),5),"h",":"))+(1/1440*15)),"FAUX")) -> FALSE | H15: =OR(AND(INDIRECT("Mois!F"&MATCH('Sem1'!$A$11,Mois!$A$1:$A$36,0))<>"",SUMPRODUCT(COUNTIF(INDIRECT("Mois!F"&MATCH('Sem1'!$A$11,Mois!$A$1:$A$36,0)),"*"&CHAR(47)&"*"))=0),IFERROR(AND(H$2>VALUE(SUBSTITUTE(LEFT(INDIRECT("Mois!F"&MATCH($A$11,Mois!$A$1:$A$36,0)),5),"h",":")),H$2<VALUE(SUBSTITUTE(RIGHT(INDIRECT("Mois!F"&MATCH($A$11,Mois!$A$1:$A$36,0)),5),"h",":"))+(1/1440*15)),"FAUX")) -> FALSE | I15: =OR(AND(INDIRECT("Mois!F"&MATCH('Sem1'!$A$11,Mois!$A$1:$A$36,0))<>"",SUMPRODUCT(COUNTIF(INDIRECT("Mois!F"&MATCH('Sem1'!$A$11,Mois!$A$1:$A$36,0)),"*"&CHAR(47)&"*"))=0),IFERROR(AND(I$2>VALUE(SUBSTITUTE(LEFT(INDIRECT("Mois!F"&MATCH($A$11,Mois!$A$1:$A$36,0)),5),"h",":")),I$2<VALUE(SUBSTITUTE(RIGHT(INDIRECT("Mois!F"&MATCH($A$11,Mois!$A$1:$A$36,0)),5),"h",":"))+(1/1440*15)),"FAUX")) -> FALSE | ... AX15: =OR(AND(INDIRECT("Mois!F"&MATCH('Sem1'!$A$11,Mois!$A$1:$A$36,0))<>"",SUMPRODUCT(COUNTIF(INDIRECT("Mois!F"&MATCH('Sem1'!$A$11,Mois!$A$1:$A$36,0)),"*"&CHAR(47)&"*"))=0),IFERROR(AND(AX$2>VALUE(SUBSTITUTE(LEFT(INDIRECT("Mois!F"&MATCH($A$11,Mois!$A$1:$A$36,0)),5),"h",":")),AX$2<VALUE(SUBSTITUTE(RIGHT(INDIRECT("Mois!F"&MATCH($A$11,Mois!$A$1:$A$36,0)),5),"h",":"))+(1/1440*15)),"FAUX")) -> FALSE
B16: =OR(AND(INDIRECT("Mois!G"&MATCH('Sem1'!$A$11,Mois!$A$1:$A$36,0))<>"",SUMPRODUCT(COUNTIF(INDIRECT("Mois!G"&MATCH('Sem1'!$A$11,Mois!$A$1:$A$36,0)),"*"&CHAR(47)&"*"))=0),IFERROR(AND(B$2>VALUE(SUBSTITUTE(LEFT(INDIRECT("Mois!G"&MATCH($A$11,Mois!$A$1:$A$36,0)),5),"h",":")),B$2<VALUE(SUBSTITUTE(RIGHT(INDIRECT("Mois!G"&MATCH($A$11,Mois!$A$1:$A$36,0)),5),"h",":"))+(1/1440*15)),"FAUX")) -> FALSE | C16: =OR(AND(INDIRECT("Mois!G"&MATCH('Sem1'!$A$11,Mois!$A$1:$A$36,0))<>"",SUMPRODUCT(COUNTIF(INDIRECT("Mois!G"&MATCH('Sem1'!$A$11,Mois!$A$1:$A$36,0)),"*"&CHAR(47)&"*"))=0),IFERROR(AND(C$2>VALUE(SUBSTITUTE(LEFT(INDIRECT("Mois!G"&MATCH($A$11,Mois!$A$1:$A$36,0)),5),"h",":")),C$2<VALUE(SUBSTITUTE(RIGHT(INDIRECT("Mois!G"&MATCH($A$11,Mois!$A$1:$A$36,0)),5),"h",":"))+(1/1440*15)),"FAUX")) -> FALSE | D16: =OR(AND(INDIRECT("Mois!G"&MATCH('Sem1'!$A$11,Mois!$A$1:$A$36,0))<>"",SUMPRODUCT(COUNTIF(INDIRECT("Mois!G"&MATCH('Sem1'!$A$11,Mois!$A$1:$A$36,0)),"*"&CHAR(47)&"*"))=0),IFERROR(AND(D$2>VALUE(SUBSTITUTE(LEFT(INDIRECT("Mois!G"&MATCH($A$11,Mois!$A$1:$A$36,0)),5),"h",":")),D$2<VALUE(SUBSTITUTE(RIGHT(INDIRECT("Mois!G"&MATCH($A$11,Mois!$A$1:$A$36,0)),5),"h",":"))+(1/1440*15)),"FAUX")) -> TRUE | E16: =OR(AND(INDIRECT("Mois!G"&MATCH('Sem1'!$A$11,Mois!$A$1:$A$36,0))<>"",SUMPRODUCT(COUNTIF(INDIRECT("Mois!G"&MATCH('Sem1'!$A$11,Mois!$A$1:$A$36,0)),"*"&CHAR(47)&"*"))=0),IFERROR(AND(E$2>VALUE(SUBSTITUTE(LEFT(INDIRECT("Mois!G"&MATCH($A$11,Mois!$A$1:$A$36,0)),5),"h",":")),E$2<VALUE(SUBSTITUTE(RIGHT(INDIRECT("Mois!G"&MATCH($A$11,Mois!$A$1:$A$36,0)),5),"h",":"))+(1/1440*15)),"FAUX")) -> TRUE | F16: =OR(AND(INDIRECT("Mois!G"&MATCH('Sem1'!$A$11,Mois!$A$1:$A$36,0))<>"",SUMPRODUCT(COUNTIF(INDIRECT("Mois!G"&MATCH('Sem1'!$A$11,Mois!$A$1:$A$36,0)),"*"&CHAR(47)&"*"))=0),IFERROR(AND(F$2>VALUE(SUBSTITUTE(LEFT(INDIRECT("Mois!G"&MATCH($A$11,Mois!$A$1:$A$36,0)),5),"h",":")),F$2<VALUE(SUBSTITUTE(RIGHT(INDIRECT("Mois!G"&MATCH($A$11,Mois!$A$1:$A$36,0)),5),"h",":"))+(1/1440*15)),"FAUX")) -> TRUE | G16: =OR(AND(INDIRECT("Mois!G"&MATCH('Sem1'!$A$11,Mois!$A$1:$A$36,0))<>"",SUMPRODUCT(COUNTIF(INDIRECT("Mois!G"&MATCH('Sem1'!$A$11,Mois!$A$1:$A$36,0)),"*"&CHAR(47)&"*"))=0),IFERROR(AND(G$2>VALUE(SUBSTITUTE(LEFT(INDIRECT("Mois!G"&MATCH($A$11,Mois!$A$1:$A$36,0)),5),"h",":")),G$2<VALUE(SUBSTITUTE(RIGHT(INDIRECT("Mois!G"&MATCH($A$11,Mois!$A$1:$A$36,0)),5),"h",":"))+(1/1440*15)),"FAUX")) -> TRUE | H16: =OR(AND(INDIRECT("Mois!G"&MATCH('Sem1'!$A$11,Mois!$A$1:$A$36,0))<>"",SUMPRODUCT(COUNTIF(INDIRECT("Mois!G"&MATCH('Sem1'!$A$11,Mois!$A$1:$A$36,0)),"*"&CHAR(47)&"*"))=0),IFERROR(AND(H$2>VALUE(SUBSTITUTE(LEFT(INDIRECT("Mois!G"&MATCH($A$11,Mois!$A$1:$A$36,0)),5),"h",":")),H$2<VALUE(SUBSTITUTE(RIGHT(INDIRECT("Mois!G"&MATCH($A$11,Mois!$A$1:$A$36,0)),5),"h",":"))+(1/1440*15)),"FAUX")) -> TRUE | I16: =OR(AND(INDIRECT("Mois!G"&MATCH('Sem1'!$A$11,Mois!$A$1:$A$36,0))<>"",SUMPRODUCT(COUNTIF(INDIRECT("Mois!G"&MATCH('Sem1'!$A$11,Mois!$A$1:$A$36,0)),"*"&CHAR(47)&"*"))=0),IFERROR(AND(I$2>VALUE(SUBSTITUTE(LEFT(INDIRECT("Mois!G"&MATCH($A$11,Mois!$A$1:$A$36,0)),5),"h",":")),I$2<VALUE(SUBSTITUTE(RIGHT(INDIRECT("Mois!G"&MATCH($A$11,Mois!$A$1:$A$36,0)),5),"h",":"))+(1/1440*15)),"FAUX")) -> TRUE | ... AX16: =OR(AND(INDIRECT("Mois!G"&MATCH('Sem1'!$A$11,Mois!$A$1:$A$36,0))<>"",SUMPRODUCT(COUNTIF(INDIRECT("Mois!G"&MATCH('Sem1'!$A$11,Mois!$A$1:$A$36,0)),"*"&CHAR(47)&"*"))=0),IFERROR(AND(AX$2>VALUE(SUBSTITUTE(LEFT(INDIRECT("Mois!G"&MATCH($A$11,Mois!$A$1:$A$36,0)),5),"h",":")),AX$2<VALUE(SUBSTITUTE(RIGHT(INDIRECT("Mois!G"&MATCH($A$11,Mois!$A$1:$A$36,0)),5),"h",":"))+(1/1440*15)),"FAUX")) -> FALSE
B17: =OR(AND(INDIRECT("Mois!H"&MATCH('Sem1'!$A$11,Mois!$A$1:$A$36,0))<>"",SUMPRODUCT(COUNTIF(INDIRECT("Mois!H"&MATCH('Sem1'!$A$11,Mois!$A$1:$A$36,0)),"*"&CHAR(47)&"*"))=0),IFERROR(AND(B$2>VALUE(SUBSTITUTE(LEFT(INDIRECT("Mois!H"&MATCH($A$11,Mois!$A$1:$A$36,0)),5),"h",":")),B$2<VALUE(SUBSTITUTE(RIGHT(INDIRECT("Mois!H"&MATCH($A$11,Mois!$A$1:$A$36,0)),5),"h",":"))+(1/1440*15)),"FAUX")) -> TRUE | C17: =OR(AND(INDIRECT("Mois!H"&MATCH('Sem1'!$A$11,Mois!$A$1:$A$36,0))<>"",SUMPRODUCT(COUNTIF(INDIRECT("Mois!H"&MATCH('Sem1'!$A$11,Mois!$A$1:$A$36,0)),"*"&CHAR(47)&"*"))=0),IFERROR(AND(C$2>VALUE(SUBSTITUTE(LEFT(INDIRECT("Mois!H"&MATCH($A$11,Mois!$A$1:$A$36,0)),5),"h",":")),C$2<VALUE(SUBSTITUTE(RIGHT(INDIRECT("Mois!H"&MATCH($A$11,Mois!$A$1:$A$36,0)),5),"h",":"))+(1/1440*15)),"FAUX")) -> TRUE | D17: =OR(AND(INDIRECT("Mois!H"&MATCH('Sem1'!$A$11,Mois!$A$1:$A$36,0))<>"",SUMPRODUCT(COUNTIF(INDIRECT("Mois!H"&MATCH('Sem1'!$A$11,Mois!$A$1:$A$36,0)),"*"&CHAR(47)&"*"))=0),IFERROR(AND(D$2>VALUE(SUBSTITUTE(LEFT(INDIRECT("Mois!H"&MATCH($A$11,Mois!$A$1:$A$36,0)),5),"h",":")),D$2<VALUE(SUBSTITUTE(RIGHT(INDIRECT("Mois!H"&MATCH($A$11,Mois!$A$1:$A$36,0)),5),"h",":"))+(1/1440*15)),"FAUX")) -> TRUE | E17: =OR(AND(INDIRECT("Mois!H"&MATCH('Sem1'!$A$11,Mois!$A$1:$A$36,0))<>"",SUMPRODUCT(COUNTIF(INDIRECT("Mois!H"&MATCH('Sem1'!$A$11,Mois!$A$1:$A$36,0)),"*"&CHAR(47)&"*"))=0),IFERROR(AND(E$2>VALUE(SUBSTITUTE(LEFT(INDIRECT("Mois!H"&MATCH($A$11,Mois!$A$1:$A$36,0)),5),"h",":")),E$2<VALUE(SUBSTITUTE(RIGHT(INDIRECT("Mois!H"&MATCH($A$11,Mois!$A$1:$A$36,0)),5),"h",":"))+(1/1440*15)),"FAUX")) -> TRUE | F17: =OR(AND(INDIRECT("Mois!H"&MATCH('Sem1'!$A$11,Mois!$A$1:$A$36,0))<>"",SUMPRODUCT(COUNTIF(INDIRECT("Mois!H"&MATCH('Sem1'!$A$11,Mois!$A$1:$A$36,0)),"*"&CHAR(47)&"*"))=0),IFERROR(AND(F$2>VALUE(SUBSTITUTE(LEFT(INDIRECT("Mois!H"&MATCH($A$11,Mois!$A$1:$A$36,0)),5),"h",":")),F$2<VALUE(SUBSTITUTE(RIGHT(INDIRECT("Mois!H"&MATCH($A$11,Mois!$A$1:$A$36,0)),5),"h",":"))+(1/1440*15)),"FAUX")) -> TRUE | G17: =OR(AND(INDIRECT("Mois!H"&MATCH('Sem1'!$A$11,Mois!$A$1:$A$36,0))<>"",SUMPRODUCT(COUNTIF(INDIRECT("Mois!H"&MATCH('Sem1'!$A$11,Mois!$A$1:$A$36,0)),"*"&CHAR(47)&"*"))=0),IFERROR(AND(G$2>VALUE(SUBSTITUTE(LEFT(INDIRECT("Mois!H"&MATCH($A$11,Mois!$A$1:$A$36,0)),5),"h",":")),G$2<VALUE(SUBSTITUTE(RIGHT(INDIRECT("Mois!H"&MATCH($A$11,Mois!$A$1:$A$36,0)),5),"h",":"))+(1/1440*15)),"FAUX")) -> TRUE | H17: =OR(AND(INDIRECT("Mois!H"&MATCH('Sem1'!$A$11,Mois!$A$1:$A$36,0))<>"",SUMPRODUCT(COUNTIF(INDIRECT("Mois!H"&MATCH('Sem1'!$A$11,Mois!$A$1:$A$36,0)),"*"&CHAR(47)&"*"))=0),IFERROR(AND(H$2>VALUE(SUBSTITUTE(LEFT(INDIRECT("Mois!H"&MATCH($A$11,Mois!$A$1:$A$36,0)),5),"h",":")),H$2<VALUE(SUBSTITUTE(RIGHT(INDIRECT("Mois!H"&MATCH($A$11,Mois!$A$1:$A$36,0)),5),"h",":"))+(1/1440*15)),"FAUX")) -> TRUE | I17: =OR(AND(INDIRECT("Mois!H"&MATCH('Sem1'!$A$11,Mois!$A$1:$A$36,0))<>"",SUMPRODUCT(COUNTIF(INDIRECT("Mois!H"&MATCH('Sem1'!$A$11,Mois!$A$1:$A$36,0)),"*"&CHAR(47)&"*"))=0),IFERROR(AND(I$2>VALUE(SUBSTITUTE(LEFT(INDIRECT("Mois!H"&MATCH($A$11,Mois!$A$1:$A$36,0)),5),"h",":")),I$2<VALUE(SUBSTITUTE(RIGHT(INDIRECT("Mois!H"&MATCH($A$11,Mois!$A$1:$A$36,0)),5),"h",":"))+(1/1440*15)),"FAUX")) -> TRUE | ... AX17: =OR(AND(INDIRECT("Mois!H"&MATCH('Sem1'!$A$11,Mois!$A$1:$A$36,0))<>"",SUMPRODUCT(COUNTIF(INDIRECT("Mois!H"&MATCH('Sem1'!$A$11,Mois!$A$1:$A$36,0)),"*"&CHAR(47)&"*"))=0),IFERROR(AND(AX$2>VALUE(SUBSTITUTE(LEFT(INDIRECT("Mois!H"&MATCH($A$11,Mois!$A$1:$A$36,0)),5),"h",":")),AX$2<VALUE(SUBSTITUTE(RIGHT(INDIRECT("Mois!H"&MATCH($A$11,Mois!$A$1:$A$36,0)),5),"h",":"))+(1/1440*15)),"FAUX")) -> TRUE
