Workbook

Sheet Mois
D2: Planning Mars 2017
B4: Amelie | C4: Amandine | D4: Camille B | E4: Mireille | F4: Elsa | G4: Margot | H4: Marine | I4: Eva
A12: 42800 | B12: Bureau | C12: 09h00/17h00 | D12: 07h15/14h15 | E12: 11h30/18h30 | F12: 07h30/14h30 | G12: 11h30/18h30 | H12: CFA | I12: 10h00/17h00 | K12: Saisie des dates en colonne A >> 06/3/17
A13: 42801 | B13: 11h30/18h30 | C13: 0.8 | D13: 11h30/18h30 | E13: 07h30/14h30 | F13: 09h00/17h00 | G13: 07h15/14h15 | H13: CFA | I13: 10h00/17h00 | K13: Tous les horaires sont corrigés avec 2 chiffres avant et 2 chiffres après le h
A14: 42802 | B14: 11h30/18h30 | C14: 11H30/18H30 | D14: 10h00/17h00 | E14: 7h30/14h30 | F14: CL | G14: 07h15/14h15 | H14: CFA | I14: 09h00/17h00
A15: 42803 | B15: 07h15/14h15 | C15: 07h30/14h30 | D15: concours | E15: 11h30/18h30 | F15: 09h00/17h00 | G15: 11h30/18h30 | H15: CFA
A16: 42804 | B16: 0.8 | C16: 11h30/18h30 | D16: 07h15/14h15 | E16: 11h30/18h30 | F16: 07h30/14h30 | G16: concours | H16: CFA | I16: 09h00/17h00
A19: 42807 | B19: Bureau | C19: 10h/17h | D19: 7h15/14h15 | E19: 7h30/14h30 | F19: 09/17h | G19: 11h30/18h30 | H19: 11h30/18h30
A20: 42808 | B20: 0.8 | C20: 09h00/17h | D20: 11H30/18H30 | E20: 11H30/18H30 | F20: 7h30/14h30 | G20: 7h15/14h15 | H20: 10h/17h
A21: 42809 | B21: 7h15/14h15 | C21: 0.8 | D21: 11H30/18H30 | E21: 7h30/14h30 | F21: CL | G21: 11H30/18H30 | H21: 09h/17h | I21: 10H/17H
A22: 42810 | B22: 11h30/18h30 | C22: 09h00/17h | D22: 10h/17h | E22: Ménage | F22: 11H30/18H30 | G22: 7h15/14h15 | H22: 7h30/14h30
A23: 42811 | B23: 10h/17h | C23: Bilupo | D23: 7h15/14h15 | E23: 11H30/18H30 | F23: 7h30/14h30 | G23: 11H30/18H30 | H23: 09h/17h
A26: 42814 | B26: Bureau | C26: 09h/17h | D26: 11H30/18H30 | E26: 11H30/18H30 | F26: 7h30/14h30 | G26: 7h15/14h15 | H26: CFA | I26: 10h/17h
A27: 42815 | B27: 0.8 | C27: 09h00/17h | D27: 7h15/14h15 | E27: 7h30/14h30 | F27: 11H30/18H30 | G27: 11H30/18H30 | H27: CFA | I27: 9h/16h
A28: 42816 | B28: 7h30/14h30 | C28: 11H30/18H30 | D28: 11H30/18H30 | E28: 09h/17h | F28: CL | G28: 7h15/14h15 | H28: CFA | I28: 10h/17h
A29: 42817 | B29: 7h15/14h15 | C29: 09h/17h | D29: 10h/17h | E29: 11H30/18H30 | F29: 7h30/14h30 | G29: 11H30/18H30 | H29: CFA
A30: 42818 | B30: 11h30/18h30 | C30: 0.8 | D30: 7h15/14h15 | E30: 7h30/14h30 | F30: 11H30/18H30 | G30: 09h/17h | H30: CFA | I30: 10h/17h
A32: 42821 | B32: Bureau | C32: 09h00/17h | D32: 7h15/14h15 | E32: 7h30/14h30 | F32: 11H30/18H30 | G32: 11H30/18H30 | H32: 10h/17h
A33: 42822 | B33: 11H30/18H30 | C33: 0.8 | D33: 10H/17H | E33: 11H30/18H30 | F33: 7h30/14h30 | G33: 7h15/14h15 | H33: 09h/17h
A34: 42823 | B34: 7h15/14h15 | C34: CA | D34: 11H30/18H30 | E34: 11H30/18H30 | F34: CL | G34: 10H/17H | H34: 7h30/14h30 | I34: 09h/17h
A35: 42824 | B35: 0.8 | C35: CA | D35: 7h15/14h15 | E35: 10H/17H | F35: 7h30/14h30 | G35: 11H30/18H30 | H35: 11H30/18H30 | I35: 09H/17H
A36: 42825 | B36: CA | C36: CA | D36: 11H30/18H30 | E36: 7h30/14h30 | F36: 11H30/18H30 | G36: 7h15/14h15 | H36: 10H/17H | I36: 09H/17H
A39: Mardi 14 / réunion d'équipe
A40: Elsa, en gras adaptation Andréa
A41: Détachement prépa spectacle qui éviteront des heures sup pour réunion
A42: Jour en gras rouge, chercher les repas et les préparer
A43: Deux jours de détachement ménage car les heures de Sandrine ne suffisent pas à tout faire

Sheet Sem1
A1: PLANNING DU 06 AU 10 MARS 2017
B2: 0.29166667 | C2: =B2+(1/1440)*15 -> 0.30208333 | D2: =C2+(1/1440)*15 -> 0.3125 | E2: =D2+(1/1440)*15 -> 0.32291667 | F2: =E2+(1/1440)*15 -> 0.33333333 | G2: =F2+(1/1440)*15 -> 0.34375 | H2: =G2+(1/1440)*15 -> 0.35416667 | I2: =H2+(1/1440)*15 -> 0.36458333 | J2: =I2+(1/1440)*15 -> 0.375 | ... AV2: =AU2+(1/1440)*15 -> 0.77083333 | AW2: 0.78125 | AX2: =AW2+(1/1440)*15 -> 0.79166667
A3: 42800 | B3: =OR(AND(INDIRECT("Mois!B"&MATCH('Sem1'!$A$3,Mois!$A$1:$A$36,0))<>"",SUMPRODUCT(COUNTIF(INDIRECT("Mois!B"&MATCH('Sem1'!$A$3,Mois!$A$1:$A$36,0)),"*"&CHAR(47)&"*"))=0),IFERROR(AND(B$2>VALUE(SUBSTITUTE(LEFT(INDIRECT("Mois!B"&MATCH($A$3,Mois!$A$1:$A$36,0)),5),"h",":")),B$2<VALUE(SUBSTITUTE(RIGHT(INDIRECT("Mois!B"&MATCH($A$3,Mois!$A$1:$A$36,0)),5),"h",":"))+(1/1440*15)),"FAUX")) -> TRUE | C3: =OR(AND(INDIRECT("Mois!B"&MATCH('Sem1'!$A$3,Mois!$A$1:$A$36,0))<>"",SUMPRODUCT(COUNTIF(INDIRECT("Mois!B"&MATCH('Sem1'!$A$3,Mois!$A$1:$A$36,0)),"*"&CHAR(47)&"*"))=0),IFERROR(AND(C$2>VALUE(SUBSTITUTE(LEFT(INDIRECT("Mois!B"&MATCH($A$3,Mois!$A$1:$A$36,0)),5),"h",":")),C$2<VALUE(SUBSTITUTE(RIGHT(INDIRECT("Mois!B"&MATCH($A$3,Mois!$A$1:$A$36,0)),5),"h",":"))+(1/1440*15)),"FAUX")) -> TRUE | D3: =OR(AND(INDIRECT("Mois!B"&MATCH('Sem1'!$A$3,Mois!$A$1:$A$36,0))<>"",SUMPRODUCT(COUNTIF(INDIRECT("Mois!B"&MATCH('Sem1'!$A$3,Mois!$A$1:$A$36,0)),"*"&CHAR(47)&"*"))=0),IFERROR(AND(D$2>VALUE(SUBSTITUTE(LEFT(INDIRECT("Mois!B"&MATCH($A$3,Mois!$A$1:$A$36,0)),5),"h",":")),D$2<VALUE(SUBSTITUTE(RIGHT(INDIRECT("Mois!B"&MATCH($A$3,Mois!$A$1:$A$36,0)),5),"h",":"))+(1/1440*15)),"FAUX")) -> TRUE | E3: =OR(AND(INDIRECT("Mois!B"&MATCH('Sem1'!$A$3,Mois!$A$1:$A$36,0))<>"",SUMPRODUCT(COUNTIF(INDIRECT("Mois!B"&MATCH('Sem1'!$A$3,Mois!$A$1:$A$36,0)),"*"&CHAR(47)&"*"))=0),IFERROR(AND(E$2>VALUE(SUBSTITUTE(LEFT(INDIRECT("Mois!B"&MATCH($A$3,Mois!$A$1:$A$36,0)),5),"h",":")),E$2<VALUE(SUBSTITUTE(RIGHT(INDIRECT("Mois!B"&MATCH($A$3,Mois!$A$1:$A$36,0)),5),"h",":"))+(1/1440*15)),"FAUX")) -> TRUE | F3: =OR(AND(INDIRECT("Mois!B"&MATCH('Sem1'!$A$3,Mois!$A$1:$A$36,0))<>"",SUMPRODUCT(COUNTIF(INDIRECT("Mois!B"&MATCH('Sem1'!$A$3,Mois!$A$1:$A$36,0)),"*"&CHAR(47)&"*"))=0),IFERROR(AND(F$2>VALUE(SUBSTITUTE(LEFT(INDIRECT("Mois!B"&MATCH($A$3,Mois!$A$1:$A$36,0)),5),"h",":")),F$2<VALUE(SUBSTITUTE(RIGHT(INDIRECT("Mois!B"&MATCH($A$3,Mois!$A$1:$A$36,0)),5),"h",":"))+(1/1440*15)),"FAUX")) -> TRUE | G3: =OR(AND(INDIRECT("Mois!B"&MATCH('Sem1'!$A$3,Mois!$A$1:$A$36,0))<>"",SUMPRODUCT(COUNTIF(INDIRECT("Mois!B"&MATCH('Sem1'!$A$3,Mois!$A$1:$A$36,0)),"*"&CHAR(47)&"*"))=0),IFERROR(AND(G$2>VALUE(SUBSTITUTE(LEFT(INDIRECT("Mois!B"&MATCH($A$3,Mois!$A$1:$A$36,0)),5),"h",":")),G$2<VALUE(SUBSTITUTE(RIGHT(INDIRECT("Mois!B"&MATCH($A$3,Mois!$A$1:$A$36,0)),5),"h",":"))+(1/1440*15)),"FAUX")) -> TRUE | H3: =OR(AND(INDIRECT("Mois!B"&MATCH('Sem1'!$A$3,Mois!$A$1:$A$36,0))<>"",SUMPRODUCT(COUNTIF(INDIRECT("Mois!B"&MATCH('Sem1'!$A$3,Mois!$A$1:$A$36,0)),"*"&CHAR(47)&"*"))=0),IFERROR(AND(H$2>VALUE(SUBSTITUTE(LEFT(INDIRECT("Mois!B"&MATCH($A$3,Mois!$A$1:$A$36,0)),5),"h",":")),H$2<VALUE(SUBSTITUTE(RIGHT(INDIRECT("Mois!B"&MATCH($A$3,Mois!$A$1:$A$36,0)),5),"h",":"))+(1/1440*15)),"FAUX")) -> TRUE | I3: =OR(AND(INDIRECT("Mois!B"&MATCH('Sem1'!$A$3,Mois!$A$1:$A$36,0))<>"",SUMPRODUCT(COUNTIF(INDIRECT("Mois!B"&MATCH('Sem1'!$A$3,Mois!$A$1:$A$36,0)),"*"&CHAR(47)&"*"))=0),IFERROR(AND(I$2>VALUE(SUBSTITUTE(LEFT(INDIRECT("Mois!B"&MATCH($A$3,Mois!$A$1:$A$36,0)),5),"h",":")),I$2<VALUE(SUBSTITUTE(RIGHT(INDIRECT("Mois!B"&MATCH($A$3,Mois!$A$1:$A$36,0)),5),"h",":"))+(1/1440*15)),"FAUX")) -> TRUE | ... AX3: =OR(AND(INDIRECT("Mois!B"&MATCH('Sem1'!$A$3,Mois!$A$1:$A$36,0))<>"",SUMPRODUCT(COUNTIF(INDIRECT("Mois!B"&MATCH('Sem1'!$A$3,Mois!$A$1:$A$36,0)),"*"&CHAR(47)&"*"))=0),IFERROR(AND(AX$2>VALUE(SUBSTITUTE(LEFT(INDIRECT("Mois!B"&MATCH($A$3,Mois!$A$1:$A$36,0)),5),"h",":")),AX$2<VALUE(SUBSTITUTE(RIGHT(INDIRECT("Mois!B"&MATCH($A$3,Mois!$A$1:$A$36,0)),5),"h",":"))+(1/1440*15)),"FAUX")) -> TRUE
B4: =OR(AND(INDIRECT("Mois!C"&MATCH('Sem1'!$A$3,Mois!$A$1:$A$36,0))<>"",SUMPRODUCT(COUNTIF(INDIRECT("Mois!C"&MATCH('Sem1'!$A$3,Mois!$A$1:$A$36,0)),"*"&CHAR(47)&"*"))=0),IFERROR(AND(B$2>VALUE(SUBSTITUTE(LEFT(INDIRECT("Mois!C"&MATCH($A$3,Mois!$A$1:$A$36,0)),5),"h",":")),B$2<VALUE(SUBSTITUTE(RIGHT(INDIRECT("Mois!C"&MATCH($A$3,Mois!$A$1:$A$36,0)),5),"h",":"))+(1/1440*15)),"FAUX")) -> FALSE | C4: =OR(AND(INDIRECT("Mois!C"&MATCH('Sem1'!$A$3,Mois!$A$1:$A$36,0))<>"",SUMPRODUCT(COUNTIF(INDIRECT("Mois!C"&MATCH('Sem1'!$A$3,Mois!$A$1:$A$36,0)),"*"&CHAR(47)&"*"))=0),IFERROR(AND(C$2>VALUE(SUBSTITUTE(LEFT(INDIRECT("Mois!C"&MATCH($A$3,Mois!$A$1:$A$36,0)),5),"h",":")),C$2<VALUE(SUBSTITUTE(RIGHT(INDIRECT("Mois!C"&MATCH($A$3,Mois!$A$1:$A$36,0)),5),"h",":"))+(1/1440*15)),"FAUX")) -> FALSE | D4: =OR(AND(INDIRECT("Mois!C"&MATCH('Sem1'!$A$3,Mois!$A$1:$A$36,0))<>"",SUMPRODUCT(COUNTIF(INDIRECT("Mois!C"&MATCH('Sem1'!$A$3,Mois!$A$1:$A$36,0)),"*"&CHAR(47)&"*"))=0),IFERROR(AND(D$2>VALUE(SUBSTITUTE(LEFT(INDIRECT("Mois!C"&MATCH($A$3,Mois!$A$1:$A$36,0)),5),"h",":")),D$2<VALUE(SUBSTITUTE(RIGHT(INDIRECT("Mois!C"&MATCH($A$3,Mois!$A$1:$A$36,0)),5),"h",":"))+(1/1440*15)),"FAUX")) -> FALSE | E4: =OR(AND(INDIRECT("Mois!C"&MATCH('Sem1'!$A$3,Mois!$A$1:$A$36,0))<>"",SUMPRODUCT(COUNTIF(INDIRECT("Mois!C"&MATCH('Sem1'!$A$3,Mois!$A$1:$A$36,0)),"*"&CHAR(47)&"*"))=0),IFERROR(AND(E$2>VALUE(SUBSTITUTE(LEFT(INDIRECT("Mois!C"&MATCH($A$3,Mois!$A$1:$A$36,0)),5),"h",":")),E$2<VALUE(SUBSTITUTE(RIGHT(INDIRECT("Mois!C"&MATCH($A$3,Mois!$A$1:$A$36,0)),5),"h",":"))+(1/1440*15)),"FAUX")) -> FALSE | F4: =OR(AND(INDIRECT("Mois!C"&MATCH('Sem1'!$A$3,Mois!$A$1:$A$36,0))<>"",SUMPRODUCT(COUNTIF(INDIRECT("Mois!C"&MATCH('Sem1'!$A$3,Mois!$A$1:$A$36,0)),"*"&CHAR(47)&"*"))=0),IFERROR(AND(F$2>VALUE(SUBSTITUTE(LEFT(INDIRECT("Mois!C"&MATCH($A$3,Mois!$A$1:$A$36,0)),5),"h",":")),F$2<VALUE(SUBSTITUTE(RIGHT(INDIRECT("Mois!C"&MATCH($A$3,Mois!$A$1:$A$36,0)),5),"h",":"))+(1/1440*15)),"FAUX")) -> FALSE | G4: =OR(AND(INDIRECT("Mois!C"&MATCH('Sem1'!$A$3,Mois!$A$1:$A$36,0))<>"",SUMPRODUCT(COUNTIF(INDIRECT("Mois!C"&MATCH('Sem1'!$A$3,Mois!$A$1:$A$36,0)),"*"&CHAR(47)&"*"))=0),IFERROR(AND(G$2>VALUE(SUBSTITUTE(LEFT(INDIRECT("Mois!C"&MATCH($A$3,Mois!$A$1:$A$36,0)),5),"h",":")),G$2<VALUE(SUBSTITUTE(RIGHT(INDIRECT("Mois!C"&MATCH($A$3,Mois!$A$1:$A$36,0)),5),"h",":"))+(1/1440*15)),"FAUX")) -> FALSE | H4: =OR(AND(INDIRECT("Mois!C"&MATCH('Sem1'!$A$3,Mois!$A$1:$A$36,0))<>"",SUMPRODUCT(COUNTIF(INDIRECT("Mois!C"&MATCH('Sem1'!$A$3,Mois!$A$1:$A$36,0)),"*"&CHAR(47)&"*"))=0),IFERROR(AND(H$2>VALUE(SUBSTITUTE(LEFT(INDIRECT("Mois!C"&MATCH($A$3,Mois!$A$1:$A$36,0)),5),"h",":")),H$2<VALUE(SUBSTITUTE(RIGHT(INDIRECT("Mois!C"&MATCH($A$3,Mois!$A$1:$A$36,0)),5),"h",":"))+(1/1440*15)),"FAUX")) -> FALSE | I4: =OR(AND(INDIRECT("Mois!C"&MATCH('Sem1'!$A$3,Mois!$A$1:$A$36,0))<>"",SUMPRODUCT(COUNTIF(INDIRECT("Mois!C"&MATCH('Sem1'!$A$3,Mois!$A$1:$A$36,0)),"*"&CHAR(47)&"*"))=0),IFERROR(AND(I$2>VALUE(SUBSTITUTE(LEFT(INDIRECT("Mois!C"&MATCH($A$3,Mois!$A$1:$A$36,0)),5),"h",":")),I$2<VALUE(SUBSTITUTE(RIGHT(INDIRECT("Mois!C"&MATCH($A$3,Mois!$A$1:$A$36,0)),5),"h",":"))+(1/1440*15)),"FAUX")) -> FALSE | ... AX4: =OR(AND(INDIRECT("Mois!C"&MATCH('Sem1'!$A$3,Mois!$A$1:$A$36,0))<>"",SUMPRODUCT(COUNTIF(INDIRECT("Mois!C"&MATCH('Sem1'!$A$3,Mois!$A$1:$A$36,0)),"*"&CHAR(47)&"*"))=0),IFERROR(AND(AX$2>VALUE(SUBSTITUTE(LEFT(INDIRECT("Mois!C"&MATCH($A$3,Mois!$A$1:$A$36,0)),5),"h",":")),AX$2<VALUE(SUBSTITUTE(RIGHT(INDIRECT("Mois!C"&MATCH($A$3,Mois!$A$1:$A$36,0)),5),"h",":"))+(1/1440*15)),"FAUX")) -> FALSE
B5: =OR(AND(INDIRECT("Mois!D"&MATCH('Sem1'!$A$3,Mois!$A$1:$A$36,0))<>"",SUMPRODUCT(COUNTIF(INDIRECT("Mois!D"&MATCH('Sem1'!$A$3,Mois!$A$1:$A$36,0)),"*"&CHAR(47)&"*"))=0),IFERROR(AND(B$2>VALUE(SUBSTITUTE(LEFT(INDIRECT("Mois!D"&MATCH($A$3,Mois!$A$1:$A$36,0)),5),"h",":")),B$2<VALUE(SUBSTITUTE(RIGHT(INDIRECT("Mois!D"&MATCH($A$3,Mois!$A$1:$A$36,0)),5),"h",":"))+(1/1440*15)),"FAUX")) -> FALSE | C5: =OR(AND(INDIRECT("Mois!D"&MATCH('Sem1'!$A$3,Mois!$A$1:$A$36,0))<>"",SUMPRODUCT(COUNTIF(INDIRECT("Mois!D"&MATCH('Sem1'!$A$3,Mois!$A$1:$A$36,0)),"*"&CHAR(47)&"*"))=0),IFERROR(AND(C$2>VALUE(SUBSTITUTE(LEFT(INDIRECT("Mois!D"&MATCH($A$3,Mois!$A$1:$A$36,0)),5),"h",":")),C$2<VALUE(SUBSTITUTE(RIGHT(INDIRECT("Mois!D"&MATCH($A$3,Mois!$A$1:$A$36,0)),5),"h",":"))+(1/1440*15)),"FAUX")) -> FALSE | D5: =OR(AND(INDIRECT("Mois!D"&MATCH('Sem1'!$A$3,Mois!$A$1:$A$36,0))<>"",SUMPRODUCT(COUNTIF(INDIRECT("Mois!D"&MATCH('Sem1'!$A$3,Mois!$A$1:$A$36,0)),"*"&CHAR(47)&"*"))=0),IFERROR(AND(D$2>VALUE(SUBSTITUTE(LEFT(INDIRECT("Mois!D"&MATCH($A$3,Mois!$A$1:$A$36,0)),5),"h",":")),D$2<VALUE(SUBSTITUTE(RIGHT(INDIRECT("Mois!D"&MATCH($A$3,Mois!$A$1:$A$36,0)),5),"h",":"))+(1/1440*15)),"FAUX")) -> TRUE | E5: =OR(AND(INDIRECT("Mois!D"&MATCH('Sem1'!$A$3,Mois!$A$1:$A$36,0))<>"",SUMPRODUCT(COUNTIF(INDIRECT("Mois!D"&MATCH('Sem1'!$A$3,Mois!$A$1:$A$36,0)),"*"&CHAR(47)&"*"))=0),IFERROR(AND(E$2>VALUE(SUBSTITUTE(LEFT(INDIRECT("Mois!D"&MATCH($A$3,Mois!$A$1:$A$36,0)),5),"h",":")),E$2<VALUE(SUBSTITUTE(RIGHT(INDIRECT("Mois!D"&MATCH($A$3,Mois!$A$1:$A$36,0)),5),"h",":"))+(1/1440*15)),"FAUX")) -> TRUE | F5: =OR(AND(INDIRECT("Mois!D"&MATCH('Sem1'!$A$3,Mois!$A$1:$A$36,0))<>"",SUMPRODUCT(COUNTIF(INDIRECT("Mois!D"&MATCH('Sem1'!$A$3,Mois!$A$1:$A$36,0)),"*"&CHAR(47)&"*"))=0),IFERROR(AND(F$2>VALUE(SUBSTITUTE(LEFT(INDIRECT("Mois!D"&MATCH($A$3,Mois!$A$1:$A$36,0)),5),"h",":")),F$2<VALUE(SUBSTITUTE(RIGHT(INDIRECT("Mois!D"&MATCH($A$3,Mois!$A$1:$A$36,0)),5),"h",":"))+(1/1440*15)),"FAUX")) -> TRUE | G5: =OR(AND(INDIRECT("Mois!D"&MATCH('Sem1'!$A$3,Mois!$A$1:$A$36,0))<>"",SUMPRODUCT(COUNTIF(INDIRECT("Mois!D"&MATCH('Sem1'!$A$3,Mois!$A$1:$A$36,0)),"*"&CHAR(47)&"*"))=0),IFERROR(AND(G$2>VALUE(SUBSTITUTE(LEFT(INDIRECT("Mois!D"&MATCH($A$3,Mois!$A$1:$A$36,0)),5),"h",":")),G$2<VALUE(SUBSTITUTE(RIGHT(INDIRECT("Mois!D"&MATCH($A$3,Mois!$A$1:$A$36,0)),5),"h",":"))+(1/1440*15)),"FAUX")) -> TRUE | H5: =OR(AND(INDIRECT("Mois!D"&MATCH('Sem1'!$A$3,Mois!$A$1:$A$36,0))<>"",SUMPRODUCT(COUNTIF(INDIRECT("Mois!D"&MATCH('Sem1'!$A$3,Mois!$A$1:$A$36,0)),"*"&CHAR(47)&"*"))=0),IFERROR(AND(H$2>VALUE(SUBSTITUTE(LEFT(INDIRECT("Mois!D"&MATCH($A$3,Mois!$A$1:$A$36,0)),5),"h",":")),H$2<VALUE(SUBSTITUTE(RIGHT(INDIRECT("Mois!D"&MATCH($A$3,Mois!$A$1:$A$36,0)),5),"h",":"))+(1/1440*15)),"FAUX")) -> TRUE | I5: =OR(AND(INDIRECT("Mois!D"&MATCH('Sem1'!$A$3,Mois!$A$1:$A$36,0))<>"",SUMPRODUCT(COUNTIF(INDIRECT("Mois!D"&MATCH('Sem1'!$A$3,Mois!$A$1:$A$36,0)),"*"&CHAR(47)&"*"))=0),IFERROR(AND(I$2>VALUE(SUBSTITUTE(LEFT(INDIRECT("Mois!D"&MATCH($A$3,Mois!$A$1:$A$36,0)),5),"h",":")),I$2<VALUE(SUBSTITUTE(RIGHT(INDIRECT("Mois!D"&MATCH($A$3,Mois!$A$1:$A$36,0)),5),"h",":"))+(1/1440*15)),"FAUX")) -> TRUE | ... AX5: =OR(AND(INDIRECT("Mois!D"&MATCH('Sem1'!$A$3,Mois!$A$1:$A$36,0))<>"",SUMPRODUCT(COUNTIF(INDIRECT("Mois!D"&MATCH('Sem1'!$A$3,Mois!$A$1:$A$36,0)),"*"&CHAR(47)&"*"))=0),IFERROR(AND(AX$2>VALUE(SUBSTITUTE(LEFT(INDIRECT("Mois!D"&MATCH($A$3,Mois!$A$1:$A$36,0)),5),"h",":")),AX$2<VALUE(SUBSTITUTE(RIGHT(INDIRECT("Mois!D"&MATCH($A$3,Mois!$A$1:$A$36,0)),5),"h",":"))+(1/1440*15)),"FAUX")) -> FALSE
B6: =OR(AND(INDIRECT("Mois!E"&MATCH('Sem1'!$A$3,Mois!$A$1:$A$36,0))<>"",SUMPRODUCT(COUNTIF(INDIRECT("Mois!E"&MATCH('Sem1'!$A$3,Mois!$A$1:$A$36,0)),"*"&CHAR(47)&"*"))=0),IFERROR(AND(B$2>VALUE(SUBSTITUTE(LEFT(INDIRECT("Mois!E"&MATCH($A$3,Mois!$A$1:$A$36,0)),5),"h",":")),B$2<VALUE(SUBSTITUTE(RIGHT(INDIRECT("Mois!E"&MATCH($A$3,Mois!$A$1:$A$36,0)),5),"h",":"))+(1/1440*15)),"FAUX")) -> FALSE | C6: =OR(AND(INDIRECT("Mois!E"&MATCH('Sem1'!$A$3,Mois!$A$1:$A$36,0))<>"",SUMPRODUCT(COUNTIF(INDIRECT("Mois!E"&MATCH('Sem1'!$A$3,Mois!$A$1:$A$36,0)),"*"&CHAR(47)&"*"))=0),IFERROR(AND(C$2>VALUE(SUBSTITUTE(LEFT(INDIRECT("Mois!E"&MATCH($A$3,Mois!$A$1:$A$36,0)),5),"h",":")),C$2<VALUE(SUBSTITUTE(RIGHT(INDIRECT("Mois!E"&MATCH($A$3,Mois!$A$1:$A$36,0)),5),"h",":"))+(1/1440*15)),"FAUX")) -> FALSE | D6: =OR(AND(INDIRECT("Mois!E"&MATCH('Sem1'!$A$3,Mois!$A$1:$A$36,0))<>"",SUMPRODUCT(COUNTIF(INDIRECT("Mois!E"&MATCH('Sem1'!$A$3,Mois!$A$1:$A$36,0)),"*"&CHAR(47)&"*"))=0),IFERROR(AND(D$2>VALUE(SUBSTITUTE(LEFT(INDIRECT("Mois!E"&MATCH($A$3,Mois!$A$1:$A$36,0)),5),"h",":")),D$2<VALUE(SUBSTITUTE(RIGHT(INDIRECT("Mois!E"&MATCH($A$3,Mois!$A$1:$A$36,0)),5),"h",":"))+(1/1440*15)),"FAUX")) -> FALSE | E6: =OR(AND(INDIRECT("Mois!E"&MATCH('Sem1'!$A$3,Mois!$A$1:$A$36,0))<>"",SUMPRODUCT(COUNTIF(INDIRECT("Mois!E"&MATCH('Sem1'!$A$3,Mois!$A$1:$A$36,0)),"*"&CHAR(47)&"*"))=0),IFERROR(AND(E$2>VALUE(SUBSTITUTE(LEFT(INDIRECT("Mois!E"&MATCH($A$3,Mois!$A$1:$A$36,0)),5),"h",":")),E$2<VALUE(SUBSTITUTE(RIGHT(INDIRECT("Mois!E"&MATCH($A$3,Mois!$A$1:$A$36,0)),5),"h",":"))+(1/1440*15)),"FAUX")) -> FALSE | F6: =OR(AND(INDIRECT("Mois!E"&MATCH('Sem1'!$A$3,Mois!$A$1:$A$36,0))<>"",SUMPRODUCT(COUNTIF(INDIRECT("Mois!E"&MATCH('Sem1'!$A$3,Mois!$A$1:$A$36,0)),"*"&CHAR(47)&"*"))=0),IFERROR(AND(F$2>VALUE(SUBSTITUTE(LEFT(INDIRECT("Mois!E"&MATCH($A$3,Mois!$A$1:$A$36,0)),5),"h",":")),F$2<VALUE(SUBSTITUTE(RIGHT(INDIRECT("Mois!E"&MATCH($A$3,Mois!$A$1:$A$36,0)),5),"h",":"))+(1/1440*15)),"FAUX")) -> FALSE | G6: =OR(AND(INDIRECT("Mois!E"&MATCH('Sem1'!$A$3,Mois!$A$1:$A$36,0))<>"",SUMPRODUCT(COUNTIF(INDIRECT("Mois!E"&MATCH('Sem1'!$A$3,Mois!$A$1:$A$36,0)),"*"&CHAR(47)&"*"))=0),IFERROR(AND(G$2>VALUE(SUBSTITUTE(LEFT(INDIRECT("Mois!E"&MATCH($A$3,Mois!$A$1:$A$36,0)),5),"h",":")),G$2<VALUE(SUBSTITUTE(RIGHT(INDIRECT("Mois!E"&MATCH($A$3,Mois!$A$1:$A$36,0)),5),"h",":"))+(1/1440*15)),"FAUX")) -> FALSE | H6: =OR(AND(INDIRECT("Mois!E"&MATCH('Sem1'!$A$3,Mois!$A$1:$A$36,0))<>"",SUMPRODUCT(COUNTIF(INDIRECT("Mois!E"&MATCH('Sem1'!$A$3,Mois!$A$1:$A$36,0)),"*"&CHAR(47)&"*"))=0),IFERROR(AND(H$2>VALUE(SUBSTITUTE(LEFT(INDIRECT("Mois!E"&MATCH($A$3,Mois!$A$1:$A$36,0)),5),"h",":")),H$2<VALUE(SUBSTITUTE(RIGHT(INDIRECT("Mois!E"&MATCH($A$3,Mois!$A$1:$A$36,0)),5),"h",":"))+(1/1440*15)),"FAUX")) -> FALSE | I6: =OR(AND(INDIRECT("Mois!E"&MATCH('Sem1'!$A$3,Mois!$A$1:$A$36,0))<>"",SUMPRODUCT(COUNTIF(INDIRECT("Mois!E"&MATCH('Sem1'!$A$3,Mois!$A$1:$A$36,0)),"*"&CHAR(47)&"*"))=0),IFERROR(AND(I$2>VALUE(SUBSTITUTE(LEFT(INDIRECT("Mois!E"&MATCH($A$3,Mois!$A$1:$A$36,0)),5),"h",":")),I$2<VALUE(SUBSTITUTE(RIGHT(INDIRECT("Mois!E"&MATCH($A$3,Mois!$A$1:$A$36,0)),5),"h",":"))+(1/1440*15)),"FAUX")) -> FALSE | ... AX6: =OR(AND(INDIRECT("Mois!E"&MATCH('Sem1'!$A$3,Mois!$A$1:$A$36,0))<>"",SUMPRODUCT(COUNTIF(INDIRECT("Mois!E"&MATCH('Sem1'!$A$3,Mois!$A$1:$A$36,0)),"*"&CHAR(47)&"*"))=0),IFERROR(AND(AX$2>VALUE(SUBSTITUTE(LEFT(INDIRECT("Mois!E"&MATCH($A$3,Mois!$A$1:$A$36,0)),5),"h",":")),AX$2<VALUE(SUBSTITUTE(RIGHT(INDIRECT("Mois!E"&MATCH($A$3,Mois!$A$1:$A$36,0)),5),"h",":"))+(1/1440*15)),"FAUX")) -> FALSE
B7: =OR(AND(INDIRECT("Mois!F"&MATCH('Sem1'!$A$3,Mois!$A$1:$A$36,0))<>"",SUMPRODUCT(COUNTIF(INDIRECT("Mois!F"&MATCH('Sem1'!$A$3,Mois!$A$1:$A$36,0)),"*"&CHAR(47)&"*"))=0),IFERROR(AND(B$2>VALUE(SUBSTITUTE(LEFT(INDIRECT("Mois!F"&MATCH($A$3,Mois!$A$1:$A$36,0)),5),"h",":")),B$2<VALUE(SUBSTITUTE(RIGHT(INDIRECT("Mois!F"&MATCH($A$3,Mois!$A$1:$A$36,0)),5),"h",":"))+(1/1440*15)),"FAUX")) -> FALSE | C7: =OR(AND(INDIRECT("Mois!F"&MATCH('Sem1'!$A$3,Mois!$A$1:$A$36,0))<>"",SUMPRODUCT(COUNTIF(INDIRECT("Mois!F"&MATCH('Sem1'!$A$3,Mois!$A$1:$A$36,0)),"*"&CHAR(47)&"*"))=0),IFERROR(AND(C$2>VALUE(SUBSTITUTE(LEFT(INDIRECT("Mois!F"&MATCH($A$3,Mois!$A$1:$A$36,0)),5),"h",":")),C$2<VALUE(SUBSTITUTE(RIGHT(INDIRECT("Mois!F"&MATCH($A$3,Mois!$A$1:$A$36,0)),5),"h",":"))+(1/1440*15)),"FAUX")) -> FALSE | D7: =OR(AND(INDIRECT("Mois!F"&MATCH('Sem1'!$A$3,Mois!$A$1:$A$36,0))<>"",SUMPRODUCT(COUNTIF(INDIRECT("Mois!F"&MATCH('Sem1'!$A$3,Mois!$A$1:$A$36,0)),"*"&CHAR(47)&"*"))=0),IFERROR(AND(D$2>VALUE(SUBSTITUTE(LEFT(INDIRECT("Mois!F"&MATCH($A$3,Mois!$A$1:$A$36,0)),5),"h",":")),D$2<VALUE(SUBSTITUTE(RIGHT(INDIRECT("Mois!F"&MATCH($A$3,Mois!$A$1:$A$36,0)),5),"h",":"))+(1/1440*15)),"FAUX")) -> FALSE | E7: =OR(AND(INDIRECT("Mois!F"&MATCH('Sem1'!$A$3,Mois!$A$1:$A$36,0))<>"",SUMPRODUCT(COUNTIF(INDIRECT("Mois!F"&MATCH('Sem1'!$A$3,Mois!$A$1:$A$36,0)),"*"&CHAR(47)&"*"))=0),IFERROR(AND(E$2>VALUE(SUBSTITUTE(LEFT(INDIRECT("Mois!F"&MATCH($A$3,Mois!$A$1:$A$36,0)),5),"h",":")),E$2<VALUE(SUBSTITUTE(RIGHT(INDIRECT("Mois!F"&MATCH($A$3,Mois!$A$1:$A$36,0)),5),"h",":"))+(1/1440*15)),"FAUX")) -> TRUE | F7: =OR(AND(INDIRECT("Mois!F"&MATCH('Sem1'!$A$3,Mois!$A$1:$A$36,0))<>"",SUMPRODUCT(COUNTIF(INDIRECT("Mois!F"&MATCH('Sem1'!$A$3,Mois!$A$1:$A$36,0)),"*"&CHAR(47)&"*"))=0),IFERROR(AND(F$2>VALUE(SUBSTITUTE(LEFT(INDIRECT("Mois!F"&MATCH($A$3,Mois!$A$1:$A$36,0)),5),"h",":")),F$2<VALUE(SUBSTITUTE(RIGHT(INDIRECT("Mois!F"&MATCH($A$3,Mois!$A$1:$A$36,0)),5),"h",":"))+(1/1440*15)),"FAUX")) -> TRUE | G7: =OR(AND(INDIRECT("Mois!F"&MATCH('Sem1'!$A$3,Mois!$A$1:$A$36,0))<>"",SUMPRODUCT(COUNTIF(INDIRECT("Mois!F"&MATCH('Sem1'!$A$3,Mois!$A$1:$A$36,0)),"*"&CHAR(47)&"*"))=0),IFERROR(AND(G$2>VALUE(SUBSTITUTE(LEFT(INDIRECT("Mois!F"&MATCH($A$3,Mois!$A$1:$A$36,0)),5),"h",":")),G$2<VALUE(SUBSTITUTE(RIGHT(INDIRECT("Mois!F"&MATCH($A$3,Mois!$A$1:$A$36,0)),5),"h",":"))+(1/1440*15)),"FAUX")) -> TRUE | H7: =OR(AND(INDIRECT("Mois!F"&MATCH('Sem1'!$A$3,Mois!$A$1:$A$36,0))<>"",SUMPRODUCT(COUNTIF(INDIRECT("Mois!F"&MATCH('Sem1'!$A$3,Mois!$A$1:$A$36,0)),"*"&CHAR(47)&"*"))=0),IFERROR(AND(H$2>VALUE(SUBSTITUTE(LEFT(INDIRECT("Mois!F"&MATCH($A$3,Mois!$A$1:$A$36,0)),5),"h",":")),H$2<VALUE(SUBSTITUTE(RIGHT(INDIRECT("Mois!F"&MATCH($A$3,Mois!$A$1:$A$36,0)),5),"h",":"))+(1/1440*15)),"FAUX")) -> TRUE | I7: =OR(AND(INDIRECT("Mois!F"&MATCH('Sem1'!$A$3,Mois!$A$1:$A$36,0))<>"",SUMPRODUCT(COUNTIF(INDIRECT("Mois!F"&MATCH('Sem1'!$A$3,Mois!$A$1:$A$36,0)),"*"&CHAR(47)&"*"))=0),IFERROR(AND(I$2>VALUE(SUBSTITUTE(LEFT(INDIRECT("Mois!F"&MATCH($A$3,Mois!$A$1:$A$36,0)),5),"h",":")),I$2<VALUE(SUBSTITUTE(RIGHT(INDIRECT("Mois!F"&MATCH($A$3,Mois!$A$1:$A$36,0)),5),"h",":"))+(1/1440*15)),"FAUX")) -> TRUE | ... AX7: =OR(AND(INDIRECT("Mois!F"&MATCH('Sem1'!$A$3,Mois!$A$1:$A$36,0))<>"",SUMPRODUCT(COUNTIF(INDIRECT("Mois!F"&MATCH('Sem1'!$A$3,Mois!$A$1:$A$36,0)),"*"&CHAR(47)&"*"))=0),IFERROR(AND(AX$2>VALUE(SUBSTITUTE(LEFT(INDIRECT("Mois!F"&MATCH($A$3,Mois!$A$1:$A$36,0)),5),"h",":")),AX$2<VALUE(SUBSTITUTE(RIGHT(INDIRECT("Mois!F"&MATCH($A$3,Mois!$A$1:$A$36,0)),5),"h",":"))+(1/1440*15)),"FAUX")) -> FALSE
B8: =OR(AND(INDIRECT("Mois!G"&MATCH('Sem1'!$A$3,Mois!$A$1:$A$36,0))<>"",SUMPRODUCT(COUNTIF(INDIRECT("Mois!G"&MATCH('Sem1'!$A$3,Mois!$A$1:$A$36,0)),"*"&CHAR(47)&"*"))=0),IFERROR(AND(B$2>VALUE(SUBSTITUTE(LEFT(INDIRECT("Mois!G"&MATCH($A$3,Mois!$A$1:$A$36,0)),5),"h",":")),B$2<VALUE(SUBSTITUTE(RIGHT(INDIRECT("Mois!G"&MATCH($A$3,Mois!$A$1:$A$36,0)),5),"h",":"))+(1/1440*15)),"FAUX")) -> FALSE | C8: =OR(AND(INDIRECT("Mois!G"&MATCH('Sem1'!$A$3,Mois!$A$1:$A$36,0))<>"",SUMPRODUCT(COUNTIF(INDIRECT("Mois!G"&MATCH('Sem1'!$A$3,Mois!$A$1:$A$36,0)),"*"&CHAR(47)&"*"))=0),IFERROR(AND(C$2>VALUE(SUBSTITUTE(LEFT(INDIRECT("Mois!G"&MATCH($A$3,Mois!$A$1:$A$36,0)),5),"h",":")),C$2<VALUE(SUBSTITUTE(RIGHT(INDIRECT("Mois!G"&MATCH($A$3,Mois!$A$1:$A$36,0)),5),"h",":"))+(1/1440*15)),"FAUX")) -> FALSE | D8: =OR(AND(INDIRECT("Mois!G"&MATCH('Sem1'!$A$3,Mois!$A$1:$A$36,0))<>"",SUMPRODUCT(COUNTIF(INDIRECT("Mois!G"&MATCH('Sem1'!$A$3,Mois!$A$1:$A$36,0)),"*"&CHAR(47)&"*"))=0),IFERROR(AND(D$2>VALUE(SUBSTITUTE(LEFT(INDIRECT("Mois!G"&MATCH($A$3,Mois!$A$1:$A$36,0)),5),"h",":")),D$2<VALUE(SUBSTITUTE(RIGHT(INDIRECT("Mois!G"&MATCH($A$3,Mois!$A$1:$A$36,0)),5),"h",":"))+(1/1440*15)),"FAUX")) -> FALSE | E8: =OR(AND(INDIRECT("Mois!G"&MATCH('Sem1'!$A$3,Mois!$A$1:$A$36,0))<>"",SUMPRODUCT(COUNTIF(INDIRECT("Mois!G"&MATCH('Sem1'!$A$3,Mois!$A$1:$A$36,0)),"*"&CHAR(47)&"*"))=0),IFERROR(AND(E$2>VALUE(SUBSTITUTE(LEFT(INDIRECT("Mois!G"&MATCH($A$3,Mois!$A$1:$A$36,0)),5),"h",":")),E$2<VALUE(SUBSTITUTE(RIGHT(INDIRECT("Mois!G"&MATCH($A$3,Mois!$A$1:$A$36,0)),5),"h",":"))+(1/1440*15)),"FAUX")) -> FALSE | F8: =OR(AND(INDIRECT("Mois!G"&MATCH('Sem1'!$A$3,Mois!$A$1:$A$36,0))<>"",SUMPRODUCT(COUNTIF(INDIRECT("Mois!G"&MATCH('Sem1'!$A$3,Mois!$A$1:$A$36,0)),"*"&CHAR(47)&"*"))=0),IFERROR(AND(F$2>VALUE(SUBSTITUTE(LEFT(INDIRECT("Mois!G"&MATCH($A$3,Mois!$A$1:$A$36,0)),5),"h",":")),F$2<VALUE(SUBSTITUTE(RIGHT(INDIRECT("Mois!G"&MATCH($A$3,Mois!$A$1:$A$36,0)),5),"h",":"))+(1/1440*15)),"FAUX")) -> FALSE | G8: =OR(AND(INDIRECT("Mois!G"&MATCH('Sem1'!$A$3,Mois!$A$1:$A$36,0))<>"",SUMPRODUCT(COUNTIF(INDIRECT("Mois!G"&MATCH('Sem1'!$A$3,Mois!$A$1:$A$36,0)),"*"&CHAR(47)&"*"))=0),IFERROR(AND(G$2>VALUE(SUBSTITUTE(LEFT(INDIRECT("Mois!G"&MATCH($A$3,Mois!$A$1:$A$36,0)),5),"h",":")),G$2<VALUE(SUBSTITUTE(RIGHT(INDIRECT("Mois!G"&MATCH($A$3,Mois!$A$1:$A$36,0)),5),"h",":"))+(1/1440*15)),"FAUX")) -> FALSE | H8: =OR(AND(INDIRECT("Mois!G"&MATCH('Sem1'!$A$3,Mois!$A$1:$A$36,0))<>"",SUMPRODUCT(COUNTIF(INDIRECT("Mois!G"&MATCH('Sem1'!$A$3,Mois!$A$1:$A$36,0)),"*"&CHAR(47)&"*"))=0),IFERROR(AND(H$2>VALUE(SUBSTITUTE(LEFT(INDIRECT("Mois!G"&MATCH($A$3,Mois!$A$1:$A$36,0)),5),"h",":")),H$2<VALUE(SUBSTITUTE(RIGHT(INDIRECT("Mois!G"&MATCH($A$3,Mois!$A$1:$A$36,0)),5),"h",":"))+(1/1440*15)),"FAUX")) -> FALSE | I8: =OR(AND(INDIRECT("Mois!G"&MATCH('Sem1'!$A$3,Mois!$A$1:$A$36,0))<>"",SUMPRODUCT(COUNTIF(INDIRECT("Mois!G"&MATCH('Sem1'!$A$3,Mois!$A$1:$A$36,0)),"*"&CHAR(47)&"*"))=0),IFERROR(AND(I$2>VALUE(SUBSTITUTE(LEFT(INDIRECT("Mois!G"&MATCH($A$3,Mois!$A$1:$A$36,0)),5),"h",":")),I$2<VALUE(SUBSTITUTE(RIGHT(INDIRECT("Mois!G"&MATCH($A$3,Mois!$A$1:$A$36,0)),5),"h",":"))+(1/1440*15)),"FAUX")) -> FALSE | ... AX8: =OR(AND(INDIRECT("Mois!G"&MATCH('Sem1'!$A$3,Mois!$A$1:$A$36,0))<>"",SUMPRODUCT(COUNTIF(INDIRECT("Mois!G"&MATCH('Sem1'!$A$3,Mois!$A$1:$A$36,0)),"*"&CHAR(47)&"*"))=0),IFERROR(AND(AX$2>VALUE(SUBSTITUTE(LEFT(INDIRECT("Mois!G"&MATCH($A$3,Mois!$A$1:$A$36,0)),5),"h",":")),AX$2<VALUE(SUBSTITUTE(RIGHT(INDIRECT("Mois!G"&MATCH($A$3,Mois!$A$1:$A$36,0)),5),"h",":"))+(1/1440*15)),"FAUX")) -> FALSE
B9: =OR(AND(INDIRECT("Mois!H"&MATCH('Sem1'!$A$3,Mois!$A$1:$A$36,0))<>"",SUMPRODUCT(COUNTIF(INDIRECT("Mois!H"&MATCH('Sem1'!$A$3,Mois!$A$1:$A$36,0)),"*"&CHAR(47)&"*"))=0),IFERROR(AND(B$2>VALUE(SUBSTITUTE(LEFT(INDIRECT("Mois!H"&MATCH($A$3,Mois!$A$1:$A$36,0)),5),"h",":")),B$2<VALUE(SUBSTITUTE(RIGHT(INDIRECT("Mois!H"&MATCH($A$3,Mois!$A$1:$A$36,0)),5),"h",":"))+(1/1440*15)),"FAUX")) -> TRUE | C9: =OR(AND(INDIRECT("Mois!H"&MATCH('Sem1'!$A$3,Mois!$A$1:$A$36,0))<>"",SUMPRODUCT(COUNTIF(INDIRECT("Mois!H"&MATCH('Sem1'!$A$3,Mois!$A$1:$A$36,0)),"*"&CHAR(47)&"*"))=0),IFERROR(AND(C$2>VALUE(SUBSTITUTE(LEFT(INDIRECT("Mois!H"&MATCH($A$3,Mois!$A$1:$A$36,0)),5),"h",":")),C$2<VALUE(SUBSTITUTE(RIGHT(INDIRECT("Mois!H"&MATCH($A$3,Mois!$A$1:$A$36,0)),5),"h",":"))+(1/1440*15)),"FAUX")) -> TRUE | D9: =OR(AND(INDIRECT("Mois!H"&MATCH('Sem1'!$A$3,Mois!$A$1:$A$36,0))<>"",SUMPRODUCT(COUNTIF(INDIRECT("Mois!H"&MATCH('Sem1'!$A$3,Mois!$A$1:$A$36,0)),"*"&CHAR(47)&"*"))=0),IFERROR(AND(D$2>VALUE(SUBSTITUTE(LEFT(INDIRECT("Mois!H"&MATCH($A$3,Mois!$A$1:$A$36,0)),5),"h",":")),D$2<VALUE(SUBSTITUTE(RIGHT(INDIRECT("Mois!H"&MATCH($A$3,Mois!$A$1:$A$36,0)),5),"h",":"))+(1/1440*15)),"FAUX")) -> TRUE | E9: =OR(AND(INDIRECT("Mois!H"&MATCH('Sem1'!$A$3,Mois!$A$1:$A$36,0))<>"",SUMPRODUCT(COUNTIF(INDIRECT("Mois!H"&MATCH('Sem1'!$A$3,Mois!$A$1:$A$36,0)),"*"&CHAR(47)&"*"))=0),IFERROR(AND(E$2>VALUE(SUBSTITUTE(LEFT(INDIRECT("Mois!H"&MATCH($A$3,Mois!$A$1:$A$36,0)),5),"h",":")),E$2<VALUE(SUBSTITUTE(RIGHT(INDIRECT("Mois!H"&MATCH($A$3,Mois!$A$1:$A$36,0)),5),"h",":"))+(1/1440*15)),"FAUX")) -> TRUE | F9: =OR(AND(INDIRECT("Mois!H"&MATCH('Sem1'!$A$3,Mois!$A$1:$A$36,0))<>"",SUMPRODUCT(COUNTIF(INDIRECT("Mois!H"&MATCH('Sem1'!$A$3,Mois!$A$1:$A$36,0)),"*"&CHAR(47)&"*"))=0),IFERROR(AND(F$2>VALUE(SUBSTITUTE(LEFT(INDIRECT("Mois!H"&MATCH($A$3,Mois!$A$1:$A$36,0)),5),"h",":")),F$2<VALUE(SUBSTITUTE(RIGHT(INDIRECT("Mois!H"&MATCH($A$3,Mois!$A$1:$A$36,0)),5),"h",":"))+(1/1440*15)),"FAUX")) -> TRUE | G9: =OR(AND(INDIRECT("Mois!H"&MATCH('Sem1'!$A$3,Mois!$A$1:$A$36,0))<>"",SUMPRODUCT(COUNTIF(INDIRECT("Mois!H"&MATCH('Sem1'!$A$3,Mois!$A$1:$A$36,0)),"*"&CHAR(47)&"*"))=0),IFERROR(AND(G$2>VALUE(SUBSTITUTE(LEFT(INDIRECT("Mois!H"&MATCH($A$3,Mois!$A$1:$A$36,0)),5),"h",":")),G$2<VALUE(SUBSTITUTE(RIGHT(INDIRECT("Mois!H"&MATCH($A$3,Mois!$A$1:$A$36,0)),5),"h",":"))+(1/1440*15)),"FAUX")) -> TRUE | H9: =OR(AND(INDIRECT("Mois!H"&MATCH('Sem1'!$A$3,Mois!$A$1:$A$36,0))<>"",SUMPRODUCT(COUNTIF(INDIRECT("Mois!H"&MATCH('Sem1'!$A$3,Mois!$A$1:$A$36,0)),"*"&CHAR(47)&"*"))=0),IFERROR(AND(H$2>VALUE(SUBSTITUTE(LEFT(INDIRECT("Mois!H"&MATCH($A$3,Mois!$A$1:$A$36,0)),5),"h",":")),H$2<VALUE(SUBSTITUTE(RIGHT(INDIRECT("Mois!H"&MATCH($A$3,Mois!$A$1:$A$36,0)),5),"h",":"))+(1/1440*15)),"FAUX")) -> TRUE | I9: =OR(AND(INDIRECT("Mois!H"&MATCH('Sem1'!$A$3,Mois!$A$1:$A$36,0))<>"",SUMPRODUCT(COUNTIF(INDIRECT("Mois!H"&MATCH('Sem1'!$A$3,Mois!$A$1:$A$36,0)),"*"&CHAR(47)&"*"))=0),IFERROR(AND(I$2>VALUE(SUBSTITUTE(LEFT(INDIRECT("Mois!H"&MATCH($A$3,Mois!$A$1:$A$36,0)),5),"h",":")),I$2<VALUE(SUBSTITUTE(RIGHT(INDIRECT("Mois!H"&MATCH($A$3,Mois!$A$1:$A$36,0)),5),"h",":"))+(1/1440*15)),"FAUX")) -> TRUE | ... AX9: =OR(AND(INDIRECT("Mois!H"&MATCH('Sem1'!$A$3,Mois!$A$1:$A$36,0))<>"",SUMPRODUCT(COUNTIF(INDIRECT("Mois!H"&MATCH('Sem1'!$A$3,Mois!$A$1:$A$36,0)),"*"&CHAR(47)&"*"))=0),IFERROR(AND(AX$2>VALUE(SUBSTITUTE(LEFT(INDIRECT("Mois!H"&MATCH($A$3,Mois!$A$1:$A$36,0)),5),"h",":")),AX$2<VALUE(SUBSTITUTE(RIGHT(INDIRECT("Mois!H"&MATCH($A$3,Mois!$A$1:$A$36,0)),5),"h",":"))+(1/1440*15)),"FAUX")) -> TRUE
B10: =OR(AND(INDIRECT("Mois!I"&MATCH('Sem1'!$A$3,Mois!$A$1:$A$36,0))<>"",SUMPRODUCT(COUNTIF(INDIRECT("Mois!I"&MATCH('Sem1'!$A$3,Mois!$A$1:$A$36,0)),"*"&CHAR(47)&"*"))=0),IFERROR(AND(B$2>VALUE(SUBSTITUTE(LEFT(INDIRECT("Mois!I"&MATCH($A$3,Mois!$A$1:$A$36,0)),5),"h",":")),B$2<VALUE(SUBSTITUTE(RIGHT(INDIRECT("Mois!I"&MATCH($A$3,Mois!$A$1:$A$36,0)),5),"h",":"))+(1/1440*15)),"FAUX")) -> FALSE | C10: =OR(AND(INDIRECT("Mois!I"&MATCH('Sem1'!$A$3,Mois!$A$1:$A$36,0))<>"",SUMPRODUCT(COUNTIF(INDIRECT("Mois!I"&MATCH('Sem1'!$A$3,Mois!$A$1:$A$36,0)),"*"&CHAR(47)&"*"))=0),IFERROR(AND(C$2>VALUE(SUBSTITUTE(LEFT(INDIRECT("Mois!I"&MATCH($A$3,Mois!$A$1:$A$36,0)),5),"h",":")),C$2<VALUE(SUBSTITUTE(RIGHT(INDIRECT("Mois!I"&MATCH($A$3,Mois!$A$1:$A$36,0)),5),"h",":"))+(1/1440*15)),"FAUX")) -> FALSE | D10: =OR(AND(INDIRECT("Mois!I"&MATCH('Sem1'!$A$3,Mois!$A$1:$A$36,0))<>"",SUMPRODUCT(COUNTIF(INDIRECT("Mois!I"&MATCH('Sem1'!$A$3,Mois!$A$1:$A$36,0)),"*"&CHAR(47)&"*"))=0),IFERROR(AND(D$2>VALUE(SUBSTITUTE(LEFT(INDIRECT("Mois!I"&MATCH($A$3,Mois!$A$1:$A$36,0)),5),"h",":")),D$2<VALUE(SUBSTITUTE(RIGHT(INDIRECT("Mois!I"&MATCH($A$3,Mois!$A$1:$A$36,0)),5),"h",":"))+(1/1440*15)),"FAUX")) -> FALSE | E10: =OR(AND(INDIRECT("Mois!I"&MATCH('Sem1'!$A$3,Mois!$A$1:$A$36,0))<>"",SUMPRODUCT(COUNTIF(INDIRECT("Mois!I"&MATCH('Sem1'!$A$3,Mois!$A$1:$A$36,0)),"*"&CHAR(47)&"*"))=0),IFERROR(AND(E$2>VALUE(SUBSTITUTE(LEFT(INDIRECT("Mois!I"&MATCH($A$3,Mois!$A$1:$A$36,0)),5),"h",":")),E$2<VALUE(SUBSTITUTE(RIGHT(INDIRECT("Mois!I"&MATCH($A$3,Mois!$A$1:$A$36,0)),5),"h",":"))+(1/1440*15)),"FAUX")) -> FALSE | F10: =OR(AND(INDIRECT("Mois!I"&MATCH('Sem1'!$A$3,Mois!$A$1:$A$36,0))<>"",SUMPRODUCT(COUNTIF(INDIRECT("Mois!I"&MATCH('Sem1'!$A$3,Mois!$A$1:$A$36,0)),"*"&CHAR(47)&"*"))=0),IFERROR(AND(F$2>VALUE(SUBSTITUTE(LEFT(INDIRECT("Mois!I"&MATCH($A$3,Mois!$A$1:$A$36,0)),5),"h",":")),F$2<VALUE(SUBSTITUTE(RIGHT(INDIRECT("Mois!I"&MATCH($A$3,Mois!$A$1:$A$36,0)),5),"h",":"))+(1/1440*15)),"FAUX")) -> FALSE | G10: =OR(AND(INDIRECT("Mois!I"&MATCH('Sem1'!$A$3,Mois!$A$1:$A$36,0))<>"",SUMPRODUCT(COUNTIF(INDIRECT("Mois!I"&MATCH('Sem1'!$A$3,Mois!$A$1:$A$36,0)),"*"&CHAR(47)&"*"))=0),IFERROR(AND(G$2>VALUE(SUBSTITUTE(LEFT(INDIRECT("Mois!I"&MATCH($A$3,Mois!$A$1:$A$36,0)),5),"h",":")),G$2<VALUE(SUBSTITUTE(RIGHT(INDIRECT("Mois!I"&MATCH($A$3,Mois!$A$1:$A$36,0)),5),"h",":"))+(1/1440*15)),"FAUX")) -> FALSE | H10: =OR(AND(INDIRECT("Mois!I"&MATCH('Sem1'!$A$3,Mois!$A$1:$A$36,0))<>"",SUMPRODUCT(COUNTIF(INDIRECT("Mois!I"&MATCH('Sem1'!$A$3,Mois!$A$1:$A$36,0)),"*"&CHAR(47)&"*"))=0),IFERROR(AND(H$2>VALUE(SUBSTITUTE(LEFT(INDIRECT("Mois!I"&MATCH($A$3,Mois!$A$1:$A$36,0)),5),"h",":")),H$2<VALUE(SUBSTITUTE(RIGHT(INDIRECT("Mois!I"&MATCH($A$3,Mois!$A$1:$A$36,0)),5),"h",":"))+(1/1440*15)),"FAUX")) -> FALSE | I10: =OR(AND(INDIRECT("Mois!I"&MATCH('Sem1'!$A$3,Mois!$A$1:$A$36,0))<>"",SUMPRODUCT(COUNTIF(INDIRECT("Mois!I"&MATCH('Sem1'!$A$3,Mois!$A$1:$A$36,0)),"*"&CHAR(47)&"*"))=0),IFERROR(AND(I$2>VALUE(SUBSTITUTE(LEFT(INDIRECT("Mois!I"&MATCH($A$3,Mois!$A$1:$A$36,0)),5),"h",":")),I$2<VALUE(SUBSTITUTE(RIGHT(INDIRECT("Mois!I"&MATCH($A$3,Mois!$A$1:$A$36,0)),5),"h",":"))+(1/1440*15)),"FAUX")) -> FALSE | ... AX10: =OR(AND(INDIRECT("Mois!I"&MATCH('Sem1'!$A$3,Mois!$A$1:$A$36,0))<>"",SUMPRODUCT(COUNTIF(INDIRECT("Mois!I"&MATCH('Sem1'!$A$3,Mois!$A$1:$A$36,0)),"*"&CHAR(47)&"*"))=0),IFERROR(AND(AX$2>VALUE(SUBSTITUTE(LEFT(INDIRECT("Mois!I"&MATCH($A$3,Mois!$A$1:$A$36,0)),5),"h",":")),AX$2<VALUE(SUBSTITUTE(RIGHT(INDIRECT("Mois!I"&MATCH($A$3,Mois!$A$1:$A$36,0)),5),"h",":"))+(1/1440*15)),"FAUX")) -> FALSE
A11: =A3+1 -> 42801 | B11: =OR(AND(INDIRECT("Mois!B"&MATCH('Sem1'!$A$11,Mois!$A$1:$A$36,0))<>"",SUMPRODUCT(COUNTIF(INDIRECT("Mois!B"&MATCH('Sem1'!$A$11,Mois!$A$1:$A$36,0)),"*"&CHAR(47)&"*"))=0),IFERROR(AND(B$2>VALUE(SUBSTITUTE(LEFT(INDIRECT("Mois!B"&MATCH($A$11,Mois!$A$1:$A$36,0)),5),"h",":")),B$2<VALUE(SUBSTITUTE(RIGHT(INDIRECT("Mois!B"&MATCH($A$11,Mois!$A$1:$A$36,0)),5),"h",":"))+(1/1440*15)),"FAUX")) -> FALSE | C11: =OR(AND(INDIRECT("Mois!B"&MATCH('Sem1'!$A$11,Mois!$A$1:$A$36,0))<>"",SUMPRODUCT(COUNTIF(INDIRECT("Mois!B"&MATCH('Sem1'!$A$11,Mois!$A$1:$A$36,0)),"*"&CHAR(47)&"*"))=0),IFERROR(AND(C$2>VALUE(SUBSTITUTE(LEFT(INDIRECT("Mois!B"&MATCH($A$11,Mois!$A$1:$A$36,0)),5),"h",":")),C$2<VALUE(SUBSTITUTE(RIGHT(INDIRECT("Mois!B"&MATCH($A$11,Mois!$A$1:$A$36,0)),5),"h",":"))+(1/1440*15)),"FAUX")) -> FALSE | D11: =OR(AND(INDIRECT("Mois!B"&MATCH('Sem1'!$A$11,Mois!$A$1:$A$36,0))<>"",SUMPRODUCT(COUNTIF(INDIRECT("Mois!B"&MATCH('Sem1'!$A$11,Mois!$A$1:$A$36,0)),"*"&CHAR(47)&"*"))=0),IFERROR(AND(D$2>VALUE(SUBSTITUTE(LEFT(INDIRECT("Mois!B"&MATCH($A$11,Mois!$A$1:$A$36,0)),5),"h",":")),D$2<VALUE(SUBSTITUTE(RIGHT(INDIRECT("Mois!B"&MATCH($A$11,Mois!$A$1:$A$36,0)),5),"h",":"))+(1/1440*15)),"FAUX")) -> FALSE | E11: =OR(AND(INDIRECT("Mois!B"&MATCH('Sem1'!$A$11,Mois!$A$1:$A$36,0))<>"",SUMPRODUCT(COUNTIF(INDIRECT("Mois!B"&MATCH('Sem1'!$A$11,Mois!$A$1:$A$36,0)),"*"&CHAR(47)&"*"))=0),IFERROR(AND(E$2>VALUE(SUBSTITUTE(LEFT(INDIRECT("Mois!B"&MATCH($A$11,Mois!$A$1:$A$36,0)),5),"h",":")),E$2<VALUE(SUBSTITUTE(RIGHT(INDIRECT("Mois!B"&MATCH($A$11,Mois!$A$1:$A$36,0)),5),"h",":"))+(1/1440*15)),"FAUX")) -> FALSE | F11: =OR(AND(INDIRECT("Mois!B"&MATCH('Sem1'!$A$11,Mois!$A$1:$A$36,0))<>"",SUMPRODUCT(COUNTIF(INDIRECT("Mois!B"&MATCH('Sem1'!$A$11,Mois!$A$1:$A$36,0)),"*"&CHAR(47)&"*"))=0),IFERROR(AND(F$2>VALUE(SUBSTITUTE(LEFT(INDIRECT("Mois!B"&MATCH($A$11,Mois!$A$1:$A$36,0)),5),"h",":")),F$2<VALUE(SUBSTITUTE(RIGHT(INDIRECT("Mois!B"&MATCH($A$11,Mois!$A$1:$A$36,0)),5),"h",":"))+(1/1440*15)),"FAUX")) -> FALSE | G11: =OR(AND(INDIRECT("Mois!B"&MATCH('Sem1'!$A$11,Mois!$A$1:$A$36,0))<>"",SUMPRODUCT(COUNTIF(INDIRECT("Mois!B"&MATCH('Sem1'!$A$11,Mois!$A$1:$A$36,0)),"*"&CHAR(47)&"*"))=0),IFERROR(AND(G$2>VALUE(SUBSTITUTE(LEFT(INDIRECT("Mois!B"&MATCH($A$11,Mois!$A$1:$A$36,0)),5),"h",":")),G$2<VALUE(SUBSTITUTE(RIGHT(INDIRECT("Mois!B"&MATCH($A$11,Mois!$A$1:$A$36,0)),5),"h",":"))+(1/1440*15)),"FAUX")) -> FALSE | H11: =OR(AND(INDIRECT("Mois!B"&MATCH('Sem1'!$A$11,Mois!$A$1:$A$36,0))<>"",SUMPRODUCT(COUNTIF(INDIRECT("Mois!B"&MATCH('Sem1'!$A$11,Mois!$A$1:$A$36,0)),"*"&CHAR(47)&"*"))=0),IFERROR(AND(H$2>VALUE(SUBSTITUTE(LEFT(INDIRECT("Mois!B"&MATCH($A$11,Mois!$A$1:$A$36,0)),5),"h",":")),H$2<VALUE(SUBSTITUTE(RIGHT(INDIRECT("Mois!B"&MATCH($A$11,Mois!$A$1:$A$36,0)),5),"h",":"))+(1/1440*15)),"FAUX")) -> FALSE | I11: =OR(AND(INDIRECT("Mois!B"&MATCH('Sem1'!$A$11,Mois!$A$1:$A$36,0))<>"",SUMPRODUCT(COUNTIF(INDIRECT("Mois!B"&MATCH('Sem1'!$A$11,Mois!$A$1:$A$36,0)),"*"&CHAR(47)&"*"))=0),IFERROR(AND(I$2>VALUE(SUBSTITUTE(LEFT(INDIRECT("Mois!B"&MATCH($A$11,Mois!$A$1:$A$36,0)),5),"h",":")),I$2<VALUE(SUBSTITUTE(RIGHT(INDIRECT("Mois!B"&MATCH($A$11,Mois!$A$1:$A$36,0)),5),"h",":"))+(1/1440*15)),"FAUX")) -> FALSE | ... AX11: =OR(AND(INDIRECT("Mois!B"&MATCH('Sem1'!$A$11,Mois!$A$1:$A$36,0))<>"",SUMPRODUCT(COUNTIF(INDIRECT("Mois!B"&MATCH('Sem1'!$A$11,Mois!$A$1:$A$36,0)),"*"&CHAR(47)&"*"))=0),IFERROR(AND(AX$2>VALUE(SUBSTITUTE(LEFT(INDIRECT("Mois!B"&MATCH($A$11,Mois!$A$1:$A$36,0)),5),"h",":")),AX$2<VALUE(SUBSTITUTE(RIGHT(INDIRECT("Mois!B"&MATCH($A$11,Mois!$A$1:$A$36,0)),5),"h",":"))+(1/1440*15)),"FAUX")) -> FALSE
B12: =OR(AND(INDIRECT("Mois!C"&MATCH('Sem1'!$A$11,Mois!$A$1:$A$36,0))<>"",SUMPRODUCT(COUNTIF(INDIRECT("Mois!C"&MATCH('Sem1'!$A$11,Mois!$A$1:$A$36,0)),"*"&CHAR(47)&"*"))=0),IFERROR(AND(B$2>VALUE(SUBSTITUTE(LEFT(INDIRECT("Mois!C"&MATCH($A$11,Mois!$A$1:$A$36,0)),5),"h",":")),B$2<VALUE(SUBSTITUTE(RIGHT(INDIRECT("Mois!C"&MATCH($A$11,Mois!$A$1:$A$36,0)),5),"h",":"))+(1/1440*15)),"FAUX")) -> TRUE | C12: =OR(AND(INDIRECT("Mois!C"&MATCH('Sem1'!$A$11,Mois!$A$1:$A$36,0))<>"",SUMPRODUCT(COUNTIF(INDIRECT("Mois!C"&MATCH('Sem1'!$A$11,Mois!$A$1:$A$36,0)),"*"&CHAR(47)&"*"))=0),IFERROR(AND(C$2>VALUE(SUBSTITUTE(LEFT(INDIRECT("Mois!C"&MATCH($A$11,Mois!$A$1:$A$36,0)),5),"h",":")),C$2<VALUE(SUBSTITUTE(RIGHT(INDIRECT("Mois!C"&MATCH($A$11,Mois!$A$1:$A$36,0)),5),"h",":"))+(1/1440*15)),"FAUX")) -> TRUE | D12: =OR(AND(INDIRECT("Mois!C"&MATCH('Sem1'!$A$11,Mois!$A$1:$A$36,0))<>"",SUMPRODUCT(COUNTIF(INDIRECT("Mois!C"&MATCH('Sem1'!$A$11,Mois!$A$1:$A$36,0)),"*"&CHAR(47)&"*"))=0),IFERROR(AND(D$2>VALUE(SUBSTITUTE(LEFT(INDIRECT("Mois!C"&MATCH($A$11,Mois!$A$1:$A$36,0)),5),"h",":")),D$2<VALUE(SUBSTITUTE(RIGHT(INDIRECT("Mois!C"&MATCH($A$11,Mois!$A$1:$A$36,0)),5),"h",":"))+(1/1440*15)),"FAUX")) -> TRUE | E12: =OR(AND(INDIRECT("Mois!C"&MATCH('Sem1'!$A$11,Mois!$A$1:$A$36,0))<>"",SUMPRODUCT(COUNTIF(INDIRECT("Mois!C"&MATCH('Sem1'!$A$11,Mois!$A$1:$A$36,0)),"*"&CHAR(47)&"*"))=0),IFERROR(AND(E$2>VALUE(SUBSTITUTE(LEFT(INDIRECT("Mois!C"&MATCH($A$11,Mois!$A$1:$A$36,0)),5),"h",":")),E$2<VALUE(SUBSTITUTE(RIGHT(INDIRECT("Mois!C"&MATCH($A$11,Mois!$A$1:$A$36,0)),5),"h",":"))+(1/1440*15)),"FAUX")) -> TRUE | F12: =OR(AND(INDIRECT("Mois!C"&MATCH('Sem1'!$A$11,Mois!$A$1:$A$36,0))<>"",SUMPRODUCT(COUNTIF(INDIRECT("Mois!C"&MATCH('Sem1'!$A$11,Mois!$A$1:$A$36,0)),"*"&CHAR(47)&"*"))=0),IFERROR(AND(F$2>VALUE(SUBSTITUTE(LEFT(INDIRECT("Mois!C"&MATCH($A$11,Mois!$A$1:$A$36,0)),5),"h",":")),F$2<VALUE(SUBSTITUTE(RIGHT(INDIRECT("Mois!C"&MATCH($A$11,Mois!$A$1:$A$36,0)),5),"h",":"))+(1/1440*15)),"FAUX")) -> TRUE | G12: =OR(AND(INDIRECT("Mois!C"&MATCH('Sem1'!$A$11,Mois!$A$1:$A$36,0))<>"",SUMPRODUCT(COUNTIF(INDIRECT("Mois!C"&MATCH('Sem1'!$A$11,Mois!$A$1:$A$36,0)),"*"&CHAR(47)&"*"))=0),IFERROR(AND(G$2>VALUE(SUBSTITUTE(LEFT(INDIRECT("Mois!C"&MATCH($A$11,Mois!$A$1:$A$36,0)),5),"h",":")),G$2<VALUE(SUBSTITUTE(RIGHT(INDIRECT("Mois!C"&MATCH($A$11,Mois!$A$1:$A$36,0)),5),"h",":"))+(1/1440*15)),"FAUX")) -> TRUE | H12: =OR(AND(INDIRECT("Mois!C"&MATCH('Sem1'!$A$11,Mois!$A$1:$A$36,0))<>"",SUMPRODUCT(COUNTIF(INDIRECT("Mois!C"&MATCH('Sem1'!$A$11,Mois!$A$1:$A$36,0)),"*"&CHAR(47)&"*"))=0),IFERROR(AND(H$2>VALUE(SUBSTITUTE(LEFT(INDIRECT("Mois!C"&MATCH($A$11,Mois!$A$1:$A$36,0)),5),"h",":")),H$2<VALUE(SUBSTITUTE(RIGHT(INDIRECT("Mois!C"&MATCH($A$11,Mois!$A$1:$A$36,0)),5),"h",":"))+(1/1440*15)),"FAUX")) -> TRUE | I12: =OR(AND(INDIRECT("Mois!C"&MATCH('Sem1'!$A$11,Mois!$A$1:$A$36,0))<>"",SUMPRODUCT(COUNTIF(INDIRECT("Mois!C"&MATCH('Sem1'!$A$11,Mois!$A$1:$A$36,0)),"*"&CHAR(47)&"*"))=0),IFERROR(AND(I$2>VALUE(SUBSTITUTE(LEFT(INDIRECT("Mois!C"&MATCH($A$11,Mois!$A$1:$A$36,0)),5),"h",":")),I$2<VALUE(SUBSTITUTE(RIGHT(INDIRECT("Mois!C"&MATCH($A$11,Mois!$A$1:$A$36,0)),5),"h",":"))+(1/1440*15)),"FAUX")) -> TRUE | ... AX12: =OR(AND(INDIRECT("Mois!C"&MATCH('Sem1'!$A$11,Mois!$A$1:$A$36,0))<>"",SUMPRODUCT(COUNTIF(INDIRECT("Mois!C"&MATCH('Sem1'!$A$11,Mois!$A$1:$A$36,0)),"*"&CHAR(47)&"*"))=0),IFERROR(AND(AX$2>VALUE(SUBSTITUTE(LEFT(INDIRECT("Mois!C"&MATCH($A$11,Mois!$A$1:$A$36,0)),5),"h",":")),AX$2<VALUE(SUBSTITUTE(RIGHT(INDIRECT("Mois!C"&MATCH($A$11,Mois!$A$1:$A$36,0)),5),"h",":"))+(1/1440*15)),"FAUX")) -> TRUE
B13: =OR(AND(INDIRECT("Mois!D"&MATCH('Sem1'!$A$11,Mois!$A$1:$A$36,0))<>"",SUMPRODUCT(COUNTIF(INDIRECT("Mois!D"&MATCH('Sem1'!$A$11,Mois!$A$1:$A$36,0)),"*"&CHAR(47)&"*"))=0),IFERROR(AND(B$2>VALUE(SUBSTITUTE(LEFT(INDIRECT("Mois!D"&MATCH($A$11,Mois!$A$1:$A$36,0)),5),"h",":")),B$2<VALUE(SUBSTITUTE(RIGHT(INDIRECT("Mois!D"&MATCH($A$11,Mois!$A$1:$A$36,0)),5),"h",":"))+(1/1440*15)),"FAUX")) -> FALSE | C13: =OR(AND(INDIRECT("Mois!D"&MATCH('Sem1'!$A$11,Mois!$A$1:$A$36,0))<>"",SUMPRODUCT(COUNTIF(INDIRECT("Mois!D"&MATCH('Sem1'!$A$11,Mois!$A$1:$A$36,0)),"*"&CHAR(47)&"*"))=0),IFERROR(AND(C$2>VALUE(SUBSTITUTE(LEFT(INDIRECT("Mois!D"&MATCH($A$11,Mois!$A$1:$A$36,0)),5),"h",":")),C$2<VALUE(SUBSTITUTE(RIGHT(INDIRECT("Mois!D"&MATCH($A$11,Mois!$A$1:$A$36,0)),5),"h",":"))+(1/1440*15)),"FAUX")) -> FALSE | D13: =OR(AND(INDIRECT("Mois!D"&MATCH('Sem1'!$A$11,Mois!$A$1:$A$36,0))<>"",SUMPRODUCT(COUNTIF(INDIRECT("Mois!D"&MATCH('Sem1'!$A$11,Mois!$A$1:$A$36,0)),"*"&CHAR(47)&"*"))=0),IFERROR(AND(D$2>VALUE(SUBSTITUTE(LEFT(INDIRECT("Mois!D"&MATCH($A$11,Mois!$A$1:$A$36,0)),5),"h",":")),D$2<VALUE(SUBSTITUTE(RIGHT(INDIRECT("Mois!D"&MATCH($A$11,Mois!$A$1:$A$36,0)),5),"h",":"))+(1/1440*15)),"FAUX")) -> FALSE | E13: =OR(AND(INDIRECT("Mois!D"&MATCH('Sem1'!$A$11,Mois!$A$1:$A$36,0))<>"",SUMPRODUCT(COUNTIF(INDIRECT("Mois!D"&MATCH('Sem1'!$A$11,Mois!$A$1:$A$36,0)),"*"&CHAR(47)&"*"))=0),IFERROR(AND(E$2>VALUE(SUBSTITUTE(LEFT(INDIRECT("Mois!D"&MATCH($A$11,Mois!$A$1:$A$36,0)),5),"h",":")),E$2<VALUE(SUBSTITUTE(RIGHT(INDIRECT("Mois!D"&MATCH($A$11,Mois!$A$1:$A$36,0)),5),"h",":"))+(1/1440*15)),"FAUX")) -> FALSE | F13: =OR(AND(INDIRECT("Mois!D"&MATCH('Sem1'!$A$11,Mois!$A$1:$A$36,0))<>"",SUMPRODUCT(COUNTIF(INDIRECT("Mois!D"&MATCH('Sem1'!$A$11,Mois!$A$1:$A$36,0)),"*"&CHAR(47)&"*"))=0),IFERROR(AND(F$2>VALUE(SUBSTITUTE(LEFT(INDIRECT("Mois!D"&MATCH($A$11,Mois!$A$1:$A$36,0)),5),"h",":")),F$2<VALUE(SUBSTITUTE(RIGHT(INDIRECT("Mois!D"&MATCH($A$11,Mois!$A$1:$A$36,0)),5),"h",":"))+(1/1440*15)),"FAUX")) -> FALSE | G13: =OR(AND(INDIRECT("Mois!D"&MATCH('Sem1'!$A$11,Mois!$A$1:$A$36,0))<>"",SUMPRODUCT(COUNTIF(INDIRECT("Mois!D"&MATCH('Sem1'!$A$11,Mois!$A$1:$A$36,0)),"*"&CHAR(47)&"*"))=0),IFERROR(AND(G$2>VALUE(SUBSTITUTE(LEFT(INDIRECT("Mois!D"&MATCH($A$11,Mois!$A$1:$A$36,0)),5),"h",":")),G$2<VALUE(SUBSTITUTE(RIGHT(INDIRECT("Mois!D"&MATCH($A$11,Mois!$A$1:$A$36,0)),5),"h",":"))+(1/1440*15)),"FAUX")) -> FALSE | H13: =OR(AND(INDIRECT("Mois!D"&MATCH('Sem1'!$A$11,Mois!$A$1:$A$36,0))<>"",SUMPRODUCT(COUNTIF(INDIRECT("Mois!D"&MATCH('Sem1'!$A$11,Mois!$A$1:$A$36,0)),"*"&CHAR(47)&"*"))=0),IFERROR(AND(H$2>VALUE(SUBSTITUTE(LEFT(INDIRECT("Mois!D"&MATCH($A$11,Mois!$A$1:$A$36,0)),5),"h",":")),H$2<VALUE(SUBSTITUTE(RIGHT(INDIRECT("Mois!D"&MATCH($A$11,Mois!$A$1:$A$36,0)),5),"h",":"))+(1/1440*15)),"FAUX")) -> FALSE | I13: =OR(AND(INDIRECT("Mois!D"&MATCH('Sem1'!$A$11,Mois!$A$1:$A$36,0))<>"",SUMPRODUCT(COUNTIF(INDIRECT("Mois!D"&MATCH('Sem1'!$A$11,Mois!$A$1:$A$36,0)),"*"&CHAR(47)&"*"))=0),IFERROR(AND(I$2>VALUE(SUBSTITUTE(LEFT(INDIRECT("Mois!D"&MATCH($A$11,Mois!$A$1:$A$36,0)),5),"h",":")),I$2<VALUE(SUBSTITUTE(RIGHT(INDIRECT("Mois!D"&MATCH($A$11,Mois!$A$1:$A$36,0)),5),"h",":"))+(1/1440*15)),"FAUX")) -> FALSE | ... AX13: =OR(AND(INDIRECT("Mois!D"&MATCH('Sem1'!$A$11,Mois!$A$1:$A$36,0))<>"",SUMPRODUCT(COUNTIF(INDIRECT("Mois!D"&MATCH('Sem1'!$A$11,Mois!$A$1:$A$36,0)),"*"&CHAR(47)&"*"))=0),IFERROR(AND(AX$2>VALUE(SUBSTITUTE(LEFT(INDIRECT("Mois!D"&MATCH($A$11,Mois!$A$1:$A$36,0)),5),"h",":")),AX$2<VALUE(SUBSTITUTE(RIGHT(INDIRECT("Mois!D"&MATCH($A$11,Mois!$A$1:$A$36,0)),5),"h",":"))+(1/1440*15)),"FAUX")) -> FALSE
B14: =OR(AND(INDIRECT("Mois!E"&MATCH('Sem1'!$A$11,Mois!$A$1:$A$36,0))<>"",SUMPRODUCT(COUNTIF(INDIRECT("Mois!E"&MATCH('Sem1'!$A$11,Mois!$A$1:$A$36,0)),"*"&CHAR(47)&"*"))=0),IFERROR(AND(B$2>VALUE(SUBSTITUTE(LEFT(INDIRECT("Mois!E"&MATCH($A$11,Mois!$A$1:$A$36,0)),5),"h",":")),B$2<VALUE(SUBSTITUTE(RIGHT(INDIRECT("Mois!E"&MATCH($A$11,Mois!$A$1:$A$36,0)),5),"h",":"))+(1/1440*15)),"FAUX")) -> FALSE | C14: =OR(AND(INDIRECT("Mois!E"&MATCH('Sem1'!$A$11,Mois!$A$1:$A$36,0))<>"",SUMPRODUCT(COUNTIF(INDIRECT("Mois!E"&MATCH('Sem1'!$A$11,Mois!$A$1:$A$36,0)),"*"&CHAR(47)&"*"))=0),IFERROR(AND(C$2>VALUE(SUBSTITUTE(LEFT(INDIRECT("Mois!E"&MATCH($A$11,Mois!$A$1:$A$36,0)),5),"h",":")),C$2<VALUE(SUBSTITUTE(RIGHT(INDIRECT("Mois!E"&MATCH($A$11,Mois!$A$1:$A$36,0)),5),"h",":"))+(1/1440*15)),"FAUX")) -> FALSE | D14: =OR(AND(INDIRECT("Mois!E"&MATCH('Sem1'!$A$11,Mois!$A$1:$A$36,0))<>"",SUMPRODUCT(COUNTIF(INDIRECT("Mois!E"&MATCH('Sem1'!$A$11,Mois!$A$1:$A$36,0)),"*"&CHAR(47)&"*"))=0),IFERROR(AND(D$2>VALUE(SUBSTITUTE(LEFT(INDIRECT("Mois!E"&MATCH($A$11,Mois!$A$1:$A$36,0)),5),"h",":")),D$2<VALUE(SUBSTITUTE(RIGHT(INDIRECT("Mois!E"&MATCH($A$11,Mois!$A$1:$A$36,0)),5),"h",":"))+(1/1440*15)),"FAUX")) -> FALSE | E14: =OR(AND(INDIRECT("Mois!E"&MATCH('Sem1'!$A$11,Mois!$A$1:$A$36,0))<>"",SUMPRODUCT(COUNTIF(INDIRECT("Mois!E"&MATCH('Sem1'!$A$11,Mois!$A$1:$A$36,0)),"*"&CHAR(47)&"*"))=0),IFERROR(AND(E$2>VALUE(SUBSTITUTE(LEFT(INDIRECT("Mois!E"&MATCH($A$11,Mois!$A$1:$A$36,0)),5),"h",":")),E$2<VALUE(SUBSTITUTE(RIGHT(INDIRECT("Mois!E"&MATCH($A$11,Mois!$A$1:$A$36,0)),5),"h",":"))+(1/1440*15)),"FAUX")) -> TRUE | F14: =OR(AND(INDIRECT("Mois!E"&MATCH('Sem1'!$A$11,Mois!$A$1:$A$36,0))<>"",SUMPRODUCT(COUNTIF(INDIRECT("Mois!E"&MATCH('Sem1'!$A$11,Mois!$A$1:$A$36,0)),"*"&CHAR(47)&"*"))=0),IFERROR(AND(F$2>VALUE(SUBSTITUTE(LEFT(INDIRECT("Mois!E"&MATCH($A$11,Mois!$A$1:$A$36,0)),5),"h",":")),F$2<VALUE(SUBSTITUTE(RIGHT(INDIRECT("Mois!E"&MATCH($A$11,Mois!$A$1:$A$36,0)),5),"h",":"))+(1/1440*15)),"FAUX")) -> TRUE | G14: =OR(AND(INDIRECT("Mois!E"&MATCH('Sem1'!$A$11,Mois!$A$1:$A$36,0))<>"",SUMPRODUCT(COUNTIF(INDIRECT("Mois!E"&MATCH('Sem1'!$A$11,Mois!$A$1:$A$36,0)),"*"&CHAR(47)&"*"))=0),IFERROR(AND(G$2>VALUE(SUBSTITUTE(LEFT(INDIRECT("Mois!E"&MATCH($A$11,Mois!$A$1:$A$36,0)),5),"h",":")),G$2<VALUE(SUBSTITUTE(RIGHT(INDIRECT("Mois!E"&MATCH($A$11,Mois!$A$1:$A$36,0)),5),"h",":"))+(1/1440*15)),"FAUX")) -> TRUE | H14: =OR(AND(INDIRECT("Mois!E"&MATCH('Sem1'!$A$11,Mois!$A$1:$A$36,0))<>"",SUMPRODUCT(COUNTIF(INDIRECT("Mois!E"&MATCH('Sem1'!$A$11,Mois!$A$1:$A$36,0)),"*"&CHAR(47)&"*"))=0),IFERROR(AND(H$2>VALUE(SUBSTITUTE(LEFT(INDIRECT("Mois!E"&MATCH($A$11,Mois!$A$1:$A$36,0)),5),"h",":")),H$2<VALUE(SUBSTITUTE(RIGHT(INDIRECT("Mois!E"&MATCH($A$11,Mois!$A$1:$A$36,0)),5),"h",":"))+(1/1440*15)),"FAUX")) -> TRUE | I14: =OR(AND(INDIRECT("Mois!E"&MATCH('Sem1'!$A$11,Mois!$A$1:$A$36,0))<>"",SUMPRODUCT(COUNTIF(INDIRECT("Mois!E"&MATCH('Sem1'!$A$11,Mois!$A$1:$A$36,0)),"*"&CHAR(47)&"*"))=0),IFERROR(AND(I$2>VALUE(SUBSTITUTE(LEFT(INDIRECT("Mois!E"&MATCH($A$11,Mois!$A$1:$A$36,0)),5),"h",":")),I$2<VALUE(SUBSTITUTE(RIGHT(INDIRECT("Mois!E"&MATCH($A$11,Mois!$A$1:$A$36,0)),5),"h",":"))+(1/1440*15)),"FAUX")) -> TRUE | ... AX14: =OR(AND(INDIRECT("Mois!E"&MATCH('Sem1'!$A$11,Mois!$A$1:$A$36,0))<>"",SUMPRODUCT(COUNTIF(INDIRECT("Mois!E"&MATCH('Sem1'!$A$11,Mois!$A$1:$A$36,0)),"*"&CHAR(47)&"*"))=0),IFERROR(AND(AX$2>VALUE(SUBSTITUTE(LEFT(INDIRECT("Mois!E"&MATCH($A$11,Mois!$A$1:$A$36,0)),5),"h",":")),AX$2<VALUE(SUBSTITUTE(RIGHT(INDIRECT("Mois!E"&MATCH($A$11,Mois!$A$1:$A$36,0)),5),"h",":"))+(1/1440*15)),"FAUX")) -> FALSE
B15: =OR(AND(INDIRECT("Mois!F"&MATCH('Sem1'!$A$11,Mois!$A$1:$A$36,0))<>"",SUMPRODUCT(COUNTIF(INDIRECT("Mois!F"&MATCH('Sem1'!$A$11,Mois!$A$1:$A$36,0)),"*"&CHAR(47)&"*"))=0),IFERROR(AND(B$2>VALUE(SUBSTITUTE(LEFT(INDIRECT("Mois!F"&MATCH($A$11,Mois!$A$1:$A$36,0)),5),"h",":")),B$2<VALUE(SUBSTITUTE(RIGHT(INDIRECT("Mois!F"&MATCH($A$11,Mois!$A$1:$A$36,0)),5),"h",":"))+(1/1440*15)),"FAUX")) -> FALSE | C15: =OR(AND(INDIRECT("Mois!F"&MATCH('Sem1'!$A$11,Mois!$A$1:$A$36,0))<>"",SUMPRODUCT(COUNTIF(INDIRECT("Mois!F"&MATCH('Sem1'!$A$11,Mois!$A$1:$A$36,0)),"*"&CHAR(47)&"*"))=0),IFERROR(AND(C$2>VALUE(SUBSTITUTE(LEFT(INDIRECT("Mois!F"&MATCH($A$11,Mois!$A$1:$A$36,0)),5),"h",":")),C$2<VALUE(SUBSTITUTE(RIGHT(INDIRECT("Mois!F"&MATCH($A$11,Mois!$A$1:$A$36,0)),5),"h",":"))+(1/1440*15)),"FAUX")) -> FALSE | D15: =OR(AND(INDIRECT("Mois!F"&MATCH('Sem1'!$A$11,Mois!$A$1:$A$36,0))<>"",SUMPRODUCT(COUNTIF(INDIRECT("Mois!F"&MATCH('Sem1'!$A$11,Mois!$A$1:$A$36,0)),"*"&CHAR(47)&"*"))=0),IFERROR(AND(D$2>VALUE(SUBSTITUTE(LEFT(INDIRECT("Mois!F"&MATCH($A$11,Mois!$A$1:$A$36,0)),5),"h",":")),D$2<VALUE(SUBSTITUTE(RIGHT(INDIRECT("Mois!F"&MATCH($A$11,Mois!$A$1:$A$36,0)),5),"h",":"))+(1/1440*15)),"FAUX")) -> FALSE | E15: =OR(AND(INDIRECT("Mois!F"&MATCH('Sem1'!$A$11,Mois!$A$1:$A$36,0))<>"",SUMPRODUCT(COUNTIF(INDIRECT("Mois!F"&MATCH('Sem1'!$A$11,Mois!$A$1:$A$36,0)),"*"&CHAR(47)&"*"))=0),IFERROR(AND(E$2>VALUE(SUBSTITUTE(LEFT(INDIRECT("Mois!F"&MATCH($A$11,Mois!$A$1:$A$36,0)),5),"h",":")),E$2<VALUE(SUBSTITUTE(RIGHT(INDIRECT("Mois!F"&MATCH($A$11,Mois!$A$1:$A$36,0)),5),"h",":"))+(1/1440*15)),"FAUX")) -> FALSE | F15: =OR(AND(INDIRECT("Mois!F"&MATCH('Sem1'!$A$11,Mois!$A$1:$A$36,0))<>"",SUMPRODUCT(COUNTIF(INDIRECT("Mois!F"&MATCH('Sem1'!$A$11,Mois!$A$1:$A$36,0)),"*"&CHAR(47)&"*"))=0),IFERROR(AND(F$2>VALUE(SUBSTITUTE(LEFT(INDIRECT("Mois!F"&MATCH($A$11,Mois!$A$1:$A$36,0)),5),"h",":")),F$2<VALUE(SUBSTITUTE(RIGHT(INDIRECT("Mois!F"&MATCH($A$11,Mois!$A$1:$A$36,0)),5),"h",":"))+(1/1440*15)),"FAUX")) -> FALSE | G15: =OR(AND(INDIRECT("Mois!F"&MATCH('Sem1'!$A$11,Mois!$A$1:$A$36,0))<>"",SUMPRODUCT(COUNTIF(INDIRECT("Mois!F"&MATCH('Sem1'!$A$11,Mois!$A$1:$A$36,0)),"*"&CHAR(47)&"*"))=0),IFERROR(AND(G$2>VALUE(SUBSTITUTE(LEFT(INDIRECT("Mois!F"&MATCH($A$11,Mois!$A$1:$A$36,0)),5),"h",":")),G$2<VALUE(SUBSTITUTE(RIGHT(INDIRECT("Mois!F"&MATCH($A$11,Mois!$A$1:$A$36,0)),5),"h",":"))+(1/1440*15)),"FAUX")) -> FALSE | H15: =OR(AND(INDIRECT("Mois!F"&MATCH('Sem1'!$A$11,Mois!$A$1:$A$36,0))<>"",SUMPRODUCT(COUNTIF(INDIRECT("Mois!F"&MATCH('Sem1'!$A$11,Mois!$A$1:$A$36,0)),"*"&CHAR(47)&"*"))=0),IFERROR(AND(H$2>VALUE(SUBSTITUTE(LEFT(INDIRECT("Mois!F"&MATCH($A$11,Mois!$A$1:$A$36,0)),5),"h",":")),H$2<VALUE(SUBSTITUTE(RIGHT(INDIRECT("Mois!F"&MATCH($A$11,Mois!$A$1:$A$36,0)),5),"h",":"))+(1/1440*15)),"FAUX")) -> FALSE | I15: =OR(AND(INDIRECT("Mois!F"&MATCH('Sem1'!$A$11,Mois!$A$1:$A$36,0))<>"",SUMPRODUCT(COUNTIF(INDIRECT("Mois!F"&MATCH('Sem1'!$A$11,Mois!$A$1:$A$36,0)),"*"&CHAR(47)&"*"))=0),IFERROR(AND(I$2>VALUE(SUBSTITUTE(LEFT(INDIRECT("Mois!F"&MATCH($A$11,Mois!$A$1:$A$36,0)),5),"h",":")),I$2<VALUE(SUBSTITUTE(RIGHT(INDIRECT("Mois!F"&MATCH($A$11,Mois!$A$1:$A$36,0)),5),"h",":"))+(1/1440*15)),"FAUX")) -> FALSE | ... AX15: =OR(AND(INDIRECT("Mois!F"&MATCH('Sem1'!$A$11,Mois!$A$1:$A$36,0))<>"",SUMPRODUCT(COUNTIF(INDIRECT("Mois!F"&MATCH('Sem1'!$A$11,Mois!$A$1:$A$36,0)),"*"&CHAR(47)&"*"))=0),IFERROR(AND(AX$2>VALUE(SUBSTITUTE(LEFT(INDIRECT("Mois!F"&MATCH($A$11,Mois!$A$1:$A$36,0)),5),"h",":")),AX$2<VALUE(SUBSTITUTE(RIGHT(INDIRECT("Mois!F"&MATCH($A$11,Mois!$A$1:$A$36,0)),5),"h",":"))+(1/1440*15)),"FAUX")) -> FALSE
B16: =OR(AND(INDIRECT("Mois!G"&MATCH('Sem1'!$A$11,Mois!$A$1:$A$36,0))<>"",SUMPRODUCT(COUNTIF(INDIRECT("Mois!G"&MATCH('Sem1'!$A$11,Mois!$A$1:$A$36,0)),"*"&CHAR(47)&"*"))=0),IFERROR(AND(B$2>VALUE(SUBSTITUTE(LEFT(INDIRECT("Mois!G"&MATCH($A$11,Mois!$A$1:$A$36,0)),5),"h",":")),B$2<VALUE(SUBSTITUTE(RIGHT(INDIRECT("Mois!G"&MATCH($A$11,Mois!$A$1:$A$36,0)),5),"h",":"))+(1/1440*15)),"FAUX")) -> FALSE | C16: =OR(AND(INDIRECT("Mois!G"&MATCH('Sem1'!$A$11,Mois!$A$1:$A$36,0))<>"",SUMPRODUCT(COUNTIF(INDIRECT("Mois!G"&MATCH('Sem1'!$A$11,Mois!$A$1:$A$36,0)),"*"&CHAR(47)&"*"))=0),IFERROR(AND(C$2>VALUE(SUBSTITUTE(LEFT(INDIRECT("Mois!G"&MATCH($A$11,Mois!$A$1:$A$36,0)),5),"h",":")),C$2<VALUE(SUBSTITUTE(RIGHT(INDIRECT("Mois!G"&MATCH($A$11,Mois!$A$1:$A$36,0)),5),"h",":"))+(1/1440*15)),"FAUX")) -> FALSE | D16: =OR(AND(INDIRECT("Mois!G"&MATCH('Sem1'!$A$11,Mois!$A$1:$A$36,0))<>"",SUMPRODUCT(COUNTIF(INDIRECT("Mois!G"&MATCH('Sem1'!$A$11,Mois!$A$1:$A$36,0)),"*"&CHAR(47)&"*"))=0),IFERROR(AND(D$2>VALUE(SUBSTITUTE(LEFT(INDIRECT("Mois!G"&MATCH($A$11,Mois!$A$1:$A$36,0)),5),"h",":")),D$2<VALUE(SUBSTITUTE(RIGHT(INDIRECT("Mois!G"&MATCH($A$11,Mois!$A$1:$A$36,0)),5),"h",":"))+(1/1440*15)),"FAUX")) -> TRUE | E16: =OR(AND(INDIRECT("Mois!G"&MATCH('Sem1'!$A$11,Mois!$A$1:$A$36,0))<>"",SUMPRODUCT(COUNTIF(INDIRECT("Mois!G"&MATCH('Sem1'!$A$11,Mois!$A$1:$A$36,0)),"*"&CHAR(47)&"*"))=0),IFERROR(AND(E$2>VALUE(SUBSTITUTE(LEFT(INDIRECT("Mois!G"&MATCH($A$11,Mois!$A$1:$A$36,0)),5),"h",":")),E$2<VALUE(SUBSTITUTE(RIGHT(INDIRECT("Mois!G"&MATCH($A$11,Mois!$A$1:$A$36,0)),5),"h",":"))+(1/1440*15)),"FAUX")) -> TRUE | F16: =OR(AND(INDIRECT("Mois!G"&MATCH('Sem1'!$A$11,Mois!$A$1:$A$36,0))<>"",SUMPRODUCT(COUNTIF(INDIRECT("Mois!G"&MATCH('Sem1'!$A$11,Mois!$A$1:$A$36,0)),"*"&CHAR(47)&"*"))=0),IFERROR(AND(F$2>VALUE(SUBSTITUTE(LEFT(INDIRECT("Mois!G"&MATCH($A$11,Mois!$A$1:$A$36,0)),5),"h",":")),F$2<VALUE(SUBSTITUTE(RIGHT(INDIRECT("Mois!G"&MATCH($A$11,Mois!$A$1:$A$36,0)),5),"h",":"))+(1/1440*15)),"FAUX")) -> TRUE | G16: =OR(AND(INDIRECT("Mois!G"&MATCH('Sem1'!$A$11,Mois!$A$1:$A$36,0))<>"",SUMPRODUCT(COUNTIF(INDIRECT("Mois!G"&MATCH('Sem1'!$A$11,Mois!$A$1:$A$36,0)),"*"&CHAR(47)&"*"))=0),IFERROR(AND(G$2>VALUE(SUBSTITUTE(LEFT(INDIRECT("Mois!G"&MATCH($A$11,Mois!$A$1:$A$36,0)),5),"h",":")),G$2<VALUE(SUBSTITUTE(RIGHT(INDIRECT("Mois!G"&MATCH($A$11,Mois!$A$1:$A$36,0)),5),"h",":"))+(1/1440*15)),"FAUX")) -> TRUE | H16: =OR(AND(INDIRECT("Mois!G"&MATCH('Sem1'!$A$11,Mois!$A$1:$A$36,0))<>"",SUMPRODUCT(COUNTIF(INDIRECT("Mois!G"&MATCH('Sem1'!$A$11,Mois!$A$1:$A$36,0)),"*"&CHAR(47)&"*"))=0),IFERROR(AND(H$2>VALUE(SUBSTITUTE(LEFT(INDIRECT("Mois!G"&MATCH($A$11,Mois!$A$1:$A$36,0)),5),"h",":")),H$2<VALUE(SUBSTITUTE(RIGHT(INDIRECT("Mois!G"&MATCH($A$11,Mois!$A$1:$A$36,0)),5),"h",":"))+(1/1440*15)),"FAUX")) -> TRUE | I16: =OR(AND(INDIRECT("Mois!G"&MATCH('Sem1'!$A$11,Mois!$A$1:$A$36,0))<>"",SUMPRODUCT(COUNTIF(INDIRECT("Mois!G"&MATCH('Sem1'!$A$11,Mois!$A$1:$A$36,0)),"*"&CHAR(47)&"*"))=0),IFERROR(AND(I$2>VALUE(SUBSTITUTE(LEFT(INDIRECT("Mois!G"&MATCH($A$11,Mois!$A$1:$A$36,0)),5),"h",":")),I$2<VALUE(SUBSTITUTE(RIGHT(INDIRECT("Mois!G"&MATCH($A$11,Mois!$A$1:$A$36,0)),5),"h",":"))+(1/1440*15)),"FAUX")) -> TRUE | ... AX16: =OR(AND(INDIRECT("Mois!G"&MATCH('Sem1'!$A$11,Mois!$A$1:$A$36,0))<>"",SUMPRODUCT(COUNTIF(INDIRECT("Mois!G"&MATCH('Sem1'!$A$11,Mois!$A$1:$A$36,0)),"*"&CHAR(47)&"*"))=0),IFERROR(AND(AX$2>VALUE(SUBSTITUTE(LEFT(INDIRECT("Mois!G"&MATCH($A$11,Mois!$A$1:$A$36,0)),5),"h",":")),AX$2<VALUE(SUBSTITUTE(RIGHT(INDIRECT("Mois!G"&MATCH($A$11,Mois!$A$1:$A$36,0)),5),"h",":"))+(1/1440*15)),"FAUX")) -> FALSE
B17: =OR(AND(INDIRECT("Mois!H"&MATCH('Sem1'!$A$11,Mois!$A$1:$A$36,0))<>"",SUMPRODUCT(COUNTIF(INDIRECT("Mois!H"&MATCH('Sem1'!$A$11,Mois!$A$1:$A$36,0)),"*"&CHAR(47)&"*"))=0),IFERROR(AND(B$2>VALUE(SUBSTITUTE(LEFT(INDIRECT("Mois!H"&MATCH($A$11,Mois!$A$1:$A$36,0)),5),"h",":")),B$2<VALUE(SUBSTITUTE(RIGHT(INDIRECT("Mois!H"&MATCH($A$11,Mois!$A$1:$A$36,0)),5),"h",":"))+(1/1440*15)),"FAUX")) -> TRUE | C17: =OR(AND(INDIRECT("Mois!H"&MATCH('Sem1'!$A$11,Mois!$A$1:$A$36,0))<>"",SUMPRODUCT(COUNTIF(INDIRECT("Mois!H"&MATCH('Sem1'!$A$11,Mois!$A$1:$A$36,0)),"*"&CHAR(47)&"*"))=0),IFERROR(AND(C$2>VALUE(SUBSTITUTE(LEFT(INDIRECT("Mois!H"&MATCH($A$11,Mois!$A$1:$A$36,0)),5),"h",":")),C$2<VALUE(SUBSTITUTE(RIGHT(INDIRECT("Mois!H"&MATCH($A$11,Mois!$A$1:$A$36,0)),5),"h",":"))+(1/1440*15)),"FAUX")) -> TRUE | D17: =OR(AND(INDIRECT("Mois!H"&MATCH('Sem1'!$A$11,Mois!$A$1:$A$36,0))<>"",SUMPRODUCT(COUNTIF(INDIRECT("Mois!H"&MATCH('Sem1'!$A$11,Mois!$A$1:$A$36,0)),"*"&CHAR(47)&"*"))=0),IFERROR(AND(D$2>VALUE(SUBSTITUTE(LEFT(INDIRECT("Mois!H"&MATCH($A$11,Mois!$A$1:$A$36,0)),5),"h",":")),D$2<VALUE(SUBSTITUTE(RIGHT(INDIRECT("Mois!H"&MATCH($A$11,Mois!$A$1:$A$36,0)),5),"h",":"))+(1/1440*15)),"FAUX")) -> TRUE | E17: =OR(AND(INDIRECT("Mois!H"&MATCH('Sem1'!$A$11,Mois!$A$1:$A$36,0))<>"",SUMPRODUCT(COUNTIF(INDIRECT("Mois!H"&MATCH('Sem1'!$A$11,Mois!$A$1:$A$36,0)),"*"&CHAR(47)&"*"))=0),IFERROR(AND(E$2>VALUE(SUBSTITUTE(LEFT(INDIRECT("Mois!H"&MATCH($A$11,Mois!$A$1:$A$36,0)),5),"h",":")),E$2<VALUE(SUBSTITUTE(RIGHT(INDIRECT("Mois!H"&MATCH($A$11,Mois!$A$1:$A$36,0)),5),"h",":"))+(1/1440*15)),"FAUX")) -> TRUE | F17: =OR(AND(INDIRECT("Mois!H"&MATCH('Sem1'!$A$11,Mois!$A$1:$A$36,0))<>"",SUMPRODUCT(COUNTIF(INDIRECT("Mois!H"&MATCH('Sem1'!$A$11,Mois!$A$1:$A$36,0)),"*"&CHAR(47)&"*"))=0),IFERROR(AND(F$2>VALUE(SUBSTITUTE(LEFT(INDIRECT("Mois!H"&MATCH($A$11,Mois!$A$1:$A$36,0)),5),"h",":")),F$2<VALUE(SUBSTITUTE(RIGHT(INDIRECT("Mois!H"&MATCH($A$11,Mois!$A$1:$A$36,0)),5),"h",":"))+(1/1440*15)),"FAUX")) -> TRUE | G17: =OR(AND(INDIRECT("Mois!H"&MATCH('Sem1'!$A$11,Mois!$A$1:$A$36,0))<>"",SUMPRODUCT(COUNTIF(INDIRECT("Mois!H"&MATCH('Sem1'!$A$11,Mois!$A$1:$A$36,0)),"*"&CHAR(47)&"*"))=0),IFERROR(AND(G$2>VALUE(SUBSTITUTE(LEFT(INDIRECT("Mois!H"&MATCH($A$11,Mois!$A$1:$A$36,0)),5),"h",":")),G$2<VALUE(SUBSTITUTE(RIGHT(INDIRECT("Mois!H"&MATCH($A$11,Mois!$A$1:$A$36,0)),5),"h",":"))+(1/1440*15)),"FAUX")) -> TRUE | H17: =OR(AND(INDIRECT("Mois!H"&MATCH('Sem1'!$A$11,Mois!$A$1:$A$36,0))<>"",SUMPRODUCT(COUNTIF(INDIRECT("Mois!H"&MATCH('Sem1'!$A$11,Mois!$A$1:$A$36,0)),"*"&CHAR(47)&"*"))=0),IFERROR(AND(H$2>VALUE(SUBSTITUTE(LEFT(INDIRECT("Mois!H"&MATCH($A$11,Mois!$A$1:$A$36,0)),5),"h",":")),H$2<VALUE(SUBSTITUTE(RIGHT(INDIRECT("Mois!H"&MATCH($A$11,Mois!$A$1:$A$36,0)),5),"h",":"))+(1/1440*15)),"FAUX")) -> TRUE | I17: =OR(AND(INDIRECT("Mois!H"&MATCH('Sem1'!$A$11,Mois!$A$1:$A$36,0))<>"",SUMPRODUCT(COUNTIF(INDIRECT("Mois!H"&MATCH('Sem1'!$A$11,Mois!$A$1:$A$36,0)),"*"&CHAR(47)&"*"))=0),IFERROR(AND(I$2>VALUE(SUBSTITUTE(LEFT(INDIRECT("Mois!H"&MATCH($A$11,Mois!$A$1:$A$36,0)),5),"h",":")),I$2<VALUE(SUBSTITUTE(RIGHT(INDIRECT("Mois!H"&MATCH($A$11,Mois!$A$1:$A$36,0)),5),"h",":"))+(1/1440*15)),"FAUX")) -> TRUE | ... AX17: =OR(AND(INDIRECT("Mois!H"&MATCH('Sem1'!$A$11,Mois!$A$1:$A$36,0))<>"",SUMPRODUCT(COUNTIF(INDIRECT("Mois!H"&MATCH('Sem1'!$A$11,Mois!$A$1:$A$36,0)),"*"&CHAR(47)&"*"))=0),IFERROR(AND(AX$2>VALUE(SUBSTITUTE(LEFT(INDIRECT("Mois!H"&MATCH($A$11,Mois!$A$1:$A$36,0)),5),"h",":")),AX$2<VALUE(SUBSTITUTE(RIGHT(INDIRECT("Mois!H"&MATCH($A$11,Mois!$A$1:$A$36,0)),5),"h",":"))+(1/1440*15)),"FAUX")) -> TRUE
B18: =OR(AND(INDIRECT("Mois!I"&MATCH('Sem1'!$A$11,Mois!$A$1:$A$36,0))<>"",SUMPRODUCT(COUNTIF(INDIRECT("Mois!I"&MATCH('Sem1'!$A$11,Mois!$A$1:$A$36,0)),"*"&CHAR(47)&"*"))=0),IFERROR(AND(B$2>VALUE(SUBSTITUTE(LEFT(INDIRECT("Mois!I"&MATCH($A$11,Mois!$A$1:$A$36,0)),5),"h",":")),B$2<VALUE(SUBSTITUTE(RIGHT(INDIRECT("Mois!I"&MATCH($A$11,Mois!$A$1:$A$36,0)),5),"h",":"))+(1/1440*15)),"FAUX")) -> FALSE | C18: =OR(AND(INDIRECT("Mois!I"&MATCH('Sem1'!$A$11,Mois!$A$1:$A$36,0))<>"",SUMPRODUCT(COUNTIF(INDIRECT("Mois!I"&MATCH('Sem1'!$A$11,Mois!$A$1:$A$36,0)),"*"&CHAR(47)&"*"))=0),IFERROR(AND(C$2>VALUE(SUBSTITUTE(LEFT(INDIRECT("Mois!I"&MATCH($A$11,Mois!$A$1:$A$36,0)),5),"h",":")),C$2<VALUE(SUBSTITUTE(RIGHT(INDIRECT("Mois!I"&MATCH($A$11,Mois!$A$1:$A$36,0)),5),"h",":"))+(1/1440*15)),"FAUX")) -> FALSE | D18: =OR(AND(INDIRECT("Mois!I"&MATCH('Sem1'!$A$11,Mois!$A$1:$A$36,0))<>"",SUMPRODUCT(COUNTIF(INDIRECT("Mois!I"&MATCH('Sem1'!$A$11,Mois!$A$1:$A$36,0)),"*"&CHAR(47)&"*"))=0),IFERROR(AND(D$2>VALUE(SUBSTITUTE(LEFT(INDIRECT("Mois!I"&MATCH($A$11,Mois!$A$1:$A$36,0)),5),"h",":")),D$2<VALUE(SUBSTITUTE(RIGHT(INDIRECT("Mois!I"&MATCH($A$11,Mois!$A$1:$A$36,0)),5),"h",":"))+(1/1440*15)),"FAUX")) -> FALSE | E18: =OR(AND(INDIRECT("Mois!I"&MATCH('Sem1'!$A$11,Mois!$A$1:$A$36,0))<>"",SUMPRODUCT(COUNTIF(INDIRECT("Mois!I"&MATCH('Sem1'!$A$11,Mois!$A$1:$A$36,0)),"*"&CHAR(47)&"*"))=0),IFERROR(AND(E$2>VALUE(SUBSTITUTE(LEFT(INDIRECT("Mois!I"&MATCH($A$11,Mois!$A$1:$A$36,0)),5),"h",":")),E$2<VALUE(SUBSTITUTE(RIGHT(INDIRECT("Mois!I"&MATCH($A$11,Mois!$A$1:$A$36,0)),5),"h",":"))+(1/1440*15)),"FAUX")) -> FALSE | F18: =OR(AND(INDIRECT("Mois!I"&MATCH('Sem1'!$A$11,Mois!$A$1:$A$36,0))<>"",SUMPRODUCT(COUNTIF(INDIRECT("Mois!I"&MATCH('Sem1'!$A$11,Mois!$A$1:$A$36,0)),"*"&CHAR(47)&"*"))=0),IFERROR(AND(F$2>VALUE(SUBSTITUTE(LEFT(INDIRECT("Mois!I"&MATCH($A$11,Mois!$A$1:$A$36,0)),5),"h",":")),F$2<VALUE(SUBSTITUTE(RIGHT(INDIRECT("Mois!I"&MATCH($A$11,Mois!$A$1:$A$36,0)),5),"h",":"))+(1/1440*15)),"FAUX")) -> FALSE | G18: =OR(AND(INDIRECT("Mois!I"&MATCH('Sem1'!$A$11,Mois!$A$1:$A$36,0))<>"",SUMPRODUCT(COUNTIF(INDIRECT("Mois!I"&MATCH('Sem1'!$A$11,Mois!$A$1:$A$36,0)),"*"&CHAR(47)&"*"))=0),IFERROR(AND(G$2>VALUE(SUBSTITUTE(LEFT(INDIRECT("Mois!I"&MATCH($A$11,Mois!$A$1:$A$36,0)),5),"h",":")),G$2<VALUE(SUBSTITUTE(RIGHT(INDIRECT("Mois!I"&MATCH($A$11,Mois!$A$1:$A$36,0)),5),"h",":"))+(1/1440*15)),"FAUX")) -> FALSE | H18: =OR(AND(INDIRECT("Mois!I"&MATCH('Sem1'!$A$11,Mois!$A$1:$A$36,0))<>"",SUMPRODUCT(COUNTIF(INDIRECT("Mois!I"&MATCH('Sem1'!$A$11,Mois!$A$1:$A$36,0)),"*"&CHAR(47)&"*"))=0),IFERROR(AND(H$2>VALUE(SUBSTITUTE(LEFT(INDIRECT("Mois!I"&MATCH($A$11,Mois!$A$1:$A$36,0)),5),"h",":")),H$2<VALUE(SUBSTITUTE(RIGHT(INDIRECT("Mois!I"&MATCH($A$11,Mois!$A$1:$A$36,0)),5),"h",":"))+(1/1440*15)),"FAUX")) -> FALSE | I18: =OR(AND(INDIRECT("Mois!I"&MATCH('Sem1'!$A$11,Mois!$A$1:$A$36,0))<>"",SUMPRODUCT(COUNTIF(INDIRECT("Mois!I"&MATCH('Sem1'!$A$11,Mois!$A$1:$A$36,0)),"*"&CHAR(47)&"*"))=0),IFERROR(AND(I$2>VALUE(SUBSTITUTE(LEFT(INDIRECT("Mois!I"&MATCH($A$11,Mois!$A$1:$A$36,0)),5),"h",":")),I$2<VALUE(SUBSTITUTE(RIGHT(INDIRECT("Mois!I"&MATCH($A$11,Mois!$A$1:$A$36,0)),5),"h",":"))+(1/1440*15)),"FAUX")) -> FALSE | ... AX18: =OR(AND(INDIRECT("Mois!I"&MATCH('Sem1'!$A$11,Mois!$A$1:$A$36,0))<>"",SUMPRODUCT(COUNTIF(INDIRECT("Mois!I"&MATCH('Sem1'!$A$11,Mois!$A$1:$A$36,0)),"*"&CHAR(47)&"*"))=0),IFERROR(AND(AX$2>VALUE(SUBSTITUTE(LEFT(INDIRECT("Mois!I"&MATCH($A$11,Mois!$A$1:$A$36,0)),5),"h",":")),AX$2<VALUE(SUBSTITUTE(RIGHT(INDIRECT("Mois!I"&MATCH($A$11,Mois!$A$1:$A$36,0)),5),"h",":"))+(1/1440*15)),"FAUX")) -> FALSE
A19: =A11+1 -> 42802 | B19: =OR(AND(INDIRECT("Mois!B"&MATCH('Sem1'!$A$19,Mois!$A$1:$A$36,0))<>"",SUMPRODUCT(COUNTIF(INDIRECT("Mois!B"&MATCH('Sem1'!$A$19,Mois!$A$1:$A$36,0)),"*"&CHAR(47)&"*"))=0),IFERROR(AND(B$2>VALUE(SUBSTITUTE(LEFT(INDIRECT("Mois!B"&MATCH($A$19,Mois!$A$1:$A$36,0)),5),"h",":")),B$2<VALUE(SUBSTITUTE(RIGHT(INDIRECT("Mois!B"&MATCH($A$19,Mois!$A$1:$A$36,0)),5),"h",":"))+(1/1440*15)),"FAUX")) -> FALSE | C19: =OR(AND(INDIRECT("Mois!B"&MATCH('Sem1'!$A$19,Mois!$A$1:$A$36,0))<>"",SUMPRODUCT(COUNTIF(INDIRECT("Mois!B"&MATCH('Sem1'!$A$19,Mois!$A$1:$A$36,0)),"*"&CHAR(47)&"*"))=0),IFERROR(AND(C$2>VALUE(SUBSTITUTE(LEFT(INDIRECT("Mois!B"&MATCH($A$19,Mois!$A$1:$A$36,0)),5),"h",":")),C$2<VALUE(SUBSTITUTE(RIGHT(INDIRECT("Mois!B"&MATCH($A$19,Mois!$A$1:$A$36,0)),5),"h",":"))+(1/1440*15)),"FAUX")) -> FALSE | D19: =OR(AND(INDIRECT("Mois!B"&MATCH('Sem1'!$A$19,Mois!$A$1:$A$36,0))<>"",SUMPRODUCT(COUNTIF(INDIRECT("Mois!B"&MATCH('Sem1'!$A$19,Mois!$A$1:$A$36,0)),"*"&CHAR(47)&"*"))=0),IFERROR(AND(D$2>VALUE(SUBSTITUTE(LEFT(INDIRECT("Mois!B"&MATCH($A$19,Mois!$A$1:$A$36,0)),5),"h",":")),D$2<VALUE(SUBSTITUTE(RIGHT(INDIRECT("Mois!B"&MATCH($A$19,Mois!$A$1:$A$36,0)),5),"h",":"))+(1/1440*15)),"FAUX")) -> FALSE | E19: =OR(AND(INDIRECT("Mois!B"&MATCH('Sem1'!$A$19,Mois!$A$1:$A$36,0))<>"",SUMPRODUCT(COUNTIF(INDIRECT("Mois!B"&MATCH('Sem1'!$A$19,Mois!$A$1:$A$36,0)),"*"&CHAR(47)&"*"))=0),IFERROR(AND(E$2>VALUE(SUBSTITUTE(LEFT(INDIRECT("Mois!B"&MATCH($A$19,Mois!$A$1:$A$36,0)),5),"h",":")),E$2<VALUE(SUBSTITUTE(RIGHT(INDIRECT("Mois!B"&MATCH($A$19,Mois!$A$1:$A$36,0)),5),"h",":"))+(1/1440*15)),"FAUX")) -> FALSE | F19: =OR(AND(INDIRECT("Mois!B"&MATCH('Sem1'!$A$19,Mois!$A$1:$A$36,0))<>"",SUMPRODUCT(COUNTIF(INDIRECT("Mois!B"&MATCH('Sem1'!$A$19,Mois!$A$1:$A$36,0)),"*"&CHAR(47)&"*"))=0),IFERROR(AND(F$2>VALUE(SUBSTITUTE(LEFT(INDIRECT("Mois!B"&MATCH($A$19,Mois!$A$1:$A$36,0)),5),"h",":")),F$2<VALUE(SUBSTITUTE(RIGHT(INDIRECT("Mois!B"&MATCH($A$19,Mois!$A$1:$A$36,0)),5),"h",":"))+(1/1440*15)),"FAUX")) -> FALSE | G19: =OR(AND(INDIRECT("Mois!B"&MATCH('Sem1'!$A$19,Mois!$A$1:$A$36,0))<>"",SUMPRODUCT(COUNTIF(INDIRECT("Mois!B"&MATCH('Sem1'!$A$19,Mois!$A$1:$A$36,0)),"*"&CHAR(47)&"*"))=0),IFERROR(AND(G$2>VALUE(SUBSTITUTE(LEFT(INDIRECT("Mois!B"&MATCH($A$19,Mois!$A$1:$A$36,0)),5),"h",":")),G$2<VALUE(SUBSTITUTE(RIGHT(INDIRECT("Mois!B"&MATCH($A$19,Mois!$A$1:$A$36,0)),5),"h",":"))+(1/1440*15)),"FAUX")) -> FALSE | H19: =OR(AND(INDIRECT("Mois!B"&MATCH('Sem1'!$A$19,Mois!$A$1:$A$36,0))<>"",SUMPRODUCT(COUNTIF(INDIRECT("Mois!B"&MATCH('Sem1'!$A$19,Mois!$A$1:$A$36,0)),"*"&CHAR(47)&"*"))=0),IFERROR(AND(H$2>VALUE(SUBSTITUTE(LEFT(INDIRECT("Mois!B"&MATCH($A$19,Mois!$A$1:$A$36,0)),5),"h",":")),H$2<VALUE(SUBSTITUTE(RIGHT(INDIRECT("Mois!B"&MATCH($A$19,Mois!$A$1:$A$36,0)),5),"h",":"))+(1/1440*15)),"FAUX")) -> FALSE | I19: =OR(AND(INDIRECT("Mois!B"&MATCH('Sem1'!$A$19,Mois!$A$1:$A$36,0))<>"",SUMPRODUCT(COUNTIF(INDIRECT("Mois!B"&MATCH('Sem1'!$A$19,Mois!$A$1:$A$36,0)),"*"&CHAR(47)&"*"))=0),IFERROR(AND(I$2>VALUE(SUBSTITUTE(LEFT(INDIRECT("Mois!B"&MATCH($A$19,Mois!$A$1:$A$36,0)),5),"h",":")),I$2<VALUE(SUBSTITUTE(RIGHT(INDIRECT("Mois!B"&MATCH($A$19,Mois!$A$1:$A$36,0)),5),"h",":"))+(1/1440*15)),"FAUX")) -> FALSE | ... AX19: =OR(AND(INDIRECT("Mois!B"&MATCH('Sem1'!$A$19,Mois!$A$1:$A$36,0))<>"",SUMPRODUCT(COUNTIF(INDIRECT("Mois!B"&MATCH('Sem1'!$A$19,Mois!$A$1:$A$36,0)),"*"&CHAR(47)&"*"))=0),IFERROR(AND(AX$2>VALUE(SUBSTITUTE(LEFT(INDIRECT("Mois!B"&MATCH($A$19,Mois!$A$1:$A$36,0)),5),"h",":")),AX$2<VALUE(SUBSTITUTE(RIGHT(INDIRECT("Mois!B"&MATCH($A$19,Mois!$A$1:$A$36,0)),5),"h",":"))+(1/1440*15)),"FAUX")) -> FALSE
B20: =OR(AND(INDIRECT("Mois!C"&MATCH('Sem1'!$A$19,Mois!$A$1:$A$36,0))<>"",SUMPRODUCT(COUNTIF(INDIRECT("Mois!C"&MATCH('Sem1'!$A$19,Mois!$A$1:$A$36,0)),"*"&CHAR(47)&"*"))=0),IFERROR(AND(B$2>VALUE(SUBSTITUTE(LEFT(INDIRECT("Mois!C"&MATCH($A$19,Mois!$A$1:$A$36,0)),5),"h",":")),B$2<VALUE(SUBSTITUTE(RIGHT(INDIRECT("Mois!C"&MATCH($A$19,Mois!$A$1:$A$36,0)),5),"h",":"))+(1/1440*15)),"FAUX")) -> FALSE | C20: =OR(AND(INDIRECT("Mois!C"&MATCH('Sem1'!$A$19,Mois!$A$1:$A$36,0))<>"",SUMPRODUCT(COUNTIF(INDIRECT("Mois!C"&MATCH('Sem1'!$A$19,Mois!$A$1:$A$36,0)),"*"&CHAR(47)&"*"))=0),IFERROR(AND(C$2>VALUE(SUBSTITUTE(LEFT(INDIRECT("Mois!C"&MATCH($A$19,Mois!$A$1:$A$36,0)),5),"h",":")),C$2<VALUE(SUBSTITUTE(RIGHT(INDIRECT("Mois!C"&MATCH($A$19,Mois!$A$1:$A$36,0)),5),"h",":"))+(1/1440*15)),"FAUX")) -> FALSE | D20: =OR(AND(INDIRECT("Mois!C"&MATCH('Sem1'!$A$19,Mois!$A$1:$A$36,0))<>"",SUMPRODUCT(COUNTIF(INDIRECT("Mois!C"&MATCH('Sem1'!$A$19,Mois!$A$1:$A$36,0)),"*"&CHAR(47)&"*"))=0),IFERROR(AND(D$2>VALUE(SUBSTITUTE(LEFT(INDIRECT("Mois!C"&MATCH($A$19,Mois!$A$1:$A$36,0)),5),"h",":")),D$2<VALUE(SUBSTITUTE(RIGHT(INDIRECT("Mois!C"&MATCH($A$19,Mois!$A$1:$A$36,0)),5),"h",":"))+(1/1440*15)),"FAUX")) -> FALSE | E20: =OR(AND(INDIRECT("Mois!C"&MATCH('Sem1'!$A$19,Mois!$A$1:$A$36,0))<>"",SUMPRODUCT(COUNTIF(INDIRECT("Mois!C"&MATCH('Sem1'!$A$19,Mois!$A$1:$A$36,0)),"*"&CHAR(47)&"*"))=0),IFERROR(AND(E$2>VALUE(SUBSTITUTE(LEFT(INDIRECT("Mois!C"&MATCH($A$19,Mois!$A$1:$A$36,0)),5),"h",":")),E$2<VALUE(SUBSTITUTE(RIGHT(INDIRECT("Mois!C"&MATCH($A$19,Mois!$A$1:$A$36,0)),5),"h",":"))+(1/1440*15)),"FAUX")) -> FALSE | F20: =OR(AND(INDIRECT("Mois!C"&MATCH('Sem1'!$A$19,Mois!$A$1:$A$36,0))<>"",SUMPRODUCT(COUNTIF(INDIRECT("Mois!C"&MATCH('Sem1'!$A$19,Mois!$A$1:$A$36,0)),"*"&CHAR(47)&"*"))=0),IFERROR(AND(F$2>VALUE(SUBSTITUTE(LEFT(INDIRECT("Mois!C"&MATCH($A$19,Mois!$A$1:$A$36,0)),5),"h",":")),F$2<VALUE(SUBSTITUTE(RIGHT(INDIRECT("Mois!C"&MATCH($A$19,Mois!$A$1:$A$36,0)),5),"h",":"))+(1/1440*15)),"FAUX")) -> FALSE | G20: =OR(AND(INDIRECT("Mois!C"&MATCH('Sem1'!$A$19,Mois!$A$1:$A$36,0))<>"",SUMPRODUCT(COUNTIF(INDIRECT("Mois!C"&MATCH('Sem1'!$A$19,Mois!$A$1:$A$36,0)),"*"&CHAR(47)&"*"))=0),IFERROR(AND(G$2>VALUE(SUBSTITUTE(LEFT(INDIRECT("Mois!C"&MATCH($A$19,Mois!$A$1:$A$36,0)),5),"h",":")),G$2<VALUE(SUBSTITUTE(RIGHT(INDIRECT("Mois!C"&MATCH($A$19,Mois!$A$1:$A$36,0)),5),"h",":"))+(1/1440*15)),"FAUX")) -> FALSE | H20: =OR(AND(INDIRECT("Mois!C"&MATCH('Sem1'!$A$19,Mois!$A$1:$A$36,0))<>"",SUMPRODUCT(COUNTIF(INDIRECT("Mois!C"&MATCH('Sem1'!$A$19,Mois!$A$1:$A$36,0)),"*"&CHAR(47)&"*"))=0),IFERROR(AND(H$2>VALUE(SUBSTITUTE(LEFT(INDIRECT("Mois!C"&MATCH($A$19,Mois!$A$1:$A$36,0)),5),"h",":")),H$2<VALUE(SUBSTITUTE(RIGHT(INDIRECT("Mois!C"&MATCH($A$19,Mois!$A$1:$A$36,0)),5),"h",":"))+(1/1440*15)),"FAUX")) -> FALSE | I20: =OR(AND(INDIRECT("Mois!C"&MATCH('Sem1'!$A$19,Mois!$A$1:$A$36,0))<>"",SUMPRODUCT(COUNTIF(INDIRECT("Mois!C"&MATCH('Sem1'!$A$19,Mois!$A$1:$A$36,0)),"*"&CHAR(47)&"*"))=0),IFERROR(AND(I$2>VALUE(SUBSTITUTE(LEFT(INDIRECT("Mois!C"&MATCH($A$19,Mois!$A$1:$A$36,0)),5),"h",":")),I$2<VALUE(SUBSTITUTE(RIGHT(INDIRECT("Mois!C"&MATCH($A$19,Mois!$A$1:$A$36,0)),5),"h",":"))+(1/1440*15)),"FAUX")) -> FALSE | ... AX20: =OR(AND(INDIRECT("Mois!C"&MATCH('Sem1'!$A$19,Mois!$A$1:$A$36,0))<>"",SUMPRODUCT(COUNTIF(INDIRECT("Mois!C"&MATCH('Sem1'!$A$19,Mois!$A$1:$A$36,0)),"*"&CHAR(47)&"*"))=0),IFERROR(AND(AX$2>VALUE(SUBSTITUTE(LEFT(INDIRECT("Mois!C"&MATCH($A$19,Mois!$A$1:$A$36,0)),5),"h",":")),AX$2<VALUE(SUBSTITUTE(RIGHT(INDIRECT("Mois!C"&MATCH($A$19,Mois!$A$1:$A$36,0)),5),"h",":"))+(1/1440*15)),"FAUX")) -> FALSE
B21: =OR(AND(INDIRECT("Mois!D"&MATCH('Sem1'!$A$19,Mois!$A$1:$A$36,0))<>"",SUMPRODUCT(COUNTIF(INDIRECT("Mois!D"&MATCH('Sem1'!$A$19,Mois!$A$1:$A$36,0)),"*"&CHAR(47)&"*"))=0),IFERROR(AND(B$2>VALUE(SUBSTITUTE(LEFT(INDIRECT("Mois!D"&MATCH($A$19,Mois!$A$1:$A$36,0)),5),"h",":")),B$2<VALUE(SUBSTITUTE(RIGHT(INDIRECT("Mois!D"&MATCH($A$19,Mois!$A$1:$A$36,0)),5),"h",":"))+(1/1440*15)),"FAUX")) -> FALSE | C21: =OR(AND(INDIRECT("Mois!D"&MATCH('Sem1'!$A$19,Mois!$A$1:$A$36,0))<>"",SUMPRODUCT(COUNTIF(INDIRECT("Mois!D"&MATCH('Sem1'!$A$19,Mois!$A$1:$A$36,0)),"*"&CHAR(47)&"*"))=0),IFERROR(AND(C$2>VALUE(SUBSTITUTE(LEFT(INDIRECT("Mois!D"&MATCH($A$19,Mois!$A$1:$A$36,0)),5),"h",":")),C$2<VALUE(SUBSTITUTE(RIGHT(INDIRECT("Mois!D"&MATCH($A$19,Mois!$A$1:$A$36,0)),5),"h",":"))+(1/1440*15)),"FAUX")) -> FALSE | D21: =OR(AND(INDIRECT("Mois!D"&MATCH('Sem1'!$A$19,Mois!$A$1:$A$36,0))<>"",SUMPRODUCT(COUNTIF(INDIRECT("Mois!D"&MATCH('Sem1'!$A$19,Mois!$A$1:$A$36,0)),"*"&CHAR(47)&"*"))=0),IFERROR(AND(D$2>VALUE(SUBSTITUTE(LEFT(INDIRECT("Mois!D"&MATCH($A$19,Mois!$A$1:$A$36,0)),5),"h",":")),D$2<VALUE(SUBSTITUTE(RIGHT(INDIRECT("Mois!D"&MATCH($A$19,Mois!$A$1:$A$36,0)),5),"h",":"))+(1/1440*15)),"FAUX")) -> FALSE | E21: =OR(AND(INDIRECT("Mois!D"&MATCH('Sem1'!$A$19,Mois!$A$1:$A$36,0))<>"",SUMPRODUCT(COUNTIF(INDIRECT("Mois!D"&MATCH('Sem1'!$A$19,Mois!$A$1:$A$36,0)),"*"&CHAR(47)&"*"))=0),IFERROR(AND(E$2>VALUE(SUBSTITUTE(LEFT(INDIRECT("Mois!D"&MATCH($A$19,Mois!$A$1:$A$36,0)),5),"h",":")),E$2<VALUE(SUBSTITUTE(RIGHT(INDIRECT("Mois!D"&MATCH($A$19,Mois!$A$1:$A$36,0)),5),"h",":"))+(1/1440*15)),"FAUX")) -> FALSE | F21: =OR(AND(INDIRECT("Mois!D"&MATCH('Sem1'!$A$19,Mois!$A$1:$A$36,0))<>"",SUMPRODUCT(COUNTIF(INDIRECT("Mois!D"&MATCH('Sem1'!$A$19,Mois!$A$1:$A$36,0)),"*"&CHAR(47)&"*"))=0),IFERROR(AND(F$2>VALUE(SUBSTITUTE(LEFT(INDIRECT("Mois!D"&MATCH($A$19,Mois!$A$1:$A$36,0)),5),"h",":")),F$2<VALUE(SUBSTITUTE(RIGHT(INDIRECT("Mois!D"&MATCH($A$19,Mois!$A$1:$A$36,0)),5),"h",":"))+(1/1440*15)),"FAUX")) -> FALSE | G21: =OR(AND(INDIRECT("Mois!D"&MATCH('Sem1'!$A$19,Mois!$A$1:$A$36,0))<>"",SUMPRODUCT(COUNTIF(INDIRECT("Mois!D"&MATCH('Sem1'!$A$19,Mois!$A$1:$A$36,0)),"*"&CHAR(47)&"*"))=0),IFERROR(AND(G$2>VALUE(SUBSTITUTE(LEFT(INDIRECT("Mois!D"&MATCH($A$19,Mois!$A$1:$A$36,0)),5),"h",":")),G$2<VALUE(SUBSTITUTE(RIGHT(INDIRECT("Mois!D"&MATCH($A$19,Mois!$A$1:$A$36,0)),5),"h",":"))+(1/1440*15)),"FAUX")) -> FALSE | H21: =OR(AND(INDIRECT("Mois!D"&MATCH('Sem1'!$A$19,Mois!$A$1:$A$36,0))<>"",SUMPRODUCT(COUNTIF(INDIRECT("Mois!D"&MATCH('Sem1'!$A$19,Mois!$A$1:$A$36,0)),"*"&CHAR(47)&"*"))=0),IFERROR(AND(H$2>VALUE(SUBSTITUTE(LEFT(INDIRECT("Mois!D"&MATCH($A$19,Mois!$A$1:$A$36,0)),5),"h",":")),H$2<VALUE(SUBSTITUTE(RIGHT(INDIRECT("Mois!D"&MATCH($A$19,Mois!$A$1:$A$36,0)),5),"h",":"))+(1/1440*15)),"FAUX")) -> FALSE | I21: =OR(AND(INDIRECT("Mois!D"&MATCH('Sem1'!$A$19,Mois!$A$1:$A$36,0))<>"",SUMPRODUCT(COUNTIF(INDIRECT("Mois!D"&MATCH('Sem1'!$A$19,Mois!$A$1:$A$36,0)),"*"&CHAR(47)&"*"))=0),IFERROR(AND(I$2>VALUE(SUBSTITUTE(LEFT(INDIRECT("Mois!D"&MATCH($A$19,Mois!$A$1:$A$36,0)),5),"h",":")),I$2<VALUE(SUBSTITUTE(RIGHT(INDIRECT("Mois!D"&MATCH($A$19,Mois!$A$1:$A$36,0)),5),"h",":"))+(1/1440*15)),"FAUX")) -> FALSE | ... AX21: =OR(AND(INDIRECT("Mois!D"&MATCH('Sem1'!$A$19,Mois!$A$1:$A$36,0))<>"",SUMPRODUCT(COUNTIF(INDIRECT("Mois!D"&MATCH('Sem1'!$A$19,Mois!$A$1:$A$36,0)),"*"&CHAR(47)&"*"))=0),IFERROR(AND(AX$2>VALUE(SUBSTITUTE(LEFT(INDIRECT("Mois!D"&MATCH($A$19,Mois!$A$1:$A$36,0)),5),"h",":")),AX$2<VALUE(SUBSTITUTE(RIGHT(INDIRECT("Mois!D"&MATCH($A$19,Mois!$A$1:$A$36,0)),5),"h",":"))+(1/1440*15)),"FAUX")) -> FALSE
B22: =OR(AND(INDIRECT("Mois!E"&MATCH('Sem1'!$A$19,Mois!$A$1:$A$36,0))<>"",SUMPRODUCT(COUNTIF(INDIRECT("Mois!E"&MATCH('Sem1'!$A$19,Mois!$A$1:$A$36,0)),"*"&CHAR(47)&"*"))=0),IFERROR(AND(B$2>VALUE(SUBSTITUTE(LEFT(INDIRECT("Mois!E"&MATCH($A$19,Mois!$A$1:$A$36,0)),5),"h",":")),B$2<VALUE(SUBSTITUTE(RIGHT(INDIRECT("Mois!E"&MATCH($A$19,Mois!$A$1:$A$36,0)),5),"h",":"))+(1/1440*15)),"FAUX")) -> FALSE | C22: =OR(AND(INDIRECT("Mois!E"&MATCH('Sem1'!$A$19,Mois!$A$1:$A$36,0))<>"",SUMPRODUCT(COUNTIF(INDIRECT("Mois!E"&MATCH('Sem1'!$A$19,Mois!$A$1:$A$36,0)),"*"&CHAR(47)&"*"))=0),IFERROR(AND(C$2>VALUE(SUBSTITUTE(LEFT(INDIRECT("Mois!E"&MATCH($A$19,Mois!$A$1:$A$36,0)),5),"h",":")),C$2<VALUE(SUBSTITUTE(RIGHT(INDIRECT("Mois!E"&MATCH($A$19,Mois!$A$1:$A$36,0)),5),"h",":"))+(1/1440*15)),"FAUX")) -> FALSE | D22: =OR(AND(INDIRECT("Mois!E"&MATCH('Sem1'!$A$19,Mois!$A$1:$A$36,0))<>"",SUMPRODUCT(COUNTIF(INDIRECT("Mois!E"&MATCH('Sem1'!$A$19,Mois!$A$1:$A$36,0)),"*"&CHAR(47)&"*"))=0),IFERROR(AND(D$2>VALUE(SUBSTITUTE(LEFT(INDIRECT("Mois!E"&MATCH($A$19,Mois!$A$1:$A$36,0)),5),"h",":")),D$2<VALUE(SUBSTITUTE(RIGHT(INDIRECT("Mois!E"&MATCH($A$19,Mois!$A$1:$A$36,0)),5),"h",":"))+(1/1440*15)),"FAUX")) -> FALSE | E22: =OR(AND(INDIRECT("Mois!E"&MATCH('Sem1'!$A$19,Mois!$A$1:$A$36,0))<>"",SUMPRODUCT(COUNTIF(INDIRECT("Mois!E"&MATCH('Sem1'!$A$19,Mois!$A$1:$A$36,0)),"*"&CHAR(47)&"*"))=0),IFERROR(AND(E$2>VALUE(SUBSTITUTE(LEFT(INDIRECT("Mois!E"&MATCH($A$19,Mois!$A$1:$A$36,0)),5),"h",":")),E$2<VALUE(SUBSTITUTE(RIGHT(INDIRECT("Mois!E"&MATCH($A$19,Mois!$A$1:$A$36,0)),5),"h",":"))+(1/1440*15)),"FAUX")) -> TRUE | F22: =OR(AND(INDIRECT("Mois!E"&MATCH('Sem1'!$A$19,Mois!$A$1:$A$36,0))<>"",SUMPRODUCT(COUNTIF(INDIRECT("Mois!E"&MATCH('Sem1'!$A$19,Mois!$A$1:$A$36,0)),"*"&CHAR(47)&"*"))=0),IFERROR(AND(F$2>VALUE(SUBSTITUTE(LEFT(INDIRECT("Mois!E"&MATCH($A$19,Mois!$A$1:$A$36,0)),5),"h",":")),F$2<VALUE(SUBSTITUTE(RIGHT(INDIRECT("Mois!E"&MATCH($A$19,Mois!$A$1:$A$36,0)),5),"h",":"))+(1/1440*15)),"FAUX")) -> TRUE | G22: =OR(AND(INDIRECT("Mois!E"&MATCH('Sem1'!$A$19,Mois!$A$1:$A$36,0))<>"",SUMPRODUCT(COUNTIF(INDIRECT("Mois!E"&MATCH('Sem1'!$A$19,Mois!$A$1:$A$36,0)),"*"&CHAR(47)&"*"))=0),IFERROR(AND(G$2>VALUE(SUBSTITUTE(LEFT(INDIRECT("Mois!E"&MATCH($A$19,Mois!$A$1:$A$36,0)),5),"h",":")),G$2<VALUE(SUBSTITUTE(RIGHT(INDIRECT("Mois!E"&MATCH($A$19,Mois!$A$1:$A$36,0)),5),"h",":"))+(1/1440*15)),"FAUX")) -> TRUE | H22: =OR(AND(INDIRECT("Mois!E"&MATCH('Sem1'!$A$19,Mois!$A$1:$A$36,0))<>"",SUMPRODUCT(COUNTIF(INDIRECT("Mois!E"&MATCH('Sem1'!$A$19,Mois!$A$1:$A$36,0)),"*"&CHAR(47)&"*"))=0),IFERROR(AND(H$2>VALUE(SUBSTITUTE(LEFT(INDIRECT("Mois!E"&MATCH($A$19,Mois!$A$1:$A$36,0)),5),"h",":")),H$2<VALUE(SUBSTITUTE(RIGHT(INDIRECT("Mois!E"&MATCH($A$19,Mois!$A$1:$A$36,0)),5),"h",":"))+(1/1440*15)),"FAUX")) -> TRUE | I22: =OR(AND(INDIRECT("Mois!E"&MATCH('Sem1'!$A$19,Mois!$A$1:$A$36,0))<>"",SUMPRODUCT(COUNTIF(INDIRECT("Mois!E"&MATCH('Sem1'!$A$19,Mois!$A$1:$A$36,0)),"*"&CHAR(47)&"*"))=0),IFERROR(AND(I$2>VALUE(SUBSTITUTE(LEFT(INDIRECT("Mois!E"&MATCH($A$19,Mois!$A$1:$A$36,0)),5),"h",":")),I$2<VALUE(SUBSTITUTE(RIGHT(INDIRECT("Mois!E"&MATCH($A$19,Mois!$A$1:$A$36,0)),5),"h",":"))+(1/1440*15)),"FAUX")) -> TRUE | ... AX22: =OR(AND(INDIRECT("Mois!E"&MATCH('Sem1'!$A$19,Mois!$A$1:$A$36,0))<>"",SUMPRODUCT(COUNTIF(INDIRECT("Mois!E"&MATCH('Sem1'!$A$19,Mois!$A$1:$A$36,0)),"*"&CHAR(47)&"*"))=0),IFERROR(AND(AX$2>VALUE(SUBSTITUTE(LEFT(INDIRECT("Mois!E"&MATCH($A$19,Mois!$A$1:$A$36,0)),5),"h",":")),AX$2<VALUE(SUBSTITUTE(RIGHT(INDIRECT("Mois!E"&MATCH($A$19,Mois!$A$1:$A$36,0)),5),"h",":"))+(1/1440*15)),"FAUX")) -> FALSE
B23: =OR(AND(INDIRECT("Mois!F"&MATCH('Sem1'!$A$19,Mois!$A$1:$A$36,0))<>"",SUMPRODUCT(COUNTIF(INDIRECT("Mois!F"&MATCH('Sem1'!$A$19,Mois!$A$1:$A$36,0)),"*"&CHAR(47)&"*"))=0),IFERROR(AND(B$2>VALUE(SUBSTITUTE(LEFT(INDIRECT("Mois!F"&MATCH($A$19,Mois!$A$1:$A$36,0)),5),"h",":")),B$2<VALUE(SUBSTITUTE(RIGHT(INDIRECT("Mois!F"&MATCH($A$19,Mois!$A$1:$A$36,0)),5),"h",":"))+(1/1440*15)),"FAUX")) -> TRUE | C23: =OR(AND(INDIRECT("Mois!F"&MATCH('Sem1'!$A$19,Mois!$A$1:$A$36,0))<>"",SUMPRODUCT(COUNTIF(INDIRECT("Mois!F"&MATCH('Sem1'!$A$19,Mois!$A$1:$A$36,0)),"*"&CHAR(47)&"*"))=0),IFERROR(AND(C$2>VALUE(SUBSTITUTE(LEFT(INDIRECT("Mois!F"&MATCH($A$19,Mois!$A$1:$A$36,0)),5),"h",":")),C$2<VALUE(SUBSTITUTE(RIGHT(INDIRECT("Mois!F"&MATCH($A$19,Mois!$A$1:$A$36,0)),5),"h",":"))+(1/1440*15)),"FAUX")) -> TRUE | D23: =OR(AND(INDIRECT("Mois!F"&MATCH('Sem1'!$A$19,Mois!$A$1:$A$36,0))<>"",SUMPRODUCT(COUNTIF(INDIRECT("Mois!F"&MATCH('Sem1'!$A$19,Mois!$A$1:$A$36,0)),"*"&CHAR(47)&"*"))=0),IFERROR(AND(D$2>VALUE(SUBSTITUTE(LEFT(INDIRECT("Mois!F"&MATCH($A$19,Mois!$A$1:$A$36,0)),5),"h",":")),D$2<VALUE(SUBSTITUTE(RIGHT(INDIRECT("Mois!F"&MATCH($A$19,Mois!$A$1:$A$36,0)),5),"h",":"))+(1/1440*15)),"FAUX")) -> TRUE | E23: =OR(AND(INDIRECT("Mois!F"&MATCH('Sem1'!$A$19,Mois!$A$1:$A$36,0))<>"",SUMPRODUCT(COUNTIF(INDIRECT("Mois!F"&MATCH('Sem1'!$A$19,Mois!$A$1:$A$36,0)),"*"&CHAR(47)&"*"))=0),IFERROR(AND(E$2>VALUE(SUBSTITUTE(LEFT(INDIRECT("Mois!F"&MATCH($A$19,Mois!$A$1:$A$36,0)),5),"h",":")),E$2<VALUE(SUBSTITUTE(RIGHT(INDIRECT("Mois!F"&MATCH($A$19,Mois!$A$1:$A$36,0)),5),"h",":"))+(1/1440*15)),"FAUX")) -> TRUE | F23: =OR(AND(INDIRECT("Mois!F"&MATCH('Sem1'!$A$19,Mois!$A$1:$A$36,0))<>"",SUMPRODUCT(COUNTIF(INDIRECT("Mois!F"&MATCH('Sem1'!$A$19,Mois!$A$1:$A$36,0)),"*"&CHAR(47)&"*"))=0),IFERROR(AND(F$2>VALUE(SUBSTITUTE(LEFT(INDIRECT("Mois!F"&MATCH($A$19,Mois!$A$1:$A$36,0)),5),"h",":")),F$2<VALUE(SUBSTITUTE(RIGHT(INDIRECT("Mois!F"&MATCH($A$19,Mois!$A$1:$A$36,0)),5),"h",":"))+(1/1440*15)),"FAUX")) -> TRUE | G23: =OR(AND(INDIRECT("Mois!F"&MATCH('Sem1'!$A$19,Mois!$A$1:$A$36,0))<>"",SUMPRODUCT(COUNTIF(INDIRECT("Mois!F"&MATCH('Sem1'!$A$19,Mois!$A$1:$A$36,0)),"*"&CHAR(47)&"*"))=0),IFERROR(AND(G$2>VALUE(SUBSTITUTE(LEFT(INDIRECT("Mois!F"&MATCH($A$19,Mois!$A$1:$A$36,0)),5),"h",":")),G$2<VALUE(SUBSTITUTE(RIGHT(INDIRECT("Mois!F"&MATCH($A$19,Mois!$A$1:$A$36,0)),5),"h",":"))+(1/1440*15)),"FAUX")) -> TRUE | H23: =OR(AND(INDIRECT("Mois!F"&MATCH('Sem1'!$A$19,Mois!$A$1:$A$36,0))<>"",SUMPRODUCT(COUNTIF(INDIRECT("Mois!F"&MATCH('Sem1'!$A$19,Mois!$A$1:$A$36,0)),"*"&CHAR(47)&"*"))=0),IFERROR(AND(H$2>VALUE(SUBSTITUTE(LEFT(INDIRECT("Mois!F"&MATCH($A$19,Mois!$A$1:$A$36,0)),5),"h",":")),H$2<VALUE(SUBSTITUTE(RIGHT(INDIRECT("Mois!F"&MATCH($A$19,Mois!$A$1:$A$36,0)),5),"h",":"))+(1/1440*15)),"FAUX")) -> TRUE | I23: =OR(AND(INDIRECT("Mois!F"&MATCH('Sem1'!$A$19,Mois!$A$1:$A$36,0))<>"",SUMPRODUCT(COUNTIF(INDIRECT("Mois!F"&MATCH('Sem1'!$A$19,Mois!$A$1:$A$36,0)),"*"&CHAR(47)&"*"))=0),IFERROR(AND(I$2>VALUE(SUBSTITUTE(LEFT(INDIRECT("Mois!F"&MATCH($A$19,Mois!$A$1:$A$36,0)),5),"h",":")),I$2<VALUE(SUBSTITUTE(RIGHT(INDIRECT("Mois!F"&MATCH($A$19,Mois!$A$1:$A$36,0)),5),"h",":"))+(1/1440*15)),"FAUX")) -> TRUE | ... AX23: =OR(AND(INDIRECT("Mois!F"&MATCH('Sem1'!$A$19,Mois!$A$1:$A$36,0))<>"",SUMPRODUCT(COUNTIF(INDIRECT("Mois!F"&MATCH('Sem1'!$A$19,Mois!$A$1:$A$36,0)),"*"&CHAR(47)&"*"))=0),IFERROR(AND(AX$2>VALUE(SUBSTITUTE(LEFT(INDIRECT("Mois!F"&MATCH($A$19,Mois!$A$1:$A$36,0)),5),"h",":")),AX$2<VALUE(SUBSTITUTE(RIGHT(INDIRECT("Mois!F"&MATCH($A$19,Mois!$A$1:$A$36,0)),5),"h",":"))+(1/1440*15)),"FAUX")) -> TRUE
B24: =OR(AND(INDIRECT("Mois!G"&MATCH('Sem1'!$A$19,Mois!$A$1:$A$36,0))<>"",SUMPRODUCT(COUNTIF(INDIRECT("Mois!G"&MATCH('Sem1'!$A$19,Mois!$A$1:$A$36,0)),"*"&CHAR(47)&"*"))=0),IFERROR(AND(B$2>VALUE(SUBSTITUTE(LEFT(INDIRECT("Mois!G"&MATCH($A$19,Mois!$A$1:$A$36,0)),5),"h",":")),B$2<VALUE(SUBSTITUTE(RIGHT(INDIRECT("Mois!G"&MATCH($A$19,Mois!$A$1:$A$36,0)),5),"h",":"))+(1/1440*15)),"FAUX")) -> FALSE | C24: =OR(AND(INDIRECT("Mois!G"&MATCH('Sem1'!$A$19,Mois!$A$1:$A$36,0))<>"",SUMPRODUCT(COUNTIF(INDIRECT("Mois!G"&MATCH('Sem1'!$A$19,Mois!$A$1:$A$36,0)),"*"&CHAR(47)&"*"))=0),IFERROR(AND(C$2>VALUE(SUBSTITUTE(LEFT(INDIRECT("Mois!G"&MATCH($A$19,Mois!$A$1:$A$36,0)),5),"h",":")),C$2<VALUE(SUBSTITUTE(RIGHT(INDIRECT("Mois!G"&MATCH($A$19,Mois!$A$1:$A$36,0)),5),"h",":"))+(1/1440*15)),"FAUX")) -> FALSE | D24: =OR(AND(INDIRECT("Mois!G"&MATCH('Sem1'!$A$19,Mois!$A$1:$A$36,0))<>"",SUMPRODUCT(COUNTIF(INDIRECT("Mois!G"&MATCH('Sem1'!$A$19,Mois!$A$1:$A$36,0)),"*"&CHAR(47)&"*"))=0),IFERROR(AND(D$2>VALUE(SUBSTITUTE(LEFT(INDIRECT("Mois!G"&MATCH($A$19,Mois!$A$1:$A$36,0)),5),"h",":")),D$2<VALUE(SUBSTITUTE(RIGHT(INDIRECT("Mois!G"&MATCH($A$19,Mois!$A$1:$A$36,0)),5),"h",":"))+(1/1440*15)),"FAUX")) -> TRUE | E24: =OR(AND(INDIRECT("Mois!G"&MATCH('Sem1'!$A$19,Mois!$A$1:$A$36,0))<>"",SUMPRODUCT(COUNTIF(INDIRECT("Mois!G"&MATCH('Sem1'!$A$19,Mois!$A$1:$A$36,0)),"*"&CHAR(47)&"*"))=0),IFERROR(AND(E$2>VALUE(SUBSTITUTE(LEFT(INDIRECT("Mois!G"&MATCH($A$19,Mois!$A$1:$A$36,0)),5),"h",":")),E$2<VALUE(SUBSTITUTE(RIGHT(INDIRECT("Mois!G"&MATCH($A$19,Mois!$A$1:$A$36,0)),5),"h",":"))+(1/1440*15)),"FAUX")) -> TRUE | F24: =OR(AND(INDIRECT("Mois!G"&MATCH('Sem1'!$A$19,Mois!$A$1:$A$36,0))<>"",SUMPRODUCT(COUNTIF(INDIRECT("Mois!G"&MATCH('Sem1'!$A$19,Mois!$A$1:$A$36,0)),"*"&CHAR(47)&"*"))=0),IFERROR(AND(F$2>VALUE(SUBSTITUTE(LEFT(INDIRECT("Mois!G"&MATCH($A$19,Mois!$A$1:$A$36,0)),5),"h",":")),F$2<VALUE(SUBSTITUTE(RIGHT(INDIRECT("Mois!G"&MATCH($A$19,Mois!$A$1:$A$36,0)),5),"h",":"))+(1/1440*15)),"FAUX")) -> TRUE | G24: =OR(AND(INDIRECT("Mois!G"&MATCH('Sem1'!$A$19,Mois!$A$1:$A$36,0))<>"",SUMPRODUCT(COUNTIF(INDIRECT("Mois!G"&MATCH('Sem1'!$A$19,Mois!$A$1:$A$36,0)),"*"&CHAR(47)&"*"))=0),IFERROR(AND(G$2>VALUE(SUBSTITUTE(LEFT(INDIRECT("Mois!G"&MATCH($A$19,Mois!$A$1:$A$36,0)),5),"h",":")),G$2<VALUE(SUBSTITUTE(RIGHT(INDIRECT("Mois!G"&MATCH($A$19,Mois!$A$1:$A$36,0)),5),"h",":"))+(1/1440*15)),"FAUX")) -> TRUE | H24: =OR(AND(INDIRECT("Mois!G"&MATCH('Sem1'!$A$19,Mois!$A$1:$A$36,0))<>"",SUMPRODUCT(COUNTIF(INDIRECT("Mois!G"&MATCH('Sem1'!$A$19,Mois!$A$1:$A$36,0)),"*"&CHAR(47)&"*"))=0),IFERROR(AND(H$2>VALUE(SUBSTITUTE(LEFT(INDIRECT("Mois!G"&MATCH($A$19,Mois!$A$1:$A$36,0)),5),"h",":")),H$2<VALUE(SUBSTITUTE(RIGHT(INDIRECT("Mois!G"&MATCH($A$19,Mois!$A$1:$A$36,0)),5),"h",":"))+(1/1440*15)),"FAUX")) -> TRUE | I24: =OR(AND(INDIRECT("Mois!G"&MATCH('Sem1'!$A$19,Mois!$A$1:$A$36,0))<>"",SUMPRODUCT(COUNTIF(INDIRECT("Mois!G"&MATCH('Sem1'!$A$19,Mois!$A$1:$A$36,0)),"*"&CHAR(47)&"*"))=0),IFERROR(AND(I$2>VALUE(SUBSTITUTE(LEFT(INDIRECT("Mois!G"&MATCH($A$19,Mois!$A$1:$A$36,0)),5),"h",":")),I$2<VALUE(SUBSTITUTE(RIGHT(INDIRECT("Mois!G"&MATCH($A$19,Mois!$A$1:$A$36,0)),5),"h",":"))+(1/1440*15)),"FAUX")) -> TRUE | ... AX24: =OR(AND(INDIRECT("Mois!G"&MATCH('Sem1'!$A$19,Mois!$A$1:$A$36,0))<>"",SUMPRODUCT(COUNTIF(INDIRECT("Mois!G"&MATCH('Sem1'!$A$19,Mois!$A$1:$A$36,0)),"*"&CHAR(47)&"*"))=0),IFERROR(AND(AX$2>VALUE(SUBSTITUTE(LEFT(INDIRECT("Mois!G"&MATCH($A$19,Mois!$A$1:$A$36,0)),5),"h",":")),AX$2<VALUE(SUBSTITUTE(RIGHT(INDIRECT("Mois!G"&MATCH($A$19,Mois!$A$1:$A$36,0)),5),"h",":"))+(1/1440*15)),"FAUX")) -> FALSE
B25: =OR(AND(INDIRECT("Mois!H"&MATCH('Sem1'!$A$19,Mois!$A$1:$A$36,0))<>"",SUMPRODUCT(COUNTIF(INDIRECT("Mois!H"&MATCH('Sem1'!$A$19,Mois!$A$1:$A$36,0)),"*"&CHAR(47)&"*"))=0),IFERROR(AND(B$2>VALUE(SUBSTITUTE(LEFT(INDIRECT("Mois!H"&MATCH($A$19,Mois!$A$1:$A$36,0)),5),"h",":")),B$2<VALUE(SUBSTITUTE(RIGHT(INDIRECT("Mois!H"&MATCH($A$19,Mois!$A$1:$A$36,0)),5),"h",":"))+(1/1440*15)),"FAUX")) -> TRUE | C25: =OR(AND(INDIRECT("Mois!H"&MATCH('Sem1'!$A$19,Mois!$A$1:$A$36,0))<>"",SUMPRODUCT(COUNTIF(INDIRECT("Mois!H"&MATCH('Sem1'!$A$19,Mois!$A$1:$A$36,0)),"*"&CHAR(47)&"*"))=0),IFERROR(AND(C$2>VALUE(SUBSTITUTE(LEFT(INDIRECT("Mois!H"&MATCH($A$19,Mois!$A$1:$A$36,0)),5),"h",":")),C$2<VALUE(SUBSTITUTE(RIGHT(INDIRECT("Mois!H"&MATCH($A$19,Mois!$A$1:$A$36,0)),5),"h",":"))+(1/1440*15)),"FAUX")) -> TRUE | D25: =OR(AND(INDIRECT("Mois!H"&MATCH('Sem1'!$A$19,Mois!$A$1:$A$36,0))<>"",SUMPRODUCT(COUNTIF(INDIRECT("Mois!H"&MATCH('Sem1'!$A$19,Mois!$A$1:$A$36,0)),"*"&CHAR(47)&"*"))=0),IFERROR(AND(D$2>VALUE(SUBSTITUTE(LEFT(INDIRECT("Mois!H"&MATCH($A$19,Mois!$A$1:$A$36,0)),5),"h",":")),D$2<VALUE(SUBSTITUTE(RIGHT(INDIRECT("Mois!H"&MATCH($A$19,Mois!$A$1:$A$36,0)),5),"h",":"))+(1/1440*15)),"FAUX")) -> TRUE | E25: =OR(AND(INDIRECT("Mois!H"&MATCH('Sem1'!$A$19,Mois!$A$1:$A$36,0))<>"",SUMPRODUCT(COUNTIF(INDIRECT("Mois!H"&MATCH('Sem1'!$A$19,Mois!$A$1:$A$36,0)),"*"&CHAR(47)&"*"))=0),IFERROR(AND(E$2>VALUE(SUBSTITUTE(LEFT(INDIRECT("Mois!H"&MATCH($A$19,Mois!$A$1:$A$36,0)),5),"h",":")),E$2<VALUE(SUBSTITUTE(RIGHT(INDIRECT("Mois!H"&MATCH($A$19,Mois!$A$1:$A$36,0)),5),"h",":"))+(1/1440*15)),"FAUX")) -> TRUE | F25: =OR(AND(INDIRECT("Mois!H"&MATCH('Sem1'!$A$19,Mois!$A$1:$A$36,0))<>"",SUMPRODUCT(COUNTIF(INDIRECT("Mois!H"&MATCH('Sem1'!$A$19,Mois!$A$1:$A$36,0)),"*"&CHAR(47)&"*"))=0),IFERROR(AND(F$2>VALUE(SUBSTITUTE(LEFT(INDIRECT("Mois!H"&MATCH($A$19,Mois!$A$1:$A$36,0)),5),"h",":")),F$2<VALUE(SUBSTITUTE(RIGHT(INDIRECT("Mois!H"&MATCH($A$19,Mois!$A$1:$A$36,0)),5),"h",":"))+(1/1440*15)),"FAUX")) -> TRUE | G25: =OR(AND(INDIRECT("Mois!H"&MATCH('Sem1'!$A$19,Mois!$A$1:$A$36,0))<>"",SUMPRODUCT(COUNTIF(INDIRECT("Mois!H"&MATCH('Sem1'!$A$19,Mois!$A$1:$A$36,0)),"*"&CHAR(47)&"*"))=0),IFERROR(AND(G$2>VALUE(SUBSTITUTE(LEFT(INDIRECT("Mois!H"&MATCH($A$19,Mois!$A$1:$A$36,0)),5),"h",":")),G$2<VALUE(SUBSTITUTE(RIGHT(INDIRECT("Mois!H"&MATCH($A$19,Mois!$A$1:$A$36,0)),5),"h",":"))+(1/1440*15)),"FAUX")) -> TRUE | H25: =OR(AND(INDIRECT("Mois!H"&MATCH('Sem1'!$A$19,Mois!$A$1:$A$36,0))<>"",SUMPRODUCT(COUNTIF(INDIRECT("Mois!H"&MATCH('Sem1'!$A$19,Mois!$A$1:$A$36,0)),"*"&CHAR(47)&"*"))=0),IFERROR(AND(H$2>VALUE(SUBSTITUTE(LEFT(INDIRECT("Mois!H"&MATCH($A$19,Mois!$A$1:$A$36,0)),5),"h",":")),H$2<VALUE(SUBSTITUTE(RIGHT(INDIRECT("Mois!H"&MATCH($A$19,Mois!$A$1:$A$36,0)),5),"h",":"))+(1/1440*15)),"FAUX")) -> TRUE | I25: =OR(AND(INDIRECT("Mois!H"&MATCH('Sem1'!$A$19,Mois!$A$1:$A$36,0))<>"",SUMPRODUCT(COUNTIF(INDIRECT("Mois!H"&MATCH('Sem1'!$A$19,Mois!$A$1:$A$36,0)),"*"&CHAR(47)&"*"))=0),IFERROR(AND(I$2>VALUE(SUBSTITUTE(LEFT(INDIRECT("Mois!H"&MATCH($A$19,Mois!$A$1:$A$36,0)),5),"h",":")),I$2<VALUE(SUBSTITUTE(RIGHT(INDIRECT("Mois!H"&MATCH($A$19,Mois!$A$1:$A$36,0)),5),"h",":"))+(1/1440*15)),"FAUX")) -> TRUE | ... AX25: =OR(AND(INDIRECT("Mois!H"&MATCH('Sem1'!$A$19,Mois!$A$1:$A$36,0))<>"",SUMPRODUCT(COUNTIF(INDIRECT("Mois!H"&MATCH('Sem1'!$A$19,Mois!$A$1:$A$36,0)),"*"&CHAR(47)&"*"))=0),IFERROR(AND(AX$2>VALUE(SUBSTITUTE(LEFT(INDIRECT("Mois!H"&MATCH($A$19,Mois!$A$1:$A$36,0)),5),"h",":")),AX$2<VALUE(SUBSTITUTE(RIGHT(INDIRECT("Mois!H"&MATCH($A$19,Mois!$A$1:$A$36,0)),5),"h",":"))+(1/1440*15)),"FAUX")) -> TRUE
B26: =OR(AND(INDIRECT("Mois!I"&MATCH('Sem1'!$A$19,Mois!$A$1:$A$36,0))<>"",SUMPRODUCT(COUNTIF(INDIRECT("Mois!I"&MATCH('Sem1'!$A$19,Mois!$A$1:$A$36,0)),"*"&CHAR(47)&"*"))=0),IFERROR(AND(B$2>VALUE(SUBSTITUTE(LEFT(INDIRECT("Mois!I"&MATCH($A$19,Mois!$A$1:$A$36,0)),5),"h",":")),B$2<VALUE(SUBSTITUTE(RIGHT(INDIRECT("Mois!I"&MATCH($A$19,Mois!$A$1:$A$36,0)),5),"h",":"))+(1/1440*15)),"FAUX")) -> FALSE | C26: =OR(AND(INDIRECT("Mois!I"&MATCH('Sem1'!$A$19,Mois!$A$1:$A$36,0))<>"",SUMPRODUCT(COUNTIF(INDIRECT("Mois!I"&MATCH('Sem1'!$A$19,Mois!$A$1:$A$36,0)),"*"&CHAR(47)&"*"))=0),IFERROR(AND(C$2>VALUE(SUBSTITUTE(LEFT(INDIRECT("Mois!I"&MATCH($A$19,Mois!$A$1:$A$36,0)),5),"h",":")),C$2<VALUE(SUBSTITUTE(RIGHT(INDIRECT("Mois!I"&MATCH($A$19,Mois!$A$1:$A$36,0)),5),"h",":"))+(1/1440*15)),"FAUX")) -> FALSE | D26: =OR(AND(INDIRECT("Mois!I"&MATCH('Sem1'!$A$19,Mois!$A$1:$A$36,0))<>"",SUMPRODUCT(COUNTIF(INDIRECT("Mois!I"&MATCH('Sem1'!$A$19,Mois!$A$1:$A$36,0)),"*"&CHAR(47)&"*"))=0),IFERROR(AND(D$2>VALUE(SUBSTITUTE(LEFT(INDIRECT("Mois!I"&MATCH($A$19,Mois!$A$1:$A$36,0)),5),"h",":")),D$2<VALUE(SUBSTITUTE(RIGHT(INDIRECT("Mois!I"&MATCH($A$19,Mois!$A$1:$A$36,0)),5),"h",":"))+(1/1440*15)),"FAUX")) -> FALSE | E26: =OR(AND(INDIRECT("Mois!I"&MATCH('Sem1'!$A$19,Mois!$A$1:$A$36,0))<>"",SUMPRODUCT(COUNTIF(INDIRECT("Mois!I"&MATCH('Sem1'!$A$19,Mois!$A$1:$A$36,0)),"*"&CHAR(47)&"*"))=0),IFERROR(AND(E$2>VALUE(SUBSTITUTE(LEFT(INDIRECT("Mois!I"&MATCH($A$19,Mois!$A$1:$A$36,0)),5),"h",":")),E$2<VALUE(SUBSTITUTE(RIGHT(INDIRECT("Mois!I"&MATCH($A$19,Mois!$A$1:$A$36,0)),5),"h",":"))+(1/1440*15)),"FAUX")) -> FALSE | F26: =OR(AND(INDIRECT("Mois!I"&MATCH('Sem1'!$A$19,Mois!$A$1:$A$36,0))<>"",SUMPRODUCT(COUNTIF(INDIRECT("Mois!I"&MATCH('Sem1'!$A$19,Mois!$A$1:$A$36,0)),"*"&CHAR(47)&"*"))=0),IFERROR(AND(F$2>VALUE(SUBSTITUTE(LEFT(INDIRECT("Mois!I"&MATCH($A$19,Mois!$A$1:$A$36,0)),5),"h",":")),F$2<VALUE(SUBSTITUTE(RIGHT(INDIRECT("Mois!I"&MATCH($A$19,Mois!$A$1:$A$36,0)),5),"h",":"))+(1/1440*15)),"FAUX")) -> FALSE | G26: =OR(AND(INDIRECT("Mois!I"&MATCH('Sem1'!$A$19,Mois!$A$1:$A$36,0))<>"",SUMPRODUCT(COUNTIF(INDIRECT("Mois!I"&MATCH('Sem1'!$A$19,Mois!$A$1:$A$36,0)),"*"&CHAR(47)&"*"))=0),IFERROR(AND(G$2>VALUE(SUBSTITUTE(LEFT(INDIRECT("Mois!I"&MATCH($A$19,Mois!$A$1:$A$36,0)),5),"h",":")),G$2<VALUE(SUBSTITUTE(RIGHT(INDIRECT("Mois!I"&MATCH($A$19,Mois!$A$1:$A$36,0)),5),"h",":"))+(1/1440*15)),"FAUX")) -> FALSE | H26: =OR(AND(INDIRECT("Mois!I"&MATCH('Sem1'!$A$19,Mois!$A$1:$A$36,0))<>"",SUMPRODUCT(COUNTIF(INDIRECT("Mois!I"&MATCH('Sem1'!$A$19,Mois!$A$1:$A$36,0)),"*"&CHAR(47)&"*"))=0),IFERROR(AND(H$2>VALUE(SUBSTITUTE(LEFT(INDIRECT("Mois!I"&MATCH($A$19,Mois!$A$1:$A$36,0)),5),"h",":")),H$2<VALUE(SUBSTITUTE(RIGHT(INDIRECT("Mois!I"&MATCH($A$19,Mois!$A$1:$A$36,0)),5),"h",":"))+(1/1440*15)),"FAUX")) -> FALSE | I26: =OR(AND(INDIRECT("Mois!I"&MATCH('Sem1'!$A$19,Mois!$A$1:$A$36,0))<>"",SUMPRODUCT(COUNTIF(INDIRECT("Mois!I"&MATCH('Sem1'!$A$19,Mois!$A$1:$A$36,0)),"*"&CHAR(47)&"*"))=0),IFERROR(AND(I$2>VALUE(SUBSTITUTE(LEFT(INDIRECT("Mois!I"&MATCH($A$19,Mois!$A$1:$A$36,0)),5),"h",":")),I$2<VALUE(SUBSTITUTE(RIGHT(INDIRECT("Mois!I"&MATCH($A$19,Mois!$A$1:$A$36,0)),5),"h",":"))+(1/1440*15)),"FAUX")) -> FALSE | ... AX26: =OR(AND(INDIRECT("Mois!I"&MATCH('Sem1'!$A$19,Mois!$A$1:$A$36,0))<>"",SUMPRODUCT(COUNTIF(INDIRECT("Mois!I"&MATCH('Sem1'!$A$19,Mois!$A$1:$A$36,0)),"*"&CHAR(47)&"*"))=0),IFERROR(AND(AX$2>VALUE(SUBSTITUTE(LEFT(INDIRECT("Mois!I"&MATCH($A$19,Mois!$A$1:$A$36,0)),5),"h",":")),AX$2<VALUE(SUBSTITUTE(RIGHT(INDIRECT("Mois!I"&MATCH($A$19,Mois!$A$1:$A$36,0)),5),"h",":"))+(1/1440*15)),"FAUX")) -> FALSE
A27: =A19+1 -> 42803 | B27: =OR(AND(INDIRECT("Mois!B"&MATCH('Sem1'!$A$27,Mois!$A$1:$A$36,0))<>"",SUMPRODUCT(COUNTIF(INDIRECT("Mois!B"&MATCH('Sem1'!$A$27,Mois!$A$1:$A$36,0)),"*"&CHAR(47)&"*"))=0),IFERROR(AND(B$2>VALUE(SUBSTITUTE(LEFT(INDIRECT("Mois!B"&MATCH($A$27,Mois!$A$1:$A$36,0)),5),"h",":")),B$2<VALUE(SUBSTITUTE(RIGHT(INDIRECT("Mois!B"&MATCH($A$27,Mois!$A$1:$A$36,0)),5),"h",":"))+(1/1440*15)),"FAUX")) -> FALSE | C27: =OR(AND(INDIRECT("Mois!B"&MATCH('Sem1'!$A$27,Mois!$A$1:$A$36,0))<>"",SUMPRODUCT(COUNTIF(INDIRECT("Mois!B"&MATCH('Sem1'!$A$27,Mois!$A$1:$A$36,0)),"*"&CHAR(47)&"*"))=0),IFERROR(AND(C$2>VALUE(SUBSTITUTE(LEFT(INDIRECT("Mois!B"&MATCH($A$27,Mois!$A$1:$A$36,0)),5),"h",":")),C$2<VALUE(SUBSTITUTE(RIGHT(INDIRECT("Mois!B"&MATCH($A$27,Mois!$A$1:$A$36,0)),5),"h",":"))+(1/1440*15)),"FAUX")) -> FALSE | D27: =OR(AND(INDIRECT("Mois!B"&MATCH('Sem1'!$A$27,Mois!$A$1:$A$36,0))<>"",SUMPRODUCT(COUNTIF(INDIRECT("Mois!B"&MATCH('Sem1'!$A$27,Mois!$A$1:$A$36,0)),"*"&CHAR(47)&"*"))=0),IFERROR(AND(D$2>VALUE(SUBSTITUTE(LEFT(INDIRECT("Mois!B"&MATCH($A$27,Mois!$A$1:$A$36,0)),5),"h",":")),D$2<VALUE(SUBSTITUTE(RIGHT(INDIRECT("Mois!B"&MATCH($A$27,Mois!$A$1:$A$36,0)),5),"h",":"))+(1/1440*15)),"FAUX")) -> TRUE | E27: =OR(AND(INDIRECT("Mois!B"&MATCH('Sem1'!$A$27,Mois!$A$1:$A$36,0))<>"",SUMPRODUCT(COUNTIF(INDIRECT("Mois!B"&MATCH('Sem1'!$A$27,Mois!$A$1:$A$36,0)),"*"&CHAR(47)&"*"))=0),IFERROR(AND(E$2>VALUE(SUBSTITUTE(LEFT(INDIRECT("Mois!B"&MATCH($A$27,Mois!$A$1:$A$36,0)),5),"h",":")),E$2<VALUE(SUBSTITUTE(RIGHT(INDIRECT("Mois!B"&MATCH($A$27,Mois!$A$1:$A$36,0)),5),"h",":"))+(1/1440*15)),"FAUX")) -> TRUE | F27: =OR(AND(INDIRECT("Mois!B"&MATCH('Sem1'!$A$27,Mois!$A$1:$A$36,0))<>"",SUMPRODUCT(COUNTIF(INDIRECT("Mois!B"&MATCH('Sem1'!$A$27,Mois!$A$1:$A$36,0)),"*"&CHAR(47)&"*"))=0),IFERROR(AND(F$2>VALUE(SUBSTITUTE(LEFT(INDIRECT("Mois!B"&MATCH($A$27,Mois!$A$1:$A$36,0)),5),"h",":")),F$2<VALUE(SUBSTITUTE(RIGHT(INDIRECT("Mois!B"&MATCH($A$27,Mois!$A$1:$A$36,0)),5),"h",":"))+(1/1440*15)),"FAUX")) -> TRUE | G27: =OR(AND(INDIRECT("Mois!B"&MATCH('Sem1'!$A$27,Mois!$A$1:$A$36,0))<>"",SUMPRODUCT(COUNTIF(INDIRECT("Mois!B"&MATCH('Sem1'!$A$27,Mois!$A$1:$A$36,0)),"*"&CHAR(47)&"*"))=0),IFERROR(AND(G$2>VALUE(SUBSTITUTE(LEFT(INDIRECT("Mois!B"&MATCH($A$27,Mois!$A$1:$A$36,0)),5),"h",":")),G$2<VALUE(SUBSTITUTE(RIGHT(INDIRECT("Mois!B"&MATCH($A$27,Mois!$A$1:$A$36,0)),5),"h",":"))+(1/1440*15)),"FAUX")) -> TRUE | H27: =OR(AND(INDIRECT("Mois!B"&MATCH('Sem1'!$A$27,Mois!$A$1:$A$36,0))<>"",SUMPRODUCT(COUNTIF(INDIRECT("Mois!B"&MATCH('Sem1'!$A$27,Mois!$A$1:$A$36,0)),"*"&CHAR(47)&"*"))=0),IFERROR(AND(H$2>VALUE(SUBSTITUTE(LEFT(INDIRECT("Mois!B"&MATCH($A$27,Mois!$A$1:$A$36,0)),5),"h",":")),H$2<VALUE(SUBSTITUTE(RIGHT(INDIRECT("Mois!B"&MATCH($A$27,Mois!$A$1:$A$36,0)),5),"h",":"))+(1/1440*15)),"FAUX")) -> TRUE | I27: =OR(AND(INDIRECT("Mois!B"&MATCH('Sem1'!$A$27,Mois!$A$1:$A$36,0))<>"",SUMPRODUCT(COUNTIF(INDIRECT("Mois!B"&MATCH('Sem1'!$A$27,Mois!$A$1:$A$36,0)),"*"&CHAR(47)&"*"))=0),IFERROR(AND(I$2>VALUE(SUBSTITUTE(LEFT(INDIRECT("Mois!B"&MATCH($A$27,Mois!$A$1:$A$36,0)),5),"h",":")),I$2<VALUE(SUBSTITUTE(RIGHT(INDIRECT("Mois!B"&MATCH($A$27,Mois!$A$1:$A$36,0)),5),"h",":"))+(1/1440*15)),"FAUX")) -> TRUE | ... AX27: =OR(AND(INDIRECT("Mois!B"&MATCH('Sem1'!$A$27,Mois!$A$1:$A$36,0))<>"",SUMPRODUCT(COUNTIF(INDIRECT("Mois!B"&MATCH('Sem1'!$A$27,Mois!$A$1:$A$36,0)),"*"&CHAR(47)&"*"))=0),IFERROR(AND(AX$2>VALUE(SUBSTITUTE(LEFT(INDIRECT("Mois!B"&MATCH($A$27,Mois!$A$1:$A$36,0)),5),"h",":")),AX$2<VALUE(SUBSTITUTE(RIGHT(INDIRECT("Mois!B"&MATCH($A$27,Mois!$A$1:$A$36,0)),5),"h",":"))+(1/1440*15)),"FAUX")) -> FALSE
B28: =OR(AND(INDIRECT("Mois!C"&MATCH('Sem1'!$A$27,Mois!$A$1:$A$36,0))<>"",SUMPRODUCT(COUNTIF(INDIRECT("Mois!C"&MATCH('Sem1'!$A$27,Mois!$A$1:$A$36,0)),"*"&CHAR(47)&"*"))=0),IFERROR(AND(B$2>VALUE(SUBSTITUTE(LEFT(INDIRECT("Mois!C"&MATCH($A$27,Mois!$A$1:$A$36,0)),5),"h",":")),B$2<VALUE(SUBSTITUTE(RIGHT(INDIRECT("Mois!C"&MATCH($A$27,Mois!$A$1:$A$36,0)),5),"h",":"))+(1/1440*15)),"FAUX")) -> FALSE | C28: =OR(AND(INDIRECT("Mois!C"&MATCH('Sem1'!$A$27,Mois!$A$1:$A$36,0))<>"",SUMPRODUCT(COUNTIF(INDIRECT("Mois!C"&MATCH('Sem1'!$A$27,Mois!$A$1:$A$36,0)),"*"&CHAR(47)&"*"))=0),IFERROR(AND(C$2>VALUE(SUBSTITUTE(LEFT(INDIRECT("Mois!C"&MATCH($A$27,Mois!$A$1:$A$36,0)),5),"h",":")),C$2<VALUE(SUBSTITUTE(RIGHT(INDIRECT("Mois!C"&MATCH($A$27,Mois!$A$1:$A$36,0)),5),"h",":"))+(1/1440*15)),"FAUX")) -> FALSE | D28: =OR(AND(INDIRECT("Mois!C"&MATCH('Sem1'!$A$27,Mois!$A$1:$A$36,0))<>"",SUMPRODUCT(COUNTIF(INDIRECT("Mois!C"&MATCH('Sem1'!$A$27,Mois!$A$1:$A$36,0)),"*"&CHAR(47)&"*"))=0),IFERROR(AND(D$2>VALUE(SUBSTITUTE(LEFT(INDIRECT("Mois!C"&MATCH($A$27,Mois!$A$1:$A$36,0)),5),"h",":")),D$2<VALUE(SUBSTITUTE(RIGHT(INDIRECT("Mois!C"&MATCH($A$27,Mois!$A$1:$A$36,0)),5),"h",":"))+(1/1440*15)),"FAUX")) -> FALSE | E28: =OR(AND(INDIRECT("Mois!C"&MATCH('Sem1'!$A$27,Mois!$A$1:$A$36,0))<>"",SUMPRODUCT(COUNTIF(INDIRECT("Mois!C"&MATCH('Sem1'!$A$27,Mois!$A$1:$A$36,0)),"*"&CHAR(47)&"*"))=0),IFERROR(AND(E$2>VALUE(SUBSTITUTE(LEFT(INDIRECT("Mois!C"&MATCH($A$27,Mois!$A$1:$A$36,0)),5),"h",":")),E$2<VALUE(SUBSTITUTE(RIGHT(INDIRECT("Mois!C"&MATCH($A$27,Mois!$A$1:$A$36,0)),5),"h",":"))+(1/1440*15)),"FAUX")) -> TRUE | F28: =OR(AND(INDIRECT("Mois!C"&MATCH('Sem1'!$A$27,Mois!$A$1:$A$36,0))<>"",SUMPRODUCT(COUNTIF(INDIRECT("Mois!C"&MATCH('Sem1'!$A$27,Mois!$A$1:$A$36,0)),"*"&CHAR(47)&"*"))=0),IFERROR(AND(F$2>VALUE(SUBSTITUTE(LEFT(INDIRECT("Mois!C"&MATCH($A$27,Mois!$A$1:$A$36,0)),5),"h",":")),F$2<VALUE(SUBSTITUTE(RIGHT(INDIRECT("Mois!C"&MATCH($A$27,Mois!$A$1:$A$36,0)),5),"h",":"))+(1/1440*15)),"FAUX")) -> TRUE | G28: =OR(AND(INDIRECT("Mois!C"&MATCH('Sem1'!$A$27,Mois!$A$1:$A$36,0))<>"",SUMPRODUCT(COUNTIF(INDIRECT("Mois!C"&MATCH('Sem1'!$A$27,Mois!$A$1:$A$36,0)),"*"&CHAR(47)&"*"))=0),IFERROR(AND(G$2>VALUE(SUBSTITUTE(LEFT(INDIRECT("Mois!C"&MATCH($A$27,Mois!$A$1:$A$36,0)),5),"h",":")),G$2<VALUE(SUBSTITUTE(RIGHT(INDIRECT("Mois!C"&MATCH($A$27,Mois!$A$1:$A$36,0)),5),"h",":"))+(1/1440*15)),"FAUX")) -> TRUE | H28: =OR(AND(INDIRECT("Mois!C"&MATCH('Sem1'!$A$27,Mois!$A$1:$A$36,0))<>"",SUMPRODUCT(COUNTIF(INDIRECT("Mois!C"&MATCH('Sem1'!$A$27,Mois!$A$1:$A$36,0)),"*"&CHAR(47)&"*"))=0),IFERROR(AND(H$2>VALUE(SUBSTITUTE(LEFT(INDIRECT("Mois!C"&MATCH($A$27,Mois!$A$1:$A$36,0)),5),"h",":")),H$2<VALUE(SUBSTITUTE(RIGHT(INDIRECT("Mois!C"&MATCH($A$27,Mois!$A$1:$A$36,0)),5),"h",":"))+(1/1440*15)),"FAUX")) -> TRUE | I28: =OR(AND(INDIRECT("Mois!C"&MATCH('Sem1'!$A$27,Mois!$A$1:$A$36,0))<>"",SUMPRODUCT(COUNTIF(INDIRECT("Mois!C"&MATCH('Sem1'!$A$27,Mois!$A$1:$A$36,0)),"*"&CHAR(47)&"*"))=0),IFERROR(AND(I$2>VALUE(SUBSTITUTE(LEFT(INDIRECT("Mois!C"&MATCH($A$27,Mois!$A$1:$A$36,0)),5),"h",":")),I$2<VALUE(SUBSTITUTE(RIGHT(INDIRECT("Mois!C"&MATCH($A$27,Mois!$A$1:$A$36,0)),5),"h",":"))+(1/1440*15)),"FAUX")) -> TRUE | ... AX28: =OR(AND(INDIRECT("Mois!C"&MATCH('Sem1'!$A$27,Mois!$A$1:$A$36,0))<>"",SUMPRODUCT(COUNTIF(INDIRECT("Mois!C"&MATCH('Sem1'!$A$27,Mois!$A$1:$A$36,0)),"*"&CHAR(47)&"*"))=0),IFERROR(AND(AX$2>VALUE(SUBSTITUTE(LEFT(INDIRECT("Mois!C"&MATCH($A$27,Mois!$A$1:$A$36,0)),5),"h",":")),AX$2<VALUE(SUBSTITUTE(RIGHT(INDIRECT("Mois!C"&MATCH($A$27,Mois!$A$1:$A$36,0)),5),"h",":"))+(1/1440*15)),"FAUX")) -> FALSE
B29: =OR(AND(INDIRECT("Mois!D"&MATCH('Sem1'!$A$27,Mois!$A$1:$A$36,0))<>"",SUMPRODUCT(COUNTIF(INDIRECT("Mois!D"&MATCH('Sem1'!$A$27,Mois!$A$1:$A$36,0)),"*"&CHAR(47)&"*"))=0),IFERROR(AND(B$2>VALUE(SUBSTITUTE(LEFT(INDIRECT("Mois!D"&MATCH($A$27,Mois!$A$1:$A$36,0)),5),"h",":")),B$2<VALUE(SUBSTITUTE(RIGHT(INDIRECT("Mois!D"&MATCH($A$27,Mois!$A$1:$A$36,0)),5),"h",":"))+(1/1440*15)),"FAUX")) -> TRUE | C29: =OR(AND(INDIRECT("Mois!D"&MATCH('Sem1'!$A$27,Mois!$A$1:$A$36,0))<>"",SUMPRODUCT(COUNTIF(INDIRECT("Mois!D"&MATCH('Sem1'!$A$27,Mois!$A$1:$A$36,0)),"*"&CHAR(47)&"*"))=0),IFERROR(AND(C$2>VALUE(SUBSTITUTE(LEFT(INDIRECT("Mois!D"&MATCH($A$27,Mois!$A$1:$A$36,0)),5),"h",":")),C$2<VALUE(SUBSTITUTE(RIGHT(INDIRECT("Mois!D"&MATCH($A$27,Mois!$A$1:$A$36,0)),5),"h",":"))+(1/1440*15)),"FAUX")) -> TRUE | D29: =OR(AND(INDIRECT("Mois!D"&MATCH('Sem1'!$A$27,Mois!$A$1:$A$36,0))<>"",SUMPRODUCT(COUNTIF(INDIRECT("Mois!D"&MATCH('Sem1'!$A$27,Mois!$A$1:$A$36,0)),"*"&CHAR(47)&"*"))=0),IFERROR(AND(D$2>VALUE(SUBSTITUTE(LEFT(INDIRECT("Mois!D"&MATCH($A$27,Mois!$A$1:$A$36,0)),5),"h",":")),D$2<VALUE(SUBSTITUTE(RIGHT(INDIRECT("Mois!D"&MATCH($A$27,Mois!$A$1:$A$36,0)),5),"h",":"))+(1/1440*15)),"FAUX")) -> TRUE | E29: =OR(AND(INDIRECT("Mois!D"&MATCH('Sem1'!$A$27,Mois!$A$1:$A$36,0))<>"",SUMPRODUCT(COUNTIF(INDIRECT("Mois!D"&MATCH('Sem1'!$A$27,Mois!$A$1:$A$36,0)),"*"&CHAR(47)&"*"))=0),IFERROR(AND(E$2>VALUE(SUBSTITUTE(LEFT(INDIRECT("Mois!D"&MATCH($A$27,Mois!$A$1:$A$36,0)),5),"h",":")),E$2<VALUE(SUBSTITUTE(RIGHT(INDIRECT("Mois!D"&MATCH($A$27,Mois!$A$1:$A$36,0)),5),"h",":"))+(1/1440*15)),"FAUX")) -> TRUE | F29: =OR(AND(INDIRECT("Mois!D"&MATCH('Sem1'!$A$27,Mois!$A$1:$A$36,0))<>"",SUMPRODUCT(COUNTIF(INDIRECT("Mois!D"&MATCH('Sem1'!$A$27,Mois!$A$1:$A$36,0)),"*"&CHAR(47)&"*"))=0),IFERROR(AND(F$2>VALUE(SUBSTITUTE(LEFT(INDIRECT("Mois!D"&MATCH($A$27,Mois!$A$1:$A$36,0)),5),"h",":")),F$2<VALUE(SUBSTITUTE(RIGHT(INDIRECT("Mois!D"&MATCH($A$27,Mois!$A$1:$A$36,0)),5),"h",":"))+(1/1440*15)),"FAUX")) -> TRUE | G29: =OR(AND(INDIRECT("Mois!D"&MATCH('Sem1'!$A$27,Mois!$A$1:$A$36,0))<>"",SUMPRODUCT(COUNTIF(INDIRECT("Mois!D"&MATCH('Sem1'!$A$27,Mois!$A$1:$A$36,0)),"*"&CHAR(47)&"*"))=0),IFERROR(AND(G$2>VALUE(SUBSTITUTE(LEFT(INDIRECT("Mois!D"&MATCH($A$27,Mois!$A$1:$A$36,0)),5),"h",":")),G$2<VALUE(SUBSTITUTE(RIGHT(INDIRECT("Mois!D"&MATCH($A$27,Mois!$A$1:$A$36,0)),5),"h",":"))+(1/1440*15)),"FAUX")) -> TRUE | H29: =OR(AND(INDIRECT("Mois!D"&MATCH('Sem1'!$A$27,Mois!$A$1:$A$36,0))<>"",SUMPRODUCT(COUNTIF(INDIRECT("Mois!D"&MATCH('Sem1'!$A$27,Mois!$A$1:$A$36,0)),"*"&CHAR(47)&"*"))=0),IFERROR(AND(H$2>VALUE(SUBSTITUTE(LEFT(INDIRECT("Mois!D"&MATCH($A$27,Mois!$A$1:$A$36,0)),5),"h",":")),H$2<VALUE(SUBSTITUTE(RIGHT(INDIRECT("Mois!D"&MATCH($A$27,Mois!$A$1:$A$36,0)),5),"h",":"))+(1/1440*15)),"FAUX")) -> TRUE | I29: =OR(AND(INDIRECT("Mois!D"&MATCH('Sem1'!$A$27,Mois!$A$1:$A$36,0))<>"",SUMPRODUCT(COUNTIF(INDIRECT("Mois!D"&MATCH('Sem1'!$A$27,Mois!$A$1:$A$36,0)),"*"&CHAR(47)&"*"))=0),IFERROR(AND(I$2>VALUE(SUBSTITUTE(LEFT(INDIRECT("Mois!D"&MATCH($A$27,Mois!$A$1:$A$36,0)),5),"h",":")),I$2<VALUE(SUBSTITUTE(RIGHT(INDIRECT("Mois!D"&MATCH($A$27,Mois!$A$1:$A$36,0)),5),"h",":"))+(1/1440*15)),"FAUX")) -> TRUE | ... AX29: =OR(AND(INDIRECT("Mois!D"&MATCH('Sem1'!$A$27,Mois!$A$1:$A$36,0))<>"",SUMPRODUCT(COUNTIF(INDIRECT("Mois!D"&MATCH('Sem1'!$A$27,Mois!$A$1:$A$36,0)),"*"&CHAR(47)&"*"))=0),IFERROR(AND(AX$2>VALUE(SUBSTITUTE(LEFT(INDIRECT("Mois!D"&MATCH($A$27,Mois!$A$1:$A$36,0)),5),"h",":")),AX$2<VALUE(SUBSTITUTE(RIGHT(INDIRECT("Mois!D"&MATCH($A$27,Mois!$A$1:$A$36,0)),5),"h",":"))+(1/1440*15)),"FAUX")) -> TRUE
B30: =OR(AND(INDIRECT("Mois!E"&MATCH('Sem1'!$A$27,Mois!$A$1:$A$36,0))<>"",SUMPRODUCT(COUNTIF(INDIRECT("Mois!E"&MATCH('Sem1'!$A$27,Mois!$A$1:$A$36,0)),"*"&CHAR(47)&"*"))=0),IFERROR(AND(B$2>VALUE(SUBSTITUTE(LEFT(INDIRECT("Mois!E"&MATCH($A$27,Mois!$A$1:$A$36,0)),5),"h",":")),B$2<VALUE(SUBSTITUTE(RIGHT(INDIRECT("Mois!E"&MATCH($A$27,Mois!$A$1:$A$36,0)),5),"h",":"))+(1/1440*15)),"FAUX")) -> FALSE | C30: =OR(AND(INDIRECT("Mois!E"&MATCH('Sem1'!$A$27,Mois!$A$1:$A$36,0))<>"",SUMPRODUCT(COUNTIF(INDIRECT("Mois!E"&MATCH('Sem1'!$A$27,Mois!$A$1:$A$36,0)),"*"&CHAR(47)&"*"))=0),IFERROR(AND(C$2>VALUE(SUBSTITUTE(LEFT(INDIRECT("Mois!E"&MATCH($A$27,Mois!$A$1:$A$36,0)),5),"h",":")),C$2<VALUE(SUBSTITUTE(RIGHT(INDIRECT("Mois!E"&MATCH($A$27,Mois!$A$1:$A$36,0)),5),"h",":"))+(1/1440*15)),"FAUX")) -> FALSE | D30: =OR(AND(INDIRECT("Mois!E"&MATCH('Sem1'!$A$27,Mois!$A$1:$A$36,0))<>"",SUMPRODUCT(COUNTIF(INDIRECT("Mois!E"&MATCH('Sem1'!$A$27,Mois!$A$1:$A$36,0)),"*"&CHAR(47)&"*"))=0),IFERROR(AND(D$2>VALUE(SUBSTITUTE(LEFT(INDIRECT("Mois!E"&MATCH($A$27,Mois!$A$1:$A$36,0)),5),"h",":")),D$2<VALUE(SUBSTITUTE(RIGHT(INDIRECT("Mois!E"&MATCH($A$27,Mois!$A$1:$A$36,0)),5),"h",":"))+(1/1440*15)),"FAUX")) -> FALSE | E30: =OR(AND(INDIRECT("Mois!E"&MATCH('Sem1'!$A$27,Mois!$A$1:$A$36,0))<>"",SUMPRODUCT(COUNTIF(INDIRECT("Mois!E"&MATCH('Sem1'!$A$27,Mois!$A$1:$A$36,0)),"*"&CHAR(47)&"*"))=0),IFERROR(AND(E$2>VALUE(SUBSTITUTE(LEFT(INDIRECT("Mois!E"&MATCH($A$27,Mois!$A$1:$A$36,0)),5),"h",":")),E$2<VALUE(SUBSTITUTE(RIGHT(INDIRECT("Mois!E"&MATCH($A$27,Mois!$A$1:$A$36,0)),5),"h",":"))+(1/1440*15)),"FAUX")) -> FALSE | F30: =OR(AND(INDIRECT("Mois!E"&MATCH('Sem1'!$A$27,Mois!$A$1:$A$36,0))<>"",SUMPRODUCT(COUNTIF(INDIRECT("Mois!E"&MATCH('Sem1'!$A$27,Mois!$A$1:$A$36,0)),"*"&CHAR(47)&"*"))=0),IFERROR(AND(F$2>VALUE(SUBSTITUTE(LEFT(INDIRECT("Mois!E"&MATCH($A$27,Mois!$A$1:$A$36,0)),5),"h",":")),F$2<VALUE(SUBSTITUTE(RIGHT(INDIRECT("Mois!E"&MATCH($A$27,Mois!$A$1:$A$36,0)),5),"h",":"))+(1/1440*15)),"FAUX")) -> FALSE | G30: =OR(AND(INDIRECT("Mois!E"&MATCH('Sem1'!$A$27,Mois!$A$1:$A$36,0))<>"",SUMPRODUCT(COUNTIF(INDIRECT("Mois!E"&MATCH('Sem1'!$A$27,Mois!$A$1:$A$36,0)),"*"&CHAR(47)&"*"))=0),IFERROR(AND(G$2>VALUE(SUBSTITUTE(LEFT(INDIRECT("Mois!E"&MATCH($A$27,Mois!$A$1:$A$36,0)),5),"h",":")),G$2<VALUE(SUBSTITUTE(RIGHT(INDIRECT("Mois!E"&MATCH($A$27,Mois!$A$1:$A$36,0)),5),"h",":"))+(1/1440*15)),"FAUX")) -> FALSE | H30: =OR(AND(INDIRECT("Mois!E"&MATCH('Sem1'!$A$27,Mois!$A$1:$A$36,0))<>"",SUMPRODUCT(COUNTIF(INDIRECT("Mois!E"&MATCH('Sem1'!$A$27,Mois!$A$1:$A$36,0)),"*"&CHAR(47)&"*"))=0),IFERROR(AND(H$2>VALUE(SUBSTITUTE(LEFT(INDIRECT("Mois!E"&MATCH($A$27,Mois!$A$1:$A$36,0)),5),"h",":")),H$2<VALUE(SUBSTITUTE(RIGHT(INDIRECT("Mois!E"&MATCH($A$27,Mois!$A$1:$A$36,0)),5),"h",":"))+(1/1440*15)),"FAUX")) -> FALSE | I30: =OR(AND(INDIRECT("Mois!E"&MATCH('Sem1'!$A$27,Mois!$A$1:$A$36,0))<>"",SUMPRODUCT(COUNTIF(INDIRECT("Mois!E"&MATCH('Sem1'!$A$27,Mois!$A$1:$A$36,0)),"*"&CHAR(47)&"*"))=0),IFERROR(AND(I$2>VALUE(SUBSTITUTE(LEFT(INDIRECT("Mois!E"&MATCH($A$27,Mois!$A$1:$A$36,0)),5),"h",":")),I$2<VALUE(SUBSTITUTE(RIGHT(INDIRECT("Mois!E"&MATCH($A$27,Mois!$A$1:$A$36,0)),5),"h",":"))+(1/1440*15)),"FAUX")) -> FALSE | ... AX30: =OR(AND(INDIRECT("Mois!E"&MATCH('Sem1'!$A$27,Mois!$A$1:$A$36,0))<>"",SUMPRODUCT(COUNTIF(INDIRECT("Mois!E"&MATCH('Sem1'!$A$27,Mois!$A$1:$A$36,0)),"*"&CHAR(47)&"*"))=0),IFERROR(AND(AX$2>VALUE(SUBSTITUTE(LEFT(INDIRECT("Mois!E"&MATCH($A$27,Mois!$A$1:$A$36,0)),5),"h",":")),AX$2<VALUE(SUBSTITUTE(RIGHT(INDIRECT("Mois!E"&MATCH($A$27,Mois!$A$1:$A$36,0)),5),"h",":"))+(1/1440*15)),"FAUX")) -> FALSE
B31: =OR(AND(INDIRECT("Mois!F"&MATCH('Sem1'!$A$27,Mois!$A$1:$A$36,0))<>"",SUMPRODUCT(COUNTIF(INDIRECT("Mois!F"&MATCH('Sem1'!$A$27,Mois!$A$1:$A$36,0)),"*"&CHAR(47)&"*"))=0),IFERROR(AND(B$2>VALUE(SUBSTITUTE(LEFT(INDIRECT("Mois!F"&MATCH($A$27,Mois!$A$1:$A$36,0)),5),"h",":")),B$2<VALUE(SUBSTITUTE(RIGHT(INDIRECT("Mois!F"&MATCH($A$27,Mois!$A$1:$A$36,0)),5),"h",":"))+(1/1440*15)),"FAUX")) -> FALSE | C31: =OR(AND(INDIRECT("Mois!F"&MATCH('Sem1'!$A$27,Mois!$A$1:$A$36,0))<>"",SUMPRODUCT(COUNTIF(INDIRECT("Mois!F"&MATCH('Sem1'!$A$27,Mois!$A$1:$A$36,0)),"*"&CHAR(47)&"*"))=0),IFERROR(AND(C$2>VALUE(SUBSTITUTE(LEFT(INDIRECT("Mois!F"&MATCH($A$27,Mois!$A$1:$A$36,0)),5),"h",":")),C$2<VALUE(SUBSTITUTE(RIGHT(INDIRECT("Mois!F"&MATCH($A$27,Mois!$A$1:$A$36,0)),5),"h",":"))+(1/1440*15)),"FAUX")) -> FALSE | D31: =OR(AND(INDIRECT("Mois!F"&MATCH('Sem1'!$A$27,Mois!$A$1:$A$36,0))<>"",SUMPRODUCT(COUNTIF(INDIRECT("Mois!F"&MATCH('Sem1'!$A$27,Mois!$A$1:$A$36,0)),"*"&CHAR(47)&"*"))=0),IFERROR(AND(D$2>VALUE(SUBSTITUTE(LEFT(INDIRECT("Mois!F"&MATCH($A$27,Mois!$A$1:$A$36,0)),5),"h",":")),D$2<VALUE(SUBSTITUTE(RIGHT(INDIRECT("Mois!F"&MATCH($A$27,Mois!$A$1:$A$36,0)),5),"h",":"))+(1/1440*15)),"FAUX")) -> FALSE | E31: =OR(AND(INDIRECT("Mois!F"&MATCH('Sem1'!$A$27,Mois!$A$1:$A$36,0))<>"",SUMPRODUCT(COUNTIF(INDIRECT("Mois!F"&MATCH('Sem1'!$A$27,Mois!$A$1:$A$36,0)),"*"&CHAR(47)&"*"))=0),IFERROR(AND(E$2>VALUE(SUBSTITUTE(LEFT(INDIRECT("Mois!F"&MATCH($A$27,Mois!$A$1:$A$36,0)),5),"h",":")),E$2<VALUE(SUBSTITUTE(RIGHT(INDIRECT("Mois!F"&MATCH($A$27,Mois!$A$1:$A$36,0)),5),"h",":"))+(1/1440*15)),"FAUX")) -> FALSE | F31: =OR(AND(INDIRECT("Mois!F"&MATCH('Sem1'!$A$27,Mois!$A$1:$A$36,0))<>"",SUMPRODUCT(COUNTIF(INDIRECT("Mois!F"&MATCH('Sem1'!$A$27,Mois!$A$1:$A$36,0)),"*"&CHAR(47)&"*"))=0),IFERROR(AND(F$2>VALUE(SUBSTITUTE(LEFT(INDIRECT("Mois!F"&MATCH($A$27,Mois!$A$1:$A$36,0)),5),"h",":")),F$2<VALUE(SUBSTITUTE(RIGHT(INDIRECT("Mois!F"&MATCH($A$27,Mois!$A$1:$A$36,0)),5),"h",":"))+(1/1440*15)),"FAUX")) -> FALSE | G31: =OR(AND(INDIRECT("Mois!F"&MATCH('Sem1'!$A$27,Mois!$A$1:$A$36,0))<>"",SUMPRODUCT(COUNTIF(INDIRECT("Mois!F"&MATCH('Sem1'!$A$27,Mois!$A$1:$A$36,0)),"*"&CHAR(47)&"*"))=0),IFERROR(AND(G$2>VALUE(SUBSTITUTE(LEFT(INDIRECT("Mois!F"&MATCH($A$27,Mois!$A$1:$A$36,0)),5),"h",":")),G$2<VALUE(SUBSTITUTE(RIGHT(INDIRECT("Mois!F"&MATCH($A$27,Mois!$A$1:$A$36,0)),5),"h",":"))+(1/1440*15)),"FAUX")) -> FALSE | H31: =OR(AND(INDIRECT("Mois!F"&MATCH('Sem1'!$A$27,Mois!$A$1:$A$36,0))<>"",SUMPRODUCT(COUNTIF(INDIRECT("Mois!F"&MATCH('Sem1'!$A$27,Mois!$A$1:$A$36,0)),"*"&CHAR(47)&"*"))=0),IFERROR(AND(H$2>VALUE(SUBSTITUTE(LEFT(INDIRECT("Mois!F"&MATCH($A$27,Mois!$A$1:$A$36,0)),5),"h",":")),H$2<VALUE(SUBSTITUTE(RIGHT(INDIRECT("Mois!F"&MATCH($A$27,Mois!$A$1:$A$36,0)),5),"h",":"))+(1/1440*15)),"FAUX")) -> FALSE | I31: =OR(AND(INDIRECT("Mois!F"&MATCH('Sem1'!$A$27,Mois!$A$1:$A$36,0))<>"",SUMPRODUCT(COUNTIF(INDIRECT("Mois!F"&MATCH('Sem1'!$A$27,Mois!$A$1:$A$36,0)),"*"&CHAR(47)&"*"))=0),IFERROR(AND(I$2>VALUE(SUBSTITUTE(LEFT(INDIRECT("Mois!F"&MATCH($A$27,Mois!$A$1:$A$36,0)),5),"h",":")),I$2<VALUE(SUBSTITUTE(RIGHT(INDIRECT("Mois!F"&MATCH($A$27,Mois!$A$1:$A$36,0)),5),"h",":"))+(1/1440*15)),"FAUX")) -> FALSE | ... AX31: =OR(AND(INDIRECT("Mois!F"&MATCH('Sem1'!$A$27,Mois!$A$1:$A$36,0))<>"",SUMPRODUCT(COUNTIF(INDIRECT("Mois!F"&MATCH('Sem1'!$A$27,Mois!$A$1:$A$36,0)),"*"&CHAR(47)&"*"))=0),IFERROR(AND(AX$2>VALUE(SUBSTITUTE(LEFT(INDIRECT("Mois!F"&MATCH($A$27,Mois!$A$1:$A$36,0)),5),"h",":")),AX$2<VALUE(SUBSTITUTE(RIGHT(INDIRECT("Mois!F"&MATCH($A$27,Mois!$A$1:$A$36,0)),5),"h",":"))+(1/1440*15)),"FAUX")) -> FALSE
B32: =OR(AND(INDIRECT("Mois!G"&MATCH('Sem1'!$A$27,Mois!$A$1:$A$36,0))<>"",SUMPRODUCT(COUNTIF(INDIRECT("Mois!G"&MATCH('Sem1'!$A$27,Mois!$A$1:$A$36,0)),"*"&CHAR(47)&"*"))=0),IFERROR(AND(B$2>VALUE(SUBSTITUTE(LEFT(INDIRECT("Mois!G"&MATCH($A$27,Mois!$A$1:$A$36,0)),5),"h",":")),B$2<VALUE(SUBSTITUTE(RIGHT(INDIRECT("Mois!G"&MATCH($A$27,Mois!$A$1:$A$36,0)),5),"h",":"))+(1/1440*15)),"FAUX")) -> FALSE | C32: =OR(AND(INDIRECT("Mois!G"&MATCH('Sem1'!$A$27,Mois!$A$1:$A$36,0))<>"",SUMPRODUCT(COUNTIF(INDIRECT("Mois!G"&MATCH('Sem1'!$A$27,Mois!$A$1:$A$36,0)),"*"&CHAR(47)&"*"))=0),IFERROR(AND(C$2>VALUE(SUBSTITUTE(LEFT(INDIRECT("Mois!G"&MATCH($A$27,Mois!$A$1:$A$36,0)),5),"h",":")),C$2<VALUE(SUBSTITUTE(RIGHT(INDIRECT("Mois!G"&MATCH($A$27,Mois!$A$1:$A$36,0)),5),"h",":"))+(1/1440*15)),"FAUX")) -> FALSE | D32: =OR(AND(INDIRECT("Mois!G"&MATCH('Sem1'!$A$27,Mois!$A$1:$A$36,0))<>"",SUMPRODUCT(COUNTIF(INDIRECT("Mois!G"&MATCH('Sem1'!$A$27,Mois!$A$1:$A$36,0)),"*"&CHAR(47)&"*"))=0),IFERROR(AND(D$2>VALUE(SUBSTITUTE(LEFT(INDIRECT("Mois!G"&MATCH($A$27,Mois!$A$1:$A$36,0)),5),"h",":")),D$2<VALUE(SUBSTITUTE(RIGHT(INDIRECT("Mois!G"&MATCH($A$27,Mois!$A$1:$A$36,0)),5),"h",":"))+(1/1440*15)),"FAUX")) -> FALSE | E32: =OR(AND(INDIRECT("Mois!G"&MATCH('Sem1'!$A$27,Mois!$A$1:$A$36,0))<>"",SUMPRODUCT(COUNTIF(INDIRECT("Mois!G"&MATCH('Sem1'!$A$27,Mois!$A$1:$A$36,0)),"*"&CHAR(47)&"*"))=0),IFERROR(AND(E$2>VALUE(SUBSTITUTE(LEFT(INDIRECT("Mois!G"&MATCH($A$27,Mois!$A$1:$A$36,0)),5),"h",":")),E$2<VALUE(SUBSTITUTE(RIGHT(INDIRECT("Mois!G"&MATCH($A$27,Mois!$A$1:$A$36,0)),5),"h",":"))+(1/1440*15)),"FAUX")) -> FALSE | F32: =OR(AND(INDIRECT("Mois!G"&MATCH('Sem1'!$A$27,Mois!$A$1:$A$36,0))<>"",SUMPRODUCT(COUNTIF(INDIRECT("Mois!G"&MATCH('Sem1'!$A$27,Mois!$A$1:$A$36,0)),"*"&CHAR(47)&"*"))=0),IFERROR(AND(F$2>VALUE(SUBSTITUTE(LEFT(INDIRECT("Mois!G"&MATCH($A$27,Mois!$A$1:$A$36,0)),5),"h",":")),F$2<VALUE(SUBSTITUTE(RIGHT(INDIRECT("Mois!G"&MATCH($A$27,Mois!$A$1:$A$36,0)),5),"h",":"))+(1/1440*15)),"FAUX")) -> FALSE | G32: =OR(AND(INDIRECT("Mois!G"&MATCH('Sem1'!$A$27,Mois!$A$1:$A$36,0))<>"",SUMPRODUCT(COUNTIF(INDIRECT("Mois!G"&MATCH('Sem1'!$A$27,Mois!$A$1:$A$36,0)),"*"&CHAR(47)&"*"))=0),IFERROR(AND(G$2>VALUE(SUBSTITUTE(LEFT(INDIRECT("Mois!G"&MATCH($A$27,Mois!$A$1:$A$36,0)),5),"h",":")),G$2<VALUE(SUBSTITUTE(RIGHT(INDIRECT("Mois!G"&MATCH($A$27,Mois!$A$1:$A$36,0)),5),"h",":"))+(1/1440*15)),"FAUX")) -> FALSE | H32: =OR(AND(INDIRECT("Mois!G"&MATCH('Sem1'!$A$27,Mois!$A$1:$A$36,0))<>"",SUMPRODUCT(COUNTIF(INDIRECT("Mois!G"&MATCH('Sem1'!$A$27,Mois!$A$1:$A$36,0)),"*"&CHAR(47)&"*"))=0),IFERROR(AND(H$2>VALUE(SUBSTITUTE(LEFT(INDIRECT("Mois!G"&MATCH($A$27,Mois!$A$1:$A$36,0)),5),"h",":")),H$2<VALUE(SUBSTITUTE(RIGHT(INDIRECT("Mois!G"&MATCH($A$27,Mois!$A$1:$A$36,0)),5),"h",":"))+(1/1440*15)),"FAUX")) -> FALSE | I32: =OR(AND(INDIRECT("Mois!G"&MATCH('Sem1'!$A$27,Mois!$A$1:$A$36,0))<>"",SUMPRODUCT(COUNTIF(INDIRECT("Mois!G"&MATCH('Sem1'!$A$27,Mois!$A$1:$A$36,0)),"*"&CHAR(47)&"*"))=0),IFERROR(AND(I$2>VALUE(SUBSTITUTE(LEFT(INDIRECT("Mois!G"&MATCH($A$27,Mois!$A$1:$A$36,0)),5),"h",":")),I$2<VALUE(SUBSTITUTE(RIGHT(INDIRECT("Mois!G"&MATCH($A$27,Mois!$A$1:$A$36,0)),5),"h",":"))+(1/1440*15)),"FAUX")) -> FALSE | ... AX32: =OR(AND(INDIRECT("Mois!G"&MATCH('Sem1'!$A$27,Mois!$A$1:$A$36,0))<>"",SUMPRODUCT(COUNTIF(INDIRECT("Mois!G"&MATCH('Sem1'!$A$27,Mois!$A$1:$A$36,0)),"*"&CHAR(47)&"*"))=0),IFERROR(AND(AX$2>VALUE(SUBSTITUTE(LEFT(INDIRECT("Mois!G"&MATCH($A$27,Mois!$A$1:$A$36,0)),5),"h",":")),AX$2<VALUE(SUBSTITUTE(RIGHT(INDIRECT("Mois!G"&MATCH($A$27,Mois!$A$1:$A$36,0)),5),"h",":"))+(1/1440*15)),"FAUX")) -> FALSE
B33: =OR(AND(INDIRECT("Mois!H"&MATCH('Sem1'!$A$27,Mois!$A$1:$A$36,0))<>"",SUMPRODUCT(COUNTIF(INDIRECT("Mois!H"&MATCH('Sem1'!$A$27,Mois!$A$1:$A$36,0)),"*"&CHAR(47)&"*"))=0),IFERROR(AND(B$2>VALUE(SUBSTITUTE(LEFT(INDIRECT("Mois!H"&MATCH($A$27,Mois!$A$1:$A$36,0)),5),"h",":")),B$2<VALUE(SUBSTITUTE(RIGHT(INDIRECT("Mois!H"&MATCH($A$27,Mois!$A$1:$A$36,0)),5),"h",":"))+(1/1440*15)),"FAUX")) -> TRUE | C33: =OR(AND(INDIRECT("Mois!H"&MATCH('Sem1'!$A$27,Mois!$A$1:$A$36,0))<>"",SUMPRODUCT(COUNTIF(INDIRECT("Mois!H"&MATCH('Sem1'!$A$27,Mois!$A$1:$A$36,0)),"*"&CHAR(47)&"*"))=0),IFERROR(AND(C$2>VALUE(SUBSTITUTE(LEFT(INDIRECT("Mois!H"&MATCH($A$27,Mois!$A$1:$A$36,0)),5),"h",":")),C$2<VALUE(SUBSTITUTE(RIGHT(INDIRECT("Mois!H"&MATCH($A$27,Mois!$A$1:$A$36,0)),5),"h",":"))+(1/1440*15)),"FAUX")) -> TRUE | D33: =OR(AND(INDIRECT("Mois!H"&MATCH('Sem1'!$A$27,Mois!$A$1:$A$36,0))<>"",SUMPRODUCT(COUNTIF(INDIRECT("Mois!H"&MATCH('Sem1'!$A$27,Mois!$A$1:$A$36,0)),"*"&CHAR(47)&"*"))=0),IFERROR(AND(D$2>VALUE(SUBSTITUTE(LEFT(INDIRECT("Mois!H"&MATCH($A$27,Mois!$A$1:$A$36,0)),5),"h",":")),D$2<VALUE(SUBSTITUTE(RIGHT(INDIRECT("Mois!H"&MATCH($A$27,Mois!$A$1:$A$36,0)),5),"h",":"))+(1/1440*15)),"FAUX")) -> TRUE | E33: =OR(AND(INDIRECT("Mois!H"&MATCH('Sem1'!$A$27,Mois!$A$1:$A$36,0))<>"",SUMPRODUCT(COUNTIF(INDIRECT("Mois!H"&MATCH('Sem1'!$A$27,Mois!$A$1:$A$36,0)),"*"&CHAR(47)&"*"))=0),IFERROR(AND(E$2>VALUE(SUBSTITUTE(LEFT(INDIRECT("Mois!H"&MATCH($A$27,Mois!$A$1:$A$36,0)),5),"h",":")),E$2<VALUE(SUBSTITUTE(RIGHT(INDIRECT("Mois!H"&MATCH($A$27,Mois!$A$1:$A$36,0)),5),"h",":"))+(1/1440*15)),"FAUX")) -> TRUE | F33: =OR(AND(INDIRECT("Mois!H"&MATCH('Sem1'!$A$27,Mois!$A$1:$A$36,0))<>"",SUMPRODUCT(COUNTIF(INDIRECT("Mois!H"&MATCH('Sem1'!$A$27,Mois!$A$1:$A$36,0)),"*"&CHAR(47)&"*"))=0),IFERROR(AND(F$2>VALUE(SUBSTITUTE(LEFT(INDIRECT("Mois!H"&MATCH($A$27,Mois!$A$1:$A$36,0)),5),"h",":")),F$2<VALUE(SUBSTITUTE(RIGHT(INDIRECT("Mois!H"&MATCH($A$27,Mois!$A$1:$A$36,0)),5),"h",":"))+(1/1440*15)),"FAUX")) -> TRUE | G33: =OR(AND(INDIRECT("Mois!H"&MATCH('Sem1'!$A$27,Mois!$A$1:$A$36,0))<>"",SUMPRODUCT(COUNTIF(INDIRECT("Mois!H"&MATCH('Sem1'!$A$27,Mois!$A$1:$A$36,0)),"*"&CHAR(47)&"*"))=0),IFERROR(AND(G$2>VALUE(SUBSTITUTE(LEFT(INDIRECT("Mois!H"&MATCH($A$27,Mois!$A$1:$A$36,0)),5),"h",":")),G$2<VALUE(SUBSTITUTE(RIGHT(INDIRECT("Mois!H"&MATCH($A$27,Mois!$A$1:$A$36,0)),5),"h",":"))+(1/1440*15)),"FAUX")) -> TRUE | H33: =OR(AND(INDIRECT("Mois!H"&MATCH('Sem1'!$A$27,Mois!$A$1:$A$36,0))<>"",SUMPRODUCT(COUNTIF(INDIRECT("Mois!H"&MATCH('Sem1'!$A$27,Mois!$A$1:$A$36,0)),"*"&CHAR(47)&"*"))=0),IFERROR(AND(H$2>VALUE(SUBSTITUTE(LEFT(INDIRECT("Mois!H"&MATCH($A$27,Mois!$A$1:$A$36,0)),5),"h",":")),H$2<VALUE(SUBSTITUTE(RIGHT(INDIRECT("Mois!H"&MATCH($A$27,Mois!$A$1:$A$36,0)),5),"h",":"))+(1/1440*15)),"FAUX")) -> TRUE | I33: =OR(AND(INDIRECT("Mois!H"&MATCH('Sem1'!$A$27,Mois!$A$1:$A$36,0))<>"",SUMPRODUCT(COUNTIF(INDIRECT("Mois!H"&MATCH('Sem1'!$A$27,Mois!$A$1:$A$36,0)),"*"&CHAR(47)&"*"))=0),IFERROR(AND(I$2>VALUE(SUBSTITUTE(LEFT(INDIRECT("Mois!H"&MATCH($A$27,Mois!$A$1:$A$36,0)),5),"h",":")),I$2<VALUE(SUBSTITUTE(RIGHT(INDIRECT("Mois!H"&MATCH($A$27,Mois!$A$1:$A$36,0)),5),"h",":"))+(1/1440*15)),"FAUX")) -> TRUE | ... AX33: =OR(AND(INDIRECT("Mois!H"&MATCH('Sem1'!$A$27,Mois!$A$1:$A$36,0))<>"",SUMPRODUCT(COUNTIF(INDIRECT("Mois!H"&MATCH('Sem1'!$A$27,Mois!$A$1:$A$36,0)),"*"&CHAR(47)&"*"))=0),IFERROR(AND(AX$2>VALUE(SUBSTITUTE(LEFT(INDIRECT("Mois!H"&MATCH($A$27,Mois!$A$1:$A$36,0)),5),"h",":")),AX$2<VALUE(SUBSTITUTE(RIGHT(INDIRECT("Mois!H"&MATCH($A$27,Mois!$A$1:$A$36,0)),5),"h",":"))+(1/1440*15)),"FAUX")) -> TRUE
B34: =OR(AND(INDIRECT("Mois!I"&MATCH('Sem1'!$A$27,Mois!$A$1:$A$36,0))<>"",SUMPRODUCT(COUNTIF(INDIRECT("Mois!I"&MATCH('Sem1'!$A$27,Mois!$A$1:$A$36,0)),"*"&CHAR(47)&"*"))=0),IFERROR(AND(B$2>VALUE(SUBSTITUTE(LEFT(INDIRECT("Mois!I"&MATCH($A$27,Mois!$A$1:$A$36,0)),5),"h",":")),B$2<VALUE(SUBSTITUTE(RIGHT(INDIRECT("Mois!I"&MATCH($A$27,Mois!$A$1:$A$36,0)),5),"h",":"))+(1/1440*15)),"FAUX")) -> FALSE | C34: =OR(AND(INDIRECT("Mois!I"&MATCH('Sem1'!$A$27,Mois!$A$1:$A$36,0))<>"",SUMPRODUCT(COUNTIF(INDIRECT("Mois!I"&MATCH('Sem1'!$A$27,Mois!$A$1:$A$36,0)),"*"&CHAR(47)&"*"))=0),IFERROR(AND(C$2>VALUE(SUBSTITUTE(LEFT(INDIRECT("Mois!I"&MATCH($A$27,Mois!$A$1:$A$36,0)),5),"h",":")),C$2<VALUE(SUBSTITUTE(RIGHT(INDIRECT("Mois!I"&MATCH($A$27,Mois!$A$1:$A$36,0)),5),"h",":"))+(1/1440*15)),"FAUX")) -> FALSE | D34: =OR(AND(INDIRECT("Mois!I"&MATCH('Sem1'!$A$27,Mois!$A$1:$A$36,0))<>"",SUMPRODUCT(COUNTIF(INDIRECT("Mois!I"&MATCH('Sem1'!$A$27,Mois!$A$1:$A$36,0)),"*"&CHAR(47)&"*"))=0),IFERROR(AND(D$2>VALUE(SUBSTITUTE(LEFT(INDIRECT("Mois!I"&MATCH($A$27,Mois!$A$1:$A$36,0)),5),"h",":")),D$2<VALUE(SUBSTITUTE(RIGHT(INDIRECT("Mois!I"&MATCH($A$27,Mois!$A$1:$A$36,0)),5),"h",":"))+(1/1440*15)),"FAUX")) -> FALSE | E34: =OR(AND(INDIRECT("Mois!I"&MATCH('Sem1'!$A$27,Mois!$A$1:$A$36,0))<>"",SUMPRODUCT(COUNTIF(INDIRECT("Mois!I"&MATCH('Sem1'!$A$27,Mois!$A$1:$A$36,0)),"*"&CHAR(47)&"*"))=0),IFERROR(AND(E$2>VALUE(SUBSTITUTE(LEFT(INDIRECT("Mois!I"&MATCH($A$27,Mois!$A$1:$A$36,0)),5),"h",":")),E$2<VALUE(SUBSTITUTE(RIGHT(INDIRECT("Mois!I"&MATCH($A$27,Mois!$A$1:$A$36,0)),5),"h",":"))+(1/1440*15)),"FAUX")) -> FALSE | F34: =OR(AND(INDIRECT("Mois!I"&MATCH('Sem1'!$A$27,Mois!$A$1:$A$36,0))<>"",SUMPRODUCT(COUNTIF(INDIRECT("Mois!I"&MATCH('Sem1'!$A$27,Mois!$A$1:$A$36,0)),"*"&CHAR(47)&"*"))=0),IFERROR(AND(F$2>VALUE(SUBSTITUTE(LEFT(INDIRECT("Mois!I"&MATCH($A$27,Mois!$A$1:$A$36,0)),5),"h",":")),F$2<VALUE(SUBSTITUTE(RIGHT(INDIRECT("Mois!I"&MATCH($A$27,Mois!$A$1:$A$36,0)),5),"h",":"))+(1/1440*15)),"FAUX")) -> FALSE | G34: =OR(AND(INDIRECT("Mois!I"&MATCH('Sem1'!$A$27,Mois!$A$1:$A$36,0))<>"",SUMPRODUCT(COUNTIF(INDIRECT("Mois!I"&MATCH('Sem1'!$A$27,Mois!$A$1:$A$36,0)),"*"&CHAR(47)&"*"))=0),IFERROR(AND(G$2>VALUE(SUBSTITUTE(LEFT(INDIRECT("Mois!I"&MATCH($A$27,Mois!$A$1:$A$36,0)),5),"h",":")),G$2<VALUE(SUBSTITUTE(RIGHT(INDIRECT("Mois!I"&MATCH($A$27,Mois!$A$1:$A$36,0)),5),"h",":"))+(1/1440*15)),"FAUX")) -> FALSE | H34: =OR(AND(INDIRECT("Mois!I"&MATCH('Sem1'!$A$27,Mois!$A$1:$A$36,0))<>"",SUMPRODUCT(COUNTIF(INDIRECT("Mois!I"&MATCH('Sem1'!$A$27,Mois!$A$1:$A$36,0)),"*"&CHAR(47)&"*"))=0),IFERROR(AND(H$2>VALUE(SUBSTITUTE(LEFT(INDIRECT("Mois!I"&MATCH($A$27,Mois!$A$1:$A$36,0)),5),"h",":")),H$2<VALUE(SUBSTITUTE(RIGHT(INDIRECT("Mois!I"&MATCH($A$27,Mois!$A$1:$A$36,0)),5),"h",":"))+(1/1440*15)),"FAUX")) -> FALSE | I34: =OR(AND(INDIRECT("Mois!I"&MATCH('Sem1'!$A$27,Mois!$A$1:$A$36,0))<>"",SUMPRODUCT(COUNTIF(INDIRECT("Mois!I"&MATCH('Sem1'!$A$27,Mois!$A$1:$A$36,0)),"*"&CHAR(47)&"*"))=0),IFERROR(AND(I$2>VALUE(SUBSTITUTE(LEFT(INDIRECT("Mois!I"&MATCH($A$27,Mois!$A$1:$A$36,0)),5),"h",":")),I$2<VALUE(SUBSTITUTE(RIGHT(INDIRECT("Mois!I"&MATCH($A$27,Mois!$A$1:$A$36,0)),5),"h",":"))+(1/1440*15)),"FAUX")) -> FALSE | ... AX34: =OR(AND(INDIRECT("Mois!I"&MATCH('Sem1'!$A$27,Mois!$A$1:$A$36,0))<>"",SUMPRODUCT(COUNTIF(INDIRECT("Mois!I"&MATCH('Sem1'!$A$27,Mois!$A$1:$A$36,0)),"*"&CHAR(47)&"*"))=0),IFERROR(AND(AX$2>VALUE(SUBSTITUTE(LEFT(INDIRECT("Mois!I"&MATCH($A$27,Mois!$A$1:$A$36,0)),5),"h",":")),AX$2<VALUE(SUBSTITUTE(RIGHT(INDIRECT("Mois!I"&MATCH($A$27,Mois!$A$1:$A$36,0)),5),"h",":"))+(1/1440*15)),"FAUX")) -> FALSE
A35: =A27+1 -> 42804 | B35: =OR(AND(INDIRECT("Mois!B"&MATCH('Sem1'!$A$35,Mois!$A$1:$A$36,0))<>"",SUMPRODUCT(COUNTIF(INDIRECT("Mois!B"&MATCH('Sem1'!$A$35,Mois!$A$1:$A$36,0)),"*"&CHAR(47)&"*"))=0),IFERROR(AND(B$2>VALUE(SUBSTITUTE(LEFT(INDIRECT("Mois!B"&MATCH($A$35,Mois!$A$1:$A$36,0)),5),"h",":")),B$2<VALUE(SUBSTITUTE(RIGHT(INDIRECT("Mois!B"&MATCH($A$35,Mois!$A$1:$A$36,0)),5),"h",":"))+(1/1440*15)),"FAUX")) -> TRUE | C35: =OR(AND(INDIRECT("Mois!B"&MATCH('Sem1'!$A$35,Mois!$A$1:$A$36,0))<>"",SUMPRODUCT(COUNTIF(INDIRECT("Mois!B"&MATCH('Sem1'!$A$35,Mois!$A$1:$A$36,0)),"*"&CHAR(47)&"*"))=0),IFERROR(AND(C$2>VALUE(SUBSTITUTE(LEFT(INDIRECT("Mois!B"&MATCH($A$35,Mois!$A$1:$A$36,0)),5),"h",":")),C$2<VALUE(SUBSTITUTE(RIGHT(INDIRECT("Mois!B"&MATCH($A$35,Mois!$A$1:$A$36,0)),5),"h",":"))+(1/1440*15)),"FAUX")) -> TRUE | D35: =OR(AND(INDIRECT("Mois!B"&MATCH('Sem1'!$A$35,Mois!$A$1:$A$36,0))<>"",SUMPRODUCT(COUNTIF(INDIRECT("Mois!B"&MATCH('Sem1'!$A$35,Mois!$A$1:$A$36,0)),"*"&CHAR(47)&"*"))=0),IFERROR(AND(D$2>VALUE(SUBSTITUTE(LEFT(INDIRECT("Mois!B"&MATCH($A$35,Mois!$A$1:$A$36,0)),5),"h",":")),D$2<VALUE(SUBSTITUTE(RIGHT(INDIRECT("Mois!B"&MATCH($A$35,Mois!$A$1:$A$36,0)),5),"h",":"))+(1/1440*15)),"FAUX")) -> TRUE | E35: =OR(AND(INDIRECT("Mois!B"&MATCH('Sem1'!$A$35,Mois!$A$1:$A$36,0))<>"",SUMPRODUCT(COUNTIF(INDIRECT("Mois!B"&MATCH('Sem1'!$A$35,Mois!$A$1:$A$36,0)),"*"&CHAR(47)&"*"))=0),IFERROR(AND(E$2>VALUE(SUBSTITUTE(LEFT(INDIRECT("Mois!B"&MATCH($A$35,Mois!$A$1:$A$36,0)),5),"h",":")),E$2<VALUE(SUBSTITUTE(RIGHT(INDIRECT("Mois!B"&MATCH($A$35,Mois!$A$1:$A$36,0)),5),"h",":"))+(1/1440*15)),"FAUX")) -> TRUE | F35: =OR(AND(INDIRECT("Mois!B"&MATCH('Sem1'!$A$35,Mois!$A$1:$A$36,0))<>"",SUMPRODUCT(COUNTIF(INDIRECT("Mois!B"&MATCH('Sem1'!$A$35,Mois!$A$1:$A$36,0)),"*"&CHAR(47)&"*"))=0),IFERROR(AND(F$2>VALUE(SUBSTITUTE(LEFT(INDIRECT("Mois!B"&MATCH($A$35,Mois!$A$1:$A$36,0)),5),"h",":")),F$2<VALUE(SUBSTITUTE(RIGHT(INDIRECT("Mois!B"&MATCH($A$35,Mois!$A$1:$A$36,0)),5),"h",":"))+(1/1440*15)),"FAUX")) -> TRUE | G35: =OR(AND(INDIRECT("Mois!B"&MATCH('Sem1'!$A$35,Mois!$A$1:$A$36,0))<>"",SUMPRODUCT(COUNTIF(INDIRECT("Mois!B"&MATCH('Sem1'!$A$35,Mois!$A$1:$A$36,0)),"*"&CHAR(47)&"*"))=0),IFERROR(AND(G$2>VALUE(SUBSTITUTE(LEFT(INDIRECT("Mois!B"&MATCH($A$35,Mois!$A$1:$A$36,0)),5),"h",":")),G$2<VALUE(SUBSTITUTE(RIGHT(INDIRECT("Mois!B"&MATCH($A$35,Mois!$A$1:$A$36,0)),5),"h",":"))+(1/1440*15)),"FAUX")) -> TRUE | H35: =OR(AND(INDIRECT("Mois!B"&MATCH('Sem1'!$A$35,Mois!$A$1:$A$36,0))<>"",SUMPRODUCT(COUNTIF(INDIRECT("Mois!B"&MATCH('Sem1'!$A$35,Mois!$A$1:$A$36,0)),"*"&CHAR(47)&"*"))=0),IFERROR(AND(H$2>VALUE(SUBSTITUTE(LEFT(INDIRECT("Mois!B"&MATCH($A$35,Mois!$A$1:$A$36,0)),5),"h",":")),H$2<VALUE(SUBSTITUTE(RIGHT(INDIRECT("Mois!B"&MATCH($A$35,Mois!$A$1:$A$36,0)),5),"h",":"))+(1/1440*15)),"FAUX")) -> TRUE | I35: =OR(AND(INDIRECT("Mois!B"&MATCH('Sem1'!$A$35,Mois!$A$1:$A$36,0))<>"",SUMPRODUCT(COUNTIF(INDIRECT("Mois!B"&MATCH('Sem1'!$A$35,Mois!$A$1:$A$36,0)),"*"&CHAR(47)&"*"))=0),IFERROR(AND(I$2>VALUE(SUBSTITUTE(LEFT(INDIRECT("Mois!B"&MATCH($A$35,Mois!$A$1:$A$36,0)),5),"h",":")),I$2<VALUE(SUBSTITUTE(RIGHT(INDIRECT("Mois!B"&MATCH($A$35,Mois!$A$1:$A$36,0)),5),"h",":"))+(1/1440*15)),"FAUX")) -> TRUE | ... AX35: =OR(AND(INDIRECT("Mois!B"&MATCH('Sem1'!$A$35,Mois!$A$1:$A$36,0))<>"",SUMPRODUCT(COUNTIF(INDIRECT("Mois!B"&MATCH('Sem1'!$A$35,Mois!$A$1:$A$36,0)),"*"&CHAR(47)&"*"))=0),IFERROR(AND(AX$2>VALUE(SUBSTITUTE(LEFT(INDIRECT("Mois!B"&MATCH($A$35,Mois!$A$1:$A$36,0)),5),"h",":")),AX$2<VALUE(SUBSTITUTE(RIGHT(INDIRECT("Mois!B"&MATCH($A$35,Mois!$A$1:$A$36,0)),5),"h",":"))+(1/1440*15)),"FAUX")) -> TRUE
B36: =OR(AND(INDIRECT("Mois!C"&MATCH('Sem1'!$A$35,Mois!$A$1:$A$36,0))<>"",SUMPRODUCT(COUNTIF(INDIRECT("Mois!C"&MATCH('Sem1'!$A$35,Mois!$A$1:$A$36,0)),"*"&CHAR(47)&"*"))=0),IFERROR(AND(B$2>VALUE(SUBSTITUTE(LEFT(INDIRECT("Mois!C"&MATCH($A$35,Mois!$A$1:$A$36,0)),5),"h",":")),B$2<VALUE(SUBSTITUTE(RIGHT(INDIRECT("Mois!C"&MATCH($A$35,Mois!$A$1:$A$36,0)),5),"h",":"))+(1/1440*15)),"FAUX")) -> FALSE | C36: =OR(AND(INDIRECT("Mois!C"&MATCH('Sem1'!$A$35,Mois!$A$1:$A$36,0))<>"",SUMPRODUCT(COUNTIF(INDIRECT("Mois!C"&MATCH('Sem1'!$A$35,Mois!$A$1:$A$36,0)),"*"&CHAR(47)&"*"))=0),IFERROR(AND(C$2>VALUE(SUBSTITUTE(LEFT(INDIRECT("Mois!C"&MATCH($A$35,Mois!$A$1:$A$36,0)),5),"h",":")),C$2<VALUE(SUBSTITUTE(RIGHT(INDIRECT("Mois!C"&MATCH($A$35,Mois!$A$1:$A$36,0)),5),"h",":"))+(1/1440*15)),"FAUX")) -> FALSE | D36: =OR(AND(INDIRECT("Mois!C"&MATCH('Sem1'!$A$35,Mois!$A$1:$A$36,0))<>"",SUMPRODUCT(COUNTIF(INDIRECT("Mois!C"&MATCH('Sem1'!$A$35,Mois!$A$1:$A$36,0)),"*"&CHAR(47)&"*"))=0),IFERROR(AND(D$2>VALUE(SUBSTITUTE(LEFT(INDIRECT("Mois!C"&MATCH($A$35,Mois!$A$1:$A$36,0)),5),"h",":")),D$2<VALUE(SUBSTITUTE(RIGHT(INDIRECT("Mois!C"&MATCH($A$35,Mois!$A$1:$A$36,0)),5),"h",":"))+(1/1440*15)),"FAUX")) -> FALSE | E36: =OR(AND(INDIRECT("Mois!C"&MATCH('Sem1'!$A$35,Mois!$A$1:$A$36,0))<>"",SUMPRODUCT(COUNTIF(INDIRECT("Mois!C"&MATCH('Sem1'!$A$35,Mois!$A$1:$A$36,0)),"*"&CHAR(47)&"*"))=0),IFERROR(AND(E$2>VALUE(SUBSTITUTE(LEFT(INDIRECT("Mois!C"&MATCH($A$35,Mois!$A$1:$A$36,0)),5),"h",":")),E$2<VALUE(SUBSTITUTE(RIGHT(INDIRECT("Mois!C"&MATCH($A$35,Mois!$A$1:$A$36,0)),5),"h",":"))+(1/1440*15)),"FAUX")) -> FALSE | F36: =OR(AND(INDIRECT("Mois!C"&MATCH('Sem1'!$A$35,Mois!$A$1:$A$36,0))<>"",SUMPRODUCT(COUNTIF(INDIRECT("Mois!C"&MATCH('Sem1'!$A$35,Mois!$A$1:$A$36,0)),"*"&CHAR(47)&"*"))=0),IFERROR(AND(F$2>VALUE(SUBSTITUTE(LEFT(INDIRECT("Mois!C"&MATCH($A$35,Mois!$A$1:$A$36,0)),5),"h",":")),F$2<VALUE(SUBSTITUTE(RIGHT(INDIRECT("Mois!C"&MATCH($A$35,Mois!$A$1:$A$36,0)),5),"h",":"))+(1/1440*15)),"FAUX")) -> FALSE | G36: =OR(AND(INDIRECT("Mois!C"&MATCH('Sem1'!$A$35,Mois!$A$1:$A$36,0))<>"",SUMPRODUCT(COUNTIF(INDIRECT("Mois!C"&MATCH('Sem1'!$A$35,Mois!$A$1:$A$36,0)),"*"&CHAR(47)&"*"))=0),IFERROR(AND(G$2>VALUE(SUBSTITUTE(LEFT(INDIRECT("Mois!C"&MATCH($A$35,Mois!$A$1:$A$36,0)),5),"h",":")),G$2<VALUE(SUBSTITUTE(RIGHT(INDIRECT("Mois!C"&MATCH($A$35,Mois!$A$1:$A$36,0)),5),"h",":"))+(1/1440*15)),"FAUX")) -> FALSE | H36: =OR(AND(INDIRECT("Mois!C"&MATCH('Sem1'!$A$35,Mois!$A$1:$A$36,0))<>"",SUMPRODUCT(COUNTIF(INDIRECT("Mois!C"&MATCH('Sem1'!$A$35,Mois!$A$1:$A$36,0)),"*"&CHAR(47)&"*"))=0),IFERROR(AND(H$2>VALUE(SUBSTITUTE(LEFT(INDIRECT("Mois!C"&MATCH($A$35,Mois!$A$1:$A$36,0)),5),"h",":")),H$2<VALUE(SUBSTITUTE(RIGHT(INDIRECT("Mois!C"&MATCH($A$35,Mois!$A$1:$A$36,0)),5),"h",":"))+(1/1440*15)),"FAUX")) -> FALSE | I36: =OR(AND(INDIRECT("Mois!C"&MATCH('Sem1'!$A$35,Mois!$A$1:$A$36,0))<>"",SUMPRODUCT(COUNTIF(INDIRECT("Mois!C"&MATCH('Sem1'!$A$35,Mois!$A$1:$A$36,0)),"*"&CHAR(47)&"*"))=0),IFERROR(AND(I$2>VALUE(SUBSTITUTE(LEFT(INDIRECT("Mois!C"&MATCH($A$35,Mois!$A$1:$A$36,0)),5),"h",":")),I$2<VALUE(SUBSTITUTE(RIGHT(INDIRECT("Mois!C"&MATCH($A$35,Mois!$A$1:$A$36,0)),5),"h",":"))+(1/1440*15)),"FAUX")) -> FALSE | ... AX36: =OR(AND(INDIRECT("Mois!C"&MATCH('Sem1'!$A$35,Mois!$A$1:$A$36,0))<>"",SUMPRODUCT(COUNTIF(INDIRECT("Mois!C"&MATCH('Sem1'!$A$35,Mois!$A$1:$A$36,0)),"*"&CHAR(47)&"*"))=0),IFERROR(AND(AX$2>VALUE(SUBSTITUTE(LEFT(INDIRECT("Mois!C"&MATCH($A$35,Mois!$A$1:$A$36,0)),5),"h",":")),AX$2<VALUE(SUBSTITUTE(RIGHT(INDIRECT("Mois!C"&MATCH($A$35,Mois!$A$1:$A$36,0)),5),"h",":"))+(1/1440*15)),"FAUX")) -> FALSE
B37: =OR(AND(INDIRECT("Mois!D"&MATCH('Sem1'!$A$35,Mois!$A$1:$A$36,0))<>"",SUMPRODUCT(COUNTIF(INDIRECT("Mois!D"&MATCH('Sem1'!$A$35,Mois!$A$1:$A$36,0)),"*"&CHAR(47)&"*"))=0),IFERROR(AND(B$2>VALUE(SUBSTITUTE(LEFT(INDIRECT("Mois!D"&MATCH($A$35,Mois!$A$1:$A$36,0)),5),"h",":")),B$2<VALUE(SUBSTITUTE(RIGHT(INDIRECT("Mois!D"&MATCH($A$35,Mois!$A$1:$A$36,0)),5),"h",":"))+(1/1440*15)),"FAUX")) -> FALSE | C37: =OR(AND(INDIRECT("Mois!D"&MATCH('Sem1'!$A$35,Mois!$A$1:$A$36,0))<>"",SUMPRODUCT(COUNTIF(INDIRECT("Mois!D"&MATCH('Sem1'!$A$35,Mois!$A$1:$A$36,0)),"*"&CHAR(47)&"*"))=0),IFERROR(AND(C$2>VALUE(SUBSTITUTE(LEFT(INDIRECT("Mois!D"&MATCH($A$35,Mois!$A$1:$A$36,0)),5),"h",":")),C$2<VALUE(SUBSTITUTE(RIGHT(INDIRECT("Mois!D"&MATCH($A$35,Mois!$A$1:$A$36,0)),5),"h",":"))+(1/1440*15)),"FAUX")) -> FALSE | D37: =OR(AND(INDIRECT("Mois!D"&MATCH('Sem1'!$A$35,Mois!$A$1:$A$36,0))<>"",SUMPRODUCT(COUNTIF(INDIRECT("Mois!D"&MATCH('Sem1'!$A$35,Mois!$A$1:$A$36,0)),"*"&CHAR(47)&"*"))=0),IFERROR(AND(D$2>VALUE(SUBSTITUTE(LEFT(INDIRECT("Mois!D"&MATCH($A$35,Mois!$A$1:$A$36,0)),5),"h",":")),D$2<VALUE(SUBSTITUTE(RIGHT(INDIRECT("Mois!D"&MATCH($A$35,Mois!$A$1:$A$36,0)),5),"h",":"))+(1/1440*15)),"FAUX")) -> TRUE | E37: =OR(AND(INDIRECT("Mois!D"&MATCH('Sem1'!$A$35,Mois!$A$1:$A$36,0))<>"",SUMPRODUCT(COUNTIF(INDIRECT("Mois!D"&MATCH('Sem1'!$A$35,Mois!$A$1:$A$36,0)),"*"&CHAR(47)&"*"))=0),IFERROR(AND(E$2>VALUE(SUBSTITUTE(LEFT(INDIRECT("Mois!D"&MATCH($A$35,Mois!$A$1:$A$36,0)),5),"h",":")),E$2<VALUE(SUBSTITUTE(RIGHT(INDIRECT("Mois!D"&MATCH($A$35,Mois!$A$1:$A$36,0)),5),"h",":"))+(1/1440*15)),"FAUX")) -> TRUE | F37: =OR(AND(INDIRECT("Mois!D"&MATCH('Sem1'!$A$35,Mois!$A$1:$A$36,0))<>"",SUMPRODUCT(COUNTIF(INDIRECT("Mois!D"&MATCH('Sem1'!$A$35,Mois!$A$1:$A$36,0)),"*"&CHAR(47)&"*"))=0),IFERROR(AND(F$2>VALUE(SUBSTITUTE(LEFT(INDIRECT("Mois!D"&MATCH($A$35,Mois!$A$1:$A$36,0)),5),"h",":")),F$2<VALUE(SUBSTITUTE(RIGHT(INDIRECT("Mois!D"&MATCH($A$35,Mois!$A$1:$A$36,0)),5),"h",":"))+(1/1440*15)),"FAUX")) -> TRUE | G37: =OR(AND(INDIRECT("Mois!D"&MATCH('Sem1'!$A$35,Mois!$A$1:$A$36,0))<>"",SUMPRODUCT(COUNTIF(INDIRECT("Mois!D"&MATCH('Sem1'!$A$35,Mois!$A$1:$A$36,0)),"*"&CHAR(47)&"*"))=0),IFERROR(AND(G$2>VALUE(SUBSTITUTE(LEFT(INDIRECT("Mois!D"&MATCH($A$35,Mois!$A$1:$A$36,0)),5),"h",":")),G$2<VALUE(SUBSTITUTE(RIGHT(INDIRECT("Mois!D"&MATCH($A$35,Mois!$A$1:$A$36,0)),5),"h",":"))+(1/1440*15)),"FAUX")) -> TRUE | H37: =OR(AND(INDIRECT("Mois!D"&MATCH('Sem1'!$A$35,Mois!$A$1:$A$36,0))<>"",SUMPRODUCT(COUNTIF(INDIRECT("Mois!D"&MATCH('Sem1'!$A$35,Mois!$A$1:$A$36,0)),"*"&CHAR(47)&"*"))=0),IFERROR(AND(H$2>VALUE(SUBSTITUTE(LEFT(INDIRECT("Mois!D"&MATCH($A$35,Mois!$A$1:$A$36,0)),5),"h",":")),H$2<VALUE(SUBSTITUTE(RIGHT(INDIRECT("Mois!D"&MATCH($A$35,Mois!$A$1:$A$36,0)),5),"h",":"))+(1/1440*15)),"FAUX")) -> TRUE | I37: =OR(AND(INDIRECT("Mois!D"&MATCH('Sem1'!$A$35,Mois!$A$1:$A$36,0))<>"",SUMPRODUCT(COUNTIF(INDIRECT("Mois!D"&MATCH('Sem1'!$A$35,Mois!$A$1:$A$36,0)),"*"&CHAR(47)&"*"))=0),IFERROR(AND(I$2>VALUE(SUBSTITUTE(LEFT(INDIRECT("Mois!D"&MATCH($A$35,Mois!$A$1:$A$36,0)),5),"h",":")),I$2<VALUE(SUBSTITUTE(RIGHT(INDIRECT("Mois!D"&MATCH($A$35,Mois!$A$1:$A$36,0)),5),"h",":"))+(1/1440*15)),"FAUX")) -> TRUE | ... AX37: =OR(AND(INDIRECT("Mois!D"&MATCH('Sem1'!$A$35,Mois!$A$1:$A$36,0))<>"",SUMPRODUCT(COUNTIF(INDIRECT("Mois!D"&MATCH('Sem1'!$A$35,Mois!$A$1:$A$36,0)),"*"&CHAR(47)&"*"))=0),IFERROR(AND(AX$2>VALUE(SUBSTITUTE(LEFT(INDIRECT("Mois!D"&MATCH($A$35,Mois!$A$1:$A$36,0)),5),"h",":")),AX$2<VALUE(SUBSTITUTE(RIGHT(INDIRECT("Mois!D"&MATCH($A$35,Mois!$A$1:$A$36,0)),5),"h",":"))+(1/1440*15)),"FAUX")) -> FALSE
B38: =OR(AND(INDIRECT("Mois!E"&MATCH('Sem1'!$A$35,Mois!$A$1:$A$36,0))<>"",SUMPRODUCT(COUNTIF(INDIRECT("Mois!E"&MATCH('Sem1'!$A$35,Mois!$A$1:$A$36,0)),"*"&CHAR(47)&"*"))=0),IFERROR(AND(B$2>VALUE(SUBSTITUTE(LEFT(INDIRECT("Mois!E"&MATCH($A$35,Mois!$A$1:$A$36,0)),5),"h",":")),B$2<VALUE(SUBSTITUTE(RIGHT(INDIRECT("Mois!E"&MATCH($A$35,Mois!$A$1:$A$36,0)),5),"h",":"))+(1/1440*15)),"FAUX")) -> FALSE | C38: =OR(AND(INDIRECT("Mois!E"&MATCH('Sem1'!$A$35,Mois!$A$1:$A$36,0))<>"",SUMPRODUCT(COUNTIF(INDIRECT("Mois!E"&MATCH('Sem1'!$A$35,Mois!$A$1:$A$36,0)),"*"&CHAR(47)&"*"))=0),IFERROR(AND(C$2>VALUE(SUBSTITUTE(LEFT(INDIRECT("Mois!E"&MATCH($A$35,Mois!$A$1:$A$36,0)),5),"h",":")),C$2<VALUE(SUBSTITUTE(RIGHT(INDIRECT("Mois!E"&MATCH($A$35,Mois!$A$1:$A$36,0)),5),"h",":"))+(1/1440*15)),"FAUX")) -> FALSE | D38: =OR(AND(INDIRECT("Mois!E"&MATCH('Sem1'!$A$35,Mois!$A$1:$A$36,0))<>"",SUMPRODUCT(COUNTIF(INDIRECT("Mois!E"&MATCH('Sem1'!$A$35,Mois!$A$1:$A$36,0)),"*"&CHAR(47)&"*"))=0),IFERROR(AND(D$2>VALUE(SUBSTITUTE(LEFT(INDIRECT("Mois!E"&MATCH($A$35,Mois!$A$1:$A$36,0)),5),"h",":")),D$2<VALUE(SUBSTITUTE(RIGHT(INDIRECT("Mois!E"&MATCH($A$35,Mois!$A$1:$A$36,0)),5),"h",":"))+(1/1440*15)),"FAUX")) -> FALSE | E38: =OR(AND(INDIRECT("Mois!E"&MATCH('Sem1'!$A$35,Mois!$A$1:$A$36,0))<>"",SUMPRODUCT(COUNTIF(INDIRECT("Mois!E"&MATCH('Sem1'!$A$35,Mois!$A$1:$A$36,0)),"*"&CHAR(47)&"*"))=0),IFERROR(AND(E$2>VALUE(SUBSTITUTE(LEFT(INDIRECT("Mois!E"&MATCH($A$35,Mois!$A$1:$A$36,0)),5),"h",":")),E$2<VALUE(SUBSTITUTE(RIGHT(INDIRECT("Mois!E"&MATCH($A$35,Mois!$A$1:$A$36,0)),5),"h",":"))+(1/1440*15)),"FAUX")) -> FALSE | F38: =OR(AND(INDIRECT("Mois!E"&MATCH('Sem1'!$A$35,Mois!$A$1:$A$36,0))<>"",SUMPRODUCT(COUNTIF(INDIRECT("Mois!E"&MATCH('Sem1'!$A$35,Mois!$A$1:$A$36,0)),"*"&CHAR(47)&"*"))=0),IFERROR(AND(F$2>VALUE(SUBSTITUTE(LEFT(INDIRECT("Mois!E"&MATCH($A$35,Mois!$A$1:$A$36,0)),5),"h",":")),F$2<VALUE(SUBSTITUTE(RIGHT(INDIRECT("Mois!E"&MATCH($A$35,Mois!$A$1:$A$36,0)),5),"h",":"))+(1/1440*15)),"FAUX")) -> FALSE | G38: =OR(AND(INDIRECT("Mois!E"&MATCH('Sem1'!$A$35,Mois!$A$1:$A$36,0))<>"",SUMPRODUCT(COUNTIF(INDIRECT("Mois!E"&MATCH('Sem1'!$A$35,Mois!$A$1:$A$36,0)),"*"&CHAR(47)&"*"))=0),IFERROR(AND(G$2>VALUE(SUBSTITUTE(LEFT(INDIRECT("Mois!E"&MATCH($A$35,Mois!$A$1:$A$36,0)),5),"h",":")),G$2<VALUE(SUBSTITUTE(RIGHT(INDIRECT("Mois!E"&MATCH($A$35,Mois!$A$1:$A$36,0)),5),"h",":"))+(1/1440*15)),"FAUX")) -> FALSE | H38: =OR(AND(INDIRECT("Mois!E"&MATCH('Sem1'!$A$35,Mois!$A$1:$A$36,0))<>"",SUMPRODUCT(COUNTIF(INDIRECT("Mois!E"&MATCH('Sem1'!$A$35,Mois!$A$1:$A$36,0)),"*"&CHAR(47)&"*"))=0),IFERROR(AND(H$2>VALUE(SUBSTITUTE(LEFT(INDIRECT("Mois!E"&MATCH($A$35,Mois!$A$1:$A$36,0)),5),"h",":")),H$2<VALUE(SUBSTITUTE(RIGHT(INDIRECT("Mois!E"&MATCH($A$35,Mois!$A$1:$A$36,0)),5),"h",":"))+(1/1440*15)),"FAUX")) -> FALSE | I38: =OR(AND(INDIRECT("Mois!E"&MATCH('Sem1'!$A$35,Mois!$A$1:$A$36,0))<>"",SUMPRODUCT(COUNTIF(INDIRECT("Mois!E"&MATCH('Sem1'!$A$35,Mois!$A$1:$A$36,0)),"*"&CHAR(47)&"*"))=0),IFERROR(AND(I$2>VALUE(SUBSTITUTE(LEFT(INDIRECT("Mois!E"&MATCH($A$35,Mois!$A$1:$A$36,0)),5),"h",":")),I$2<VALUE(SUBSTITUTE(RIGHT(INDIRECT("Mois!E"&MATCH($A$35,Mois!$A$1:$A$36,0)),5),"h",":"))+(1/1440*15)),"FAUX")) -> FALSE | ... AX38: =OR(AND(INDIRECT("Mois!E"&MATCH('Sem1'!$A$35,Mois!$A$1:$A$36,0))<>"",SUMPRODUCT(COUNTIF(INDIRECT("Mois!E"&MATCH('Sem1'!$A$35,Mois!$A$1:$A$36,0)),"*"&CHAR(47)&"*"))=0),IFERROR(AND(AX$2>VALUE(SUBSTITUTE(LEFT(INDIRECT("Mois!E"&MATCH($A$35,Mois!$A$1:$A$36,0)),5),"h",":")),AX$2<VALUE(SUBSTITUTE(RIGHT(INDIRECT("Mois!E"&MATCH($A$35,Mois!$A$1:$A$36,0)),5),"h",":"))+(1/1440*15)),"FAUX")) -> FALSE
B39: =OR(AND(INDIRECT("Mois!F"&MATCH('Sem1'!$A$35,Mois!$A$1:$A$36,0))<>"",SUMPRODUCT(COUNTIF(INDIRECT("Mois!F"&MATCH('Sem1'!$A$35,Mois!$A$1:$A$36,0)),"*"&CHAR(47)&"*"))=0),IFERROR(AND(B$2>VALUE(SUBSTITUTE(LEFT(INDIRECT("Mois!F"&MATCH($A$35,Mois!$A$1:$A$36,0)),5),"h",":")),B$2<VALUE(SUBSTITUTE(RIGHT(INDIRECT("Mois!F"&MATCH($A$35,Mois!$A$1:$A$36,0)),5),"h",":"))+(1/1440*15)),"FAUX")) -> FALSE | C39: =OR(AND(INDIRECT("Mois!F"&MATCH('Sem1'!$A$35,Mois!$A$1:$A$36,0))<>"",SUMPRODUCT(COUNTIF(INDIRECT("Mois!F"&MATCH('Sem1'!$A$35,Mois!$A$1:$A$36,0)),"*"&CHAR(47)&"*"))=0),IFERROR(AND(C$2>VALUE(SUBSTITUTE(LEFT(INDIRECT("Mois!F"&MATCH($A$35,Mois!$A$1:$A$36,0)),5),"h",":")),C$2<VALUE(SUBSTITUTE(RIGHT(INDIRECT("Mois!F"&MATCH($A$35,Mois!$A$1:$A$36,0)),5),"h",":"))+(1/1440*15)),"FAUX")) -> FALSE | D39: =OR(AND(INDIRECT("Mois!F"&MATCH('Sem1'!$A$35,Mois!$A$1:$A$36,0))<>"",SUMPRODUCT(COUNTIF(INDIRECT("Mois!F"&MATCH('Sem1'!$A$35,Mois!$A$1:$A$36,0)),"*"&CHAR(47)&"*"))=0),IFERROR(AND(D$2>VALUE(SUBSTITUTE(LEFT(INDIRECT("Mois!F"&MATCH($A$35,Mois!$A$1:$A$36,0)),5),"h",":")),D$2<VALUE(SUBSTITUTE(RIGHT(INDIRECT("Mois!F"&MATCH($A$35,Mois!$A$1:$A$36,0)),5),"h",":"))+(1/1440*15)),"FAUX")) -> FALSE | E39: =OR(AND(INDIRECT("Mois!F"&MATCH('Sem1'!$A$35,Mois!$A$1:$A$36,0))<>"",SUMPRODUCT(COUNTIF(INDIRECT("Mois!F"&MATCH('Sem1'!$A$35,Mois!$A$1:$A$36,0)),"*"&CHAR(47)&"*"))=0),IFERROR(AND(E$2>VALUE(SUBSTITUTE(LEFT(INDIRECT("Mois!F"&MATCH($A$35,Mois!$A$1:$A$36,0)),5),"h",":")),E$2<VALUE(SUBSTITUTE(RIGHT(INDIRECT("Mois!F"&MATCH($A$35,Mois!$A$1:$A$36,0)),5),"h",":"))+(1/1440*15)),"FAUX")) -> TRUE | F39: =OR(AND(INDIRECT("Mois!F"&MATCH('Sem1'!$A$35,Mois!$A$1:$A$36,0))<>"",SUMPRODUCT(COUNTIF(INDIRECT("Mois!F"&MATCH('Sem1'!$A$35,Mois!$A$1:$A$36,0)),"*"&CHAR(47)&"*"))=0),IFERROR(AND(F$2>VALUE(SUBSTITUTE(LEFT(INDIRECT("Mois!F"&MATCH($A$35,Mois!$A$1:$A$36,0)),5),"h",":")),F$2<VALUE(SUBSTITUTE(RIGHT(INDIRECT("Mois!F"&MATCH($A$35,Mois!$A$1:$A$36,0)),5),"h",":"))+(1/1440*15)),"FAUX")) -> TRUE | G39: =OR(AND(INDIRECT("Mois!F"&MATCH('Sem1'!$A$35,Mois!$A$1:$A$36,0))<>"",SUMPRODUCT(COUNTIF(INDIRECT("Mois!F"&MATCH('Sem1'!$A$35,Mois!$A$1:$A$36,0)),"*"&CHAR(47)&"*"))=0),IFERROR(AND(G$2>VALUE(SUBSTITUTE(LEFT(INDIRECT("Mois!F"&MATCH($A$35,Mois!$A$1:$A$36,0)),5),"h",":")),G$2<VALUE(SUBSTITUTE(RIGHT(INDIRECT("Mois!F"&MATCH($A$35,Mois!$A$1:$A$36,0)),5),"h",":"))+(1/1440*15)),"FAUX")) -> TRUE | H39: =OR(AND(INDIRECT("Mois!F"&MATCH('Sem1'!$A$35,Mois!$A$1:$A$36,0))<>"",SUMPRODUCT(COUNTIF(INDIRECT("Mois!F"&MATCH('Sem1'!$A$35,Mois!$A$1:$A$36,0)),"*"&CHAR(47)&"*"))=0),IFERROR(AND(H$2>VALUE(SUBSTITUTE(LEFT(INDIRECT("Mois!F"&MATCH($A$35,Mois!$A$1:$A$36,0)),5),"h",":")),H$2<VALUE(SUBSTITUTE(RIGHT(INDIRECT("Mois!F"&MATCH($A$35,Mois!$A$1:$A$36,0)),5),"h",":"))+(1/1440*15)),"FAUX")) -> TRUE | I39: =OR(AND(INDIRECT("Mois!F"&MATCH('Sem1'!$A$35,Mois!$A$1:$A$36,0))<>"",SUMPRODUCT(COUNTIF(INDIRECT("Mois!F"&MATCH('Sem1'!$A$35,Mois!$A$1:$A$36,0)),"*"&CHAR(47)&"*"))=0),IFERROR(AND(I$2>VALUE(SUBSTITUTE(LEFT(INDIRECT("Mois!F"&MATCH($A$35,Mois!$A$1:$A$36,0)),5),"h",":")),I$2<VALUE(SUBSTITUTE(RIGHT(INDIRECT("Mois!F"&MATCH($A$35,Mois!$A$1:$A$36,0)),5),"h",":"))+(1/1440*15)),"FAUX")) -> TRUE | ... AX39: =OR(AND(INDIRECT("Mois!F"&MATCH('Sem1'!$A$35,Mois!$A$1:$A$36,0))<>"",SUMPRODUCT(COUNTIF(INDIRECT("Mois!F"&MATCH('Sem1'!$A$35,Mois!$A$1:$A$36,0)),"*"&CHAR(47)&"*"))=0),IFERROR(AND(AX$2>VALUE(SUBSTITUTE(LEFT(INDIRECT("Mois!F"&MATCH($A$35,Mois!$A$1:$A$36,0)),5),"h",":")),AX$2<VALUE(SUBSTITUTE(RIGHT(INDIRECT("Mois!F"&MATCH($A$35,Mois!$A$1:$A$36,0)),5),"h",":"))+(1/1440*15)),"FAUX")) -> FALSE
B40: =OR(AND(INDIRECT("Mois!G"&MATCH('Sem1'!$A$35,Mois!$A$1:$A$36,0))<>"",SUMPRODUCT(COUNTIF(INDIRECT("Mois!G"&MATCH('Sem1'!$A$35,Mois!$A$1:$A$36,0)),"*"&CHAR(47)&"*"))=0),IFERROR(AND(B$2>VALUE(SUBSTITUTE(LEFT(INDIRECT("Mois!G"&MATCH($A$35,Mois!$A$1:$A$36,0)),5),"h",":")),B$2<VALUE(SUBSTITUTE(RIGHT(INDIRECT("Mois!G"&MATCH($A$35,Mois!$A$1:$A$36,0)),5),"h",":"))+(1/1440*15)),"FAUX")) -> TRUE | C40: =OR(AND(INDIRECT("Mois!G"&MATCH('Sem1'!$A$35,Mois!$A$1:$A$36,0))<>"",SUMPRODUCT(COUNTIF(INDIRECT("Mois!G"&MATCH('Sem1'!$A$35,Mois!$A$1:$A$36,0)),"*"&CHAR(47)&"*"))=0),IFERROR(AND(C$2>VALUE(SUBSTITUTE(LEFT(INDIRECT("Mois!G"&MATCH($A$35,Mois!$A$1:$A$36,0)),5),"h",":")),C$2<VALUE(SUBSTITUTE(RIGHT(INDIRECT("Mois!G"&MATCH($A$35,Mois!$A$1:$A$36,0)),5),"h",":"))+(1/1440*15)),"FAUX")) -> TRUE | D40: =OR(AND(INDIRECT("Mois!G"&MATCH('Sem1'!$A$35,Mois!$A$1:$A$36,0))<>"",SUMPRODUCT(COUNTIF(INDIRECT("Mois!G"&MATCH('Sem1'!$A$35,Mois!$A$1:$A$36,0)),"*"&CHAR(47)&"*"))=0),IFERROR(AND(D$2>VALUE(SUBSTITUTE(LEFT(INDIRECT("Mois!G"&MATCH($A$35,Mois!$A$1:$A$36,0)),5),"h",":")),D$2<VALUE(SUBSTITUTE(RIGHT(INDIRECT("Mois!G"&MATCH($A$35,Mois!$A$1:$A$36,0)),5),"h",":"))+(1/1440*15)),"FAUX")) -> TRUE | E40: =OR(AND(INDIRECT("Mois!G"&MATCH('Sem1'!$A$35,Mois!$A$1:$A$36,0))<>"",SUMPRODUCT(COUNTIF(INDIRECT("Mois!G"&MATCH('Sem1'!$A$35,Mois!$A$1:$A$36,0)),"*"&CHAR(47)&"*"))=0),IFERROR(AND(E$2>VALUE(SUBSTITUTE(LEFT(INDIRECT("Mois!G"&MATCH($A$35,Mois!$A$1:$A$36,0)),5),"h",":")),E$2<VALUE(SUBSTITUTE(RIGHT(INDIRECT("Mois!G"&MATCH($A$35,Mois!$A$1:$A$36,0)),5),"h",":"))+(1/1440*15)),"FAUX")) -> TRUE | F40: =OR(AND(INDIRECT("Mois!G"&MATCH('Sem1'!$A$35,Mois!$A$1:$A$36,0))<>"",SUMPRODUCT(COUNTIF(INDIRECT("Mois!G"&MATCH('Sem1'!$A$35,Mois!$A$1:$A$36,0)),"*"&CHAR(47)&"*"))=0),IFERROR(AND(F$2>VALUE(SUBSTITUTE(LEFT(INDIRECT("Mois!G"&MATCH($A$35,Mois!$A$1:$A$36,0)),5),"h",":")),F$2<VALUE(SUBSTITUTE(RIGHT(INDIRECT("Mois!G"&MATCH($A$35,Mois!$A$1:$A$36,0)),5),"h",":"))+(1/1440*15)),"FAUX")) -> TRUE | G40: =OR(AND(INDIRECT("Mois!G"&MATCH('Sem1'!$A$35,Mois!$A$1:$A$36,0))<>"",SUMPRODUCT(COUNTIF(INDIRECT("Mois!G"&MATCH('Sem1'!$A$35,Mois!$A$1:$A$36,0)),"*"&CHAR(47)&"*"))=0),IFERROR(AND(G$2>VALUE(SUBSTITUTE(LEFT(INDIRECT("Mois!G"&MATCH($A$35,Mois!$A$1:$A$36,0)),5),"h",":")),G$2<VALUE(SUBSTITUTE(RIGHT(INDIRECT("Mois!G"&MATCH($A$35,Mois!$A$1:$A$36,0)),5),"h",":"))+(1/1440*15)),"FAUX")) -> TRUE | H40: =OR(AND(INDIRECT("Mois!G"&MATCH('Sem1'!$A$35,Mois!$A$1:$A$36,0))<>"",SUMPRODUCT(COUNTIF(INDIRECT("Mois!G"&MATCH('Sem1'!$A$35,Mois!$A$1:$A$36,0)),"*"&CHAR(47)&"*"))=0),IFERROR(AND(H$2>VALUE(SUBSTITUTE(LEFT(INDIRECT("Mois!G"&MATCH($A$35,Mois!$A$1:$A$36,0)),5),"h",":")),H$2<VALUE(SUBSTITUTE(RIGHT(INDIRECT("Mois!G"&MATCH($A$35,Mois!$A$1:$A$36,0)),5),"h",":"))+(1/1440*15)),"FAUX")) -> TRUE | I40: =OR(AND(INDIRECT("Mois!G"&MATCH('Sem1'!$A$35,Mois!$A$1:$A$36,0))<>"",SUMPRODUCT(COUNTIF(INDIRECT("Mois!G"&MATCH('Sem1'!$A$35,Mois!$A$1:$A$36,0)),"*"&CHAR(47)&"*"))=0),IFERROR(AND(I$2>VALUE(SUBSTITUTE(LEFT(INDIRECT("Mois!G"&MATCH($A$35,Mois!$A$1:$A$36,0)),5),"h",":")),I$2<VALUE(SUBSTITUTE(RIGHT(INDIRECT("Mois!G"&MATCH($A$35,Mois!$A$1:$A$36,0)),5),"h",":"))+(1/1440*15)),"FAUX")) -> TRUE | ... AX40: =OR(AND(INDIRECT("Mois!G"&MATCH('Sem1'!$A$35,Mois!$A$1:$A$36,0))<>"",SUMPRODUCT(COUNTIF(INDIRECT("Mois!G"&MATCH('Sem1'!$A$35,Mois!$A$1:$A$36,0)),"*"&CHAR(47)&"*"))=0),IFERROR(AND(AX$2>VALUE(SUBSTITUTE(LEFT(INDIRECT("Mois!G"&MATCH($A$35,Mois!$A$1:$A$36,0)),5),"h",":")),AX$2<VALUE(SUBSTITUTE(RIGHT(INDIRECT("Mois!G"&MATCH($A$35,Mois!$A$1:$A$36,0)),5),"h",":"))+(1/1440*15)),"FAUX")) -> TRUE
B41: =OR(AND(INDIRECT("Mois!H"&MATCH('Sem1'!$A$35,Mois!$A$1:$A$36,0))<>"",SUMPRODUCT(COUNTIF(INDIRECT("Mois!H"&MATCH('Sem1'!$A$35,Mois!$A$1:$A$36,0)),"*"&CHAR(47)&"*"))=0),IFERROR(AND(B$2>VALUE(SUBSTITUTE(LEFT(INDIRECT("Mois!H"&MATCH($A$35,Mois!$A$1:$A$36,0)),5),"h",":")),B$2<VALUE(SUBSTITUTE(RIGHT(INDIRECT("Mois!H"&MATCH($A$35,Mois!$A$1:$A$36,0)),5),"h",":"))+(1/1440*15)),"FAUX")) -> TRUE | C41: =OR(AND(INDIRECT("Mois!H"&MATCH('Sem1'!$A$35,Mois!$A$1:$A$36,0))<>"",SUMPRODUCT(COUNTIF(INDIRECT("Mois!H"&MATCH('Sem1'!$A$35,Mois!$A$1:$A$36,0)),"*"&CHAR(47)&"*"))=0),IFERROR(AND(C$2>VALUE(SUBSTITUTE(LEFT(INDIRECT("Mois!H"&MATCH($A$35,Mois!$A$1:$A$36,0)),5),"h",":")),C$2<VALUE(SUBSTITUTE(RIGHT(INDIRECT("Mois!H"&MATCH($A$35,Mois!$A$1:$A$36,0)),5),"h",":"))+(1/1440*15)),"FAUX")) -> TRUE | D41: =OR(AND(INDIRECT("Mois!H"&MATCH('Sem1'!$A$35,Mois!$A$1:$A$36,0))<>"",SUMPRODUCT(COUNTIF(INDIRECT("Mois!H"&MATCH('Sem1'!$A$35,Mois!$A$1:$A$36,0)),"*"&CHAR(47)&"*"))=0),IFERROR(AND(D$2>VALUE(SUBSTITUTE(LEFT(INDIRECT("Mois!H"&MATCH($A$35,Mois!$A$1:$A$36,0)),5),"h",":")),D$2<VALUE(SUBSTITUTE(RIGHT(INDIRECT("Mois!H"&MATCH($A$35,Mois!$A$1:$A$36,0)),5),"h",":"))+(1/1440*15)),"FAUX")) -> TRUE | E41: =OR(AND(INDIRECT("Mois!H"&MATCH('Sem1'!$A$35,Mois!$A$1:$A$36,0))<>"",SUMPRODUCT(COUNTIF(INDIRECT("Mois!H"&MATCH('Sem1'!$A$35,Mois!$A$1:$A$36,0)),"*"&CHAR(47)&"*"))=0),IFERROR(AND(E$2>VALUE(SUBSTITUTE(LEFT(INDIRECT("Mois!H"&MATCH($A$35,Mois!$A$1:$A$36,0)),5),"h",":")),E$2<VALUE(SUBSTITUTE(RIGHT(INDIRECT("Mois!H"&MATCH($A$35,Mois!$A$1:$A$36,0)),5),"h",":"))+(1/1440*15)),"FAUX")) -> TRUE | F41: =OR(AND(INDIRECT("Mois!H"&MATCH('Sem1'!$A$35,Mois!$A$1:$A$36,0))<>"",SUMPRODUCT(COUNTIF(INDIRECT("Mois!H"&MATCH('Sem1'!$A$35,Mois!$A$1:$A$36,0)),"*"&CHAR(47)&"*"))=0),IFERROR(AND(F$2>VALUE(SUBSTITUTE(LEFT(INDIRECT("Mois!H"&MATCH($A$35,Mois!$A$1:$A$36,0)),5),"h",":")),F$2<VALUE(SUBSTITUTE(RIGHT(INDIRECT("Mois!H"&MATCH($A$35,Mois!$A$1:$A$36,0)),5),"h",":"))+(1/1440*15)),"FAUX")) -> TRUE | G41: =OR(AND(INDIRECT("Mois!H"&MATCH('Sem1'!$A$35,Mois!$A$1:$A$36,0))<>"",SUMPRODUCT(COUNTIF(INDIRECT("Mois!H"&MATCH('Sem1'!$A$35,Mois!$A$1:$A$36,0)),"*"&CHAR(47)&"*"))=0),IFERROR(AND(G$2>VALUE(SUBSTITUTE(LEFT(INDIRECT("Mois!H"&MATCH($A$35,Mois!$A$1:$A$36,0)),5),"h",":")),G$2<VALUE(SUBSTITUTE(RIGHT(INDIRECT("Mois!H"&MATCH($A$35,Mois!$A$1:$A$36,0)),5),"h",":"))+(1/1440*15)),"FAUX")) -> TRUE | H41: =OR(AND(INDIRECT("Mois!H"&MATCH('Sem1'!$A$35,Mois!$A$1:$A$36,0))<>"",SUMPRODUCT(COUNTIF(INDIRECT("Mois!H"&MATCH('Sem1'!$A$35,Mois!$A$1:$A$36,0)),"*"&CHAR(47)&"*"))=0),IFERROR(AND(H$2>VALUE(SUBSTITUTE(LEFT(INDIRECT("Mois!H"&MATCH($A$35,Mois!$A$1:$A$36,0)),5),"h",":")),H$2<VALUE(SUBSTITUTE(RIGHT(INDIRECT("Mois!H"&MATCH($A$35,Mois!$A$1:$A$36,0)),5),"h",":"))+(1/1440*15)),"FAUX")) -> TRUE | I41: =OR(AND(INDIRECT("Mois!H"&MATCH('Sem1'!$A$35,Mois!$A$1:$A$36,0))<>"",SUMPRODUCT(COUNTIF(INDIRECT("Mois!H"&MATCH('Sem1'!$A$35,Mois!$A$1:$A$36,0)),"*"&CHAR(47)&"*"))=0),IFERROR(AND(I$2>VALUE(SUBSTITUTE(LEFT(INDIRECT("Mois!H"&MATCH($A$35,Mois!$A$1:$A$36,0)),5),"h",":")),I$2<VALUE(SUBSTITUTE(RIGHT(INDIRECT("Mois!H"&MATCH($A$35,Mois!$A$1:$A$36,0)),5),"h",":"))+(1/1440*15)),"FAUX")) -> TRUE | ... AX41: =OR(AND(INDIRECT("Mois!H"&MATCH('Sem1'!$A$35,Mois!$A$1:$A$36,0))<>"",SUMPRODUCT(COUNTIF(INDIRECT("Mois!H"&MATCH('Sem1'!$A$35,Mois!$A$1:$A$36,0)),"*"&CHAR(47)&"*"))=0),IFERROR(AND(AX$2>VALUE(SUBSTITUTE(LEFT(INDIRECT("Mois!H"&MATCH($A$35,Mois!$A$1:$A$36,0)),5),"h",":")),AX$2<VALUE(SUBSTITUTE(RIGHT(INDIRECT("Mois!H"&MATCH($A$35,Mois!$A$1:$A$36,0)),5),"h",":"))+(1/1440*15)),"FAUX")) -> TRUE
B42: =OR(AND(INDIRECT("Mois!I"&MATCH('Sem1'!$A$35,Mois!$A$1:$A$36,0))<>"",SUMPRODUCT(COUNTIF(INDIRECT("Mois!I"&MATCH('Sem1'!$A$35,Mois!$A$1:$A$36,0)),"*"&CHAR(47)&"*"))=0),IFERROR(AND(B$2>VALUE(SUBSTITUTE(LEFT(INDIRECT("Mois!I"&MATCH($A$35,Mois!$A$1:$A$36,0)),5),"h",":")),B$2<VALUE(SUBSTITUTE(RIGHT(INDIRECT("Mois!I"&MATCH($A$35,Mois!$A$1:$A$36,0)),5),"h",":"))+(1/1440*15)),"FAUX")) -> FALSE | C42: =OR(AND(INDIRECT("Mois!I"&MATCH('Sem1'!$A$35,Mois!$A$1:$A$36,0))<>"",SUMPRODUCT(COUNTIF(INDIRECT("Mois!I"&MATCH('Sem1'!$A$35,Mois!$A$1:$A$36,0)),"*"&CHAR(47)&"*"))=0),IFERROR(AND(C$2>VALUE(SUBSTITUTE(LEFT(INDIRECT("Mois!I"&MATCH($A$35,Mois!$A$1:$A$36,0)),5),"h",":")),C$2<VALUE(SUBSTITUTE(RIGHT(INDIRECT("Mois!I"&MATCH($A$35,Mois!$A$1:$A$36,0)),5),"h",":"))+(1/1440*15)),"FAUX")) -> FALSE | D42: =OR(AND(INDIRECT("Mois!I"&MATCH('Sem1'!$A$35,Mois!$A$1:$A$36,0))<>"",SUMPRODUCT(COUNTIF(INDIRECT("Mois!I"&MATCH('Sem1'!$A$35,Mois!$A$1:$A$36,0)),"*"&CHAR(47)&"*"))=0),IFERROR(AND(D$2>VALUE(SUBSTITUTE(LEFT(INDIRECT("Mois!I"&MATCH($A$35,Mois!$A$1:$A$36,0)),5),"h",":")),D$2<VALUE(SUBSTITUTE(RIGHT(INDIRECT("Mois!I"&MATCH($A$35,Mois!$A$1:$A$36,0)),5),"h",":"))+(1/1440*15)),"FAUX")) -> FALSE | E42: =OR(AND(INDIRECT("Mois!I"&MATCH('Sem1'!$A$35,Mois!$A$1:$A$36,0))<>"",SUMPRODUCT(COUNTIF(INDIRECT("Mois!I"&MATCH('Sem1'!$A$35,Mois!$A$1:$A$36,0)),"*"&CHAR(47)&"*"))=0),IFERROR(AND(E$2>VALUE(SUBSTITUTE(LEFT(INDIRECT("Mois!I"&MATCH($A$35,Mois!$A$1:$A$36,0)),5),"h",":")),E$2<VALUE(SUBSTITUTE(RIGHT(INDIRECT("Mois!I"&MATCH($A$35,Mois!$A$1:$A$36,0)),5),"h",":"))+(1/1440*15)),"FAUX")) -> FALSE | F42: =OR(AND(INDIRECT("Mois!I"&MATCH('Sem1'!$A$35,Mois!$A$1:$A$36,0))<>"",SUMPRODUCT(COUNTIF(INDIRECT("Mois!I"&MATCH('Sem1'!$A$35,Mois!$A$1:$A$36,0)),"*"&CHAR(47)&"*"))=0),IFERROR(AND(F$2>VALUE(SUBSTITUTE(LEFT(INDIRECT("Mois!I"&MATCH($A$35,Mois!$A$1:$A$36,0)),5),"h",":")),F$2<VALUE(SUBSTITUTE(RIGHT(INDIRECT("Mois!I"&MATCH($A$35,Mois!$A$1:$A$36,0)),5),"h",":"))+(1/1440*15)),"FAUX")) -> FALSE | G42: =OR(AND(INDIRECT("Mois!I"&MATCH('Sem1'!$A$35,Mois!$A$1:$A$36,0))<>"",SUMPRODUCT(COUNTIF(INDIRECT("Mois!I"&MATCH('Sem1'!$A$35,Mois!$A$1:$A$36,0)),"*"&CHAR(47)&"*"))=0),IFERROR(AND(G$2>VALUE(SUBSTITUTE(LEFT(INDIRECT("Mois!I"&MATCH($A$35,Mois!$A$1:$A$36,0)),5),"h",":")),G$2<VALUE(SUBSTITUTE(RIGHT(INDIRECT("Mois!I"&MATCH($A$35,Mois!$A$1:$A$36,0)),5),"h",":"))+(1/1440*15)),"FAUX")) -> FALSE | H42: =OR(AND(INDIRECT("Mois!I"&MATCH('Sem1'!$A$35,Mois!$A$1:$A$36,0))<>"",SUMPRODUCT(COUNTIF(INDIRECT("Mois!I"&MATCH('Sem1'!$A$35,Mois!$A$1:$A$36,0)),"*"&CHAR(47)&"*"))=0),IFERROR(AND(H$2>VALUE(SUBSTITUTE(LEFT(INDIRECT("Mois!I"&MATCH($A$35,Mois!$A$1:$A$36,0)),5),"h",":")),H$2<VALUE(SUBSTITUTE(RIGHT(INDIRECT("Mois!I"&MATCH($A$35,Mois!$A$1:$A$36,0)),5),"h",":"))+(1/1440*15)),"FAUX")) -> FALSE | I42: =OR(AND(INDIRECT("Mois!I"&MATCH('Sem1'!$A$35,Mois!$A$1:$A$36,0))<>"",SUMPRODUCT(COUNTIF(INDIRECT("Mois!I"&MATCH('Sem1'!$A$35,Mois!$A$1:$A$36,0)),"*"&CHAR(47)&"*"))=0),IFERROR(AND(I$2>VALUE(SUBSTITUTE(LEFT(INDIRECT("Mois!I"&MATCH($A$35,Mois!$A$1:$A$36,0)),5),"h",":")),I$2<VALUE(SUBSTITUTE(RIGHT(INDIRECT("Mois!I"&MATCH($A$35,Mois!$A$1:$A$36,0)),5),"h",":"))+(1/1440*15)),"FAUX")) -> FALSE | ... AX42: =OR(AND(INDIRECT("Mois!I"&MATCH('Sem1'!$A$35,Mois!$A$1:$A$36,0))<>"",SUMPRODUCT(COUNTIF(INDIRECT("Mois!I"&MATCH('Sem1'!$A$35,Mois!$A$1:$A$36,0)),"*"&CHAR(47)&"*"))=0),IFERROR(AND(AX$2>VALUE(SUBSTITUTE(LEFT(INDIRECT("Mois!I"&MATCH($A$35,Mois!$A$1:$A$36,0)),5),"h",":")),AX$2<VALUE(SUBSTITUTE(RIGHT(INDIRECT("Mois!I"&MATCH($A$35,Mois!$A$1:$A$36,0)),5),"h",":"))+(1/1440*15)),"FAUX")) -> FALSE
C43: CFA
B45: AMELIE | G45: AMANDINE | L45: CAMILLE B | Q45: MIREILLE | V45: ELSA | AA45: MARGOT | AF45: MARINE | AK45: EVA

Sheet Sem 2
A1: PLANNING DU 13 AU 17 MARS 2017
B2: 7h | C2: 15 | D2: 30 | E2: 45 | F2: 8h | G2: 15 | H2: 30 | I2: 45 | J2: 9h | K2: 15 | L2: 30 | M2: 45 | N2: 10h | O2: 15 | P2: 30 | Q2: 45 | R2: 11h | S2: 15 | T2: 30 | U2: 45 | V2: 12h | W2: 15 | X2: 30 | Y2: 45 | Z2: 13h | AA2: 15 | AB2: 30 | AC2: 45 | AD2: 14h | AE2: 15 | AF2: 30 | AG2: 45 | AH2: 15h | AI2: 15 | AJ2: 30 | AK2: 45 | AL2: 16h | AM2: 15 | AN2: 30 | AO2: 45 | AP2: 17h | AQ2: 15 | AR2: 30 | AS2: 45 | AT2: 18 | AU2: 15 | AV2: 30 | AW2: 45 | AX2: 19h
A3: Lundi 13 | C3: Bureau
A10: Mardi 14 | C10: 0.8
A17: Mercredi 15
C18: 0.8
C21: CL
A25: Jeudi 16
C28: Ménage
A32: Vendredi 17
C33: Bilupo
B40: AMELIE | G40: AMANDINE | L40: CAMILLE B | Q40: MIREILLE | V40: ELSA | AA40: MARGOT | AF40: EVA | AK40: MARINE

Sheet Sem 3
A1: PLANNING DU 20 AU 24 MARS 2017
B2: 7h | C2: 15 | D2: 30 | E2: 45 | F2: 8h | G2: 15 | H2: 30 | I2: 45 | J2: 9h | K2: 15 | L2: 30 | M2: 45 | N2: 10h | O2: 15 | P2: 30 | Q2: 45 | R2: 11h | S2: 15 | T2: 30 | U2: 45 | V2: 12h | W2: 15 | X2: 30 | Y2: 45 | Z2: 13h | AA2: 15 | AB2: 30 | AC2: 45 | AD2: 14h | AE2: 15 | AF2: 30 | AG2: 45 | AH2: 15h | AI2: 15 | AJ2: 30 | AK2: 45 | AL2: 16h | AM2: 15 | AN2: 30 | AO2: 45 | AP2: 17h | AQ2: 15 | AR2: 30 | AS2: 45 | AT2: 18 | AU2: 15 | AV2: 30 | AW2: 45 | AX2: 19h
A3: Lundi 20 | C3: Bureau
C10: CFA
A11: Mardi 21 | C11: 0.8
B18: CFA
A19: Mercredi 22
C23: CL
C26: CFA
A27: Jeudi 23
C33: CFA
A34: Vendredi 24
C35: 0.8
C41: CFA
B43: AMELIE | G43: AMANDINE | L43: CAMILLE B | Q43: MIREILLE | V43: ELSA | AA43: MARGOT | AF43: EVA | AK43: MARINE

Sheet Sem 4
A1: PLANNING DU 27 AU 31 MARS 2017
B2: 7h | C2: 15 | D2: 30 | E2: 45 | F2: 8h | G2: 15 | H2: 30 | I2: 45 | J2: 9h | K2: 15 | L2: 30 | M2: 45 | N2: 10h | O2: 15 | P2: 30 | Q2: 45 | R2: 11h | S2: 15 | T2: 30 | U2: 45 | V2: 12h | W2: 15 | X2: 30 | Y2: 45 | Z2: 13h | AA2: 15 | AB2: 30 | AC2: 45 | AD2: 14h | AE2: 15 | AF2: 30 | AG2: 45 | AH2: 15h | AI2: 15 | AJ2: 30 | AK2: 45 | AL2: 16h | AM2: 15 | AN2: 30 | AO2: 45 | AP2: 17h | AQ2: 15 | AR2: 30 | AS2: 45 | AT2: 18 | AU2: 15 | AV2: 30 | AW2: 45 | AX2: 19h
A3: Lundi 27 | C3: Bureau
A10: Mardi 28
C11: 0.8
A17: Mercredi 29
C18: CA
C21: CL
A25: Jeudi 30 | C25: 0.8
C26: CA
A33: Vendredi 31 | C33: CA
C34: CA
B42: AMELIE | G42: AMANDINE | L42: CAMILLE B | Q42: MIREILLE | V42: ELSA | AA42: MARGOT | AF42: EVA | AK42: MARINE
