Workbook

Sheet BDD
A1: Machine | B1: n° essai | C1: Resultat 1 | D1: Resultat 2 | E1: Resultat 3 | F1: Resultat 4 | G1: Resultat 5 | H1: Resultat 6 | I1: Resultat 7 | J1: Resultat 8 | K1: Resultat 9 | L1: Resultat 10 | M1: Resultat 11 | N1: Resultat 12 | O1: Resultat 13 | P1: Resultat 14
A2: Abro 1 | B2: 8 | C2: Négatif | D2: BON | E2: Médiocre | F2: Aléatoire | H2: Négatif | I2: Négatif | J2: négatif | K2: KO | L2: Médiocre | M2: KO | N2: Aléatoire | O2: Négatif | P2: ko
A3: Abro 3 | B3: 7 | C3: Positif | D3: positif | E3: Négatif | F3: Aléatoire | G3: A REVOIR | H3: Positif | I3: Positif | J3: Usure | K3: KO | L3: Négatif | M3: A REVOIR | N3: Usure | O3: Positif | P3: ko
A4: Abro 3 | B4: 5 | C4: Aléatoire | D4: OK | E4: Positif | F4: Aléatoire | G4: négatif | H4: Aléatoire | I4: Aléatoire | J4: Correct | K4: Négatif | L4: Positif | M4: A REVOIR | N4: Correct | O4: Aléatoire | P4: ko
A5: Abro 4 | B5: 3 | C5: Usure | D5: OK | E5: Aléatoire | F5: Aléatoire | G5: négatif | H5: Usure | I5: Usure | J5: Médiocre | K5: Positif | L5: Aléatoire | M5: A REVOIR | N5: Médiocre | O5: Usure | P5: Aléatoire
A6: Abro 5 | B6: 1 | C6: KO | D6: KO | E6: Usure | F6: Aléatoire | G6: négatif | H6: Correct | I6: Correct | J6: KO | K6: Aléatoire | L6: Usure | M6: Positif | N6: Négatif | O6: Correct | P6: Usure
A7: Abro 1 | B7: 45 | C7: Médiocre | D7: KO | E7: Correct | F7: KO | G7: négatif | H7: Médiocre | I7: Médiocre | J7: KO | K7: Usure | L7: Correct | M7: Aléatoire | N7: Positif | O7: Médiocre | P7: Correct
A8: Abro 3 | B8: 89 | C8: Négatif | D8: KO | E8: Médiocre | F8: Négatif | G8: Aléatoire | H8: Négatif | I8: BON | J8: KO | K8: Correct | L8: Médiocre | M8: Usure | N8: Aléatoire | O8: Négatif | P8: Médiocre
A9: Abro 4 | B9: 66 | C9: Positif | D9: KO | E9: Aléatoire | F9: Positif | G9: OK | H9: Positif | I9: A REVOIR | J9: KO | K9: Médiocre | L9: Médiocre | M9: Correct | N9: Usure | O9: Positif | P9: Négatif
A10: Abro 3 | B10: 55 | C10: Aléatoire | D10: Aléatoire | E10: Aléatoire | F10: Aléatoire | G10: OK | H10: Aléatoire | I10: OK | J10: KO | K10: Négatif | L10: Négatif | M10: Médiocre | N10: Correct | O10: Aléatoire | P10: Positif
A11: Abro 3 | B11: 23 | C11: Usure | D11: BON | E11: OK | F11: Usure | G11: Aléatoire | H11: Usure | I11: OK | J11: Négatif | K11: Positif | L11: Positif | M11: Négatif | N11: Médiocre | O11: Usure | P11: Aléatoire
A12: Abro 4 | B12: 32 | C12: Correct | D12: Aléatoire | E12: OK | F12: Correct | G12: Aléatoire | H12: Correct | I12: OK | J12: Positif | K12: Aléatoire | L12: Aléatoire | M12: Positif | N12: Aléatoire | O12: Correct | P12: Usure
A13: Abro 1 | B13: 4 | C13: Médiocre | D13: Aléatoire | E13: KO | F13: Médiocre | G13: Aléatoire | H13: Médiocre | I13: BON | J13: Aléatoire | K13: Usure | L13: Usure | M13: Aléatoire | N13: Négatif | O13: Médiocre | P13: Correct
A14: Abro 3 | B14: 12 | C14: Aléatoire | D14: Aléatoire | E14: KO | F14: Négatif | G14: Aléatoire | H14: KO | I14: OK | J14: Usure | K14: Correct | L14: Correct | M14: Usure | N14: Positif | O14: Médiocre | P14: Médiocre
... A26: Abro 5 | B26: 14 | C26: Négatif | D26: Négatif | E26: OK | F26: Négatif | G26: usure | H26: Négatif | I26: OK | J26: Usure | K26: Correct | L26: Négatif | M26: Usure | N26: ok | O26: Aléatoire | P26: KO

Sheet RECHERCHE
K1: =COLUMN() -> 11
B2: Abro | C2: N°essai | K2: =CHAR(COLUMN()+64) -> K
B3: Abro 3 | C3: 89 | K3: =CHAR(COLUMN()+64-8) -> C
A4: Résultat 1 | B4: {=INDIRECT("BDD!"&CHAR(COLUMN()+61+ROW())&MATCH(1,(BDD!$A$1:$A$26=RECHERCHE!$B$3)*(BDD!$B$1:$B$26=RECHERCHE!$C$3),0))} -> Négatif | K4: =CHAR(67) -> C
A5: Résultat 2 | B5: {=INDIRECT("BDD!"&CHAR(COLUMN()+61+ROW())&MATCH(1,(BDD!$A$1:$A$26=RECHERCHE!$B$3)*(BDD!$B$1:$B$26=RECHERCHE!$C$3),0))} -> KO | K5: =CHAR(68) -> D
A6: Résultat 3 | B6: {=INDIRECT("BDD!"&CHAR(COLUMN()+61+ROW())&MATCH(1,(BDD!$A$1:$A$26=RECHERCHE!$B$3)*(BDD!$B$1:$B$26=RECHERCHE!$C$3),0))} -> Médiocre | K6: Abro | L6: N°essai
A7: Résultat 4 | B7: {=INDIRECT("BDD!"&CHAR(COLUMN()+61+ROW())&MATCH(1,(BDD!$A$1:$A$26=RECHERCHE!$B$3)*(BDD!$B$1:$B$26=RECHERCHE!$C$3),0))} -> Négatif | K7: Abro 3 | L7: 89
A8: Résultat 5 | B8: {=INDIRECT("BDD!"&CHAR(COLUMN()+61+ROW())&MATCH(1,(BDD!$A$1:$A$26=RECHERCHE!$B$3)*(BDD!$B$1:$B$26=RECHERCHE!$C$3),0))} -> Aléatoire | J8: Résultat 1 | K8: {=INDIRECT("BDD!"&CHAR(COLUMN()+64+ROW()-16)&MATCH(1,(BDD!$A$1:$A$26=RECHERCHE!$K$7)*(BDD!$B$1:$B$26=RECHERCHE!$L$7),0))} -> Négatif
A9: Résultat 6 | B9: {=INDIRECT("BDD!"&CHAR(COLUMN()+61+ROW())&MATCH(1,(BDD!$A$1:$A$26=RECHERCHE!$B$3)*(BDD!$B$1:$B$26=RECHERCHE!$C$3),0))} -> Négatif | J9: Résultat 2 | K9: {=INDIRECT("BDD!"&CHAR(COLUMN()+64+ROW()-16)&MATCH(1,(BDD!$A$1:$A$26=RECHERCHE!$K$7)*(BDD!$B$1:$B$26=RECHERCHE!$L$7),0))} -> KO
A10: Résultat 7 | B10: {=INDIRECT("BDD!"&CHAR(COLUMN()+61+ROW())&MATCH(1,(BDD!$A$1:$A$26=RECHERCHE!$B$3)*(BDD!$B$1:$B$26=RECHERCHE!$C$3),0))} -> BON | J10: Résultat 3 | K10: {=INDIRECT("BDD!"&CHAR(COLUMN()+64+ROW()-16)&MATCH(1,(BDD!$A$1:$A$26=RECHERCHE!$K$7)*(BDD!$B$1:$B$26=RECHERCHE!$L$7),0))} -> Médiocre
A11: Résultat 8 | B11: {=INDIRECT("BDD!"&CHAR(COLUMN()+61+ROW())&MATCH(1,(BDD!$A$1:$A$26=RECHERCHE!$B$3)*(BDD!$B$1:$B$26=RECHERCHE!$C$3),0))} -> KO | J11: Résultat 4 | K11: {=INDIRECT("BDD!"&CHAR(COLUMN()+64+ROW()-16)&MATCH(1,(BDD!$A$1:$A$26=RECHERCHE!$K$7)*(BDD!$B$1:$B$26=RECHERCHE!$L$7),0))} -> Négatif
A12: Résultat 9 | B12: {=INDIRECT("BDD!"&CHAR(COLUMN()+61+ROW())&MATCH(1,(BDD!$A$1:$A$26=RECHERCHE!$B$3)*(BDD!$B$1:$B$26=RECHERCHE!$C$3),0))} -> Correct | J12: Résultat 5 | K12: {=INDIRECT("BDD!"&CHAR(COLUMN()+64+ROW()-16)&MATCH(1,(BDD!$A$1:$A$26=RECHERCHE!$K$7)*(BDD!$B$1:$B$26=RECHERCHE!$L$7),0))} -> Aléatoire
A13: Résultat 10 | B13: {=INDIRECT("BDD!"&CHAR(COLUMN()+61+ROW())&MATCH(1,(BDD!$A$1:$A$26=RECHERCHE!$B$3)*(BDD!$B$1:$B$26=RECHERCHE!$C$3),0))} -> Médiocre | J13: Résultat 6 | K13: {=INDIRECT("BDD!"&CHAR(COLUMN()+64+ROW()-16)&MATCH(1,(BDD!$A$1:$A$26=RECHERCHE!$K$7)*(BDD!$B$1:$B$26=RECHERCHE!$L$7),0))} -> Négatif
A14: Résultat 11 | B14: {=INDIRECT("BDD!"&CHAR(COLUMN()+61+ROW())&MATCH(1,(BDD!$A$1:$A$26=RECHERCHE!$B$3)*(BDD!$B$1:$B$26=RECHERCHE!$C$3),0))} -> Usure | J14: Résultat 7 | K14: {=INDIRECT("BDD!"&CHAR(COLUMN()+64+ROW()-16)&MATCH(1,(BDD!$A$1:$A$26=RECHERCHE!$K$7)*(BDD!$B$1:$B$26=RECHERCHE!$L$7),0))} -> BON
A15: Résultat 12 | B15: {=INDIRECT("BDD!"&CHAR(COLUMN()+61+ROW())&MATCH(1,(BDD!$A$1:$A$26=RECHERCHE!$B$3)*(BDD!$B$1:$B$26=RECHERCHE!$C$3),0))} -> Aléatoire | J15: Résultat 8 | K15: {=INDIRECT("BDD!"&CHAR(COLUMN()+64+ROW()-16)&MATCH(1,(BDD!$A$1:$A$26=RECHERCHE!$K$7)*(BDD!$B$1:$B$26=RECHERCHE!$L$7),0))} -> KO
A16: Résultat 13 | B16: {=INDIRECT("BDD!"&CHAR(COLUMN()+61+ROW())&MATCH(1,(BDD!$A$1:$A$26=RECHERCHE!$B$3)*(BDD!$B$1:$B$26=RECHERCHE!$C$3),0))} -> Négatif | J16: Résultat 9 | K16: {=INDIRECT("BDD!"&CHAR(COLUMN()+64+ROW()-16)&MATCH(1,(BDD!$A$1:$A$26=RECHERCHE!$K$7)*(BDD!$B$1:$B$26=RECHERCHE!$L$7),0))} -> Correct
A17: Résultat 14 | B17: {=INDIRECT("BDD!"&CHAR(COLUMN()+61+ROW())&MATCH(1,(BDD!$A$1:$A$26=RECHERCHE!$B$3)*(BDD!$B$1:$B$26=RECHERCHE!$C$3),0))} -> Médiocre | J17: Résultat 10 | K17: {=INDIRECT("BDD!"&CHAR(COLUMN()+64+ROW()-16)&MATCH(1,(BDD!$A$1:$A$26=RECHERCHE!$K$7)*(BDD!$B$1:$B$26=RECHERCHE!$L$7),0))} -> Médiocre
J18: Résultat 11 | K18: {=INDIRECT("BDD!"&CHAR(COLUMN()+64+ROW()-16)&MATCH(1,(BDD!$A$1:$A$26=RECHERCHE!$K$7)*(BDD!$B$1:$B$26=RECHERCHE!$L$7),0))} -> Usure
J19: Résultat 12 | K19: {=INDIRECT("BDD!"&CHAR(COLUMN()+64+ROW()-16)&MATCH(1,(BDD!$A$1:$A$26=RECHERCHE!$K$7)*(BDD!$B$1:$B$26=RECHERCHE!$L$7),0))} -> Aléatoire
J20: Résultat 13 | K20: {=INDIRECT("BDD!"&CHAR(COLUMN()+64+ROW()-16)&MATCH(1,(BDD!$A$1:$A$26=RECHERCHE!$K$7)*(BDD!$B$1:$B$26=RECHERCHE!$L$7),0))} -> Négatif
J21: Résultat 14 | K21: {=INDIRECT("BDD!"&CHAR(COLUMN()+64+ROW()-16)&MATCH(1,(BDD!$A$1:$A$26=RECHERCHE!$K$7)*(BDD!$B$1:$B$26=RECHERCHE!$L$7),0))} -> Médiocre
