Workbook

Sheet A
A1: {=SOMME(SI(ESTNUM(B5:AS5);B5:AS5))} | B1: 50m | C1: Points | D1: 60m - Salle | E1: Points | F1: 80m | G1: Points | H1: 100m | I1: Points | J1: 1000m | K1: Points | L1: 2000m | M1: Points | N1: 50m haies | O1: Points | P1: 60m haies | Q1: Points | R1: 80m haies (76) | S1: Points | T1: 200m haies (76) | U1: Points | V1: Hauteur | W1: Points | X1: Perche | Y1: Points | Z1: Longueur | AA1: Points | AB1: Triple saut | AC1: Points | AD1: Poids (3kg) | AE1: Points | AF1: Disque | AG1: Points | AH1: Marteau (3 kg) | AI1: Points | AJ1: Javelot (500 g) | AK1: Points | AL1: 2000 marche | AM1: Points | AN1: 3000 marche | AO1: Points | AP1: 4 x 60m | AQ1: Points | AR1: 4 x 60m Mixte | AS1: Points
A2: ATHLÈTES | N2: (76) Salle et | P2: (76) - | AF2: (0.8 kg)
A3: =SI(ET(B4>=Feuil3!B148;B4<Feuil3!B149);50;SI(ET(B4>=Feuil3!B149;B4<Feuil3!B150);49;SI(ET(B4>=Feuil3!B150;B4<Feuil3!B151);48;SI(ET(B4>=Feuil3!B151;B4<Feuil3!B152);47;SI(ET(B4>=Feuil3!B152;B4<Feuil3!B153);46;SI(ET(B4>=Feuil3!B153;B4<Feuil3!B154);45;SI(ET(B4>=Feuil3!B154;B4<Feuil3!B155);44;SI(ET(B4>=Feuil3!B155;B4<=Feuil3!B156);43;SI(ET(B4>=Feuil3!B156;B4<Feuil3!B157);42;SI(ET(B4>=Feuil3!B157;B4<Feuil3!B158);41;SI(ET(B4>=Feuil3!B158;B4<Feuil3!B159);40;SI(ET(B4>=Feuil3!B159;B4<Feuil3!B160);39;SI(ET(B4>=Feuil3!B160;B4<Feuil3!B161);38;SI(ET(B4>=Feuil3!B161;B4<=Feuil3!B162);37;SI(ET(B4>=Feuil3!B162;B4<Feuil3!B163);36;SI(ET(B4>=Feuil3!B163;B4<Feuil3!B164);35;SI(ET(B4>=Feuil3!B164;B4<Feuil3!B165);34;SI(ET(B4>=Feuil3!B165;B4<Feuil3!B166);33;SI(ET(B4>=Feuil3!B166;B4<Feuil3!B167);32;SI(ET(B4>=Feuil3!B167;B4<Feuil3!B168);31;SI(ET(B4>=Feuil3!B168;B4<Feuil3!B169);30;SI(ET(B4>=Feuil3!B169;B4<Feuil3!B170);29;SI(ET(B4>=Feuil3!B170;B4<Feuil3!B171);28;SI(ET(B4>=Feuil3!B171;B4<Feuil3!B172);27;SI(ET(B4>=Feuil3!B172;B4<Feuil3!B173);26;SI(ET(B4>=Feuil3!B173;B4<Feuil3!B174);25;SI(ET(B4>=Feuil3!B174;B4<Feuil3!B175);24;SI(ET(B4>=Feuil3!B175;B4<Feuil3!B176);23;SI(ET(B4>=Feuil3!B176;B4<Feuil3!B177);22;SI(ET(B4>=Feuil3!B177;B4<Feuil3!B178);21;SI(ET(B4>=Feuil3!B178;B4<Feuil3!B179);20;SI(ET(B4>=Feuil3!B179;B4<Feuil3!B180);19;SI(ET(B4>=Feuil3!B180;B4<Feuil3!B181);18;SI(ET(B4>=Feuil3!B181;B4<Feuil3!B182);17;SI(ET(B4>=Feuil3!B182;B4<Feuil3!B183);16;SI(ET(B4>=Feuil3!B183;B4<Feuil3!B184);15;SI(ET(B4>=Feuil3!B184;B4<Feuil3!B185);14;SI(ET(B4>=Feuil3!B185;B4<Feuil3!B186);13;SI(ET(B4>=Feuil3!B186;B4<Feuil3!B187);12;SI(ET(B4>=Feuil3!B187;B4<Feuil3!B188);11;SI(ET(B4>=Feuil3!B188;B4<Feuil3!B189);10;SI(ET(B4>=Feuil3!B189;B4<Feuil3!B190);9;SI(ET(B4>=Feuil3!B190;B4<Feuil3!B191);8;SI(ET(B4>=Feuil3!B191;B4<Feuil3!B192);7;SI(ET(B4>=Feuil3!B192;B4<Feuil3!B193);6;SI(ET(B4>=Feuil3!B193;B4<Feuil3!B194);5;SI(ET(B4>=Feuil3!B194;B4<Feuil3!B185);4;SI(ET(B4>=Feuil3!B195;B4<Feuil3!B196);3;SI(ET(B4>=Feuil3!B196;B4<Feuil3!B197);2;SI(ET(B4>=Feuil3!B197;B4<Feuil3!B198);1;0)))))))))))))))))))))))))))))))))))))))))))))))))) | N3: Piste | P3: Salle
A4: 1 | B4: 6.87 | C4: =IF(AND(B4>=A!B148,B4<A!B149),50,IF(AND(B4>=A!B149,B4<A!B150),49,IF(AND(B4>=A!B150,B4<A!B151),48,IF(AND(B4>=A!B151,B4<A!B152),47,IF(AND(B4>=A!B152,B4<A!B153),46,IF(AND(B4>=A!B153,B4<A!B154),45,IF(AND(B4>=A!B154,B4<A!B155),44,IF(AND(B4>=A!B155,B4<=A!B156),43,IF(AND(B4>=A!B156,B4<A!B157),42,IF(AND(B4>=A!B157,B4<A!B158),41,IF(AND(B4>=A!B158,B4<A!B159),40,IF(AND(B4>=A!B159,B4<A!B160),39,IF(AND(B4>=A!B160,B4<A!B161),38,IF(AND(B4>=A!B161,B4<=A!B162),37,IF(AND(B4>=A!B162,B4<A!B163),36,IF(AND(B4>=A!B163,B4<A!B164),35,IF(AND(B4>=A!B164,B4<A!B165),34,IF(AND(B4>=A!B165,B4<A!B166),33,IF(AND(B4>=A!B166,B4<A!B167),32,IF(AND(B4>=A!B167,B4<A!B168),31,IF(AND(B4>=A!B168,B4<A!B169),30,IF(AND(B4>=A!B169,B4<A!B170),29,IF(AND(B4>=A!B170,B4<A!B171),28,IF(AND(B4>=A!B171,B4<A!B172),27,IF(AND(B4>=A!B172,B4<A!B173),26,IF(AND(B4>=A!B173,B4<A!B174),25,IF(AND(B4>=A!B174,B4<A!B175),24,IF(AND(B4>=A!B175,B4<A!B176),23,IF(AND(B4>=A!B176,B4<A!B177),22,IF(AND(B4>=A!B177,B4<A!B178),21,IF(AND(B4>=A!B178,B4<A!B179),20,IF(AND(B4>=A!B179,B4<A!B180),19,IF(AND(B4>=A!B180,B4<A!B181),18,IF(AND(B4>=A!B181,B4<A!B182),17,IF(AND(B4>=A!B182,B4<A!B183),16,IF(AND(B4>=A!B183,B4<A!B184),15,IF(AND(B4>=A!B184,B4<A!B185),14,IF(AND(B4>=A!B185,B4<A!B186),13,IF(AND(B4>=A!B186,B4<A!B187),12,IF(AND(B4>=A!B187,B4<A!B188),11,IF(AND(B4>=A!B188,B4<A!B189),10,IF(AND(B4>=A!B189,B4<A!B190),9,IF(AND(B4>=A!B190,B4<A!B191),8,IF(AND(B4>=A!B191,B4<A!B192),7,IF(AND(B4>=A!B192,B4<A!B193),6,IF(AND(B4>=A!B193,B4<A!B194),5,IF(AND(B4>=A!B194,B4<A!B185),4,IF(AND(B4>=A!B195,B4<A!B196),3,IF(AND(B4>=A!B196,B4<A!B197),2,IF(AND(B4>=A!B197,B4<A!B198),1,0)))))))))))))))))))))))))))))))))))))))))))))))))) -> 41 | D4: 9.85 | E4: =IF(AND(D4>=A!D148,D4<A!D149),50,IF(AND(D4>=A!D149,D4<A!D150),49,IF(AND(D4>=A!D150,D4<A!D151),48,IF(AND(D4>=A!D151,D4<A!D152),47,IF(AND(D4>=A!D152,D4<A!D153),46,IF(AND(D4>=A!D153,D4<A!D154),45,IF(AND(D4>=A!D154,D4<A!D155),44,IF(AND(D4>=A!D155,D4<=A!D156),43,IF(AND(D4>=A!D156,D4<A!D157),42,IF(AND(D4>=A!D157,D4<A!D158),41,IF(AND(D4>=A!D158,D4<A!D159),40,IF(AND(D4>=A!D159,D4<A!D160),39,IF(AND(D4>=A!D160,D4<A!D161),38,IF(AND(D4>=A!D161,D4<=A!D162),37,IF(AND(D4>=A!D162,D4<A!D163),36,IF(AND(D4>=A!D163,D4<A!D164),35,IF(AND(D4>=A!D164,D4<A!D165),34,IF(AND(D4>=A!D165,D4<A!D166),33,IF(AND(D4>=A!D166,D4<A!D167),32,IF(AND(D4>=A!D167,D4<A!D168),31,IF(AND(D4>=A!D168,D4<A!D169),30,IF(AND(D4>=A!D169,D4<A!D170),29,IF(AND(D4>=A!D170,D4<A!D171),28,IF(AND(D4>=A!D171,D4<A!D172),27,IF(AND(D4>=A!D172,D4<A!D173),26,IF(AND(D4>=A!D173,D4<A!D174),25,IF(AND(D4>=A!D174,D4<A!D175),24,IF(AND(D4>=A!D175,D4<A!D176),23,IF(AND(D4>=A!D176,D4<A!D177),22,IF(AND(D4>=A!D177,D4<A!D178),21,IF(AND(D4>=A!D178,D4<A!D179),20,IF(AND(D4>=A!D179,D4<A!D180),19,IF(AND(D4>=A!D180,D4<A!D181),18,IF(AND(D4>=A!D181,D4<A!D182),17,IF(AND(D4>=A!D182,D4<A!D183),16,IF(AND(D4>=A!D183,D4<A!D184),15,IF(AND(D4>=A!D184,D4<A!D185),14,IF(AND(D4>=A!D185,D4<A!D186),13,IF(AND(D4>=A!D186,D4<A!D187),12,IF(AND(D4>=A!D187,D4<A!D188),11,IF(AND(D4>=A!D188,D4<A!D189),10,IF(AND(D4>=A!D189,D4<A!D190),9,IF(AND(D4>=A!D190,D4<A!D191),8,IF(AND(D4>=A!D191,D4<A!D192),7,IF(AND(D4>=A!D192,D4<A!D193),6,IF(AND(D4>=A!D193,D4<A!D194),5,IF(AND(D4>=A!D194,D4<A!D185),4,IF(AND(D4>=A!D195,D4<A!D196),3,IF(AND(D4>=A!D196,D4<A!D197),2,IF(AND(D4>=A!D197,D4<A!D198),1,0)))))))))))))))))))))))))))))))))))))))))))))))))) -> 17 | F4: 10.03 | G4: =IF(AND(F4>=A!F148,F4<A!F149),50,IF(AND(F4>=A!F149,F4<A!F150),49,IF(AND(F4>=A!F150,F4<A!F151),48,IF(AND(F4>=A!F151,F4<A!F152),47,IF(AND(F4>=A!F152,F4<A!F153),46,IF(AND(F4>=A!F153,F4<A!F154),45,IF(AND(F4>=A!F154,F4<A!F155),44,IF(AND(F4>=A!F155,F4<=A!F156),43,IF(AND(F4>=A!F156,F4<A!F157),42,IF(AND(F4>=A!F157,F4<A!F158),41,IF(AND(F4>=A!F158,F4<A!F159),40,IF(AND(F4>=A!F159,F4<A!F160),39,IF(AND(F4>=A!F160,F4<A!F161),38,IF(AND(F4>=A!F161,F4<=A!F162),37,IF(AND(F4>=A!F162,F4<A!F163),36,IF(AND(F4>=A!F163,F4<A!F164),35,IF(AND(F4>=A!F164,F4<A!F165),34,IF(AND(F4>=A!F165,F4<A!F166),33,IF(AND(F4>=A!F166,F4<A!F167),32,IF(AND(F4>=A!F167,F4<A!F168),31,IF(AND(F4>=A!F168,F4<A!F169),30,IF(AND(F4>=A!F169,F4<A!F170),29,IF(AND(F4>=A!F170,F4<A!F171),28,IF(AND(F4>=A!F171,F4<A!F172),27,IF(AND(F4>=A!F172,F4<A!F173),26,IF(AND(F4>=A!F173,F4<A!F174),25,IF(AND(F4>=A!F174,F4<A!F175),24,IF(AND(F4>=A!F175,F4<A!F176),23,IF(AND(F4>=A!F176,F4<A!F177),22,IF(AND(F4>=A!F177,F4<A!F178),21,IF(AND(F4>=A!F178,F4<A!F179),20,IF(AND(F4>=A!F179,F4<A!F180),19,IF(AND(F4>=A!F180,F4<A!F181),18,IF(AND(F4>=A!F181,F4<A!F182),17,IF(AND(F4>=A!F182,F4<A!F183),16,IF(AND(F4>=A!F183,F4<A!F184),15,IF(AND(F4>=A!F184,F4<A!F185),14,IF(AND(F4>=A!F185,F4<A!F186),13,IF(AND(F4>=A!F186,F4<A!F187),12,IF(AND(F4>=A!F187,F4<A!F188),11,IF(AND(F4>=A!F188,F4<A!F189),10,IF(AND(F4>=A!F189,F4<A!F190),9,IF(AND(F4>=A!F190,F4<A!F191),8,IF(AND(F4>=A!F191,F4<A!F192),7,IF(AND(F4>=A!F192,F4<A!F193),6,IF(AND(F4>=A!F193,F4<A!F194),5,IF(AND(F4>=A!F194,F4<A!F185),4,IF(AND(F4>=A!F195,F4<A!F196),3,IF(AND(F4>=A!F196,F4<A!F197),2,IF(AND(F4>=A!F197,F4<A!F198),1,0)))))))))))))))))))))))))))))))))))))))))))))))))) -> 43 | H4: 12.81 | I4: =IF(AND(H4>=A!H148,H4<A!H149),50,IF(AND(H4>=A!H149,H4<A!H150),49,IF(AND(H4>=A!H150,H4<A!H151),48,IF(AND(H4>=A!H151,H4<A!H152),47,IF(AND(H4>=A!H152,H4<A!H153),46,IF(AND(H4>=A!H153,H4<A!H154),45,IF(AND(H4>=A!H154,H4<A!H155),44,IF(AND(H4>=A!H155,H4<=A!H156),43,IF(AND(H4>=A!H156,H4<A!H157),42,IF(AND(H4>=A!H157,H4<A!H158),41,IF(AND(H4>=A!H158,H4<A!H159),40,IF(AND(H4>=A!H159,H4<A!H160),39,IF(AND(H4>=A!H160,H4<A!H161),38,IF(AND(H4>=A!H161,H4<=A!H162),37,IF(AND(H4>=A!H162,H4<A!H163),36,IF(AND(H4>=A!H163,H4<A!H164),35,IF(AND(H4>=A!H164,H4<A!H165),34,IF(AND(H4>=A!H165,H4<A!H166),33,IF(AND(H4>=A!H166,H4<A!H167),32,IF(AND(H4>=A!H167,H4<A!H168),31,IF(AND(H4>=A!H168,H4<A!H169),30,IF(AND(H4>=A!H169,H4<A!H170),29,IF(AND(H4>=A!H170,H4<A!H171),28,IF(AND(H4>=A!H171,H4<A!H172),27,IF(AND(H4>=A!H172,H4<A!H173),26,IF(AND(H4>=A!H173,H4<A!H174),25,IF(AND(H4>=A!H174,H4<A!H175),24,IF(AND(H4>=A!H175,H4<A!H176),23,IF(AND(H4>=A!H176,H4<A!H177),22,IF(AND(H4>=A!H177,H4<A!H178),21,IF(AND(H4>=A!H178,H4<A!H179),20,IF(AND(H4>=A!H179,H4<A!H180),19,IF(AND(H4>=A!H180,H4<A!H181),18,IF(AND(H4>=A!H181,H4<A!H182),17,IF(AND(H4>=A!H182,H4<A!H183),16,IF(AND(H4>=A!H183,H4<A!H184),15,IF(AND(H4>=A!H184,H4<A!H185),14,IF(AND(H4>=A!H185,H4<A!H186),13,IF(AND(H4>=A!H186,H4<A!H187),12,IF(AND(H4>=A!H187,H4<A!H188),11,IF(AND(H4>=A!H188,H4<A!H189),10,IF(AND(H4>=A!H189,H4<A!H190),9,IF(AND(H4>=A!H190,H4<A!H191),8,IF(AND(H4>=A!H191,H4<A!H192),7,IF(AND(H4>=A!H192,H4<A!H193),6,IF(AND(H4>=A!H193,H4<A!H194),5,IF(AND(H4>=A!H194,H4<A!H185),4,IF(AND(H4>=A!H195,H4<A!H196),3,IF(AND(H4>=A!H196,H4<A!H197),2,IF(AND(H4>=A!H197,H4<A!H198),1,0)))))))))))))))))))))))))))))))))))))))))))))))))) -> 40 | J4: 3.2204 | K4: =IF(AND(J4>=A!J148,J4<A!J149),50,IF(AND(J4>=A!J149,J4<A!J150),49,IF(AND(J4>=A!J150,J4<A!J151),48,IF(AND(J4>=A!J151,J4<A!J152),47,IF(AND(J4>=A!J152,J4<A!J153),46,IF(AND(J4>=A!J153,J4<A!J154),45,IF(AND(J4>=A!J154,J4<A!J155),44,IF(AND(J4>=A!J155,J4<=A!J156),43,IF(AND(J4>=A!J156,J4<A!J157),42,IF(AND(J4>=A!J157,J4<A!J158),41,IF(AND(J4>=A!J158,J4<A!J159),40,IF(AND(J4>=A!J159,J4<A!J160),39,IF(AND(J4>=A!J160,J4<A!J161),38,IF(AND(J4>=A!J161,J4<=A!J162),37,IF(AND(J4>=A!J162,J4<A!J163),36,IF(AND(J4>=A!J163,J4<A!J164),35,IF(AND(J4>=A!J164,J4<A!J165),34,IF(AND(J4>=A!J165,J4<A!J166),33,IF(AND(J4>=A!J166,J4<A!J167),32,IF(AND(J4>=A!J167,J4<A!J168),31,IF(AND(J4>=A!J168,J4<A!J169),30,IF(AND(J4>=A!J169,J4<A!J170),29,IF(AND(J4>=A!J170,J4<A!J171),28,IF(AND(J4>=A!J171,J4<A!J172),27,IF(AND(J4>=A!J172,J4<A!J173),26,IF(AND(J4>=A!J173,J4<A!J174),25,IF(AND(J4>=A!J174,J4<A!J175),24,IF(AND(J4>=A!J175,J4<A!J176),23,IF(AND(J4>=A!J176,J4<A!J177),22,IF(AND(J4>=A!J177,J4<A!J178),21,IF(AND(J4>=A!J178,J4<A!J179),20,IF(AND(J4>=A!J179,J4<A!J180),19,IF(AND(J4>=A!J180,J4<A!J181),18,IF(AND(J4>=A!J181,J4<A!J182),17,IF(AND(J4>=A!J182,J4<A!J183),16,IF(AND(J4>=A!J183,J4<A!J184),15,IF(AND(J4>=A!J184,J4<A!J185),14,IF(AND(J4>=A!J185,J4<A!J186),13,IF(AND(J4>=A!J186,J4<A!J187),12,IF(AND(J4>=A!J187,J4<A!J188),11,IF(AND(J4>=A!J188,J4<A!J189),10,IF(AND(J4>=A!J189,J4<A!J190),9,IF(AND(J4>=A!J190,J4<A!J191),8,IF(AND(J4>=A!J191,J4<A!J192),7,IF(AND(J4>=A!J192,J4<A!J193),6,IF(AND(J4>=A!J193,J4<A!J194),5,IF(AND(J4>=A!J194,J4<A!J185),4,IF(AND(J4>=A!J195,J4<A!J196),3,IF(AND(J4>=A!J196,J4<A!J197),2,IF(AND(J4>=A!J197,J4<A!J198),1,0)))))))))))))))))))))))))))))))))))))))))))))))))) -> 33 | L4: 10.1789 | M4: =IF(AND(L4>=A!L148,L4<A!L149),50,IF(AND(L4>=A!L149,L4<A!L150),49,IF(AND(L4>=A!L150,L4<A!L151),48,IF(AND(L4>=A!L151,L4<A!L152),47,IF(AND(L4>=A!L152,L4<A!L153),46,IF(AND(L4>=A!L153,L4<A!L154),45,IF(AND(L4>=A!L154,L4<A!L155),44,IF(AND(L4>=A!L155,L4<=A!L156),43,IF(AND(L4>=A!L156,L4<A!L157),42,IF(AND(L4>=A!L157,L4<A!L158),41,IF(AND(L4>=A!L158,L4<A!L159),40,IF(AND(L4>=A!L159,L4<A!L160),39,IF(AND(L4>=A!L160,L4<A!L161),38,IF(AND(L4>=A!L161,L4<=A!L162),37,IF(AND(L4>=A!L162,L4<A!L163),36,IF(AND(L4>=A!L163,L4<A!L164),35,IF(AND(L4>=A!L164,L4<A!L165),34,IF(AND(L4>=A!L165,L4<A!L166),33,IF(AND(L4>=A!L166,L4<A!L167),32,IF(AND(L4>=A!L167,L4<A!L168),31,IF(AND(L4>=A!L168,L4<A!L169),30,IF(AND(L4>=A!L169,L4<A!L170),29,IF(AND(L4>=A!L170,L4<A!L171),28,IF(AND(L4>=A!L171,L4<A!L172),27,IF(AND(L4>=A!L172,L4<A!L173),26,IF(AND(L4>=A!L173,L4<A!L174),25,IF(AND(L4>=A!L174,L4<A!L175),24,IF(AND(L4>=A!L175,L4<A!L176),23,IF(AND(L4>=A!L176,L4<A!L177),22,IF(AND(L4>=A!L177,L4<A!L178),21,IF(AND(L4>=A!L178,L4<A!L179),20,IF(AND(L4>=A!L179,L4<A!L180),19,IF(AND(L4>=A!L180,L4<A!L181),18,IF(AND(L4>=A!L181,L4<A!L182),17,IF(AND(L4>=A!L182,L4<A!L183),16,IF(AND(L4>=A!L183,L4<A!L184),15,IF(AND(L4>=A!L184,L4<A!L185),14,IF(AND(L4>=A!L185,L4<A!L186),13,IF(AND(L4>=A!L186,L4<A!L187),12,IF(AND(L4>=A!L187,L4<A!L188),11,IF(AND(L4>=A!L188,L4<A!L189),10,IF(AND(L4>=A!L189,L4<A!L190),9,IF(AND(L4>=A!L190,L4<A!L191),8,IF(AND(L4>=A!L191,L4<A!L192),7,IF(AND(L4>=A!L192,L4<A!L193),6,IF(AND(L4>=A!L193,L4<A!L194),5,IF(AND(L4>=A!L194,L4<A!L185),4,IF(AND(L4>=A!L195,L4<A!L196),3,IF(AND(L4>=A!L196,L4<A!L197),2,IF(AND(L4>=A!L197,L4<A!L198),1,0)))))))))))))))))))))))))))))))))))))))))))))))))) -> 16 | N4: 8.22 | O4: =IF(AND(N4>=A!N148,N4<A!N149),50,IF(AND(N4>=A!N149,N4<A!N150),49,IF(AND(N4>=A!N150,N4<A!N151),48,IF(AND(N4>=A!N151,N4<A!N152),47,IF(AND(N4>=A!N152,N4<A!N153),46,IF(AND(N4>=A!N153,N4<A!N154),45,IF(AND(N4>=A!N154,N4<A!N155),44,IF(AND(N4>=A!N155,N4<=A!N156),43,IF(AND(N4>=A!N156,N4<A!N157),42,IF(AND(N4>=A!N157,N4<A!N158),41,IF(AND(N4>=A!N158,N4<A!N159),40,IF(AND(N4>=A!N159,N4<A!N160),39,IF(AND(N4>=A!N160,N4<A!N161),38,IF(AND(N4>=A!N161,N4<=A!N162),37,IF(AND(N4>=A!N162,N4<A!N163),36,IF(AND(N4>=A!N163,N4<A!N164),35,IF(AND(N4>=A!N164,N4<A!N165),34,IF(AND(N4>=A!N165,N4<A!N166),33,IF(AND(N4>=A!N166,N4<A!N167),32,IF(AND(N4>=A!N167,N4<A!N168),31,IF(AND(N4>=A!N168,N4<A!N169),30,IF(AND(N4>=A!N169,N4<A!N170),29,IF(AND(N4>=A!N170,N4<A!N171),28,IF(AND(N4>=A!N171,N4<A!N172),27,IF(AND(N4>=A!N172,N4<A!N173),26,IF(AND(N4>=A!N173,N4<A!N174),25,IF(AND(N4>=A!N174,N4<A!N175),24,IF(AND(N4>=A!N175,N4<A!N176),23,IF(AND(N4>=A!N176,N4<A!N177),22,IF(AND(N4>=A!N177,N4<A!N178),21,IF(AND(N4>=A!N178,N4<A!N179),20,IF(AND(N4>=A!N179,N4<A!N180),19,IF(AND(N4>=A!N180,N4<A!N181),18,IF(AND(N4>=A!N181,N4<A!N182),17,IF(AND(N4>=A!N182,N4<A!N183),16,IF(AND(N4>=A!N183,N4<A!N184),15,IF(AND(N4>=A!N184,N4<A!N185),14,IF(AND(N4>=A!N185,N4<A!N186),13,IF(AND(N4>=A!N186,N4<A!N187),12,IF(AND(N4>=A!N187,N4<A!N188),11,IF(AND(N4>=A!N188,N4<A!N189),10,IF(AND(N4>=A!N189,N4<A!N190),9,IF(AND(N4>=A!N190,N4<A!N191),8,IF(AND(N4>=A!N191,N4<A!N192),7,IF(AND(N4>=A!N192,N4<A!N193),6,IF(AND(N4>=A!N193,N4<A!N194),5,IF(AND(N4>=A!N194,N4<A!N185),4,IF(AND(N4>=A!N195,N4<A!N196),3,IF(AND(N4>=A!N196,N4<A!N197),2,IF(AND(N4>=A!N197,N4<A!N198),1,0)))))))))))))))))))))))))))))))))))))))))))))))))) -> 39 | P4: 10.73 | Q4: =IF(AND(P4>=A!P148,P4<A!P149),50,IF(AND(P4>=A!P149,P4<A!P150),49,IF(AND(P4>=A!P150,P4<A!P151),48,IF(AND(P4>=A!P151,P4<A!P152),47,IF(AND(P4>=A!P152,P4<A!P153),46,IF(AND(P4>=A!P153,P4<A!P154),45,IF(AND(P4>=A!P154,P4<A!P155),44,IF(AND(P4>=A!P155,P4<=A!P156),43,IF(AND(P4>=A!P156,P4<A!P157),42,IF(AND(P4>=A!P157,P4<A!P158),41,IF(AND(P4>=A!P158,P4<A!P159),40,IF(AND(P4>=A!P159,P4<A!P160),39,IF(AND(P4>=A!P160,P4<A!P161),38,IF(AND(P4>=A!P161,P4<=A!P162),37,IF(AND(P4>=A!P162,P4<A!P163),36,IF(AND(P4>=A!P163,P4<A!P164),35,IF(AND(P4>=A!P164,P4<A!P165),34,IF(AND(P4>=A!P165,P4<A!P166),33,IF(AND(P4>=A!P166,P4<A!P167),32,IF(AND(P4>=A!P167,P4<A!P168),31,IF(AND(P4>=A!P168,P4<A!P169),30,IF(AND(P4>=A!P169,P4<A!P170),29,IF(AND(P4>=A!P170,P4<A!P171),28,IF(AND(P4>=A!P171,P4<A!P172),27,IF(AND(P4>=A!P172,P4<A!P173),26,IF(AND(P4>=A!P173,P4<A!P174),25,IF(AND(P4>=A!P174,P4<A!P175),24,IF(AND(P4>=A!P175,P4<A!P176),23,IF(AND(P4>=A!P176,P4<A!P177),22,IF(AND(P4>=A!P177,P4<A!P178),21,IF(AND(P4>=A!P178,P4<A!P179),20,IF(AND(P4>=A!P179,P4<A!P180),19,IF(AND(P4>=A!P180,P4<A!P181),18,IF(AND(P4>=A!P181,P4<A!P182),17,IF(AND(P4>=A!P182,P4<A!P183),16,IF(AND(P4>=A!P183,P4<A!P184),15,IF(AND(P4>=A!P184,P4<A!P185),14,IF(AND(P4>=A!P185,P4<A!P186),13,IF(AND(P4>=A!P186,P4<A!P187),12,IF(AND(P4>=A!P187,P4<A!P188),11,IF(AND(P4>=A!P188,P4<A!P189),10,IF(AND(P4>=A!P189,P4<A!P190),9,IF(AND(P4>=A!P190,P4<A!P191),8,IF(AND(P4>=A!P191,P4<A!P192),7,IF(AND(P4>=A!P192,P4<A!P193),6,IF(AND(P4>=A!P193,P4<A!P194),5,IF(AND(P4>=A!P194,P4<A!P185),4,IF(AND(P4>=A!P195,P4<A!P196),3,IF(AND(P4>=A!P196,P4<A!P197),2,IF(AND(P4>=A!P197,P4<A!P198),1,0)))))))))))))))))))))))))))))))))))))))))))))))))) -> 28 | R4: 11.76 | S4: =IF(AND(R4>=A!R148,R4<A!R149),50,IF(AND(R4>=A!R149,R4<A!R150),49,IF(AND(R4>=A!R150,R4<A!R151),48,IF(AND(R4>=A!R151,R4<A!R152),47,IF(AND(R4>=A!R152,R4<A!R153),46,IF(AND(R4>=A!R153,R4<A!R154),45,IF(AND(R4>=A!R154,R4<A!R155),44,IF(AND(R4>=A!R155,R4<=A!R156),43,IF(AND(R4>=A!R156,R4<A!R157),42,IF(AND(R4>=A!R157,R4<A!R158),41,IF(AND(R4>=A!R158,R4<A!R159),40,IF(AND(R4>=A!R159,R4<A!R160),39,IF(AND(R4>=A!R160,R4<A!R161),38,IF(AND(R4>=A!R161,R4<=A!R162),37,IF(AND(R4>=A!R162,R4<A!R163),36,IF(AND(R4>=A!R163,R4<A!R164),35,IF(AND(R4>=A!R164,R4<A!R165),34,IF(AND(R4>=A!R165,R4<A!R166),33,IF(AND(R4>=A!R166,R4<A!R167),32,IF(AND(R4>=A!R167,R4<A!R168),31,IF(AND(R4>=A!R168,R4<A!R169),30,IF(AND(R4>=A!R169,R4<A!R170),29,IF(AND(R4>=A!R170,R4<A!R171),28,IF(AND(R4>=A!R171,R4<A!R172),27,IF(AND(R4>=A!R172,R4<A!R173),26,IF(AND(R4>=A!R173,R4<A!R174),25,IF(AND(R4>=A!R174,R4<A!R175),24,IF(AND(R4>=A!R175,R4<A!R176),23,IF(AND(R4>=A!R176,R4<A!R177),22,IF(AND(R4>=A!R177,R4<A!R178),21,IF(AND(R4>=A!R178,R4<A!R179),20,IF(AND(R4>=A!R179,R4<A!R180),19,IF(AND(R4>=A!R180,R4<A!R181),18,IF(AND(R4>=A!R181,R4<A!R182),17,IF(AND(R4>=A!R182,R4<A!R183),16,IF(AND(R4>=A!R183,R4<A!R184),15,IF(AND(R4>=A!R184,R4<A!R185),14,IF(AND(R4>=A!R185,R4<A!R186),13,IF(AND(R4>=A!R186,R4<A!R187),12,IF(AND(R4>=A!R187,R4<A!R188),11,IF(AND(R4>=A!R188,R4<A!R189),10,IF(AND(R4>=A!R189,R4<A!R190),9,IF(AND(R4>=A!R190,R4<A!R191),8,IF(AND(R4>=A!R191,R4<A!R192),7,IF(AND(R4>=A!R192,R4<A!R193),6,IF(AND(R4>=A!R193,R4<A!R194),5,IF(AND(R4>=A!R194,R4<A!R185),4,IF(AND(R4>=A!R195,R4<A!R196),3,IF(AND(R4>=A!R196,R4<A!R197),2,IF(AND(R4>=A!R197,R4<A!R198),1,0)))))))))))))))))))))))))))))))))))))))))))))))))) -> 46 | T4: 39.64 | U4: =IF(AND(T4>=A!T148,T4<A!T149),50,IF(AND(T4>=A!T149,T4<A!T150),49,IF(AND(T4>=A!T150,T4<A!T151),48,IF(AND(T4>=A!T151,T4<A!T152),47,IF(AND(T4>=A!T152,T4<A!T153),46,IF(AND(T4>=A!T153,T4<A!T154),45,IF(AND(T4>=A!T154,T4<A!T155),44,IF(AND(T4>=A!T155,T4<=A!T156),43,IF(AND(T4>=A!T156,T4<A!T157),42,IF(AND(T4>=A!T157,T4<A!T158),41,IF(AND(T4>=A!T158,T4<A!T159),40,IF(AND(T4>=A!T159,T4<A!T160),39,IF(AND(T4>=A!T160,T4<A!T161),38,IF(AND(T4>=A!T161,T4<=A!T162),37,IF(AND(T4>=A!T162,T4<A!T163),36,IF(AND(T4>=A!T163,T4<A!T164),35,IF(AND(T4>=A!T164,T4<A!T165),34,IF(AND(T4>=A!T165,T4<A!T166),33,IF(AND(T4>=A!T166,T4<A!T167),32,IF(AND(T4>=A!T167,T4<A!T168),31,IF(AND(T4>=A!T168,T4<A!T169),30,IF(AND(T4>=A!T169,T4<A!T170),29,IF(AND(T4>=A!T170,T4<A!T171),28,IF(AND(T4>=A!T171,T4<A!T172),27,IF(AND(T4>=A!T172,T4<A!T173),26,IF(AND(T4>=A!T173,T4<A!T174),25,IF(AND(T4>=A!T174,T4<A!T175),24,IF(AND(T4>=A!T175,T4<A!T176),23,IF(AND(T4>=A!T176,T4<A!T177),22,IF(AND(T4>=A!T177,T4<A!T178),21,IF(AND(T4>=A!T178,T4<A!T179),20,IF(AND(T4>=A!T179,T4<A!T180),19,IF(AND(T4>=A!T180,T4<A!T181),18,IF(AND(T4>=A!T181,T4<A!T182),17,IF(AND(T4>=A!T182,T4<A!T183),16,IF(AND(T4>=A!T183,T4<A!T184),15,IF(AND(T4>=A!T184,T4<A!T185),14,IF(AND(T4>=A!T185,T4<A!T186),13,IF(AND(T4>=A!T186,T4<A!T187),12,IF(AND(T4>=A!T187,T4<A!T188),11,IF(AND(T4>=A!T188,T4<A!T189),10,IF(AND(T4>=A!T189,T4<A!T190),9,IF(AND(T4>=A!T190,T4<A!T191),8,IF(AND(T4>=A!T191,T4<A!T192),7,IF(AND(T4>=A!T192,T4<A!T193),6,IF(AND(T4>=A!T193,T4<A!T194),5,IF(AND(T4>=A!T194,T4<A!T185),4,IF(AND(T4>=A!T195,T4<A!T196),3,IF(AND(T4>=A!T196,T4<A!T197),2,IF(AND(T4>=A!T197,T4<A!T198),1,0)))))))))))))))))))))))))))))))))))))))))))))))))) -> 17 | V4: 1.29 | W4: =IF(AND(V4>=A!V148,V4<A!V149),50,IF(AND(V4>=A!V149,V4<A!V150),49,IF(AND(V4>=A!V150,V4<A!V151),48,IF(AND(V4>=A!V151,V4<A!V152),47,IF(AND(V4>=A!V152,V4<A!V153),46,IF(AND(V4>=A!V153,V4<A!V154),45,IF(AND(V4>=A!V154,V4<A!V155),44,IF(AND(V4>=A!V155,V4<=A!V156),43,IF(AND(V4>=A!V156,V4<A!V157),42,IF(AND(V4>=A!V157,V4<A!V158),41,IF(AND(V4>=A!V158,V4<A!V159),40,IF(AND(V4>=A!V159,V4<A!V160),39,IF(AND(V4>=A!V160,V4<A!V161),38,IF(AND(V4>=A!V161,V4<=A!V162),37,IF(AND(V4>=A!V162,V4<A!V163),36,IF(AND(V4>=A!V163,V4<A!V164),35,IF(AND(V4>=A!V164,V4<A!V165),34,IF(AND(V4>=A!V165,V4<A!V166),33,IF(AND(V4>=A!V166,V4<A!V167),32,IF(AND(V4>=A!V167,V4<A!V168),31,IF(AND(V4>=A!V168,V4<A!V169),30,IF(AND(V4>=A!V169,V4<A!V170),29,IF(AND(V4>=A!V170,V4<A!V171),28,IF(AND(V4>=A!V171,V4<A!V172),27,IF(AND(V4>=A!V172,V4<A!V173),26,IF(AND(V4>=A!V173,V4<A!V174),25,IF(AND(V4>=A!V174,V4<A!V175),24,IF(AND(V4>=A!V175,V4<A!V176),23,IF(AND(V4>=A!V176,V4<A!V177),22,IF(AND(V4>=A!V177,V4<A!V178),21,IF(AND(V4>=A!V178,V4<A!V179),20,IF(AND(V4>=A!V179,V4<A!V180),19,IF(AND(V4>=A!V180,V4<A!V181),18,IF(AND(V4>=A!V181,V4<A!V182),17,IF(AND(V4>=A!V182,V4<A!V183),16,IF(AND(V4>=A!V183,V4<A!V184),15,IF(AND(V4>=A!V184,V4<A!V185),14,IF(AND(V4>=A!V185,V4<A!V186),13,IF(AND(V4>=A!V186,V4<A!V187),12,IF(AND(V4>=A!V187,V4<A!V188),11,IF(AND(V4>=A!V188,V4<A!V189),10,IF(AND(V4>=A!V189,V4<A!V190),9,IF(AND(V4>=A!V190,V4<A!V191),8,IF(AND(V4>=A!V191,V4<A!V192),7,IF(AND(V4>=A!V192,V4<A!V193),6,IF(AND(V4>=A!V193,V4<A!V194),5,IF(AND(V4>=A!V194,V4<A!V185),4,IF(AND(V4>=A!V195,V4<A!V196),3,IF(AND(V4>=A!V196,V4<A!V197),2,IF(AND(V4>=A!V197,V4<A!V198),1,0)))))))))))))))))))))))))))))))))))))))))))))))))) -> 0 | X4: 3.87 | Y4: =IF(AND(X4>=A!X148,X4<A!X149),50,IF(AND(X4>=A!X149,X4<A!X150),49,IF(AND(X4>=A!X150,X4<A!X151),48,IF(AND(X4>=A!X151,X4<A!X152),47,IF(AND(X4>=A!X152,X4<A!X153),46,IF(AND(X4>=A!X153,X4<A!X154),45,IF(AND(X4>=A!X154,X4<A!X155),44,IF(AND(X4>=A!X155,X4<=A!X156),43,IF(AND(X4>=A!X156,X4<A!X157),42,IF(AND(X4>=A!X157,X4<A!X158),41,IF(AND(X4>=A!X158,X4<A!X159),40,IF(AND(X4>=A!X159,X4<A!X160),39,IF(AND(X4>=A!X160,X4<A!X161),38,IF(AND(X4>=A!X161,X4<=A!X162),37,IF(AND(X4>=A!X162,X4<A!X163),36,IF(AND(X4>=A!X163,X4<A!X164),35,IF(AND(X4>=A!X164,X4<A!X165),34,IF(AND(X4>=A!X165,X4<A!X166),33,IF(AND(X4>=A!X166,X4<A!X167),32,IF(AND(X4>=A!X167,X4<A!X168),31,IF(AND(X4>=A!X168,X4<A!X169),30,IF(AND(X4>=A!X169,X4<A!X170),29,IF(AND(X4>=A!X170,X4<A!X171),28,IF(AND(X4>=A!X171,X4<A!X172),27,IF(AND(X4>=A!X172,X4<A!X173),26,IF(AND(X4>=A!X173,X4<A!X174),25,IF(AND(X4>=A!X174,X4<A!X175),24,IF(AND(X4>=A!X175,X4<A!X176),23,IF(AND(X4>=A!X176,X4<A!X177),22,IF(AND(X4>=A!X177,X4<A!X178),21,IF(AND(X4>=A!X178,X4<A!X179),20,IF(AND(X4>=A!X179,X4<A!X180),19,IF(AND(X4>=A!X180,X4<A!X181),18,IF(AND(X4>=A!X181,X4<A!X182),17,IF(AND(X4>=A!X182,X4<A!X183),16,IF(AND(X4>=A!X183,X4<A!X184),15,IF(AND(X4>=A!X184,X4<A!X185),14,IF(AND(X4>=A!X185,X4<A!X186),13,IF(AND(X4>=A!X186,X4<A!X187),12,IF(AND(X4>=A!X187,X4<A!X188),11,IF(AND(X4>=A!X188,X4<A!X189),10,IF(AND(X4>=A!X189,X4<A!X190),9,IF(AND(X4>=A!X190,X4<A!X191),8,IF(AND(X4>=A!X191,X4<A!X192),7,IF(AND(X4>=A!X192,X4<A!X193),6,IF(AND(X4>=A!X193,X4<A!X194),5,IF(AND(X4>=A!X194,X4<A!X185),4,IF(AND(X4>=A!X195,X4<A!X196),3,IF(AND(X4>=A!X196,X4<A!X197),2,IF(AND(X4>=A!X197,X4<A!X198),1,0)))))))))))))))))))))))))))))))))))))))))))))))))) -> 0 | Z4: 5.31 | AA4: =IF(AND(Z4>=A!Z148,Z4<A!Z149),50,IF(AND(Z4>=A!Z149,Z4<A!Z150),49,IF(AND(Z4>=A!Z150,Z4<A!Z151),48,IF(AND(Z4>=A!Z151,Z4<A!Z152),47,IF(AND(Z4>=A!Z152,Z4<A!Z153),46,IF(AND(Z4>=A!Z153,Z4<A!Z154),45,IF(AND(Z4>=A!Z154,Z4<A!Z155),44,IF(AND(Z4>=A!Z155,Z4<=A!Z156),43,IF(AND(Z4>=A!Z156,Z4<A!Z157),42,IF(AND(Z4>=A!Z157,Z4<A!Z158),41,IF(AND(Z4>=A!Z158,Z4<A!Z159),40,IF(AND(Z4>=A!Z159,Z4<A!Z160),39,IF(AND(Z4>=A!Z160,Z4<A!Z161),38,IF(AND(Z4>=A!Z161,Z4<=A!Z162),37,IF(AND(Z4>=A!Z162,Z4<A!Z163),36,IF(AND(Z4>=A!Z163,Z4<A!Z164),35,IF(AND(Z4>=A!Z164,Z4<A!Z165),34,IF(AND(Z4>=A!Z165,Z4<A!Z166),33,IF(AND(Z4>=A!Z166,Z4<A!Z167),32,IF(AND(Z4>=A!Z167,Z4<A!Z168),31,IF(AND(Z4>=A!Z168,Z4<A!Z169),30,IF(AND(Z4>=A!Z169,Z4<A!Z170),29,IF(AND(Z4>=A!Z170,Z4<A!Z171),28,IF(AND(Z4>=A!Z171,Z4<A!Z172),27,IF(AND(Z4>=A!Z172,Z4<A!Z173),26,IF(AND(Z4>=A!Z173,Z4<A!Z174),25,IF(AND(Z4>=A!Z174,Z4<A!Z175),24,IF(AND(Z4>=A!Z175,Z4<A!Z176),23,IF(AND(Z4>=A!Z176,Z4<A!Z177),22,IF(AND(Z4>=A!Z177,Z4<A!Z178),21,IF(AND(Z4>=A!Z178,Z4<A!Z179),20,IF(AND(Z4>=A!Z179,Z4<A!Z180),19,IF(AND(Z4>=A!Z180,Z4<A!Z181),18,IF(AND(Z4>=A!Z181,Z4<A!Z182),17,IF(AND(Z4>=A!Z182,Z4<A!Z183),16,IF(AND(Z4>=A!Z183,Z4<A!Z184),15,IF(AND(Z4>=A!Z184,Z4<A!Z185),14,IF(AND(Z4>=A!Z185,Z4<A!Z186),13,IF(AND(Z4>=A!Z186,Z4<A!Z187),12,IF(AND(Z4>=A!Z187,Z4<A!Z188),11,IF(AND(Z4>=A!Z188,Z4<A!Z189),10,IF(AND(Z4>=A!Z189,Z4<A!Z190),9,IF(AND(Z4>=A!Z190,Z4<A!Z191),8,IF(AND(Z4>=A!Z191,Z4<A!Z192),7,IF(AND(Z4>=A!Z192,Z4<A!Z193),6,IF(AND(Z4>=A!Z193,Z4<A!Z194),5,IF(AND(Z4>=A!Z194,Z4<A!Z185),4,IF(AND(Z4>=A!Z195,Z4<A!Z196),3,IF(AND(Z4>=A!Z196,Z4<A!Z197),2,IF(AND(Z4>=A!Z197,Z4<A!Z198),1,0)))))))))))))))))))))))))))))))))))))))))))))))))) -> 0 | AB4: 11.87 | AC4: =IF(AND(AB4>=A!AB148,AB4<A!AB149),50,IF(AND(AB4>=A!AB149,AB4<A!AB150),49,IF(AND(AB4>=A!AB150,AB4<A!AB151),48,IF(AND(AB4>=A!AB151,AB4<A!AB152),47,IF(AND(AB4>=A!AB152,AB4<A!AB153),46,IF(AND(AB4>=A!AB153,AB4<A!AB154),45,IF(AND(AB4>=A!AB154,AB4<A!AB155),44,IF(AND(AB4>=A!AB155,AB4<=A!AB156),43,IF(AND(AB4>=A!AB156,AB4<A!AB157),42,IF(AND(AB4>=A!AB157,AB4<A!AB158),41,IF(AND(AB4>=A!AB158,AB4<A!AB159),40,IF(AND(AB4>=A!AB159,AB4<A!AB160),39,IF(AND(AB4>=A!AB160,AB4<A!AB161),38,IF(AND(AB4>=A!AB161,AB4<=A!AB162),37,IF(AND(AB4>=A!AB162,AB4<A!AB163),36,IF(AND(AB4>=A!AB163,AB4<A!AB164),35,IF(AND(AB4>=A!AB164,AB4<A!AB165),34,IF(AND(AB4>=A!AB165,AB4<A!AB166),33,IF(AND(AB4>=A!AB166,AB4<A!AB167),32,IF(AND(AB4>=A!AB167,AB4<A!AB168),31,IF(AND(AB4>=A!AB168,AB4<A!AB169),30,IF(AND(AB4>=A!AB169,AB4<A!AB170),29,IF(AND(AB4>=A!AB170,AB4<A!AB171),28,IF(AND(AB4>=A!AB171,AB4<A!AB172),27,IF(AND(AB4>=A!AB172,AB4<A!AB173),26,IF(AND(AB4>=A!AB173,AB4<A!AB174),25,IF(AND(AB4>=A!AB174,AB4<A!AB175),24,IF(AND(AB4>=A!AB175,AB4<A!AB176),23,IF(AND(AB4>=A!AB176,AB4<A!AB177),22,IF(AND(AB4>=A!AB177,AB4<A!AB178),21,IF(AND(AB4>=A!AB178,AB4<A!AB179),20,IF(AND(AB4>=A!AB179,AB4<A!AB180),19,IF(AND(AB4>=A!AB180,AB4<A!AB181),18,IF(AND(AB4>=A!AB181,AB4<A!AB182),17,IF(AND(AB4>=A!AB182,AB4<A!AB183),16,IF(AND(AB4>=A!AB183,AB4<A!AB184),15,IF(AND(AB4>=A!AB184,AB4<A!AB185),14,IF(AND(AB4>=A!AB185,AB4<A!AB186),13,IF(AND(AB4>=A!AB186,AB4<A!AB187),12,IF(AND(AB4>=A!AB187,AB4<A!AB188),11,IF(AND(AB4>=A!AB188,AB4<A!AB189),10,IF(AND(AB4>=A!AB189,AB4<A!AB190),9,IF(AND(AB4>=A!AB190,AB4<A!AB191),8,IF(AND(AB4>=A!AB191,AB4<A!AB192),7,IF(AND(AB4>=A!AB192,AB4<A!AB193),6,IF(AND(AB4>=A!AB193,AB4<A!AB194),5,IF(AND(AB4>=A!AB194,AB4<A!AB185),4,IF(AND(AB4>=A!AB195,AB4<A!AB196),3,IF(AND(AB4>=A!AB196,AB4<A!AB197),2,IF(AND(AB4>=A!AB197,AB4<A!AB198),1,0)))))))))))))))))))))))))))))))))))))))))))))))))) -> 0 | AD4: 11.76 | AE4: =IF(AND(AD4>=A!AD148,AD4<A!AD149),50,IF(AND(AD4>=A!AD149,AD4<A!AD150),49,IF(AND(AD4>=A!AD150,AD4<A!AD151),48,IF(AND(AD4>=A!AD151,AD4<A!AD152),47,IF(AND(AD4>=A!AD152,AD4<A!AD153),46,IF(AND(AD4>=A!AD153,AD4<A!AD154),45,IF(AND(AD4>=A!AD154,AD4<A!AD155),44,IF(AND(AD4>=A!AD155,AD4<=A!AD156),43,IF(AND(AD4>=A!AD156,AD4<A!AD157),42,IF(AND(AD4>=A!AD157,AD4<A!AD158),41,IF(AND(AD4>=A!AD158,AD4<A!AD159),40,IF(AND(AD4>=A!AD159,AD4<A!AD160),39,IF(AND(AD4>=A!AD160,AD4<A!AD161),38,IF(AND(AD4>=A!AD161,AD4<=A!AD162),37,IF(AND(AD4>=A!AD162,AD4<A!AD163),36,IF(AND(AD4>=A!AD163,AD4<A!AD164),35,IF(AND(AD4>=A!AD164,AD4<A!AD165),34,IF(AND(AD4>=A!AD165,AD4<A!AD166),33,IF(AND(AD4>=A!AD166,AD4<A!AD167),32,IF(AND(AD4>=A!AD167,AD4<A!AD168),31,IF(AND(AD4>=A!AD168,AD4<A!AD169),30,IF(AND(AD4>=A!AD169,AD4<A!AD170),29,IF(AND(AD4>=A!AD170,AD4<A!AD171),28,IF(AND(AD4>=A!AD171,AD4<A!AD172),27,IF(AND(AD4>=A!AD172,AD4<A!AD173),26,IF(AND(AD4>=A!AD173,AD4<A!AD174),25,IF(AND(AD4>=A!AD174,AD4<A!AD175),24,IF(AND(AD4>=A!AD175,AD4<A!AD176),23,IF(AND(AD4>=A!AD176,AD4<A!AD177),22,IF(AND(AD4>=A!AD177,AD4<A!AD178),21,IF(AND(AD4>=A!AD178,AD4<A!AD179),20,IF(AND(AD4>=A!AD179,AD4<A!AD180),19,IF(AND(AD4>=A!AD180,AD4<A!AD181),18,IF(AND(AD4>=A!AD181,AD4<A!AD182),17,IF(AND(AD4>=A!AD182,AD4<A!AD183),16,IF(AND(AD4>=A!AD183,AD4<A!AD184),15,IF(AND(AD4>=A!AD184,AD4<A!AD185),14,IF(AND(AD4>=A!AD185,AD4<A!AD186),13,IF(AND(AD4>=A!AD186,AD4<A!AD187),12,IF(AND(AD4>=A!AD187,AD4<A!AD188),11,IF(AND(AD4>=A!AD188,AD4<A!AD189),10,IF(AND(AD4>=A!AD189,AD4<A!AD190),9,IF(AND(AD4>=A!AD190,AD4<A!AD191),8,IF(AND(AD4>=A!AD191,AD4<A!AD192),7,IF(AND(AD4>=A!AD192,AD4<A!AD193),6,IF(AND(AD4>=A!AD193,AD4<A!AD194),5,IF(AND(AD4>=A!AD194,AD4<A!AD185),4,IF(AND(AD4>=A!AD195,AD4<A!AD196),3,IF(AND(AD4>=A!AD196,AD4<A!AD197),2,IF(AND(AD4>=A!AD197,AD4<A!AD198),1,0)))))))))))))))))))))))))))))))))))))))))))))))))) -> 0 | AF4: 48.86 | AG4: =INDEX(AG148:AG183,IFERROR(MATCH(AF4,AF$148:AF$183,0),MATCH(AF4,AF$148:AF$183,1))) -> 15 | AH4: 53.32 | AI4: =INDEX(AI148:AI183,IFERROR(MATCH(AH4,AH$148:AH$183,0),MATCH(AH4,AH$148:AH$183,1))) -> 15 | AJ4: 36.54 | AK4: =IF(AND(AJ4>=A!AJ148,AJ4<A!AJ149),50,IF(AND(AJ4>=A!AJ149,AJ4<A!AJ150),49,IF(AND(AJ4>=A!AJ150,AJ4<A!AJ151),48,IF(AND(AJ4>=A!AJ151,AJ4<A!AJ152),47,IF(AND(AJ4>=A!AJ152,AJ4<A!AJ153),46,IF(AND(AJ4>=A!AJ153,AJ4<A!AJ154),45,IF(AND(AJ4>=A!AJ154,AJ4<A!AJ155),44,IF(AND(AJ4>=A!AJ155,AJ4<=A!AJ156),43,IF(AND(AJ4>=A!AJ156,AJ4<A!AJ157),42,IF(AND(AJ4>=A!AJ157,AJ4<A!AJ158),41,IF(AND(AJ4>=A!AJ158,AJ4<A!AJ159),40,IF(AND(AJ4>=A!AJ159,AJ4<A!AJ160),39,IF(AND(AJ4>=A!AJ160,AJ4<A!AJ161),38,IF(AND(AJ4>=A!AJ161,AJ4<=A!AJ162),37,IF(AND(AJ4>=A!AJ162,AJ4<A!AJ163),36,IF(AND(AJ4>=A!AJ163,AJ4<A!AJ164),35,IF(AND(AJ4>=A!AJ164,AJ4<A!AJ165),34,IF(AND(AJ4>=A!AJ165,AJ4<A!AJ166),33,IF(AND(AJ4>=A!AJ166,AJ4<A!AJ167),32,IF(AND(AJ4>=A!AJ167,AJ4<A!AJ168),31,IF(AND(AJ4>=A!AJ168,AJ4<A!AJ169),30,IF(AND(AJ4>=A!AJ169,AJ4<A!AJ170),29,IF(AND(AJ4>=A!AJ170,AJ4<A!AJ171),28,IF(AND(AJ4>=A!AJ171,AJ4<A!AJ172),27,IF(AND(AJ4>=A!AJ172,AJ4<A!AJ173),26,IF(AND(AJ4>=A!AJ173,AJ4<A!AJ174),25,IF(AND(AJ4>=A!AJ174,AJ4<A!AJ175),24,IF(AND(AJ4>=A!AJ175,AJ4<A!AJ176),23,IF(AND(AJ4>=A!AJ176,AJ4<A!AJ177),22,IF(AND(AJ4>=A!AJ177,AJ4<A!AJ178),21,IF(AND(AJ4>=A!AJ178,AJ4<A!AJ179),20,IF(AND(AJ4>=A!AJ179,AJ4<A!AJ180),19,IF(AND(AJ4>=A!AJ180,AJ4<A!AJ181),18,IF(AND(AJ4>=A!AJ181,AJ4<A!AJ182),17,IF(AND(AJ4>=A!AJ182,AJ4<A!AJ183),16,IF(AND(AJ4>=A!AJ183,AJ4<A!AJ184),15,IF(AND(AJ4>=A!AJ184,AJ4<A!AJ185),14,IF(AND(AJ4>=A!AJ185,AJ4<A!AJ186),13,IF(AND(AJ4>=A!AJ186,AJ4<A!AJ187),12,IF(AND(AJ4>=A!AJ187,AJ4<A!AJ188),11,IF(AND(AJ4>=A!AJ188,AJ4<A!AJ189),10,IF(AND(AJ4>=A!AJ189,AJ4<A!AJ190),9,IF(AND(AJ4>=A!AJ190,AJ4<A!AJ191),8,IF(AND(AJ4>=A!AJ191,AJ4<A!AJ192),7,IF(AND(AJ4>=A!AJ192,AJ4<A!AJ193),6,IF(AND(AJ4>=A!AJ193,AJ4<A!AJ194),5,IF(AND(AJ4>=A!AJ194,AJ4<A!AJ185),4,IF(AND(AJ4>=A!AJ195,AJ4<A!AJ196),3,IF(AND(AJ4>=A!AJ196,AJ4<A!AJ197),2,IF(AND(AJ4>=A!AJ197,AJ4<A!AJ198),1,0)))))))))))))))))))))))))))))))))))))))))))))))))) -> 0 | AL4: 14.1112 | AM4: =IF(AND(AL4>=A!AL148,AL4<A!AL149),50,IF(AND(AL4>=A!AL149,AL4<A!AL150),49,IF(AND(AL4>=A!AL150,AL4<A!AL151),48,IF(AND(AL4>=A!AL151,AL4<A!AL152),47,IF(AND(AL4>=A!AL152,AL4<A!AL153),46,IF(AND(AL4>=A!AL153,AL4<A!AL154),45,IF(AND(AL4>=A!AL154,AL4<A!AL155),44,IF(AND(AL4>=A!AL155,AL4<=A!AL156),43,IF(AND(AL4>=A!AL156,AL4<A!AL157),42,IF(AND(AL4>=A!AL157,AL4<A!AL158),41,IF(AND(AL4>=A!AL158,AL4<A!AL159),40,IF(AND(AL4>=A!AL159,AL4<A!AL160),39,IF(AND(AL4>=A!AL160,AL4<A!AL161),38,IF(AND(AL4>=A!AL161,AL4<=A!AL162),37,IF(AND(AL4>=A!AL162,AL4<A!AL163),36,IF(AND(AL4>=A!AL163,AL4<A!AL164),35,IF(AND(AL4>=A!AL164,AL4<A!AL165),34,IF(AND(AL4>=A!AL165,AL4<A!AL166),33,IF(AND(AL4>=A!AL166,AL4<A!AL167),32,IF(AND(AL4>=A!AL167,AL4<A!AL168),31,IF(AND(AL4>=A!AL168,AL4<A!AL169),30,IF(AND(AL4>=A!AL169,AL4<A!AL170),29,IF(AND(AL4>=A!AL170,AL4<A!AL171),28,IF(AND(AL4>=A!AL171,AL4<A!AL172),27,IF(AND(AL4>=A!AL172,AL4<A!AL173),26,IF(AND(AL4>=A!AL173,AL4<A!AL174),25,IF(AND(AL4>=A!AL174,AL4<A!AL175),24,IF(AND(AL4>=A!AL175,AL4<A!AL176),23,IF(AND(AL4>=A!AL176,AL4<A!AL177),22,IF(AND(AL4>=A!AL177,AL4<A!AL178),21,IF(AND(AL4>=A!AL178,AL4<A!AL179),20,IF(AND(AL4>=A!AL179,AL4<A!AL180),19,IF(AND(AL4>=A!AL180,AL4<A!AL181),18,IF(AND(AL4>=A!AL181,AL4<A!AL182),17,IF(AND(AL4>=A!AL182,AL4<A!AL183),16,IF(AND(AL4>=A!AL183,AL4<A!AL184),15,IF(AND(AL4>=A!AL184,AL4<A!AL185),14,IF(AND(AL4>=A!AL185,AL4<A!AL186),13,IF(AND(AL4>=A!AL186,AL4<A!AL187),12,IF(AND(AL4>=A!AL187,AL4<A!AL188),11,IF(AND(AL4>=A!AL188,AL4<A!AL189),10,IF(AND(AL4>=A!AL189,AL4<A!AL190),9,IF(AND(AL4>=A!AL190,AL4<A!AL191),8,IF(AND(AL4>=A!AL191,AL4<A!AL192),7,IF(AND(AL4>=A!AL192,AL4<A!AL193),6,IF(AND(AL4>=A!AL193,AL4<A!AL194),5,IF(AND(AL4>=A!AL194,AL4<A!AL185),4,IF(AND(AL4>=A!AL195,AL4<A!AL196),3,IF(AND(AL4>=A!AL196,AL4<A!AL197),2,IF(AND(AL4>=A!AL197,AL4<A!AL198),1,0)))))))))))))))))))))))))))))))))))))))))))))))))) -> 18 | AN4: 21.2213 | AO4: =IF(AND(AN4>=A!AN148,AN4<A!AN149),50,IF(AND(AN4>=A!AN149,AN4<A!AN150),49,IF(AND(AN4>=A!AN150,AN4<A!AN151),48,IF(AND(AN4>=A!AN151,AN4<A!AN152),47,IF(AND(AN4>=A!AN152,AN4<A!AN153),46,IF(AND(AN4>=A!AN153,AN4<A!AN154),45,IF(AND(AN4>=A!AN154,AN4<A!AN155),44,IF(AND(AN4>=A!AN155,AN4<=A!AN156),43,IF(AND(AN4>=A!AN156,AN4<A!AN157),42,IF(AND(AN4>=A!AN157,AN4<A!AN158),41,IF(AND(AN4>=A!AN158,AN4<A!AN159),40,IF(AND(AN4>=A!AN159,AN4<A!AN160),39,IF(AND(AN4>=A!AN160,AN4<A!AN161),38,IF(AND(AN4>=A!AN161,AN4<=A!AN162),37,IF(AND(AN4>=A!AN162,AN4<A!AN163),36,IF(AND(AN4>=A!AN163,AN4<A!AN164),35,IF(AND(AN4>=A!AN164,AN4<A!AN165),34,IF(AND(AN4>=A!AN165,AN4<A!AN166),33,IF(AND(AN4>=A!AN166,AN4<A!AN167),32,IF(AND(AN4>=A!AN167,AN4<A!AN168),31,IF(AND(AN4>=A!AN168,AN4<A!AN169),30,IF(AND(AN4>=A!AN169,AN4<A!AN170),29,IF(AND(AN4>=A!AN170,AN4<A!AN171),28,IF(AND(AN4>=A!AN171,AN4<A!AN172),27,IF(AND(AN4>=A!AN172,AN4<A!AN173),26,IF(AND(AN4>=A!AN173,AN4<A!AN174),25,IF(AND(AN4>=A!AN174,AN4<A!AN175),24,IF(AND(AN4>=A!AN175,AN4<A!AN176),23,IF(AND(AN4>=A!AN176,AN4<A!AN177),22,IF(AND(AN4>=A!AN177,AN4<A!AN178),21,IF(AND(AN4>=A!AN178,AN4<A!AN179),20,IF(AND(AN4>=A!AN179,AN4<A!AN180),19,IF(AND(AN4>=A!AN180,AN4<A!AN181),18,IF(AND(AN4>=A!AN181,AN4<A!AN182),17,IF(AND(AN4>=A!AN182,AN4<A!AN183),16,IF(AND(AN4>=A!AN183,AN4<A!AN184),15,IF(AND(AN4>=A!AN184,AN4<A!AN185),14,IF(AND(AN4>=A!AN185,AN4<A!AN186),13,IF(AND(AN4>=A!AN186,AN4<A!AN187),12,IF(AND(AN4>=A!AN187,AN4<A!AN188),11,IF(AND(AN4>=A!AN188,AN4<A!AN189),10,IF(AND(AN4>=A!AN189,AN4<A!AN190),9,IF(AND(AN4>=A!AN190,AN4<A!AN191),8,IF(AND(AN4>=A!AN191,AN4<A!AN192),7,IF(AND(AN4>=A!AN192,AN4<A!AN193),6,IF(AND(AN4>=A!AN193,AN4<A!AN194),5,IF(AND(AN4>=A!AN194,AN4<A!AN185),4,IF(AND(AN4>=A!AN195,AN4<A!AN196),3,IF(AND(AN4>=A!AN196,AN4<A!AN197),2,IF(AND(AN4>=A!AN197,AN4<A!AN198),1,0)))))))))))))))))))))))))))))))))))))))))))))))))) -> 25 | AP4: 30.92 | AQ4: =IF(AND(AP4>=A!AP148,AP4<A!AP149),50,IF(AND(AP4>=A!AP149,AP4<A!AP150),49,IF(AND(AP4>=A!AP150,AP4<A!AP151),48,IF(AND(AP4>=A!AP151,AP4<A!AP152),47,IF(AND(AP4>=A!AP152,AP4<A!AP153),46,IF(AND(AP4>=A!AP153,AP4<A!AP154),45,IF(AND(AP4>=A!AP154,AP4<A!AP155),44,IF(AND(AP4>=A!AP155,AP4<=A!AP156),43,IF(AND(AP4>=A!AP156,AP4<A!AP157),42,IF(AND(AP4>=A!AP157,AP4<A!AP158),41,IF(AND(AP4>=A!AP158,AP4<A!AP159),40,IF(AND(AP4>=A!AP159,AP4<A!AP160),39,IF(AND(AP4>=A!AP160,AP4<A!AP161),38,IF(AND(AP4>=A!AP161,AP4<=A!AP162),37,IF(AND(AP4>=A!AP162,AP4<A!AP163),36,IF(AND(AP4>=A!AP163,AP4<A!AP164),35,IF(AND(AP4>=A!AP164,AP4<A!AP165),34,IF(AND(AP4>=A!AP165,AP4<A!AP166),33,IF(AND(AP4>=A!AP166,AP4<A!AP167),32,IF(AND(AP4>=A!AP167,AP4<A!AP168),31,IF(AND(AP4>=A!AP168,AP4<A!AP169),30,IF(AND(AP4>=A!AP169,AP4<A!AP170),29,IF(AND(AP4>=A!AP170,AP4<A!AP171),28,IF(AND(AP4>=A!AP171,AP4<A!AP172),27,IF(AND(AP4>=A!AP172,AP4<A!AP173),26,IF(AND(AP4>=A!AP173,AP4<A!AP174),25,IF(AND(AP4>=A!AP174,AP4<A!AP175),24,IF(AND(AP4>=A!AP175,AP4<A!AP176),23,IF(AND(AP4>=A!AP176,AP4<A!AP177),22,IF(AND(AP4>=A!AP177,AP4<A!AP178),21,IF(AND(AP4>=A!AP178,AP4<A!AP179),20,IF(AND(AP4>=A!AP179,AP4<A!AP180),19,IF(AND(AP4>=A!AP180,AP4<A!AP181),18,IF(AND(AP4>=A!AP181,AP4<A!AP182),17,IF(AND(AP4>=A!AP182,AP4<A!AP183),16,IF(AND(AP4>=A!AP183,AP4<A!AP184),15,IF(AND(AP4>=A!AP184,AP4<A!AP185),14,IF(AND(AP4>=A!AP185,AP4<A!AP186),13,IF(AND(AP4>=A!AP186,AP4<A!AP187),12,IF(AND(AP4>=A!AP187,AP4<A!AP188),11,IF(AND(AP4>=A!AP188,AP4<A!AP189),10,IF(AND(AP4>=A!AP189,AP4<A!AP190),9,IF(AND(AP4>=A!AP190,AP4<A!AP191),8,IF(AND(AP4>=A!AP191,AP4<A!AP192),7,IF(AND(AP4>=A!AP192,AP4<A!AP193),6,IF(AND(AP4>=A!AP193,AP4<A!AP194),5,IF(AND(AP4>=A!AP194,AP4<A!AP185),4,IF(AND(AP4>=A!AP195,AP4<A!AP196),3,IF(AND(AP4>=A!AP196,AP4<A!AP197),2,IF(AND(AP4>=A!AP197,AP4<A!AP198),1,0)))))))))))))))))))))))))))))))))))))))))))))))))) -> 41 | AR4: 29.47 | AS4: =IF(AND(AR4>=A!AR148,AR4<A!AR149),50,IF(AND(AR4>=A!AR149,AR4<A!AR150),49,IF(AND(AR4>=A!AR150,AR4<A!AR151),48,IF(AND(AR4>=A!AR151,AR4<A!AR152),47,IF(AND(AR4>=A!AR152,AR4<A!AR153),46,IF(AND(AR4>=A!AR153,AR4<A!AR154),45,IF(AND(AR4>=A!AR154,AR4<A!AR155),44,IF(AND(AR4>=A!AR155,AR4<=A!AR156),43,IF(AND(AR4>=A!AR156,AR4<A!AR157),42,IF(AND(AR4>=A!AR157,AR4<A!AR158),41,IF(AND(AR4>=A!AR158,AR4<A!AR159),40,IF(AND(AR4>=A!AR159,AR4<A!AR160),39,IF(AND(AR4>=A!AR160,AR4<A!AR161),38,IF(AND(AR4>=A!AR161,AR4<=A!AR162),37,IF(AND(AR4>=A!AR162,AR4<A!AR163),36,IF(AND(AR4>=A!AR163,AR4<A!AR164),35,IF(AND(AR4>=A!AR164,AR4<A!AR165),34,IF(AND(AR4>=A!AR165,AR4<A!AR166),33,IF(AND(AR4>=A!AR166,AR4<A!AR167),32,IF(AND(AR4>=A!AR167,AR4<A!AR168),31,IF(AND(AR4>=A!AR168,AR4<A!AR169),30,IF(AND(AR4>=A!AR169,AR4<A!AR170),29,IF(AND(AR4>=A!AR170,AR4<A!AR171),28,IF(AND(AR4>=A!AR171,AR4<A!AR172),27,IF(AND(AR4>=A!AR172,AR4<A!AR173),26,IF(AND(AR4>=A!AR173,AR4<A!AR174),25,IF(AND(AR4>=A!AR174,AR4<A!AR175),24,IF(AND(AR4>=A!AR175,AR4<A!AR176),23,IF(AND(AR4>=A!AR176,AR4<A!AR177),22,IF(AND(AR4>=A!AR177,AR4<A!AR178),21,IF(AND(AR4>=A!AR178,AR4<A!AR179),20,IF(AND(AR4>=A!AR179,AR4<A!AR180),19,IF(AND(AR4>=A!AR180,AR4<A!AR181),18,IF(AND(AR4>=A!AR181,AR4<A!AR182),17,IF(AND(AR4>=A!AR182,AR4<A!AR183),16,IF(AND(AR4>=A!AR183,AR4<A!AR184),15,IF(AND(AR4>=A!AR184,AR4<A!AR185),14,IF(AND(AR4>=A!AR185,AR4<A!AR186),13,IF(AND(AR4>=A!AR186,AR4<A!AR187),12,IF(AND(AR4>=A!AR187,AR4<A!AR188),11,IF(AND(AR4>=A!AR188,AR4<A!AR189),10,IF(AND(AR4>=A!AR189,AR4<A!AR190),9,IF(AND(AR4>=A!AR190,AR4<A!AR191),8,IF(AND(AR4>=A!AR191,AR4<A!AR192),7,IF(AND(AR4>=A!AR192,AR4<A!AR193),6,IF(AND(AR4>=A!AR193,AR4<A!AR194),5,IF(AND(AR4>=A!AR194,AR4<A!AR185),4,IF(AND(AR4>=A!AR195,AR4<A!AR196),3,IF(AND(AR4>=A!AR196,AR4<A!AR197),2,IF(AND(AR4>=A!AR197,AR4<A!AR198),1,0)))))))))))))))))))))))))))))))))))))))))))))))))) -> 40
A5: 2
A6: 3
A7: 4
A8: 5
A9: 6
A10: 7
A11: 8
A12: 9
A13: 10
A14: 11
A15: 12
A16: 13
... A53: 50
J60: =IF(AND(F4>=C251,F4<A!H148),50,IF(AND(F4>=A!H148,F4<A!H149),49,IF(AND(F4>=A!H149,F4<A!H150),48,IF(AND(F4>=A!H150,F4<A!H151),47,IF(AND(F4>=A!H151,F4<A!H152),46,IF(AND(F4>=A!H152,F4<A!H153),45,IF(AND(F4>=A!H153,F4<A!H154),44,IF(AND(F4>=A!H154,F4<=A!H155),43,IF(AND(F4>=A!H155,F4<A!H156),42,IF(AND(F4>=A!H156,F4<A!H157),41,IF(AND(F4>=A!H157,F4<A!H158),40,IF(AND(F4>=A!H158,F4<A!H159),39,IF(AND(F4>=A!H159,F4<A!H160),38,IF(AND(F4>=A!H160,F4<=A!H161),37,IF(AND(F4>=A!H161,F4<A!H162),36,IF(AND(F4>=A!H162,F4<A!H163),35,IF(AND(F4>=A!H163,F4<A!H164),34,IF(AND(F4>=A!H164,F4<A!H165),33,IF(AND(F4>=A!H165,F4<A!H166),32,IF(AND(F4>=A!H166,F4<A!H167),31,IF(AND(F4>=A!H167,F4<A!H168),30,IF(AND(F4>=A!H168,F4<A!H169),29,IF(AND(F4>=A!H169,F4<A!H170),28,IF(AND(F4>=A!H170,F4<A!H171),27,IF(AND(F4>=A!H171,F4<A!H172),26,IF(AND(F4>=A!H172,F4<A!H173),25,IF(AND(F4>=A!H173,F4<A!H174),24,IF(AND(F4>=A!H174,F4<A!H175),23,IF(AND(F4>=A!H175,F4<A!H176),22,IF(AND(F4>=A!H176,F4<A!H177),21,IF(AND(F4>=A!H177,F4<A!H178),20,IF(AND(F4>=A!H178,F4<A!H179),19,IF(AND(F4>=A!H179,F4<A!H180),18,IF(AND(F4>=A!H180,F4<A!H181),17,IF(AND(F4>=A!H181,F4<A!H182),16,IF(AND(F4>=A!H182,F4<A!H183),15,IF(AND(F4>=A!H183,F4<A!H184),14,IF(AND(F4>=A!H184,F4<A!H185),13,IF(AND(F4>=A!H185,F4<A!H186),12,IF(AND(F4>=A!H186,F4<A!H187),11,IF(AND(F4>=A!H187,F4<A!H188),10,IF(AND(F4>=A!H188,F4<A!H189),9,IF(AND(F4>=A!H189,F4<A!H190),8,IF(AND(F4>=A!H190,F4<A!H191),7,IF(AND(F4>=A!H191,F4<A!H192),6,IF(AND(F4>=A!H192,F4<A!H193),5,IF(AND(F4>=A!H193,F4<A!H184),4,IF(AND(F4>=A!H194,F4<A!H195),3,IF(AND(F4>=A!H195,F4<A!H196),2,IF(AND(F4>=A!H196,F4<A!H197),1,0)))))))))))))))))))))))))))))))))))))))))))))))))) -> 0
N143: 8.22 | O143: =INDEX(O$148:O$183,IF(N$148>N$149,IFERROR(MATCH(N143,N$148:N$183,0),MATCH(N143,N$148:N$183,-1)+1),IF(N$148<N$149,IFERROR(MATCH(N143,N$148:N$183,0),MATCH(N143,N$148:N$183,1))))) -> 39 | P143: 10.73 | Q143: =INDEX(Q$148:Q$183,IF(P$148>P$149,IFERROR(MATCH(P143,P$148:P$183,0),MATCH(P143,P$148:P$183,-1)+1),IF(P$148<P$149,IFERROR(MATCH(P143,P$148:P$183,0),MATCH(P143,P$148:P$183,1))))) -> 28 | R143: 11.76 | S143: =INDEX(S$148:S$183,IF(R$148>R$149,IFERROR(MATCH(R143,R$148:R$183,0),MATCH(R143,R$148:R$183,-1)+1),IF(R$148<R$149,IFERROR(MATCH(R143,R$148:R$183,0),MATCH(R143,R$148:R$183,1))))) -> 46 | T143: 39.64 | U143: =INDEX(U$148:U$183,IF(T$148>T$149,IFERROR(MATCH(T143,T$148:T$183,0),MATCH(T143,T$148:T$183,-1)+1),IF(T$148<T$149,IFERROR(MATCH(T143,T$148:T$183,0),MATCH(T143,T$148:T$183,1))))) -> 17 | V143: 1.69 | W143: =INDEX(W$148:W$183,IF(V$148>V$149,IFERROR(MATCH(V143,V$148:V$183,0),MATCH(V143,V$148:V$183,-1)+1),IF(V$148<V$149,IFERROR(MATCH(V143,V$148:V$183,0),MATCH(V143,V$148:V$183,1))))) -> 44 | X143: 3.87 | Y143: =INDEX(Y$148:Y$183,IF(X$148>X$149,IFERROR(MATCH(X143,X$148:X$183,0),MATCH(X143,X$148:X$183,-1)+1),IF(X$148<X$149,IFERROR(MATCH(X143,X$148:X$183,0),MATCH(X143,X$148:X$183,1))))) -> 49 | Z143: 5.42 | AA143: =INDEX(AA$148:AA$183,IF(Z$148>Z$149,IFERROR(MATCH(Z143,Z$148:Z$183,0),MATCH(Z143,Z$148:Z$183,-1)+1),IF(Z$148<Z$149,IFERROR(MATCH(Z143,Z$148:Z$183,0),MATCH(Z143,Z$148:Z$183,1))))) -> 42 | AB143: 11.87 | AC143: =INDEX(AC$148:AC$183,IF(AB$148>AB$149,IFERROR(MATCH(AB143,AB$148:AB$183,0),MATCH(AB143,AB$148:AB$183,-1)+1),IF(AB$148<AB$149,IFERROR(MATCH(AB143,AB$148:AB$183,0),MATCH(AB143,AB$148:AB$183,1))))) -> 44 | AD143: 11.76 | AE143: =INDEX(AE$148:AE$183,IF(AD$148>AD$149,IFERROR(MATCH(AD143,AD$148:AD$183,0),MATCH(AD143,AD$148:AD$183,-1)+1),IF(AD$148<AD$149,IFERROR(MATCH(AD143,AD$148:AD$183,0),MATCH(AD143,AD$148:AD$183,1))))) -> 43 | AF143: 48.86 | AG143: =INDEX(AG$148:AG$183,IF(AF$148>AF$149,IFERROR(MATCH(AF143,AF$148:AF$183,0),MATCH(AF143,AF$148:AF$183,-1)+1),IF(AF$148<AF$149,IFERROR(MATCH(AF143,AF$148:AF$183,0),MATCH(AF143,AF$148:AF$183,1))))) -> 49 | AH143: 53.32 | AI143: =INDEX(AI$148:AI$183,IF(AH$148>AH$149,IFERROR(MATCH(AH143,AH$148:AH$183,0),MATCH(AH143,AH$148:AH$183,-1)+1),IF(AH$148<AH$149,IFERROR(MATCH(AH143,AH$148:AH$183,0),MATCH(AH143,AH$148:AH$183,1))))) -> 45 | AJ143: 36.54 | AK143: =INDEX(AK$148:AK$183,IF(AJ$148>AJ$149,IFERROR(MATCH(AJ143,AJ$148:AJ$183,0),MATCH(AJ143,AJ$148:AJ$183,-1)+1),IF(AJ$148<AJ$149,IFERROR(MATCH(AJ143,AJ$148:AJ$183,0),MATCH(AJ143,AJ$148:AJ$183,1))))) -> 42 | AL143: 14.1112 | AM143: =INDEX(AM$148:AM$183,IF(AL$148>AL$149,IFERROR(MATCH(AL143,AL$148:AL$183,0),MATCH(AL143,AL$148:AL$183,-1)+1),IF(AL$148<AL$149,IFERROR(MATCH(AL143,AL$148:AL$183,0),MATCH(AL143,AL$148:AL$183,1))))) -> 18 | AN143: 21.2213 | AO143: =INDEX(AO$148:AO$183,IF(AN$148>AN$149,IFERROR(MATCH(AN143,AN$148:AN$183,0),MATCH(AN143,AN$148:AN$183,-1)+1),IF(AN$148<AN$149,IFERROR(MATCH(AN143,AN$148:AN$183,0),MATCH(AN143,AN$148:AN$183,1))))) -> 25
V147: erreur | AF147: resultat 49 | AH147: resultat 45 | AJ147: resultat 44 | AL147: OK je ne comprend pas pouquoi C OK
B148: 6.42 | C148: 50 | D148: 7.75 | E148: 50 | F148: 9.44 | G148: 50 | H148: 11.85 | I148: 50 | J148: 2.5065 | K148: 50 | L148: 6.181 | M148: 50 | N148: 7.35 | O148: 50 | P148: 8.75 | Q148: 50 | R148: 11.19 | S148: 50 | T148: 27.77 | U148: 50 | V148: 1.8 | W148: 50 | X148: 3.9 | Y148: 50 | Z148: 6.57 | AA148: 50 | AB148: 13.31 | AC148: 50 | AD148: 15.24 | AE148: 50 | AF148: 48.99 | AG148: 50 | AH148: 62.64 | AI148: 50 | AJ148: 57.77 | AK148: 50 | AL148: 9.3 | AM148: 50 | AN148: 14.3673 | AO148: 50 | AP148: 29.62 | AQ148: 50 | AR148: 28.5 | AS148: 50
B149: 6.47 | C149: 49 | D149: 7.83 | E149: 49 | F149: 9.51 | G149: 49 | H149: 11.95 | I149: 49 | J149: 2.5232 | K149: 49 | L149: 6.2528 | M149: 49 | N149: 7.43 | O149: 49 | P149: 8.86 | Q149: 49 | R149: 11.31 | S149: 49 | T149: 28.22 | U149: 49 | V149: 1.78 | W149: 49 | X149: 3.78 | Y149: 49 | Z149: 6.38 | AA149: 49 | AB149: 13.05 | AC149: 49 | AD149: 14.59 | AE149: 49 | AF149: 46.87 | AG149: 49 | AH149: 60.31 | AI149: 49 | AJ149: 53.9 | AK149: 49 | AL149: 9.406 | AM149: 49 | AN149: 14.5978 | AO149: 49 | AP149: 29.76 | AQ149: 49 | AR149: 28.54 | AS149: 49
B150: 6.52 | C150: 48 | D150: 7.92 | E150: 48 | F150: 9.59 | G150: 48 | H150: 12.05 | I150: 48 | J150: 2.5399 | K150: 48 | L150: 6.3246 | M150: 48 | N150: 7.51 | O150: 48 | P150: 8.96 | Q150: 48 | R150: 11.42 | S150: 48 | T150: 28.66 | U150: 48 | V150: 1.76 | W150: 48 | X150: 3.66 | Y150: 48 | Z150: 6.18 | AA150: 48 | AB150: 12.79 | AC150: 48 | AD150: 13.94 | AE150: 48 | AF150: 44.75 | AG150: 48 | AH150: 57.98 | AI150: 48 | AJ150: 50.02 | AK150: 48 | AL150: 9.512 | AM150: 48 | AN150: 15.2284 | AO150: 48 | AP150: 29.89 | AQ150: 48 | AR150: 28.58 | AS150: 48
B151: 6.57 | C151: 47 | D151: 8 | E151: 47 | F151: 9.66 | G151: 47 | H151: 12.14 | I151: 47 | J151: 2.5566 | K151: 47 | L151: 6.3964 | M151: 47 | N151: 7.59 | O151: 47 | P151: 9.07 | Q151: 47 | R151: 11.54 | S151: 47 | T151: 29.11 | U151: 47 | V151: 1.74 | W151: 47 | X151: 3.54 | Y151: 47 | Z151: 5.99 | AA151: 47 | AB151: 12.52 | AC151: 47 | AD151: 13.3 | AE151: 47 | AF151: 42.64 | AG151: 47 | AH151: 55.66 | AI151: 47 | AJ151: 46.15 | AK151: 47 | AL151: 10.018 | AM151: 47 | AN151: 15.4589 | AO151: 47 | AP151: 30.03 | AQ151: 47 | AR151: 28.63 | AS151: 47
B152: 6.62 | C152: 46 | D152: 8.09 | E152: 46 | F152: 9.74 | G152: 46 | H152: 12.24 | I152: 46 | J152: 2.5733 | K152: 46 | L152: 6.4682 | M152: 46 | N152: 7.67 | O152: 46 | P152: 9.17 | Q152: 46 | R152: 11.65 | S152: 46 | T152: 29.55 | U152: 46 | V152: 1.72 | W152: 46 | X152: 3.42 | Y152: 46 | Z152: 5.79 | AA152: 46 | AB152: 12.26 | AC152: 46 | AD152: 12.65 | AE152: 46 | AF152: 40.52 | AG152: 46 | AH152: 53.33 | AI152: 46 | AJ152: 42.27 | AK152: 46 | AL152: 10.124 | AM152: 46 | AN152: 16.0895 | AO152: 46 | AP152: 30.16 | AQ152: 46 | AR152: 28.67 | AS152: 46
B153: 6.67 | C153: 45 | D153: 8.17 | E153: 45 | F153: 9.81 | G153: 45 | H153: 12.34 | I153: 45 | J153: 2.59 | K153: 45 | L153: 6.54 | M153: 45 | N153: 7.75 | O153: 45 | P153: 9.28 | Q153: 45 | R153: 11.77 | S153: 45 | T153: 30 | U153: 45 | V153: 1.7 | W153: 45 | X153: 3.3 | Y153: 45 | Z153: 5.6 | AA153: 45 | AB153: 12 | AC153: 45 | AD153: 12 | AE153: 45 | AF153: 38.4 | AG153: 45 | AH153: 51 | AI153: 45 | AJ153: 38.4 | AK153: 45 | AL153: 10.23 | AM153: 45 | AN153: 16.32 | AO153: 45 | AP153: 30.3 | AQ153: 45 | AR153: 28.71 | AS153: 45
B154: 6.72 | C154: 44 | D154: 8.22 | E154: 44 | F154: 9.88 | G154: 44 | H154: 12.43 | I154: 44 | J154: 3.0092 | K154: 44 | L154: 7.0144 | M154: 44 | N154: 7.83 | O154: 44 | P154: 9.36 | Q154: 44 | R154: 11.91 | S154: 44 | T154: 30.24 | U154: 44 | V154: 1.68 | W154: 44 | X154: 3.25 | Y154: 44 | Z154: 5.53 | AA154: 44 | AB154: 11.87 | AC154: 44 | AD154: 11.79 | AE154: 44 | AF154: 37.54 | AG154: 44 | AH154: 49.78 | AI154: 44 | AJ154: 37.48 | AK154: 44 | AL154: 10.3108 | AM154: 44 | AN154: 16.4632 | AO154: 44 | AP154: 30.43 | AQ154: 44 | AR154: 28.84 | AS154: 44
B155: 6.77 | C155: 43 | D155: 8.27 | E155: 43 | F155: 9.96 | G155: 43 | H155: 12.53 | I155: 43 | J155: 3.0284 | K155: 43 | L155: 7.0888 | M155: 43 | N155: 7.91 | O155: 43 | P155: 9.45 | Q155: 43 | R155: 12.04 | S155: 43 | T155: 30.49 | U155: 43 | V155: 1.66 | W155: 43 | X155: 3.2 | Y155: 43 | Z155: 5.46 | AA155: 43 | AB155: 11.74 | AC155: 43 | AD155: 11.58 | AE155: 43 | AF155: 36.69 | AG155: 43 | AH155: 48.56 | AI155: 43 | AJ155: 36.55 | AK155: 43 | AL155: 10.3916 | AM155: 43 | AN155: 17.0064 | AO155: 43 | AP155: 30.56 | AQ155: 43 | AR155: 28.97 | AS155: 43
B156: 6.82 | C156: 42 | D156: 8.32 | E156: 42 | F156: 10.03 | G156: 42 | H156: 12.62 | I156: 42 | J156: 3.0476 | K156: 42 | L156: 7.1632 | M156: 42 | N156: 7.98 | O156: 42 | P156: 9.53 | Q156: 42 | R156: 12.18 | S156: 42 | T156: 30.73 | U156: 42 | V156: 1.65 | W156: 42 | X156: 3.16 | Y156: 42 | Z156: 5.38 | AA156: 42 | AB156: 11.62 | AC156: 42 | AD156: 11.36 | AE156: 42 | AF156: 35.83 | AG156: 42 | AH156: 47.34 | AI156: 42 | AJ156: 35.63 | AK156: 42 | AL156: 10.4724 | AM156: 42 | AN156: 17.1496 | AO156: 42 | AP156: 30.68 | AQ156: 42 | AR156: 29.1 | AS156: 42
B157: 6.87 | C157: 41 | D157: 8.37 | E157: 41 | F157: 10.11 | G157: 41 | H157: 12.72 | I157: 41 | J157: 3.0668 | K157: 41 | L157: 7.2376 | M157: 41 | N157: 8.06 | O157: 41 | P157: 9.62 | Q157: 41 | R157: 12.32 | S157: 41 | T157: 30.98 | U157: 41 | V157: 1.63 | W157: 41 | X157: 3.11 | Y157: 41 | Z157: 5.31 | AA157: 41 | AB157: 11.49 | AC157: 41 | AD157: 11.15 | AE157: 41 | AF157: 34.98 | AG157: 41 | AH157: 46.12 | AI157: 41 | AJ157: 34.7 | AK157: 41 | AL157: 10.5532 | AM157: 41 | AN157: 17.2928 | AO157: 41 | AP157: 30.81 | AQ157: 41 | AR157: 29.23 | AS157: 41
B158: 6.92 | C158: 40 | D158: 8.42 | E158: 40 | F158: 10.18 | G158: 40 | H158: 12.81 | I158: 40 | J158: 3.086 | K158: 40 | L158: 7.312 | M158: 40 | N158: 8.14 | O158: 40 | P158: 9.7 | Q158: 40 | R158: 12.46 | S158: 40 | T158: 31.22 | U158: 40 | V158: 1.61 | W158: 40 | X158: 3.06 | Y158: 40 | Z158: 5.24 | AA158: 40 | AB158: 11.36 | AC158: 40 | AD158: 10.94 | AE158: 40 | AF158: 34.12 | AG158: 40 | AH158: 44.9 | AI158: 40 | AJ158: 33.78 | AK158: 40 | AL158: 11.034 | AM158: 40 | AN158: 17.436 | AO158: 40 | AP158: 30.94 | AQ158: 40 | AR158: 29.35 | AS158: 40
B159: 6.97 | C159: 39 | D159: 8.47 | E159: 39 | F159: 10.26 | G159: 39 | H159: 12.91 | I159: 39 | J159: 3.1052 | K159: 39 | L159: 7.3864 | M159: 39 | N159: 8.22 | O159: 39 | P159: 9.79 | Q159: 39 | R159: 12.59 | S159: 39 | T159: 31.46 | U159: 39 | V159: 1.59 | W159: 39 | X159: 3.01 | Y159: 39 | Z159: 5.17 | AA159: 39 | AB159: 11.23 | AC159: 39 | AD159: 10.73 | AE159: 39 | AF159: 33.26 | AG159: 39 | AH159: 43.68 | AI159: 39 | AJ159: 32.86 | AK159: 39 | AL159: 11.1148 | AM159: 39 | AN159: 17.5792 | AO159: 39 | AP159: 31.07 | AQ159: 39 | AR159: 29.48 | AS159: 39
... B183: 8.43 | C183: 15 | D183: 10.06 | E183: 15 | F183: 12.55 | G183: 15 | H183: 15.81 | I183: 15 | J183: 4.1253 | K183: 15 | L183: 10.2237 | M183: 15 | N183: 11.12 | O183: 15 | P183: 13.08 | Q183: 15 | R183: 17.2 | S183: 15 | T183: 41.99 | U183: 15 | V183: 1.16 | W183: 15 | X183: 1.92 | Y183: 15 | Z183: 3.38 | AA183: 15 | AB183: 8.01 | AC183: 15 | AD183: 5.91 | AE183: 15 | AF183: 14.58 | AG183: 15 | AH183: 17.24 | AI183: 15 | AJ183: 12.85 | AK183: 15 | AL183: 14.3632 | AM183: 15 | AN183: 23.4105 | AO183: 15 | AP183: 35.75 | AQ183: 15 | AR183: 33.27 | AS183: 15
C251: =IF(AND(D4>=A!D148,D4<A!D149),50,IF(AND(D4>=A!D149,D4<A!D150),49,IF(AND(D4>=A!D150,D4<A!D151),48,IF(AND(D4>=A!D151,D4<A!D152),47,IF(AND(D4>=A!D152,D4<A!D153),46,IF(AND(D4>=A!D153,D4<A!D154),45,IF(AND(D4>=A!D154,D4<A!D155),44,IF(AND(D4>=A!D155,D4<=A!D156),43,IF(AND(D4>=A!D156,D4<A!D157),42,IF(AND(D4>=A!D157,D4<A!D158),41,IF(AND(D4>=A!D158,D4<A!D159),40,IF(AND(D4>=A!D159,D4<A!D160),39,IF(AND(D4>=A!D160,D4<A!D161),38,IF(AND(D4>=A!D161,D4<=A!D162),37,IF(AND(D4>=A!D162,D4<A!D163),36,IF(AND(D4>=A!D163,D4<A!D164),35,IF(AND(D4>=A!D164,D4<A!D165),34,IF(AND(D4>=A!D165,D4<A!D166),33,IF(AND(D4>=A!D166,D4<A!D167),32,IF(AND(D4>=A!D167,D4<A!D168),31,IF(AND(D4>=A!D168,D4<A!D169),30,IF(AND(D4>=A!D169,D4<A!D170),29,IF(AND(D4>=A!D170,D4<A!D171),28,IF(AND(D4>=A!D171,D4<A!D172),27,IF(AND(D4>=A!D172,D4<A!D173),26,IF(AND(D4>=A!D173,D4<A!D174),25,IF(AND(D4>=A!D174,D4<A!D175),24,IF(AND(D4>=A!D175,D4<A!D176),23,IF(AND(D4>=A!D176,D4<A!D177),22,IF(AND(D4>=A!D177,D4<A!D178),21,IF(AND(D4>=A!D178,D4<A!D179),20,IF(AND(D4>=A!D179,D4<A!D180),19,IF(AND(D4>=A!D180,D4<A!D181),18,IF(AND(D4>=A!D181,D4<A!D182),17,IF(AND(D4>=A!D182,D4<A!D183),16,IF(AND(D4>=A!D183,D4<A!D184),15,IF(AND(D4>=A!D184,D4<A!D185),14,IF(AND(D4>=A!D185,D4<A!D186),13,IF(AND(D4>=A!D186,D4<A!D187),12,IF(AND(D4>=A!D187,D4<A!D188),11,IF(AND(D4>=A!D188,D4<A!D189),10,IF(AND(D4>=A!D189,D4<A!D190),9,IF(AND(D4>=A!D190,D4<A!D191),8,IF(AND(D4>=A!D191,D4<A!D192),7,IF(AND(D4>=A!D192,D4<A!D193),6,IF(AND(D4>=A!D193,D4<A!D194),5,IF(AND(D4>=A!D194,D4<A!D185),4,IF(AND(D4>=A!D195,D4<A!D196),3,IF(AND(D4>=A!D196,D4<A!D197),2,IF(AND(D4>=A!D197,D4<A!D198),1,0)))))))))))))))))))))))))))))))))))))))))))))))))) -> 17

Sheet Feuil3
A1: {=SOMME(SI(ESTNUM(B5:AS5);B5:AS5))} | B1: 50m | C1: Points | D1: 60m - Salle | E1: Points | F1: 80m | G1: Points | H1: 100m | I1: Points | J1: 1000m | K1: Points | L1: 2000m | M1: Points | N1: 50m haies | O1: Points | P1: 60m haies | Q1: Points | R1: 80m haies (76) | S1: Points | T1: 200m haies (76) | U1: Points | V1: Hauteur | W1: Points | X1: Perche | Y1: Points | Z1: Longueur | AA1: Points | AB1: Triple saut | AC1: Points | AD1: Poids (3kg) | AE1: Points | AF1: Disque | AG1: Points | AH1: Marteau (3 kg) | AI1: Points | AJ1: Javelot (500 g) | AK1: Points | AL1: 2000 marche | AM1: Points | AN1: 3000 marche | AO1: Points | AP1: 4 x 60m | AQ1: Points | AR1: 4 x 60m Mixte | AS1: Points
A2: ATHLÈTES | N2: (76) Salle et | P2: (76) - | AF2: (0.8 kg)
A3: =IF(AND(B4>=Feuil3!B148,B4<Feuil3!B149),50,IF(AND(B4>=Feuil3!B149,B4<Feuil3!B150),49,IF(AND(B4>=Feuil3!B150,B4<Feuil3!B151),48,IF(AND(B4>=Feuil3!B151,B4<Feuil3!B152),47,IF(AND(B4>=Feuil3!B152,B4<Feuil3!B153),46,IF(AND(B4>=Feuil3!B153,B4<Feuil3!B154),45,IF(AND(B4>=Feuil3!B154,B4<Feuil3!B155),44,IF(AND(B4>=Feuil3!B155,B4<=Feuil3!B156),43,IF(AND(B4>=Feuil3!B156,B4<Feuil3!B157),42,IF(AND(B4>=Feuil3!B157,B4<Feuil3!B158),41,IF(AND(B4>=Feuil3!B158,B4<Feuil3!B159),40,IF(AND(B4>=Feuil3!B159,B4<Feuil3!B160),39,IF(AND(B4>=Feuil3!B160,B4<Feuil3!B161),38,IF(AND(B4>=Feuil3!B161,B4<=Feuil3!B162),37,IF(AND(B4>=Feuil3!B162,B4<Feuil3!B163),36,IF(AND(B4>=Feuil3!B163,B4<Feuil3!B164),35,IF(AND(B4>=Feuil3!B164,B4<Feuil3!B165),34,IF(AND(B4>=Feuil3!B165,B4<Feuil3!B166),33,IF(AND(B4>=Feuil3!B166,B4<Feuil3!B167),32,IF(AND(B4>=Feuil3!B167,B4<Feuil3!B168),31,IF(AND(B4>=Feuil3!B168,B4<Feuil3!B169),30,IF(AND(B4>=Feuil3!B169,B4<Feuil3!B170),29,IF(AND(B4>=Feuil3!B170,B4<Feuil3!B171),28,IF(AND(B4>=Feuil3!B171,B4<Feuil3!B172),27,IF(AND(B4>=Feuil3!B172,B4<Feuil3!B173),26,IF(AND(B4>=Feuil3!B173,B4<Feuil3!B174),25,IF(AND(B4>=Feuil3!B174,B4<Feuil3!B175),24,IF(AND(B4>=Feuil3!B175,B4<Feuil3!B176),23,IF(AND(B4>=Feuil3!B176,B4<Feuil3!B177),22,IF(AND(B4>=Feuil3!B177,B4<Feuil3!B178),21,IF(AND(B4>=Feuil3!B178,B4<Feuil3!B179),20,IF(AND(B4>=Feuil3!B179,B4<Feuil3!B180),19,IF(AND(B4>=Feuil3!B180,B4<Feuil3!B181),18,IF(AND(B4>=Feuil3!B181,B4<Feuil3!B182),17,IF(AND(B4>=Feuil3!B182,B4<Feuil3!B183),16,IF(AND(B4>=Feuil3!B183,B4<Feuil3!B184),15,IF(AND(B4>=Feuil3!B184,B4<Feuil3!B185),14,IF(AND(B4>=Feuil3!B185,B4<Feuil3!B186),13,IF(AND(B4>=Feuil3!B186,B4<Feuil3!B187),12,IF(AND(B4>=Feuil3!B187,B4<Feuil3!B188),11,IF(AND(B4>=Feuil3!B188,B4<Feuil3!B189),10,IF(AND(B4>=Feuil3!B189,B4<Feuil3!B190),9,IF(AND(B4>=Feuil3!B190,B4<Feuil3!B191),8,IF(AND(B4>=Feuil3!B191,B4<Feuil3!B192),7,IF(AND(B4>=Feuil3!B192,B4<Feuil3!B193),6,IF(AND(B4>=Feuil3!B193,B4<Feuil3!B194),5,IF(AND(B4>=Feuil3!B194,B4<Feuil3!B185),4,IF(AND(B4>=Feuil3!B195,B4<Feuil3!B196),3,IF(AND(B4>=Feuil3!B196,B4<Feuil3!B197),2,IF(AND(B4>=Feuil3!B197,B4<Feuil3!B198),1,0)))))))))))))))))))))))))))))))))))))))))))))))))) -> 10 | N3: Piste | P3: Salle
A4: 1 | B4: 8.96 | C4: =INDEX(C148:C268,IFERROR(MATCH(B4,B$148:B$268,0),MATCH(B4,B$148:B$268,1))) -> 10 | D4: 9.85 | E4: =INDEX(E148:E268,IFERROR(MATCH(D4,D$148:D$268,0),MATCH(D4,D$148:D$268,1))) -> 17 | F4: 10.03 | G4: =INDEX(G148:G268,IFERROR(MATCH(F4,F$148:F$268,0),MATCH(F4,F$148:F$268,1))) -> 42 | H4: 12.81 | I4: =INDEX(I148:I268,IFERROR(MATCH(H4,H$148:H$268,0),MATCH(H4,H$148:H$268,1))) -> 40 | J4: 3.2204 | K4: =INDEX(K148:K268,IFERROR(MATCH(J4,J$148:J$268,0),MATCH(J4,J$148:J$268,1))) -> 33 | L4: 9.227 | M4: =INDEX(M148:M268,IFERROR(MATCH(L4,L$148:L$268,0),MATCH(L4,L$148:L$268,1))) -> 26 | N4: 8.22 | O4: =INDEX(O148:O268,IFERROR(MATCH(N4,N$148:N$268,0),MATCH(N4,N$148:N$268,1))) -> 39 | P4: 8.75 | Q4: =INDEX(Q148:Q268,IFERROR(MATCH(P4,P$148:P$268,0),MATCH(P4,P$148:P$268,1))) -> 50 | R4: 14.24 | S4: =INDEX(S148:S268,IFERROR(MATCH(R4,R$148:R$268,0),MATCH(R4,R$148:R$268,1))) -> 27 | T4: 39.64 | U4: =INDEX(U148:U268,IFERROR(MATCH(T4,T$148:T$268,0),MATCH(T4,T$148:T$268,1))) -> 17 | V4: 1.23 | W4: =IF(AND(V4>=A!V148,V4<A!V149),50,IF(AND(V4>=A!V149,V4<A!V150),49,IF(AND(V4>=A!V150,V4<A!V151),48,IF(AND(V4>=A!V151,V4<A!V152),47,IF(AND(V4>=A!V152,V4<A!V153),46,IF(AND(V4>=A!V153,V4<A!V154),45,IF(AND(V4>=A!V154,V4<A!V155),44,IF(AND(V4>=A!V155,V4<=A!V156),43,IF(AND(V4>=A!V156,V4<A!V157),42,IF(AND(V4>=A!V157,V4<A!V158),41,IF(AND(V4>=A!V158,V4<A!V159),40,IF(AND(V4>=A!V159,V4<A!V160),39,IF(AND(V4>=A!V160,V4<A!V161),38,IF(AND(V4>=A!V161,V4<=A!V162),37,IF(AND(V4>=A!V162,V4<A!V163),36,IF(AND(V4>=A!V163,V4<A!V164),35,IF(AND(V4>=A!V164,V4<A!V165),34,IF(AND(V4>=A!V165,V4<A!V166),33,IF(AND(V4>=A!V166,V4<A!V167),32,IF(AND(V4>=A!V167,V4<A!V168),31,IF(AND(V4>=A!V168,V4<A!V169),30,IF(AND(V4>=A!V169,V4<A!V170),29,IF(AND(V4>=A!V170,V4<A!V171),28,IF(AND(V4>=A!V171,V4<A!V172),27,IF(AND(V4>=A!V172,V4<A!V173),26,IF(AND(V4>=A!V173,V4<A!V174),25,IF(AND(V4>=A!V174,V4<A!V175),24,IF(AND(V4>=A!V175,V4<A!V176),23,IF(AND(V4>=A!V176,V4<A!V177),22,IF(AND(V4>=A!V177,V4<A!V178),21,IF(AND(V4>=A!V178,V4<A!V179),20,IF(AND(V4>=A!V179,V4<A!V180),19,IF(AND(V4>=A!V180,V4<A!V181),18,IF(AND(V4>=A!V181,V4<A!V182),17,IF(AND(V4>=A!V182,V4<A!V183),16,IF(AND(V4>=A!V183,V4<A!V184),15,IF(AND(V4>=A!V184,V4<A!V185),14,IF(AND(V4>=A!V185,V4<A!V186),13,IF(AND(V4>=A!V186,V4<A!V187),12,IF(AND(V4>=A!V187,V4<A!V188),11,IF(AND(V4>=A!V188,V4<A!V189),10,IF(AND(V4>=A!V189,V4<A!V190),9,IF(AND(V4>=A!V190,V4<A!V191),8,IF(AND(V4>=A!V191,V4<A!V192),7,IF(AND(V4>=A!V192,V4<A!V193),6,IF(AND(V4>=A!V193,V4<A!V194),5,IF(AND(V4>=A!V194,V4<A!V185),4,IF(AND(V4>=A!V195,V4<A!V196),3,IF(AND(V4>=A!V196,V4<A!V197),2,IF(AND(V4>=A!V197,V4<A!V198),1,0)))))))))))))))))))))))))))))))))))))))))))))))))) -> 0 | X4: 3.9 | Y4: =INDEX(Y148:Y268,IFERROR(MATCH(X4,X$148:X$268,0),MATCH(X4,X$148:X$268,1))) -> 50 | Z4: 5.42 | AA4: =INDEX(AA148:AA268,IFERROR(MATCH(Z4,Z$148:Z$268,0),MATCH(Z4,Z$148:Z$268,1))) -> 15 | AB4: 11.87 | AC4: =INDEX(AC148:AC268,IFERROR(MATCH(AB4,AB$148:AB$268,0),MATCH(AB4,AB$148:AB$268,1))) -> 44 | AD4: 15.24 | AE4: =INDEX(AE148:AE268,IFERROR(MATCH(AD4,AD$148:AD$268,0),MATCH(AD4,AD$148:AD$268,1))) -> 50 | AF4: 21.27 | AG4: =INDEX(AG148:AG268,IFERROR(MATCH(AF4,AF$148:AF$268,0),MATCH(AF4,AF$148:AF$268,1))) -> 15 | AH4: 62.64 | AI4: =INDEX(AI148:AI268,IFERROR(MATCH(AH4,AH$148:AH$268,0),MATCH(AH4,AH$148:AH$268,1))) -> 50 | AJ4: 26.39 | AK4: =INDEX(AK148:AK268,IFERROR(MATCH(AJ4,AJ$148:AJ$268,0),MATCH(AJ4,AJ$148:AJ$268,1))) -> 32 | AL4: 10.3108 | AM4: =INDEX(AM148:AM268,IFERROR(MATCH(AL4,AL$148:AL$268,0),MATCH(AL4,AL$148:AL$268,1))) -> 44 | AN4: 19.0952 | AO4: =INDEX(AO148:AO268,IFERROR(MATCH(AN4,AN$148:AN$268,0),MATCH(AN4,AN$148:AN$268,1))) -> 34 | AP4: 30.92 | AQ4: =INDEX(AQ148:AQ268,IFERROR(MATCH(AP4,AP$148:AP$268,0),MATCH(AP4,AP$148:AP$268,1))) -> 41 | AR4: 29.47 | AS4: =INDEX(AS148:AS268,IFERROR(MATCH(AR4,AR$148:AR$268,0),MATCH(AR4,AR$148:AR$268,1))) -> 40
A5: 2
A6: 3
A7: 4
A8: 5
A9: 6
A10: 7
A11: 8
A12: 9
A13: 10
A14: 11
A15: 12
A16: 13
... A53: 50
J60: =IF(AND(F4>=C236,F4<Feuil3!H148),50,IF(AND(F4>=Feuil3!H148,F4<Feuil3!H149),49,IF(AND(F4>=Feuil3!H149,F4<Feuil3!H150),48,IF(AND(F4>=Feuil3!H150,F4<Feuil3!H151),47,IF(AND(F4>=Feuil3!H151,F4<Feuil3!H152),46,IF(AND(F4>=Feuil3!H152,F4<Feuil3!H153),45,IF(AND(F4>=Feuil3!H153,F4<Feuil3!H154),44,IF(AND(F4>=Feuil3!H154,F4<=Feuil3!H155),43,IF(AND(F4>=Feuil3!H155,F4<Feuil3!H156),42,IF(AND(F4>=Feuil3!H156,F4<Feuil3!H157),41,IF(AND(F4>=Feuil3!H157,F4<Feuil3!H158),40,IF(AND(F4>=Feuil3!H158,F4<Feuil3!H159),39,IF(AND(F4>=Feuil3!H159,F4<Feuil3!H160),38,IF(AND(F4>=Feuil3!H160,F4<=Feuil3!H161),37,IF(AND(F4>=Feuil3!H161,F4<Feuil3!H162),36,IF(AND(F4>=Feuil3!H162,F4<Feuil3!H163),35,IF(AND(F4>=Feuil3!H163,F4<Feuil3!H164),34,IF(AND(F4>=Feuil3!H164,F4<Feuil3!H165),33,IF(AND(F4>=Feuil3!H165,F4<Feuil3!H166),32,IF(AND(F4>=Feuil3!H166,F4<Feuil3!H167),31,IF(AND(F4>=Feuil3!H167,F4<Feuil3!H168),30,IF(AND(F4>=Feuil3!H168,F4<Feuil3!H169),29,IF(AND(F4>=Feuil3!H169,F4<Feuil3!H170),28,IF(AND(F4>=Feuil3!H170,F4<Feuil3!H171),27,IF(AND(F4>=Feuil3!H171,F4<Feuil3!H172),26,IF(AND(F4>=Feuil3!H172,F4<Feuil3!H173),25,IF(AND(F4>=Feuil3!H173,F4<Feuil3!H174),24,IF(AND(F4>=Feuil3!H174,F4<Feuil3!H175),23,IF(AND(F4>=Feuil3!H175,F4<Feuil3!H176),22,IF(AND(F4>=Feuil3!H176,F4<Feuil3!H177),21,IF(AND(F4>=Feuil3!H177,F4<Feuil3!H178),20,IF(AND(F4>=Feuil3!H178,F4<Feuil3!H179),19,IF(AND(F4>=Feuil3!H179,F4<Feuil3!H180),18,IF(AND(F4>=Feuil3!H180,F4<Feuil3!H181),17,IF(AND(F4>=Feuil3!H181,F4<Feuil3!H182),16,IF(AND(F4>=Feuil3!H182,F4<Feuil3!H183),15,IF(AND(F4>=Feuil3!H183,F4<Feuil3!H184),14,IF(AND(F4>=Feuil3!H184,F4<Feuil3!H185),13,IF(AND(F4>=Feuil3!H185,F4<Feuil3!H186),12,IF(AND(F4>=Feuil3!H186,F4<Feuil3!H187),11,IF(AND(F4>=Feuil3!H187,F4<Feuil3!H188),10,IF(AND(F4>=Feuil3!H188,F4<Feuil3!H189),9,IF(AND(F4>=Feuil3!H189,F4<Feuil3!H190),8,IF(AND(F4>=Feuil3!H190,F4<Feuil3!H191),7,IF(AND(F4>=Feuil3!H191,F4<Feuil3!H192),6,IF(AND(F4>=Feuil3!H192,F4<Feuil3!H193),5,IF(AND(F4>=Feuil3!H193,F4<Feuil3!H184),4,IF(AND(F4>=Feuil3!H194,F4<Feuil3!H195),3,IF(AND(F4>=Feuil3!H195,F4<Feuil3!H196),2,IF(AND(F4>=Feuil3!H196,F4<Feuil3!H197),1,0)))))))))))))))))))))))))))))))))))))))))))))))))) -> 0
Q143: =INDEX(Q148:Q183,IFERROR(MATCH(P143,P$148:P$183,0),MATCH(P143,P$148:P$183,1))) -> #N/A | R143: 11.76 | S143: =INDEX(S148:S183,IFERROR(MATCH(R143,R$148:R$183,0),MATCH(R143,R$148:R$183,1))) -> 46 | T143: 30.26 | U143: =INDEX(U$148:U$183,IFERROR(MATCH(T143,T$148:T$183,0),MATCH(T143,T$148:T$183,1))) -> 44 | V143: 1.23 | W143: =INDEX(W148:W183,IFERROR(MATCH(V143,V$148:V$183,0),MATCH(V143,V$148:V$183,1))) -> #N/A | Y143: =INDEX(Y148:Y183,IFERROR(MATCH(X143,X$148:X$183,0),MATCH(X143,X$148:X$183,1))) -> #N/A | Z143: 5.42 | AA143: =INDEX(AA148:AA183,IFERROR(MATCH(Z143,Z148:Z183,0),MATCH(Z143,Z148:Z183,1))) -> 15 | AB143: <<------ | AC143: Erreur
S144: le resultat | V144: erreur aucun resultat ?? | AA144: le resultat 43
S145: 46
B148: 6.42 | C148: 50 | D148: 7.75 | E148: 50 | F148: 9.44 | G148: 50 | H148: 11.85 | I148: 50 | J148: 2.5065 | K148: 50 | L148: 6.181 | M148: 50 | N148: 7.35 | O148: 50 | P148: 8.75 | Q148: 50 | R148: 11.19 | S148: 50 | T148: 27.77 | U148: 50 | V148: 1.8 | W148: 50 | X148: 3.9 | Y148: 50 | Z148: 6.57 | AA148: 50 | AB148: 13.31 | AC148: 50 | AD148: 15.24 | AE148: 50 | AF148: 48.99 | AG148: 50 | AH148: 62.64 | AI148: 50 | AJ148: 57.77 | AK148: 50 | AL148: 9.3 | AM148: 50 | AN148: 14.3673 | AO148: 50 | AP148: 29.62 | AQ148: 50 | AR148: 28.5 | AS148: 50
B149: 6.47 | C149: 49 | D149: 7.83 | E149: 49 | F149: 9.51 | G149: 49 | H149: 11.95 | I149: 49 | J149: 2.5232 | K149: 49 | L149: 6.2528 | M149: 49 | N149: 7.43 | O149: 49 | P149: 8.86 | Q149: 49 | R149: 11.31 | S149: 49 | T149: 28.22 | U149: 49 | V149: 1.78 | W149: 49 | X149: 3.78 | Y149: 49 | Z149: 6.38 | AA149: 49 | AB149: 13.05 | AC149: 49 | AD149: 14.59 | AE149: 49 | AF149: 46.87 | AG149: 49 | AH149: 60.31 | AI149: 49 | AJ149: 53.9 | AK149: 49 | AL149: 9.406 | AM149: 49 | AN149: 14.5978 | AO149: 49 | AP149: 29.76 | AQ149: 49 | AR149: 28.54 | AS149: 49
B150: 6.52 | C150: 48 | D150: 7.92 | E150: 48 | F150: 9.59 | G150: 48 | H150: 12.05 | I150: 48 | J150: 2.5399 | K150: 48 | L150: 6.3246 | M150: 48 | N150: 7.51 | O150: 48 | P150: 8.96 | Q150: 48 | R150: 11.42 | S150: 48 | T150: 28.66 | U150: 48 | V150: 1.76 | W150: 48 | X150: 3.66 | Y150: 48 | Z150: 6.18 | AA150: 48 | AB150: 12.79 | AC150: 48 | AD150: 13.94 | AE150: 48 | AF150: 44.75 | AG150: 48 | AH150: 57.98 | AI150: 48 | AJ150: 50.02 | AK150: 48 | AL150: 9.512 | AM150: 48 | AN150: 15.2284 | AO150: 48 | AP150: 29.89 | AQ150: 48 | AR150: 28.58 | AS150: 48
B151: 6.57 | C151: 47 | D151: 8 | E151: 47 | F151: 9.66 | G151: 47 | H151: 12.14 | I151: 47 | J151: 2.5566 | K151: 47 | L151: 6.3964 | M151: 47 | N151: 7.59 | O151: 47 | P151: 9.07 | Q151: 47 | R151: 11.54 | S151: 47 | T151: 29.11 | U151: 47 | V151: 1.74 | W151: 47 | X151: 3.54 | Y151: 47 | Z151: 5.99 | AA151: 47 | AB151: 12.52 | AC151: 47 | AD151: 13.3 | AE151: 47 | AF151: 42.64 | AG151: 47 | AH151: 55.66 | AI151: 47 | AJ151: 46.15 | AK151: 47 | AL151: 10.018 | AM151: 47 | AN151: 15.4589 | AO151: 47 | AP151: 30.03 | AQ151: 47 | AR151: 28.63 | AS151: 47
B152: 6.62 | C152: 46 | D152: 8.09 | E152: 46 | F152: 9.74 | G152: 46 | H152: 12.24 | I152: 46 | J152: 2.5733 | K152: 46 | L152: 6.4682 | M152: 46 | N152: 7.67 | O152: 46 | P152: 9.17 | Q152: 46 | R152: 11.65 | S152: 46 | T152: 29.55 | U152: 46 | V152: 1.72 | W152: 46 | X152: 3.42 | Y152: 46 | Z152: 5.79 | AA152: 46 | AB152: 12.26 | AC152: 46 | AD152: 12.65 | AE152: 46 | AF152: 40.52 | AG152: 46 | AH152: 53.33 | AI152: 46 | AJ152: 42.27 | AK152: 46 | AL152: 10.124 | AM152: 46 | AN152: 16.0895 | AO152: 46 | AP152: 30.16 | AQ152: 46 | AR152: 28.67 | AS152: 46
B153: 6.67 | C153: 45 | D153: 8.17 | E153: 45 | F153: 9.81 | G153: 45 | H153: 12.34 | I153: 45 | J153: 2.59 | K153: 45 | L153: 6.54 | M153: 45 | N153: 7.75 | O153: 45 | P153: 9.28 | Q153: 45 | R153: 11.77 | S153: 45 | T153: 30 | U153: 45 | V153: 1.7 | W153: 45 | X153: 3.3 | Y153: 45 | Z153: 5.6 | AA153: 45 | AB153: 12 | AC153: 45 | AD153: 12 | AE153: 45 | AF153: 38.4 | AG153: 45 | AH153: 51 | AI153: 45 | AJ153: 38.4 | AK153: 45 | AL153: 10.23 | AM153: 45 | AN153: 16.32 | AO153: 45 | AP153: 30.3 | AQ153: 45 | AR153: 28.71 | AS153: 45
B154: 6.72 | C154: 44 | D154: 8.22 | E154: 44 | F154: 9.88 | G154: 44 | H154: 12.43 | I154: 44 | J154: 3.0092 | K154: 44 | L154: 7.0144 | M154: 44 | N154: 7.83 | O154: 44 | P154: 9.36 | Q154: 44 | R154: 11.91 | S154: 44 | T154: 30.24 | U154: 44 | V154: 1.68 | W154: 44 | X154: 3.25 | Y154: 44 | Z154: 5.53 | AA154: 44 | AB154: 11.87 | AC154: 44 | AD154: 11.79 | AE154: 44 | AF154: 37.54 | AG154: 44 | AH154: 49.78 | AI154: 44 | AJ154: 37.48 | AK154: 44 | AL154: 10.3108 | AM154: 44 | AN154: 16.4632 | AO154: 44 | AP154: 30.43 | AQ154: 44 | AR154: 28.84 | AS154: 44
B155: 6.77 | C155: 43 | D155: 8.27 | E155: 43 | F155: 9.96 | G155: 43 | H155: 12.53 | I155: 43 | J155: 3.0284 | K155: 43 | L155: 7.0888 | M155: 43 | N155: 7.91 | O155: 43 | P155: 9.45 | Q155: 43 | R155: 12.04 | S155: 43 | T155: 30.49 | U155: 43 | V155: 1.66 | W155: 43 | X155: 3.2 | Y155: 43 | Z155: 5.46 | AA155: 43 | AB155: 11.74 | AC155: 43 | AD155: 11.58 | AE155: 43 | AF155: 36.69 | AG155: 43 | AH155: 48.56 | AI155: 43 | AJ155: 36.55 | AK155: 43 | AL155: 10.3916 | AM155: 43 | AN155: 17.0064 | AO155: 43 | AP155: 30.56 | AQ155: 43 | AR155: 28.97 | AS155: 43
B156: 6.82 | C156: 42 | D156: 8.32 | E156: 42 | F156: 10.03 | G156: 42 | H156: 12.62 | I156: 42 | J156: 3.0476 | K156: 42 | L156: 7.1632 | M156: 42 | N156: 7.98 | O156: 42 | P156: 9.53 | Q156: 42 | R156: 12.18 | S156: 42 | T156: 30.73 | U156: 42 | V156: 1.65 | W156: 42 | X156: 3.16 | Y156: 42 | Z156: 5.38 | AA156: 42 | AB156: 11.62 | AC156: 42 | AD156: 11.36 | AE156: 42 | AF156: 35.83 | AG156: 42 | AH156: 47.34 | AI156: 42 | AJ156: 35.63 | AK156: 42 | AL156: 10.4724 | AM156: 42 | AN156: 17.1496 | AO156: 42 | AP156: 30.68 | AQ156: 42 | AR156: 29.1 | AS156: 42
B157: 6.87 | C157: 41 | D157: 8.37 | E157: 41 | F157: 10.11 | G157: 41 | H157: 12.72 | I157: 41 | J157: 3.0668 | K157: 41 | L157: 7.2376 | M157: 41 | N157: 8.06 | O157: 41 | P157: 9.62 | Q157: 41 | R157: 12.32 | S157: 41 | T157: 30.98 | U157: 41 | V157: 1.63 | W157: 41 | X157: 3.11 | Y157: 41 | Z157: 5.31 | AA157: 41 | AB157: 11.49 | AC157: 41 | AD157: 11.15 | AE157: 41 | AF157: 34.98 | AG157: 41 | AH157: 46.12 | AI157: 41 | AJ157: 34.7 | AK157: 41 | AL157: 10.5532 | AM157: 41 | AN157: 17.2928 | AO157: 41 | AP157: 30.81 | AQ157: 41 | AR157: 29.23 | AS157: 41
B158: 6.92 | C158: 40 | D158: 8.42 | E158: 40 | F158: 10.18 | G158: 40 | H158: 12.81 | I158: 40 | J158: 3.086 | K158: 40 | L158: 7.312 | M158: 40 | N158: 8.14 | O158: 40 | P158: 9.7 | Q158: 40 | R158: 12.46 | S158: 40 | T158: 31.22 | U158: 40 | V158: 1.61 | W158: 40 | X158: 3.06 | Y158: 40 | Z158: 5.24 | AA158: 40 | AB158: 11.36 | AC158: 40 | AD158: 10.94 | AE158: 40 | AF158: 34.12 | AG158: 40 | AH158: 44.9 | AI158: 40 | AJ158: 33.78 | AK158: 40 | AL158: 11.034 | AM158: 40 | AN158: 17.436 | AO158: 40 | AP158: 30.94 | AQ158: 40 | AR158: 29.35 | AS158: 40
B159: 6.97 | C159: 39 | D159: 8.47 | E159: 39 | F159: 10.26 | G159: 39 | H159: 12.91 | I159: 39 | J159: 3.1052 | K159: 39 | L159: 7.3864 | M159: 39 | N159: 8.22 | O159: 39 | P159: 9.79 | Q159: 39 | R159: 12.59 | S159: 39 | T159: 31.46 | U159: 39 | V159: 1.59 | W159: 39 | X159: 3.01 | Y159: 39 | Z159: 5.17 | AA159: 39 | AB159: 11.23 | AC159: 39 | AD159: 10.73 | AE159: 39 | AF159: 33.26 | AG159: 39 | AH159: 43.68 | AI159: 39 | AJ159: 32.86 | AK159: 39 | AL159: 11.1148 | AM159: 39 | AN159: 17.5792 | AO159: 39 | AP159: 31.07 | AQ159: 39 | AR159: 29.48 | AS159: 39
... B183: 8.43 | C183: 15 | D183: 10.06 | E183: 15 | F183: 12.55 | G183: 15 | H183: 15.81 | I183: 15 | J183: 4.1253 | K183: 15 | L183: 10.2237 | M183: 15 | N183: 11.12 | O183: 15 | P183: 13.08 | Q183: 15 | R183: 17.2 | S183: 15 | T183: 41.99 | U183: 15 | V183: 1.16 | W183: 15 | X183: 1.92 | Y183: 15 | Z183: 3.38 | AA183: 15 | AB183: 8.01 | AC183: 15 | AD183: 5.91 | AE183: 15 | AF183: 14.58 | AG183: 15 | AH183: 17.24 | AI183: 15 | AJ183: 12.85 | AK183: 15 | AL183: 14.3632 | AM183: 15 | AN183: 23.4105 | AO183: 15 | AP183: 35.75 | AQ183: 15 | AR183: 33.27 | AS183: 15
B184: 8.535 | C184: 14
B185: 8.641 | C185: 13
B186: 8.747 | C186: 12
B187: 8.853 | C187: 11
B188: 8.959 | C188: 10
B189: 9.065 | C189: 9
B190: 9.171 | C190: 8
B191: 9.277 | C191: 7
B192: 9.383 | C192: 6
B193: 9.489 | C193: 5
B194: 9.595 | C194: 4
B195: 9.701 | C195: 3
... B198: 10.019 | C198: 0
C236: =IF(AND(D4>=Feuil3!D148,D4<Feuil3!D149),50,IF(AND(D4>=Feuil3!D149,D4<Feuil3!D150),49,IF(AND(D4>=Feuil3!D150,D4<Feuil3!D151),48,IF(AND(D4>=Feuil3!D151,D4<Feuil3!D152),47,IF(AND(D4>=Feuil3!D152,D4<Feuil3!D153),46,IF(AND(D4>=Feuil3!D153,D4<Feuil3!D154),45,IF(AND(D4>=Feuil3!D154,D4<Feuil3!D155),44,IF(AND(D4>=Feuil3!D155,D4<=Feuil3!D156),43,IF(AND(D4>=Feuil3!D156,D4<Feuil3!D157),42,IF(AND(D4>=Feuil3!D157,D4<Feuil3!D158),41,IF(AND(D4>=Feuil3!D158,D4<Feuil3!D159),40,IF(AND(D4>=Feuil3!D159,D4<Feuil3!D160),39,IF(AND(D4>=Feuil3!D160,D4<Feuil3!D161),38,IF(AND(D4>=Feuil3!D161,D4<=Feuil3!D162),37,IF(AND(D4>=Feuil3!D162,D4<Feuil3!D163),36,IF(AND(D4>=Feuil3!D163,D4<Feuil3!D164),35,IF(AND(D4>=Feuil3!D164,D4<Feuil3!D165),34,IF(AND(D4>=Feuil3!D165,D4<Feuil3!D166),33,IF(AND(D4>=Feuil3!D166,D4<Feuil3!D167),32,IF(AND(D4>=Feuil3!D167,D4<Feuil3!D168),31,IF(AND(D4>=Feuil3!D168,D4<Feuil3!D169),30,IF(AND(D4>=Feuil3!D169,D4<Feuil3!D170),29,IF(AND(D4>=Feuil3!D170,D4<Feuil3!D171),28,IF(AND(D4>=Feuil3!D171,D4<Feuil3!D172),27,IF(AND(D4>=Feuil3!D172,D4<Feuil3!D173),26,IF(AND(D4>=Feuil3!D173,D4<Feuil3!D174),25,IF(AND(D4>=Feuil3!D174,D4<Feuil3!D175),24,IF(AND(D4>=Feuil3!D175,D4<Feuil3!D176),23,IF(AND(D4>=Feuil3!D176,D4<Feuil3!D177),22,IF(AND(D4>=Feuil3!D177,D4<Feuil3!D178),21,IF(AND(D4>=Feuil3!D178,D4<Feuil3!D179),20,IF(AND(D4>=Feuil3!D179,D4<Feuil3!D180),19,IF(AND(D4>=Feuil3!D180,D4<Feuil3!D181),18,IF(AND(D4>=Feuil3!D181,D4<Feuil3!D182),17,IF(AND(D4>=Feuil3!D182,D4<Feuil3!D183),16,IF(AND(D4>=Feuil3!D183,D4<Feuil3!D184),15,IF(AND(D4>=Feuil3!D184,D4<Feuil3!D185),14,IF(AND(D4>=Feuil3!D185,D4<Feuil3!D186),13,IF(AND(D4>=Feuil3!D186,D4<Feuil3!D187),12,IF(AND(D4>=Feuil3!D187,D4<Feuil3!D188),11,IF(AND(D4>=Feuil3!D188,D4<Feuil3!D189),10,IF(AND(D4>=Feuil3!D189,D4<Feuil3!D190),9,IF(AND(D4>=Feuil3!D190,D4<Feuil3!D191),8,IF(AND(D4>=Feuil3!D191,D4<Feuil3!D192),7,IF(AND(D4>=Feuil3!D192,D4<Feuil3!D193),6,IF(AND(D4>=Feuil3!D193,D4<Feuil3!D194),5,IF(AND(D4>=Feuil3!D194,D4<Feuil3!D185),4,IF(AND(D4>=Feuil3!D195,D4<Feuil3!D196),3,IF(AND(D4>=Feuil3!D196,D4<Feuil3!D197),2,IF(AND(D4>=Feuil3!D197,D4<Feuil3!D198),1,0)))))))))))))))))))))))))))))))))))))))))))))))))) -> 17

Sheet Base de données
A1: Points | B1: 50 m | C1: Points | D1: 60m Salle | E1: Points | F1: 80 m | G1: Points | H1: 100m | I1: Points | J1: 1000 m | K1: Points | L1: 2000 m | M1: Points | N1: 50m haies Salle & Piste | O1: Points | P1: 80m haies | Q1: Points | R1: 200m haies | S1: Points | T1: 50m haies Salle et Piste | U1: Points | V1: 60m haies - salle | W1: Points | X1: Perche | Y1: Points | Z1: Longueur | AA1: Points | AB1: Triple saut | AC1: Points | AD1: Poids (3kg) | AE1: Points | AF1: Disque (0.8 kg) | AG1: Points | AH1: Marteau (3 kg) | AI1: Points | AJ1: Javelot (500 g) | AK1: Points | AL1: 2000 marche | AM1: Points | AN1: 3000 marche | AO1: Points | AP1: 4 x 60m | AQ1: Points | AR1: 4 x 60m Mixte | AS1: Points
A2: 50 | B2: 6.42 | C2: 50 | D2: 7.75 | E2: 50 | F2: 9.44 | G2: 50 | H2: 11.85 | I2: 50 | J2: 2.5065 | K2: 50 | L2: 6.181 | M2: 50 | N2: 7.35 | O2: 50 | P2: 8.75 | Q2: 50 | R2: 11.19 | S2: 50 | T2: 27.77 | U2: 50 | V2: 1.8 | W2: 50 | X2: 3.9 | Y2: 50 | Z2: 6.57 | AA2: 50 | AB2: 13.31 | AC2: 50 | AD2: 15.24 | AE2: 50 | AF2: 48.99 | AG2: 50 | AH2: 62.64 | AI2: 50 | AJ2: 57.77 | AK2: 50 | AL2: 9.3 | AM2: 50 | AN2: 14.3673 | AO2: 50 | AP2: 29.62 | AQ2: 50 | AR2: 28.5 | AS2: 50
A3: 49 | B3: 6.47 | C3: 49 | D3: 7.83 | E3: 49 | F3: 9.51 | G3: 49 | H3: 11.95 | I3: 49 | J3: 2.5232 | K3: 49 | L3: 6.2528 | M3: 49 | N3: 7.43 | O3: 49 | P3: 8.86 | Q3: 49 | R3: 11.31 | S3: 49 | T3: 28.22 | U3: 49 | V3: 1.78 | W3: 49 | X3: 3.78 | Y3: 49 | Z3: 6.38 | AA3: 49 | AB3: 13.05 | AC3: 49 | AD3: 14.59 | AE3: 49 | AF3: 46.87 | AG3: 49 | AH3: 60.31 | AI3: 49 | AJ3: 53.9 | AK3: 49 | AL3: 9.406 | AM3: 49 | AN3: 14.5978 | AO3: 49 | AP3: 29.76 | AQ3: 49 | AR3: 28.54 | AS3: 49
A4: 48 | B4: 6.52 | C4: 48 | D4: 7.92 | E4: 48 | F4: 9.59 | G4: 48 | H4: 12.05 | I4: 48 | J4: 2.5399 | K4: 48 | L4: 6.3246 | M4: 48 | N4: 7.51 | O4: 48 | P4: 8.96 | Q4: 48 | R4: 11.42 | S4: 48 | T4: 28.66 | U4: 48 | V4: 1.76 | W4: 48 | X4: 3.66 | Y4: 48 | Z4: 6.18 | AA4: 48 | AB4: 12.79 | AC4: 48 | AD4: 13.94 | AE4: 48 | AF4: 44.75 | AG4: 48 | AH4: 57.98 | AI4: 48 | AJ4: 50.02 | AK4: 48 | AL4: 9.512 | AM4: 48 | AN4: 15.2284 | AO4: 48 | AP4: 29.89 | AQ4: 48 | AR4: 28.58 | AS4: 48
A5: 47 | B5: 6.57 | C5: 47 | D5: 8 | E5: 47 | F5: 9.66 | G5: 47 | H5: 12.14 | I5: 47 | J5: 2.5566 | K5: 47 | L5: 6.3964 | M5: 47 | N5: 7.59 | O5: 47 | P5: 9.07 | Q5: 47 | R5: 11.54 | S5: 47 | T5: 29.11 | U5: 47 | V5: 1.74 | W5: 47 | X5: 3.54 | Y5: 47 | Z5: 5.99 | AA5: 47 | AB5: 12.52 | AC5: 47 | AD5: 13.3 | AE5: 47 | AF5: 42.64 | AG5: 47 | AH5: 55.66 | AI5: 47 | AJ5: 46.15 | AK5: 47 | AL5: 10.018 | AM5: 47 | AN5: 15.4589 | AO5: 47 | AP5: 30.03 | AQ5: 47 | AR5: 28.63 | AS5: 47
A6: 46 | B6: 6.62 | C6: 46 | D6: 8.09 | E6: 46 | F6: 9.74 | G6: 46 | H6: 12.24 | I6: 46 | J6: 2.5733 | K6: 46 | L6: 6.4682 | M6: 46 | N6: 7.67 | O6: 46 | P6: 9.17 | Q6: 46 | R6: 11.65 | S6: 46 | T6: 29.55 | U6: 46 | V6: 1.72 | W6: 46 | X6: 3.42 | Y6: 46 | Z6: 5.79 | AA6: 46 | AB6: 12.26 | AC6: 46 | AD6: 12.65 | AE6: 46 | AF6: 40.52 | AG6: 46 | AH6: 53.33 | AI6: 46 | AJ6: 42.27 | AK6: 46 | AL6: 10.124 | AM6: 46 | AN6: 16.0895 | AO6: 46 | AP6: 30.16 | AQ6: 46 | AR6: 28.67 | AS6: 46
A7: 45 | B7: 6.67 | C7: 45 | D7: 8.17 | E7: 45 | F7: 9.81 | G7: 45 | H7: 12.34 | I7: 45 | J7: 2.59 | K7: 45 | L7: 6.54 | M7: 45 | N7: 7.75 | O7: 45 | P7: 9.28 | Q7: 45 | R7: 11.77 | S7: 45 | T7: 30 | U7: 45 | V7: 1.7 | W7: 45 | X7: 3.3 | Y7: 45 | Z7: 5.6 | AA7: 45 | AB7: 12 | AC7: 45 | AD7: 12 | AE7: 45 | AF7: 38.4 | AG7: 45 | AH7: 51 | AI7: 45 | AJ7: 38.4 | AK7: 45 | AL7: 10.23 | AM7: 45 | AN7: 16.32 | AO7: 45 | AP7: 30.3 | AQ7: 45 | AR7: 28.71 | AS7: 45
A8: 44 | B8: 6.72 | C8: 44 | D8: 8.22 | E8: 44 | F8: 9.88 | G8: 44 | H8: 12.43 | I8: 44 | J8: 3.0092 | K8: 44 | L8: 7.0144 | M8: 44 | N8: 7.83 | O8: 44 | P8: 9.36 | Q8: 44 | R8: 11.91 | S8: 44 | T8: 30.24 | U8: 44 | V8: 1.68 | W8: 44 | X8: 3.25 | Y8: 44 | Z8: 5.53 | AA8: 44 | AB8: 11.87 | AC8: 44 | AD8: 11.79 | AE8: 44 | AF8: 37.54 | AG8: 44 | AH8: 49.78 | AI8: 44 | AJ8: 37.48 | AK8: 44 | AL8: 10.3108 | AM8: 44 | AN8: 16.4632 | AO8: 44 | AP8: 30.43 | AQ8: 44 | AR8: 28.84 | AS8: 44
A9: 43 | B9: 6.77 | C9: 43 | D9: 8.27 | E9: 43 | F9: 9.96 | G9: 43 | H9: 12.53 | I9: 43 | J9: 3.0284 | K9: 43 | L9: 7.0888 | M9: 43 | N9: 7.91 | O9: 43 | P9: 9.45 | Q9: 43 | R9: 12.04 | S9: 43 | T9: 30.49 | U9: 43 | V9: 1.66 | W9: 43 | X9: 3.2 | Y9: 43 | Z9: 5.46 | AA9: 43 | AB9: 11.74 | AC9: 43 | AD9: 11.58 | AE9: 43 | AF9: 36.69 | AG9: 43 | AH9: 48.56 | AI9: 43 | AJ9: 36.55 | AK9: 43 | AL9: 10.3916 | AM9: 43 | AN9: 17.0064 | AO9: 43 | AP9: 30.56 | AQ9: 43 | AR9: 28.97 | AS9: 43
A10: 42 | B10: 6.82 | C10: 42 | D10: 8.32 | E10: 42 | F10: 10.03 | G10: 42 | H10: 12.62 | I10: 42 | J10: 3.0476 | K10: 42 | L10: 7.1632 | M10: 42 | N10: 7.98 | O10: 42 | P10: 9.53 | Q10: 42 | R10: 12.18 | S10: 42 | T10: 30.73 | U10: 42 | V10: 1.65 | W10: 42 | X10: 3.16 | Y10: 42 | Z10: 5.38 | AA10: 42 | AB10: 11.62 | AC10: 42 | AD10: 11.36 | AE10: 42 | AF10: 35.83 | AG10: 42 | AH10: 47.34 | AI10: 42 | AJ10: 35.63 | AK10: 42 | AL10: 10.4724 | AM10: 42 | AN10: 17.1496 | AO10: 42 | AP10: 30.68 | AQ10: 42 | AR10: 29.1 | AS10: 42
A11: 41 | B11: 6.87 | C11: 41 | D11: 8.37 | E11: 41 | F11: 10.11 | G11: 41 | H11: 12.72 | I11: 41 | J11: 3.0668 | K11: 41 | L11: 7.2376 | M11: 41 | N11: 8.06 | O11: 41 | P11: 9.62 | Q11: 41 | R11: 12.32 | S11: 41 | T11: 30.98 | U11: 41 | V11: 1.63 | W11: 41 | X11: 3.11 | Y11: 41 | Z11: 5.31 | AA11: 41 | AB11: 11.49 | AC11: 41 | AD11: 11.15 | AE11: 41 | AF11: 34.98 | AG11: 41 | AH11: 46.12 | AI11: 41 | AJ11: 34.7 | AK11: 41 | AL11: 10.5532 | AM11: 41 | AN11: 17.2928 | AO11: 41 | AP11: 30.81 | AQ11: 41 | AR11: 29.23 | AS11: 41
A12: 40 | B12: 6.92 | C12: 40 | D12: 8.42 | E12: 40 | F12: 10.18 | G12: 40 | H12: 12.81 | I12: 40 | J12: 3.086 | K12: 40 | L12: 7.312 | M12: 40 | N12: 8.14 | O12: 40 | P12: 9.7 | Q12: 40 | R12: 12.46 | S12: 40 | T12: 31.22 | U12: 40 | V12: 1.61 | W12: 40 | X12: 3.06 | Y12: 40 | Z12: 5.24 | AA12: 40 | AB12: 11.36 | AC12: 40 | AD12: 10.94 | AE12: 40 | AF12: 34.12 | AG12: 40 | AH12: 44.9 | AI12: 40 | AJ12: 33.78 | AK12: 40 | AL12: 11.034 | AM12: 40 | AN12: 17.436 | AO12: 40 | AP12: 30.94 | AQ12: 40 | AR12: 29.35 | AS12: 40
A13: 39 | B13: 6.97 | C13: 39 | D13: 8.47 | E13: 39 | F13: 10.26 | G13: 39 | H13: 12.91 | I13: 39 | J13: 3.1052 | K13: 39 | L13: 7.3864 | M13: 39 | N13: 8.22 | O13: 39 | P13: 9.79 | Q13: 39 | R13: 12.59 | S13: 39 | T13: 31.46 | U13: 39 | V13: 1.59 | W13: 39 | X13: 3.01 | Y13: 39 | Z13: 5.17 | AA13: 39 | AB13: 11.23 | AC13: 39 | AD13: 10.73 | AE13: 39 | AF13: 33.26 | AG13: 39 | AH13: 43.68 | AI13: 39 | AJ13: 32.86 | AK13: 39 | AL13: 11.1148 | AM13: 39 | AN13: 17.5792 | AO13: 39 | AP13: 31.07 | AQ13: 39 | AR13: 29.48 | AS13: 39
... A52: 0 | B52: 10.019 | C52: 0 | D52: 12.01 | E52: 0 | F52: 15.1 | G52: 0 | H52: 19.26 | I52: 0 | J52: 4.8918 | K52: 0 | L52: 10.8957 | M52: 0 | N52: 15.47 | O52: 0 | P52: 18.18 | Q52: 0 | R52: 23.2 | S52: 0 | T52: 59.54 | U52: 0 | V52: 0.86 | W52: 0 | X52: 1.47 | Y52: 0 | Z52: 2.18 | AA52: 0 | AB52: 5.61 | AC52: 0 | AD52: 3.51 | AE52: 0 | AF52: 7.38 | AG52: 0 | AH52: 7.49 | AI52: 0 | AJ52: 5.5 | AK52: 0 | AL52: 15.9037 | AM52: 0 | AN52: 25.542 | AO52: 0 | AP52: 42.5 | AQ52: 0 | AR52: 37.32 | AS52: 0

Sheet Feuil3 (3)
A1: 43244 | B1: 50 m | C1: Points | D1: 60m Salle | E1: Points | F1: 80 m | G1: Points | H1: 100m | I1: Points | J1: 1000 m | K1: Points | L1: 2000 m | M1: Points | N1: 50m haies Salle Piste | O1: Points | P1: 80m haies | Q1: Points | R1: 200m haies (76) | S1: Points | T1: 50m haies Salle Piste | U1: Points | V1: 60m haies salle | W1: Points | X1: Perche | Y1: Points | Z1: Longueur | AA1: Points | AB1: Triple saut | AC1: Points | AD1: Poids (3kg) | AE1: Points | AF1: Disque (0.8 kg) | AG1: Points | AH1: Marteau (3 kg) | AI1: Points | AJ1: Javelot (500 g) | AK1: Points | AL1: 2000 marche | AM1: Points | AN1: 3000 marche | AO1: Points | AP1: 4 x 60m | AQ1: Points | AR1: 4 x 60m Mixte | AS1: Points | AT1: Points | AU1: =A1 -> 43244
A2: A | B2: 8.96 | C2: =INDEX('Base de données'!$C$2:$C$52,IFERROR(MATCH(B2,'Base de données'!$B$2:$B$52,0),MATCH(B2,'Base de données'!$B$2:$B$52,1))) -> 10 | D2: 9.85 | E2: =INDEX('Base de données'!$E$2:$E$52,IFERROR(MATCH($D$2,'Base de données'!$D$2:$D$52,0),MATCH(D2,'Base de données'!$D$2:$D$52,1))) -> 17 | F2: 10.03 | G2: =INDEX('Base de données'!$G$2:$G$52,IFERROR(MATCH(F2,'Base de données'!$F$2:$F$52,0),MATCH(F2,'Base de données'!$F$2:$F$52,1))) -> 42 | H2: 12.81 | I2: =INDEX('Base de données'!$I$2:$I$52,IFERROR(MATCH(H2,'Base de données'!$H$2:$H$52,0),MATCH(H2,'Base de données'!$H$2:$H$52,1))) -> 40 | J2: 3.2204 | K2: =INDEX('Base de données'!$K$2:$K$52,IFERROR(MATCH(J2,'Base de données'!$J$2:$J$52,0),MATCH(J2,'Base de données'!$J$2:$J$52,1))) -> 33 | L2: 9.228 | M2: =INDEX('Base de données'!$M$2:$M$52,IFERROR(MATCH(L2,'Base de données'!$L$2:$L$52,0),MATCH(L2,'Base de données'!$L$2:$L$52,1))) -> 25 | N2: 8.22 | O2: =INDEX('Base de données'!$O$2:$O$52,IFERROR(MATCH(N2,'Base de données'!$N$2:$N$52,0),MATCH(N2,'Base de données'!$N$2:$N$52,1))) -> 39 | P2: 11.82 | Q2: =INDEX('Base de données'!$Q$2:$Q$52,IFERROR(MATCH(P2,'Base de données'!$P$2:$P$52,0),MATCH(P2,'Base de données'!$P$2:$P$52,1))) -> 19 | R2: 14.24 | S2: =INDEX('Base de données'!$S$2:$S$52,IFERROR(MATCH(R2,'Base de données'!$R$2:$R$52,0),MATCH(R2,'Base de données'!$R$2:$R$52,1))) -> 27 | T2: 39.64 | U2: =INDEX('Base de données'!$U$2:$U$52,IFERROR(MATCH(T2,'Base de données'!$T$2:$T$52,0),MATCH(T2,'Base de données'!$T$2:$T$52,1))) -> 17 | V2: 1.63 | W2: =INDEX('Base de données'!$W$2:$W$52,IFERROR(MATCH(V2,'Base de données'!$V$2:$V$52,0),MATCH(V2,'Base de données'!$V$2:$V$52,1))) -> 41 | X2: 3.9 | Y2: =INDEX('Base de données'!$Y$2:$Y$52,IFERROR(MATCH(X2,'Base de données'!$X$2:$X$52,0),MATCH(X2,'Base de données'!$X$2:$X$52,1))) -> 50 | Z2: 5.31 | AA2: =INDEX('Base de données'!$AA$2:$AA$52,IFERROR(MATCH(Z2,'Base de données'!$Z$2:$Z$52,0),MATCH(Z2,'Base de données'!$Z$2:$Z$52,1))) -> 41 | AB2: 11.87 | AC2: =INDEX('Base de données'!$AC$2:$AC$52,IFERROR(MATCH(AB2,'Base de données'!$AB$2:$AB$52,0),MATCH(AB2,'Base de données'!$AB$2:$AB$52,1))) -> 44 | AD2: 15.24 | AE2: =INDEX('Base de données'!$AE$2:$AE$52,IFERROR(MATCH(AD2,'Base de données'!$AD$2:$AD$52,0),MATCH(AD2,'Base de données'!$AD$2:$AD$52,1))) -> 50 | AF2: 37.54 | AG2: =INDEX('Base de données'!$AG$2:$AG$52,IFERROR(MATCH(AF2,'Base de données'!$AF$2:$AF$52,0),MATCH(AF2,'Base de données'!$AF$2:$AF$52,1))) -> 44 | AH2: 62.64 | AI2: =INDEX('Base de données'!$AI$2:$AI$52,IFERROR(MATCH(AH2,'Base de données'!$AH$2:$AH$52,0),MATCH(AH2,'Base de données'!$AH$2:$AH$52,1))) -> 50 | AJ2: 26.39 | AK2: =INDEX('Base de données'!$AK$2:$AK$52,IFERROR(MATCH(AJ2,'Base de données'!$AJ$2:$AJ$52,0),MATCH(AJ2,'Base de données'!$AJ$2:$AJ$52,1))) -> 32 | AL2: 10.3108 | AM2: =INDEX('Base de données'!AM2:AM52,IFERROR(MATCH(AL2,'Base de données'!AL2:AL52,0),MATCH(AL2,'Base de données'!AL2:AL52,1))) -> 44 | AN2: 19.0952 | AO2: =INDEX('Base de données'!$AO$2:$AO$52,IFERROR(MATCH(AN2,'Base de données'!$AN$2:$AN$52,0),MATCH(AN2,'Base de données'!$AN$2:$AN$52,1))) -> 34 | AP2: 30.92 | AQ2: =INDEX('Base de données'!$AQ$2:$AQ$52,IFERROR(MATCH(AP2,'Base de données'!$AP$2:$AP$52,0),MATCH(AP2,'Base de données'!$AP$2:$AP$52,1))) -> 41 | AR2: 29.47 | AS2: =INDEX('Base de données'!$AS$2:$AS$52,IFERROR(MATCH(AR2,'Base de données'!$AR$2:$AR$52,0),MATCH(AR2,'Base de données'!$AR$2:$AR$52,1))) -> 40 | AT2: =AT3 -> 780 | AU2: =A2 -> A
C3: =SUM(C2) -> 10 | E3: =SUM(E2) -> 17 | G3: =SUM(G2) -> 42 | I3: =SUM(I2) -> 40 | K3: =SUM(K2) -> 33 | M3: =SUM(M2) -> 25 | O3: =SUM(O2) -> 39 | Q3: =SUM(Q2) -> 19 | S3: =SUM(S2) -> 27 | U3: =SUM(U2) -> 17 | W3: =SUM(W2) -> 41 | Y3: =SUM(Y2) -> 50 | AA3: =SUM(AA2) -> 41 | AC3: =SUM(AC2) -> 44 | AE3: =SUM(AE2) -> 50 | AG3: =SUM(AG2) -> 44 | AI3: =SUM(AI2) -> 50 | AK3: =SUM(AK2) -> 32 | AM3: =SUM(AM2) -> 44 | AO3: =SUM(AO2) -> 34 | AQ3: =SUM(AQ2) -> 41 | AS3: =SUM(AS2) -> 40 | AT3: {=SUM(IF(ISNUMBER(B3:AS3),B3:AS3))} -> 780
A4: B | C4: =INDEX('Base de données'!$C$2:$C$52,IFERROR(MATCH(B4,'Base de données'!$B$2:$B$52,0),MATCH(B4,'Base de données'!$B$2:$B$52,1))) -> #N/A | E4: =INDEX('Base de données'!$E$2:$E$52,IFERROR(MATCH($D$2,'Base de données'!$D$2:$D$52,0),MATCH(D4,'Base de données'!$D$2:$D$52,1))) -> #N/A | G4: =INDEX('Base de données'!$G$2:$G$52,IFERROR(MATCH(F4,'Base de données'!$F$2:$F$52,0),MATCH(F4,'Base de données'!$F$2:$F$52,1))) -> #N/A | I4: =INDEX('Base de données'!$I$2:$I$52,IFERROR(MATCH(H4,'Base de données'!$H$2:$H$52,0),MATCH(H4,'Base de données'!$H$2:$H$52,1))) -> #N/A | K4: =INDEX('Base de données'!$K$2:$K$52,IFERROR(MATCH(J4,'Base de données'!$J$2:$J$52,0),MATCH(J4,'Base de données'!$J$2:$J$52,1))) -> #N/A | L4: 10.228 | M4: =INDEX('Base de données'!$M$2:$M$52,IFERROR(MATCH(L4,'Base de données'!$L$2:$L$52,0),MATCH(L4,'Base de données'!$L$2:$L$52,1))) -> 15 | N4: 9.22 | O4: =INDEX('Base de données'!$O$2:$O$52,IFERROR(MATCH(N4,'Base de données'!$N$2:$N$52,0),MATCH(N4,'Base de données'!$N$2:$N$52,1))) -> 27 | Q4: =INDEX('Base de données'!$Q$2:$Q$52,IFERROR(MATCH(P4,'Base de données'!$P$2:$P$52,0),MATCH(P4,'Base de données'!$P$2:$P$52,1))) -> #N/A | S4: =INDEX('Base de données'!$S$2:$S$52,IFERROR(MATCH(R4,'Base de données'!$R$2:$R$52,0),MATCH(R4,'Base de données'!$R$2:$R$52,1))) -> #N/A | T4: 38.65 | U4: =INDEX('Base de données'!$U$2:$U$52,IFERROR(MATCH(T4,'Base de données'!$T$2:$T$52,0),MATCH(T4,'Base de données'!$T$2:$T$52,1))) -> 18 | W4: =INDEX('Base de données'!$W$2:$W$52,IFERROR(MATCH(V4,'Base de données'!$V$2:$V$52,0),MATCH(V4,'Base de données'!$V$2:$V$52,1))) -> #N/A | Y4: =INDEX('Base de données'!$Y$2:$Y$52,IFERROR(MATCH(X4,'Base de données'!$X$2:$X$52,0),MATCH(X4,'Base de données'!$X$2:$X$52,1))) -> #N/A | Z4: 5.42 | AA4: =INDEX('Base de données'!$AA$2:$AA$52,IFERROR(MATCH(Z4,'Base de données'!$Z$2:$Z$52,0),MATCH(Z4,'Base de données'!$Z$2:$Z$52,1))) -> 0 | AC4: =INDEX('Base de données'!$AC$2:$AC$52,IFERROR(MATCH(AB4,'Base de données'!$AB$2:$AB$52,0),MATCH(AB4,'Base de données'!$AB$2:$AB$52,1))) -> #N/A | AE4: =INDEX('Base de données'!$AE$2:$AE$52,IFERROR(MATCH(AD4,'Base de données'!$AD$2:$AD$52,0),MATCH(AD4,'Base de données'!$AD$2:$AD$52,1))) -> #N/A | AG4: =INDEX('Base de données'!$AG$2:$AG$52,IFERROR(MATCH(AF4,'Base de données'!$AF$2:$AF$52,0),MATCH(AF4,'Base de données'!$AF$2:$AF$52,1))) -> #N/A | AI4: =INDEX('Base de données'!$AI$2:$AI$52,IFERROR(MATCH(AH4,'Base de données'!$AH$2:$AH$52,0),MATCH(AH4,'Base de données'!$AH$2:$AH$52,1))) -> #N/A | AK4: =INDEX('Base de données'!$AK$2:$AK$52,IFERROR(MATCH(AJ4,'Base de données'!$AJ$2:$AJ$52,0),MATCH(AJ4,'Base de données'!$AJ$2:$AJ$52,1))) -> #N/A | AM4: =INDEX('Base de données'!AM3:AM53,IFERROR(MATCH(AL4,'Base de données'!AL3:AL53,0),MATCH(AL4,'Base de données'!AL3:AL53,1))) -> #N/A | AO4: =INDEX('Base de données'!$AO$2:$AO$52,IFERROR(MATCH(AN4,'Base de données'!$AN$2:$AN$52,0),MATCH(AN4,'Base de données'!$AN$2:$AN$52,1))) -> #N/A | AQ4: =INDEX('Base de données'!$AQ$2:$AQ$52,IFERROR(MATCH(AP4,'Base de données'!$AP$2:$AP$52,0),MATCH(AP4,'Base de données'!$AP$2:$AP$52,1))) -> #N/A | AS4: =INDEX('Base de données'!$AS$2:$AS$52,IFERROR(MATCH(AR4,'Base de données'!$AR$2:$AR$52,0),MATCH(AR4,'Base de données'!$AR$2:$AR$52,1))) -> #N/A | AT4: =AT5 -> 60 | AU4: =A4 -> B
C5: =SUM(C4) -> #N/A | E5: =SUM(E4) -> #N/A | G5: =SUM(G4) -> #N/A | I5: =SUM(I4) -> #N/A | K5: =SUM(K4) -> #N/A | M5: =SUM(M4) -> 15 | O5: =SUM(O4) -> 27 | Q5: =SUM(Q4) -> #N/A | S5: =SUM(S4) -> #N/A | U5: =SUM(U4) -> 18 | W5: =SUM(W4) -> #N/A | Y5: =SUM(Y4) -> #N/A | AA5: =SUM(AA4) -> 0 | AC5: =SUM(AC4) -> #N/A | AE5: =SUM(AE4) -> #N/A | AG5: =SUM(AG4) -> #N/A | AI5: =SUM(AI4) -> #N/A | AK5: =SUM(AK4) -> #N/A | AM5: =SUM(AM4) -> #N/A | AO5: =SUM(AO4) -> #N/A | AQ5: =SUM(AQ4) -> #N/A | AS5: =SUM(AS4) -> #N/A | AT5: {=SUM(IF(ISNUMBER(B5:AS5),B5:AS5))} -> 60 | AU5: =A5 -> 0
A6: C | C6: =INDEX('Base de données'!$C$2:$C$52,IFERROR(MATCH(B6,'Base de données'!$B$2:$B$52,0),MATCH(B6,'Base de données'!$B$2:$B$52,1))) -> #N/A | E6: =INDEX('Base de données'!$E$2:$E$52,IFERROR(MATCH($D$2,'Base de données'!$D$2:$D$52,0),MATCH(D6,'Base de données'!$D$2:$D$52,1))) -> #N/A | G6: =INDEX('Base de données'!$G$2:$G$52,IFERROR(MATCH(F6,'Base de données'!$F$2:$F$52,0),MATCH(F6,'Base de données'!$F$2:$F$52,1))) -> #N/A | I6: =INDEX('Base de données'!$I$2:$I$52,IFERROR(MATCH(H6,'Base de données'!$H$2:$H$52,0),MATCH(H6,'Base de données'!$H$2:$H$52,1))) -> #N/A | K6: =INDEX('Base de données'!$K$2:$K$52,IFERROR(MATCH(J6,'Base de données'!$J$2:$J$52,0),MATCH(J6,'Base de données'!$J$2:$J$52,1))) -> #N/A | M6: =INDEX('Base de données'!$M$2:$M$52,IFERROR(MATCH(L6,'Base de données'!$L$2:$L$52,0),MATCH(L6,'Base de données'!$L$2:$L$52,1))) -> #N/A | N6: 10.22 | O6: =INDEX('Base de données'!$O$2:$O$52,IFERROR(MATCH(N6,'Base de données'!$N$2:$N$52,0),MATCH(N6,'Base de données'!$N$2:$N$52,1))) -> 19 | Q6: =INDEX('Base de données'!$Q$2:$Q$52,IFERROR(MATCH(P6,'Base de données'!$P$2:$P$52,0),MATCH(P6,'Base de données'!$P$2:$P$52,1))) -> #N/A | S6: =INDEX('Base de données'!$S$2:$S$52,IFERROR(MATCH(R6,'Base de données'!$R$2:$R$52,0),MATCH(R6,'Base de données'!$R$2:$R$52,1))) -> #N/A | U6: =INDEX('Base de données'!$U$2:$U$52,IFERROR(MATCH(T6,'Base de données'!$T$2:$T$52,0),MATCH(T6,'Base de données'!$T$2:$T$52,1))) -> #N/A | W6: =INDEX('Base de données'!$W$2:$W$52,IFERROR(MATCH(V6,'Base de données'!$V$2:$V$52,0),MATCH(V6,'Base de données'!$V$2:$V$52,1))) -> #N/A | Y6: =INDEX('Base de données'!$Y$2:$Y$52,IFERROR(MATCH(X6,'Base de données'!$X$2:$X$52,0),MATCH(X6,'Base de données'!$X$2:$X$52,1))) -> #N/A | AA6: =INDEX('Base de données'!$AA$2:$AA$52,IFERROR(MATCH(Z6,'Base de données'!$Z$2:$Z$52,0),MATCH(Z6,'Base de données'!$Z$2:$Z$52,1))) -> #N/A | AC6: =INDEX('Base de données'!$AC$2:$AC$52,IFERROR(MATCH(AB6,'Base de données'!$AB$2:$AB$52,0),MATCH(AB6,'Base de données'!$AB$2:$AB$52,1))) -> #N/A | AE6: =INDEX('Base de données'!$AE$2:$AE$52,IFERROR(MATCH(AD6,'Base de données'!$AD$2:$AD$52,0),MATCH(AD6,'Base de données'!$AD$2:$AD$52,1))) -> #N/A | AG6: =INDEX('Base de données'!$AG$2:$AG$52,IFERROR(MATCH(AF6,'Base de données'!$AF$2:$AF$52,0),MATCH(AF6,'Base de données'!$AF$2:$AF$52,1))) -> #N/A | AI6: =INDEX('Base de données'!$AI$2:$AI$52,IFERROR(MATCH(AH6,'Base de données'!$AH$2:$AH$52,0),MATCH(AH6,'Base de données'!$AH$2:$AH$52,1))) -> #N/A | AK6: =INDEX('Base de données'!$AK$2:$AK$52,IFERROR(MATCH(AJ6,'Base de données'!$AJ$2:$AJ$52,0),MATCH(AJ6,'Base de données'!$AJ$2:$AJ$52,1))) -> #N/A | AM6: =INDEX('Base de données'!AM4:AM54,IFERROR(MATCH(AL6,'Base de données'!AL4:AL54,0),MATCH(AL6,'Base de données'!AL4:AL54,1))) -> #N/A | AO6: =INDEX('Base de données'!$AO$2:$AO$52,IFERROR(MATCH(AN6,'Base de données'!$AN$2:$AN$52,0),MATCH(AN6,'Base de données'!$AN$2:$AN$52,1))) -> #N/A | AQ6: =INDEX('Base de données'!$AQ$2:$AQ$52,IFERROR(MATCH(AP6,'Base de données'!$AP$2:$AP$52,0),MATCH(AP6,'Base de données'!$AP$2:$AP$52,1))) -> #N/A | AS6: =INDEX('Base de données'!$AS$2:$AS$52,IFERROR(MATCH(AR6,'Base de données'!$AR$2:$AR$52,0),MATCH(AR6,'Base de données'!$AR$2:$AR$52,1))) -> #N/A | AT6: =AT7 -> 19 | AU6: =A6 -> C
C7: =SUM(C6) -> #N/A | E7: =SUM(E6) -> #N/A | G7: =SUM(G6) -> #N/A | I7: =SUM(I6) -> #N/A | K7: =SUM(K6) -> #N/A | M7: =SUM(M6) -> #N/A | O7: =SUM(O6) -> 19 | Q7: =SUM(Q6) -> #N/A | S7: =SUM(S6) -> #N/A | U7: =SUM(U6) -> #N/A | W7: =SUM(W6) -> #N/A | Y7: =SUM(Y6) -> #N/A | AA7: =SUM(AA6) -> #N/A | AC7: =SUM(AC6) -> #N/A | AE7: =SUM(AE6) -> #N/A | AG7: =SUM(AG6) -> #N/A | AI7: =SUM(AI6) -> #N/A | AK7: =SUM(AK6) -> #N/A | AM7: =SUM(AM6) -> #N/A | AO7: =SUM(AO6) -> #N/A | AQ7: =SUM(AQ6) -> #N/A | AS7: =SUM(AS6) -> #N/A | AT7: {=SUM(IF(ISNUMBER(B7:AS7),B7:AS7))} -> 19 | AU7: =A7 -> 0
A8: D | C8: =INDEX('Base de données'!$C$2:$C$52,IFERROR(MATCH(B8,'Base de données'!$B$2:$B$52,0),MATCH(B8,'Base de données'!$B$2:$B$52,1))) -> #N/A | E8: =INDEX('Base de données'!$E$2:$E$52,IFERROR(MATCH($D$2,'Base de données'!$D$2:$D$52,0),MATCH(D8,'Base de données'!$D$2:$D$52,1))) -> #N/A | G8: =INDEX('Base de données'!$G$2:$G$52,IFERROR(MATCH(F8,'Base de données'!$F$2:$F$52,0),MATCH(F8,'Base de données'!$F$2:$F$52,1))) -> #N/A | I8: =INDEX('Base de données'!$I$2:$I$52,IFERROR(MATCH(H8,'Base de données'!$H$2:$H$52,0),MATCH(H8,'Base de données'!$H$2:$H$52,1))) -> #N/A | K8: =INDEX('Base de données'!$K$2:$K$52,IFERROR(MATCH(J8,'Base de données'!$J$2:$J$52,0),MATCH(J8,'Base de données'!$J$2:$J$52,1))) -> #N/A | M8: =INDEX('Base de données'!$M$2:$M$52,IFERROR(MATCH(L8,'Base de données'!$L$2:$L$52,0),MATCH(L8,'Base de données'!$L$2:$L$52,1))) -> #N/A | N8: 11.22 | O8: =INDEX('Base de données'!$O$2:$O$52,IFERROR(MATCH(N8,'Base de données'!$N$2:$N$52,0),MATCH(N8,'Base de données'!$N$2:$N$52,1))) -> 15 | Q8: =INDEX('Base de données'!$Q$2:$Q$52,IFERROR(MATCH(P8,'Base de données'!$P$2:$P$52,0),MATCH(P8,'Base de données'!$P$2:$P$52,1))) -> #N/A | S8: =INDEX('Base de données'!$S$2:$S$52,IFERROR(MATCH(R8,'Base de données'!$R$2:$R$52,0),MATCH(R8,'Base de données'!$R$2:$R$52,1))) -> #N/A | U8: =INDEX('Base de données'!$U$2:$U$52,IFERROR(MATCH(T8,'Base de données'!$T$2:$T$52,0),MATCH(T8,'Base de données'!$T$2:$T$52,1))) -> #N/A | W8: =INDEX('Base de données'!$W$2:$W$52,IFERROR(MATCH(V8,'Base de données'!$V$2:$V$52,0),MATCH(V8,'Base de données'!$V$2:$V$52,1))) -> #N/A | Y8: =INDEX('Base de données'!$Y$2:$Y$52,IFERROR(MATCH(X8,'Base de données'!$X$2:$X$52,0),MATCH(X8,'Base de données'!$X$2:$X$52,1))) -> #N/A | AA8: =INDEX('Base de données'!$AA$2:$AA$52,IFERROR(MATCH(Z8,'Base de données'!$Z$2:$Z$52,0),MATCH(Z8,'Base de données'!$Z$2:$Z$52,1))) -> #N/A | AC8: =INDEX('Base de données'!$AC$2:$AC$52,IFERROR(MATCH(AB8,'Base de données'!$AB$2:$AB$52,0),MATCH(AB8,'Base de données'!$AB$2:$AB$52,1))) -> #N/A | AE8: =INDEX('Base de données'!$AE$2:$AE$52,IFERROR(MATCH(AD8,'Base de données'!$AD$2:$AD$52,0),MATCH(AD8,'Base de données'!$AD$2:$AD$52,1))) -> #N/A | AG8: =INDEX('Base de données'!$AG$2:$AG$52,IFERROR(MATCH(AF8,'Base de données'!$AF$2:$AF$52,0),MATCH(AF8,'Base de données'!$AF$2:$AF$52,1))) -> #N/A | AI8: =INDEX('Base de données'!$AI$2:$AI$52,IFERROR(MATCH(AH8,'Base de données'!$AH$2:$AH$52,0),MATCH(AH8,'Base de données'!$AH$2:$AH$52,1))) -> #N/A | AK8: =INDEX('Base de données'!$AK$2:$AK$52,IFERROR(MATCH(AJ8,'Base de données'!$AJ$2:$AJ$52,0),MATCH(AJ8,'Base de données'!$AJ$2:$AJ$52,1))) -> #N/A | AM8: =INDEX('Base de données'!AM5:AM55,IFERROR(MATCH(AL8,'Base de données'!AL5:AL55,0),MATCH(AL8,'Base de données'!AL5:AL55,1))) -> #N/A | AO8: =INDEX('Base de données'!$AO$2:$AO$52,IFERROR(MATCH(AN8,'Base de données'!$AN$2:$AN$52,0),MATCH(AN8,'Base de données'!$AN$2:$AN$52,1))) -> #N/A | AQ8: =INDEX('Base de données'!$AQ$2:$AQ$52,IFERROR(MATCH(AP8,'Base de données'!$AP$2:$AP$52,0),MATCH(AP8,'Base de données'!$AP$2:$AP$52,1))) -> #N/A | AS8: =INDEX('Base de données'!$AS$2:$AS$52,IFERROR(MATCH(AR8,'Base de données'!$AR$2:$AR$52,0),MATCH(AR8,'Base de données'!$AR$2:$AR$52,1))) -> #N/A | AT8: =AT9 -> 15 | AU8: =A8 -> D
C9: =SUM(C8) -> #N/A | E9: =SUM(E8) -> #N/A | G9: =SUM(G8) -> #N/A | I9: =SUM(I8) -> #N/A | K9: =SUM(K8) -> #N/A | M9: =SUM(M8) -> #N/A | O9: =SUM(O8) -> 15 | Q9: =SUM(Q8) -> #N/A | S9: =SUM(S8) -> #N/A | U9: =SUM(U8) -> #N/A | W9: =SUM(W8) -> #N/A | Y9: =SUM(Y8) -> #N/A | AA9: =SUM(AA8) -> #N/A | AC9: =SUM(AC8) -> #N/A | AE9: =SUM(AE8) -> #N/A | AG9: =SUM(AG8) -> #N/A | AI9: =SUM(AI8) -> #N/A | AK9: =SUM(AK8) -> #N/A | AM9: =SUM(AM8) -> #N/A | AO9: =SUM(AO8) -> #N/A | AQ9: =SUM(AQ8) -> #N/A | AS9: =SUM(AS8) -> #N/A | AT9: {=SUM(IF(ISNUMBER(B9:AS9),B9:AS9))} -> 15 | AU9: =A9 -> 0
A10: E | C10: =INDEX('Base de données'!$C$2:$C$52,IFERROR(MATCH(B10,'Base de données'!$B$2:$B$52,0),MATCH(B10,'Base de données'!$B$2:$B$52,1))) -> #N/A | E10: =INDEX('Base de données'!$E$2:$E$52,IFERROR(MATCH($D$2,'Base de données'!$D$2:$D$52,0),MATCH(D10,'Base de données'!$D$2:$D$52,1))) -> #N/A | G10: =INDEX('Base de données'!$G$2:$G$52,IFERROR(MATCH(F10,'Base de données'!$F$2:$F$52,0),MATCH(F10,'Base de données'!$F$2:$F$52,1))) -> #N/A | I10: =INDEX('Base de données'!$I$2:$I$52,IFERROR(MATCH(H10,'Base de données'!$H$2:$H$52,0),MATCH(H10,'Base de données'!$H$2:$H$52,1))) -> #N/A | K10: =INDEX('Base de données'!$K$2:$K$52,IFERROR(MATCH(J10,'Base de données'!$J$2:$J$52,0),MATCH(J10,'Base de données'!$J$2:$J$52,1))) -> #N/A | M10: =INDEX('Base de données'!$M$2:$M$52,IFERROR(MATCH(L10,'Base de données'!$L$2:$L$52,0),MATCH(L10,'Base de données'!$L$2:$L$52,1))) -> #N/A | N10: 12.22 | O10: =INDEX('Base de données'!$O$2:$O$52,IFERROR(MATCH(N10,'Base de données'!$N$2:$N$52,0),MATCH(N10,'Base de données'!$N$2:$N$52,1))) -> 12 | Q10: =INDEX('Base de données'!$Q$2:$Q$52,IFERROR(MATCH(P10,'Base de données'!$P$2:$P$52,0),MATCH(P10,'Base de données'!$P$2:$P$52,1))) -> #N/A | S10: =INDEX('Base de données'!$S$2:$S$52,IFERROR(MATCH(R10,'Base de données'!$R$2:$R$52,0),MATCH(R10,'Base de données'!$R$2:$R$52,1))) -> #N/A | U10: =INDEX('Base de données'!$U$2:$U$52,IFERROR(MATCH(T10,'Base de données'!$T$2:$T$52,0),MATCH(T10,'Base de données'!$T$2:$T$52,1))) -> #N/A | W10: =INDEX('Base de données'!$W$2:$W$52,IFERROR(MATCH(V10,'Base de données'!$V$2:$V$52,0),MATCH(V10,'Base de données'!$V$2:$V$52,1))) -> #N/A | Y10: =INDEX('Base de données'!$Y$2:$Y$52,IFERROR(MATCH(X10,'Base de données'!$X$2:$X$52,0),MATCH(X10,'Base de données'!$X$2:$X$52,1))) -> #N/A | AA10: =INDEX('Base de données'!$AA$2:$AA$52,IFERROR(MATCH(Z10,'Base de données'!$Z$2:$Z$52,0),MATCH(Z10,'Base de données'!$Z$2:$Z$52,1))) -> #N/A | AC10: =INDEX('Base de données'!$AC$2:$AC$52,IFERROR(MATCH(AB10,'Base de données'!$AB$2:$AB$52,0),MATCH(AB10,'Base de données'!$AB$2:$AB$52,1))) -> #N/A | AE10: =INDEX('Base de données'!$AE$2:$AE$52,IFERROR(MATCH(AD10,'Base de données'!$AD$2:$AD$52,0),MATCH(AD10,'Base de données'!$AD$2:$AD$52,1))) -> #N/A | AG10: =INDEX('Base de données'!$AG$2:$AG$52,IFERROR(MATCH(AF10,'Base de données'!$AF$2:$AF$52,0),MATCH(AF10,'Base de données'!$AF$2:$AF$52,1))) -> #N/A | AI10: =INDEX('Base de données'!$AI$2:$AI$52,IFERROR(MATCH(AH10,'Base de données'!$AH$2:$AH$52,0),MATCH(AH10,'Base de données'!$AH$2:$AH$52,1))) -> #N/A | AK10: =INDEX('Base de données'!$AK$2:$AK$52,IFERROR(MATCH(AJ10,'Base de données'!$AJ$2:$AJ$52,0),MATCH(AJ10,'Base de données'!$AJ$2:$AJ$52,1))) -> #N/A | AM10: =INDEX('Base de données'!AM6:AM56,IFERROR(MATCH(AL10,'Base de données'!AL6:AL56,0),MATCH(AL10,'Base de données'!AL6:AL56,1))) -> #N/A | AO10: =INDEX('Base de données'!$AO$2:$AO$52,IFERROR(MATCH(AN10,'Base de données'!$AN$2:$AN$52,0),MATCH(AN10,'Base de données'!$AN$2:$AN$52,1))) -> #N/A | AQ10: =INDEX('Base de données'!$AQ$2:$AQ$52,IFERROR(MATCH(AP10,'Base de données'!$AP$2:$AP$52,0),MATCH(AP10,'Base de données'!$AP$2:$AP$52,1))) -> #N/A | AS10: =INDEX('Base de données'!$AS$2:$AS$52,IFERROR(MATCH(AR10,'Base de données'!$AR$2:$AR$52,0),MATCH(AR10,'Base de données'!$AR$2:$AR$52,1))) -> #N/A | AT10: =AT11 -> 12 | AU10: =A10 -> E
C11: =SUM(C10) -> #N/A | E11: =SUM(E10) -> #N/A | G11: =SUM(G10) -> #N/A | I11: =SUM(I10) -> #N/A | K11: =SUM(K10) -> #N/A | M11: =SUM(M10) -> #N/A | O11: =SUM(O10) -> 12 | Q11: =SUM(Q10) -> #N/A | S11: =SUM(S10) -> #N/A | U11: =SUM(U10) -> #N/A | W11: =SUM(W10) -> #N/A | Y11: =SUM(Y10) -> #N/A | AA11: =SUM(AA10) -> #N/A | AC11: =SUM(AC10) -> #N/A | AE11: =SUM(AE10) -> #N/A | AG11: =SUM(AG10) -> #N/A | AI11: =SUM(AI10) -> #N/A | AK11: =SUM(AK10) -> #N/A | AM11: =SUM(AM10) -> #N/A | AO11: =SUM(AO10) -> #N/A | AQ11: =SUM(AQ10) -> #N/A | AS11: =SUM(AS10) -> #N/A | AT11: {=SUM(IF(ISNUMBER(B11:AS11),B11:AS11))} -> 12 | AU11: =A11 -> 0
A12: F | C12: =INDEX('Base de données'!$C$2:$C$52,IFERROR(MATCH(B12,'Base de données'!$B$2:$B$52,0),MATCH(B12,'Base de données'!$B$2:$B$52,1))) -> #N/A | E12: =INDEX('Base de données'!$E$2:$E$52,IFERROR(MATCH($D$2,'Base de données'!$D$2:$D$52,0),MATCH(D12,'Base de données'!$D$2:$D$52,1))) -> #N/A | G12: =INDEX('Base de données'!$G$2:$G$52,IFERROR(MATCH(F12,'Base de données'!$F$2:$F$52,0),MATCH(F12,'Base de données'!$F$2:$F$52,1))) -> #N/A | I12: =INDEX('Base de données'!$I$2:$I$52,IFERROR(MATCH(H12,'Base de données'!$H$2:$H$52,0),MATCH(H12,'Base de données'!$H$2:$H$52,1))) -> #N/A | K12: =INDEX('Base de données'!$K$2:$K$52,IFERROR(MATCH(J12,'Base de données'!$J$2:$J$52,0),MATCH(J12,'Base de données'!$J$2:$J$52,1))) -> #N/A | M12: =INDEX('Base de données'!$M$2:$M$52,IFERROR(MATCH(L12,'Base de données'!$L$2:$L$52,0),MATCH(L12,'Base de données'!$L$2:$L$52,1))) -> #N/A | N12: 13.22 | O12: =INDEX('Base de données'!$O$2:$O$52,IFERROR(MATCH(N12,'Base de données'!$N$2:$N$52,0),MATCH(N12,'Base de données'!$N$2:$N$52,1))) -> 8 | Q12: =INDEX('Base de données'!$Q$2:$Q$52,IFERROR(MATCH(P12,'Base de données'!$P$2:$P$52,0),MATCH(P12,'Base de données'!$P$2:$P$52,1))) -> #N/A | S12: =INDEX('Base de données'!$S$2:$S$52,IFERROR(MATCH(R12,'Base de données'!$R$2:$R$52,0),MATCH(R12,'Base de données'!$R$2:$R$52,1))) -> #N/A | U12: =INDEX('Base de données'!$U$2:$U$52,IFERROR(MATCH(T12,'Base de données'!$T$2:$T$52,0),MATCH(T12,'Base de données'!$T$2:$T$52,1))) -> #N/A | W12: =INDEX('Base de données'!$W$2:$W$52,IFERROR(MATCH(V12,'Base de données'!$V$2:$V$52,0),MATCH(V12,'Base de données'!$V$2:$V$52,1))) -> #N/A | Y12: =INDEX('Base de données'!$Y$2:$Y$52,IFERROR(MATCH(X12,'Base de données'!$X$2:$X$52,0),MATCH(X12,'Base de données'!$X$2:$X$52,1))) -> #N/A | AA12: =INDEX('Base de données'!$AA$2:$AA$52,IFERROR(MATCH(Z12,'Base de données'!$Z$2:$Z$52,0),MATCH(Z12,'Base de données'!$Z$2:$Z$52,1))) -> #N/A | AC12: =INDEX('Base de données'!$AC$2:$AC$52,IFERROR(MATCH(AB12,'Base de données'!$AB$2:$AB$52,0),MATCH(AB12,'Base de données'!$AB$2:$AB$52,1))) -> #N/A | AE12: =INDEX('Base de données'!$AE$2:$AE$52,IFERROR(MATCH(AD12,'Base de données'!$AD$2:$AD$52,0),MATCH(AD12,'Base de données'!$AD$2:$AD$52,1))) -> #N/A | AG12: =INDEX('Base de données'!$AG$2:$AG$52,IFERROR(MATCH(AF12,'Base de données'!$AF$2:$AF$52,0),MATCH(AF12,'Base de données'!$AF$2:$AF$52,1))) -> #N/A | AI12: =INDEX('Base de données'!$AI$2:$AI$52,IFERROR(MATCH(AH12,'Base de données'!$AH$2:$AH$52,0),MATCH(AH12,'Base de données'!$AH$2:$AH$52,1))) -> #N/A | AK12: =INDEX('Base de données'!$AK$2:$AK$52,IFERROR(MATCH(AJ12,'Base de données'!$AJ$2:$AJ$52,0),MATCH(AJ12,'Base de données'!$AJ$2:$AJ$52,1))) -> #N/A | AM12: =INDEX('Base de données'!AM7:AM57,IFERROR(MATCH(AL12,'Base de données'!AL7:AL57,0),MATCH(AL12,'Base de données'!AL7:AL57,1))) -> #N/A | AO12: =INDEX('Base de données'!$AO$2:$AO$52,IFERROR(MATCH(AN12,'Base de données'!$AN$2:$AN$52,0),MATCH(AN12,'Base de données'!$AN$2:$AN$52,1))) -> #N/A | AQ12: =INDEX('Base de données'!$AQ$2:$AQ$52,IFERROR(MATCH(AP12,'Base de données'!$AP$2:$AP$52,0),MATCH(AP12,'Base de données'!$AP$2:$AP$52,1))) -> #N/A | AS12: =INDEX('Base de données'!$AS$2:$AS$52,IFERROR(MATCH(AR12,'Base de données'!$AR$2:$AR$52,0),MATCH(AR12,'Base de données'!$AR$2:$AR$52,1))) -> #N/A | AT12: =AT13 -> 8 | AU12: =A12 -> F
C13: =SUM(C12) -> #N/A | E13: =SUM(E12) -> #N/A | G13: =SUM(G12) -> #N/A | I13: =SUM(I12) -> #N/A | K13: =SUM(K12) -> #N/A | M13: =SUM(M12) -> #N/A | O13: =SUM(O12) -> 8 | Q13: =SUM(Q12) -> #N/A | S13: =SUM(S12) -> #N/A | U13: =SUM(U12) -> #N/A | W13: =SUM(W12) -> #N/A | Y13: =SUM(Y12) -> #N/A | AA13: =SUM(AA12) -> #N/A | AC13: =SUM(AC12) -> #N/A | AE13: =SUM(AE12) -> #N/A | AG13: =SUM(AG12) -> #N/A | AI13: =SUM(AI12) -> #N/A | AK13: =SUM(AK12) -> #N/A | AM13: =SUM(AM12) -> #N/A | AO13: =SUM(AO12) -> #N/A | AQ13: =SUM(AQ12) -> #N/A | AS13: =SUM(AS12) -> #N/A | AT13: {=SUM(IF(ISNUMBER(B13:AS13),B13:AS13))} -> 8 | AU13: =A13 -> 0
A14: G | C14: =INDEX('Base de données'!$C$2:$C$52,IFERROR(MATCH(B14,'Base de données'!$B$2:$B$52,0),MATCH(B14,'Base de données'!$B$2:$B$52,1))) -> #N/A | E14: =INDEX('Base de données'!$E$2:$E$52,IFERROR(MATCH($D$2,'Base de données'!$D$2:$D$52,0),MATCH(D14,'Base de données'!$D$2:$D$52,1))) -> #N/A | G14: =INDEX('Base de données'!$G$2:$G$52,IFERROR(MATCH(F14,'Base de données'!$F$2:$F$52,0),MATCH(F14,'Base de données'!$F$2:$F$52,1))) -> #N/A | I14: =INDEX('Base de données'!$I$2:$I$52,IFERROR(MATCH(H14,'Base de données'!$H$2:$H$52,0),MATCH(H14,'Base de données'!$H$2:$H$52,1))) -> #N/A | K14: =INDEX('Base de données'!$K$2:$K$52,IFERROR(MATCH(J14,'Base de données'!$J$2:$J$52,0),MATCH(J14,'Base de données'!$J$2:$J$52,1))) -> #N/A | M14: =INDEX('Base de données'!$M$2:$M$52,IFERROR(MATCH(L14,'Base de données'!$L$2:$L$52,0),MATCH(L14,'Base de données'!$L$2:$L$52,1))) -> #N/A | N14: 14.22 | O14: =INDEX('Base de données'!$O$2:$O$52,IFERROR(MATCH(N14,'Base de données'!$N$2:$N$52,0),MATCH(N14,'Base de données'!$N$2:$N$52,1))) -> 5 | Q14: =INDEX('Base de données'!$Q$2:$Q$52,IFERROR(MATCH(P14,'Base de données'!$P$2:$P$52,0),MATCH(P14,'Base de données'!$P$2:$P$52,1))) -> #N/A | S14: =INDEX('Base de données'!$S$2:$S$52,IFERROR(MATCH(R14,'Base de données'!$R$2:$R$52,0),MATCH(R14,'Base de données'!$R$2:$R$52,1))) -> #N/A | U14: =INDEX('Base de données'!$U$2:$U$52,IFERROR(MATCH(T14,'Base de données'!$T$2:$T$52,0),MATCH(T14,'Base de données'!$T$2:$T$52,1))) -> #N/A | W14: =INDEX('Base de données'!$W$2:$W$52,IFERROR(MATCH(V14,'Base de données'!$V$2:$V$52,0),MATCH(V14,'Base de données'!$V$2:$V$52,1))) -> #N/A | Y14: =INDEX('Base de données'!$Y$2:$Y$52,IFERROR(MATCH(X14,'Base de données'!$X$2:$X$52,0),MATCH(X14,'Base de données'!$X$2:$X$52,1))) -> #N/A | AA14: =INDEX('Base de données'!$AA$2:$AA$52,IFERROR(MATCH(Z14,'Base de données'!$Z$2:$Z$52,0),MATCH(Z14,'Base de données'!$Z$2:$Z$52,1))) -> #N/A | AC14: =INDEX('Base de données'!$AC$2:$AC$52,IFERROR(MATCH(AB14,'Base de données'!$AB$2:$AB$52,0),MATCH(AB14,'Base de données'!$AB$2:$AB$52,1))) -> #N/A | AE14: =INDEX('Base de données'!$AE$2:$AE$52,IFERROR(MATCH(AD14,'Base de données'!$AD$2:$AD$52,0),MATCH(AD14,'Base de données'!$AD$2:$AD$52,1))) -> #N/A | AG14: =INDEX('Base de données'!$AG$2:$AG$52,IFERROR(MATCH(AF14,'Base de données'!$AF$2:$AF$52,0),MATCH(AF14,'Base de données'!$AF$2:$AF$52,1))) -> #N/A | AI14: =INDEX('Base de données'!$AI$2:$AI$52,IFERROR(MATCH(AH14,'Base de données'!$AH$2:$AH$52,0),MATCH(AH14,'Base de données'!$AH$2:$AH$52,1))) -> #N/A | AK14: =INDEX('Base de données'!$AK$2:$AK$52,IFERROR(MATCH(AJ14,'Base de données'!$AJ$2:$AJ$52,0),MATCH(AJ14,'Base de données'!$AJ$2:$AJ$52,1))) -> #N/A | AM14: =INDEX('Base de données'!AM8:AM58,IFERROR(MATCH(AL14,'Base de données'!AL8:AL58,0),MATCH(AL14,'Base de données'!AL8:AL58,1))) -> #N/A | AO14: =INDEX('Base de données'!$AO$2:$AO$52,IFERROR(MATCH(AN14,'Base de données'!$AN$2:$AN$52,0),MATCH(AN14,'Base de données'!$AN$2:$AN$52,1))) -> #N/A | AQ14: =INDEX('Base de données'!$AQ$2:$AQ$52,IFERROR(MATCH(AP14,'Base de données'!$AP$2:$AP$52,0),MATCH(AP14,'Base de données'!$AP$2:$AP$52,1))) -> #N/A | AS14: =INDEX('Base de données'!$AS$2:$AS$52,IFERROR(MATCH(AR14,'Base de données'!$AR$2:$AR$52,0),MATCH(AR14,'Base de données'!$AR$2:$AR$52,1))) -> #N/A | AT14: =AT15 -> 5 | AU14: =A14 -> G
C15: =SUM(C14) -> #N/A | E15: =SUM(E14) -> #N/A | G15: =SUM(G14) -> #N/A | I15: =SUM(I14) -> #N/A | K15: =SUM(K14) -> #N/A | M15: =SUM(M14) -> #N/A | O15: =SUM(O14) -> 5 | Q15: =SUM(Q14) -> #N/A | S15: =SUM(S14) -> #N/A | U15: =SUM(U14) -> #N/A | W15: =SUM(W14) -> #N/A | Y15: =SUM(Y14) -> #N/A | AA15: =SUM(AA14) -> #N/A | AC15: =SUM(AC14) -> #N/A | AE15: =SUM(AE14) -> #N/A | AG15: =SUM(AG14) -> #N/A | AI15: =SUM(AI14) -> #N/A | AK15: =SUM(AK14) -> #N/A | AM15: =SUM(AM14) -> #N/A | AO15: =SUM(AO14) -> #N/A | AQ15: =SUM(AQ14) -> #N/A | AS15: =SUM(AS14) -> #N/A | AT15: {=SUM(IF(ISNUMBER(B15:AS15),B15:AS15))} -> 5 | AU15: =A15 -> 0
A16: H | C16: =INDEX('Base de données'!$C$2:$C$52,IFERROR(MATCH(B16,'Base de données'!$B$2:$B$52,0),MATCH(B16,'Base de données'!$B$2:$B$52,1))) -> #N/A | E16: =INDEX('Base de données'!$E$2:$E$52,IFERROR(MATCH($D$2,'Base de données'!$D$2:$D$52,0),MATCH(D16,'Base de données'!$D$2:$D$52,1))) -> #N/A | G16: =INDEX('Base de données'!$G$2:$G$52,IFERROR(MATCH(F16,'Base de données'!$F$2:$F$52,0),MATCH(F16,'Base de données'!$F$2:$F$52,1))) -> #N/A | I16: =INDEX('Base de données'!$I$2:$I$52,IFERROR(MATCH(H16,'Base de données'!$H$2:$H$52,0),MATCH(H16,'Base de données'!$H$2:$H$52,1))) -> #N/A | K16: =INDEX('Base de données'!$K$2:$K$52,IFERROR(MATCH(J16,'Base de données'!$J$2:$J$52,0),MATCH(J16,'Base de données'!$J$2:$J$52,1))) -> #N/A | M16: =INDEX('Base de données'!$M$2:$M$52,IFERROR(MATCH(L16,'Base de données'!$L$2:$L$52,0),MATCH(L16,'Base de données'!$L$2:$L$52,1))) -> #N/A | N16: 15.22 | O16: =INDEX('Base de données'!$O$2:$O$52,IFERROR(MATCH(N16,'Base de données'!$N$2:$N$52,0),MATCH(N16,'Base de données'!$N$2:$N$52,1))) -> 1 | Q16: =INDEX('Base de données'!$Q$2:$Q$52,IFERROR(MATCH(P16,'Base de données'!$P$2:$P$52,0),MATCH(P16,'Base de données'!$P$2:$P$52,1))) -> #N/A | S16: =INDEX('Base de données'!$S$2:$S$52,IFERROR(MATCH(R16,'Base de données'!$R$2:$R$52,0),MATCH(R16,'Base de données'!$R$2:$R$52,1))) -> #N/A | U16: =INDEX('Base de données'!$U$2:$U$52,IFERROR(MATCH(T16,'Base de données'!$T$2:$T$52,0),MATCH(T16,'Base de données'!$T$2:$T$52,1))) -> #N/A | W16: =INDEX('Base de données'!$W$2:$W$52,IFERROR(MATCH(V16,'Base de données'!$V$2:$V$52,0),MATCH(V16,'Base de données'!$V$2:$V$52,1))) -> #N/A | Y16: =INDEX('Base de données'!$Y$2:$Y$52,IFERROR(MATCH(X16,'Base de données'!$X$2:$X$52,0),MATCH(X16,'Base de données'!$X$2:$X$52,1))) -> #N/A | AA16: =INDEX('Base de données'!$AA$2:$AA$52,IFERROR(MATCH(Z16,'Base de données'!$Z$2:$Z$52,0),MATCH(Z16,'Base de données'!$Z$2:$Z$52,1))) -> #N/A | AC16: =INDEX('Base de données'!$AC$2:$AC$52,IFERROR(MATCH(AB16,'Base de données'!$AB$2:$AB$52,0),MATCH(AB16,'Base de données'!$AB$2:$AB$52,1))) -> #N/A | AE16: =INDEX('Base de données'!$AE$2:$AE$52,IFERROR(MATCH(AD16,'Base de données'!$AD$2:$AD$52,0),MATCH(AD16,'Base de données'!$AD$2:$AD$52,1))) -> #N/A | AG16: =INDEX('Base de données'!$AG$2:$AG$52,IFERROR(MATCH(AF16,'Base de données'!$AF$2:$AF$52,0),MATCH(AF16,'Base de données'!$AF$2:$AF$52,1))) -> #N/A | AI16: =INDEX('Base de données'!$AI$2:$AI$52,IFERROR(MATCH(AH16,'Base de données'!$AH$2:$AH$52,0),MATCH(AH16,'Base de données'!$AH$2:$AH$52,1))) -> #N/A | AK16: =INDEX('Base de données'!$AK$2:$AK$52,IFERROR(MATCH(AJ16,'Base de données'!$AJ$2:$AJ$52,0),MATCH(AJ16,'Base de données'!$AJ$2:$AJ$52,1))) -> #N/A | AM16: =INDEX('Base de données'!AM9:AM59,IFERROR(MATCH(AL16,'Base de données'!AL9:AL59,0),MATCH(AL16,'Base de données'!AL9:AL59,1))) -> #N/A | AO16: =INDEX('Base de données'!$AO$2:$AO$52,IFERROR(MATCH(AN16,'Base de données'!$AN$2:$AN$52,0),MATCH(AN16,'Base de données'!$AN$2:$AN$52,1))) -> #N/A | AQ16: =INDEX('Base de données'!$AQ$2:$AQ$52,IFERROR(MATCH(AP16,'Base de données'!$AP$2:$AP$52,0),MATCH(AP16,'Base de données'!$AP$2:$AP$52,1))) -> #N/A | AS16: =INDEX('Base de données'!$AS$2:$AS$52,IFERROR(MATCH(AR16,'Base de données'!$AR$2:$AR$52,0),MATCH(AR16,'Base de données'!$AR$2:$AR$52,1))) -> #N/A | AT16: =AT17 -> 1 | AU16: =A16 -> H
C17: =SUM(C16) -> #N/A | E17: =SUM(E16) -> #N/A | G17: =SUM(G16) -> #N/A | I17: =SUM(I16) -> #N/A | K17: =SUM(K16) -> #N/A | M17: =SUM(M16) -> #N/A | O17: =SUM(O16) -> 1 | Q17: =SUM(Q16) -> #N/A | S17: =SUM(S16) -> #N/A | U17: =SUM(U16) -> #N/A | W17: =SUM(W16) -> #N/A | Y17: =SUM(Y16) -> #N/A | AA17: =SUM(AA16) -> #N/A | AC17: =SUM(AC16) -> #N/A | AE17: =SUM(AE16) -> #N/A | AG17: =SUM(AG16) -> #N/A | AI17: =SUM(AI16) -> #N/A | AK17: =SUM(AK16) -> #N/A | AM17: =SUM(AM16) -> #N/A | AO17: =SUM(AO16) -> #N/A | AQ17: =SUM(AQ16) -> #N/A | AS17: =SUM(AS16) -> #N/A | AT17: {=SUM(IF(ISNUMBER(B17:AS17),B17:AS17))} -> 1 | AU17: =A17 -> 0
A18: I | C18: =INDEX('Base de données'!$C$2:$C$52,IFERROR(MATCH(B18,'Base de données'!$B$2:$B$52,0),MATCH(B18,'Base de données'!$B$2:$B$52,1))) -> #N/A | E18: =INDEX('Base de données'!$E$2:$E$52,IFERROR(MATCH($D$2,'Base de données'!$D$2:$D$52,0),MATCH(D18,'Base de données'!$D$2:$D$52,1))) -> #N/A | G18: =INDEX('Base de données'!$G$2:$G$52,IFERROR(MATCH(F18,'Base de données'!$F$2:$F$52,0),MATCH(F18,'Base de données'!$F$2:$F$52,1))) -> #N/A | I18: =INDEX('Base de données'!$I$2:$I$52,IFERROR(MATCH(H18,'Base de données'!$H$2:$H$52,0),MATCH(H18,'Base de données'!$H$2:$H$52,1))) -> #N/A | K18: =INDEX('Base de données'!$K$2:$K$52,IFERROR(MATCH(J18,'Base de données'!$J$2:$J$52,0),MATCH(J18,'Base de données'!$J$2:$J$52,1))) -> #N/A | M18: =INDEX('Base de données'!$M$2:$M$52,IFERROR(MATCH(L18,'Base de données'!$L$2:$L$52,0),MATCH(L18,'Base de données'!$L$2:$L$52,1))) -> #N/A | O18: =INDEX('Base de données'!$O$2:$O$52,IFERROR(MATCH(N18,'Base de données'!$N$2:$N$52,0),MATCH(N18,'Base de données'!$N$2:$N$52,1))) -> #N/A | Q18: =INDEX('Base de données'!$Q$2:$Q$52,IFERROR(MATCH(P18,'Base de données'!$P$2:$P$52,0),MATCH(P18,'Base de données'!$P$2:$P$52,1))) -> #N/A | S18: =INDEX('Base de données'!$S$2:$S$52,IFERROR(MATCH(R18,'Base de données'!$R$2:$R$52,0),MATCH(R18,'Base de données'!$R$2:$R$52,1))) -> #N/A | U18: =INDEX('Base de données'!$U$2:$U$52,IFERROR(MATCH(T18,'Base de données'!$T$2:$T$52,0),MATCH(T18,'Base de données'!$T$2:$T$52,1))) -> #N/A | W18: =INDEX('Base de données'!$W$2:$W$52,IFERROR(MATCH(V18,'Base de données'!$V$2:$V$52,0),MATCH(V18,'Base de données'!$V$2:$V$52,1))) -> #N/A | Y18: =INDEX('Base de données'!$Y$2:$Y$52,IFERROR(MATCH(X18,'Base de données'!$X$2:$X$52,0),MATCH(X18,'Base de données'!$X$2:$X$52,1))) -> #N/A | AA18: =INDEX('Base de données'!$AA$2:$AA$52,IFERROR(MATCH(Z18,'Base de données'!$Z$2:$Z$52,0),MATCH(Z18,'Base de données'!$Z$2:$Z$52,1))) -> #N/A | AC18: =INDEX('Base de données'!$AC$2:$AC$52,IFERROR(MATCH(AB18,'Base de données'!$AB$2:$AB$52,0),MATCH(AB18,'Base de données'!$AB$2:$AB$52,1))) -> #N/A | AE18: =INDEX('Base de données'!$AE$2:$AE$52,IFERROR(MATCH(AD18,'Base de données'!$AD$2:$AD$52,0),MATCH(AD18,'Base de données'!$AD$2:$AD$52,1))) -> #N/A | AG18: =INDEX('Base de données'!$AG$2:$AG$52,IFERROR(MATCH(AF18,'Base de données'!$AF$2:$AF$52,0),MATCH(AF18,'Base de données'!$AF$2:$AF$52,1))) -> #N/A | AI18: =INDEX('Base de données'!$AI$2:$AI$52,IFERROR(MATCH(AH18,'Base de données'!$AH$2:$AH$52,0),MATCH(AH18,'Base de données'!$AH$2:$AH$52,1))) -> #N/A | AK18: =INDEX('Base de données'!$AK$2:$AK$52,IFERROR(MATCH(AJ18,'Base de données'!$AJ$2:$AJ$52,0),MATCH(AJ18,'Base de données'!$AJ$2:$AJ$52,1))) -> #N/A | AM18: =INDEX('Base de données'!AM10:AM60,IFERROR(MATCH(AL18,'Base de données'!AL10:AL60,0),MATCH(AL18,'Base de données'!AL10:AL60,1))) -> #N/A | AO18: =INDEX('Base de données'!$AO$2:$AO$52,IFERROR(MATCH(AN18,'Base de données'!$AN$2:$AN$52,0),MATCH(AN18,'Base de données'!$AN$2:$AN$52,1))) -> #N/A | AQ18: =INDEX('Base de données'!$AQ$2:$AQ$52,IFERROR(MATCH(AP18,'Base de données'!$AP$2:$AP$52,0),MATCH(AP18,'Base de données'!$AP$2:$AP$52,1))) -> #N/A | AS18: =INDEX('Base de données'!$AS$2:$AS$52,IFERROR(MATCH(AR18,'Base de données'!$AR$2:$AR$52,0),MATCH(AR18,'Base de données'!$AR$2:$AR$52,1))) -> #N/A | AT18: =AT19 -> 0 | AU18: =A18 -> I
C19: =SUM(C18) -> #N/A | E19: =SUM(E18) -> #N/A | G19: =SUM(G18) -> #N/A | I19: =SUM(I18) -> #N/A | K19: =SUM(K18) -> #N/A | M19: =SUM(M18) -> #N/A | O19: =SUM(O18) -> #N/A | Q19: =SUM(Q18) -> #N/A | S19: =SUM(S18) -> #N/A | U19: =SUM(U18) -> #N/A | W19: =SUM(W18) -> #N/A | Y19: =SUM(Y18) -> #N/A | AA19: =SUM(AA18) -> #N/A | AC19: =SUM(AC18) -> #N/A | AE19: =SUM(AE18) -> #N/A | AG19: =SUM(AG18) -> #N/A | AI19: =SUM(AI18) -> #N/A | AK19: =SUM(AK18) -> #N/A | AM19: =SUM(AM18) -> #N/A | AO19: =SUM(AO18) -> #N/A | AQ19: =SUM(AQ18) -> #N/A | AS19: =SUM(AS18) -> #N/A | AT19: {=SUM(IF(ISNUMBER(B19:AS19),B19:AS19))} -> 0 | AU19: =A19 -> 0
A20: J | C20: =INDEX('Base de données'!$C$2:$C$52,IFERROR(MATCH(B20,'Base de données'!$B$2:$B$52,0),MATCH(B20,'Base de données'!$B$2:$B$52,1))) -> #N/A | E20: =INDEX('Base de données'!$E$2:$E$52,IFERROR(MATCH($D$2,'Base de données'!$D$2:$D$52,0),MATCH(D20,'Base de données'!$D$2:$D$52,1))) -> #N/A | G20: =INDEX('Base de données'!$G$2:$G$52,IFERROR(MATCH(F20,'Base de données'!$F$2:$F$52,0),MATCH(F20,'Base de données'!$F$2:$F$52,1))) -> #N/A | I20: =INDEX('Base de données'!$I$2:$I$52,IFERROR(MATCH(H20,'Base de données'!$H$2:$H$52,0),MATCH(H20,'Base de données'!$H$2:$H$52,1))) -> #N/A | K20: =INDEX('Base de données'!$K$2:$K$52,IFERROR(MATCH(J20,'Base de données'!$J$2:$J$52,0),MATCH(J20,'Base de données'!$J$2:$J$52,1))) -> #N/A | M20: =INDEX('Base de données'!$M$2:$M$52,IFERROR(MATCH(L20,'Base de données'!$L$2:$L$52,0),MATCH(L20,'Base de données'!$L$2:$L$52,1))) -> #N/A | O20: =INDEX('Base de données'!$O$2:$O$52,IFERROR(MATCH(N20,'Base de données'!$N$2:$N$52,0),MATCH(N20,'Base de données'!$N$2:$N$52,1))) -> #N/A | Q20: =INDEX('Base de données'!$Q$2:$Q$52,IFERROR(MATCH(P20,'Base de données'!$P$2:$P$52,0),MATCH(P20,'Base de données'!$P$2:$P$52,1))) -> #N/A | S20: =INDEX('Base de données'!$S$2:$S$52,IFERROR(MATCH(R20,'Base de données'!$R$2:$R$52,0),MATCH(R20,'Base de données'!$R$2:$R$52,1))) -> #N/A | U20: =INDEX('Base de données'!$U$2:$U$52,IFERROR(MATCH(T20,'Base de données'!$T$2:$T$52,0),MATCH(T20,'Base de données'!$T$2:$T$52,1))) -> #N/A | W20: =INDEX('Base de données'!$W$2:$W$52,IFERROR(MATCH(V20,'Base de données'!$V$2:$V$52,0),MATCH(V20,'Base de données'!$V$2:$V$52,1))) -> #N/A | Y20: =INDEX('Base de données'!$Y$2:$Y$52,IFERROR(MATCH(X20,'Base de données'!$X$2:$X$52,0),MATCH(X20,'Base de données'!$X$2:$X$52,1))) -> #N/A | AA20: =INDEX('Base de données'!$AA$2:$AA$52,IFERROR(MATCH(Z20,'Base de données'!$Z$2:$Z$52,0),MATCH(Z20,'Base de données'!$Z$2:$Z$52,1))) -> #N/A | AC20: =INDEX('Base de données'!$AC$2:$AC$52,IFERROR(MATCH(AB20,'Base de données'!$AB$2:$AB$52,0),MATCH(AB20,'Base de données'!$AB$2:$AB$52,1))) -> #N/A | AE20: =INDEX('Base de données'!$AE$2:$AE$52,IFERROR(MATCH(AD20,'Base de données'!$AD$2:$AD$52,0),MATCH(AD20,'Base de données'!$AD$2:$AD$52,1))) -> #N/A | AG20: =INDEX('Base de données'!$AG$2:$AG$52,IFERROR(MATCH(AF20,'Base de données'!$AF$2:$AF$52,0),MATCH(AF20,'Base de données'!$AF$2:$AF$52,1))) -> #N/A | AI20: =INDEX('Base de données'!$AI$2:$AI$52,IFERROR(MATCH(AH20,'Base de données'!$AH$2:$AH$52,0),MATCH(AH20,'Base de données'!$AH$2:$AH$52,1))) -> #N/A | AK20: =INDEX('Base de données'!$AK$2:$AK$52,IFERROR(MATCH(AJ20,'Base de données'!$AJ$2:$AJ$52,0),MATCH(AJ20,'Base de données'!$AJ$2:$AJ$52,1))) -> #N/A | AM20: =INDEX('Base de données'!AM11:AM61,IFERROR(MATCH(AL20,'Base de données'!AL11:AL61,0),MATCH(AL20,'Base de données'!AL11:AL61,1))) -> #N/A | AO20: =INDEX('Base de données'!$AO$2:$AO$52,IFERROR(MATCH(AN20,'Base de données'!$AN$2:$AN$52,0),MATCH(AN20,'Base de données'!$AN$2:$AN$52,1))) -> #N/A | AQ20: =INDEX('Base de données'!$AQ$2:$AQ$52,IFERROR(MATCH(AP20,'Base de données'!$AP$2:$AP$52,0),MATCH(AP20,'Base de données'!$AP$2:$AP$52,1))) -> #N/A | AS20: =INDEX('Base de données'!$AS$2:$AS$52,IFERROR(MATCH(AR20,'Base de données'!$AR$2:$AR$52,0),MATCH(AR20,'Base de données'!$AR$2:$AR$52,1))) -> #N/A | AT20: =AT21 -> 0 | AU20: =A20 -> J
C21: =SUM(C20) -> #N/A | E21: =SUM(E20) -> #N/A | G21: =SUM(G20) -> #N/A | I21: =SUM(I20) -> #N/A | K21: =SUM(K20) -> #N/A | M21: =SUM(M20) -> #N/A | O21: =SUM(O20) -> #N/A | Q21: =SUM(Q20) -> #N/A | S21: =SUM(S20) -> #N/A | U21: =SUM(U20) -> #N/A | W21: =SUM(W20) -> #N/A | Y21: =SUM(Y20) -> #N/A | AA21: =SUM(AA20) -> #N/A | AC21: =SUM(AC20) -> #N/A | AE21: =SUM(AE20) -> #N/A | AG21: =SUM(AG20) -> #N/A | AI21: =SUM(AI20) -> #N/A | AK21: =SUM(AK20) -> #N/A | AM21: =SUM(AM20) -> #N/A | AO21: =SUM(AO20) -> #N/A | AQ21: =SUM(AQ20) -> #N/A | AS21: =SUM(AS20) -> #N/A | AT21: {=SUM(IF(ISNUMBER(B21:AS21),B21:AS21))} -> 0 | AU21: =A21 -> 0
A22: K | C22: =INDEX('Base de données'!$C$2:$C$52,IFERROR(MATCH(B22,'Base de données'!$B$2:$B$52,0),MATCH(B22,'Base de données'!$B$2:$B$52,1))) -> #N/A | E22: =INDEX('Base de données'!$E$2:$E$52,IFERROR(MATCH($D$2,'Base de données'!$D$2:$D$52,0),MATCH(D22,'Base de données'!$D$2:$D$52,1))) -> #N/A | G22: =INDEX('Base de données'!$G$2:$G$52,IFERROR(MATCH(F22,'Base de données'!$F$2:$F$52,0),MATCH(F22,'Base de données'!$F$2:$F$52,1))) -> #N/A | I22: =INDEX('Base de données'!$I$2:$I$52,IFERROR(MATCH(H22,'Base de données'!$H$2:$H$52,0),MATCH(H22,'Base de données'!$H$2:$H$52,1))) -> #N/A | K22: =INDEX('Base de données'!$K$2:$K$52,IFERROR(MATCH(J22,'Base de données'!$J$2:$J$52,0),MATCH(J22,'Base de données'!$J$2:$J$52,1))) -> #N/A | M22: =INDEX('Base de données'!$M$2:$M$52,IFERROR(MATCH(L22,'Base de données'!$L$2:$L$52,0),MATCH(L22,'Base de données'!$L$2:$L$52,1))) -> #N/A | O22: =INDEX('Base de données'!$O$2:$O$52,IFERROR(MATCH(N22,'Base de données'!$N$2:$N$52,0),MATCH(N22,'Base de données'!$N$2:$N$52,1))) -> #N/A | Q22: =INDEX('Base de données'!$Q$2:$Q$52,IFERROR(MATCH(P22,'Base de données'!$P$2:$P$52,0),MATCH(P22,'Base de données'!$P$2:$P$52,1))) -> #N/A | S22: =INDEX('Base de données'!$S$2:$S$52,IFERROR(MATCH(R22,'Base de données'!$R$2:$R$52,0),MATCH(R22,'Base de données'!$R$2:$R$52,1))) -> #N/A | U22: =INDEX('Base de données'!$U$2:$U$52,IFERROR(MATCH(T22,'Base de données'!$T$2:$T$52,0),MATCH(T22,'Base de données'!$T$2:$T$52,1))) -> #N/A | W22: =INDEX('Base de données'!$W$2:$W$52,IFERROR(MATCH(V22,'Base de données'!$V$2:$V$52,0),MATCH(V22,'Base de données'!$V$2:$V$52,1))) -> #N/A | Y22: =INDEX('Base de données'!$Y$2:$Y$52,IFERROR(MATCH(X22,'Base de données'!$X$2:$X$52,0),MATCH(X22,'Base de données'!$X$2:$X$52,1))) -> #N/A | AA22: =INDEX('Base de données'!$AA$2:$AA$52,IFERROR(MATCH(Z22,'Base de données'!$Z$2:$Z$52,0),MATCH(Z22,'Base de données'!$Z$2:$Z$52,1))) -> #N/A | AC22: =INDEX('Base de données'!$AC$2:$AC$52,IFERROR(MATCH(AB22,'Base de données'!$AB$2:$AB$52,0),MATCH(AB22,'Base de données'!$AB$2:$AB$52,1))) -> #N/A | AE22: =INDEX('Base de données'!$AE$2:$AE$52,IFERROR(MATCH(AD22,'Base de données'!$AD$2:$AD$52,0),MATCH(AD22,'Base de données'!$AD$2:$AD$52,1))) -> #N/A | AG22: =INDEX('Base de données'!$AG$2:$AG$52,IFERROR(MATCH(AF22,'Base de données'!$AF$2:$AF$52,0),MATCH(AF22,'Base de données'!$AF$2:$AF$52,1))) -> #N/A | AI22: =INDEX('Base de données'!$AI$2:$AI$52,IFERROR(MATCH(AH22,'Base de données'!$AH$2:$AH$52,0),MATCH(AH22,'Base de données'!$AH$2:$AH$52,1))) -> #N/A | AK22: =INDEX('Base de données'!$AK$2:$AK$52,IFERROR(MATCH(AJ22,'Base de données'!$AJ$2:$AJ$52,0),MATCH(AJ22,'Base de données'!$AJ$2:$AJ$52,1))) -> #N/A | AM22: =INDEX('Base de données'!AM12:AM62,IFERROR(MATCH(AL22,'Base de données'!AL12:AL62,0),MATCH(AL22,'Base de données'!AL12:AL62,1))) -> #N/A | AO22: =INDEX('Base de données'!$AO$2:$AO$52,IFERROR(MATCH(AN22,'Base de données'!$AN$2:$AN$52,0),MATCH(AN22,'Base de données'!$AN$2:$AN$52,1))) -> #N/A | AQ22: =INDEX('Base de données'!$AQ$2:$AQ$52,IFERROR(MATCH(AP22,'Base de données'!$AP$2:$AP$52,0),MATCH(AP22,'Base de données'!$AP$2:$AP$52,1))) -> #N/A | AS22: =INDEX('Base de données'!$AS$2:$AS$52,IFERROR(MATCH(AR22,'Base de données'!$AR$2:$AR$52,0),MATCH(AR22,'Base de données'!$AR$2:$AR$52,1))) -> #N/A | AT22: =AT23 -> 0 | AU22: =A22 -> K
C23: =SUM(C22) -> #N/A | E23: =SUM(E22) -> #N/A | G23: =SUM(G22) -> #N/A | I23: =SUM(I22) -> #N/A | K23: =SUM(K22) -> #N/A | M23: =SUM(M22) -> #N/A | O23: =SUM(O22) -> #N/A | Q23: =SUM(Q22) -> #N/A | S23: =SUM(S22) -> #N/A | U23: =SUM(U22) -> #N/A | W23: =SUM(W22) -> #N/A | Y23: =SUM(Y22) -> #N/A | AA23: =SUM(AA22) -> #N/A | AC23: =SUM(AC22) -> #N/A | AE23: =SUM(AE22) -> #N/A | AG23: =SUM(AG22) -> #N/A | AI23: =SUM(AI22) -> #N/A | AK23: =SUM(AK22) -> #N/A | AM23: =SUM(AM22) -> #N/A | AO23: =SUM(AO22) -> #N/A | AQ23: =SUM(AQ22) -> #N/A | AS23: =SUM(AS22) -> #N/A | AT23: {=SUM(IF(ISNUMBER(B23:AS23),B23:AS23))} -> 0 | AU23: =A23 -> 0
A24: L | C24: =INDEX('Base de données'!$C$2:$C$52,IFERROR(MATCH(B24,'Base de données'!$B$2:$B$52,0),MATCH(B24,'Base de données'!$B$2:$B$52,1))) -> #N/A | E24: =INDEX('Base de données'!$E$2:$E$52,IFERROR(MATCH($D$2,'Base de données'!$D$2:$D$52,0),MATCH(D24,'Base de données'!$D$2:$D$52,1))) -> #N/A | G24: =INDEX('Base de données'!$G$2:$G$52,IFERROR(MATCH(F24,'Base de données'!$F$2:$F$52,0),MATCH(F24,'Base de données'!$F$2:$F$52,1))) -> #N/A | I24: =INDEX('Base de données'!$I$2:$I$52,IFERROR(MATCH(H24,'Base de données'!$H$2:$H$52,0),MATCH(H24,'Base de données'!$H$2:$H$52,1))) -> #N/A | K24: =INDEX('Base de données'!$K$2:$K$52,IFERROR(MATCH(J24,'Base de données'!$J$2:$J$52,0),MATCH(J24,'Base de données'!$J$2:$J$52,1))) -> #N/A | M24: =INDEX('Base de données'!$M$2:$M$52,IFERROR(MATCH(L24,'Base de données'!$L$2:$L$52,0),MATCH(L24,'Base de données'!$L$2:$L$52,1))) -> #N/A | O24: =INDEX('Base de données'!$O$2:$O$52,IFERROR(MATCH(N24,'Base de données'!$N$2:$N$52,0),MATCH(N24,'Base de données'!$N$2:$N$52,1))) -> #N/A | Q24: =INDEX('Base de données'!$Q$2:$Q$52,IFERROR(MATCH(P24,'Base de données'!$P$2:$P$52,0),MATCH(P24,'Base de données'!$P$2:$P$52,1))) -> #N/A | S24: =INDEX('Base de données'!$S$2:$S$52,IFERROR(MATCH(R24,'Base de données'!$R$2:$R$52,0),MATCH(R24,'Base de données'!$R$2:$R$52,1))) -> #N/A | U24: =INDEX('Base de données'!$U$2:$U$52,IFERROR(MATCH(T24,'Base de données'!$T$2:$T$52,0),MATCH(T24,'Base de données'!$T$2:$T$52,1))) -> #N/A | W24: =INDEX('Base de données'!$W$2:$W$52,IFERROR(MATCH(V24,'Base de données'!$V$2:$V$52,0),MATCH(V24,'Base de données'!$V$2:$V$52,1))) -> #N/A | Y24: =INDEX('Base de données'!$Y$2:$Y$52,IFERROR(MATCH(X24,'Base de données'!$X$2:$X$52,0),MATCH(X24,'Base de données'!$X$2:$X$52,1))) -> #N/A | AA24: =INDEX('Base de données'!$AA$2:$AA$52,IFERROR(MATCH(Z24,'Base de données'!$Z$2:$Z$52,0),MATCH(Z24,'Base de données'!$Z$2:$Z$52,1))) -> #N/A | AC24: =INDEX('Base de données'!$AC$2:$AC$52,IFERROR(MATCH(AB24,'Base de données'!$AB$2:$AB$52,0),MATCH(AB24,'Base de données'!$AB$2:$AB$52,1))) -> #N/A | AE24: =INDEX('Base de données'!$AE$2:$AE$52,IFERROR(MATCH(AD24,'Base de données'!$AD$2:$AD$52,0),MATCH(AD24,'Base de données'!$AD$2:$AD$52,1))) -> #N/A | AG24: =INDEX('Base de données'!$AG$2:$AG$52,IFERROR(MATCH(AF24,'Base de données'!$AF$2:$AF$52,0),MATCH(AF24,'Base de données'!$AF$2:$AF$52,1))) -> #N/A | AI24: =INDEX('Base de données'!$AI$2:$AI$52,IFERROR(MATCH(AH24,'Base de données'!$AH$2:$AH$52,0),MATCH(AH24,'Base de données'!$AH$2:$AH$52,1))) -> #N/A | AK24: =INDEX('Base de données'!$AK$2:$AK$52,IFERROR(MATCH(AJ24,'Base de données'!$AJ$2:$AJ$52,0),MATCH(AJ24,'Base de données'!$AJ$2:$AJ$52,1))) -> #N/A | AM24: =INDEX('Base de données'!AM13:AM63,IFERROR(MATCH(AL24,'Base de données'!AL13:AL63,0),MATCH(AL24,'Base de données'!AL13:AL63,1))) -> #N/A | AO24: =INDEX('Base de données'!$AO$2:$AO$52,IFERROR(MATCH(AN24,'Base de données'!$AN$2:$AN$52,0),MATCH(AN24,'Base de données'!$AN$2:$AN$52,1))) -> #N/A | AQ24: =INDEX('Base de données'!$AQ$2:$AQ$52,IFERROR(MATCH(AP24,'Base de données'!$AP$2:$AP$52,0),MATCH(AP24,'Base de données'!$AP$2:$AP$52,1))) -> #N/A | AS24: =INDEX('Base de données'!$AS$2:$AS$52,IFERROR(MATCH(AR24,'Base de données'!$AR$2:$AR$52,0),MATCH(AR24,'Base de données'!$AR$2:$AR$52,1))) -> #N/A | AT24: =AT25 -> 0 | AU24: =A24 -> L
C25: =SUM(C24) -> #N/A | E25: =SUM(E24) -> #N/A | G25: =SUM(G24) -> #N/A | I25: =SUM(I24) -> #N/A | K25: =SUM(K24) -> #N/A | M25: =SUM(M24) -> #N/A | O25: =SUM(O24) -> #N/A | Q25: =SUM(Q24) -> #N/A | S25: =SUM(S24) -> #N/A | U25: =SUM(U24) -> #N/A | W25: =SUM(W24) -> #N/A | Y25: =SUM(Y24) -> #N/A | AA25: =SUM(AA24) -> #N/A | AC25: =SUM(AC24) -> #N/A | AE25: =SUM(AE24) -> #N/A | AG25: =SUM(AG24) -> #N/A | AI25: =SUM(AI24) -> #N/A | AK25: =SUM(AK24) -> #N/A | AM25: =SUM(AM24) -> #N/A | AO25: =SUM(AO24) -> #N/A | AQ25: =SUM(AQ24) -> #N/A | AS25: =SUM(AS24) -> #N/A | AT25: {=SUM(IF(ISNUMBER(B25:AS25),B25:AS25))} -> 0 | AU25: =A25 -> 0
A26: M | C26: =INDEX('Base de données'!$C$2:$C$52,IFERROR(MATCH(B26,'Base de données'!$B$2:$B$52,0),MATCH(B26,'Base de données'!$B$2:$B$52,1))) -> #N/A | E26: =INDEX('Base de données'!$E$2:$E$52,IFERROR(MATCH($D$2,'Base de données'!$D$2:$D$52,0),MATCH(D26,'Base de données'!$D$2:$D$52,1))) -> #N/A | G26: =INDEX('Base de données'!$G$2:$G$52,IFERROR(MATCH(F26,'Base de données'!$F$2:$F$52,0),MATCH(F26,'Base de données'!$F$2:$F$52,1))) -> #N/A | I26: =INDEX('Base de données'!$I$2:$I$52,IFERROR(MATCH(H26,'Base de données'!$H$2:$H$52,0),MATCH(H26,'Base de données'!$H$2:$H$52,1))) -> #N/A | K26: =INDEX('Base de données'!$K$2:$K$52,IFERROR(MATCH(J26,'Base de données'!$J$2:$J$52,0),MATCH(J26,'Base de données'!$J$2:$J$52,1))) -> #N/A | M26: =INDEX('Base de données'!$M$2:$M$52,IFERROR(MATCH(L26,'Base de données'!$L$2:$L$52,0),MATCH(L26,'Base de données'!$L$2:$L$52,1))) -> #N/A | O26: =INDEX('Base de données'!$O$2:$O$52,IFERROR(MATCH(N26,'Base de données'!$N$2:$N$52,0),MATCH(N26,'Base de données'!$N$2:$N$52,1))) -> #N/A | Q26: =INDEX('Base de données'!$Q$2:$Q$52,IFERROR(MATCH(P26,'Base de données'!$P$2:$P$52,0),MATCH(P26,'Base de données'!$P$2:$P$52,1))) -> #N/A | S26: =INDEX('Base de données'!$S$2:$S$52,IFERROR(MATCH(R26,'Base de données'!$R$2:$R$52,0),MATCH(R26,'Base de données'!$R$2:$R$52,1))) -> #N/A | U26: =INDEX('Base de données'!$U$2:$U$52,IFERROR(MATCH(T26,'Base de données'!$T$2:$T$52,0),MATCH(T26,'Base de données'!$T$2:$T$52,1))) -> #N/A | W26: =INDEX('Base de données'!$W$2:$W$52,IFERROR(MATCH(V26,'Base de données'!$V$2:$V$52,0),MATCH(V26,'Base de données'!$V$2:$V$52,1))) -> #N/A | Y26: =INDEX('Base de données'!$Y$2:$Y$52,IFERROR(MATCH(X26,'Base de données'!$X$2:$X$52,0),MATCH(X26,'Base de données'!$X$2:$X$52,1))) -> #N/A | AA26: =INDEX('Base de données'!$AA$2:$AA$52,IFERROR(MATCH(Z26,'Base de données'!$Z$2:$Z$52,0),MATCH(Z26,'Base de données'!$Z$2:$Z$52,1))) -> #N/A | AC26: =INDEX('Base de données'!$AC$2:$AC$52,IFERROR(MATCH(AB26,'Base de données'!$AB$2:$AB$52,0),MATCH(AB26,'Base de données'!$AB$2:$AB$52,1))) -> #N/A | AE26: =INDEX('Base de données'!$AE$2:$AE$52,IFERROR(MATCH(AD26,'Base de données'!$AD$2:$AD$52,0),MATCH(AD26,'Base de données'!$AD$2:$AD$52,1))) -> #N/A | AG26: =INDEX('Base de données'!$AG$2:$AG$52,IFERROR(MATCH(AF26,'Base de données'!$AF$2:$AF$52,0),MATCH(AF26,'Base de données'!$AF$2:$AF$52,1))) -> #N/A | AI26: =INDEX('Base de données'!$AI$2:$AI$52,IFERROR(MATCH(AH26,'Base de données'!$AH$2:$AH$52,0),MATCH(AH26,'Base de données'!$AH$2:$AH$52,1))) -> #N/A | AK26: =INDEX('Base de données'!$AK$2:$AK$52,IFERROR(MATCH(AJ26,'Base de données'!$AJ$2:$AJ$52,0),MATCH(AJ26,'Base de données'!$AJ$2:$AJ$52,1))) -> #N/A | AM26: =INDEX('Base de données'!AM14:AM64,IFERROR(MATCH(AL26,'Base de données'!AL14:AL64,0),MATCH(AL26,'Base de données'!AL14:AL64,1))) -> #N/A | AO26: =INDEX('Base de données'!$AO$2:$AO$52,IFERROR(MATCH(AN26,'Base de données'!$AN$2:$AN$52,0),MATCH(AN26,'Base de données'!$AN$2:$AN$52,1))) -> #N/A | AQ26: =INDEX('Base de données'!$AQ$2:$AQ$52,IFERROR(MATCH(AP26,'Base de données'!$AP$2:$AP$52,0),MATCH(AP26,'Base de données'!$AP$2:$AP$52,1))) -> #N/A | AS26: =INDEX('Base de données'!$AS$2:$AS$52,IFERROR(MATCH(AR26,'Base de données'!$AR$2:$AR$52,0),MATCH(AR26,'Base de données'!$AR$2:$AR$52,1))) -> #N/A | AT26: =AT27 -> 0 | AU26: =A26 -> M
C27: =SUM(C26) -> #N/A | E27: =SUM(E26) -> #N/A | G27: =SUM(G26) -> #N/A | I27: =SUM(I26) -> #N/A | K27: =SUM(K26) -> #N/A | M27: =SUM(M26) -> #N/A | O27: =SUM(O26) -> #N/A | Q27: =SUM(Q26) -> #N/A | S27: =SUM(S26) -> #N/A | U27: =SUM(U26) -> #N/A | W27: =SUM(W26) -> #N/A | Y27: =SUM(Y26) -> #N/A | AA27: =SUM(AA26) -> #N/A | AC27: =SUM(AC26) -> #N/A | AE27: =SUM(AE26) -> #N/A | AG27: =SUM(AG26) -> #N/A | AI27: =SUM(AI26) -> #N/A | AK27: =SUM(AK26) -> #N/A | AM27: =SUM(AM26) -> #N/A | AO27: =SUM(AO26) -> #N/A | AQ27: =SUM(AQ26) -> #N/A | AS27: =SUM(AS26) -> #N/A | AT27: {=SUM(IF(ISNUMBER(B27:AS27),B27:AS27))} -> 0 | AU27: =A27 -> 0
A28: N | C28: =INDEX('Base de données'!$C$2:$C$52,IFERROR(MATCH(B28,'Base de données'!$B$2:$B$52,0),MATCH(B28,'Base de données'!$B$2:$B$52,1))) -> #N/A | E28: =INDEX('Base de données'!$E$2:$E$52,IFERROR(MATCH($D$2,'Base de données'!$D$2:$D$52,0),MATCH(D28,'Base de données'!$D$2:$D$52,1))) -> #N/A | G28: =INDEX('Base de données'!$G$2:$G$52,IFERROR(MATCH(F28,'Base de données'!$F$2:$F$52,0),MATCH(F28,'Base de données'!$F$2:$F$52,1))) -> #N/A | I28: =INDEX('Base de données'!$I$2:$I$52,IFERROR(MATCH(H28,'Base de données'!$H$2:$H$52,0),MATCH(H28,'Base de données'!$H$2:$H$52,1))) -> #N/A | K28: =INDEX('Base de données'!$K$2:$K$52,IFERROR(MATCH(J28,'Base de données'!$J$2:$J$52,0),MATCH(J28,'Base de données'!$J$2:$J$52,1))) -> #N/A | M28: =INDEX('Base de données'!$M$2:$M$52,IFERROR(MATCH(L28,'Base de données'!$L$2:$L$52,0),MATCH(L28,'Base de données'!$L$2:$L$52,1))) -> #N/A | O28: =INDEX('Base de données'!$O$2:$O$52,IFERROR(MATCH(N28,'Base de données'!$N$2:$N$52,0),MATCH(N28,'Base de données'!$N$2:$N$52,1))) -> #N/A | Q28: =INDEX('Base de données'!$Q$2:$Q$52,IFERROR(MATCH(P28,'Base de données'!$P$2:$P$52,0),MATCH(P28,'Base de données'!$P$2:$P$52,1))) -> #N/A | S28: =INDEX('Base de données'!$S$2:$S$52,IFERROR(MATCH(R28,'Base de données'!$R$2:$R$52,0),MATCH(R28,'Base de données'!$R$2:$R$52,1))) -> #N/A | U28: =INDEX('Base de données'!$U$2:$U$52,IFERROR(MATCH(T28,'Base de données'!$T$2:$T$52,0),MATCH(T28,'Base de données'!$T$2:$T$52,1))) -> #N/A | W28: =INDEX('Base de données'!$W$2:$W$52,IFERROR(MATCH(V28,'Base de données'!$V$2:$V$52,0),MATCH(V28,'Base de données'!$V$2:$V$52,1))) -> #N/A | Y28: =INDEX('Base de données'!$Y$2:$Y$52,IFERROR(MATCH(X28,'Base de données'!$X$2:$X$52,0),MATCH(X28,'Base de données'!$X$2:$X$52,1))) -> #N/A | AA28: =INDEX('Base de données'!$AA$2:$AA$52,IFERROR(MATCH(Z28,'Base de données'!$Z$2:$Z$52,0),MATCH(Z28,'Base de données'!$Z$2:$Z$52,1))) -> #N/A | AC28: =INDEX('Base de données'!$AC$2:$AC$52,IFERROR(MATCH(AB28,'Base de données'!$AB$2:$AB$52,0),MATCH(AB28,'Base de données'!$AB$2:$AB$52,1))) -> #N/A | AE28: =INDEX('Base de données'!$AE$2:$AE$52,IFERROR(MATCH(AD28,'Base de données'!$AD$2:$AD$52,0),MATCH(AD28,'Base de données'!$AD$2:$AD$52,1))) -> #N/A | AG28: =INDEX('Base de données'!$AG$2:$AG$52,IFERROR(MATCH(AF28,'Base de données'!$AF$2:$AF$52,0),MATCH(AF28,'Base de données'!$AF$2:$AF$52,1))) -> #N/A | AI28: =INDEX('Base de données'!$AI$2:$AI$52,IFERROR(MATCH(AH28,'Base de données'!$AH$2:$AH$52,0),MATCH(AH28,'Base de données'!$AH$2:$AH$52,1))) -> #N/A | AK28: =INDEX('Base de données'!$AK$2:$AK$52,IFERROR(MATCH(AJ28,'Base de données'!$AJ$2:$AJ$52,0),MATCH(AJ28,'Base de données'!$AJ$2:$AJ$52,1))) -> #N/A | AM28: =INDEX('Base de données'!AM15:AM65,IFERROR(MATCH(AL28,'Base de données'!AL15:AL65,0),MATCH(AL28,'Base de données'!AL15:AL65,1))) -> #N/A | AO28: =INDEX('Base de données'!$AO$2:$AO$52,IFERROR(MATCH(AN28,'Base de données'!$AN$2:$AN$52,0),MATCH(AN28,'Base de données'!$AN$2:$AN$52,1))) -> #N/A | AQ28: =INDEX('Base de données'!$AQ$2:$AQ$52,IFERROR(MATCH(AP28,'Base de données'!$AP$2:$AP$52,0),MATCH(AP28,'Base de données'!$AP$2:$AP$52,1))) -> #N/A | AS28: =INDEX('Base de données'!$AS$2:$AS$52,IFERROR(MATCH(AR28,'Base de données'!$AR$2:$AR$52,0),MATCH(AR28,'Base de données'!$AR$2:$AR$52,1))) -> #N/A | AT28: =AT29 -> 0 | AU28: =A28 -> N
C29: =SUM(C28) -> #N/A | E29: =SUM(E28) -> #N/A | G29: =SUM(G28) -> #N/A | I29: =SUM(I28) -> #N/A | K29: =SUM(K28) -> #N/A | M29: =SUM(M28) -> #N/A | O29: =SUM(O28) -> #N/A | Q29: =SUM(Q28) -> #N/A | S29: =SUM(S28) -> #N/A | U29: =SUM(U28) -> #N/A | W29: =SUM(W28) -> #N/A | Y29: =SUM(Y28) -> #N/A | AA29: =SUM(AA28) -> #N/A | AC29: =SUM(AC28) -> #N/A | AE29: =SUM(AE28) -> #N/A | AG29: =SUM(AG28) -> #N/A | AI29: =SUM(AI28) -> #N/A | AK29: =SUM(AK28) -> #N/A | AM29: =SUM(AM28) -> #N/A | AO29: =SUM(AO28) -> #N/A | AQ29: =SUM(AQ28) -> #N/A | AS29: =SUM(AS28) -> #N/A | AT29: {=SUM(IF(ISNUMBER(B29:AS29),B29:AS29))} -> 0 | AU29: =A29 -> 0
A30: O | C30: =INDEX('Base de données'!$C$2:$C$52,IFERROR(MATCH(B30,'Base de données'!$B$2:$B$52,0),MATCH(B30,'Base de données'!$B$2:$B$52,1))) -> #N/A | E30: =INDEX('Base de données'!$E$2:$E$52,IFERROR(MATCH($D$2,'Base de données'!$D$2:$D$52,0),MATCH(D30,'Base de données'!$D$2:$D$52,1))) -> #N/A | G30: =INDEX('Base de données'!$G$2:$G$52,IFERROR(MATCH(F30,'Base de données'!$F$2:$F$52,0),MATCH(F30,'Base de données'!$F$2:$F$52,1))) -> #N/A | I30: =INDEX('Base de données'!$I$2:$I$52,IFERROR(MATCH(H30,'Base de données'!$H$2:$H$52,0),MATCH(H30,'Base de données'!$H$2:$H$52,1))) -> #N/A | K30: =INDEX('Base de données'!$K$2:$K$52,IFERROR(MATCH(J30,'Base de données'!$J$2:$J$52,0),MATCH(J30,'Base de données'!$J$2:$J$52,1))) -> #N/A | M30: =INDEX('Base de données'!$M$2:$M$52,IFERROR(MATCH(L30,'Base de données'!$L$2:$L$52,0),MATCH(L30,'Base de données'!$L$2:$L$52,1))) -> #N/A | O30: =INDEX('Base de données'!$O$2:$O$52,IFERROR(MATCH(N30,'Base de données'!$N$2:$N$52,0),MATCH(N30,'Base de données'!$N$2:$N$52,1))) -> #N/A | Q30: =INDEX('Base de données'!$Q$2:$Q$52,IFERROR(MATCH(P30,'Base de données'!$P$2:$P$52,0),MATCH(P30,'Base de données'!$P$2:$P$52,1))) -> #N/A | S30: =INDEX('Base de données'!$S$2:$S$52,IFERROR(MATCH(R30,'Base de données'!$R$2:$R$52,0),MATCH(R30,'Base de données'!$R$2:$R$52,1))) -> #N/A | U30: =INDEX('Base de données'!$U$2:$U$52,IFERROR(MATCH(T30,'Base de données'!$T$2:$T$52,0),MATCH(T30,'Base de données'!$T$2:$T$52,1))) -> #N/A | W30: =INDEX('Base de données'!$W$2:$W$52,IFERROR(MATCH(V30,'Base de données'!$V$2:$V$52,0),MATCH(V30,'Base de données'!$V$2:$V$52,1))) -> #N/A | Y30: =INDEX('Base de données'!$Y$2:$Y$52,IFERROR(MATCH(X30,'Base de données'!$X$2:$X$52,0),MATCH(X30,'Base de données'!$X$2:$X$52,1))) -> #N/A | AA30: =INDEX('Base de données'!$AA$2:$AA$52,IFERROR(MATCH(Z30,'Base de données'!$Z$2:$Z$52,0),MATCH(Z30,'Base de données'!$Z$2:$Z$52,1))) -> #N/A | AC30: =INDEX('Base de données'!$AC$2:$AC$52,IFERROR(MATCH(AB30,'Base de données'!$AB$2:$AB$52,0),MATCH(AB30,'Base de données'!$AB$2:$AB$52,1))) -> #N/A | AE30: =INDEX('Base de données'!$AE$2:$AE$52,IFERROR(MATCH(AD30,'Base de données'!$AD$2:$AD$52,0),MATCH(AD30,'Base de données'!$AD$2:$AD$52,1))) -> #N/A | AG30: =INDEX('Base de données'!$AG$2:$AG$52,IFERROR(MATCH(AF30,'Base de données'!$AF$2:$AF$52,0),MATCH(AF30,'Base de données'!$AF$2:$AF$52,1))) -> #N/A | AI30: =INDEX('Base de données'!$AI$2:$AI$52,IFERROR(MATCH(AH30,'Base de données'!$AH$2:$AH$52,0),MATCH(AH30,'Base de données'!$AH$2:$AH$52,1))) -> #N/A | AK30: =INDEX('Base de données'!$AK$2:$AK$52,IFERROR(MATCH(AJ30,'Base de données'!$AJ$2:$AJ$52,0),MATCH(AJ30,'Base de données'!$AJ$2:$AJ$52,1))) -> #N/A | AM30: =INDEX('Base de données'!AM16:AM66,IFERROR(MATCH(AL30,'Base de données'!AL16:AL66,0),MATCH(AL30,'Base de données'!AL16:AL66,1))) -> #N/A | AO30: =INDEX('Base de données'!$AO$2:$AO$52,IFERROR(MATCH(AN30,'Base de données'!$AN$2:$AN$52,0),MATCH(AN30,'Base de données'!$AN$2:$AN$52,1))) -> #N/A | AQ30: =INDEX('Base de données'!$AQ$2:$AQ$52,IFERROR(MATCH(AP30,'Base de données'!$AP$2:$AP$52,0),MATCH(AP30,'Base de données'!$AP$2:$AP$52,1))) -> #N/A | AS30: =INDEX('Base de données'!$AS$2:$AS$52,IFERROR(MATCH(AR30,'Base de données'!$AR$2:$AR$52,0),MATCH(AR30,'Base de données'!$AR$2:$AR$52,1))) -> #N/A | AT30: =AT31 -> 0 | AU30: =A30 -> O
C31: =SUM(C30) -> #N/A | E31: =SUM(E30) -> #N/A | G31: =SUM(G30) -> #N/A | I31: =SUM(I30) -> #N/A | K31: =SUM(K30) -> #N/A | M31: =SUM(M30) -> #N/A | O31: =SUM(O30) -> #N/A | Q31: =SUM(Q30) -> #N/A | S31: =SUM(S30) -> #N/A | U31: =SUM(U30) -> #N/A | W31: =SUM(W30) -> #N/A | Y31: =SUM(Y30) -> #N/A | AA31: =SUM(AA30) -> #N/A | AC31: =SUM(AC30) -> #N/A | AE31: =SUM(AE30) -> #N/A | AG31: =SUM(AG30) -> #N/A | AI31: =SUM(AI30) -> #N/A | AK31: =SUM(AK30) -> #N/A | AM31: =SUM(AM30) -> #N/A | AO31: =SUM(AO30) -> #N/A | AQ31: =SUM(AQ30) -> #N/A | AS31: =SUM(AS30) -> #N/A | AT31: {=SUM(IF(ISNUMBER(B31:AS31),B31:AS31))} -> 0 | AU31: =A31 -> 0
A32: P | C32: =INDEX('Base de données'!$C$2:$C$52,IFERROR(MATCH(B32,'Base de données'!$B$2:$B$52,0),MATCH(B32,'Base de données'!$B$2:$B$52,1))) -> #N/A | E32: =INDEX('Base de données'!$E$2:$E$52,IFERROR(MATCH($D$2,'Base de données'!$D$2:$D$52,0),MATCH(D32,'Base de données'!$D$2:$D$52,1))) -> #N/A | G32: =INDEX('Base de données'!$G$2:$G$52,IFERROR(MATCH(F32,'Base de données'!$F$2:$F$52,0),MATCH(F32,'Base de données'!$F$2:$F$52,1))) -> #N/A | I32: =INDEX('Base de données'!$I$2:$I$52,IFERROR(MATCH(H32,'Base de données'!$H$2:$H$52,0),MATCH(H32,'Base de données'!$H$2:$H$52,1))) -> #N/A | K32: =INDEX('Base de données'!$K$2:$K$52,IFERROR(MATCH(J32,'Base de données'!$J$2:$J$52,0),MATCH(J32,'Base de données'!$J$2:$J$52,1))) -> #N/A | M32: =INDEX('Base de données'!$M$2:$M$52,IFERROR(MATCH(L32,'Base de données'!$L$2:$L$52,0),MATCH(L32,'Base de données'!$L$2:$L$52,1))) -> #N/A | O32: =INDEX('Base de données'!$O$2:$O$52,IFERROR(MATCH(N32,'Base de données'!$N$2:$N$52,0),MATCH(N32,'Base de données'!$N$2:$N$52,1))) -> #N/A | Q32: =INDEX('Base de données'!$Q$2:$Q$52,IFERROR(MATCH(P32,'Base de données'!$P$2:$P$52,0),MATCH(P32,'Base de données'!$P$2:$P$52,1))) -> #N/A | S32: =INDEX('Base de données'!$S$2:$S$52,IFERROR(MATCH(R32,'Base de données'!$R$2:$R$52,0),MATCH(R32,'Base de données'!$R$2:$R$52,1))) -> #N/A | U32: =INDEX('Base de données'!$U$2:$U$52,IFERROR(MATCH(T32,'Base de données'!$T$2:$T$52,0),MATCH(T32,'Base de données'!$T$2:$T$52,1))) -> #N/A | W32: =INDEX('Base de données'!$W$2:$W$52,IFERROR(MATCH(V32,'Base de données'!$V$2:$V$52,0),MATCH(V32,'Base de données'!$V$2:$V$52,1))) -> #N/A | Y32: =INDEX('Base de données'!$Y$2:$Y$52,IFERROR(MATCH(X32,'Base de données'!$X$2:$X$52,0),MATCH(X32,'Base de données'!$X$2:$X$52,1))) -> #N/A | AA32: =INDEX('Base de données'!$AA$2:$AA$52,IFERROR(MATCH(Z32,'Base de données'!$Z$2:$Z$52,0),MATCH(Z32,'Base de données'!$Z$2:$Z$52,1))) -> #N/A | AC32: =INDEX('Base de données'!$AC$2:$AC$52,IFERROR(MATCH(AB32,'Base de données'!$AB$2:$AB$52,0),MATCH(AB32,'Base de données'!$AB$2:$AB$52,1))) -> #N/A | AE32: =INDEX('Base de données'!$AE$2:$AE$52,IFERROR(MATCH(AD32,'Base de données'!$AD$2:$AD$52,0),MATCH(AD32,'Base de données'!$AD$2:$AD$52,1))) -> #N/A | AG32: =INDEX('Base de données'!$AG$2:$AG$52,IFERROR(MATCH(AF32,'Base de données'!$AF$2:$AF$52,0),MATCH(AF32,'Base de données'!$AF$2:$AF$52,1))) -> #N/A | AI32: =INDEX('Base de données'!$AI$2:$AI$52,IFERROR(MATCH(AH32,'Base de données'!$AH$2:$AH$52,0),MATCH(AH32,'Base de données'!$AH$2:$AH$52,1))) -> #N/A | AK32: =INDEX('Base de données'!$AK$2:$AK$52,IFERROR(MATCH(AJ32,'Base de données'!$AJ$2:$AJ$52,0),MATCH(AJ32,'Base de données'!$AJ$2:$AJ$52,1))) -> #N/A | AM32: =INDEX('Base de données'!AM17:AM67,IFERROR(MATCH(AL32,'Base de données'!AL17:AL67,0),MATCH(AL32,'Base de données'!AL17:AL67,1))) -> #N/A | AO32: =INDEX('Base de données'!$AO$2:$AO$52,IFERROR(MATCH(AN32,'Base de données'!$AN$2:$AN$52,0),MATCH(AN32,'Base de données'!$AN$2:$AN$52,1))) -> #N/A | AQ32: =INDEX('Base de données'!$AQ$2:$AQ$52,IFERROR(MATCH(AP32,'Base de données'!$AP$2:$AP$52,0),MATCH(AP32,'Base de données'!$AP$2:$AP$52,1))) -> #N/A | AS32: =INDEX('Base de données'!$AS$2:$AS$52,IFERROR(MATCH(AR32,'Base de données'!$AR$2:$AR$52,0),MATCH(AR32,'Base de données'!$AR$2:$AR$52,1))) -> #N/A | AT32: =AT33 -> 0 | AU32: =A32 -> P
C33: =SUM(C32) -> #N/A | E33: =SUM(E32) -> #N/A | G33: =SUM(G32) -> #N/A | I33: =SUM(I32) -> #N/A | K33: =SUM(K32) -> #N/A | M33: =SUM(M32) -> #N/A | O33: =SUM(O32) -> #N/A | Q33: =SUM(Q32) -> #N/A | S33: =SUM(S32) -> #N/A | U33: =SUM(U32) -> #N/A | W33: =SUM(W32) -> #N/A | Y33: =SUM(Y32) -> #N/A | AA33: =SUM(AA32) -> #N/A | AC33: =SUM(AC32) -> #N/A | AE33: =SUM(AE32) -> #N/A | AG33: =SUM(AG32) -> #N/A | AI33: =SUM(AI32) -> #N/A | AK33: =SUM(AK32) -> #N/A | AM33: =SUM(AM32) -> #N/A | AO33: =SUM(AO32) -> #N/A | AQ33: =SUM(AQ32) -> #N/A | AS33: =SUM(AS32) -> #N/A | AT33: {=SUM(IF(ISNUMBER(B33:AS33),B33:AS33))} -> 0 | AU33: =A33 -> 0
A34: Q | C34: =INDEX('Base de données'!$C$2:$C$52,IFERROR(MATCH(B34,'Base de données'!$B$2:$B$52,0),MATCH(B34,'Base de données'!$B$2:$B$52,1))) -> #N/A | E34: =INDEX('Base de données'!$E$2:$E$52,IFERROR(MATCH($D$2,'Base de données'!$D$2:$D$52,0),MATCH(D34,'Base de données'!$D$2:$D$52,1))) -> #N/A | G34: =INDEX('Base de données'!$G$2:$G$52,IFERROR(MATCH(F34,'Base de données'!$F$2:$F$52,0),MATCH(F34,'Base de données'!$F$2:$F$52,1))) -> #N/A | I34: =INDEX('Base de données'!$I$2:$I$52,IFERROR(MATCH(H34,'Base de données'!$H$2:$H$52,0),MATCH(H34,'Base de données'!$H$2:$H$52,1))) -> #N/A | K34: =INDEX('Base de données'!$K$2:$K$52,IFERROR(MATCH(J34,'Base de données'!$J$2:$J$52,0),MATCH(J34,'Base de données'!$J$2:$J$52,1))) -> #N/A | M34: =INDEX('Base de données'!$M$2:$M$52,IFERROR(MATCH(L34,'Base de données'!$L$2:$L$52,0),MATCH(L34,'Base de données'!$L$2:$L$52,1))) -> #N/A | O34: =INDEX('Base de données'!$O$2:$O$52,IFERROR(MATCH(N34,'Base de données'!$N$2:$N$52,0),MATCH(N34,'Base de données'!$N$2:$N$52,1))) -> #N/A | Q34: =INDEX('Base de données'!$Q$2:$Q$52,IFERROR(MATCH(P34,'Base de données'!$P$2:$P$52,0),MATCH(P34,'Base de données'!$P$2:$P$52,1))) -> #N/A | S34: =INDEX('Base de données'!$S$2:$S$52,IFERROR(MATCH(R34,'Base de données'!$R$2:$R$52,0),MATCH(R34,'Base de données'!$R$2:$R$52,1))) -> #N/A | T34: 38.65 | U34: =INDEX('Base de données'!$U$2:$U$52,IFERROR(MATCH(T34,'Base de données'!$T$2:$T$52,0),MATCH(T34,'Base de données'!$T$2:$T$52,1))) -> 18 | W34: =INDEX('Base de données'!$W$2:$W$52,IFERROR(MATCH(V34,'Base de données'!$V$2:$V$52,0),MATCH(V34,'Base de données'!$V$2:$V$52,1))) -> #N/A | Y34: =INDEX('Base de données'!$Y$2:$Y$52,IFERROR(MATCH(X34,'Base de données'!$X$2:$X$52,0),MATCH(X34,'Base de données'!$X$2:$X$52,1))) -> #N/A | AA34: =INDEX('Base de données'!$AA$2:$AA$52,IFERROR(MATCH(Z34,'Base de données'!$Z$2:$Z$52,0),MATCH(Z34,'Base de données'!$Z$2:$Z$52,1))) -> #N/A | AC34: =INDEX('Base de données'!$AC$2:$AC$52,IFERROR(MATCH(AB34,'Base de données'!$AB$2:$AB$52,0),MATCH(AB34,'Base de données'!$AB$2:$AB$52,1))) -> #N/A | AE34: =INDEX('Base de données'!$AE$2:$AE$52,IFERROR(MATCH(AD34,'Base de données'!$AD$2:$AD$52,0),MATCH(AD34,'Base de données'!$AD$2:$AD$52,1))) -> #N/A | AG34: =INDEX('Base de données'!$AG$2:$AG$52,IFERROR(MATCH(AF34,'Base de données'!$AF$2:$AF$52,0),MATCH(AF34,'Base de données'!$AF$2:$AF$52,1))) -> #N/A | AI34: =INDEX('Base de données'!$AI$2:$AI$52,IFERROR(MATCH(AH34,'Base de données'!$AH$2:$AH$52,0),MATCH(AH34,'Base de données'!$AH$2:$AH$52,1))) -> #N/A | AK34: =INDEX('Base de données'!$AK$2:$AK$52,IFERROR(MATCH(AJ34,'Base de données'!$AJ$2:$AJ$52,0),MATCH(AJ34,'Base de données'!$AJ$2:$AJ$52,1))) -> #N/A | AM34: =INDEX('Base de données'!AM18:AM68,IFERROR(MATCH(AL34,'Base de données'!AL18:AL68,0),MATCH(AL34,'Base de données'!AL18:AL68,1))) -> #N/A | AO34: =INDEX('Base de données'!$AO$2:$AO$52,IFERROR(MATCH(AN34,'Base de données'!$AN$2:$AN$52,0),MATCH(AN34,'Base de données'!$AN$2:$AN$52,1))) -> #N/A | AQ34: =INDEX('Base de données'!$AQ$2:$AQ$52,IFERROR(MATCH(AP34,'Base de données'!$AP$2:$AP$52,0),MATCH(AP34,'Base de données'!$AP$2:$AP$52,1))) -> #N/A | AS34: =INDEX('Base de données'!$AS$2:$AS$52,IFERROR(MATCH(AR34,'Base de données'!$AR$2:$AR$52,0),MATCH(AR34,'Base de données'!$AR$2:$AR$52,1))) -> #N/A | AT34: =AT35 -> 18 | AU34: =A34 -> Q
C35: =SUM(C34) -> #N/A | E35: =SUM(E34) -> #N/A | G35: =SUM(G34) -> #N/A | I35: =SUM(I34) -> #N/A | K35: =SUM(K34) -> #N/A | M35: =SUM(M34) -> #N/A | O35: =SUM(O34) -> #N/A | Q35: =SUM(Q34) -> #N/A | S35: =SUM(S34) -> #N/A | U35: =SUM(U34) -> 18 | W35: =SUM(W34) -> #N/A | Y35: =SUM(Y34) -> #N/A | AA35: =SUM(AA34) -> #N/A | AC35: =SUM(AC34) -> #N/A | AE35: =SUM(AE34) -> #N/A | AG35: =SUM(AG34) -> #N/A | AI35: =SUM(AI34) -> #N/A | AK35: =SUM(AK34) -> #N/A | AM35: =SUM(AM34) -> #N/A | AO35: =SUM(AO34) -> #N/A | AQ35: =SUM(AQ34) -> #N/A | AS35: =SUM(AS34) -> #N/A | AT35: {=SUM(IF(ISNUMBER(B35:AS35),B35:AS35))} -> 18 | AU35: =A35 -> 0
A36: R | C36: =INDEX('Base de données'!$C$2:$C$52,IFERROR(MATCH(B36,'Base de données'!$B$2:$B$52,0),MATCH(B36,'Base de données'!$B$2:$B$52,1))) -> #N/A | E36: =INDEX('Base de données'!$E$2:$E$52,IFERROR(MATCH($D$2,'Base de données'!$D$2:$D$52,0),MATCH(D36,'Base de données'!$D$2:$D$52,1))) -> #N/A | G36: =INDEX('Base de données'!$G$2:$G$52,IFERROR(MATCH(F36,'Base de données'!$F$2:$F$52,0),MATCH(F36,'Base de données'!$F$2:$F$52,1))) -> #N/A | I36: =INDEX('Base de données'!$I$2:$I$52,IFERROR(MATCH(H36,'Base de données'!$H$2:$H$52,0),MATCH(H36,'Base de données'!$H$2:$H$52,1))) -> #N/A | K36: =INDEX('Base de données'!$K$2:$K$52,IFERROR(MATCH(J36,'Base de données'!$J$2:$J$52,0),MATCH(J36,'Base de données'!$J$2:$J$52,1))) -> #N/A | M36: =INDEX('Base de données'!$M$2:$M$52,IFERROR(MATCH(L36,'Base de données'!$L$2:$L$52,0),MATCH(L36,'Base de données'!$L$2:$L$52,1))) -> #N/A | O36: =INDEX('Base de données'!$O$2:$O$52,IFERROR(MATCH(N36,'Base de données'!$N$2:$N$52,0),MATCH(N36,'Base de données'!$N$2:$N$52,1))) -> #N/A | Q36: =INDEX('Base de données'!$Q$2:$Q$52,IFERROR(MATCH(P36,'Base de données'!$P$2:$P$52,0),MATCH(P36,'Base de données'!$P$2:$P$52,1))) -> #N/A | S36: =INDEX('Base de données'!$S$2:$S$52,IFERROR(MATCH(R36,'Base de données'!$R$2:$R$52,0),MATCH(R36,'Base de données'!$R$2:$R$52,1))) -> #N/A | T36: 36.98 | U36: =INDEX('Base de données'!$U$2:$U$52,IFERROR(MATCH(T36,'Base de données'!$T$2:$T$52,0),MATCH(T36,'Base de données'!$T$2:$T$52,1))) -> 20 | W36: =INDEX('Base de données'!$W$2:$W$52,IFERROR(MATCH(V36,'Base de données'!$V$2:$V$52,0),MATCH(V36,'Base de données'!$V$2:$V$52,1))) -> #N/A | Y36: =INDEX('Base de données'!$Y$2:$Y$52,IFERROR(MATCH(X36,'Base de données'!$X$2:$X$52,0),MATCH(X36,'Base de données'!$X$2:$X$52,1))) -> #N/A | AA36: =INDEX('Base de données'!$AA$2:$AA$52,IFERROR(MATCH(Z36,'Base de données'!$Z$2:$Z$52,0),MATCH(Z36,'Base de données'!$Z$2:$Z$52,1))) -> #N/A | AC36: =INDEX('Base de données'!$AC$2:$AC$52,IFERROR(MATCH(AB36,'Base de données'!$AB$2:$AB$52,0),MATCH(AB36,'Base de données'!$AB$2:$AB$52,1))) -> #N/A | AE36: =INDEX('Base de données'!$AE$2:$AE$52,IFERROR(MATCH(AD36,'Base de données'!$AD$2:$AD$52,0),MATCH(AD36,'Base de données'!$AD$2:$AD$52,1))) -> #N/A | AG36: =INDEX('Base de données'!$AG$2:$AG$52,IFERROR(MATCH(AF36,'Base de données'!$AF$2:$AF$52,0),MATCH(AF36,'Base de données'!$AF$2:$AF$52,1))) -> #N/A | AI36: =INDEX('Base de données'!$AI$2:$AI$52,IFERROR(MATCH(AH36,'Base de données'!$AH$2:$AH$52,0),MATCH(AH36,'Base de données'!$AH$2:$AH$52,1))) -> #N/A | AK36: =INDEX('Base de données'!$AK$2:$AK$52,IFERROR(MATCH(AJ36,'Base de données'!$AJ$2:$AJ$52,0),MATCH(AJ36,'Base de données'!$AJ$2:$AJ$52,1))) -> #N/A | AM36: =INDEX('Base de données'!AM19:AM69,IFERROR(MATCH(AL36,'Base de données'!AL19:AL69,0),MATCH(AL36,'Base de données'!AL19:AL69,1))) -> #N/A | AO36: =INDEX('Base de données'!$AO$2:$AO$52,IFERROR(MATCH(AN36,'Base de données'!$AN$2:$AN$52,0),MATCH(AN36,'Base de données'!$AN$2:$AN$52,1))) -> #N/A | AQ36: =INDEX('Base de données'!$AQ$2:$AQ$52,IFERROR(MATCH(AP36,'Base de données'!$AP$2:$AP$52,0),MATCH(AP36,'Base de données'!$AP$2:$AP$52,1))) -> #N/A | AS36: =INDEX('Base de données'!$AS$2:$AS$52,IFERROR(MATCH(AR36,'Base de données'!$AR$2:$AR$52,0),MATCH(AR36,'Base de données'!$AR$2:$AR$52,1))) -> #N/A | AT36: =AT37 -> 20 | AU36: =A36 -> R
C37: =SUM(C36) -> #N/A | E37: =SUM(E36) -> #N/A | G37: =SUM(G36) -> #N/A | I37: =SUM(I36) -> #N/A | K37: =SUM(K36) -> #N/A | M37: =SUM(M36) -> #N/A | O37: =SUM(O36) -> #N/A | Q37: =SUM(Q36) -> #N/A | S37: =SUM(S36) -> #N/A | U37: =SUM(U36) -> 20 | W37: =SUM(W36) -> #N/A | Y37: =SUM(Y36) -> #N/A | AA37: =SUM(AA36) -> #N/A | AC37: =SUM(AC36) -> #N/A | AE37: =SUM(AE36) -> #N/A | AG37: =SUM(AG36) -> #N/A | AI37: =SUM(AI36) -> #N/A | AK37: =SUM(AK36) -> #N/A | AM37: =SUM(AM36) -> #N/A | AO37: =SUM(AO36) -> #N/A | AQ37: =SUM(AQ36) -> #N/A | AS37: =SUM(AS36) -> #N/A | AT37: {=SUM(IF(ISNUMBER(B37:AS37),B37:AS37))} -> 20 | AU37: =A37 -> 0
A38: S | C38: =INDEX('Base de données'!$C$2:$C$52,IFERROR(MATCH(B38,'Base de données'!$B$2:$B$52,0),MATCH(B38,'Base de données'!$B$2:$B$52,1))) -> #N/A | E38: =INDEX('Base de données'!$E$2:$E$52,IFERROR(MATCH($D$2,'Base de données'!$D$2:$D$52,0),MATCH(D38,'Base de données'!$D$2:$D$52,1))) -> #N/A | G38: =INDEX('Base de données'!$G$2:$G$52,IFERROR(MATCH(F38,'Base de données'!$F$2:$F$52,0),MATCH(F38,'Base de données'!$F$2:$F$52,1))) -> #N/A | I38: =INDEX('Base de données'!$I$2:$I$52,IFERROR(MATCH(H38,'Base de données'!$H$2:$H$52,0),MATCH(H38,'Base de données'!$H$2:$H$52,1))) -> #N/A | K38: =INDEX('Base de données'!$K$2:$K$52,IFERROR(MATCH(J38,'Base de données'!$J$2:$J$52,0),MATCH(J38,'Base de données'!$J$2:$J$52,1))) -> #N/A | M38: =INDEX('Base de données'!$M$2:$M$52,IFERROR(MATCH(L38,'Base de données'!$L$2:$L$52,0),MATCH(L38,'Base de données'!$L$2:$L$52,1))) -> #N/A | O38: =INDEX('Base de données'!$O$2:$O$52,IFERROR(MATCH(N38,'Base de données'!$N$2:$N$52,0),MATCH(N38,'Base de données'!$N$2:$N$52,1))) -> #N/A | Q38: =INDEX('Base de données'!$Q$2:$Q$52,IFERROR(MATCH(P38,'Base de données'!$P$2:$P$52,0),MATCH(P38,'Base de données'!$P$2:$P$52,1))) -> #N/A | S38: =INDEX('Base de données'!$S$2:$S$52,IFERROR(MATCH(R38,'Base de données'!$R$2:$R$52,0),MATCH(R38,'Base de données'!$R$2:$R$52,1))) -> #N/A | U38: =INDEX('Base de données'!$U$2:$U$52,IFERROR(MATCH(T38,'Base de données'!$T$2:$T$52,0),MATCH(T38,'Base de données'!$T$2:$T$52,1))) -> #N/A | W38: =INDEX('Base de données'!$W$2:$W$52,IFERROR(MATCH(V38,'Base de données'!$V$2:$V$52,0),MATCH(V38,'Base de données'!$V$2:$V$52,1))) -> #N/A | Y38: =INDEX('Base de données'!$Y$2:$Y$52,IFERROR(MATCH(X38,'Base de données'!$X$2:$X$52,0),MATCH(X38,'Base de données'!$X$2:$X$52,1))) -> #N/A | AA38: =INDEX('Base de données'!$AA$2:$AA$52,IFERROR(MATCH(Z38,'Base de données'!$Z$2:$Z$52,0),MATCH(Z38,'Base de données'!$Z$2:$Z$52,1))) -> #N/A | AC38: =INDEX('Base de données'!$AC$2:$AC$52,IFERROR(MATCH(AB38,'Base de données'!$AB$2:$AB$52,0),MATCH(AB38,'Base de données'!$AB$2:$AB$52,1))) -> #N/A | AE38: =INDEX('Base de données'!$AE$2:$AE$52,IFERROR(MATCH(AD38,'Base de données'!$AD$2:$AD$52,0),MATCH(AD38,'Base de données'!$AD$2:$AD$52,1))) -> #N/A | AG38: =INDEX('Base de données'!$AG$2:$AG$52,IFERROR(MATCH(AF38,'Base de données'!$AF$2:$AF$52,0),MATCH(AF38,'Base de données'!$AF$2:$AF$52,1))) -> #N/A | AI38: =INDEX('Base de données'!$AI$2:$AI$52,IFERROR(MATCH(AH38,'Base de données'!$AH$2:$AH$52,0),MATCH(AH38,'Base de données'!$AH$2:$AH$52,1))) -> #N/A | AK38: =INDEX('Base de données'!$AK$2:$AK$52,IFERROR(MATCH(AJ38,'Base de données'!$AJ$2:$AJ$52,0),MATCH(AJ38,'Base de données'!$AJ$2:$AJ$52,1))) -> #N/A | AM38: =INDEX('Base de données'!AM20:AM70,IFERROR(MATCH(AL38,'Base de données'!AL20:AL70,0),MATCH(AL38,'Base de données'!AL20:AL70,1))) -> #N/A | AO38: =INDEX('Base de données'!$AO$2:$AO$52,IFERROR(MATCH(AN38,'Base de données'!$AN$2:$AN$52,0),MATCH(AN38,'Base de données'!$AN$2:$AN$52,1))) -> #N/A | AQ38: =INDEX('Base de données'!$AQ$2:$AQ$52,IFERROR(MATCH(AP38,'Base de données'!$AP$2:$AP$52,0),MATCH(AP38,'Base de données'!$AP$2:$AP$52,1))) -> #N/A | AS38: =INDEX('Base de données'!$AS$2:$AS$52,IFERROR(MATCH(AR38,'Base de données'!$AR$2:$AR$52,0),MATCH(AR38,'Base de données'!$AR$2:$AR$52,1))) -> #N/A | AT38: =AT39 -> 0 | AU38: =A38 -> S
C39: =SUM(C38) -> #N/A | E39: =SUM(E38) -> #N/A | G39: =SUM(G38) -> #N/A | I39: =SUM(I38) -> #N/A | K39: =SUM(K38) -> #N/A | M39: =SUM(M38) -> #N/A | O39: =SUM(O38) -> #N/A | Q39: =SUM(Q38) -> #N/A | S39: =SUM(S38) -> #N/A | U39: =SUM(U38) -> #N/A | W39: =SUM(W38) -> #N/A | Y39: =SUM(Y38) -> #N/A | AA39: =SUM(AA38) -> #N/A | AC39: =SUM(AC38) -> #N/A | AE39: =SUM(AE38) -> #N/A | AG39: =SUM(AG38) -> #N/A | AI39: =SUM(AI38) -> #N/A | AK39: =SUM(AK38) -> #N/A | AM39: =SUM(AM38) -> #N/A | AO39: =SUM(AO38) -> #N/A | AQ39: =SUM(AQ38) -> #N/A | AS39: =SUM(AS38) -> #N/A | AT39: {=SUM(IF(ISNUMBER(B39:AS39),B39:AS39))} -> 0 | AU39: =A39 -> 0
A40: T | C40: =INDEX('Base de données'!$C$2:$C$52,IFERROR(MATCH(B40,'Base de données'!$B$2:$B$52,0),MATCH(B40,'Base de données'!$B$2:$B$52,1))) -> #N/A | E40: =INDEX('Base de données'!$E$2:$E$52,IFERROR(MATCH($D$2,'Base de données'!$D$2:$D$52,0),MATCH(D40,'Base de données'!$D$2:$D$52,1))) -> #N/A | G40: =INDEX('Base de données'!$G$2:$G$52,IFERROR(MATCH(F40,'Base de données'!$F$2:$F$52,0),MATCH(F40,'Base de données'!$F$2:$F$52,1))) -> #N/A | I40: =INDEX('Base de données'!$I$2:$I$52,IFERROR(MATCH(H40,'Base de données'!$H$2:$H$52,0),MATCH(H40,'Base de données'!$H$2:$H$52,1))) -> #N/A | K40: =INDEX('Base de données'!$K$2:$K$52,IFERROR(MATCH(J40,'Base de données'!$J$2:$J$52,0),MATCH(J40,'Base de données'!$J$2:$J$52,1))) -> #N/A | M40: =INDEX('Base de données'!$M$2:$M$52,IFERROR(MATCH(L40,'Base de données'!$L$2:$L$52,0),MATCH(L40,'Base de données'!$L$2:$L$52,1))) -> #N/A | O40: =INDEX('Base de données'!$O$2:$O$52,IFERROR(MATCH(N40,'Base de données'!$N$2:$N$52,0),MATCH(N40,'Base de données'!$N$2:$N$52,1))) -> #N/A | Q40: =INDEX('Base de données'!$Q$2:$Q$52,IFERROR(MATCH(P40,'Base de données'!$P$2:$P$52,0),MATCH(P40,'Base de données'!$P$2:$P$52,1))) -> #N/A | S40: =INDEX('Base de données'!$S$2:$S$52,IFERROR(MATCH(R40,'Base de données'!$R$2:$R$52,0),MATCH(R40,'Base de données'!$R$2:$R$52,1))) -> #N/A | U40: =INDEX('Base de données'!$U$2:$U$52,IFERROR(MATCH(T40,'Base de données'!$T$2:$T$52,0),MATCH(T40,'Base de données'!$T$2:$T$52,1))) -> #N/A | W40: =INDEX('Base de données'!$W$2:$W$52,IFERROR(MATCH(V40,'Base de données'!$V$2:$V$52,0),MATCH(V40,'Base de données'!$V$2:$V$52,1))) -> #N/A | Y40: =INDEX('Base de données'!$Y$2:$Y$52,IFERROR(MATCH(X40,'Base de données'!$X$2:$X$52,0),MATCH(X40,'Base de données'!$X$2:$X$52,1))) -> #N/A | AA40: =INDEX('Base de données'!$AA$2:$AA$52,IFERROR(MATCH(Z40,'Base de données'!$Z$2:$Z$52,0),MATCH(Z40,'Base de données'!$Z$2:$Z$52,1))) -> #N/A | AC40: =INDEX('Base de données'!$AC$2:$AC$52,IFERROR(MATCH(AB40,'Base de données'!$AB$2:$AB$52,0),MATCH(AB40,'Base de données'!$AB$2:$AB$52,1))) -> #N/A | AE40: =INDEX('Base de données'!$AE$2:$AE$52,IFERROR(MATCH(AD40,'Base de données'!$AD$2:$AD$52,0),MATCH(AD40,'Base de données'!$AD$2:$AD$52,1))) -> #N/A | AG40: =INDEX('Base de données'!$AG$2:$AG$52,IFERROR(MATCH(AF40,'Base de données'!$AF$2:$AF$52,0),MATCH(AF40,'Base de données'!$AF$2:$AF$52,1))) -> #N/A | AI40: =INDEX('Base de données'!$AI$2:$AI$52,IFERROR(MATCH(AH40,'Base de données'!$AH$2:$AH$52,0),MATCH(AH40,'Base de données'!$AH$2:$AH$52,1))) -> #N/A | AK40: =INDEX('Base de données'!$AK$2:$AK$52,IFERROR(MATCH(AJ40,'Base de données'!$AJ$2:$AJ$52,0),MATCH(AJ40,'Base de données'!$AJ$2:$AJ$52,1))) -> #N/A | AM40: =INDEX('Base de données'!AM21:AM71,IFERROR(MATCH(AL40,'Base de données'!AL21:AL71,0),MATCH(AL40,'Base de données'!AL21:AL71,1))) -> #N/A | AO40: =INDEX('Base de données'!$AO$2:$AO$52,IFERROR(MATCH(AN40,'Base de données'!$AN$2:$AN$52,0),MATCH(AN40,'Base de données'!$AN$2:$AN$52,1))) -> #N/A | AQ40: =INDEX('Base de données'!$AQ$2:$AQ$52,IFERROR(MATCH(AP40,'Base de données'!$AP$2:$AP$52,0),MATCH(AP40,'Base de données'!$AP$2:$AP$52,1))) -> #N/A | AS40: =INDEX('Base de données'!$AS$2:$AS$52,IFERROR(MATCH(AR40,'Base de données'!$AR$2:$AR$52,0),MATCH(AR40,'Base de données'!$AR$2:$AR$52,1))) -> #N/A | AT40: =AT41 -> 0 | AU40: =A40 -> T
C41: =SUM(C40) -> #N/A | E41: =SUM(E40) -> #N/A | G41: =SUM(G40) -> #N/A | I41: =SUM(I40) -> #N/A | K41: =SUM(K40) -> #N/A | M41: =SUM(M40) -> #N/A | O41: =SUM(O40) -> #N/A | Q41: =SUM(Q40) -> #N/A | S41: =SUM(S40) -> #N/A | U41: =SUM(U40) -> #N/A | W41: =SUM(W40) -> #N/A | Y41: =SUM(Y40) -> #N/A | AA41: =SUM(AA40) -> #N/A | AC41: =SUM(AC40) -> #N/A | AE41: =SUM(AE40) -> #N/A | AG41: =SUM(AG40) -> #N/A | AI41: =SUM(AI40) -> #N/A | AK41: =SUM(AK40) -> #N/A | AM41: =SUM(AM40) -> #N/A | AO41: =SUM(AO40) -> #N/A | AQ41: =SUM(AQ40) -> #N/A | AS41: =SUM(AS40) -> #N/A | AT41: {=SUM(IF(ISNUMBER(B41:AS41),B41:AS41))} -> 0 | AU41: =A41 -> 0
A42: U | C42: =INDEX('Base de données'!$C$2:$C$52,IFERROR(MATCH(B42,'Base de données'!$B$2:$B$52,0),MATCH(B42,'Base de données'!$B$2:$B$52,1))) -> #N/A | E42: =INDEX('Base de données'!$E$2:$E$52,IFERROR(MATCH($D$2,'Base de données'!$D$2:$D$52,0),MATCH(D42,'Base de données'!$D$2:$D$52,1))) -> #N/A | G42: =INDEX('Base de données'!$G$2:$G$52,IFERROR(MATCH(F42,'Base de données'!$F$2:$F$52,0),MATCH(F42,'Base de données'!$F$2:$F$52,1))) -> #N/A | I42: =INDEX('Base de données'!$I$2:$I$52,IFERROR(MATCH(H42,'Base de données'!$H$2:$H$52,0),MATCH(H42,'Base de données'!$H$2:$H$52,1))) -> #N/A | K42: =INDEX('Base de données'!$K$2:$K$52,IFERROR(MATCH(J42,'Base de données'!$J$2:$J$52,0),MATCH(J42,'Base de données'!$J$2:$J$52,1))) -> #N/A | M42: =INDEX('Base de données'!$M$2:$M$52,IFERROR(MATCH(L42,'Base de données'!$L$2:$L$52,0),MATCH(L42,'Base de données'!$L$2:$L$52,1))) -> #N/A | O42: =INDEX('Base de données'!$O$2:$O$52,IFERROR(MATCH(N42,'Base de données'!$N$2:$N$52,0),MATCH(N42,'Base de données'!$N$2:$N$52,1))) -> #N/A | Q42: =INDEX('Base de données'!$Q$2:$Q$52,IFERROR(MATCH(P42,'Base de données'!$P$2:$P$52,0),MATCH(P42,'Base de données'!$P$2:$P$52,1))) -> #N/A | S42: =INDEX('Base de données'!$S$2:$S$52,IFERROR(MATCH(R42,'Base de données'!$R$2:$R$52,0),MATCH(R42,'Base de données'!$R$2:$R$52,1))) -> #N/A | U42: =INDEX('Base de données'!$U$2:$U$52,IFERROR(MATCH(T42,'Base de données'!$T$2:$T$52,0),MATCH(T42,'Base de données'!$T$2:$T$52,1))) -> #N/A | W42: =INDEX('Base de données'!$W$2:$W$52,IFERROR(MATCH(V42,'Base de données'!$V$2:$V$52,0),MATCH(V42,'Base de données'!$V$2:$V$52,1))) -> #N/A | Y42: =INDEX('Base de données'!$Y$2:$Y$52,IFERROR(MATCH(X42,'Base de données'!$X$2:$X$52,0),MATCH(X42,'Base de données'!$X$2:$X$52,1))) -> #N/A | AA42: =INDEX('Base de données'!$AA$2:$AA$52,IFERROR(MATCH(Z42,'Base de données'!$Z$2:$Z$52,0),MATCH(Z42,'Base de données'!$Z$2:$Z$52,1))) -> #N/A | AC42: =INDEX('Base de données'!$AC$2:$AC$52,IFERROR(MATCH(AB42,'Base de données'!$AB$2:$AB$52,0),MATCH(AB42,'Base de données'!$AB$2:$AB$52,1))) -> #N/A | AE42: =INDEX('Base de données'!$AE$2:$AE$52,IFERROR(MATCH(AD42,'Base de données'!$AD$2:$AD$52,0),MATCH(AD42,'Base de données'!$AD$2:$AD$52,1))) -> #N/A | AG42: =INDEX('Base de données'!$AG$2:$AG$52,IFERROR(MATCH(AF42,'Base de données'!$AF$2:$AF$52,0),MATCH(AF42,'Base de données'!$AF$2:$AF$52,1))) -> #N/A | AI42: =INDEX('Base de données'!$AI$2:$AI$52,IFERROR(MATCH(AH42,'Base de données'!$AH$2:$AH$52,0),MATCH(AH42,'Base de données'!$AH$2:$AH$52,1))) -> #N/A | AK42: =INDEX('Base de données'!$AK$2:$AK$52,IFERROR(MATCH(AJ42,'Base de données'!$AJ$2:$AJ$52,0),MATCH(AJ42,'Base de données'!$AJ$2:$AJ$52,1))) -> #N/A | AM42: =INDEX('Base de données'!AM22:AM72,IFERROR(MATCH(AL42,'Base de données'!AL22:AL72,0),MATCH(AL42,'Base de données'!AL22:AL72,1))) -> #N/A | AO42: =INDEX('Base de données'!$AO$2:$AO$52,IFERROR(MATCH(AN42,'Base de données'!$AN$2:$AN$52,0),MATCH(AN42,'Base de données'!$AN$2:$AN$52,1))) -> #N/A | AQ42: =INDEX('Base de données'!$AQ$2:$AQ$52,IFERROR(MATCH(AP42,'Base de données'!$AP$2:$AP$52,0),MATCH(AP42,'Base de données'!$AP$2:$AP$52,1))) -> #N/A | AS42: =INDEX('Base de données'!$AS$2:$AS$52,IFERROR(MATCH(AR42,'Base de données'!$AR$2:$AR$52,0),MATCH(AR42,'Base de données'!$AR$2:$AR$52,1))) -> #N/A | AT42: =AT43 -> 0 | AU42: =A42 -> U
C43: =SUM(C42) -> #N/A | E43: =SUM(E42) -> #N/A | G43: =SUM(G42) -> #N/A | I43: =SUM(I42) -> #N/A | K43: =SUM(K42) -> #N/A | M43: =SUM(M42) -> #N/A | O43: =SUM(O42) -> #N/A | Q43: =SUM(Q42) -> #N/A | S43: =SUM(S42) -> #N/A | U43: =SUM(U42) -> #N/A | W43: =SUM(W42) -> #N/A | Y43: =SUM(Y42) -> #N/A | AA43: =SUM(AA42) -> #N/A | AC43: =SUM(AC42) -> #N/A | AE43: =SUM(AE42) -> #N/A | AG43: =SUM(AG42) -> #N/A | AI43: =SUM(AI42) -> #N/A | AK43: =SUM(AK42) -> #N/A | AM43: =SUM(AM42) -> #N/A | AO43: =SUM(AO42) -> #N/A | AQ43: =SUM(AQ42) -> #N/A | AS43: =SUM(AS42) -> #N/A | AT43: {=SUM(IF(ISNUMBER(B43:AS43),B43:AS43))} -> 0 | AU43: =A43 -> 0
A44: V | C44: =INDEX('Base de données'!$C$2:$C$52,IFERROR(MATCH(B44,'Base de données'!$B$2:$B$52,0),MATCH(B44,'Base de données'!$B$2:$B$52,1))) -> #N/A | E44: =INDEX('Base de données'!$E$2:$E$52,IFERROR(MATCH($D$2,'Base de données'!$D$2:$D$52,0),MATCH(D44,'Base de données'!$D$2:$D$52,1))) -> #N/A | G44: =INDEX('Base de données'!$G$2:$G$52,IFERROR(MATCH(F44,'Base de données'!$F$2:$F$52,0),MATCH(F44,'Base de données'!$F$2:$F$52,1))) -> #N/A | I44: =INDEX('Base de données'!$I$2:$I$52,IFERROR(MATCH(H44,'Base de données'!$H$2:$H$52,0),MATCH(H44,'Base de données'!$H$2:$H$52,1))) -> #N/A | K44: =INDEX('Base de données'!$K$2:$K$52,IFERROR(MATCH(J44,'Base de données'!$J$2:$J$52,0),MATCH(J44,'Base de données'!$J$2:$J$52,1))) -> #N/A | M44: =INDEX('Base de données'!$M$2:$M$52,IFERROR(MATCH(L44,'Base de données'!$L$2:$L$52,0),MATCH(L44,'Base de données'!$L$2:$L$52,1))) -> #N/A | O44: =INDEX('Base de données'!$O$2:$O$52,IFERROR(MATCH(N44,'Base de données'!$N$2:$N$52,0),MATCH(N44,'Base de données'!$N$2:$N$52,1))) -> #N/A | Q44: =INDEX('Base de données'!$Q$2:$Q$52,IFERROR(MATCH(P44,'Base de données'!$P$2:$P$52,0),MATCH(P44,'Base de données'!$P$2:$P$52,1))) -> #N/A | S44: =INDEX('Base de données'!$S$2:$S$52,IFERROR(MATCH(R44,'Base de données'!$R$2:$R$52,0),MATCH(R44,'Base de données'!$R$2:$R$52,1))) -> #N/A | U44: =INDEX('Base de données'!$U$2:$U$52,IFERROR(MATCH(T44,'Base de données'!$T$2:$T$52,0),MATCH(T44,'Base de données'!$T$2:$T$52,1))) -> #N/A | W44: =INDEX('Base de données'!$W$2:$W$52,IFERROR(MATCH(V44,'Base de données'!$V$2:$V$52,0),MATCH(V44,'Base de données'!$V$2:$V$52,1))) -> #N/A | Y44: =INDEX('Base de données'!$Y$2:$Y$52,IFERROR(MATCH(X44,'Base de données'!$X$2:$X$52,0),MATCH(X44,'Base de données'!$X$2:$X$52,1))) -> #N/A | AA44: =INDEX('Base de données'!$AA$2:$AA$52,IFERROR(MATCH(Z44,'Base de données'!$Z$2:$Z$52,0),MATCH(Z44,'Base de données'!$Z$2:$Z$52,1))) -> #N/A | AC44: =INDEX('Base de données'!$AC$2:$AC$52,IFERROR(MATCH(AB44,'Base de données'!$AB$2:$AB$52,0),MATCH(AB44,'Base de données'!$AB$2:$AB$52,1))) -> #N/A | AE44: =INDEX('Base de données'!$AE$2:$AE$52,IFERROR(MATCH(AD44,'Base de données'!$AD$2:$AD$52,0),MATCH(AD44,'Base de données'!$AD$2:$AD$52,1))) -> #N/A | AG44: =INDEX('Base de données'!$AG$2:$AG$52,IFERROR(MATCH(AF44,'Base de données'!$AF$2:$AF$52,0),MATCH(AF44,'Base de données'!$AF$2:$AF$52,1))) -> #N/A | AI44: =INDEX('Base de données'!$AI$2:$AI$52,IFERROR(MATCH(AH44,'Base de données'!$AH$2:$AH$52,0),MATCH(AH44,'Base de données'!$AH$2:$AH$52,1))) -> #N/A | AK44: =INDEX('Base de données'!$AK$2:$AK$52,IFERROR(MATCH(AJ44,'Base de données'!$AJ$2:$AJ$52,0),MATCH(AJ44,'Base de données'!$AJ$2:$AJ$52,1))) -> #N/A | AM44: =INDEX('Base de données'!AM23:AM73,IFERROR(MATCH(AL44,'Base de données'!AL23:AL73,0),MATCH(AL44,'Base de données'!AL23:AL73,1))) -> #N/A | AO44: =INDEX('Base de données'!$AO$2:$AO$52,IFERROR(MATCH(AN44,'Base de données'!$AN$2:$AN$52,0),MATCH(AN44,'Base de données'!$AN$2:$AN$52,1))) -> #N/A | AQ44: =INDEX('Base de données'!$AQ$2:$AQ$52,IFERROR(MATCH(AP44,'Base de données'!$AP$2:$AP$52,0),MATCH(AP44,'Base de données'!$AP$2:$AP$52,1))) -> #N/A | AS44: =INDEX('Base de données'!$AS$2:$AS$52,IFERROR(MATCH(AR44,'Base de données'!$AR$2:$AR$52,0),MATCH(AR44,'Base de données'!$AR$2:$AR$52,1))) -> #N/A | AT44: =AT45 -> 0 | AU44: =A44 -> V
C45: =SUM(C44) -> #N/A | E45: =SUM(E44) -> #N/A | G45: =SUM(G44) -> #N/A | I45: =SUM(I44) -> #N/A | K45: =SUM(K44) -> #N/A | M45: =SUM(M44) -> #N/A | O45: =SUM(O44) -> #N/A | Q45: =SUM(Q44) -> #N/A | S45: =SUM(S44) -> #N/A | U45: =SUM(U44) -> #N/A | W45: =SUM(W44) -> #N/A | Y45: =SUM(Y44) -> #N/A | AA45: =SUM(AA44) -> #N/A | AC45: =SUM(AC44) -> #N/A | AE45: =SUM(AE44) -> #N/A | AG45: =SUM(AG44) -> #N/A | AI45: =SUM(AI44) -> #N/A | AK45: =SUM(AK44) -> #N/A | AM45: =SUM(AM44) -> #N/A | AO45: =SUM(AO44) -> #N/A | AQ45: =SUM(AQ44) -> #N/A | AS45: =SUM(AS44) -> #N/A | AT45: {=SUM(IF(ISNUMBER(B45:AS45),B45:AS45))} -> 0 | AU45: =A45 -> 0
A46: W | C46: =INDEX('Base de données'!$C$2:$C$52,IFERROR(MATCH(B46,'Base de données'!$B$2:$B$52,0),MATCH(B46,'Base de données'!$B$2:$B$52,1))) -> #N/A | E46: =INDEX('Base de données'!$E$2:$E$52,IFERROR(MATCH($D$2,'Base de données'!$D$2:$D$52,0),MATCH(D46,'Base de données'!$D$2:$D$52,1))) -> #N/A | G46: =INDEX('Base de données'!$G$2:$G$52,IFERROR(MATCH(F46,'Base de données'!$F$2:$F$52,0),MATCH(F46,'Base de données'!$F$2:$F$52,1))) -> #N/A | I46: =INDEX('Base de données'!$I$2:$I$52,IFERROR(MATCH(H46,'Base de données'!$H$2:$H$52,0),MATCH(H46,'Base de données'!$H$2:$H$52,1))) -> #N/A | K46: =INDEX('Base de données'!$K$2:$K$52,IFERROR(MATCH(J46,'Base de données'!$J$2:$J$52,0),MATCH(J46,'Base de données'!$J$2:$J$52,1))) -> #N/A | M46: =INDEX('Base de données'!$M$2:$M$52,IFERROR(MATCH(L46,'Base de données'!$L$2:$L$52,0),MATCH(L46,'Base de données'!$L$2:$L$52,1))) -> #N/A | O46: =INDEX('Base de données'!$O$2:$O$52,IFERROR(MATCH(N46,'Base de données'!$N$2:$N$52,0),MATCH(N46,'Base de données'!$N$2:$N$52,1))) -> #N/A | Q46: =INDEX('Base de données'!$Q$2:$Q$52,IFERROR(MATCH(P46,'Base de données'!$P$2:$P$52,0),MATCH(P46,'Base de données'!$P$2:$P$52,1))) -> #N/A | S46: =INDEX('Base de données'!$S$2:$S$52,IFERROR(MATCH(R46,'Base de données'!$R$2:$R$52,0),MATCH(R46,'Base de données'!$R$2:$R$52,1))) -> #N/A | U46: =INDEX('Base de données'!$U$2:$U$52,IFERROR(MATCH(T46,'Base de données'!$T$2:$T$52,0),MATCH(T46,'Base de données'!$T$2:$T$52,1))) -> #N/A | W46: =INDEX('Base de données'!$W$2:$W$52,IFERROR(MATCH(V46,'Base de données'!$V$2:$V$52,0),MATCH(V46,'Base de données'!$V$2:$V$52,1))) -> #N/A | Y46: =INDEX('Base de données'!$Y$2:$Y$52,IFERROR(MATCH(X46,'Base de données'!$X$2:$X$52,0),MATCH(X46,'Base de données'!$X$2:$X$52,1))) -> #N/A | AA46: =INDEX('Base de données'!$AA$2:$AA$52,IFERROR(MATCH(Z46,'Base de données'!$Z$2:$Z$52,0),MATCH(Z46,'Base de données'!$Z$2:$Z$52,1))) -> #N/A | AC46: =INDEX('Base de données'!$AC$2:$AC$52,IFERROR(MATCH(AB46,'Base de données'!$AB$2:$AB$52,0),MATCH(AB46,'Base de données'!$AB$2:$AB$52,1))) -> #N/A | AE46: =INDEX('Base de données'!$AE$2:$AE$52,IFERROR(MATCH(AD46,'Base de données'!$AD$2:$AD$52,0),MATCH(AD46,'Base de données'!$AD$2:$AD$52,1))) -> #N/A | AG46: =INDEX('Base de données'!$AG$2:$AG$52,IFERROR(MATCH(AF46,'Base de données'!$AF$2:$AF$52,0),MATCH(AF46,'Base de données'!$AF$2:$AF$52,1))) -> #N/A | AI46: =INDEX('Base de données'!$AI$2:$AI$52,IFERROR(MATCH(AH46,'Base de données'!$AH$2:$AH$52,0),MATCH(AH46,'Base de données'!$AH$2:$AH$52,1))) -> #N/A | AK46: =INDEX('Base de données'!$AK$2:$AK$52,IFERROR(MATCH(AJ46,'Base de données'!$AJ$2:$AJ$52,0),MATCH(AJ46,'Base de données'!$AJ$2:$AJ$52,1))) -> #N/A | AM46: =INDEX('Base de données'!AM24:AM74,IFERROR(MATCH(AL46,'Base de données'!AL24:AL74,0),MATCH(AL46,'Base de données'!AL24:AL74,1))) -> #N/A | AO46: =INDEX('Base de données'!$AO$2:$AO$52,IFERROR(MATCH(AN46,'Base de données'!$AN$2:$AN$52,0),MATCH(AN46,'Base de données'!$AN$2:$AN$52,1))) -> #N/A | AQ46: =INDEX('Base de données'!$AQ$2:$AQ$52,IFERROR(MATCH(AP46,'Base de données'!$AP$2:$AP$52,0),MATCH(AP46,'Base de données'!$AP$2:$AP$52,1))) -> #N/A | AS46: =INDEX('Base de données'!$AS$2:$AS$52,IFERROR(MATCH(AR46,'Base de données'!$AR$2:$AR$52,0),MATCH(AR46,'Base de données'!$AR$2:$AR$52,1))) -> #N/A | AT46: =AT47 -> 0 | AU46: =A46 -> W
C47: =SUM(C46) -> #N/A | E47: =SUM(E46) -> #N/A | G47: =SUM(G46) -> #N/A | I47: =SUM(I46) -> #N/A | K47: =SUM(K46) -> #N/A | M47: =SUM(M46) -> #N/A | O47: =SUM(O46) -> #N/A | Q47: =SUM(Q46) -> #N/A | S47: =SUM(S46) -> #N/A | U47: =SUM(U46) -> #N/A | W47: =SUM(W46) -> #N/A | Y47: =SUM(Y46) -> #N/A | AA47: =SUM(AA46) -> #N/A | AC47: =SUM(AC46) -> #N/A | AE47: =SUM(AE46) -> #N/A | AG47: =SUM(AG46) -> #N/A | AI47: =SUM(AI46) -> #N/A | AK47: =SUM(AK46) -> #N/A | AM47: =SUM(AM46) -> #N/A | AO47: =SUM(AO46) -> #N/A | AQ47: =SUM(AQ46) -> #N/A | AS47: =SUM(AS46) -> #N/A | AT47: {=SUM(IF(ISNUMBER(B47:AS47),B47:AS47))} -> 0 | AU47: =A47 -> 0
A48: X | C48: =INDEX('Base de données'!$C$2:$C$52,IFERROR(MATCH(B48,'Base de données'!$B$2:$B$52,0),MATCH(B48,'Base de données'!$B$2:$B$52,1))) -> #N/A | E48: =INDEX('Base de données'!$E$2:$E$52,IFERROR(MATCH($D$2,'Base de données'!$D$2:$D$52,0),MATCH(D48,'Base de données'!$D$2:$D$52,1))) -> #N/A | G48: =INDEX('Base de données'!$G$2:$G$52,IFERROR(MATCH(F48,'Base de données'!$F$2:$F$52,0),MATCH(F48,'Base de données'!$F$2:$F$52,1))) -> #N/A | I48: =INDEX('Base de données'!$I$2:$I$52,IFERROR(MATCH(H48,'Base de données'!$H$2:$H$52,0),MATCH(H48,'Base de données'!$H$2:$H$52,1))) -> #N/A | K48: =INDEX('Base de données'!$K$2:$K$52,IFERROR(MATCH(J48,'Base de données'!$J$2:$J$52,0),MATCH(J48,'Base de données'!$J$2:$J$52,1))) -> #N/A | M48: =INDEX('Base de données'!$M$2:$M$52,IFERROR(MATCH(L48,'Base de données'!$L$2:$L$52,0),MATCH(L48,'Base de données'!$L$2:$L$52,1))) -> #N/A | O48: =INDEX('Base de données'!$O$2:$O$52,IFERROR(MATCH(N48,'Base de données'!$N$2:$N$52,0),MATCH(N48,'Base de données'!$N$2:$N$52,1))) -> #N/A | Q48: =INDEX('Base de données'!$Q$2:$Q$52,IFERROR(MATCH(P48,'Base de données'!$P$2:$P$52,0),MATCH(P48,'Base de données'!$P$2:$P$52,1))) -> #N/A | S48: =INDEX('Base de données'!$S$2:$S$52,IFERROR(MATCH(R48,'Base de données'!$R$2:$R$52,0),MATCH(R48,'Base de données'!$R$2:$R$52,1))) -> #N/A | U48: =INDEX('Base de données'!$U$2:$U$52,IFERROR(MATCH(T48,'Base de données'!$T$2:$T$52,0),MATCH(T48,'Base de données'!$T$2:$T$52,1))) -> #N/A | W48: =INDEX('Base de données'!$W$2:$W$52,IFERROR(MATCH(V48,'Base de données'!$V$2:$V$52,0),MATCH(V48,'Base de données'!$V$2:$V$52,1))) -> #N/A | Y48: =INDEX('Base de données'!$Y$2:$Y$52,IFERROR(MATCH(X48,'Base de données'!$X$2:$X$52,0),MATCH(X48,'Base de données'!$X$2:$X$52,1))) -> #N/A | AA48: =INDEX('Base de données'!$AA$2:$AA$52,IFERROR(MATCH(Z48,'Base de données'!$Z$2:$Z$52,0),MATCH(Z48,'Base de données'!$Z$2:$Z$52,1))) -> #N/A | AC48: =INDEX('Base de données'!$AC$2:$AC$52,IFERROR(MATCH(AB48,'Base de données'!$AB$2:$AB$52,0),MATCH(AB48,'Base de données'!$AB$2:$AB$52,1))) -> #N/A | AE48: =INDEX('Base de données'!$AE$2:$AE$52,IFERROR(MATCH(AD48,'Base de données'!$AD$2:$AD$52,0),MATCH(AD48,'Base de données'!$AD$2:$AD$52,1))) -> #N/A | AG48: =INDEX('Base de données'!$AG$2:$AG$52,IFERROR(MATCH(AF48,'Base de données'!$AF$2:$AF$52,0),MATCH(AF48,'Base de données'!$AF$2:$AF$52,1))) -> #N/A | AI48: =INDEX('Base de données'!$AI$2:$AI$52,IFERROR(MATCH(AH48,'Base de données'!$AH$2:$AH$52,0),MATCH(AH48,'Base de données'!$AH$2:$AH$52,1))) -> #N/A | AK48: =INDEX('Base de données'!$AK$2:$AK$52,IFERROR(MATCH(AJ48,'Base de données'!$AJ$2:$AJ$52,0),MATCH(AJ48,'Base de données'!$AJ$2:$AJ$52,1))) -> #N/A | AM48: =INDEX('Base de données'!AM25:AM75,IFERROR(MATCH(AL48,'Base de données'!AL25:AL75,0),MATCH(AL48,'Base de données'!AL25:AL75,1))) -> #N/A | AO48: =INDEX('Base de données'!$AO$2:$AO$52,IFERROR(MATCH(AN48,'Base de données'!$AN$2:$AN$52,0),MATCH(AN48,'Base de données'!$AN$2:$AN$52,1))) -> #N/A | AQ48: =INDEX('Base de données'!$AQ$2:$AQ$52,IFERROR(MATCH(AP48,'Base de données'!$AP$2:$AP$52,0),MATCH(AP48,'Base de données'!$AP$2:$AP$52,1))) -> #N/A | AS48: =INDEX('Base de données'!$AS$2:$AS$52,IFERROR(MATCH(AR48,'Base de données'!$AR$2:$AR$52,0),MATCH(AR48,'Base de données'!$AR$2:$AR$52,1))) -> #N/A | AT48: =AT49 -> 0 | AU48: =A48 -> X
C49: =SUM(C48) -> #N/A | E49: =SUM(E48) -> #N/A | G49: =SUM(G48) -> #N/A | I49: =SUM(I48) -> #N/A | K49: =SUM(K48) -> #N/A | M49: =SUM(M48) -> #N/A | O49: =SUM(O48) -> #N/A | Q49: =SUM(Q48) -> #N/A | S49: =SUM(S48) -> #N/A | U49: =SUM(U48) -> #N/A | W49: =SUM(W48) -> #N/A | Y49: =SUM(Y48) -> #N/A | AA49: =SUM(AA48) -> #N/A | AC49: =SUM(AC48) -> #N/A | AE49: =SUM(AE48) -> #N/A | AG49: =SUM(AG48) -> #N/A | AI49: =SUM(AI48) -> #N/A | AK49: =SUM(AK48) -> #N/A | AM49: =SUM(AM48) -> #N/A | AO49: =SUM(AO48) -> #N/A | AQ49: =SUM(AQ48) -> #N/A | AS49: =SUM(AS48) -> #N/A | AT49: {=SUM(IF(ISNUMBER(B49:AS49),B49:AS49))} -> 0 | AU49: =A49 -> 0
A50: Y | C50: =INDEX('Base de données'!$C$2:$C$52,IFERROR(MATCH(B50,'Base de données'!$B$2:$B$52,0),MATCH(B50,'Base de données'!$B$2:$B$52,1))) -> #N/A | E50: =INDEX('Base de données'!$E$2:$E$52,IFERROR(MATCH($D$2,'Base de données'!$D$2:$D$52,0),MATCH(D50,'Base de données'!$D$2:$D$52,1))) -> #N/A | G50: =INDEX('Base de données'!$G$2:$G$52,IFERROR(MATCH(F50,'Base de données'!$F$2:$F$52,0),MATCH(F50,'Base de données'!$F$2:$F$52,1))) -> #N/A | I50: =INDEX('Base de données'!$I$2:$I$52,IFERROR(MATCH(H50,'Base de données'!$H$2:$H$52,0),MATCH(H50,'Base de données'!$H$2:$H$52,1))) -> #N/A | J50: 3.265 | K50: =INDEX('Base de données'!$K$2:$K$52,IFERROR(MATCH(J50,'Base de données'!$J$2:$J$52,0),MATCH(J50,'Base de données'!$J$2:$J$52,1))) -> 31 | M50: =INDEX('Base de données'!$M$2:$M$52,IFERROR(MATCH(L50,'Base de données'!$L$2:$L$52,0),MATCH(L50,'Base de données'!$L$2:$L$52,1))) -> #N/A | O50: =INDEX('Base de données'!$O$2:$O$52,IFERROR(MATCH(N50,'Base de données'!$N$2:$N$52,0),MATCH(N50,'Base de données'!$N$2:$N$52,1))) -> #N/A | Q50: =INDEX('Base de données'!$Q$2:$Q$52,IFERROR(MATCH(P50,'Base de données'!$P$2:$P$52,0),MATCH(P50,'Base de données'!$P$2:$P$52,1))) -> #N/A | S50: =INDEX('Base de données'!$S$2:$S$52,IFERROR(MATCH(R50,'Base de données'!$R$2:$R$52,0),MATCH(R50,'Base de données'!$R$2:$R$52,1))) -> #N/A | U50: =INDEX('Base de données'!$U$2:$U$52,IFERROR(MATCH(T50,'Base de données'!$T$2:$T$52,0),MATCH(T50,'Base de données'!$T$2:$T$52,1))) -> #N/A | W50: =INDEX('Base de données'!$W$2:$W$52,IFERROR(MATCH(V50,'Base de données'!$V$2:$V$52,0),MATCH(V50,'Base de données'!$V$2:$V$52,1))) -> #N/A | Y50: =INDEX('Base de données'!$Y$2:$Y$52,IFERROR(MATCH(X50,'Base de données'!$X$2:$X$52,0),MATCH(X50,'Base de données'!$X$2:$X$52,1))) -> #N/A | AA50: =INDEX('Base de données'!$AA$2:$AA$52,IFERROR(MATCH(Z50,'Base de données'!$Z$2:$Z$52,0),MATCH(Z50,'Base de données'!$Z$2:$Z$52,1))) -> #N/A | AC50: =INDEX('Base de données'!$AC$2:$AC$52,IFERROR(MATCH(AB50,'Base de données'!$AB$2:$AB$52,0),MATCH(AB50,'Base de données'!$AB$2:$AB$52,1))) -> #N/A | AE50: =INDEX('Base de données'!$AE$2:$AE$52,IFERROR(MATCH(AD50,'Base de données'!$AD$2:$AD$52,0),MATCH(AD50,'Base de données'!$AD$2:$AD$52,1))) -> #N/A | AG50: =INDEX('Base de données'!$AG$2:$AG$52,IFERROR(MATCH(AF50,'Base de données'!$AF$2:$AF$52,0),MATCH(AF50,'Base de données'!$AF$2:$AF$52,1))) -> #N/A | AI50: =INDEX('Base de données'!$AI$2:$AI$52,IFERROR(MATCH(AH50,'Base de données'!$AH$2:$AH$52,0),MATCH(AH50,'Base de données'!$AH$2:$AH$52,1))) -> #N/A | AK50: =INDEX('Base de données'!$AK$2:$AK$52,IFERROR(MATCH(AJ50,'Base de données'!$AJ$2:$AJ$52,0),MATCH(AJ50,'Base de données'!$AJ$2:$AJ$52,1))) -> #N/A | AM50: =INDEX('Base de données'!AM26:AM76,IFERROR(MATCH(AL50,'Base de données'!AL26:AL76,0),MATCH(AL50,'Base de données'!AL26:AL76,1))) -> #N/A | AO50: =INDEX('Base de données'!$AO$2:$AO$52,IFERROR(MATCH(AN50,'Base de données'!$AN$2:$AN$52,0),MATCH(AN50,'Base de données'!$AN$2:$AN$52,1))) -> #N/A | AQ50: =INDEX('Base de données'!$AQ$2:$AQ$52,IFERROR(MATCH(AP50,'Base de données'!$AP$2:$AP$52,0),MATCH(AP50,'Base de données'!$AP$2:$AP$52,1))) -> #N/A | AS50: =INDEX('Base de données'!$AS$2:$AS$52,IFERROR(MATCH(AR50,'Base de données'!$AR$2:$AR$52,0),MATCH(AR50,'Base de données'!$AR$2:$AR$52,1))) -> #N/A | AT50: =AT51 -> 31 | AU50: =A50 -> Y
C51: =SUM(C50) -> #N/A | E51: =SUM(E50) -> #N/A | G51: =SUM(G50) -> #N/A | I51: =SUM(I50) -> #N/A | K51: =SUM(K50) -> 31 | M51: =SUM(M50) -> #N/A | O51: =SUM(O50) -> #N/A | Q51: =SUM(Q50) -> #N/A | S51: =SUM(S50) -> #N/A | U51: =SUM(U50) -> #N/A | W51: =SUM(W50) -> #N/A | Y51: =SUM(Y50) -> #N/A | AA51: =SUM(AA50) -> #N/A | AC51: =SUM(AC50) -> #N/A | AE51: =SUM(AE50) -> #N/A | AG51: =SUM(AG50) -> #N/A | AI51: =SUM(AI50) -> #N/A | AK51: =SUM(AK50) -> #N/A | AM51: =SUM(AM50) -> #N/A | AO51: =SUM(AO50) -> #N/A | AQ51: =SUM(AQ50) -> #N/A | AS51: =SUM(AS50) -> #N/A | AT51: {=SUM(IF(ISNUMBER(B51:AS51),B51:AS51))} -> 31 | AU51: =A51 -> 0
A52: Z | C52: =INDEX('Base de données'!$C$2:$C$52,IFERROR(MATCH(B52,'Base de données'!$B$2:$B$52,0),MATCH(B52,'Base de données'!$B$2:$B$52,1))) -> #N/A | E52: =INDEX('Base de données'!$E$2:$E$52,IFERROR(MATCH($D$2,'Base de données'!$D$2:$D$52,0),MATCH(D52,'Base de données'!$D$2:$D$52,1))) -> #N/A | G52: =INDEX('Base de données'!$G$2:$G$52,IFERROR(MATCH(F52,'Base de données'!$F$2:$F$52,0),MATCH(F52,'Base de données'!$F$2:$F$52,1))) -> #N/A | I52: =INDEX('Base de données'!$I$2:$I$52,IFERROR(MATCH(H52,'Base de données'!$H$2:$H$52,0),MATCH(H52,'Base de données'!$H$2:$H$52,1))) -> #N/A | K52: =INDEX('Base de données'!$K$2:$K$52,IFERROR(MATCH(J52,'Base de données'!$J$2:$J$52,0),MATCH(J52,'Base de données'!$J$2:$J$52,1))) -> #N/A | M52: =INDEX('Base de données'!$M$2:$M$52,IFERROR(MATCH(L52,'Base de données'!$L$2:$L$52,0),MATCH(L52,'Base de données'!$L$2:$L$52,1))) -> #N/A | O52: =INDEX('Base de données'!$O$2:$O$52,IFERROR(MATCH(N52,'Base de données'!$N$2:$N$52,0),MATCH(N52,'Base de données'!$N$2:$N$52,1))) -> #N/A | Q52: =INDEX('Base de données'!$Q$2:$Q$52,IFERROR(MATCH(P52,'Base de données'!$P$2:$P$52,0),MATCH(P52,'Base de données'!$P$2:$P$52,1))) -> #N/A | S52: =INDEX('Base de données'!$S$2:$S$52,IFERROR(MATCH(R52,'Base de données'!$R$2:$R$52,0),MATCH(R52,'Base de données'!$R$2:$R$52,1))) -> #N/A | U52: =INDEX('Base de données'!$U$2:$U$52,IFERROR(MATCH(T52,'Base de données'!$T$2:$T$52,0),MATCH(T52,'Base de données'!$T$2:$T$52,1))) -> #N/A | W52: =INDEX('Base de données'!$W$2:$W$52,IFERROR(MATCH(V52,'Base de données'!$V$2:$V$52,0),MATCH(V52,'Base de données'!$V$2:$V$52,1))) -> #N/A | Y52: =INDEX('Base de données'!$Y$2:$Y$52,IFERROR(MATCH(X52,'Base de données'!$X$2:$X$52,0),MATCH(X52,'Base de données'!$X$2:$X$52,1))) -> #N/A | AA52: =INDEX('Base de données'!$AA$2:$AA$52,IFERROR(MATCH(Z52,'Base de données'!$Z$2:$Z$52,0),MATCH(Z52,'Base de données'!$Z$2:$Z$52,1))) -> #N/A | AC52: =INDEX('Base de données'!$AC$2:$AC$52,IFERROR(MATCH(AB52,'Base de données'!$AB$2:$AB$52,0),MATCH(AB52,'Base de données'!$AB$2:$AB$52,1))) -> #N/A | AE52: =INDEX('Base de données'!$AE$2:$AE$52,IFERROR(MATCH(AD52,'Base de données'!$AD$2:$AD$52,0),MATCH(AD52,'Base de données'!$AD$2:$AD$52,1))) -> #N/A | AG52: =INDEX('Base de données'!$AG$2:$AG$52,IFERROR(MATCH(AF52,'Base de données'!$AF$2:$AF$52,0),MATCH(AF52,'Base de données'!$AF$2:$AF$52,1))) -> #N/A | AI52: =INDEX('Base de données'!$AI$2:$AI$52,IFERROR(MATCH(AH52,'Base de données'!$AH$2:$AH$52,0),MATCH(AH52,'Base de données'!$AH$2:$AH$52,1))) -> #N/A | AK52: =INDEX('Base de données'!$AK$2:$AK$52,IFERROR(MATCH(AJ52,'Base de données'!$AJ$2:$AJ$52,0),MATCH(AJ52,'Base de données'!$AJ$2:$AJ$52,1))) -> #N/A | AM52: =INDEX('Base de données'!AM27:AM77,IFERROR(MATCH(AL52,'Base de données'!AL27:AL77,0),MATCH(AL52,'Base de données'!AL27:AL77,1))) -> #N/A | AO52: =INDEX('Base de données'!$AO$2:$AO$52,IFERROR(MATCH(AN52,'Base de données'!$AN$2:$AN$52,0),MATCH(AN52,'Base de données'!$AN$2:$AN$52,1))) -> #N/A | AQ52: =INDEX('Base de données'!$AQ$2:$AQ$52,IFERROR(MATCH(AP52,'Base de données'!$AP$2:$AP$52,0),MATCH(AP52,'Base de données'!$AP$2:$AP$52,1))) -> #N/A | AS52: =INDEX('Base de données'!$AS$2:$AS$52,IFERROR(MATCH(AR52,'Base de données'!$AR$2:$AR$52,0),MATCH(AR52,'Base de données'!$AR$2:$AR$52,1))) -> #N/A | AT52: =AT53 -> 0 | AU52: =A52 -> Z
C53: =SUM(C52) -> #N/A | E53: =SUM(E52) -> #N/A | G53: =SUM(G52) -> #N/A | I53: =SUM(I52) -> #N/A | K53: =SUM(K52) -> #N/A | M53: =SUM(M52) -> #N/A | O53: =SUM(O52) -> #N/A | Q53: =SUM(Q52) -> #N/A | S53: =SUM(S52) -> #N/A | U53: =SUM(U52) -> #N/A | W53: =SUM(W52) -> #N/A | Y53: =SUM(Y52) -> #N/A | AA53: =SUM(AA52) -> #N/A | AC53: =SUM(AC52) -> #N/A | AE53: =SUM(AE52) -> #N/A | AG53: =SUM(AG52) -> #N/A | AI53: =SUM(AI52) -> #N/A | AK53: =SUM(AK52) -> #N/A | AM53: =SUM(AM52) -> #N/A | AO53: =SUM(AO52) -> #N/A | AQ53: =SUM(AQ52) -> #N/A | AS53: =SUM(AS52) -> #N/A | AT53: {=SUM(IF(ISNUMBER(B53:AS53),B53:AS53))} -> 0 | AU53: =A53 -> 0
A54: AA | C54: =INDEX('Base de données'!$C$2:$C$52,IFERROR(MATCH(B54,'Base de données'!$B$2:$B$52,0),MATCH(B54,'Base de données'!$B$2:$B$52,1))) -> #N/A | E54: =INDEX('Base de données'!$E$2:$E$52,IFERROR(MATCH($D$2,'Base de données'!$D$2:$D$52,0),MATCH(D54,'Base de données'!$D$2:$D$52,1))) -> #N/A | G54: =INDEX('Base de données'!$G$2:$G$52,IFERROR(MATCH(F54,'Base de données'!$F$2:$F$52,0),MATCH(F54,'Base de données'!$F$2:$F$52,1))) -> #N/A | I54: =INDEX('Base de données'!$I$2:$I$52,IFERROR(MATCH(H54,'Base de données'!$H$2:$H$52,0),MATCH(H54,'Base de données'!$H$2:$H$52,1))) -> #N/A | K54: =INDEX('Base de données'!$K$2:$K$52,IFERROR(MATCH(J54,'Base de données'!$J$2:$J$52,0),MATCH(J54,'Base de données'!$J$2:$J$52,1))) -> #N/A | M54: =INDEX('Base de données'!$M$2:$M$52,IFERROR(MATCH(L54,'Base de données'!$L$2:$L$52,0),MATCH(L54,'Base de données'!$L$2:$L$52,1))) -> #N/A | O54: =INDEX('Base de données'!$O$2:$O$52,IFERROR(MATCH(N54,'Base de données'!$N$2:$N$52,0),MATCH(N54,'Base de données'!$N$2:$N$52,1))) -> #N/A | Q54: =INDEX('Base de données'!$Q$2:$Q$52,IFERROR(MATCH(P54,'Base de données'!$P$2:$P$52,0),MATCH(P54,'Base de données'!$P$2:$P$52,1))) -> #N/A | S54: =INDEX('Base de données'!$S$2:$S$52,IFERROR(MATCH(R54,'Base de données'!$R$2:$R$52,0),MATCH(R54,'Base de données'!$R$2:$R$52,1))) -> #N/A | U54: =INDEX('Base de données'!$U$2:$U$52,IFERROR(MATCH(T54,'Base de données'!$T$2:$T$52,0),MATCH(T54,'Base de données'!$T$2:$T$52,1))) -> #N/A | W54: =INDEX('Base de données'!$W$2:$W$52,IFERROR(MATCH(V54,'Base de données'!$V$2:$V$52,0),MATCH(V54,'Base de données'!$V$2:$V$52,1))) -> #N/A | Y54: =INDEX('Base de données'!$Y$2:$Y$52,IFERROR(MATCH(X54,'Base de données'!$X$2:$X$52,0),MATCH(X54,'Base de données'!$X$2:$X$52,1))) -> #N/A | AA54: =INDEX('Base de données'!$AA$2:$AA$52,IFERROR(MATCH(Z54,'Base de données'!$Z$2:$Z$52,0),MATCH(Z54,'Base de données'!$Z$2:$Z$52,1))) -> #N/A | AC54: =INDEX('Base de données'!$AC$2:$AC$52,IFERROR(MATCH(AB54,'Base de données'!$AB$2:$AB$52,0),MATCH(AB54,'Base de données'!$AB$2:$AB$52,1))) -> #N/A | AE54: =INDEX('Base de données'!$AE$2:$AE$52,IFERROR(MATCH(AD54,'Base de données'!$AD$2:$AD$52,0),MATCH(AD54,'Base de données'!$AD$2:$AD$52,1))) -> #N/A | AG54: =INDEX('Base de données'!$AG$2:$AG$52,IFERROR(MATCH(AF54,'Base de données'!$AF$2:$AF$52,0),MATCH(AF54,'Base de données'!$AF$2:$AF$52,1))) -> #N/A | AI54: =INDEX('Base de données'!$AI$2:$AI$52,IFERROR(MATCH(AH54,'Base de données'!$AH$2:$AH$52,0),MATCH(AH54,'Base de données'!$AH$2:$AH$52,1))) -> #N/A | AK54: =INDEX('Base de données'!$AK$2:$AK$52,IFERROR(MATCH(AJ54,'Base de données'!$AJ$2:$AJ$52,0),MATCH(AJ54,'Base de données'!$AJ$2:$AJ$52,1))) -> #N/A | AM54: =INDEX('Base de données'!AM28:AM78,IFERROR(MATCH(AL54,'Base de données'!AL28:AL78,0),MATCH(AL54,'Base de données'!AL28:AL78,1))) -> #N/A | AO54: =INDEX('Base de données'!$AO$2:$AO$52,IFERROR(MATCH(AN54,'Base de données'!$AN$2:$AN$52,0),MATCH(AN54,'Base de données'!$AN$2:$AN$52,1))) -> #N/A | AQ54: =INDEX('Base de données'!$AQ$2:$AQ$52,IFERROR(MATCH(AP54,'Base de données'!$AP$2:$AP$52,0),MATCH(AP54,'Base de données'!$AP$2:$AP$52,1))) -> #N/A | AS54: =INDEX('Base de données'!$AS$2:$AS$52,IFERROR(MATCH(AR54,'Base de données'!$AR$2:$AR$52,0),MATCH(AR54,'Base de données'!$AR$2:$AR$52,1))) -> #N/A | AT54: =AT55 -> 0 | AU54: =A54 -> AA
C55: =SUM(C54) -> #N/A | E55: =SUM(E54) -> #N/A | G55: =SUM(G54) -> #N/A | I55: =SUM(I54) -> #N/A | K55: =SUM(K54) -> #N/A | M55: =SUM(M54) -> #N/A | O55: =SUM(O54) -> #N/A | Q55: =SUM(Q54) -> #N/A | S55: =SUM(S54) -> #N/A | U55: =SUM(U54) -> #N/A | W55: =SUM(W54) -> #N/A | Y55: =SUM(Y54) -> #N/A | AA55: =SUM(AA54) -> #N/A | AC55: =SUM(AC54) -> #N/A | AE55: =SUM(AE54) -> #N/A | AG55: =SUM(AG54) -> #N/A | AI55: =SUM(AI54) -> #N/A | AK55: =SUM(AK54) -> #N/A | AM55: =SUM(AM54) -> #N/A | AO55: =SUM(AO54) -> #N/A | AQ55: =SUM(AQ54) -> #N/A | AS55: =SUM(AS54) -> #N/A | AT55: {=SUM(IF(ISNUMBER(B55:AS55),B55:AS55))} -> 0 | AU55: =A55 -> 0
A56: BB | C56: =INDEX('Base de données'!$C$2:$C$52,IFERROR(MATCH(B56,'Base de données'!$B$2:$B$52,0),MATCH(B56,'Base de données'!$B$2:$B$52,1))) -> #N/A | E56: =INDEX('Base de données'!$E$2:$E$52,IFERROR(MATCH($D$2,'Base de données'!$D$2:$D$52,0),MATCH(D56,'Base de données'!$D$2:$D$52,1))) -> #N/A | G56: =INDEX('Base de données'!$G$2:$G$52,IFERROR(MATCH(F56,'Base de données'!$F$2:$F$52,0),MATCH(F56,'Base de données'!$F$2:$F$52,1))) -> #N/A | I56: =INDEX('Base de données'!$I$2:$I$52,IFERROR(MATCH(H56,'Base de données'!$H$2:$H$52,0),MATCH(H56,'Base de données'!$H$2:$H$52,1))) -> #N/A | K56: =INDEX('Base de données'!$K$2:$K$52,IFERROR(MATCH(J56,'Base de données'!$J$2:$J$52,0),MATCH(J56,'Base de données'!$J$2:$J$52,1))) -> #N/A | M56: =INDEX('Base de données'!$M$2:$M$52,IFERROR(MATCH(L56,'Base de données'!$L$2:$L$52,0),MATCH(L56,'Base de données'!$L$2:$L$52,1))) -> #N/A | O56: =INDEX('Base de données'!$O$2:$O$52,IFERROR(MATCH(N56,'Base de données'!$N$2:$N$52,0),MATCH(N56,'Base de données'!$N$2:$N$52,1))) -> #N/A | Q56: =INDEX('Base de données'!$Q$2:$Q$52,IFERROR(MATCH(P56,'Base de données'!$P$2:$P$52,0),MATCH(P56,'Base de données'!$P$2:$P$52,1))) -> #N/A | S56: =INDEX('Base de données'!$S$2:$S$52,IFERROR(MATCH(R56,'Base de données'!$R$2:$R$52,0),MATCH(R56,'Base de données'!$R$2:$R$52,1))) -> #N/A | U56: =INDEX('Base de données'!$U$2:$U$52,IFERROR(MATCH(T56,'Base de données'!$T$2:$T$52,0),MATCH(T56,'Base de données'!$T$2:$T$52,1))) -> #N/A | W56: =INDEX('Base de données'!$W$2:$W$52,IFERROR(MATCH(V56,'Base de données'!$V$2:$V$52,0),MATCH(V56,'Base de données'!$V$2:$V$52,1))) -> #N/A | Y56: =INDEX('Base de données'!$Y$2:$Y$52,IFERROR(MATCH(X56,'Base de données'!$X$2:$X$52,0),MATCH(X56,'Base de données'!$X$2:$X$52,1))) -> #N/A | AA56: =INDEX('Base de données'!$AA$2:$AA$52,IFERROR(MATCH(Z56,'Base de données'!$Z$2:$Z$52,0),MATCH(Z56,'Base de données'!$Z$2:$Z$52,1))) -> #N/A | AC56: =INDEX('Base de données'!$AC$2:$AC$52,IFERROR(MATCH(AB56,'Base de données'!$AB$2:$AB$52,0),MATCH(AB56,'Base de données'!$AB$2:$AB$52,1))) -> #N/A | AE56: =INDEX('Base de données'!$AE$2:$AE$52,IFERROR(MATCH(AD56,'Base de données'!$AD$2:$AD$52,0),MATCH(AD56,'Base de données'!$AD$2:$AD$52,1))) -> #N/A | AG56: =INDEX('Base de données'!$AG$2:$AG$52,IFERROR(MATCH(AF56,'Base de données'!$AF$2:$AF$52,0),MATCH(AF56,'Base de données'!$AF$2:$AF$52,1))) -> #N/A | AI56: =INDEX('Base de données'!$AI$2:$AI$52,IFERROR(MATCH(AH56,'Base de données'!$AH$2:$AH$52,0),MATCH(AH56,'Base de données'!$AH$2:$AH$52,1))) -> #N/A | AK56: =INDEX('Base de données'!$AK$2:$AK$52,IFERROR(MATCH(AJ56,'Base de données'!$AJ$2:$AJ$52,0),MATCH(AJ56,'Base de données'!$AJ$2:$AJ$52,1))) -> #N/A | AM56: =INDEX('Base de données'!AM29:AM79,IFERROR(MATCH(AL56,'Base de données'!AL29:AL79,0),MATCH(AL56,'Base de données'!AL29:AL79,1))) -> #N/A | AO56: =INDEX('Base de données'!$AO$2:$AO$52,IFERROR(MATCH(AN56,'Base de données'!$AN$2:$AN$52,0),MATCH(AN56,'Base de données'!$AN$2:$AN$52,1))) -> #N/A | AQ56: =INDEX('Base de données'!$AQ$2:$AQ$52,IFERROR(MATCH(AP56,'Base de données'!$AP$2:$AP$52,0),MATCH(AP56,'Base de données'!$AP$2:$AP$52,1))) -> #N/A | AS56: =INDEX('Base de données'!$AS$2:$AS$52,IFERROR(MATCH(AR56,'Base de données'!$AR$2:$AR$52,0),MATCH(AR56,'Base de données'!$AR$2:$AR$52,1))) -> #N/A | AT56: =AT57 -> 0 | AU56: =A56 -> BB
C57: =SUM(C56) -> #N/A | E57: =SUM(E56) -> #N/A | G57: =SUM(G56) -> #N/A | I57: =SUM(I56) -> #N/A | K57: =SUM(K56) -> #N/A | M57: =SUM(M56) -> #N/A | O57: =SUM(O56) -> #N/A | Q57: =SUM(Q56) -> #N/A | S57: =SUM(S56) -> #N/A | U57: =SUM(U56) -> #N/A | W57: =SUM(W56) -> #N/A | Y57: =SUM(Y56) -> #N/A | AA57: =SUM(AA56) -> #N/A | AC57: =SUM(AC56) -> #N/A | AE57: =SUM(AE56) -> #N/A | AG57: =SUM(AG56) -> #N/A | AI57: =SUM(AI56) -> #N/A | AK57: =SUM(AK56) -> #N/A | AM57: =SUM(AM56) -> #N/A | AO57: =SUM(AO56) -> #N/A | AQ57: =SUM(AQ56) -> #N/A | AS57: =SUM(AS56) -> #N/A | AT57: {=SUM(IF(ISNUMBER(B57:AS57),B57:AS57))} -> 0 | AU57: =A57 -> 0
A58: CC | C58: =INDEX('Base de données'!$C$2:$C$52,IFERROR(MATCH(B58,'Base de données'!$B$2:$B$52,0),MATCH(B58,'Base de données'!$B$2:$B$52,1))) -> #N/A | E58: =INDEX('Base de données'!$E$2:$E$52,IFERROR(MATCH($D$2,'Base de données'!$D$2:$D$52,0),MATCH(D58,'Base de données'!$D$2:$D$52,1))) -> #N/A | G58: =INDEX('Base de données'!$G$2:$G$52,IFERROR(MATCH(F58,'Base de données'!$F$2:$F$52,0),MATCH(F58,'Base de données'!$F$2:$F$52,1))) -> #N/A | I58: =INDEX('Base de données'!$I$2:$I$52,IFERROR(MATCH(H58,'Base de données'!$H$2:$H$52,0),MATCH(H58,'Base de données'!$H$2:$H$52,1))) -> #N/A | K58: =INDEX('Base de données'!$K$2:$K$52,IFERROR(MATCH(J58,'Base de données'!$J$2:$J$52,0),MATCH(J58,'Base de données'!$J$2:$J$52,1))) -> #N/A | M58: =INDEX('Base de données'!$M$2:$M$52,IFERROR(MATCH(L58,'Base de données'!$L$2:$L$52,0),MATCH(L58,'Base de données'!$L$2:$L$52,1))) -> #N/A | O58: =INDEX('Base de données'!$O$2:$O$52,IFERROR(MATCH(N58,'Base de données'!$N$2:$N$52,0),MATCH(N58,'Base de données'!$N$2:$N$52,1))) -> #N/A | Q58: =INDEX('Base de données'!$Q$2:$Q$52,IFERROR(MATCH(P58,'Base de données'!$P$2:$P$52,0),MATCH(P58,'Base de données'!$P$2:$P$52,1))) -> #N/A | S58: =INDEX('Base de données'!$S$2:$S$52,IFERROR(MATCH(R58,'Base de données'!$R$2:$R$52,0),MATCH(R58,'Base de données'!$R$2:$R$52,1))) -> #N/A | U58: =INDEX('Base de données'!$U$2:$U$52,IFERROR(MATCH(T58,'Base de données'!$T$2:$T$52,0),MATCH(T58,'Base de données'!$T$2:$T$52,1))) -> #N/A | W58: =INDEX('Base de données'!$W$2:$W$52,IFERROR(MATCH(V58,'Base de données'!$V$2:$V$52,0),MATCH(V58,'Base de données'!$V$2:$V$52,1))) -> #N/A | Y58: =INDEX('Base de données'!$Y$2:$Y$52,IFERROR(MATCH(X58,'Base de données'!$X$2:$X$52,0),MATCH(X58,'Base de données'!$X$2:$X$52,1))) -> #N/A | AA58: =INDEX('Base de données'!$AA$2:$AA$52,IFERROR(MATCH(Z58,'Base de données'!$Z$2:$Z$52,0),MATCH(Z58,'Base de données'!$Z$2:$Z$52,1))) -> #N/A | AC58: =INDEX('Base de données'!$AC$2:$AC$52,IFERROR(MATCH(AB58,'Base de données'!$AB$2:$AB$52,0),MATCH(AB58,'Base de données'!$AB$2:$AB$52,1))) -> #N/A | AE58: =INDEX('Base de données'!$AE$2:$AE$52,IFERROR(MATCH(AD58,'Base de données'!$AD$2:$AD$52,0),MATCH(AD58,'Base de données'!$AD$2:$AD$52,1))) -> #N/A | AG58: =INDEX('Base de données'!$AG$2:$AG$52,IFERROR(MATCH(AF58,'Base de données'!$AF$2:$AF$52,0),MATCH(AF58,'Base de données'!$AF$2:$AF$52,1))) -> #N/A | AI58: =INDEX('Base de données'!$AI$2:$AI$52,IFERROR(MATCH(AH58,'Base de données'!$AH$2:$AH$52,0),MATCH(AH58,'Base de données'!$AH$2:$AH$52,1))) -> #N/A | AK58: =INDEX('Base de données'!$AK$2:$AK$52,IFERROR(MATCH(AJ58,'Base de données'!$AJ$2:$AJ$52,0),MATCH(AJ58,'Base de données'!$AJ$2:$AJ$52,1))) -> #N/A | AM58: =INDEX('Base de données'!AM30:AM80,IFERROR(MATCH(AL58,'Base de données'!AL30:AL80,0),MATCH(AL58,'Base de données'!AL30:AL80,1))) -> #N/A | AO58: =INDEX('Base de données'!$AO$2:$AO$52,IFERROR(MATCH(AN58,'Base de données'!$AN$2:$AN$52,0),MATCH(AN58,'Base de données'!$AN$2:$AN$52,1))) -> #N/A | AQ58: =INDEX('Base de données'!$AQ$2:$AQ$52,IFERROR(MATCH(AP58,'Base de données'!$AP$2:$AP$52,0),MATCH(AP58,'Base de données'!$AP$2:$AP$52,1))) -> #N/A | AS58: =INDEX('Base de données'!$AS$2:$AS$52,IFERROR(MATCH(AR58,'Base de données'!$AR$2:$AR$52,0),MATCH(AR58,'Base de données'!$AR$2:$AR$52,1))) -> #N/A | AT58: =AT59 -> 0 | AU58: =A58 -> CC
C59: =SUM(C58) -> #N/A | E59: =SUM(E58) -> #N/A | G59: =SUM(G58) -> #N/A | I59: =SUM(I58) -> #N/A | K59: =SUM(K58) -> #N/A | M59: =SUM(M58) -> #N/A | O59: =SUM(O58) -> #N/A | Q59: =SUM(Q58) -> #N/A | S59: =SUM(S58) -> #N/A | U59: =SUM(U58) -> #N/A | W59: =SUM(W58) -> #N/A | Y59: =SUM(Y58) -> #N/A | AA59: =SUM(AA58) -> #N/A | AC59: =SUM(AC58) -> #N/A | AE59: =SUM(AE58) -> #N/A | AG59: =SUM(AG58) -> #N/A | AI59: =SUM(AI58) -> #N/A | AK59: =SUM(AK58) -> #N/A | AM59: =SUM(AM58) -> #N/A | AO59: =SUM(AO58) -> #N/A | AQ59: =SUM(AQ58) -> #N/A | AS59: =SUM(AS58) -> #N/A | AT59: {=SUM(IF(ISNUMBER(B59:AS59),B59:AS59))} -> 0 | AU59: =A59 -> 0
A60: DD | C60: =INDEX('Base de données'!$C$2:$C$52,IFERROR(MATCH(B60,'Base de données'!$B$2:$B$52,0),MATCH(B60,'Base de données'!$B$2:$B$52,1))) -> #N/A | E60: =INDEX('Base de données'!$E$2:$E$52,IFERROR(MATCH($D$2,'Base de données'!$D$2:$D$52,0),MATCH(D60,'Base de données'!$D$2:$D$52,1))) -> #N/A | G60: =INDEX('Base de données'!$G$2:$G$52,IFERROR(MATCH(F60,'Base de données'!$F$2:$F$52,0),MATCH(F60,'Base de données'!$F$2:$F$52,1))) -> #N/A | I60: =INDEX('Base de données'!$I$2:$I$52,IFERROR(MATCH(H60,'Base de données'!$H$2:$H$52,0),MATCH(H60,'Base de données'!$H$2:$H$52,1))) -> #N/A | K60: =INDEX('Base de données'!$K$2:$K$52,IFERROR(MATCH(J60,'Base de données'!$J$2:$J$52,0),MATCH(J60,'Base de données'!$J$2:$J$52,1))) -> #N/A | M60: =INDEX('Base de données'!$M$2:$M$52,IFERROR(MATCH(L60,'Base de données'!$L$2:$L$52,0),MATCH(L60,'Base de données'!$L$2:$L$52,1))) -> #N/A | O60: =INDEX('Base de données'!$O$2:$O$52,IFERROR(MATCH(N60,'Base de données'!$N$2:$N$52,0),MATCH(N60,'Base de données'!$N$2:$N$52,1))) -> #N/A | Q60: =INDEX('Base de données'!$Q$2:$Q$52,IFERROR(MATCH(P60,'Base de données'!$P$2:$P$52,0),MATCH(P60,'Base de données'!$P$2:$P$52,1))) -> #N/A | S60: =INDEX('Base de données'!$S$2:$S$52,IFERROR(MATCH(R60,'Base de données'!$R$2:$R$52,0),MATCH(R60,'Base de données'!$R$2:$R$52,1))) -> #N/A | U60: =INDEX('Base de données'!$U$2:$U$52,IFERROR(MATCH(T60,'Base de données'!$T$2:$T$52,0),MATCH(T60,'Base de données'!$T$2:$T$52,1))) -> #N/A | W60: =INDEX('Base de données'!$W$2:$W$52,IFERROR(MATCH(V60,'Base de données'!$V$2:$V$52,0),MATCH(V60,'Base de données'!$V$2:$V$52,1))) -> #N/A | Y60: =INDEX('Base de données'!$Y$2:$Y$52,IFERROR(MATCH(X60,'Base de données'!$X$2:$X$52,0),MATCH(X60,'Base de données'!$X$2:$X$52,1))) -> #N/A | AA60: =INDEX('Base de données'!$AA$2:$AA$52,IFERROR(MATCH(Z60,'Base de données'!$Z$2:$Z$52,0),MATCH(Z60,'Base de données'!$Z$2:$Z$52,1))) -> #N/A | AC60: =INDEX('Base de données'!$AC$2:$AC$52,IFERROR(MATCH(AB60,'Base de données'!$AB$2:$AB$52,0),MATCH(AB60,'Base de données'!$AB$2:$AB$52,1))) -> #N/A | AE60: =INDEX('Base de données'!$AE$2:$AE$52,IFERROR(MATCH(AD60,'Base de données'!$AD$2:$AD$52,0),MATCH(AD60,'Base de données'!$AD$2:$AD$52,1))) -> #N/A | AG60: =INDEX('Base de données'!$AG$2:$AG$52,IFERROR(MATCH(AF60,'Base de données'!$AF$2:$AF$52,0),MATCH(AF60,'Base de données'!$AF$2:$AF$52,1))) -> #N/A | AI60: =INDEX('Base de données'!$AI$2:$AI$52,IFERROR(MATCH(AH60,'Base de données'!$AH$2:$AH$52,0),MATCH(AH60,'Base de données'!$AH$2:$AH$52,1))) -> #N/A | AK60: =INDEX('Base de données'!$AK$2:$AK$52,IFERROR(MATCH(AJ60,'Base de données'!$AJ$2:$AJ$52,0),MATCH(AJ60,'Base de données'!$AJ$2:$AJ$52,1))) -> #N/A | AM60: =INDEX('Base de données'!AM31:AM81,IFERROR(MATCH(AL60,'Base de données'!AL31:AL81,0),MATCH(AL60,'Base de données'!AL31:AL81,1))) -> #N/A | AO60: =INDEX('Base de données'!$AO$2:$AO$52,IFERROR(MATCH(AN60,'Base de données'!$AN$2:$AN$52,0),MATCH(AN60,'Base de données'!$AN$2:$AN$52,1))) -> #N/A | AQ60: =INDEX('Base de données'!$AQ$2:$AQ$52,IFERROR(MATCH(AP60,'Base de données'!$AP$2:$AP$52,0),MATCH(AP60,'Base de données'!$AP$2:$AP$52,1))) -> #N/A | AS60: =INDEX('Base de données'!$AS$2:$AS$52,IFERROR(MATCH(AR60,'Base de données'!$AR$2:$AR$52,0),MATCH(AR60,'Base de données'!$AR$2:$AR$52,1))) -> #N/A | AT60: =AT61 -> 0 | AU60: =A60 -> DD
C61: =SUM(C60) -> #N/A | E61: =SUM(E60) -> #N/A | G61: =SUM(G60) -> #N/A | I61: =SUM(I60) -> #N/A | K61: =SUM(K60) -> #N/A | M61: =SUM(M60) -> #N/A | O61: =SUM(O60) -> #N/A | Q61: =SUM(Q60) -> #N/A | S61: =SUM(S60) -> #N/A | U61: =SUM(U60) -> #N/A | W61: =SUM(W60) -> #N/A | Y61: =SUM(Y60) -> #N/A | AA61: =SUM(AA60) -> #N/A | AC61: =SUM(AC60) -> #N/A | AE61: =SUM(AE60) -> #N/A | AG61: =SUM(AG60) -> #N/A | AI61: =SUM(AI60) -> #N/A | AK61: =SUM(AK60) -> #N/A | AM61: =SUM(AM60) -> #N/A | AO61: =SUM(AO60) -> #N/A | AQ61: =SUM(AQ60) -> #N/A | AS61: =SUM(AS60) -> #N/A | AT61: {=SUM(IF(ISNUMBER(B61:AS61),B61:AS61))} -> 0 | AU61: =A61 -> 0
