Workbook

Sheet A
A1: {=SOMME(SI(ESTNUM(B5:AS5);B5:AS5))} | B1: 50m | C1: Points | D1: 60m - Salle | E1: Points | F1: 80m | G1: Points | H1: 100m | I1: Points | J1: 1000m | K1: Points | L1: 2000m | M1: Points | N1: 50m haies | O1: Points | P1: 60m haies | Q1: Points | R1: 80m haies (76) | S1: Points | T1: 200m haies (76) | U1: Points | V1: Hauteur | W1: Points | X1: Perche | Y1: Points | Z1: Longueur | AA1: Points | AB1: Triple saut | AC1: Points | AD1: Poids (3kg) | AE1: Points | AF1: Disque | AG1: Points | AH1: Marteau (3 kg) | AI1: Points | AJ1: Javelot (500 g) | AK1: Points | AL1: 2000 marche | AM1: Points | AN1: 3000 marche | AO1: Points | AP1: 4 x 60m | AQ1: Points | AR1: 4 x 60m Mixte | AS1: Points
A2: ATHLÈTES | N2: (76) Salle et | P2: (76) - | AF2: (0.8 kg)
A3: =SI(ET(B4>=Feuil3!B148;B4<Feuil3!B149);50;SI(ET(B4>=Feuil3!B149;B4<Feuil3!B150);49;SI(ET(B4>=Feuil3!B150;B4<Feuil3!B151);48;SI(ET(B4>=Feuil3!B151;B4<Feuil3!B152);47;SI(ET(B4>=Feuil3!B152;B4<Feuil3!B153);46;SI(ET(B4>=Feuil3!B153;B4<Feuil3!B154);45;SI(ET(B4>=Feuil3!B154;B4<Feuil3!B155);44;SI(ET(B4>=Feuil3!B155;B4<=Feuil3!B156);43;SI(ET(B4>=Feuil3!B156;B4<Feuil3!B157);42;SI(ET(B4>=Feuil3!B157;B4<Feuil3!B158);41;SI(ET(B4>=Feuil3!B158;B4<Feuil3!B159);40;SI(ET(B4>=Feuil3!B159;B4<Feuil3!B160);39;SI(ET(B4>=Feuil3!B160;B4<Feuil3!B161);38;SI(ET(B4>=Feuil3!B161;B4<=Feuil3!B162);37;SI(ET(B4>=Feuil3!B162;B4<Feuil3!B163);36;SI(ET(B4>=Feuil3!B163;B4<Feuil3!B164);35;SI(ET(B4>=Feuil3!B164;B4<Feuil3!B165);34;SI(ET(B4>=Feuil3!B165;B4<Feuil3!B166);33;SI(ET(B4>=Feuil3!B166;B4<Feuil3!B167);32;SI(ET(B4>=Feuil3!B167;B4<Feuil3!B168);31;SI(ET(B4>=Feuil3!B168;B4<Feuil3!B169);30;SI(ET(B4>=Feuil3!B169;B4<Feuil3!B170);29;SI(ET(B4>=Feuil3!B170;B4<Feuil3!B171);28;SI(ET(B4>=Feuil3!B171;B4<Feuil3!B172);27;SI(ET(B4>=Feuil3!B172;B4<Feuil3!B173);26;SI(ET(B4>=Feuil3!B173;B4<Feuil3!B174);25;SI(ET(B4>=Feuil3!B174;B4<Feuil3!B175);24;SI(ET(B4>=Feuil3!B175;B4<Feuil3!B176);23;SI(ET(B4>=Feuil3!B176;B4<Feuil3!B177);22;SI(ET(B4>=Feuil3!B177;B4<Feuil3!B178);21;SI(ET(B4>=Feuil3!B178;B4<Feuil3!B179);20;SI(ET(B4>=Feuil3!B179;B4<Feuil3!B180);19;SI(ET(B4>=Feuil3!B180;B4<Feuil3!B181);18;SI(ET(B4>=Feuil3!B181;B4<Feuil3!B182);17;SI(ET(B4>=Feuil3!B182;B4<Feuil3!B183);16;SI(ET(B4>=Feuil3!B183;B4<Feuil3!B184);15;SI(ET(B4>=Feuil3!B184;B4<Feuil3!B185);14;SI(ET(B4>=Feuil3!B185;B4<Feuil3!B186);13;SI(ET(B4>=Feuil3!B186;B4<Feuil3!B187);12;SI(ET(B4>=Feuil3!B187;B4<Feuil3!B188);11;SI(ET(B4>=Feuil3!B188;B4<Feuil3!B189);10;SI(ET(B4>=Feuil3!B189;B4<Feuil3!B190);9;SI(ET(B4>=Feuil3!B190;B4<Feuil3!B191);8;SI(ET(B4>=Feuil3!B191;B4<Feuil3!B192);7;SI(ET(B4>=Feuil3!B192;B4<Feuil3!B193);6;SI(ET(B4>=Feuil3!B193;B4<Feuil3!B194);5;SI(ET(B4>=Feuil3!B194;B4<Feuil3!B185);4;SI(ET(B4>=Feuil3!B195;B4<Feuil3!B196);3;SI(ET(B4>=Feuil3!B196;B4<Feuil3!B197);2;SI(ET(B4>=Feuil3!B197;B4<Feuil3!B198);1;0)))))))))))))))))))))))))))))))))))))))))))))))))) | N3: Piste | P3: Salle
A4: 1 | B4: 6.87 | C4: =IF(AND(B4>=A!B148,B4<A!B149),50,IF(AND(B4>=A!B149,B4<A!B150),49,IF(AND(B4>=A!B150,B4<A!B151),48,IF(AND(B4>=A!B151,B4<A!B152),47,IF(AND(B4>=A!B152,B4<A!B153),46,IF(AND(B4>=A!B153,B4<A!B154),45,IF(AND(B4>=A!B154,B4<A!B155),44,IF(AND(B4>=A!B155,B4<=A!B156),43,IF(AND(B4>=A!B156,B4<A!B157),42,IF(AND(B4>=A!B157,B4<A!B158),41,IF(AND(B4>=A!B158,B4<A!B159),40,IF(AND(B4>=A!B159,B4<A!B160),39,IF(AND(B4>=A!B160,B4<A!B161),38,IF(AND(B4>=A!B161,B4<=A!B162),37,IF(AND(B4>=A!B162,B4<A!B163),36,IF(AND(B4>=A!B163,B4<A!B164),35,IF(AND(B4>=A!B164,B4<A!B165),34,IF(AND(B4>=A!B165,B4<A!B166),33,IF(AND(B4>=A!B166,B4<A!B167),32,IF(AND(B4>=A!B167,B4<A!B168),31,IF(AND(B4>=A!B168,B4<A!B169),30,IF(AND(B4>=A!B169,B4<A!B170),29,IF(AND(B4>=A!B170,B4<A!B171),28,IF(AND(B4>=A!B171,B4<A!B172),27,IF(AND(B4>=A!B172,B4<A!B173),26,IF(AND(B4>=A!B173,B4<A!B174),25,IF(AND(B4>=A!B174,B4<A!B175),24,IF(AND(B4>=A!B175,B4<A!B176),23,IF(AND(B4>=A!B176,B4<A!B177),22,IF(AND(B4>=A!B177,B4<A!B178),21,IF(AND(B4>=A!B178,B4<A!B179),20,IF(AND(B4>=A!B179,B4<A!B180),19,IF(AND(B4>=A!B180,B4<A!B181),18,IF(AND(B4>=A!B181,B4<A!B182),17,IF(AND(B4>=A!B182,B4<A!B183),16,IF(AND(B4>=A!B183,B4<A!B184),15,IF(AND(B4>=A!B184,B4<A!B185),14,IF(AND(B4>=A!B185,B4<A!B186),13,IF(AND(B4>=A!B186,B4<A!B187),12,IF(AND(B4>=A!B187,B4<A!B188),11,IF(AND(B4>=A!B188,B4<A!B189),10,IF(AND(B4>=A!B189,B4<A!B190),9,IF(AND(B4>=A!B190,B4<A!B191),8,IF(AND(B4>=A!B191,B4<A!B192),7,IF(AND(B4>=A!B192,B4<A!B193),6,IF(AND(B4>=A!B193,B4<A!B194),5,IF(AND(B4>=A!B194,B4<A!B185),4,IF(AND(B4>=A!B195,B4<A!B196),3,IF(AND(B4>=A!B196,B4<A!B197),2,IF(AND(B4>=A!B197,B4<A!B198),1,0)))))))))))))))))))))))))))))))))))))))))))))))))) -> 41 | D4: 9.85 | E4: =IF(AND(D4>=A!D148,D4<A!D149),50,IF(AND(D4>=A!D149,D4<A!D150),49,IF(AND(D4>=A!D150,D4<A!D151),48,IF(AND(D4>=A!D151,D4<A!D152),47,IF(AND(D4>=A!D152,D4<A!D153),46,IF(AND(D4>=A!D153,D4<A!D154),45,IF(AND(D4>=A!D154,D4<A!D155),44,IF(AND(D4>=A!D155,D4<=A!D156),43,IF(AND(D4>=A!D156,D4<A!D157),42,IF(AND(D4>=A!D157,D4<A!D158),41,IF(AND(D4>=A!D158,D4<A!D159),40,IF(AND(D4>=A!D159,D4<A!D160),39,IF(AND(D4>=A!D160,D4<A!D161),38,IF(AND(D4>=A!D161,D4<=A!D162),37,IF(AND(D4>=A!D162,D4<A!D163),36,IF(AND(D4>=A!D163,D4<A!D164),35,IF(AND(D4>=A!D164,D4<A!D165),34,IF(AND(D4>=A!D165,D4<A!D166),33,IF(AND(D4>=A!D166,D4<A!D167),32,IF(AND(D4>=A!D167,D4<A!D168),31,IF(AND(D4>=A!D168,D4<A!D169),30,IF(AND(D4>=A!D169,D4<A!D170),29,IF(AND(D4>=A!D170,D4<A!D171),28,IF(AND(D4>=A!D171,D4<A!D172),27,IF(AND(D4>=A!D172,D4<A!D173),26,IF(AND(D4>=A!D173,D4<A!D174),25,IF(AND(D4>=A!D174,D4<A!D175),24,IF(AND(D4>=A!D175,D4<A!D176),23,IF(AND(D4>=A!D176,D4<A!D177),22,IF(AND(D4>=A!D177,D4<A!D178),21,IF(AND(D4>=A!D178,D4<A!D179),20,IF(AND(D4>=A!D179,D4<A!D180),19,IF(AND(D4>=A!D180,D4<A!D181),18,IF(AND(D4>=A!D181,D4<A!D182),17,IF(AND(D4>=A!D182,D4<A!D183),16,IF(AND(D4>=A!D183,D4<A!D184),15,IF(AND(D4>=A!D184,D4<A!D185),14,IF(AND(D4>=A!D185,D4<A!D186),13,IF(AND(D4>=A!D186,D4<A!D187),12,IF(AND(D4>=A!D187,D4<A!D188),11,IF(AND(D4>=A!D188,D4<A!D189),10,IF(AND(D4>=A!D189,D4<A!D190),9,IF(AND(D4>=A!D190,D4<A!D191),8,IF(AND(D4>=A!D191,D4<A!D192),7,IF(AND(D4>=A!D192,D4<A!D193),6,IF(AND(D4>=A!D193,D4<A!D194),5,IF(AND(D4>=A!D194,D4<A!D185),4,IF(AND(D4>=A!D195,D4<A!D196),3,IF(AND(D4>=A!D196,D4<A!D197),2,IF(AND(D4>=A!D197,D4<A!D198),1,0)))))))))))))))))))))))))))))))))))))))))))))))))) -> 17 | F4: 10.03 | G4: =IF(AND(F4>=A!F148,F4<A!F149),50,IF(AND(F4>=A!F149,F4<A!F150),49,IF(AND(F4>=A!F150,F4<A!F151),48,IF(AND(F4>=A!F151,F4<A!F152),47,IF(AND(F4>=A!F152,F4<A!F153),46,IF(AND(F4>=A!F153,F4<A!F154),45,IF(AND(F4>=A!F154,F4<A!F155),44,IF(AND(F4>=A!F155,F4<=A!F156),43,IF(AND(F4>=A!F156,F4<A!F157),42,IF(AND(F4>=A!F157,F4<A!F158),41,IF(AND(F4>=A!F158,F4<A!F159),40,IF(AND(F4>=A!F159,F4<A!F160),39,IF(AND(F4>=A!F160,F4<A!F161),38,IF(AND(F4>=A!F161,F4<=A!F162),37,IF(AND(F4>=A!F162,F4<A!F163),36,IF(AND(F4>=A!F163,F4<A!F164),35,IF(AND(F4>=A!F164,F4<A!F165),34,IF(AND(F4>=A!F165,F4<A!F166),33,IF(AND(F4>=A!F166,F4<A!F167),32,IF(AND(F4>=A!F167,F4<A!F168),31,IF(AND(F4>=A!F168,F4<A!F169),30,IF(AND(F4>=A!F169,F4<A!F170),29,IF(AND(F4>=A!F170,F4<A!F171),28,IF(AND(F4>=A!F171,F4<A!F172),27,IF(AND(F4>=A!F172,F4<A!F173),26,IF(AND(F4>=A!F173,F4<A!F174),25,IF(AND(F4>=A!F174,F4<A!F175),24,IF(AND(F4>=A!F175,F4<A!F176),23,IF(AND(F4>=A!F176,F4<A!F177),22,IF(AND(F4>=A!F177,F4<A!F178),21,IF(AND(F4>=A!F178,F4<A!F179),20,IF(AND(F4>=A!F179,F4<A!F180),19,IF(AND(F4>=A!F180,F4<A!F181),18,IF(AND(F4>=A!F181,F4<A!F182),17,IF(AND(F4>=A!F182,F4<A!F183),16,IF(AND(F4>=A!F183,F4<A!F184),15,IF(AND(F4>=A!F184,F4<A!F185),14,IF(AND(F4>=A!F185,F4<A!F186),13,IF(AND(F4>=A!F186,F4<A!F187),12,IF(AND(F4>=A!F187,F4<A!F188),11,IF(AND(F4>=A!F188,F4<A!F189),10,IF(AND(F4>=A!F189,F4<A!F190),9,IF(AND(F4>=A!F190,F4<A!F191),8,IF(AND(F4>=A!F191,F4<A!F192),7,IF(AND(F4>=A!F192,F4<A!F193),6,IF(AND(F4>=A!F193,F4<A!F194),5,IF(AND(F4>=A!F194,F4<A!F185),4,IF(AND(F4>=A!F195,F4<A!F196),3,IF(AND(F4>=A!F196,F4<A!F197),2,IF(AND(F4>=A!F197,F4<A!F198),1,0)))))))))))))))))))))))))))))))))))))))))))))))))) -> 43 | H4: 12.81 | I4: =IF(AND(H4>=A!H148,H4<A!H149),50,IF(AND(H4>=A!H149,H4<A!H150),49,IF(AND(H4>=A!H150,H4<A!H151),48,IF(AND(H4>=A!H151,H4<A!H152),47,IF(AND(H4>=A!H152,H4<A!H153),46,IF(AND(H4>=A!H153,H4<A!H154),45,IF(AND(H4>=A!H154,H4<A!H155),44,IF(AND(H4>=A!H155,H4<=A!H156),43,IF(AND(H4>=A!H156,H4<A!H157),42,IF(AND(H4>=A!H157,H4<A!H158),41,IF(AND(H4>=A!H158,H4<A!H159),40,IF(AND(H4>=A!H159,H4<A!H160),39,IF(AND(H4>=A!H160,H4<A!H161),38,IF(AND(H4>=A!H161,H4<=A!H162),37,IF(AND(H4>=A!H162,H4<A!H163),36,IF(AND(H4>=A!H163,H4<A!H164),35,IF(AND(H4>=A!H164,H4<A!H165),34,IF(AND(H4>=A!H165,H4<A!H166),33,IF(AND(H4>=A!H166,H4<A!H167),32,IF(AND(H4>=A!H167,H4<A!H168),31,IF(AND(H4>=A!H168,H4<A!H169),30,IF(AND(H4>=A!H169,H4<A!H170),29,IF(AND(H4>=A!H170,H4<A!H171),28,IF(AND(H4>=A!H171,H4<A!H172),27,IF(AND(H4>=A!H172,H4<A!H173),26,IF(AND(H4>=A!H173,H4<A!H174),25,IF(AND(H4>=A!H174,H4<A!H175),24,IF(AND(H4>=A!H175,H4<A!H176),23,IF(AND(H4>=A!H176,H4<A!H177),22,IF(AND(H4>=A!H177,H4<A!H178),21,IF(AND(H4>=A!H178,H4<A!H179),20,IF(AND(H4>=A!H179,H4<A!H180),19,IF(AND(H4>=A!H180,H4<A!H181),18,IF(AND(H4>=A!H181,H4<A!H182),17,IF(AND(H4>=A!H182,H4<A!H183),16,IF(AND(H4>=A!H183,H4<A!H184),15,IF(AND(H4>=A!H184,H4<A!H185),14,IF(AND(H4>=A!H185,H4<A!H186),13,IF(AND(H4>=A!H186,H4<A!H187),12,IF(AND(H4>=A!H187,H4<A!H188),11,IF(AND(H4>=A!H188,H4<A!H189),10,IF(AND(H4>=A!H189,H4<A!H190),9,IF(AND(H4>=A!H190,H4<A!H191),8,IF(AND(H4>=A!H191,H4<A!H192),7,IF(AND(H4>=A!H192,H4<A!H193),6,IF(AND(H4>=A!H193,H4<A!H194),5,IF(AND(H4>=A!H194,H4<A!H185),4,IF(AND(H4>=A!H195,H4<A!H196),3,IF(AND(H4>=A!H196,H4<A!H197),2,IF(AND(H4>=A!H197,H4<A!H198),1,0)))))))))))))))))))))))))))))))))))))))))))))))))) -> 40 | J4: 3.2204 | K4: =IF(AND(J4>=A!J148,J4<A!J149),50,IF(AND(J4>=A!J149,J4<A!J150),49,IF(AND(J4>=A!J150,J4<A!J151),48,IF(AND(J4>=A!J151,J4<A!J152),47,IF(AND(J4>=A!J152,J4<A!J153),46,IF(AND(J4>=A!J153,J4<A!J154),45,IF(AND(J4>=A!J154,J4<A!J155),44,IF(AND(J4>=A!J155,J4<=A!J156),43,IF(AND(J4>=A!J156,J4<A!J157),42,IF(AND(J4>=A!J157,J4<A!J158),41,IF(AND(J4>=A!J158,J4<A!J159),40,IF(AND(J4>=A!J159,J4<A!J160),39,IF(AND(J4>=A!J160,J4<A!J161),38,IF(AND(J4>=A!J161,J4<=A!J162),37,IF(AND(J4>=A!J162,J4<A!J163),36,IF(AND(J4>=A!J163,J4<A!J164),35,IF(AND(J4>=A!J164,J4<A!J165),34,IF(AND(J4>=A!J165,J4<A!J166),33,IF(AND(J4>=A!J166,J4<A!J167),32,IF(AND(J4>=A!J167,J4<A!J168),31,IF(AND(J4>=A!J168,J4<A!J169),30,IF(AND(J4>=A!J169,J4<A!J170),29,IF(AND(J4>=A!J170,J4<A!J171),28,IF(AND(J4>=A!J171,J4<A!J172),27,IF(AND(J4>=A!J172,J4<A!J173),26,IF(AND(J4>=A!J173,J4<A!J174),25,IF(AND(J4>=A!J174,J4<A!J175),24,IF(AND(J4>=A!J175,J4<A!J176),23,IF(AND(J4>=A!J176,J4<A!J177),22,IF(AND(J4>=A!J177,J4<A!J178),21,IF(AND(J4>=A!J178,J4<A!J179),20,IF(AND(J4>=A!J179,J4<A!J180),19,IF(AND(J4>=A!J180,J4<A!J181),18,IF(AND(J4>=A!J181,J4<A!J182),17,IF(AND(J4>=A!J182,J4<A!J183),16,IF(AND(J4>=A!J183,J4<A!J184),15,IF(AND(J4>=A!J184,J4<A!J185),14,IF(AND(J4>=A!J185,J4<A!J186),13,IF(AND(J4>=A!J186,J4<A!J187),12,IF(AND(J4>=A!J187,J4<A!J188),11,IF(AND(J4>=A!J188,J4<A!J189),10,IF(AND(J4>=A!J189,J4<A!J190),9,IF(AND(J4>=A!J190,J4<A!J191),8,IF(AND(J4>=A!J191,J4<A!J192),7,IF(AND(J4>=A!J192,J4<A!J193),6,IF(AND(J4>=A!J193,J4<A!J194),5,IF(AND(J4>=A!J194,J4<A!J185),4,IF(AND(J4>=A!J195,J4<A!J196),3,IF(AND(J4>=A!J196,J4<A!J197),2,IF(AND(J4>=A!J197,J4<A!J198),1,0)))))))))))))))))))))))))))))))))))))))))))))))))) -> 33 | L4: 10.1789 | M4: =IF(AND(L4>=A!L148,L4<A!L149),50,IF(AND(L4>=A!L149,L4<A!L150),49,IF(AND(L4>=A!L150,L4<A!L151),48,IF(AND(L4>=A!L151,L4<A!L152),47,IF(AND(L4>=A!L152,L4<A!L153),46,IF(AND(L4>=A!L153,L4<A!L154),45,IF(AND(L4>=A!L154,L4<A!L155),44,IF(AND(L4>=A!L155,L4<=A!L156),43,IF(AND(L4>=A!L156,L4<A!L157),42,IF(AND(L4>=A!L157,L4<A!L158),41,IF(AND(L4>=A!L158,L4<A!L159),40,IF(AND(L4>=A!L159,L4<A!L160),39,IF(AND(L4>=A!L160,L4<A!L161),38,IF(AND(L4>=A!L161,L4<=A!L162),37,IF(AND(L4>=A!L162,L4<A!L163),36,IF(AND(L4>=A!L163,L4<A!L164),35,IF(AND(L4>=A!L164,L4<A!L165),34,IF(AND(L4>=A!L165,L4<A!L166),33,IF(AND(L4>=A!L166,L4<A!L167),32,IF(AND(L4>=A!L167,L4<A!L168),31,IF(AND(L4>=A!L168,L4<A!L169),30,IF(AND(L4>=A!L169,L4<A!L170),29,IF(AND(L4>=A!L170,L4<A!L171),28,IF(AND(L4>=A!L171,L4<A!L172),27,IF(AND(L4>=A!L172,L4<A!L173),26,IF(AND(L4>=A!L173,L4<A!L174),25,IF(AND(L4>=A!L174,L4<A!L175),24,IF(AND(L4>=A!L175,L4<A!L176),23,IF(AND(L4>=A!L176,L4<A!L177),22,IF(AND(L4>=A!L177,L4<A!L178),21,IF(AND(L4>=A!L178,L4<A!L179),20,IF(AND(L4>=A!L179,L4<A!L180),19,IF(AND(L4>=A!L180,L4<A!L181),18,IF(AND(L4>=A!L181,L4<A!L182),17,IF(AND(L4>=A!L182,L4<A!L183),16,IF(AND(L4>=A!L183,L4<A!L184),15,IF(AND(L4>=A!L184,L4<A!L185),14,IF(AND(L4>=A!L185,L4<A!L186),13,IF(AND(L4>=A!L186,L4<A!L187),12,IF(AND(L4>=A!L187,L4<A!L188),11,IF(AND(L4>=A!L188,L4<A!L189),10,IF(AND(L4>=A!L189,L4<A!L190),9,IF(AND(L4>=A!L190,L4<A!L191),8,IF(AND(L4>=A!L191,L4<A!L192),7,IF(AND(L4>=A!L192,L4<A!L193),6,IF(AND(L4>=A!L193,L4<A!L194),5,IF(AND(L4>=A!L194,L4<A!L185),4,IF(AND(L4>=A!L195,L4<A!L196),3,IF(AND(L4>=A!L196,L4<A!L197),2,IF(AND(L4>=A!L197,L4<A!L198),1,0)))))))))))))))))))))))))))))))))))))))))))))))))) -> 16 | N4: 8.22 | O4: =IF(AND(N4>=A!N148,N4<A!N149),50,IF(AND(N4>=A!N149,N4<A!N150),49,IF(AND(N4>=A!N150,N4<A!N151),48,IF(AND(N4>=A!N151,N4<A!N152),47,IF(AND(N4>=A!N152,N4<A!N153),46,IF(AND(N4>=A!N153,N4<A!N154),45,IF(AND(N4>=A!N154,N4<A!N155),44,IF(AND(N4>=A!N155,N4<=A!N156),43,IF(AND(N4>=A!N156,N4<A!N157),42,IF(AND(N4>=A!N157,N4<A!N158),41,IF(AND(N4>=A!N158,N4<A!N159),40,IF(AND(N4>=A!N159,N4<A!N160),39,IF(AND(N4>=A!N160,N4<A!N161),38,IF(AND(N4>=A!N161,N4<=A!N162),37,IF(AND(N4>=A!N162,N4<A!N163),36,IF(AND(N4>=A!N163,N4<A!N164),35,IF(AND(N4>=A!N164,N4<A!N165),34,IF(AND(N4>=A!N165,N4<A!N166),33,IF(AND(N4>=A!N166,N4<A!N167),32,IF(AND(N4>=A!N167,N4<A!N168),31,IF(AND(N4>=A!N168,N4<A!N169),30,IF(AND(N4>=A!N169,N4<A!N170),29,IF(AND(N4>=A!N170,N4<A!N171),28,IF(AND(N4>=A!N171,N4<A!N172),27,IF(AND(N4>=A!N172,N4<A!N173),26,IF(AND(N4>=A!N173,N4<A!N174),25,IF(AND(N4>=A!N174,N4<A!N175),24,IF(AND(N4>=A!N175,N4<A!N176),23,IF(AND(N4>=A!N176,N4<A!N177),22,IF(AND(N4>=A!N177,N4<A!N178),21,IF(AND(N4>=A!N178,N4<A!N179),20,IF(AND(N4>=A!N179,N4<A!N180),19,IF(AND(N4>=A!N180,N4<A!N181),18,IF(AND(N4>=A!N181,N4<A!N182),17,IF(AND(N4>=A!N182,N4<A!N183),16,IF(AND(N4>=A!N183,N4<A!N184),15,IF(AND(N4>=A!N184,N4<A!N185),14,IF(AND(N4>=A!N185,N4<A!N186),13,IF(AND(N4>=A!N186,N4<A!N187),12,IF(AND(N4>=A!N187,N4<A!N188),11,IF(AND(N4>=A!N188,N4<A!N189),10,IF(AND(N4>=A!N189,N4<A!N190),9,IF(AND(N4>=A!N190,N4<A!N191),8,IF(AND(N4>=A!N191,N4<A!N192),7,IF(AND(N4>=A!N192,N4<A!N193),6,IF(AND(N4>=A!N193,N4<A!N194),5,IF(AND(N4>=A!N194,N4<A!N185),4,IF(AND(N4>=A!N195,N4<A!N196),3,IF(AND(N4>=A!N196,N4<A!N197),2,IF(AND(N4>=A!N197,N4<A!N198),1,0)))))))))))))))))))))))))))))))))))))))))))))))))) -> 39 | P4: 10.73 | Q4: =IF(AND(P4>=A!P148,P4<A!P149),50,IF(AND(P4>=A!P149,P4<A!P150),49,IF(AND(P4>=A!P150,P4<A!P151),48,IF(AND(P4>=A!P151,P4<A!P152),47,IF(AND(P4>=A!P152,P4<A!P153),46,IF(AND(P4>=A!P153,P4<A!P154),45,IF(AND(P4>=A!P154,P4<A!P155),44,IF(AND(P4>=A!P155,P4<=A!P156),43,IF(AND(P4>=A!P156,P4<A!P157),42,IF(AND(P4>=A!P157,P4<A!P158),41,IF(AND(P4>=A!P158,P4<A!P159),40,IF(AND(P4>=A!P159,P4<A!P160),39,IF(AND(P4>=A!P160,P4<A!P161),38,IF(AND(P4>=A!P161,P4<=A!P162),37,IF(AND(P4>=A!P162,P4<A!P163),36,IF(AND(P4>=A!P163,P4<A!P164),35,IF(AND(P4>=A!P164,P4<A!P165),34,IF(AND(P4>=A!P165,P4<A!P166),33,IF(AND(P4>=A!P166,P4<A!P167),32,IF(AND(P4>=A!P167,P4<A!P168),31,IF(AND(P4>=A!P168,P4<A!P169),30,IF(AND(P4>=A!P169,P4<A!P170),29,IF(AND(P4>=A!P170,P4<A!P171),28,IF(AND(P4>=A!P171,P4<A!P172),27,IF(AND(P4>=A!P172,P4<A!P173),26,IF(AND(P4>=A!P173,P4<A!P174),25,IF(AND(P4>=A!P174,P4<A!P175),24,IF(AND(P4>=A!P175,P4<A!P176),23,IF(AND(P4>=A!P176,P4<A!P177),22,IF(AND(P4>=A!P177,P4<A!P178),21,IF(AND(P4>=A!P178,P4<A!P179),20,IF(AND(P4>=A!P179,P4<A!P180),19,IF(AND(P4>=A!P180,P4<A!P181),18,IF(AND(P4>=A!P181,P4<A!P182),17,IF(AND(P4>=A!P182,P4<A!P183),16,IF(AND(P4>=A!P183,P4<A!P184),15,IF(AND(P4>=A!P184,P4<A!P185),14,IF(AND(P4>=A!P185,P4<A!P186),13,IF(AND(P4>=A!P186,P4<A!P187),12,IF(AND(P4>=A!P187,P4<A!P188),11,IF(AND(P4>=A!P188,P4<A!P189),10,IF(AND(P4>=A!P189,P4<A!P190),9,IF(AND(P4>=A!P190,P4<A!P191),8,IF(AND(P4>=A!P191,P4<A!P192),7,IF(AND(P4>=A!P192,P4<A!P193),6,IF(AND(P4>=A!P193,P4<A!P194),5,IF(AND(P4>=A!P194,P4<A!P185),4,IF(AND(P4>=A!P195,P4<A!P196),3,IF(AND(P4>=A!P196,P4<A!P197),2,IF(AND(P4>=A!P197,P4<A!P198),1,0)))))))))))))))))))))))))))))))))))))))))))))))))) -> 28 | R4: 11.76 | S4: =IF(AND(R4>=A!R148,R4<A!R149),50,IF(AND(R4>=A!R149,R4<A!R150),49,IF(AND(R4>=A!R150,R4<A!R151),48,IF(AND(R4>=A!R151,R4<A!R152),47,IF(AND(R4>=A!R152,R4<A!R153),46,IF(AND(R4>=A!R153,R4<A!R154),45,IF(AND(R4>=A!R154,R4<A!R155),44,IF(AND(R4>=A!R155,R4<=A!R156),43,IF(AND(R4>=A!R156,R4<A!R157),42,IF(AND(R4>=A!R157,R4<A!R158),41,IF(AND(R4>=A!R158,R4<A!R159),40,IF(AND(R4>=A!R159,R4<A!R160),39,IF(AND(R4>=A!R160,R4<A!R161),38,IF(AND(R4>=A!R161,R4<=A!R162),37,IF(AND(R4>=A!R162,R4<A!R163),36,IF(AND(R4>=A!R163,R4<A!R164),35,IF(AND(R4>=A!R164,R4<A!R165),34,IF(AND(R4>=A!R165,R4<A!R166),33,IF(AND(R4>=A!R166,R4<A!R167),32,IF(AND(R4>=A!R167,R4<A!R168),31,IF(AND(R4>=A!R168,R4<A!R169),30,IF(AND(R4>=A!R169,R4<A!R170),29,IF(AND(R4>=A!R170,R4<A!R171),28,IF(AND(R4>=A!R171,R4<A!R172),27,IF(AND(R4>=A!R172,R4<A!R173),26,IF(AND(R4>=A!R173,R4<A!R174),25,IF(AND(R4>=A!R174,R4<A!R175),24,IF(AND(R4>=A!R175,R4<A!R176),23,IF(AND(R4>=A!R176,R4<A!R177),22,IF(AND(R4>=A!R177,R4<A!R178),21,IF(AND(R4>=A!R178,R4<A!R179),20,IF(AND(R4>=A!R179,R4<A!R180),19,IF(AND(R4>=A!R180,R4<A!R181),18,IF(AND(R4>=A!R181,R4<A!R182),17,IF(AND(R4>=A!R182,R4<A!R183),16,IF(AND(R4>=A!R183,R4<A!R184),15,IF(AND(R4>=A!R184,R4<A!R185),14,IF(AND(R4>=A!R185,R4<A!R186),13,IF(AND(R4>=A!R186,R4<A!R187),12,IF(AND(R4>=A!R187,R4<A!R188),11,IF(AND(R4>=A!R188,R4<A!R189),10,IF(AND(R4>=A!R189,R4<A!R190),9,IF(AND(R4>=A!R190,R4<A!R191),8,IF(AND(R4>=A!R191,R4<A!R192),7,IF(AND(R4>=A!R192,R4<A!R193),6,IF(AND(R4>=A!R193,R4<A!R194),5,IF(AND(R4>=A!R194,R4<A!R185),4,IF(AND(R4>=A!R195,R4<A!R196),3,IF(AND(R4>=A!R196,R4<A!R197),2,IF(AND(R4>=A!R197,R4<A!R198),1,0)))))))))))))))))))))))))))))))))))))))))))))))))) -> 46 | T4: 39.64 | U4: =IF(AND(T4>=A!T148,T4<A!T149),50,IF(AND(T4>=A!T149,T4<A!T150),49,IF(AND(T4>=A!T150,T4<A!T151),48,IF(AND(T4>=A!T151,T4<A!T152),47,IF(AND(T4>=A!T152,T4<A!T153),46,IF(AND(T4>=A!T153,T4<A!T154),45,IF(AND(T4>=A!T154,T4<A!T155),44,IF(AND(T4>=A!T155,T4<=A!T156),43,IF(AND(T4>=A!T156,T4<A!T157),42,IF(AND(T4>=A!T157,T4<A!T158),41,IF(AND(T4>=A!T158,T4<A!T159),40,IF(AND(T4>=A!T159,T4<A!T160),39,IF(AND(T4>=A!T160,T4<A!T161),38,IF(AND(T4>=A!T161,T4<=A!T162),37,IF(AND(T4>=A!T162,T4<A!T163),36,IF(AND(T4>=A!T163,T4<A!T164),35,IF(AND(T4>=A!T164,T4<A!T165),34,IF(AND(T4>=A!T165,T4<A!T166),33,IF(AND(T4>=A!T166,T4<A!T167),32,IF(AND(T4>=A!T167,T4<A!T168),31,IF(AND(T4>=A!T168,T4<A!T169),30,IF(AND(T4>=A!T169,T4<A!T170),29,IF(AND(T4>=A!T170,T4<A!T171),28,IF(AND(T4>=A!T171,T4<A!T172),27,IF(AND(T4>=A!T172,T4<A!T173),26,IF(AND(T4>=A!T173,T4<A!T174),25,IF(AND(T4>=A!T174,T4<A!T175),24,IF(AND(T4>=A!T175,T4<A!T176),23,IF(AND(T4>=A!T176,T4<A!T177),22,IF(AND(T4>=A!T177,T4<A!T178),21,IF(AND(T4>=A!T178,T4<A!T179),20,IF(AND(T4>=A!T179,T4<A!T180),19,IF(AND(T4>=A!T180,T4<A!T181),18,IF(AND(T4>=A!T181,T4<A!T182),17,IF(AND(T4>=A!T182,T4<A!T183),16,IF(AND(T4>=A!T183,T4<A!T184),15,IF(AND(T4>=A!T184,T4<A!T185),14,IF(AND(T4>=A!T185,T4<A!T186),13,IF(AND(T4>=A!T186,T4<A!T187),12,IF(AND(T4>=A!T187,T4<A!T188),11,IF(AND(T4>=A!T188,T4<A!T189),10,IF(AND(T4>=A!T189,T4<A!T190),9,IF(AND(T4>=A!T190,T4<A!T191),8,IF(AND(T4>=A!T191,T4<A!T192),7,IF(AND(T4>=A!T192,T4<A!T193),6,IF(AND(T4>=A!T193,T4<A!T194),5,IF(AND(T4>=A!T194,T4<A!T185),4,IF(AND(T4>=A!T195,T4<A!T196),3,IF(AND(T4>=A!T196,T4<A!T197),2,IF(AND(T4>=A!T197,T4<A!T198),1,0)))))))))))))))))))))))))))))))))))))))))))))))))) -> 17 | V4: 1.29 | W4: =IF(AND(V4>=A!V148,V4<A!V149),50,IF(AND(V4>=A!V149,V4<A!V150),49,IF(AND(V4>=A!V150,V4<A!V151),48,IF(AND(V4>=A!V151,V4<A!V152),47,IF(AND(V4>=A!V152,V4<A!V153),46,IF(AND(V4>=A!V153,V4<A!V154),45,IF(AND(V4>=A!V154,V4<A!V155),44,IF(AND(V4>=A!V155,V4<=A!V156),43,IF(AND(V4>=A!V156,V4<A!V157),42,IF(AND(V4>=A!V157,V4<A!V158),41,IF(AND(V4>=A!V158,V4<A!V159),40,IF(AND(V4>=A!V159,V4<A!V160),39,IF(AND(V4>=A!V160,V4<A!V161),38,IF(AND(V4>=A!V161,V4<=A!V162),37,IF(AND(V4>=A!V162,V4<A!V163),36,IF(AND(V4>=A!V163,V4<A!V164),35,IF(AND(V4>=A!V164,V4<A!V165),34,IF(AND(V4>=A!V165,V4<A!V166),33,IF(AND(V4>=A!V166,V4<A!V167),32,IF(AND(V4>=A!V167,V4<A!V168),31,IF(AND(V4>=A!V168,V4<A!V169),30,IF(AND(V4>=A!V169,V4<A!V170),29,IF(AND(V4>=A!V170,V4<A!V171),28,IF(AND(V4>=A!V171,V4<A!V172),27,IF(AND(V4>=A!V172,V4<A!V173),26,IF(AND(V4>=A!V173,V4<A!V174),25,IF(AND(V4>=A!V174,V4<A!V175),24,IF(AND(V4>=A!V175,V4<A!V176),23,IF(AND(V4>=A!V176,V4<A!V177),22,IF(AND(V4>=A!V177,V4<A!V178),21,IF(AND(V4>=A!V178,V4<A!V179),20,IF(AND(V4>=A!V179,V4<A!V180),19,IF(AND(V4>=A!V180,V4<A!V181),18,IF(AND(V4>=A!V181,V4<A!V182),17,IF(AND(V4>=A!V182,V4<A!V183),16,IF(AND(V4>=A!V183,V4<A!V184),15,IF(AND(V4>=A!V184,V4<A!V185),14,IF(AND(V4>=A!V185,V4<A!V186),13,IF(AND(V4>=A!V186,V4<A!V187),12,IF(AND(V4>=A!V187,V4<A!V188),11,IF(AND(V4>=A!V188,V4<A!V189),10,IF(AND(V4>=A!V189,V4<A!V190),9,IF(AND(V4>=A!V190,V4<A!V191),8,IF(AND(V4>=A!V191,V4<A!V192),7,IF(AND(V4>=A!V192,V4<A!V193),6,IF(AND(V4>=A!V193,V4<A!V194),5,IF(AND(V4>=A!V194,V4<A!V185),4,IF(AND(V4>=A!V195,V4<A!V196),3,IF(AND(V4>=A!V196,V4<A!V197),2,IF(AND(V4>=A!V197,V4<A!V198),1,0)))))))))))))))))))))))))))))))))))))))))))))))))) -> 0 | X4: 3.87 | Y4: =IF(AND(X4>=A!X148,X4<A!X149),50,IF(AND(X4>=A!X149,X4<A!X150),49,IF(AND(X4>=A!X150,X4<A!X151),48,IF(AND(X4>=A!X151,X4<A!X152),47,IF(AND(X4>=A!X152,X4<A!X153),46,IF(AND(X4>=A!X153,X4<A!X154),45,IF(AND(X4>=A!X154,X4<A!X155),44,IF(AND(X4>=A!X155,X4<=A!X156),43,IF(AND(X4>=A!X156,X4<A!X157),42,IF(AND(X4>=A!X157,X4<A!X158),41,IF(AND(X4>=A!X158,X4<A!X159),40,IF(AND(X4>=A!X159,X4<A!X160),39,IF(AND(X4>=A!X160,X4<A!X161),38,IF(AND(X4>=A!X161,X4<=A!X162),37,IF(AND(X4>=A!X162,X4<A!X163),36,IF(AND(X4>=A!X163,X4<A!X164),35,IF(AND(X4>=A!X164,X4<A!X165),34,IF(AND(X4>=A!X165,X4<A!X166),33,IF(AND(X4>=A!X166,X4<A!X167),32,IF(AND(X4>=A!X167,X4<A!X168),31,IF(AND(X4>=A!X168,X4<A!X169),30,IF(AND(X4>=A!X169,X4<A!X170),29,IF(AND(X4>=A!X170,X4<A!X171),28,IF(AND(X4>=A!X171,X4<A!X172),27,IF(AND(X4>=A!X172,X4<A!X173),26,IF(AND(X4>=A!X173,X4<A!X174),25,IF(AND(X4>=A!X174,X4<A!X175),24,IF(AND(X4>=A!X175,X4<A!X176),23,IF(AND(X4>=A!X176,X4<A!X177),22,IF(AND(X4>=A!X177,X4<A!X178),21,IF(AND(X4>=A!X178,X4<A!X179),20,IF(AND(X4>=A!X179,X4<A!X180),19,IF(AND(X4>=A!X180,X4<A!X181),18,IF(AND(X4>=A!X181,X4<A!X182),17,IF(AND(X4>=A!X182,X4<A!X183),16,IF(AND(X4>=A!X183,X4<A!X184),15,IF(AND(X4>=A!X184,X4<A!X185),14,IF(AND(X4>=A!X185,X4<A!X186),13,IF(AND(X4>=A!X186,X4<A!X187),12,IF(AND(X4>=A!X187,X4<A!X188),11,IF(AND(X4>=A!X188,X4<A!X189),10,IF(AND(X4>=A!X189,X4<A!X190),9,IF(AND(X4>=A!X190,X4<A!X191),8,IF(AND(X4>=A!X191,X4<A!X192),7,IF(AND(X4>=A!X192,X4<A!X193),6,IF(AND(X4>=A!X193,X4<A!X194),5,IF(AND(X4>=A!X194,X4<A!X185),4,IF(AND(X4>=A!X195,X4<A!X196),3,IF(AND(X4>=A!X196,X4<A!X197),2,IF(AND(X4>=A!X197,X4<A!X198),1,0)))))))))))))))))))))))))))))))))))))))))))))))))) -> 0 | Z4: 5.31 | AA4: =IF(AND(Z4>=A!Z148,Z4<A!Z149),50,IF(AND(Z4>=A!Z149,Z4<A!Z150),49,IF(AND(Z4>=A!Z150,Z4<A!Z151),48,IF(AND(Z4>=A!Z151,Z4<A!Z152),47,IF(AND(Z4>=A!Z152,Z4<A!Z153),46,IF(AND(Z4>=A!Z153,Z4<A!Z154),45,IF(AND(Z4>=A!Z154,Z4<A!Z155),44,IF(AND(Z4>=A!Z155,Z4<=A!Z156),43,IF(AND(Z4>=A!Z156,Z4<A!Z157),42,IF(AND(Z4>=A!Z157,Z4<A!Z158),41,IF(AND(Z4>=A!Z158,Z4<A!Z159),40,IF(AND(Z4>=A!Z159,Z4<A!Z160),39,IF(AND(Z4>=A!Z160,Z4<A!Z161),38,IF(AND(Z4>=A!Z161,Z4<=A!Z162),37,IF(AND(Z4>=A!Z162,Z4<A!Z163),36,IF(AND(Z4>=A!Z163,Z4<A!Z164),35,IF(AND(Z4>=A!Z164,Z4<A!Z165),34,IF(AND(Z4>=A!Z165,Z4<A!Z166),33,IF(AND(Z4>=A!Z166,Z4<A!Z167),32,IF(AND(Z4>=A!Z167,Z4<A!Z168),31,IF(AND(Z4>=A!Z168,Z4<A!Z169),30,IF(AND(Z4>=A!Z169,Z4<A!Z170),29,IF(AND(Z4>=A!Z170,Z4<A!Z171),28,IF(AND(Z4>=A!Z171,Z4<A!Z172),27,IF(AND(Z4>=A!Z172,Z4<A!Z173),26,IF(AND(Z4>=A!Z173,Z4<A!Z174),25,IF(AND(Z4>=A!Z174,Z4<A!Z175),24,IF(AND(Z4>=A!Z175,Z4<A!Z176),23,IF(AND(Z4>=A!Z176,Z4<A!Z177),22,IF(AND(Z4>=A!Z177,Z4<A!Z178),21,IF(AND(Z4>=A!Z178,Z4<A!Z179),20,IF(AND(Z4>=A!Z179,Z4<A!Z180),19,IF(AND(Z4>=A!Z180,Z4<A!Z181),18,IF(AND(Z4>=A!Z181,Z4<A!Z182),17,IF(AND(Z4>=A!Z182,Z4<A!Z183),16,IF(AND(Z4>=A!Z183,Z4<A!Z184),15,IF(AND(Z4>=A!Z184,Z4<A!Z185),14,IF(AND(Z4>=A!Z185,Z4<A!Z186),13,IF(AND(Z4>=A!Z186,Z4<A!Z187),12,IF(AND(Z4>=A!Z187,Z4<A!Z188),11,IF(AND(Z4>=A!Z188,Z4<A!Z189),10,IF(AND(Z4>=A!Z189,Z4<A!Z190),9,IF(AND(Z4>=A!Z190,Z4<A!Z191),8,IF(AND(Z4>=A!Z191,Z4<A!Z192),7,IF(AND(Z4>=A!Z192,Z4<A!Z193),6,IF(AND(Z4>=A!Z193,Z4<A!Z194),5,IF(AND(Z4>=A!Z194,Z4<A!Z185),4,IF(AND(Z4>=A!Z195,Z4<A!Z196),3,IF(AND(Z4>=A!Z196,Z4<A!Z197),2,IF(AND(Z4>=A!Z197,Z4<A!Z198),1,0)))))))))))))))))))))))))))))))))))))))))))))))))) -> 0 | AB4: 11.87 | AC4: =IF(AND(AB4>=A!AB148,AB4<A!AB149),50,IF(AND(AB4>=A!AB149,AB4<A!AB150),49,IF(AND(AB4>=A!AB150,AB4<A!AB151),48,IF(AND(AB4>=A!AB151,AB4<A!AB152),47,IF(AND(AB4>=A!AB152,AB4<A!AB153),46,IF(AND(AB4>=A!AB153,AB4<A!AB154),45,IF(AND(AB4>=A!AB154,AB4<A!AB155),44,IF(AND(AB4>=A!AB155,AB4<=A!AB156),43,IF(AND(AB4>=A!AB156,AB4<A!AB157),42,IF(AND(AB4>=A!AB157,AB4<A!AB158),41,IF(AND(AB4>=A!AB158,AB4<A!AB159),40,IF(AND(AB4>=A!AB159,AB4<A!AB160),39,IF(AND(AB4>=A!AB160,AB4<A!AB161),38,IF(AND(AB4>=A!AB161,AB4<=A!AB162),37,IF(AND(AB4>=A!AB162,AB4<A!AB163),36,IF(AND(AB4>=A!AB163,AB4<A!AB164),35,IF(AND(AB4>=A!AB164,AB4<A!AB165),34,IF(AND(AB4>=A!AB165,AB4<A!AB166),33,IF(AND(AB4>=A!AB166,AB4<A!AB167),32,IF(AND(AB4>=A!AB167,AB4<A!AB168),31,IF(AND(AB4>=A!AB168,AB4<A!AB169),30,IF(AND(AB4>=A!AB169,AB4<A!AB170),29,IF(AND(AB4>=A!AB170,AB4<A!AB171),28,IF(AND(AB4>=A!AB171,AB4<A!AB172),27,IF(AND(AB4>=A!AB172,AB4<A!AB173),26,IF(AND(AB4>=A!AB173,AB4<A!AB174),25,IF(AND(AB4>=A!AB174,AB4<A!AB175),24,IF(AND(AB4>=A!AB175,AB4<A!AB176),23,IF(AND(AB4>=A!AB176,AB4<A!AB177),22,IF(AND(AB4>=A!AB177,AB4<A!AB178),21,IF(AND(AB4>=A!AB178,AB4<A!AB179),20,IF(AND(AB4>=A!AB179,AB4<A!AB180),19,IF(AND(AB4>=A!AB180,AB4<A!AB181),18,IF(AND(AB4>=A!AB181,AB4<A!AB182),17,IF(AND(AB4>=A!AB182,AB4<A!AB183),16,IF(AND(AB4>=A!AB183,AB4<A!AB184),15,IF(AND(AB4>=A!AB184,AB4<A!AB185),14,IF(AND(AB4>=A!AB185,AB4<A!AB186),13,IF(AND(AB4>=A!AB186,AB4<A!AB187),12,IF(AND(AB4>=A!AB187,AB4<A!AB188),11,IF(AND(AB4>=A!AB188,AB4<A!AB189),10,IF(AND(AB4>=A!AB189,AB4<A!AB190),9,IF(AND(AB4>=A!AB190,AB4<A!AB191),8,IF(AND(AB4>=A!AB191,AB4<A!AB192),7,IF(AND(AB4>=A!AB192,AB4<A!AB193),6,IF(AND(AB4>=A!AB193,AB4<A!AB194),5,IF(AND(AB4>=A!AB194,AB4<A!AB185),4,IF(AND(AB4>=A!AB195,AB4<A!AB196),3,IF(AND(AB4>=A!AB196,AB4<A!AB197),2,IF(AND(AB4>=A!AB197,AB4<A!AB198),1,0)))))))))))))))))))))))))))))))))))))))))))))))))) -> 0 | AD4: 11.76 | AE4: =IF(AND(AD4>=A!AD148,AD4<A!AD149),50,IF(AND(AD4>=A!AD149,AD4<A!AD150),49,IF(AND(AD4>=A!AD150,AD4<A!AD151),48,IF(AND(AD4>=A!AD151,AD4<A!AD152),47,IF(AND(AD4>=A!AD152,AD4<A!AD153),46,IF(AND(AD4>=A!AD153,AD4<A!AD154),45,IF(AND(AD4>=A!AD154,AD4<A!AD155),44,IF(AND(AD4>=A!AD155,AD4<=A!AD156),43,IF(AND(AD4>=A!AD156,AD4<A!AD157),42,IF(AND(AD4>=A!AD157,AD4<A!AD158),41,IF(AND(AD4>=A!AD158,AD4<A!AD159),40,IF(AND(AD4>=A!AD159,AD4<A!AD160),39,IF(AND(AD4>=A!AD160,AD4<A!AD161),38,IF(AND(AD4>=A!AD161,AD4<=A!AD162),37,IF(AND(AD4>=A!AD162,AD4<A!AD163),36,IF(AND(AD4>=A!AD163,AD4<A!AD164),35,IF(AND(AD4>=A!AD164,AD4<A!AD165),34,IF(AND(AD4>=A!AD165,AD4<A!AD166),33,IF(AND(AD4>=A!AD166,AD4<A!AD167),32,IF(AND(AD4>=A!AD167,AD4<A!AD168),31,IF(AND(AD4>=A!AD168,AD4<A!AD169),30,IF(AND(AD4>=A!AD169,AD4<A!AD170),29,IF(AND(AD4>=A!AD170,AD4<A!AD171),28,IF(AND(AD4>=A!AD171,AD4<A!AD172),27,IF(AND(AD4>=A!AD172,AD4<A!AD173),26,IF(AND(AD4>=A!AD173,AD4<A!AD174),25,IF(AND(AD4>=A!AD174,AD4<A!AD175),24,IF(AND(AD4>=A!AD175,AD4<A!AD176),23,IF(AND(AD4>=A!AD176,AD4<A!AD177),22,IF(AND(AD4>=A!AD177,AD4<A!AD178),21,IF(AND(AD4>=A!AD178,AD4<A!AD179),20,IF(AND(AD4>=A!AD179,AD4<A!AD180),19,IF(AND(AD4>=A!AD180,AD4<A!AD181),18,IF(AND(AD4>=A!AD181,AD4<A!AD182),17,IF(AND(AD4>=A!AD182,AD4<A!AD183),16,IF(AND(AD4>=A!AD183,AD4<A!AD184),15,IF(AND(AD4>=A!AD184,AD4<A!AD185),14,IF(AND(AD4>=A!AD185,AD4<A!AD186),13,IF(AND(AD4>=A!AD186,AD4<A!AD187),12,IF(AND(AD4>=A!AD187,AD4<A!AD188),11,IF(AND(AD4>=A!AD188,AD4<A!AD189),10,IF(AND(AD4>=A!AD189,AD4<A!AD190),9,IF(AND(AD4>=A!AD190,AD4<A!AD191),8,IF(AND(AD4>=A!AD191,AD4<A!AD192),7,IF(AND(AD4>=A!AD192,AD4<A!AD193),6,IF(AND(AD4>=A!AD193,AD4<A!AD194),5,IF(AND(AD4>=A!AD194,AD4<A!AD185),4,IF(AND(AD4>=A!AD195,AD4<A!AD196),3,IF(AND(AD4>=A!AD196,AD4<A!AD197),2,IF(AND(AD4>=A!AD197,AD4<A!AD198),1,0)))))))))))))))))))))))))))))))))))))))))))))))))) -> 0 | AF4: 48.86 | AG4: =INDEX(AG148:AG183,IFERROR(MATCH(AF4,AF$148:AF$183,0),MATCH(AF4,AF$148:AF$183,1))) -> 15 | AH4: 53.32 | AI4: =INDEX(AI148:AI183,IFERROR(MATCH(AH4,AH$148:AH$183,0),MATCH(AH4,AH$148:AH$183,1))) -> 15 | AJ4: 36.54 | AK4: =IF(AND(AJ4>=A!AJ148,AJ4<A!AJ149),50,IF(AND(AJ4>=A!AJ149,AJ4<A!AJ150),49,IF(AND(AJ4>=A!AJ150,AJ4<A!AJ151),48,IF(AND(AJ4>=A!AJ151,AJ4<A!AJ152),47,IF(AND(AJ4>=A!AJ152,AJ4<A!AJ153),46,IF(AND(AJ4>=A!AJ153,AJ4<A!AJ154),45,IF(AND(AJ4>=A!AJ154,AJ4<A!AJ155),44,IF(AND(AJ4>=A!AJ155,AJ4<=A!AJ156),43,IF(AND(AJ4>=A!AJ156,AJ4<A!AJ157),42,IF(AND(AJ4>=A!AJ157,AJ4<A!AJ158),41,IF(AND(AJ4>=A!AJ158,AJ4<A!AJ159),40,IF(AND(AJ4>=A!AJ159,AJ4<A!AJ160),39,IF(AND(AJ4>=A!AJ160,AJ4<A!AJ161),38,IF(AND(AJ4>=A!AJ161,AJ4<=A!AJ162),37,IF(AND(AJ4>=A!AJ162,AJ4<A!AJ163),36,IF(AND(AJ4>=A!AJ163,AJ4<A!AJ164),35,IF(AND(AJ4>=A!AJ164,AJ4<A!AJ165),34,IF(AND(AJ4>=A!AJ165,AJ4<A!AJ166),33,IF(AND(AJ4>=A!AJ166,AJ4<A!AJ167),32,IF(AND(AJ4>=A!AJ167,AJ4<A!AJ168),31,IF(AND(AJ4>=A!AJ168,AJ4<A!AJ169),30,IF(AND(AJ4>=A!AJ169,AJ4<A!AJ170),29,IF(AND(AJ4>=A!AJ170,AJ4<A!AJ171),28,IF(AND(AJ4>=A!AJ171,AJ4<A!AJ172),27,IF(AND(AJ4>=A!AJ172,AJ4<A!AJ173),26,IF(AND(AJ4>=A!AJ173,AJ4<A!AJ174),25,IF(AND(AJ4>=A!AJ174,AJ4<A!AJ175),24,IF(AND(AJ4>=A!AJ175,AJ4<A!AJ176),23,IF(AND(AJ4>=A!AJ176,AJ4<A!AJ177),22,IF(AND(AJ4>=A!AJ177,AJ4<A!AJ178),21,IF(AND(AJ4>=A!AJ178,AJ4<A!AJ179),20,IF(AND(AJ4>=A!AJ179,AJ4<A!AJ180),19,IF(AND(AJ4>=A!AJ180,AJ4<A!AJ181),18,IF(AND(AJ4>=A!AJ181,AJ4<A!AJ182),17,IF(AND(AJ4>=A!AJ182,AJ4<A!AJ183),16,IF(AND(AJ4>=A!AJ183,AJ4<A!AJ184),15,IF(AND(AJ4>=A!AJ184,AJ4<A!AJ185),14,IF(AND(AJ4>=A!AJ185,AJ4<A!AJ186),13,IF(AND(AJ4>=A!AJ186,AJ4<A!AJ187),12,IF(AND(AJ4>=A!AJ187,AJ4<A!AJ188),11,IF(AND(AJ4>=A!AJ188,AJ4<A!AJ189),10,IF(AND(AJ4>=A!AJ189,AJ4<A!AJ190),9,IF(AND(AJ4>=A!AJ190,AJ4<A!AJ191),8,IF(AND(AJ4>=A!AJ191,AJ4<A!AJ192),7,IF(AND(AJ4>=A!AJ192,AJ4<A!AJ193),6,IF(AND(AJ4>=A!AJ193,AJ4<A!AJ194),5,IF(AND(AJ4>=A!AJ194,AJ4<A!AJ185),4,IF(AND(AJ4>=A!AJ195,AJ4<A!AJ196),3,IF(AND(AJ4>=A!AJ196,AJ4<A!AJ197),2,IF(AND(AJ4>=A!AJ197,AJ4<A!AJ198),1,0)))))))))))))))))))))))))))))))))))))))))))))))))) -> 0 | AL4: 14.1112 | AM4: =IF(AND(AL4>=A!AL148,AL4<A!AL149),50,IF(AND(AL4>=A!AL149,AL4<A!AL150),49,IF(AND(AL4>=A!AL150,AL4<A!AL151),48,IF(AND(AL4>=A!AL151,AL4<A!AL152),47,IF(AND(AL4>=A!AL152,AL4<A!AL153),46,IF(AND(AL4>=A!AL153,AL4<A!AL154),45,IF(AND(AL4>=A!AL154,AL4<A!AL155),44,IF(AND(AL4>=A!AL155,AL4<=A!AL156),43,IF(AND(AL4>=A!AL156,AL4<A!AL157),42,IF(AND(AL4>=A!AL157,AL4<A!AL158),41,IF(AND(AL4>=A!AL158,AL4<A!AL159),40,IF(AND(AL4>=A!AL159,AL4<A!AL160),39,IF(AND(AL4>=A!AL160,AL4<A!AL161),38,IF(AND(AL4>=A!AL161,AL4<=A!AL162),37,IF(AND(AL4>=A!AL162,AL4<A!AL163),36,IF(AND(AL4>=A!AL163,AL4<A!AL164),35,IF(AND(AL4>=A!AL164,AL4<A!AL165),34,IF(AND(AL4>=A!AL165,AL4<A!AL166),33,IF(AND(AL4>=A!AL166,AL4<A!AL167),32,IF(AND(AL4>=A!AL167,AL4<A!AL168),31,IF(AND(AL4>=A!AL168,AL4<A!AL169),30,IF(AND(AL4>=A!AL169,AL4<A!AL170),29,IF(AND(AL4>=A!AL170,AL4<A!AL171),28,IF(AND(AL4>=A!AL171,AL4<A!AL172),27,IF(AND(AL4>=A!AL172,AL4<A!AL173),26,IF(AND(AL4>=A!AL173,AL4<A!AL174),25,IF(AND(AL4>=A!AL174,AL4<A!AL175),24,IF(AND(AL4>=A!AL175,AL4<A!AL176),23,IF(AND(AL4>=A!AL176,AL4<A!AL177),22,IF(AND(AL4>=A!AL177,AL4<A!AL178),21,IF(AND(AL4>=A!AL178,AL4<A!AL179),20,IF(AND(AL4>=A!AL179,AL4<A!AL180),19,IF(AND(AL4>=A!AL180,AL4<A!AL181),18,IF(AND(AL4>=A!AL181,AL4<A!AL182),17,IF(AND(AL4>=A!AL182,AL4<A!AL183),16,IF(AND(AL4>=A!AL183,AL4<A!AL184),15,IF(AND(AL4>=A!AL184,AL4<A!AL185),14,IF(AND(AL4>=A!AL185,AL4<A!AL186),13,IF(AND(AL4>=A!AL186,AL4<A!AL187),12,IF(AND(AL4>=A!AL187,AL4<A!AL188),11,IF(AND(AL4>=A!AL188,AL4<A!AL189),10,IF(AND(AL4>=A!AL189,AL4<A!AL190),9,IF(AND(AL4>=A!AL190,AL4<A!AL191),8,IF(AND(AL4>=A!AL191,AL4<A!AL192),7,IF(AND(AL4>=A!AL192,AL4<A!AL193),6,IF(AND(AL4>=A!AL193,AL4<A!AL194),5,IF(AND(AL4>=A!AL194,AL4<A!AL185),4,IF(AND(AL4>=A!AL195,AL4<A!AL196),3,IF(AND(AL4>=A!AL196,AL4<A!AL197),2,IF(AND(AL4>=A!AL197,AL4<A!AL198),1,0)))))))))))))))))))))))))))))))))))))))))))))))))) -> 18 | AN4: 21.2213 | AO4: =IF(AND(AN4>=A!AN148,AN4<A!AN149),50,IF(AND(AN4>=A!AN149,AN4<A!AN150),49,IF(AND(AN4>=A!AN150,AN4<A!AN151),48,IF(AND(AN4>=A!AN151,AN4<A!AN152),47,IF(AND(AN4>=A!AN152,AN4<A!AN153),46,IF(AND(AN4>=A!AN153,AN4<A!AN154),45,IF(AND(AN4>=A!AN154,AN4<A!AN155),44,IF(AND(AN4>=A!AN155,AN4<=A!AN156),43,IF(AND(AN4>=A!AN156,AN4<A!AN157),42,IF(AND(AN4>=A!AN157,AN4<A!AN158),41,IF(AND(AN4>=A!AN158,AN4<A!AN159),40,IF(AND(AN4>=A!AN159,AN4<A!AN160),39,IF(AND(AN4>=A!AN160,AN4<A!AN161),38,IF(AND(AN4>=A!AN161,AN4<=A!AN162),37,IF(AND(AN4>=A!AN162,AN4<A!AN163),36,IF(AND(AN4>=A!AN163,AN4<A!AN164),35,IF(AND(AN4>=A!AN164,AN4<A!AN165),34,IF(AND(AN4>=A!AN165,AN4<A!AN166),33,IF(AND(AN4>=A!AN166,AN4<A!AN167),32,IF(AND(AN4>=A!AN167,AN4<A!AN168),31,IF(AND(AN4>=A!AN168,AN4<A!AN169),30,IF(AND(AN4>=A!AN169,AN4<A!AN170),29,IF(AND(AN4>=A!AN170,AN4<A!AN171),28,IF(AND(AN4>=A!AN171,AN4<A!AN172),27,IF(AND(AN4>=A!AN172,AN4<A!AN173),26,IF(AND(AN4>=A!AN173,AN4<A!AN174),25,IF(AND(AN4>=A!AN174,AN4<A!AN175),24,IF(AND(AN4>=A!AN175,AN4<A!AN176),23,IF(AND(AN4>=A!AN176,AN4<A!AN177),22,IF(AND(AN4>=A!AN177,AN4<A!AN178),21,IF(AND(AN4>=A!AN178,AN4<A!AN179),20,IF(AND(AN4>=A!AN179,AN4<A!AN180),19,IF(AND(AN4>=A!AN180,AN4<A!AN181),18,IF(AND(AN4>=A!AN181,AN4<A!AN182),17,IF(AND(AN4>=A!AN182,AN4<A!AN183),16,IF(AND(AN4>=A!AN183,AN4<A!AN184),15,IF(AND(AN4>=A!AN184,AN4<A!AN185),14,IF(AND(AN4>=A!AN185,AN4<A!AN186),13,IF(AND(AN4>=A!AN186,AN4<A!AN187),12,IF(AND(AN4>=A!AN187,AN4<A!AN188),11,IF(AND(AN4>=A!AN188,AN4<A!AN189),10,IF(AND(AN4>=A!AN189,AN4<A!AN190),9,IF(AND(AN4>=A!AN190,AN4<A!AN191),8,IF(AND(AN4>=A!AN191,AN4<A!AN192),7,IF(AND(AN4>=A!AN192,AN4<A!AN193),6,IF(AND(AN4>=A!AN193,AN4<A!AN194),5,IF(AND(AN4>=A!AN194,AN4<A!AN185),4,IF(AND(AN4>=A!AN195,AN4<A!AN196),3,IF(AND(AN4>=A!AN196,AN4<A!AN197),2,IF(AND(AN4>=A!AN197,AN4<A!AN198),1,0)))))))))))))))))))))))))))))))))))))))))))))))))) -> 25 | AP4: 30.92 | AQ4: =IF(AND(AP4>=A!AP148,AP4<A!AP149),50,IF(AND(AP4>=A!AP149,AP4<A!AP150),49,IF(AND(AP4>=A!AP150,AP4<A!AP151),48,IF(AND(AP4>=A!AP151,AP4<A!AP152),47,IF(AND(AP4>=A!AP152,AP4<A!AP153),46,IF(AND(AP4>=A!AP153,AP4<A!AP154),45,IF(AND(AP4>=A!AP154,AP4<A!AP155),44,IF(AND(AP4>=A!AP155,AP4<=A!AP156),43,IF(AND(AP4>=A!AP156,AP4<A!AP157),42,IF(AND(AP4>=A!AP157,AP4<A!AP158),41,IF(AND(AP4>=A!AP158,AP4<A!AP159),40,IF(AND(AP4>=A!AP159,AP4<A!AP160),39,IF(AND(AP4>=A!AP160,AP4<A!AP161),38,IF(AND(AP4>=A!AP161,AP4<=A!AP162),37,IF(AND(AP4>=A!AP162,AP4<A!AP163),36,IF(AND(AP4>=A!AP163,AP4<A!AP164),35,IF(AND(AP4>=A!AP164,AP4<A!AP165),34,IF(AND(AP4>=A!AP165,AP4<A!AP166),33,IF(AND(AP4>=A!AP166,AP4<A!AP167),32,IF(AND(AP4>=A!AP167,AP4<A!AP168),31,IF(AND(AP4>=A!AP168,AP4<A!AP169),30,IF(AND(AP4>=A!AP169,AP4<A!AP170),29,IF(AND(AP4>=A!AP170,AP4<A!AP171),28,IF(AND(AP4>=A!AP171,AP4<A!AP172),27,IF(AND(AP4>=A!AP172,AP4<A!AP173),26,IF(AND(AP4>=A!AP173,AP4<A!AP174),25,IF(AND(AP4>=A!AP174,AP4<A!AP175),24,IF(AND(AP4>=A!AP175,AP4<A!AP176),23,IF(AND(AP4>=A!AP176,AP4<A!AP177),22,IF(AND(AP4>=A!AP177,AP4<A!AP178),21,IF(AND(AP4>=A!AP178,AP4<A!AP179),20,IF(AND(AP4>=A!AP179,AP4<A!AP180),19,IF(AND(AP4>=A!AP180,AP4<A!AP181),18,IF(AND(AP4>=A!AP181,AP4<A!AP182),17,IF(AND(AP4>=A!AP182,AP4<A!AP183),16,IF(AND(AP4>=A!AP183,AP4<A!AP184),15,IF(AND(AP4>=A!AP184,AP4<A!AP185),14,IF(AND(AP4>=A!AP185,AP4<A!AP186),13,IF(AND(AP4>=A!AP186,AP4<A!AP187),12,IF(AND(AP4>=A!AP187,AP4<A!AP188),11,IF(AND(AP4>=A!AP188,AP4<A!AP189),10,IF(AND(AP4>=A!AP189,AP4<A!AP190),9,IF(AND(AP4>=A!AP190,AP4<A!AP191),8,IF(AND(AP4>=A!AP191,AP4<A!AP192),7,IF(AND(AP4>=A!AP192,AP4<A!AP193),6,IF(AND(AP4>=A!AP193,AP4<A!AP194),5,IF(AND(AP4>=A!AP194,AP4<A!AP185),4,IF(AND(AP4>=A!AP195,AP4<A!AP196),3,IF(AND(AP4>=A!AP196,AP4<A!AP197),2,IF(AND(AP4>=A!AP197,AP4<A!AP198),1,0)))))))))))))))))))))))))))))))))))))))))))))))))) -> 41 | AR4: 29.47 | AS4: =IF(AND(AR4>=A!AR148,AR4<A!AR149),50,IF(AND(AR4>=A!AR149,AR4<A!AR150),49,IF(AND(AR4>=A!AR150,AR4<A!AR151),48,IF(AND(AR4>=A!AR151,AR4<A!AR152),47,IF(AND(AR4>=A!AR152,AR4<A!AR153),46,IF(AND(AR4>=A!AR153,AR4<A!AR154),45,IF(AND(AR4>=A!AR154,AR4<A!AR155),44,IF(AND(AR4>=A!AR155,AR4<=A!AR156),43,IF(AND(AR4>=A!AR156,AR4<A!AR157),42,IF(AND(AR4>=A!AR157,AR4<A!AR158),41,IF(AND(AR4>=A!AR158,AR4<A!AR159),40,IF(AND(AR4>=A!AR159,AR4<A!AR160),39,IF(AND(AR4>=A!AR160,AR4<A!AR161),38,IF(AND(AR4>=A!AR161,AR4<=A!AR162),37,IF(AND(AR4>=A!AR162,AR4<A!AR163),36,IF(AND(AR4>=A!AR163,AR4<A!AR164),35,IF(AND(AR4>=A!AR164,AR4<A!AR165),34,IF(AND(AR4>=A!AR165,AR4<A!AR166),33,IF(AND(AR4>=A!AR166,AR4<A!AR167),32,IF(AND(AR4>=A!AR167,AR4<A!AR168),31,IF(AND(AR4>=A!AR168,AR4<A!AR169),30,IF(AND(AR4>=A!AR169,AR4<A!AR170),29,IF(AND(AR4>=A!AR170,AR4<A!AR171),28,IF(AND(AR4>=A!AR171,AR4<A!AR172),27,IF(AND(AR4>=A!AR172,AR4<A!AR173),26,IF(AND(AR4>=A!AR173,AR4<A!AR174),25,IF(AND(AR4>=A!AR174,AR4<A!AR175),24,IF(AND(AR4>=A!AR175,AR4<A!AR176),23,IF(AND(AR4>=A!AR176,AR4<A!AR177),22,IF(AND(AR4>=A!AR177,AR4<A!AR178),21,IF(AND(AR4>=A!AR178,AR4<A!AR179),20,IF(AND(AR4>=A!AR179,AR4<A!AR180),19,IF(AND(AR4>=A!AR180,AR4<A!AR181),18,IF(AND(AR4>=A!AR181,AR4<A!AR182),17,IF(AND(AR4>=A!AR182,AR4<A!AR183),16,IF(AND(AR4>=A!AR183,AR4<A!AR184),15,IF(AND(AR4>=A!AR184,AR4<A!AR185),14,IF(AND(AR4>=A!AR185,AR4<A!AR186),13,IF(AND(AR4>=A!AR186,AR4<A!AR187),12,IF(AND(AR4>=A!AR187,AR4<A!AR188),11,IF(AND(AR4>=A!AR188,AR4<A!AR189),10,IF(AND(AR4>=A!AR189,AR4<A!AR190),9,IF(AND(AR4>=A!AR190,AR4<A!AR191),8,IF(AND(AR4>=A!AR191,AR4<A!AR192),7,IF(AND(AR4>=A!AR192,AR4<A!AR193),6,IF(AND(AR4>=A!AR193,AR4<A!AR194),5,IF(AND(AR4>=A!AR194,AR4<A!AR185),4,IF(AND(AR4>=A!AR195,AR4<A!AR196),3,IF(AND(AR4>=A!AR196,AR4<A!AR197),2,IF(AND(AR4>=A!AR197,AR4<A!AR198),1,0)))))))))))))))))))))))))))))))))))))))))))))))))) -> 40
A5: 2
A6: 3
A7: 4
A8: 5
A9: 6
A10: 7
A11: 8
A12: 9
A13: 10
A14: 11
A15: 12
A16: 13
... A53: 50
J60: =IF(AND(F4>=C251,F4<A!H148),50,IF(AND(F4>=A!H148,F4<A!H149),49,IF(AND(F4>=A!H149,F4<A!H150),48,IF(AND(F4>=A!H150,F4<A!H151),47,IF(AND(F4>=A!H151,F4<A!H152),46,IF(AND(F4>=A!H152,F4<A!H153),45,IF(AND(F4>=A!H153,F4<A!H154),44,IF(AND(F4>=A!H154,F4<=A!H155),43,IF(AND(F4>=A!H155,F4<A!H156),42,IF(AND(F4>=A!H156,F4<A!H157),41,IF(AND(F4>=A!H157,F4<A!H158),40,IF(AND(F4>=A!H158,F4<A!H159),39,IF(AND(F4>=A!H159,F4<A!H160),38,IF(AND(F4>=A!H160,F4<=A!H161),37,IF(AND(F4>=A!H161,F4<A!H162),36,IF(AND(F4>=A!H162,F4<A!H163),35,IF(AND(F4>=A!H163,F4<A!H164),34,IF(AND(F4>=A!H164,F4<A!H165),33,IF(AND(F4>=A!H165,F4<A!H166),32,IF(AND(F4>=A!H166,F4<A!H167),31,IF(AND(F4>=A!H167,F4<A!H168),30,IF(AND(F4>=A!H168,F4<A!H169),29,IF(AND(F4>=A!H169,F4<A!H170),28,IF(AND(F4>=A!H170,F4<A!H171),27,IF(AND(F4>=A!H171,F4<A!H172),26,IF(AND(F4>=A!H172,F4<A!H173),25,IF(AND(F4>=A!H173,F4<A!H174),24,IF(AND(F4>=A!H174,F4<A!H175),23,IF(AND(F4>=A!H175,F4<A!H176),22,IF(AND(F4>=A!H176,F4<A!H177),21,IF(AND(F4>=A!H177,F4<A!H178),20,IF(AND(F4>=A!H178,F4<A!H179),19,IF(AND(F4>=A!H179,F4<A!H180),18,IF(AND(F4>=A!H180,F4<A!H181),17,IF(AND(F4>=A!H181,F4<A!H182),16,IF(AND(F4>=A!H182,F4<A!H183),15,IF(AND(F4>=A!H183,F4<A!H184),14,IF(AND(F4>=A!H184,F4<A!H185),13,IF(AND(F4>=A!H185,F4<A!H186),12,IF(AND(F4>=A!H186,F4<A!H187),11,IF(AND(F4>=A!H187,F4<A!H188),10,IF(AND(F4>=A!H188,F4<A!H189),9,IF(AND(F4>=A!H189,F4<A!H190),8,IF(AND(F4>=A!H190,F4<A!H191),7,IF(AND(F4>=A!H191,F4<A!H192),6,IF(AND(F4>=A!H192,F4<A!H193),5,IF(AND(F4>=A!H193,F4<A!H184),4,IF(AND(F4>=A!H194,F4<A!H195),3,IF(AND(F4>=A!H195,F4<A!H196),2,IF(AND(F4>=A!H196,F4<A!H197),1,0)))))))))))))))))))))))))))))))))))))))))))))))))) -> 0
N143: 8.22 | O143: =INDEX(O$148:O$183,IF(N$148>N$149,IFERROR(MATCH(N143,N$148:N$183,0),MATCH(N143,N$148:N$183,-1)+1),IF(N$148<N$149,IFERROR(MATCH(N143,N$148:N$183,0),MATCH(N143,N$148:N$183,1))))) -> 39 | P143: 10.73 | Q143: =INDEX(Q$148:Q$183,IF(P$148>P$149,IFERROR(MATCH(P143,P$148:P$183,0),MATCH(P143,P$148:P$183,-1)+1),IF(P$148<P$149,IFERROR(MATCH(P143,P$148:P$183,0),MATCH(P143,P$148:P$183,1))))) -> 28 | R143: 11.76 | S143: =INDEX(S$148:S$183,IF(R$148>R$149,IFERROR(MATCH(R143,R$148:R$183,0),MATCH(R143,R$148:R$183,-1)+1),IF(R$148<R$149,IFERROR(MATCH(R143,R$148:R$183,0),MATCH(R143,R$148:R$183,1))))) -> 46 | T143: 39.64 | U143: =INDEX(U$148:U$183,IF(T$148>T$149,IFERROR(MATCH(T143,T$148:T$183,0),MATCH(T143,T$148:T$183,-1)+1),IF(T$148<T$149,IFERROR(MATCH(T143,T$148:T$183,0),MATCH(T143,T$148:T$183,1))))) -> 17 | V143: 1.69 | W143: =INDEX(W$148:W$183,IF(V$148>V$149,IFERROR(MATCH(V143,V$148:V$183,0),MATCH(V143,V$148:V$183,-1)+1),IF(V$148<V$149,IFERROR(MATCH(V143,V$148:V$183,0),MATCH(V143,V$148:V$183,1))))) -> 44 | X143: 3.87 | Y143: =INDEX(Y$148:Y$183,IF(X$148>X$149,IFERROR(MATCH(X143,X$148:X$183,0),MATCH(X143,X$148:X$183,-1)+1),IF(X$148<X$149,IFERROR(MATCH(X143,X$148:X$183,0),MATCH(X143,X$148:X$183,1))))) -> 49 | Z143: 5.42 | AA143: =INDEX(AA$148:AA$183,IF(Z$148>Z$149,IFERROR(MATCH(Z143,Z$148:Z$183,0),MATCH(Z143,Z$148:Z$183,-1)+1),IF(Z$148<Z$149,IFERROR(MATCH(Z143,Z$148:Z$183,0),MATCH(Z143,Z$148:Z$183,1))))) -> 42 | AB143: 11.87 | AC143: =INDEX(AC$148:AC$183,IF(AB$148>AB$149,IFERROR(MATCH(AB143,AB$148:AB$183,0),MATCH(AB143,AB$148:AB$183,-1)+1),IF(AB$148<AB$149,IFERROR(MATCH(AB143,AB$148:AB$183,0),MATCH(AB143,AB$148:AB$183,1))))) -> 44 | AD143: 11.76 | AE143: =INDEX(AE$148:AE$183,IF(AD$148>AD$149,IFERROR(MATCH(AD143,AD$148:AD$183,0),MATCH(AD143,AD$148:AD$183,-1)+1),IF(AD$148<AD$149,IFERROR(MATCH(AD143,AD$148:AD$183,0),MATCH(AD143,AD$148:AD$183,1))))) -> 43 | AF143: 48.86 | AG143: =INDEX(AG$148:AG$183,IF(AF$148>AF$149,IFERROR(MATCH(AF143,AF$148:AF$183,0),MATCH(AF143,AF$148:AF$183,-1)+1),IF(AF$148<AF$149,IFERROR(MATCH(AF143,AF$148:AF$183,0),MATCH(AF143,AF$148:AF$183,1))))) -> 49 | AH143: 53.32 | AI143: =INDEX(AI$148:AI$183,IF(AH$148>AH$149,IFERROR(MATCH(AH143,AH$148:AH$183,0),MATCH(AH143,AH$148:AH$183,-1)+1),IF(AH$148<AH$149,IFERROR(MATCH(AH143,AH$148:AH$183,0),MATCH(AH143,AH$148:AH$183,1))))) -> 45 | AJ143: 36.54 | AK143: =INDEX(AK$148:AK$183,IF(AJ$148>AJ$149,IFERROR(MATCH(AJ143,AJ$148:AJ$183,0),MATCH(AJ143,AJ$148:AJ$183,-1)+1),IF(AJ$148<AJ$149,IFERROR(MATCH(AJ143,AJ$148:AJ$183,0),MATCH(AJ143,AJ$148:AJ$183,1))))) -> 42 | AL143: 14.1112 | AM143: =INDEX(AM$148:AM$183,IF(AL$148>AL$149,IFERROR(MATCH(AL143,AL$148:AL$183,0),MATCH(AL143,AL$148:AL$183,-1)+1),IF(AL$148<AL$149,IFERROR(MATCH(AL143,AL$148:AL$183,0),MATCH(AL143,AL$148:AL$183,1))))) -> 18 | AN143: 21.2213 | AO143: =INDEX(AO$148:AO$183,IF(AN$148>AN$149,IFERROR(MATCH(AN143,AN$148:AN$183,0),MATCH(AN143,AN$148:AN$183,-1)+1),IF(AN$148<AN$149,IFERROR(MATCH(AN143,AN$148:AN$183,0),MATCH(AN143,AN$148:AN$183,1))))) -> 25
V147: erreur | AF147: resultat 49 | AH147: resultat 45 | AJ147: resultat 44 | AL147: OK je ne comprend pas pouquoi C OK
B148: 6.42 | C148: 50 | D148: 7.75 | E148: 50 | F148: 9.44 | G148: 50 | H148: 11.85 | I148: 50 | J148: 2.5065 | K148: 50 | L148: 6.181 | M148: 50 | N148: 7.35 | O148: 50 | P148: 8.75 | Q148: 50 | R148: 11.19 | S148: 50 | T148: 27.77 | U148: 50 | V148: 1.8 | W148: 50 | X148: 3.9 | Y148: 50 | Z148: 6.57 | AA148: 50 | AB148: 13.31 | AC148: 50 | AD148: 15.24 | AE148: 50 | AF148: 48.99 | AG148: 50 | AH148: 62.64 | AI148: 50 | AJ148: 57.77 | AK148: 50 | AL148: 9.3 | AM148: 50 | AN148: 14.3673 | AO148: 50 | AP148: 29.62 | AQ148: 50 | AR148: 28.5 | AS148: 50
B149: 6.47 | C149: 49 | D149: 7.83 | E149: 49 | F149: 9.51 | G149: 49 | H149: 11.95 | I149: 49 | J149: 2.5232 | K149: 49 | L149: 6.2528 | M149: 49 | N149: 7.43 | O149: 49 | P149: 8.86 | Q149: 49 | R149: 11.31 | S149: 49 | T149: 28.22 | U149: 49 | V149: 1.78 | W149: 49 | X149: 3.78 | Y149: 49 | Z149: 6.38 | AA149: 49 | AB149: 13.05 | AC149: 49 | AD149: 14.59 | AE149: 49 | AF149: 46.87 | AG149: 49 | AH149: 60.31 | AI149: 49 | AJ149: 53.9 | AK149: 49 | AL149: 9.406 | AM149: 49 | AN149: 14.5978 | AO149: 49 | AP149: 29.76 | AQ149: 49 | AR149: 28.54 | AS149: 49
B150: 6.52 | C150: 48 | D150: 7.92 | E150: 48 | F150: 9.59 | G150: 48 | H150: 12.05 | I150: 48 | J150: 2.5399 | K150: 48 | L150: 6.3246 | M150: 48 | N150: 7.51 | O150: 48 | P150: 8.96 | Q150: 48 | R150: 11.42 | S150: 48 | T150: 28.66 | U150: 48 | V150: 1.76 | W150: 48 | X150: 3.66 | Y150: 48 | Z150: 6.18 | AA150: 48 | AB150: 12.79 | AC150: 48 | AD150: 13.94 | AE150: 48 | AF150: 44.75 | AG150: 48 | AH150: 57.98 | AI150: 48 | AJ150: 50.02 | AK150: 48 | AL150: 9.512 | AM150: 48 | AN150: 15.2284 | AO150: 48 | AP150: 29.89 | AQ150: 48 | AR150: 28.58 | AS150: 48
B151: 6.57 | C151: 47 | D151: 8 | E151: 47 | F151: 9.66 | G151: 47 | H151: 12.14 | I151: 47 | J151: 2.5566 | K151: 47 | L151: 6.3964 | M151: 47 | N151: 7.59 | O151: 47 | P151: 9.07 | Q151: 47 | R151: 11.54 | S151: 47 | T151: 29.11 | U151: 47 | V151: 1.74 | W151: 47 | X151: 3.54 | Y151: 47 | Z151: 5.99 | AA151: 47 | AB151: 12.52 | AC151: 47 | AD151: 13.3 | AE151: 47 | AF151: 42.64 | AG151: 47 | AH151: 55.66 | AI151: 47 | AJ151: 46.15 | AK151: 47 | AL151: 10.018 | AM151: 47 | AN151: 15.4589 | AO151: 47 | AP151: 30.03 | AQ151: 47 | AR151: 28.63 | AS151: 47
B152: 6.62 | C152: 46 | D152: 8.09 | E152: 46 | F152: 9.74 | G152: 46 | H152: 12.24 | I152: 46 | J152: 2.5733 | K152: 46 | L152: 6.4682 | M152: 46 | N152: 7.67 | O152: 46 | P152: 9.17 | Q152: 46 | R152: 11.65 | S152: 46 | T152: 29.55 | U152: 46 | V152: 1.72 | W152: 46 | X152: 3.42 | Y152: 46 | Z152: 5.79 | AA152: 46 | AB152: 12.26 | AC152: 46 | AD152: 12.65 | AE152: 46 | AF152: 40.52 | AG152: 46 | AH152: 53.33 | AI152: 46 | AJ152: 42.27 | AK152: 46 | AL152: 10.124 | AM152: 46 | AN152: 16.0895 | AO152: 46 | AP152: 30.16 | AQ152: 46 | AR152: 28.67 | AS152: 46
B153: 6.67 | C153: 45 | D153: 8.17 | E153: 45 | F153: 9.81 | G153: 45 | H153: 12.34 | I153: 45 | J153: 2.59 | K153: 45 | L153: 6.54 | M153: 45 | N153: 7.75 | O153: 45 | P153: 9.28 | Q153: 45 | R153: 11.77 | S153: 45 | T153: 30 | U153: 45 | V153: 1.7 | W153: 45 | X153: 3.3 | Y153: 45 | Z153: 5.6 | AA153: 45 | AB153: 12 | AC153: 45 | AD153: 12 | AE153: 45 | AF153: 38.4 | AG153: 45 | AH153: 51 | AI153: 45 | AJ153: 38.4 | AK153: 45 | AL153: 10.23 | AM153: 45 | AN153: 16.32 | AO153: 45 | AP153: 30.3 | AQ153: 45 | AR153: 28.71 | AS153: 45
B154: 6.72 | C154: 44 | D154: 8.22 | E154: 44 | F154: 9.88 | G154: 44 | H154: 12.43 | I154: 44 | J154: 3.0092 | K154: 44 | L154: 7.0144 | M154: 44 | N154: 7.83 | O154: 44 | P154: 9.36 | Q154: 44 | R154: 11.91 | S154: 44 | T154: 30.24 | U154: 44 | V154: 1.68 | W154: 44 | X154: 3.25 | Y154: 44 | Z154: 5.53 | AA154: 44 | AB154: 11.87 | AC154: 44 | AD154: 11.79 | AE154: 44 | AF154: 37.54 | AG154: 44 | AH154: 49.78 | AI154: 44 | AJ154: 37.48 | AK154: 44 | AL154: 10.3108 | AM154: 44 | AN154: 16.4632 | AO154: 44 | AP154: 30.43 | AQ154: 44 | AR154: 28.84 | AS154: 44
B155: 6.77 | C155: 43 | D155: 8.27 | E155: 43 | F155: 9.96 | G155: 43 | H155: 12.53 | I155: 43 | J155: 3.0284 | K155: 43 | L155: 7.0888 | M155: 43 | N155: 7.91 | O155: 43 | P155: 9.45 | Q155: 43 | R155: 12.04 | S155: 43 | T155: 30.49 | U155: 43 | V155: 1.66 | W155: 43 | X155: 3.2 | Y155: 43 | Z155: 5.46 | AA155: 43 | AB155: 11.74 | AC155: 43 | AD155: 11.58 | AE155: 43 | AF155: 36.69 | AG155: 43 | AH155: 48.56 | AI155: 43 | AJ155: 36.55 | AK155: 43 | AL155: 10.3916 | AM155: 43 | AN155: 17.0064 | AO155: 43 | AP155: 30.56 | AQ155: 43 | AR155: 28.97 | AS155: 43
B156: 6.82 | C156: 42 | D156: 8.32 | E156: 42 | F156: 10.03 | G156: 42 | H156: 12.62 | I156: 42 | J156: 3.0476 | K156: 42 | L156: 7.1632 | M156: 42 | N156: 7.98 | O156: 42 | P156: 9.53 | Q156: 42 | R156: 12.18 | S156: 42 | T156: 30.73 | U156: 42 | V156: 1.65 | W156: 42 | X156: 3.16 | Y156: 42 | Z156: 5.38 | AA156: 42 | AB156: 11.62 | AC156: 42 | AD156: 11.36 | AE156: 42 | AF156: 35.83 | AG156: 42 | AH156: 47.34 | AI156: 42 | AJ156: 35.63 | AK156: 42 | AL156: 10.4724 | AM156: 42 | AN156: 17.1496 | AO156: 42 | AP156: 30.68 | AQ156: 42 | AR156: 29.1 | AS156: 42
B157: 6.87 | C157: 41 | D157: 8.37 | E157: 41 | F157: 10.11 | G157: 41 | H157: 12.72 | I157: 41 | J157: 3.0668 | K157: 41 | L157: 7.2376 | M157: 41 | N157: 8.06 | O157: 41 | P157: 9.62 | Q157: 41 | R157: 12.32 | S157: 41 | T157: 30.98 | U157: 41 | V157: 1.63 | W157: 41 | X157: 3.11 | Y157: 41 | Z157: 5.31 | AA157: 41 | AB157: 11.49 | AC157: 41 | AD157: 11.15 | AE157: 41 | AF157: 34.98 | AG157: 41 | AH157: 46.12 | AI157: 41 | AJ157: 34.7 | AK157: 41 | AL157: 10.5532 | AM157: 41 | AN157: 17.2928 | AO157: 41 | AP157: 30.81 | AQ157: 41 | AR157: 29.23 | AS157: 41
B158: 6.92 | C158: 40 | D158: 8.42 | E158: 40 | F158: 10.18 | G158: 40 | H158: 12.81 | I158: 40 | J158: 3.086 | K158: 40 | L158: 7.312 | M158: 40 | N158: 8.14 | O158: 40 | P158: 9.7 | Q158: 40 | R158: 12.46 | S158: 40 | T158: 31.22 | U158: 40 | V158: 1.61 | W158: 40 | X158: 3.06 | Y158: 40 | Z158: 5.24 | AA158: 40 | AB158: 11.36 | AC158: 40 | AD158: 10.94 | AE158: 40 | AF158: 34.12 | AG158: 40 | AH158: 44.9 | AI158: 40 | AJ158: 33.78 | AK158: 40 | AL158: 11.034 | AM158: 40 | AN158: 17.436 | AO158: 40 | AP158: 30.94 | AQ158: 40 | AR158: 29.35 | AS158: 40
B159: 6.97 | C159: 39 | D159: 8.47 | E159: 39 | F159: 10.26 | G159: 39 | H159: 12.91 | I159: 39 | J159: 3.1052 | K159: 39 | L159: 7.3864 | M159: 39 | N159: 8.22 | O159: 39 | P159: 9.79 | Q159: 39 | R159: 12.59 | S159: 39 | T159: 31.46 | U159: 39 | V159: 1.59 | W159: 39 | X159: 3.01 | Y159: 39 | Z159: 5.17 | AA159: 39 | AB159: 11.23 | AC159: 39 | AD159: 10.73 | AE159: 39 | AF159: 33.26 | AG159: 39 | AH159: 43.68 | AI159: 39 | AJ159: 32.86 | AK159: 39 | AL159: 11.1148 | AM159: 39 | AN159: 17.5792 | AO159: 39 | AP159: 31.07 | AQ159: 39 | AR159: 29.48 | AS159: 39
... B183: 8.43 | C183: 15 | D183: 10.06 | E183: 15 | F183: 12.55 | G183: 15 | H183: 15.81 | I183: 15 | J183: 4.1253 | K183: 15 | L183: 10.2237 | M183: 15 | N183: 11.12 | O183: 15 | P183: 13.08 | Q183: 15 | R183: 17.2 | S183: 15 | T183: 41.99 | U183: 15 | V183: 1.16 | W183: 15 | X183: 1.92 | Y183: 15 | Z183: 3.38 | AA183: 15 | AB183: 8.01 | AC183: 15 | AD183: 5.91 | AE183: 15 | AF183: 14.58 | AG183: 15 | AH183: 17.24 | AI183: 15 | AJ183: 12.85 | AK183: 15 | AL183: 14.3632 | AM183: 15 | AN183: 23.4105 | AO183: 15 | AP183: 35.75 | AQ183: 15 | AR183: 33.27 | AS183: 15
C251: =IF(AND(D4>=A!D148,D4<A!D149),50,IF(AND(D4>=A!D149,D4<A!D150),49,IF(AND(D4>=A!D150,D4<A!D151),48,IF(AND(D4>=A!D151,D4<A!D152),47,IF(AND(D4>=A!D152,D4<A!D153),46,IF(AND(D4>=A!D153,D4<A!D154),45,IF(AND(D4>=A!D154,D4<A!D155),44,IF(AND(D4>=A!D155,D4<=A!D156),43,IF(AND(D4>=A!D156,D4<A!D157),42,IF(AND(D4>=A!D157,D4<A!D158),41,IF(AND(D4>=A!D158,D4<A!D159),40,IF(AND(D4>=A!D159,D4<A!D160),39,IF(AND(D4>=A!D160,D4<A!D161),38,IF(AND(D4>=A!D161,D4<=A!D162),37,IF(AND(D4>=A!D162,D4<A!D163),36,IF(AND(D4>=A!D163,D4<A!D164),35,IF(AND(D4>=A!D164,D4<A!D165),34,IF(AND(D4>=A!D165,D4<A!D166),33,IF(AND(D4>=A!D166,D4<A!D167),32,IF(AND(D4>=A!D167,D4<A!D168),31,IF(AND(D4>=A!D168,D4<A!D169),30,IF(AND(D4>=A!D169,D4<A!D170),29,IF(AND(D4>=A!D170,D4<A!D171),28,IF(AND(D4>=A!D171,D4<A!D172),27,IF(AND(D4>=A!D172,D4<A!D173),26,IF(AND(D4>=A!D173,D4<A!D174),25,IF(AND(D4>=A!D174,D4<A!D175),24,IF(AND(D4>=A!D175,D4<A!D176),23,IF(AND(D4>=A!D176,D4<A!D177),22,IF(AND(D4>=A!D177,D4<A!D178),21,IF(AND(D4>=A!D178,D4<A!D179),20,IF(AND(D4>=A!D179,D4<A!D180),19,IF(AND(D4>=A!D180,D4<A!D181),18,IF(AND(D4>=A!D181,D4<A!D182),17,IF(AND(D4>=A!D182,D4<A!D183),16,IF(AND(D4>=A!D183,D4<A!D184),15,IF(AND(D4>=A!D184,D4<A!D185),14,IF(AND(D4>=A!D185,D4<A!D186),13,IF(AND(D4>=A!D186,D4<A!D187),12,IF(AND(D4>=A!D187,D4<A!D188),11,IF(AND(D4>=A!D188,D4<A!D189),10,IF(AND(D4>=A!D189,D4<A!D190),9,IF(AND(D4>=A!D190,D4<A!D191),8,IF(AND(D4>=A!D191,D4<A!D192),7,IF(AND(D4>=A!D192,D4<A!D193),6,IF(AND(D4>=A!D193,D4<A!D194),5,IF(AND(D4>=A!D194,D4<A!D185),4,IF(AND(D4>=A!D195,D4<A!D196),3,IF(AND(D4>=A!D196,D4<A!D197),2,IF(AND(D4>=A!D197,D4<A!D198),1,0)))))))))))))))))))))))))))))))))))))))))))))))))) -> 17

Sheet Feuil3
A1: {=SOMME(SI(ESTNUM(B5:AS5);B5:AS5))} | B1: 50m | C1: Points | D1: 60m - Salle | E1: Points | F1: 80m | G1: Points | H1: 100m | I1: Points | J1: 1000m | K1: Points | L1: 2000m | M1: Points | N1: 50m haies | O1: Points | P1: 60m haies | Q1: Points | R1: 80m haies (76) | S1: Points | T1: 200m haies (76) | U1: Points | V1: Hauteur | W1: Points | X1: Perche | Y1: Points | Z1: Longueur | AA1: Points | AB1: Triple saut | AC1: Points | AD1: Poids (3kg) | AE1: Points | AF1: Disque | AG1: Points | AH1: Marteau (3 kg) | AI1: Points | AJ1: Javelot (500 g) | AK1: Points | AL1: 2000 marche | AM1: Points | AN1: 3000 marche | AO1: Points | AP1: 4 x 60m | AQ1: Points | AR1: 4 x 60m Mixte | AS1: Points
A2: ATHLÈTES | N2: (76) Salle et | P2: (76) - | AF2: (0.8 kg)
A3: =IF(AND(B4>=Feuil3!B148,B4<Feuil3!B149),50,IF(AND(B4>=Feuil3!B149,B4<Feuil3!B150),49,IF(AND(B4>=Feuil3!B150,B4<Feuil3!B151),48,IF(AND(B4>=Feuil3!B151,B4<Feuil3!B152),47,IF(AND(B4>=Feuil3!B152,B4<Feuil3!B153),46,IF(AND(B4>=Feuil3!B153,B4<Feuil3!B154),45,IF(AND(B4>=Feuil3!B154,B4<Feuil3!B155),44,IF(AND(B4>=Feuil3!B155,B4<=Feuil3!B156),43,IF(AND(B4>=Feuil3!B156,B4<Feuil3!B157),42,IF(AND(B4>=Feuil3!B157,B4<Feuil3!B158),41,IF(AND(B4>=Feuil3!B158,B4<Feuil3!B159),40,IF(AND(B4>=Feuil3!B159,B4<Feuil3!B160),39,IF(AND(B4>=Feuil3!B160,B4<Feuil3!B161),38,IF(AND(B4>=Feuil3!B161,B4<=Feuil3!B162),37,IF(AND(B4>=Feuil3!B162,B4<Feuil3!B163),36,IF(AND(B4>=Feuil3!B163,B4<Feuil3!B164),35,IF(AND(B4>=Feuil3!B164,B4<Feuil3!B165),34,IF(AND(B4>=Feuil3!B165,B4<Feuil3!B166),33,IF(AND(B4>=Feuil3!B166,B4<Feuil3!B167),32,IF(AND(B4>=Feuil3!B167,B4<Feuil3!B168),31,IF(AND(B4>=Feuil3!B168,B4<Feuil3!B169),30,IF(AND(B4>=Feuil3!B169,B4<Feuil3!B170),29,IF(AND(B4>=Feuil3!B170,B4<Feuil3!B171),28,IF(AND(B4>=Feuil3!B171,B4<Feuil3!B172),27,IF(AND(B4>=Feuil3!B172,B4<Feuil3!B173),26,IF(AND(B4>=Feuil3!B173,B4<Feuil3!B174),25,IF(AND(B4>=Feuil3!B174,B4<Feuil3!B175),24,IF(AND(B4>=Feuil3!B175,B4<Feuil3!B176),23,IF(AND(B4>=Feuil3!B176,B4<Feuil3!B177),22,IF(AND(B4>=Feuil3!B177,B4<Feuil3!B178),21,IF(AND(B4>=Feuil3!B178,B4<Feuil3!B179),20,IF(AND(B4>=Feuil3!B179,B4<Feuil3!B180),19,IF(AND(B4>=Feuil3!B180,B4<Feuil3!B181),18,IF(AND(B4>=Feuil3!B181,B4<Feuil3!B182),17,IF(AND(B4>=Feuil3!B182,B4<Feuil3!B183),16,IF(AND(B4>=Feuil3!B183,B4<Feuil3!B184),15,IF(AND(B4>=Feuil3!B184,B4<Feuil3!B185),14,IF(AND(B4>=Feuil3!B185,B4<Feuil3!B186),13,IF(AND(B4>=Feuil3!B186,B4<Feuil3!B187),12,IF(AND(B4>=Feuil3!B187,B4<Feuil3!B188),11,IF(AND(B4>=Feuil3!B188,B4<Feuil3!B189),10,IF(AND(B4>=Feuil3!B189,B4<Feuil3!B190),9,IF(AND(B4>=Feuil3!B190,B4<Feuil3!B191),8,IF(AND(B4>=Feuil3!B191,B4<Feuil3!B192),7,IF(AND(B4>=Feuil3!B192,B4<Feuil3!B193),6,IF(AND(B4>=Feuil3!B193,B4<Feuil3!B194),5,IF(AND(B4>=Feuil3!B194,B4<Feuil3!B185),4,IF(AND(B4>=Feuil3!B195,B4<Feuil3!B196),3,IF(AND(B4>=Feuil3!B196,B4<Feuil3!B197),2,IF(AND(B4>=Feuil3!B197,B4<Feuil3!B198),1,0)))))))))))))))))))))))))))))))))))))))))))))))))) -> 10 | N3: Piste | P3: Salle
A4: 1 | B4: 8.96 | C4: =INDEX(C148:C268,IFERROR(MATCH(B4,B$148:B$268,0),MATCH(B4,B$148:B$268,1))) -> 10 | D4: 9.85 | E4: =INDEX(E148:E268,IFERROR(MATCH(D4,D$148:D$268,0),MATCH(D4,D$148:D$268,1))) -> 17 | F4: 10.03 | G4: =INDEX(G148:G268,IFERROR(MATCH(F4,F$148:F$268,0),MATCH(F4,F$148:F$268,1))) -> 42 | H4: 12.81 | I4: =INDEX(I148:I268,IFERROR(MATCH(H4,H$148:H$268,0),MATCH(H4,H$148:H$268,1))) -> 40 | J4: 3.2204 | K4: =INDEX(K148:K268,IFERROR(MATCH(J4,J$148:J$268,0),MATCH(J4,J$148:J$268,1))) -> 33 | L4: 9.227 | M4: =INDEX(M148:M268,IFERROR(MATCH(L4,L$148:L$268,0),MATCH(L4,L$148:L$268,1))) -> 26 | N4: 8.22 | O4: =INDEX(O148:O268,IFERROR(MATCH(N4,N$148:N$268,0),MATCH(N4,N$148:N$268,1))) -> 39 | P4: 8.75 | Q4: =INDEX(Q148:Q268,IFERROR(MATCH(P4,P$148:P$268,0),MATCH(P4,P$148:P$268,1))) -> 50 | R4: 14.24 | S4: =INDEX(S148:S268,IFERROR(MATCH(R4,R$148:R$268,0),MATCH(R4,R$148:R$268,1))) -> 27 | T4: 39.64 | U4: =INDEX(U148:U268,IFERROR(MATCH(T4,T$148:T$268,0),MATCH(T4,T$148:T$268,1))) -> 17 | V4: 1.23 | W4: =IF(AND(V4>=A!V148,V4<A!V149),50,IF(AND(V4>=A!V149,V4<A!V150),49,IF(AND(V4>=A!V150,V4<A!V151),48,IF(AND(V4>=A!V151,V4<A!V152),47,IF(AND(V4>=A!V152,V4<A!V153),46,IF(AND(V4>=A!V153,V4<A!V154),45,IF(AND(V4>=A!V154,V4<A!V155),44,IF(AND(V4>=A!V155,V4<=A!V156),43,IF(AND(V4>=A!V156,V4<A!V157),42,IF(AND(V4>=A!V157,V4<A!V158),41,IF(AND(V4>=A!V158,V4<A!V159),40,IF(AND(V4>=A!V159,V4<A!V160),39,IF(AND(V4>=A!V160,V4<A!V161),38,IF(AND(V4>=A!V161,V4<=A!V162),37,IF(AND(V4>=A!V162,V4<A!V163),36,IF(AND(V4>=A!V163,V4<A!V164),35,IF(AND(V4>=A!V164,V4<A!V165),34,IF(AND(V4>=A!V165,V4<A!V166),33,IF(AND(V4>=A!V166,V4<A!V167),32,IF(AND(V4>=A!V167,V4<A!V168),31,IF(AND(V4>=A!V168,V4<A!V169),30,IF(AND(V4>=A!V169,V4<A!V170),29,IF(AND(V4>=A!V170,V4<A!V171),28,IF(AND(V4>=A!V171,V4<A!V172),27,IF(AND(V4>=A!V172,V4<A!V173),26,IF(AND(V4>=A!V173,V4<A!V174),25,IF(AND(V4>=A!V174,V4<A!V175),24,IF(AND(V4>=A!V175,V4<A!V176),23,IF(AND(V4>=A!V176,V4<A!V177),22,IF(AND(V4>=A!V177,V4<A!V178),21,IF(AND(V4>=A!V178,V4<A!V179),20,IF(AND(V4>=A!V179,V4<A!V180),19,IF(AND(V4>=A!V180,V4<A!V181),18,IF(AND(V4>=A!V181,V4<A!V182),17,IF(AND(V4>=A!V182,V4<A!V183),16,IF(AND(V4>=A!V183,V4<A!V184),15,IF(AND(V4>=A!V184,V4<A!V185),14,IF(AND(V4>=A!V185,V4<A!V186),13,IF(AND(V4>=A!V186,V4<A!V187),12,IF(AND(V4>=A!V187,V4<A!V188),11,IF(AND(V4>=A!V188,V4<A!V189),10,IF(AND(V4>=A!V189,V4<A!V190),9,IF(AND(V4>=A!V190,V4<A!V191),8,IF(AND(V4>=A!V191,V4<A!V192),7,IF(AND(V4>=A!V192,V4<A!V193),6,IF(AND(V4>=A!V193,V4<A!V194),5,IF(AND(V4>=A!V194,V4<A!V185),4,IF(AND(V4>=A!V195,V4<A!V196),3,IF(AND(V4>=A!V196,V4<A!V197),2,IF(AND(V4>=A!V197,V4<A!V198),1,0)))))))))))))))))))))))))))))))))))))))))))))))))) -> 0 | X4: 3.9 | Y4: =INDEX(Y148:Y268,IFERROR(MATCH(X4,X$148:X$268,0),MATCH(X4,X$148:X$268,1))) -> 50 | Z4: 5.42 | AA4: =INDEX(AA148:AA268,IFERROR(MATCH(Z4,Z$148:Z$268,0),MATCH(Z4,Z$148:Z$268,1))) -> 15 | AB4: 11.87 | AC4: =INDEX(AC148:AC268,IFERROR(MATCH(AB4,AB$148:AB$268,0),MATCH(AB4,AB$148:AB$268,1))) -> 44 | AD4: 15.24 | AE4: =INDEX(AE148:AE268,IFERROR(MATCH(AD4,AD$148:AD$268,0),MATCH(AD4,AD$148:AD$268,1))) -> 50 | AF4: 21.27 | AG4: =INDEX(AG148:AG268,IFERROR(MATCH(AF4,AF$148:AF$268,0),MATCH(AF4,AF$148:AF$268,1))) -> 15 | AH4: 62.64 | AI4: =INDEX(AI148:AI268,IFERROR(MATCH(AH4,AH$148:AH$268,0),MATCH(AH4,AH$148:AH$268,1))) -> 50 | AJ4: 26.39 | AK4: =INDEX(AK148:AK268,IFERROR(MATCH(AJ4,AJ$148:AJ$268,0),MATCH(AJ4,AJ$148:AJ$268,1))) -> 32 | AL4: 10.3108 | AM4: =INDEX(AM148:AM268,IFERROR(MATCH(AL4,AL$148:AL$268,0),MATCH(AL4,AL$148:AL$268,1))) -> 44 | AN4: 19.0952 | AO4: =INDEX(AO148:AO268,IFERROR(MATCH(AN4,AN$148:AN$268,0),MATCH(AN4,AN$148:AN$268,1))) -> 34 | AP4: 30.92 | AQ4: =INDEX(AQ148:AQ268,IFERROR(MATCH(AP4,AP$148:AP$268,0),MATCH(AP4,AP$148:AP$268,1))) -> 41 | AR4: 29.47 | AS4: =INDEX(AS148:AS268,IFERROR(MATCH(AR4,AR$148:AR$268,0),MATCH(AR4,AR$148:AR$268,1))) -> 40
A5: 2
A6: 3
A7: 4
A8: 5
A9: 6
A10: 7
A11: 8
A12: 9
A13: 10
A14: 11
A15: 12
A16: 13
... A53: 50
