Workbook

Sheet Feuil1
B2: Grue 1 | E2: Grue 2 | H2: Grue 3
B3: 30 | C3: 40 | D3: 50 | E3: 30 | F3: 40 | G3: 50 | H3: 30 | I3: 40 | J3: 50
A4: 12 | B4: 10000 | C4: 10000 | D4: 12000 | E4: 12000 | F4: 12000 | G4: 12000 | H4: 10000 | I4: 11000 | J4: 12000
A5: 12.5 | B5: 10000 | C5: 10000 | D5: 12000 | E5: 12000 | F5: 15000 | G5: 12000 | H5: 10000 | I5: 11500 | J5: 12000
A6: 13 | B6: 10000 | C6: 10000 | D6: 12000 | E6: 12000 | F6: 18000 | G6: 12000 | H6: 10000 | I6: 12000 | J6: 12000
A7: 13.5 | B7: 10000 | C7: 10000 | D7: 12000 | E7: 15000 | F7: 21000 | G7: 12000 | H7: 10000 | I7: 12500 | J7: 12000
A8: 14 | B8: 10000 | C8: 10000 | D8: 12000 | E8: 16000 | F8: 24000 | G8: 12000 | H8: 10000 | I8: 13000 | J8: 12000
A9: 14.5 | B9: 10000 | C9: 22000 | D9: 12000 | E9: 17000 | F9: 27000 | G9: 12000 | H9: 13000 | I9: 13500 | J9: 12000
A10: 15 | B10: 16000 | C10: 24000 | D10: 12000 | E10: 18000 | F10: 30000 | G10: 12000 | H10: 16000 | I10: 14000 | J10: 14000
A11: 15.5 | B11: 17000 | C11: 26000 | D11: 12000 | E11: 19000 | F11: 33000 | G11: 12000 | H11: 19000 | I11: 14500 | J11: 16000
A12: 16 | B12: 18000 | C12: 28000 | D12: 12000 | E12: 20000 | F12: 36000 | G12: 12000 | H12: 22000 | I12: 15000 | J12: 18000
A13: 16.5 | B13: 19000 | C13: 30000 | D13: 28000 | E13: 21000 | F13: 39000 | G13: 16500 | H13: 25000 | I13: 15500 | J13: 20000
A14: 17 | B14: 20000 | C14: 32000 | D14: 30000 | E14: 22000 | F14: 42000 | G14: 17000 | H14: 28000 | I14: 16000 | J14: 22000
A15: 17.5 | B15: 21000 | C15: 34000 | D15: 32000 | E15: 23000 | F15: 45000 | G15: 17500 | H15: 31000 | I15: 16500 | J15: 24000
... A40: 30 | B40: 46000 | C40: 84000 | D40: 82000 | E40: 48000 | F40: 120000 | G40: 30000 | H40: 106000 | I40: 29000 | J40: 74000
A41: 30.5 | C41: 86000 | D41: 84000 | F41: 123000 | G41: 30500 | H41: 109000 | I41: 29500 | J41: 76000
A42: 31 | C42: 88000 | D42: 86000 | F42: 126000 | G42: 31000 | H42: 112000 | I42: 30000 | J42: 78000
A43: 31.5 | C43: 90000 | D43: 88000 | F43: 129000 | G43: 31500 | H43: 115000 | I43: 30500 | J43: 80000
A44: 32 | C44: 92000 | D44: 90000 | F44: 132000 | G44: 32000 | H44: 118000 | I44: 31000 | J44: 82000
A45: 32.5 | C45: 94000 | D45: 92000 | F45: 135000 | G45: 32500 | H45: 121000 | I45: 31500 | J45: 84000
A46: 33 | C46: 96000 | D46: 94000 | F46: 138000 | G46: 33000 | H46: 124000 | I46: 32000 | J46: 86000
A47: 33.5 | C47: 98000 | D47: 96000 | F47: 141000 | G47: 33500 | H47: 127000 | I47: 32500 | J47: 88000

Sheet Feuil2
B3: Hauteur | C3: Type de grue | D3: Prix
B4: 30 | C4: Grue 1 | D4: =OFFSET(Feuil1!$A$3,MATCH($B$6,Feuil1!$A$4:$A$47,0),MATCH($B$4,Feuil1!$B$3:$D$3,0)) -> 30000
B5: Charge | C5: Grue 2 | D5: =OFFSET(Feuil1!$A$3,MATCH($B$6,Feuil1!$A$4:$A$47,0),MATCH($B$4,Feuil1!$E$3:$G$3,0)+3) -> 32000
B6: 22 | C6: Grue 3 | D6: =OFFSET(Feuil1!$A$3,MATCH($B$6,Feuil1!$A$4:$A$47,0),MATCH($B$4,Feuil1!$H$3:$J$3,0)+6) -> 58000
B7: Prix | C7: 33000
B9: Choix 1 | C9: {=IF(ISERROR(SMALL(IF($D$4:$D$6<=$C$7,$D$4:$D$6),MOD(ROW()-8,10))),"",INDEX($C$4:$C$6,MATCH(SMALL(IF($D$4:$D$6<=$C$7,$D$4:$D$6),MOD(ROW()-8,10)),$D$4:$D$6,0)))} -> Grue 1
B10: Choix 2 | C10: {=IF(ISERROR(SMALL(IF($D$4:$D$6<=$C$7,$D$4:$D$6),MOD(ROW()-8,10))),"",INDEX($C$4:$C$6,MATCH(SMALL(IF($D$4:$D$6<=$C$7,$D$4:$D$6),MOD(ROW()-8,10)),$D$4:$D$6,0)))} -> Grue 2
B11: Choix 3 | C11: {=IF(ISERROR(SMALL(IF($D$4:$D$6<=$C$7,$D$4:$D$6),MOD(ROW()-8,10))),"",INDEX($C$4:$C$6,MATCH(SMALL(IF($D$4:$D$6<=$C$7,$D$4:$D$6),MOD(ROW()-8,10)),$D$4:$D$6,0)))}
B13: Hauteur | C13: Type de grue | D13: Prix
B14: =B4 -> 30 | C14: Grue 1 | D14: =OFFSET(Feuil1!$A$3,MATCH($B$16,Feuil1!$A$4:$A$47,0),MATCH($B$14,Feuil1!$B$3:$D$3,0)) -> 32000
B15: Charge | C15: Grue 2 | D15: =OFFSET(Feuil1!$A$3,MATCH($B$16,Feuil1!$A$4:$A$47,0),MATCH($B$14,Feuil1!$E$3:$G$3,0)+3) -> 34000
B16: 23 | C16: Grue 3 | D16: =OFFSET(Feuil1!$A$3,MATCH($B$16,Feuil1!$A$4:$A$47,0),MATCH($B$14,Feuil1!$H$3:$J$3,0)+6) -> 64000
B17: Prix
B19: Choix 1 | C19: {=IF(ISERROR(SMALL(IF($D$14:$D$16<=$C$7,$D$14:$D$16),MOD(ROW()-8,10))),"",INDEX($C$14:$C$16,MATCH(SMALL(IF($D$14:$D$16<=$C$7,$D$14:$D$16),MOD(ROW()-8,10)),$D$14:$D$16,0)))} -> Grue 1
B20: Choix 2 | C20: {=IF(ISERROR(SMALL(IF($D$14:$D$16<=$C$7,$D$14:$D$16),MOD(ROW()-8,10))),"",INDEX($C$14:$C$16,MATCH(SMALL(IF($D$14:$D$16<=$C$7,$D$14:$D$16),MOD(ROW()-8,10)),$D$14:$D$16,0)))}
B21: Choix 3 | C21: {=IF(ISERROR(SMALL(IF($D$14:$D$16<=$C$7,$D$14:$D$16),MOD(ROW()-8,10))),"",INDEX($C$14:$C$16,MATCH(SMALL(IF($D$14:$D$16<=$C$7,$D$14:$D$16),MOD(ROW()-8,10)),$D$14:$D$16,0)))}
B23: Hauteur | C23: Type de grue | D23: Prix
B24: =B4 -> 30 | C24: Grue 1 | D24: =OFFSET(Feuil1!$A$3,MATCH($B$26,Feuil1!$A$4:$A$47,0),MATCH($B$24,Feuil1!$B$3:$D$3,0)) -> 34000
B25: Charge | C25: Grue 2 | D25: =OFFSET(Feuil1!$A$3,MATCH($B$26,Feuil1!$A$4:$A$47,0),MATCH($B$24,Feuil1!$E$3:$G$3,0)+3) -> 36000
B26: 24 | C26: Grue 3 | D26: =OFFSET(Feuil1!$A$3,MATCH($B$26,Feuil1!$A$4:$A$47,0),MATCH($B$24,Feuil1!$H$3:$J$3,0)+6) -> 70000
B27: Prix
B29: Choix 1 | C29: {=IF(ISERROR(SMALL(IF($D$24:$D$26<=$C$7,$D$24:$D$26),MOD(ROW()-8,10))),"",INDEX($C$24:$C$26,MATCH(SMALL(IF($D$24:$D$26<=$C$7,$D$24:$D$26),MOD(ROW()-8,10)),$D$24:$D$26,0)))}
B30: Choix 2 | C30: {=IF(ISERROR(SMALL(IF($D$24:$D$26<=$C$7,$D$24:$D$26),MOD(ROW()-8,10))),"",INDEX($C$24:$C$26,MATCH(SMALL(IF($D$24:$D$26<=$C$7,$D$24:$D$26),MOD(ROW()-8,10)),$D$24:$D$26,0)))}
B31: Choix 3 | C31: {=IF(ISERROR(SMALL(IF($D$24:$D$26<=$C$7,$D$24:$D$26),MOD(ROW()-8,10))),"",INDEX($C$24:$C$26,MATCH(SMALL(IF($D$24:$D$26<=$C$7,$D$24:$D$26),MOD(ROW()-8,10)),$D$24:$D$26,0)))}
B34: Choix final | C34: {=INDEX($C$4:$C$31,MATCH(MAX(COUNTIF($C$4:$C$31,$C$4:$C$31<>"")),COUNTIF($C$4:$C$31,$C$4:$C$31<>""),0))} -> Grue 1

Sheet Feuil3
