Workbook

Sheet V
C1: B17 | D1: B18
A2: W&S | C2: =SUM(C3:C8) -> 287852 | D2: =+SUM(D3:D8) -> 100009
A3: 1001 | B3: Gross wages & salaries | C3: 2000 | D3: 3123
A4: 1021 | B4: Gross wages & salaries - accrued | C4: 233424 | D4: 3425
A5: 1201 | B5: Holiday pay | C5: 325 | D5: 24141
A6: 1211 | B6: Holiday pay - Accrued | C6: 3424 | D6: 9439
A7: 1301 | B7: Recovery of daily indemnities | C7: 5255 | D7: 3525
A8: 1911 | B8: Other supplementary regulated pay | C8: 43424 | D8: 56356

Sheet G
C1: B17 | D1: B18
A2: W&S | C2: =SUM(C3:C8) -> 287855 | D2: =+SUM(D3:D8) -> 100011
A3: 1001 | B3: Gross wages & salaries | C3: 2001 | D3: 3124
A4: 1021 | B4: Gross wages & salaries - accrued | C4: 233425 | D4: 3425
A5: 1201 | B5: Holiday pay | C5: 326 | D5: 24142
A6: 1211 | B6: Holiday pay - Accrued | C6: 3424 | D6: 9439
A7: 1301 | B7: Recovery of daily indemnities | C7: 5255 | D7: 3525
A8: 1911 | B8: Other supplementary regulated pay | C8: 43424 | D8: 56356

Sheet Total
C1: B17 | E1: B18 | G1: Total 18
A2: W&S | C2: V | D2: G | E2: V | F2: G | L2: =HYPERLINK("https://forum.excel-pratique.com/excel/probleme-formule-t93700.html","Politicer") -> Politicer
A3: 1001 | B3: Gross wages & salaries | C3: {=INDEX(OFFSET(INDIRECT(C$2&"!"&"C3:C8"),,MATCH(IF(MOD(COLUMN(),2)=0,B$1,C$1),INDIRECT(C$2&"!"&"C1:D1"),0)-1),MATCH(1,(INDIRECT(C$2&"!$A$3:$A$8")=Total!$A3)*(INDIRECT(C$2&"!$B$3:$B$8")=Total!$B3),0))} -> 2000 | D3: {=INDEX(OFFSET(INDIRECT(D$2&"!"&"C3:C8"),,MATCH(IF(MOD(COLUMN(),2)=0,C$1,D$1),INDIRECT(D$2&"!"&"C1:D1"),0)-1),MATCH(1,(INDIRECT(D$2&"!$A$3:$A$8")=Total!$A3)*(INDIRECT(D$2&"!$B$3:$B$8")=Total!$B3),0))} -> 2001 | E3: {=INDEX(OFFSET(INDIRECT(E$2&"!"&"C3:C8"),,MATCH(IF(MOD(COLUMN(),2)=0,D$1,E$1),INDIRECT(E$2&"!"&"C1:D1"),0)-1),MATCH(1,(INDIRECT(E$2&"!$A$3:$A$8")=Total!$A3)*(INDIRECT(E$2&"!$B$3:$B$8")=Total!$B3),0))} -> 3123 | F3: {=INDEX(OFFSET(INDIRECT(F$2&"!"&"C3:C8"),,MATCH(IF(MOD(COLUMN(),2)=0,E$1,F$1),INDIRECT(F$2&"!"&"C1:D1"),0)-1),MATCH(1,(INDIRECT(F$2&"!$A$3:$A$8")=Total!$A3)*(INDIRECT(F$2&"!$B$3:$B$8")=Total!$B3),0))} -> 3124 | G3: =+SUM(E3:F3) -> 6247
A4: 1021 | B4: Gross wages & salaries - accrued | C4: {=INDEX(OFFSET(INDIRECT(C$2&"!"&"C3:C8"),,MATCH(IF(MOD(COLUMN(),2)=0,B$1,C$1),INDIRECT(C$2&"!"&"C1:D1"),0)-1),MATCH(1,(INDIRECT(C$2&"!$A$3:$A$8")=Total!$A4)*(INDIRECT(C$2&"!$B$3:$B$8")=Total!$B4),0))} -> 233424 | D4: {=INDEX(OFFSET(INDIRECT(D$2&"!"&"C3:C8"),,MATCH(IF(MOD(COLUMN(),2)=0,C$1,D$1),INDIRECT(D$2&"!"&"C1:D1"),0)-1),MATCH(1,(INDIRECT(D$2&"!$A$3:$A$8")=Total!$A4)*(INDIRECT(D$2&"!$B$3:$B$8")=Total!$B4),0))} -> 233425 | E4: {=INDEX(OFFSET(INDIRECT(E$2&"!"&"C3:C8"),,MATCH(IF(MOD(COLUMN(),2)=0,D$1,E$1),INDIRECT(E$2&"!"&"C1:D1"),0)-1),MATCH(1,(INDIRECT(E$2&"!$A$3:$A$8")=Total!$A4)*(INDIRECT(E$2&"!$B$3:$B$8")=Total!$B4),0))} -> 3425 | F4: {=INDEX(OFFSET(INDIRECT(F$2&"!"&"C3:C8"),,MATCH(IF(MOD(COLUMN(),2)=0,E$1,F$1),INDIRECT(F$2&"!"&"C1:D1"),0)-1),MATCH(1,(INDIRECT(F$2&"!$A$3:$A$8")=Total!$A4)*(INDIRECT(F$2&"!$B$3:$B$8")=Total!$B4),0))} -> 3425 | G4: =+SUM(E4:F4) -> 6850
A5: 1201 | B5: Holiday pay | C5: {=INDEX(OFFSET(INDIRECT(C$2&"!"&"C3:C8"),,MATCH(IF(MOD(COLUMN(),2)=0,B$1,C$1),INDIRECT(C$2&"!"&"C1:D1"),0)-1),MATCH(1,(INDIRECT(C$2&"!$A$3:$A$8")=Total!$A5)*(INDIRECT(C$2&"!$B$3:$B$8")=Total!$B5),0))} -> 325 | D5: {=INDEX(OFFSET(INDIRECT(D$2&"!"&"C3:C8"),,MATCH(IF(MOD(COLUMN(),2)=0,C$1,D$1),INDIRECT(D$2&"!"&"C1:D1"),0)-1),MATCH(1,(INDIRECT(D$2&"!$A$3:$A$8")=Total!$A5)*(INDIRECT(D$2&"!$B$3:$B$8")=Total!$B5),0))} -> 326 | E5: {=INDEX(OFFSET(INDIRECT(E$2&"!"&"C3:C8"),,MATCH(IF(MOD(COLUMN(),2)=0,D$1,E$1),INDIRECT(E$2&"!"&"C1:D1"),0)-1),MATCH(1,(INDIRECT(E$2&"!$A$3:$A$8")=Total!$A5)*(INDIRECT(E$2&"!$B$3:$B$8")=Total!$B5),0))} -> 24141 | F5: {=INDEX(OFFSET(INDIRECT(F$2&"!"&"C3:C8"),,MATCH(IF(MOD(COLUMN(),2)=0,E$1,F$1),INDIRECT(F$2&"!"&"C1:D1"),0)-1),MATCH(1,(INDIRECT(F$2&"!$A$3:$A$8")=Total!$A5)*(INDIRECT(F$2&"!$B$3:$B$8")=Total!$B5),0))} -> 24142 | G5: =+SUM(E5:F5) -> 48283
A6: 1211 | B6: Holiday pay - Accrued | C6: {=INDEX(OFFSET(INDIRECT(C$2&"!"&"C3:C8"),,MATCH(IF(MOD(COLUMN(),2)=0,B$1,C$1),INDIRECT(C$2&"!"&"C1:D1"),0)-1),MATCH(1,(INDIRECT(C$2&"!$A$3:$A$8")=Total!$A6)*(INDIRECT(C$2&"!$B$3:$B$8")=Total!$B6),0))} -> 3424 | D6: {=INDEX(OFFSET(INDIRECT(D$2&"!"&"C3:C8"),,MATCH(IF(MOD(COLUMN(),2)=0,C$1,D$1),INDIRECT(D$2&"!"&"C1:D1"),0)-1),MATCH(1,(INDIRECT(D$2&"!$A$3:$A$8")=Total!$A6)*(INDIRECT(D$2&"!$B$3:$B$8")=Total!$B6),0))} -> 3424 | E6: {=INDEX(OFFSET(INDIRECT(E$2&"!"&"C3:C8"),,MATCH(IF(MOD(COLUMN(),2)=0,D$1,E$1),INDIRECT(E$2&"!"&"C1:D1"),0)-1),MATCH(1,(INDIRECT(E$2&"!$A$3:$A$8")=Total!$A6)*(INDIRECT(E$2&"!$B$3:$B$8")=Total!$B6),0))} -> 9439 | F6: {=INDEX(OFFSET(INDIRECT(F$2&"!"&"C3:C8"),,MATCH(IF(MOD(COLUMN(),2)=0,E$1,F$1),INDIRECT(F$2&"!"&"C1:D1"),0)-1),MATCH(1,(INDIRECT(F$2&"!$A$3:$A$8")=Total!$A6)*(INDIRECT(F$2&"!$B$3:$B$8")=Total!$B6),0))} -> 9439 | G6: =+SUM(E6:F6) -> 18878
A7: 1301 | B7: Recovery of daily indemnities | C7: {=INDEX(OFFSET(INDIRECT(C$2&"!"&"C3:C8"),,MATCH(IF(MOD(COLUMN(),2)=0,B$1,C$1),INDIRECT(C$2&"!"&"C1:D1"),0)-1),MATCH(1,(INDIRECT(C$2&"!$A$3:$A$8")=Total!$A7)*(INDIRECT(C$2&"!$B$3:$B$8")=Total!$B7),0))} -> 5255 | D7: {=INDEX(OFFSET(INDIRECT(D$2&"!"&"C3:C8"),,MATCH(IF(MOD(COLUMN(),2)=0,C$1,D$1),INDIRECT(D$2&"!"&"C1:D1"),0)-1),MATCH(1,(INDIRECT(D$2&"!$A$3:$A$8")=Total!$A7)*(INDIRECT(D$2&"!$B$3:$B$8")=Total!$B7),0))} -> 5255 | E7: {=INDEX(OFFSET(INDIRECT(E$2&"!"&"C3:C8"),,MATCH(IF(MOD(COLUMN(),2)=0,D$1,E$1),INDIRECT(E$2&"!"&"C1:D1"),0)-1),MATCH(1,(INDIRECT(E$2&"!$A$3:$A$8")=Total!$A7)*(INDIRECT(E$2&"!$B$3:$B$8")=Total!$B7),0))} -> 3525 | F7: {=INDEX(OFFSET(INDIRECT(F$2&"!"&"C3:C8"),,MATCH(IF(MOD(COLUMN(),2)=0,E$1,F$1),INDIRECT(F$2&"!"&"C1:D1"),0)-1),MATCH(1,(INDIRECT(F$2&"!$A$3:$A$8")=Total!$A7)*(INDIRECT(F$2&"!$B$3:$B$8")=Total!$B7),0))} -> 3525 | G7: =+SUM(E7:F7) -> 7050
A8: 1911 | B8: Other supplementary regulated pay | C8: {=INDEX(OFFSET(INDIRECT(C$2&"!"&"C3:C8"),,MATCH(IF(MOD(COLUMN(),2)=0,B$1,C$1),INDIRECT(C$2&"!"&"C1:D1"),0)-1),MATCH(1,(INDIRECT(C$2&"!$A$3:$A$8")=Total!$A8)*(INDIRECT(C$2&"!$B$3:$B$8")=Total!$B8),0))} -> 43424 | D8: {=INDEX(OFFSET(INDIRECT(D$2&"!"&"C3:C8"),,MATCH(IF(MOD(COLUMN(),2)=0,C$1,D$1),INDIRECT(D$2&"!"&"C1:D1"),0)-1),MATCH(1,(INDIRECT(D$2&"!$A$3:$A$8")=Total!$A8)*(INDIRECT(D$2&"!$B$3:$B$8")=Total!$B8),0))} -> 43424 | E8: {=INDEX(OFFSET(INDIRECT(E$2&"!"&"C3:C8"),,MATCH(IF(MOD(COLUMN(),2)=0,D$1,E$1),INDIRECT(E$2&"!"&"C1:D1"),0)-1),MATCH(1,(INDIRECT(E$2&"!$A$3:$A$8")=Total!$A8)*(INDIRECT(E$2&"!$B$3:$B$8")=Total!$B8),0))} -> 56356 | F8: {=INDEX(OFFSET(INDIRECT(F$2&"!"&"C3:C8"),,MATCH(IF(MOD(COLUMN(),2)=0,E$1,F$1),INDIRECT(F$2&"!"&"C1:D1"),0)-1),MATCH(1,(INDIRECT(F$2&"!$A$3:$A$8")=Total!$A8)*(INDIRECT(F$2&"!$B$3:$B$8")=Total!$B8),0))} -> 56356 | G8: =+SUM(E8:F8) -> 112712
