Workbook
Name Code: OFFSET(Fournisseurs!$B$2,,,COUNTA(Nom))
Name Code1: OFFSET(Fournisseurs!$C$2,,,COUNTA(Nom))
Name Nom: OFFSET(Fournisseurs!$A$2,,,COUNTA(Fournisseurs!$A:$A)-1)

Sheet Recherche frsr
B2: Code fournisseur | D2: Abréviation | F2: Nom | H2: Devise
B4: 065004 | D4: =VLOOKUP($B$4,Fournisseurs!$A:$D,3,FALSE) -> PLA | F4: =VLOOKUP($B$4,Fournisseurs!$A:$D,2,FALSE) -> Planète tiers | H4: =VLOOKUP($B$4,Fournisseurs!$A:$D,4,FALSE) -> USD
B6: Abréviation | D6: Code fournisseur | F6: Nom | H6: Devise
B8: PLA | D8: {=IF(ROWS(7:$7)<=COUNTIF(Code1,$B$8),INDEX(Nom,SMALL(IF(Code1=$B$8,ROW(INDIRECT("1:"&ROWS(Code1)))),ROWS(7:$7))),"")} -> 011479 | F8: =IF(ISNA(VLOOKUP($D8,Fournisseurs!$A:$D,2,FALSE)),"",VLOOKUP($D8,Fournisseurs!$A:$D,2,FALSE)) -> Planète bis | H8: =IF(ISNA(VLOOKUP($D8,Fournisseurs!$A:$D,4,FALSE)),"",VLOOKUP($D8,Fournisseurs!$A:$D,4,FALSE)) -> EUR
D9: {=IF(ROWS($7:8)<=COUNTIF(Code1,$B$8),INDEX(Nom,SMALL(IF(Code1=$B$8,ROW(INDIRECT("1:"&ROWS(Code1)))),ROWS($7:8))),"")} -> 065004 | F9: =IF(ISNA(VLOOKUP($D9,Fournisseurs!$A:$D,2,FALSE)),"",VLOOKUP($D9,Fournisseurs!$A:$D,2,FALSE)) -> Planète tiers | H9: =IF(ISNA(VLOOKUP($D9,Fournisseurs!$A:$D,4,FALSE)),"",VLOOKUP($D9,Fournisseurs!$A:$D,4,FALSE)) -> USD
D10: {=IF(ROWS($7:9)<=COUNTIF(Code1,$B$8),INDEX(Nom,SMALL(IF(Code1=$B$8,ROW(INDIRECT("1:"&ROWS(Code1)))),ROWS($7:9))),"")} | F10: =IF(ISNA(VLOOKUP($D10,Fournisseurs!$A:$D,2,FALSE)),"",VLOOKUP($D10,Fournisseurs!$A:$D,2,FALSE)) | H10: =IF(ISNA(VLOOKUP($D10,Fournisseurs!$A:$D,4,FALSE)),"",VLOOKUP($D10,Fournisseurs!$A:$D,4,FALSE))
D11: {=IF(ROWS($7:10)<=COUNTIF(Code1,$B$8),INDEX(Nom,SMALL(IF(Code1=$B$8,ROW(INDIRECT("1:"&ROWS(Code1)))),ROWS($7:10))),"")} | F11: =IF(ISNA(VLOOKUP($D11,Fournisseurs!$A:$D,2,FALSE)),"",VLOOKUP($D11,Fournisseurs!$A:$D,2,FALSE)) | H11: =IF(ISNA(VLOOKUP($D11,Fournisseurs!$A:$D,4,FALSE)),"",VLOOKUP($D11,Fournisseurs!$A:$D,4,FALSE))
D12: {=IF(ROWS($7:11)<=COUNTIF(Code1,$B$8),INDEX(Nom,SMALL(IF(Code1=$B$8,ROW(INDIRECT("1:"&ROWS(Code1)))),ROWS($7:11))),"")} | F12: =IF(ISNA(VLOOKUP($D12,Fournisseurs!$A:$D,2,FALSE)),"",VLOOKUP($D12,Fournisseurs!$A:$D,2,FALSE)) | H12: =IF(ISNA(VLOOKUP($D12,Fournisseurs!$A:$D,4,FALSE)),"",VLOOKUP($D12,Fournisseurs!$A:$D,4,FALSE))
D13: {=IF(ROWS($7:12)<=COUNTIF(Code1,$B$8),INDEX(Nom,SMALL(IF(Code1=$B$8,ROW(INDIRECT("1:"&ROWS(Code1)))),ROWS($7:12))),"")} | F13: =IF(ISNA(VLOOKUP($D13,Fournisseurs!$A:$D,2,FALSE)),"",VLOOKUP($D13,Fournisseurs!$A:$D,2,FALSE)) | H13: =IF(ISNA(VLOOKUP($D13,Fournisseurs!$A:$D,4,FALSE)),"",VLOOKUP($D13,Fournisseurs!$A:$D,4,FALSE))
B15: Nom | D15: Code fournisseur | F15: Nom | H15: Devise | J15: Abréviation
B17: Planète | C17: =IF(D17="","",ROW(INDEX(OFFSET(Nom,C16,),MATCH("*"&$B$17&"*",OFFSET(Code,C16,),0)))-1) -> 1 | D17: =IF(ISERROR(MATCH("*"&$B$17&"*",OFFSET(Code,C16,),0)),"",INDEX(OFFSET(Nom,C16,),MATCH("*"&$B$17&"*",OFFSET(Code,C16,),0))) -> 011479 | F17: =IF(ISNA(VLOOKUP($D17,Fournisseurs!$A:$D,2,FALSE)),"",VLOOKUP($D17,Fournisseurs!$A:$D,2,FALSE)) -> Planète bis | H17: =IF(ISNA(VLOOKUP($D17,Fournisseurs!$A:$D,4,FALSE)),"",VLOOKUP($D17,Fournisseurs!$A:$D,4,FALSE)) -> EUR | J17: =IF(ISNA(VLOOKUP($D17,Fournisseurs!$A:$D,3,FALSE)),"",VLOOKUP($D17,Fournisseurs!$A:$D,3,FALSE)) -> PLA
C18: =IF(D18="","",ROW(INDEX(OFFSET(Nom,C17,),MATCH("*"&$B$17&"*",OFFSET(Code,C17,),0)))-1) -> 2 | D18: =IF(ISERROR(MATCH("*"&$B$17&"*",OFFSET(Code,C17,),0)),"",INDEX(OFFSET(Nom,C17,),MATCH("*"&$B$17&"*",OFFSET(Code,C17,),0))) -> 065004 | F18: =IF(ISNA(VLOOKUP($D18,Fournisseurs!$A:$D,2,FALSE)),"",VLOOKUP($D18,Fournisseurs!$A:$D,2,FALSE)) -> Planète tiers | H18: =IF(ISNA(VLOOKUP($D18,Fournisseurs!$A:$D,4,FALSE)),"",VLOOKUP($D18,Fournisseurs!$A:$D,4,FALSE)) -> USD | J18: =IF(ISNA(VLOOKUP($D18,Fournisseurs!$A:$D,3,FALSE)),"",VLOOKUP($D18,Fournisseurs!$A:$D,3,FALSE)) -> PLA
C19: =IF(D19="","",ROW(INDEX(OFFSET(Nom,C18,),MATCH("*"&$B$17&"*",OFFSET(Code,C18,),0)))-1) | D19: =IF(ISERROR(MATCH("*"&$B$17&"*",OFFSET(Code,C18,),0)),"",INDEX(OFFSET(Nom,C18,),MATCH("*"&$B$17&"*",OFFSET(Code,C18,),0))) | F19: =IF(ISNA(VLOOKUP($D19,Fournisseurs!$A:$D,2,FALSE)),"",VLOOKUP($D19,Fournisseurs!$A:$D,2,FALSE)) | H19: =IF(ISNA(VLOOKUP($D19,Fournisseurs!$A:$D,4,FALSE)),"",VLOOKUP($D19,Fournisseurs!$A:$D,4,FALSE)) | J19: =IF(ISNA(VLOOKUP($D19,Fournisseurs!$A:$D,3,FALSE)),"",VLOOKUP($D19,Fournisseurs!$A:$D,3,FALSE))
C20: =IF(D20="","",ROW(INDEX(OFFSET(Nom,C19,),MATCH("*"&$B$17&"*",OFFSET(Code,C19,),0)))-1) | D20: =IF(ISERROR(MATCH("*"&$B$17&"*",OFFSET(Code,C19,),0)),"",INDEX(OFFSET(Nom,C19,),MATCH("*"&$B$17&"*",OFFSET(Code,C19,),0))) | F20: =IF(ISNA(VLOOKUP($D20,Fournisseurs!$A:$D,2,FALSE)),"",VLOOKUP($D20,Fournisseurs!$A:$D,2,FALSE)) | H20: =IF(ISNA(VLOOKUP($D20,Fournisseurs!$A:$D,4,FALSE)),"",VLOOKUP($D20,Fournisseurs!$A:$D,4,FALSE)) | J20: =IF(ISNA(VLOOKUP($D20,Fournisseurs!$A:$D,3,FALSE)),"",VLOOKUP($D20,Fournisseurs!$A:$D,3,FALSE))
C21: =IF(D21="","",ROW(INDEX(OFFSET(Nom,C20,),MATCH("*"&$B$17&"*",OFFSET(Code,C20,),0)))-1) | D21: =IF(ISERROR(MATCH("*"&$B$17&"*",OFFSET(Code,C20,),0)),"",INDEX(OFFSET(Nom,C20,),MATCH("*"&$B$17&"*",OFFSET(Code,C20,),0))) | F21: =IF(ISNA(VLOOKUP($D21,Fournisseurs!$A:$D,2,FALSE)),"",VLOOKUP($D21,Fournisseurs!$A:$D,2,FALSE)) | H21: =IF(ISNA(VLOOKUP($D21,Fournisseurs!$A:$D,4,FALSE)),"",VLOOKUP($D21,Fournisseurs!$A:$D,4,FALSE)) | J21: =IF(ISNA(VLOOKUP($D21,Fournisseurs!$A:$D,3,FALSE)),"",VLOOKUP($D21,Fournisseurs!$A:$D,3,FALSE))
C22: =IF(D22="","",ROW(INDEX(OFFSET(Nom,C21,),MATCH("*"&$B$17&"*",OFFSET(Code,C21,),0)))-1) | D22: =IF(ISERROR(MATCH("*"&$B$17&"*",OFFSET(Code,C21,),0)),"",INDEX(OFFSET(Nom,C21,),MATCH("*"&$B$17&"*",OFFSET(Code,C21,),0))) | F22: =IF(ISNA(VLOOKUP($D22,Fournisseurs!$A:$D,2,FALSE)),"",VLOOKUP($D22,Fournisseurs!$A:$D,2,FALSE)) | H22: =IF(ISNA(VLOOKUP($D22,Fournisseurs!$A:$D,4,FALSE)),"",VLOOKUP($D22,Fournisseurs!$A:$D,4,FALSE)) | J22: =IF(ISNA(VLOOKUP($D22,Fournisseurs!$A:$D,3,FALSE)),"",VLOOKUP($D22,Fournisseurs!$A:$D,3,FALSE))

Sheet Fournisseurs
A1: Code frsr | B1: Fournisseur | C1: Abr. | D1: Devise | E1: =+A1 -> Code frsr | F1: =+B1 -> Fournisseur
A2: 011479 | B2: Planète bis | C2: PLA | D2: EUR | E2: =+A2 -> 011479 | F2: =+B2 -> Planète bis
A3: 065004 | B3: Planète tiers | C3: PLA | D3: USD | E3: =+A3 -> 065004 | F3: =+B3 -> Planète tiers
A4: 069429 | B4: Machin | C4: MAC | D4: EUR | E4: =+A4 -> 069429 | F4: =+B4 -> Machin
A5: 069505 | B5: Truc | C5: TRC | D5: EUR | E5: =+A5 -> 069505 | F5: =+B5 -> Truc
A6: 069511 | B6: Test | C6: TES | D6: EUR | E6: =+A6 -> 069511 | F6: =+B6 -> Test
A7: 065035 | B7: Truc SAS | C7: TRC | D7: USD | E7: =+A7 -> 065035 | F7: =+B7 -> Truc SAS
A8: 069501 | B8: Truc SARL | C8: TRC | D8: AUD | E8: =+A8 -> 069501 | F8: =+B8 -> Truc SARL
A9: 065093 | B9: Machin devise | C9: MAC | D9: USD | E9: =+A9 -> 065093 | F9: =+B9 -> Machin devise
