Workbook

Sheet formule
D1: 40149 | F1: =MAX($D$1:E1)+1 -> 40150 | H1: =MAX($D$1:G1)+1 -> 40151 | J1: =MAX($D$1:I1)+1 -> 40152 | L1: =MAX($D$1:K1)+1 -> 40153 | N1: =MAX($D$1:M1)+1 -> 40154
D2: =D1 -> 40149 | F2: =F1 -> 40150 | H2: =H1 -> 40151 | J2: =J1 -> 40152 | L2: =L1 -> 40153 | N2: =N1 -> 40154
C3: KIT | D3: AM | E3: PM | F3: AM | G3: PM | H3: AM | I3: PM | J3: AM | K3: PM
A5: 0 | B5: 0 | C5: RBK S/C | D5: =IF(OFFSET('planninge est'!$C5,,MATCH(MAX($D$1:D$1),'planninge est'!$D$1:$M$1,0)+MOD(COLUMN(),2))=0,"",$C5) -> RBK S/C | E5: =IF(OFFSET('planninge est'!$C5,,MATCH(MAX($D$1:E$1),'planninge est'!$D$1:$M$1,0)+MOD(COLUMN(),2))=0,"",$C5) | F5: =IF(OFFSET('planninge est'!$C5,,MATCH(MAX($D$1:F$1),'planninge est'!$D$1:$M$1,0)+MOD(COLUMN(),2))=0,"",$C5) | G5: =IF(OFFSET('planninge est'!$C5,,MATCH(MAX($D$1:G$1),'planninge est'!$D$1:$M$1,0)+MOD(COLUMN(),2))=0,"",$C5) -> RBK S/C | H5: =IF(OFFSET('planninge est'!$C5,,MATCH(MAX($D$1:H$1),'planninge est'!$D$1:$M$1,0)+MOD(COLUMN(),2))=0,"",$C5) | I5: =IF(OFFSET('planninge est'!$C5,,MATCH(MAX($D$1:I$1),'planninge est'!$D$1:$M$1,0)+MOD(COLUMN(),2))=0,"",$C5) | J5: =IF(OFFSET('planninge est'!$C5,,MATCH(MAX($D$1:J$1),'planninge est'!$D$1:$M$1,0)+MOD(COLUMN(),2))=0,"",$C5) | K5: =IF(OFFSET('planninge est'!$C5,,MATCH(MAX($D$1:K$1),'planninge est'!$D$1:$M$1,0)+MOD(COLUMN(),2))=0,"",$C5)
A6: 0 | B6: 0 | C6: RBK S/C | D6: =IF(OFFSET('planninge est'!$C6,,MATCH(MAX($D$1:D$1),'planninge est'!$D$1:$M$1,0)+MOD(COLUMN(),2))=0,"",$C6) | E6: =IF(OFFSET('planninge est'!$C6,,MATCH(MAX($D$1:E$1),'planninge est'!$D$1:$M$1,0)+MOD(COLUMN(),2))=0,"",$C6) | F6: =IF(OFFSET('planninge est'!$C6,,MATCH(MAX($D$1:F$1),'planninge est'!$D$1:$M$1,0)+MOD(COLUMN(),2))=0,"",$C6) | G6: =IF(OFFSET('planninge est'!$C6,,MATCH(MAX($D$1:G$1),'planninge est'!$D$1:$M$1,0)+MOD(COLUMN(),2))=0,"",$C6) | H6: =IF(OFFSET('planninge est'!$C6,,MATCH(MAX($D$1:H$1),'planninge est'!$D$1:$M$1,0)+MOD(COLUMN(),2))=0,"",$C6) | I6: =IF(OFFSET('planninge est'!$C6,,MATCH(MAX($D$1:I$1),'planninge est'!$D$1:$M$1,0)+MOD(COLUMN(),2))=0,"",$C6) | J6: =IF(OFFSET('planninge est'!$C6,,MATCH(MAX($D$1:J$1),'planninge est'!$D$1:$M$1,0)+MOD(COLUMN(),2))=0,"",$C6) | K6: =IF(OFFSET('planninge est'!$C6,,MATCH(MAX($D$1:K$1),'planninge est'!$D$1:$M$1,0)+MOD(COLUMN(),2))=0,"",$C6)
A7: 0 | B7: 0 | C7: RBK S/C | D7: =IF(OFFSET('planninge est'!$C7,,MATCH(MAX($D$1:D$1),'planninge est'!$D$1:$M$1,0)+MOD(COLUMN(),2))=0,"",$C7) | E7: =IF(OFFSET('planninge est'!$C7,,MATCH(MAX($D$1:E$1),'planninge est'!$D$1:$M$1,0)+MOD(COLUMN(),2))=0,"",$C7) | F7: =IF(OFFSET('planninge est'!$C7,,MATCH(MAX($D$1:F$1),'planninge est'!$D$1:$M$1,0)+MOD(COLUMN(),2))=0,"",$C7) | G7: =IF(OFFSET('planninge est'!$C7,,MATCH(MAX($D$1:G$1),'planninge est'!$D$1:$M$1,0)+MOD(COLUMN(),2))=0,"",$C7) -> RBK S/C | H7: =IF(OFFSET('planninge est'!$C7,,MATCH(MAX($D$1:H$1),'planninge est'!$D$1:$M$1,0)+MOD(COLUMN(),2))=0,"",$C7) | I7: =IF(OFFSET('planninge est'!$C7,,MATCH(MAX($D$1:I$1),'planninge est'!$D$1:$M$1,0)+MOD(COLUMN(),2))=0,"",$C7) | J7: =IF(OFFSET('planninge est'!$C7,,MATCH(MAX($D$1:J$1),'planninge est'!$D$1:$M$1,0)+MOD(COLUMN(),2))=0,"",$C7) | K7: =IF(OFFSET('planninge est'!$C7,,MATCH(MAX($D$1:K$1),'planninge est'!$D$1:$M$1,0)+MOD(COLUMN(),2))=0,"",$C7)
A8: 0 | B8: 0 | C8: RBK S/C | D8: =IF(OFFSET('planninge est'!$C8,,MATCH(MAX($D$1:D$1),'planninge est'!$D$1:$M$1,0)+MOD(COLUMN(),2))=0,"",$C8) | E8: =IF(OFFSET('planninge est'!$C8,,MATCH(MAX($D$1:E$1),'planninge est'!$D$1:$M$1,0)+MOD(COLUMN(),2))=0,"",$C8) | F8: =IF(OFFSET('planninge est'!$C8,,MATCH(MAX($D$1:F$1),'planninge est'!$D$1:$M$1,0)+MOD(COLUMN(),2))=0,"",$C8) | G8: =IF(OFFSET('planninge est'!$C8,,MATCH(MAX($D$1:G$1),'planninge est'!$D$1:$M$1,0)+MOD(COLUMN(),2))=0,"",$C8) | H8: =IF(OFFSET('planninge est'!$C8,,MATCH(MAX($D$1:H$1),'planninge est'!$D$1:$M$1,0)+MOD(COLUMN(),2))=0,"",$C8) | I8: =IF(OFFSET('planninge est'!$C8,,MATCH(MAX($D$1:I$1),'planninge est'!$D$1:$M$1,0)+MOD(COLUMN(),2))=0,"",$C8) | J8: =IF(OFFSET('planninge est'!$C8,,MATCH(MAX($D$1:J$1),'planninge est'!$D$1:$M$1,0)+MOD(COLUMN(),2))=0,"",$C8) | K8: =IF(OFFSET('planninge est'!$C8,,MATCH(MAX($D$1:K$1),'planninge est'!$D$1:$M$1,0)+MOD(COLUMN(),2))=0,"",$C8)
A9: 0 | B9: 0 | C9: RBK S/C | D9: =IF(OFFSET('planninge est'!$C9,,MATCH(MAX($D$1:D$1),'planninge est'!$D$1:$M$1,0)+MOD(COLUMN(),2))=0,"",$C9) | E9: =IF(OFFSET('planninge est'!$C9,,MATCH(MAX($D$1:E$1),'planninge est'!$D$1:$M$1,0)+MOD(COLUMN(),2))=0,"",$C9) | F9: =IF(OFFSET('planninge est'!$C9,,MATCH(MAX($D$1:F$1),'planninge est'!$D$1:$M$1,0)+MOD(COLUMN(),2))=0,"",$C9) | G9: =IF(OFFSET('planninge est'!$C9,,MATCH(MAX($D$1:G$1),'planninge est'!$D$1:$M$1,0)+MOD(COLUMN(),2))=0,"",$C9) -> RBK S/C | H9: =IF(OFFSET('planninge est'!$C9,,MATCH(MAX($D$1:H$1),'planninge est'!$D$1:$M$1,0)+MOD(COLUMN(),2))=0,"",$C9) | I9: =IF(OFFSET('planninge est'!$C9,,MATCH(MAX($D$1:I$1),'planninge est'!$D$1:$M$1,0)+MOD(COLUMN(),2))=0,"",$C9) | J9: =IF(OFFSET('planninge est'!$C9,,MATCH(MAX($D$1:J$1),'planninge est'!$D$1:$M$1,0)+MOD(COLUMN(),2))=0,"",$C9) | K9: =IF(OFFSET('planninge est'!$C9,,MATCH(MAX($D$1:K$1),'planninge est'!$D$1:$M$1,0)+MOD(COLUMN(),2))=0,"",$C9)
A10: 0 | B10: 0 | C10: RBK S/C | D10: =IF(OFFSET('planninge est'!$C10,,MATCH(MAX($D$1:D$1),'planninge est'!$D$1:$M$1,0)+MOD(COLUMN(),2))=0,"",$C10) -> RBK S/C | E10: =IF(OFFSET('planninge est'!$C10,,MATCH(MAX($D$1:E$1),'planninge est'!$D$1:$M$1,0)+MOD(COLUMN(),2))=0,"",$C10) | F10: =IF(OFFSET('planninge est'!$C10,,MATCH(MAX($D$1:F$1),'planninge est'!$D$1:$M$1,0)+MOD(COLUMN(),2))=0,"",$C10) | G10: =IF(OFFSET('planninge est'!$C10,,MATCH(MAX($D$1:G$1),'planninge est'!$D$1:$M$1,0)+MOD(COLUMN(),2))=0,"",$C10) | H10: =IF(OFFSET('planninge est'!$C10,,MATCH(MAX($D$1:H$1),'planninge est'!$D$1:$M$1,0)+MOD(COLUMN(),2))=0,"",$C10) | I10: =IF(OFFSET('planninge est'!$C10,,MATCH(MAX($D$1:I$1),'planninge est'!$D$1:$M$1,0)+MOD(COLUMN(),2))=0,"",$C10) | J10: =IF(OFFSET('planninge est'!$C10,,MATCH(MAX($D$1:J$1),'planninge est'!$D$1:$M$1,0)+MOD(COLUMN(),2))=0,"",$C10) | K10: =IF(OFFSET('planninge est'!$C10,,MATCH(MAX($D$1:K$1),'planninge est'!$D$1:$M$1,0)+MOD(COLUMN(),2))=0,"",$C10)
A11: 0 | B11: 0 | C11: RBK S/C | D11: =IF(OFFSET('planninge est'!$C11,,MATCH(MAX($D$1:D$1),'planninge est'!$D$1:$M$1,0)+MOD(COLUMN(),2))=0,"",$C11) | E11: =IF(OFFSET('planninge est'!$C11,,MATCH(MAX($D$1:E$1),'planninge est'!$D$1:$M$1,0)+MOD(COLUMN(),2))=0,"",$C11) | F11: =IF(OFFSET('planninge est'!$C11,,MATCH(MAX($D$1:F$1),'planninge est'!$D$1:$M$1,0)+MOD(COLUMN(),2))=0,"",$C11) | G11: =IF(OFFSET('planninge est'!$C11,,MATCH(MAX($D$1:G$1),'planninge est'!$D$1:$M$1,0)+MOD(COLUMN(),2))=0,"",$C11) | H11: =IF(OFFSET('planninge est'!$C11,,MATCH(MAX($D$1:H$1),'planninge est'!$D$1:$M$1,0)+MOD(COLUMN(),2))=0,"",$C11) | I11: =IF(OFFSET('planninge est'!$C11,,MATCH(MAX($D$1:I$1),'planninge est'!$D$1:$M$1,0)+MOD(COLUMN(),2))=0,"",$C11) | J11: =IF(OFFSET('planninge est'!$C11,,MATCH(MAX($D$1:J$1),'planninge est'!$D$1:$M$1,0)+MOD(COLUMN(),2))=0,"",$C11) | K11: =IF(OFFSET('planninge est'!$C11,,MATCH(MAX($D$1:K$1),'planninge est'!$D$1:$M$1,0)+MOD(COLUMN(),2))=0,"",$C11)
A12: 0 | B12: 0 | C12: RBK S/C | D12: =IF(OFFSET('planninge est'!$C12,,MATCH(MAX($D$1:D$1),'planninge est'!$D$1:$M$1,0)+MOD(COLUMN(),2))=0,"",$C12) -> RBK S/C | E12: =IF(OFFSET('planninge est'!$C12,,MATCH(MAX($D$1:E$1),'planninge est'!$D$1:$M$1,0)+MOD(COLUMN(),2))=0,"",$C12) | F12: =IF(OFFSET('planninge est'!$C12,,MATCH(MAX($D$1:F$1),'planninge est'!$D$1:$M$1,0)+MOD(COLUMN(),2))=0,"",$C12) | G12: =IF(OFFSET('planninge est'!$C12,,MATCH(MAX($D$1:G$1),'planninge est'!$D$1:$M$1,0)+MOD(COLUMN(),2))=0,"",$C12) | H12: =IF(OFFSET('planninge est'!$C12,,MATCH(MAX($D$1:H$1),'planninge est'!$D$1:$M$1,0)+MOD(COLUMN(),2))=0,"",$C12) | I12: =IF(OFFSET('planninge est'!$C12,,MATCH(MAX($D$1:I$1),'planninge est'!$D$1:$M$1,0)+MOD(COLUMN(),2))=0,"",$C12) | J12: =IF(OFFSET('planninge est'!$C12,,MATCH(MAX($D$1:J$1),'planninge est'!$D$1:$M$1,0)+MOD(COLUMN(),2))=0,"",$C12) | K12: =IF(OFFSET('planninge est'!$C12,,MATCH(MAX($D$1:K$1),'planninge est'!$D$1:$M$1,0)+MOD(COLUMN(),2))=0,"",$C12)
A13: 0 | B13: 0 | C13: RBK S/C | D13: =IF(OFFSET('planninge est'!$C13,,MATCH(MAX($D$1:D$1),'planninge est'!$D$1:$M$1,0)+MOD(COLUMN(),2))=0,"",$C13) | E13: =IF(OFFSET('planninge est'!$C13,,MATCH(MAX($D$1:E$1),'planninge est'!$D$1:$M$1,0)+MOD(COLUMN(),2))=0,"",$C13) | F13: =IF(OFFSET('planninge est'!$C13,,MATCH(MAX($D$1:F$1),'planninge est'!$D$1:$M$1,0)+MOD(COLUMN(),2))=0,"",$C13) | G13: =IF(OFFSET('planninge est'!$C13,,MATCH(MAX($D$1:G$1),'planninge est'!$D$1:$M$1,0)+MOD(COLUMN(),2))=0,"",$C13) | H13: =IF(OFFSET('planninge est'!$C13,,MATCH(MAX($D$1:H$1),'planninge est'!$D$1:$M$1,0)+MOD(COLUMN(),2))=0,"",$C13) | I13: =IF(OFFSET('planninge est'!$C13,,MATCH(MAX($D$1:I$1),'planninge est'!$D$1:$M$1,0)+MOD(COLUMN(),2))=0,"",$C13) | J13: =IF(OFFSET('planninge est'!$C13,,MATCH(MAX($D$1:J$1),'planninge est'!$D$1:$M$1,0)+MOD(COLUMN(),2))=0,"",$C13) | K13: =IF(OFFSET('planninge est'!$C13,,MATCH(MAX($D$1:K$1),'planninge est'!$D$1:$M$1,0)+MOD(COLUMN(),2))=0,"",$C13)
A14: 0 | B14: 0 | C14: RBK S/C | D14: =IF(OFFSET('planninge est'!$C14,,MATCH(MAX($D$1:D$1),'planninge est'!$D$1:$M$1,0)+MOD(COLUMN(),2))=0,"",$C14) | E14: =IF(OFFSET('planninge est'!$C14,,MATCH(MAX($D$1:E$1),'planninge est'!$D$1:$M$1,0)+MOD(COLUMN(),2))=0,"",$C14) | F14: =IF(OFFSET('planninge est'!$C14,,MATCH(MAX($D$1:F$1),'planninge est'!$D$1:$M$1,0)+MOD(COLUMN(),2))=0,"",$C14) | G14: =IF(OFFSET('planninge est'!$C14,,MATCH(MAX($D$1:G$1),'planninge est'!$D$1:$M$1,0)+MOD(COLUMN(),2))=0,"",$C14) | H14: =IF(OFFSET('planninge est'!$C14,,MATCH(MAX($D$1:H$1),'planninge est'!$D$1:$M$1,0)+MOD(COLUMN(),2))=0,"",$C14) | I14: =IF(OFFSET('planninge est'!$C14,,MATCH(MAX($D$1:I$1),'planninge est'!$D$1:$M$1,0)+MOD(COLUMN(),2))=0,"",$C14) | J14: =IF(OFFSET('planninge est'!$C14,,MATCH(MAX($D$1:J$1),'planninge est'!$D$1:$M$1,0)+MOD(COLUMN(),2))=0,"",$C14) | K14: =IF(OFFSET('planninge est'!$C14,,MATCH(MAX($D$1:K$1),'planninge est'!$D$1:$M$1,0)+MOD(COLUMN(),2))=0,"",$C14)
A15: 0 | B15: 0 | C15: RBK S/C | D15: =IF(OFFSET('planninge est'!$C15,,MATCH(MAX($D$1:D$1),'planninge est'!$D$1:$M$1,0)+MOD(COLUMN(),2))=0,"",$C15) | E15: =IF(OFFSET('planninge est'!$C15,,MATCH(MAX($D$1:E$1),'planninge est'!$D$1:$M$1,0)+MOD(COLUMN(),2))=0,"",$C15) | F15: =IF(OFFSET('planninge est'!$C15,,MATCH(MAX($D$1:F$1),'planninge est'!$D$1:$M$1,0)+MOD(COLUMN(),2))=0,"",$C15) | G15: =IF(OFFSET('planninge est'!$C15,,MATCH(MAX($D$1:G$1),'planninge est'!$D$1:$M$1,0)+MOD(COLUMN(),2))=0,"",$C15) | H15: =IF(OFFSET('planninge est'!$C15,,MATCH(MAX($D$1:H$1),'planninge est'!$D$1:$M$1,0)+MOD(COLUMN(),2))=0,"",$C15) | I15: =IF(OFFSET('planninge est'!$C15,,MATCH(MAX($D$1:I$1),'planninge est'!$D$1:$M$1,0)+MOD(COLUMN(),2))=0,"",$C15) | J15: =IF(OFFSET('planninge est'!$C15,,MATCH(MAX($D$1:J$1),'planninge est'!$D$1:$M$1,0)+MOD(COLUMN(),2))=0,"",$C15) | K15: =IF(OFFSET('planninge est'!$C15,,MATCH(MAX($D$1:K$1),'planninge est'!$D$1:$M$1,0)+MOD(COLUMN(),2))=0,"",$C15)
A16: 0 | B16: 0 | C16: RBK S/C | D16: =IF(OFFSET('planninge est'!$C16,,MATCH(MAX($D$1:D$1),'planninge est'!$D$1:$M$1,0)+MOD(COLUMN(),2))=0,"",$C16) | E16: =IF(OFFSET('planninge est'!$C16,,MATCH(MAX($D$1:E$1),'planninge est'!$D$1:$M$1,0)+MOD(COLUMN(),2))=0,"",$C16) | F16: =IF(OFFSET('planninge est'!$C16,,MATCH(MAX($D$1:F$1),'planninge est'!$D$1:$M$1,0)+MOD(COLUMN(),2))=0,"",$C16) | G16: =IF(OFFSET('planninge est'!$C16,,MATCH(MAX($D$1:G$1),'planninge est'!$D$1:$M$1,0)+MOD(COLUMN(),2))=0,"",$C16) | H16: =IF(OFFSET('planninge est'!$C16,,MATCH(MAX($D$1:H$1),'planninge est'!$D$1:$M$1,0)+MOD(COLUMN(),2))=0,"",$C16) | I16: =IF(OFFSET('planninge est'!$C16,,MATCH(MAX($D$1:I$1),'planninge est'!$D$1:$M$1,0)+MOD(COLUMN(),2))=0,"",$C16) | J16: =IF(OFFSET('planninge est'!$C16,,MATCH(MAX($D$1:J$1),'planninge est'!$D$1:$M$1,0)+MOD(COLUMN(),2))=0,"",$C16) | K16: =IF(OFFSET('planninge est'!$C16,,MATCH(MAX($D$1:K$1),'planninge est'!$D$1:$M$1,0)+MOD(COLUMN(),2))=0,"",$C16)
... A30: 0 | B30: 0 | C30: RBK S/C | D30: =IF(OFFSET('planninge est'!$C30,,MATCH(MAX($D$1:D$1),'planninge est'!$D$1:$M$1,0)+MOD(COLUMN(),2))=0,"",$C30) | E30: =IF(OFFSET('planninge est'!$C30,,MATCH(MAX($D$1:E$1),'planninge est'!$D$1:$M$1,0)+MOD(COLUMN(),2))=0,"",$C30) | F30: =IF(OFFSET('planninge est'!$C30,,MATCH(MAX($D$1:F$1),'planninge est'!$D$1:$M$1,0)+MOD(COLUMN(),2))=0,"",$C30) | G30: =IF(OFFSET('planninge est'!$C30,,MATCH(MAX($D$1:G$1),'planninge est'!$D$1:$M$1,0)+MOD(COLUMN(),2))=0,"",$C30) | H30: =IF(OFFSET('planninge est'!$C30,,MATCH(MAX($D$1:H$1),'planninge est'!$D$1:$M$1,0)+MOD(COLUMN(),2))=0,"",$C30) | I30: =IF(OFFSET('planninge est'!$C30,,MATCH(MAX($D$1:I$1),'planninge est'!$D$1:$M$1,0)+MOD(COLUMN(),2))=0,"",$C30) | J30: =IF(OFFSET('planninge est'!$C30,,MATCH(MAX($D$1:J$1),'planninge est'!$D$1:$M$1,0)+MOD(COLUMN(),2))=0,"",$C30) | K30: =IF(OFFSET('planninge est'!$C30,,MATCH(MAX($D$1:K$1),'planninge est'!$D$1:$M$1,0)+MOD(COLUMN(),2))=0,"",$C30)

Sheet planninge est
A1: NOMBRE | D1: 40148 | F1: 40149 | H1: 40150 | J1: 40151 | L1: 40152
A2: RESERVATION | D2: mardi | F2: mercredi | H2: jeudi | J2: vendredi | L2: SAMEDI
A3: 41621 | B3: N° | C3: KIT | D3: AM | E3: PM | F3: AM | G3: PM | H3: AM | I3: PM | J3: AM | K3: PM | L3: DIMANCHE
A5: 0 | B5: 1 | C5: RBK S/C | F5: x | I5: a
A6: 0 | B6: 2 | C6: RBK S/C
A7: 0 | B7: 3 | C7: RBK S/C | I7: b
A8: 0 | B8: 4 | C8: RBK S/C
A9: 0 | B9: 5 | C9: RBK S/C | I9: c
A10: 0 | B10: 6 | C10: RBK S/C | F10: CH SAVERNE
A11: 0 | B11: 7 | C11: RBK S/C
A12: 0 | B12: 8 | C12: RBK S/C | F12: CLINIQUE DE LA LOUVIERE
A13: 0 | B13: 9 | C13: RBK S/C
A14: 0 | B14: 10 | C14: RBK S/C
A15: 0 | B15: 11 | C15: RBK S/C
A16: 0 | B16: 14 | C16: RBK S/C
A17: 0 | B17: 15 | C17: RBK S/C
A18: 0 | B18: 16 | C18: RBK S/C
A19: 0 | B19: 17 | C19: RBK S/C
A20: 0 | B20: 18 | C20: RBK S/C | F20: CLINIQUE ST SAULVE
A21: 0 | B21: 19 | C21: RBK S/C
A22: 0 | B22: 20 | C22: RBK S/C
A23: 0 | B23: 21 | C23: RBK S/C
A24: 0 | B24: 22 | C24: RBK S/C
A25: 0 | B25: 23 | C25: RBK S/C
A26: 0 | B26: 24 | C26: RBK S/C | F26: CH DE THANN

Sheet Feuil3
