Workbook
Name AN: [1]Tableau!$B$5

Sheet BASE
B3: 1 | C3: 2 | D3: 3 | E3: 4 | F3: 5 | G3: 6 | H3: 7 | I3: 8 | J3: 9 | K3: 10 | L3: 11 | M3: 12 | N3: 13 | O3: 14 | P3: 15 | Q3: 16 | R3: 17 | S3: 18 | T3: 19 | U3: 20 | V3: 21 | W3: 22 | X3: 23 | Y3: 24 | Z3: 25 | AA3: 26 | AB3: 27 | AC3: 28 | AD3: 29 | AE3: 30 | AF3: 31
A4: JANVIER | D4: a | E4: a | F4: a | G4: a | H4: a | I4: a | J4: a
A5: FEVRIER
A6: MARS | G6: a | H6: a | I6: a | J6: a | K6: a | L6: a | M6: b | N6: b | O6: b | P6: b | Q6: c | R6: c | S6: c
A7: AVRIL | D7: A | E7: A | F7: B | G7: B | H7: B | Y7: A | Z7: A | AA7: A | AB7: A
A8: MAI
A9: JUIN
A10: JUILLET
A11: AOUT
A12: SEPTEMBRE
A13: OCTOBRE
A14: NOVEMBRE
A15: décembre

Sheet TABLEAU
B3: 1 | C3: 2 | D3: 3 | E3: 4 | F3: 5 | G3: 6 | H3: 7 | I3: 8 | J3: 9 | K3: 10 | L3: 11 | M3: 12 | N3: 13 | O3: 14 | P3: 15 | Q3: 16 | R3: 17 | S3: 18 | T3: 19 | U3: 20 | V3: 21 | W3: 22 | X3: 23 | Y3: 24 | Z3: 25 | AA3: 26 | AB3: 27 | AC3: 28 | AD3: 29 | AE3: 30 | AF3: 31 | AH3: DATE DEBUT | AI3: DATE FIN | AJ3: DATE DEBUT | AK3: DATE FIN
A4: JANVIER | B4: =BASE!B4 -> 0 | C4: =BASE!C4 -> 0 | D4: =BASE!D4 -> a | E4: =BASE!E4 -> a | F4: =BASE!F4 -> a | G4: =BASE!G4 -> a | H4: =BASE!H4 -> a | I4: =BASE!I4 -> a | ... AF4: =BASE!AF4 -> 0 | AG4: =IF(SUM(AH4:AK4)=0,"",IF(COUNTIF(AH4:AK4,">0")=2,"Du "&AH4&" au "&AI4&CHAR(32)&A4,"Du "&AH4&" au "&AI4&CHAR(32)&"et du "&AJ4&" au "&AK4&CHAR(32)&A4)) -> Du 3 au 9 JANVIER | AH4: {=MIN(IF($B4:$AF4<>0,COLUMN($B4:$AF4)-1))} -> 3 | AI4: {=MIN(IF(OFFSET($B4:$AF4,,AH4,1,31-AH4)=0,COLUMN(OFFSET($B4:$AF4,,AH4,1,31-AH4))-2))} -> 9 | AJ4: {=MIN(IF(OFFSET($B4:$AF4,,AI4,1,31-(AI4))<>0,COLUMN(OFFSET($B4:$AF4,,AI4,1,31-(AI4)))-1))} -> 0 | AK4: {=IF(AJ4=0,0,MAX(IF(OFFSET($B4:$AF4,,AJ4-1,1,31-(AJ4-1))<>0,COLUMN(OFFSET($B4:$AF4,,AJ4-1,1,31-(AJ4-1))))-1))} -> 0
A5: FEVRIER | B5: =BASE!B5 -> 0 | C5: =BASE!C5 -> 0 | D5: =BASE!D5 -> 0 | E5: =BASE!E5 -> 0 | F5: =BASE!F5 -> 0 | G5: =BASE!G5 -> 0 | H5: =BASE!H5 -> 0 | I5: =BASE!I5 -> 0 | ... AF5: =BASE!AF5 -> 0 | AG5: =IF(SUM(AH5:AK5)=0,"",IF(COUNTIF(AH5:AK5,">0")=2,"Du "&AH5&" au "&AI5&CHAR(32)&A5,"Du "&AH5&" au "&AI5&CHAR(32)&"et du "&AJ5&" au "&AK5&CHAR(32)&A5)) | AH5: {=MIN(IF($B5:$AF5<>0,COLUMN($B5:$AF5)-1))} -> 0 | AI5: {=MIN(IF(OFFSET($B5:$AF5,,AH5,1,31-AH5)=0,COLUMN(OFFSET($B5:$AF5,,AH5,1,31-AH5))-2))} -> 0 | AJ5: {=MIN(IF(OFFSET($B5:$AF5,,AI5,1,31-(AI5))<>0,COLUMN(OFFSET($B5:$AF5,,AI5,1,31-(AI5)))-1))} -> 0 | AK5: {=IF(AJ5=0,0,MAX(IF(OFFSET($B5:$AF5,,AJ5-1,1,31-(AJ5-1))<>0,COLUMN(OFFSET($B5:$AF5,,AJ5-1,1,31-(AJ5-1))))-1))} -> 0
A6: MARS | B6: =BASE!B6 -> 0 | C6: =BASE!C6 -> 0 | D6: =BASE!D6 -> 0 | E6: =BASE!E6 -> 0 | F6: =BASE!F6 -> 0 | G6: =BASE!G6 -> a | H6: =BASE!H6 -> a | I6: =BASE!I6 -> a | ... AF6: =BASE!AF6 -> 0 | AG6: =IF(SUM(AH6:AK6)=0,"",IF(COUNTIF(AH6:AK6,">0")=2,"Du "&AH6&" au "&AI6&CHAR(32)&A6,"Du "&AH6&" au "&AI6&CHAR(32)&"et du "&AJ6&" au "&AK6&CHAR(32)&A6)) -> Du 6 au 18 MARS | AH6: {=MIN(IF($B6:$AF6<>0,COLUMN($B6:$AF6)-1))} -> 6 | AI6: {=MIN(IF(OFFSET($B6:$AF6,,AH6,1,31-AH6)=0,COLUMN(OFFSET($B6:$AF6,,AH6,1,31-AH6))-2))} -> 18 | AJ6: {=MIN(IF(OFFSET($B6:$AF6,,AI6,1,31-(AI6))<>0,COLUMN(OFFSET($B6:$AF6,,AI6,1,31-(AI6)))-1))} -> 0 | AK6: {=IF(AJ6=0,0,MAX(IF(OFFSET($B6:$AF6,,AJ6-1,1,31-(AJ6-1))<>0,COLUMN(OFFSET($B6:$AF6,,AJ6-1,1,31-(AJ6-1))))-1))} -> 0
A7: AVRIL | B7: =BASE!B7 -> 0 | C7: =BASE!C7 -> 0 | D7: =BASE!D7 -> A | E7: =BASE!E7 -> A | F7: =BASE!F7 -> B | G7: =BASE!G7 -> B | H7: =BASE!H7 -> B | I7: =BASE!I7 -> 0 | ... AF7: =BASE!AF7 -> 0 | AG7: =IF(SUM(AH7:AK7)=0,"",IF(COUNTIF(AH7:AK7,">0")=2,"Du "&AH7&" au "&AI7&CHAR(32)&A7,"Du "&AH7&" au "&AI7&CHAR(32)&"et du "&AJ7&" au "&AK7&CHAR(32)&A7)) -> Du 3 au 7 et du 24 au 27 AVRIL | AH7: {=MIN(IF($B7:$AF7<>0,COLUMN($B7:$AF7)-1))} -> 3 | AI7: {=MIN(IF(OFFSET($B7:$AF7,,AH7,1,31-AH7)=0,COLUMN(OFFSET($B7:$AF7,,AH7,1,31-AH7))-2))} -> 7 | AJ7: {=MIN(IF(OFFSET($B7:$AF7,,AI7,1,31-(AI7))<>0,COLUMN(OFFSET($B7:$AF7,,AI7,1,31-(AI7)))-1))} -> 24 | AK7: {=IF(AJ7=0,0,MAX(IF(OFFSET($B7:$AF7,,AJ7-1,1,31-(AJ7-1))<>0,COLUMN(OFFSET($B7:$AF7,,AJ7-1,1,31-(AJ7-1))))-1))} -> 27
A8: MAI | AG8: =IF(SUM(AH8:AK8)=0,"",IF(COUNTIF(AH8:AK8,">0")=2,"Du "&AH8&" au "&AI8&CHAR(32)&A8,"Du "&AH8&" au "&AI8&CHAR(32)&"et du "&AJ8&" au "&AK8&CHAR(32)&A8)) | AH8: {=MIN(IF($B8:$AF8<>0,COLUMN($B8:$AF8)-1))} -> 0 | AI8: {=MIN(IF(OFFSET($B8:$AF8,,AH8,1,31-AH8)=0,COLUMN(OFFSET($B8:$AF8,,AH8,1,31-AH8))-2))} -> 0 | AJ8: {=MIN(IF(OFFSET($B8:$AF8,,AI8,1,31-(AI8))<>0,COLUMN(OFFSET($B8:$AF8,,AI8,1,31-(AI8)))-1))} -> 0 | AK8: {=IF(AJ8=0,0,MAX(IF(OFFSET($B8:$AF8,,AJ8-1,1,31-(AJ8-1))<>0,COLUMN(OFFSET($B8:$AF8,,AJ8-1,1,31-(AJ8-1))))-1))} -> 0
A9: JUIN | AG9: =IF(SUM(AH9:AK9)=0,"",IF(COUNTIF(AH9:AK9,">0")=2,"Du "&AH9&" au "&AI9&CHAR(32)&A9,"Du "&AH9&" au "&AI9&CHAR(32)&"et du "&AJ9&" au "&AK9&CHAR(32)&A9)) | AH9: {=MIN(IF($B9:$AF9<>0,COLUMN($B9:$AF9)-1))} -> 0 | AI9: {=MIN(IF(OFFSET($B9:$AF9,,AH9,1,31-AH9)=0,COLUMN(OFFSET($B9:$AF9,,AH9,1,31-AH9))-2))} -> 0 | AJ9: {=MIN(IF(OFFSET($B9:$AF9,,AI9,1,31-(AI9))<>0,COLUMN(OFFSET($B9:$AF9,,AI9,1,31-(AI9)))-1))} -> 0 | AK9: {=IF(AJ9=0,0,MAX(IF(OFFSET($B9:$AF9,,AJ9-1,1,31-(AJ9-1))<>0,COLUMN(OFFSET($B9:$AF9,,AJ9-1,1,31-(AJ9-1))))-1))} -> 0
A10: JUILLET | AG10: =IF(SUM(AH10:AK10)=0,"",IF(COUNTIF(AH10:AK10,">0")=2,"Du "&AH10&" au "&AI10&CHAR(32)&A10,"Du "&AH10&" au "&AI10&CHAR(32)&"et du "&AJ10&" au "&AK10&CHAR(32)&A10)) | AH10: {=MIN(IF($B10:$AF10<>0,COLUMN($B10:$AF10)-1))} -> 0 | AI10: {=MIN(IF(OFFSET($B10:$AF10,,AH10,1,31-AH10)=0,COLUMN(OFFSET($B10:$AF10,,AH10,1,31-AH10))-2))} -> 0 | AJ10: {=MIN(IF(OFFSET($B10:$AF10,,AI10,1,31-(AI10))<>0,COLUMN(OFFSET($B10:$AF10,,AI10,1,31-(AI10)))-1))} -> 0 | AK10: {=IF(AJ10=0,0,MAX(IF(OFFSET($B10:$AF10,,AJ10-1,1,31-(AJ10-1))<>0,COLUMN(OFFSET($B10:$AF10,,AJ10-1,1,31-(AJ10-1))))-1))} -> 0
A11: AOUT | AB11: a | AC11: b | AE11: c | AF11: d | AG11: =IF(SUM(AH11:AK11)=0,"",IF(COUNTIF(AH11:AK11,">0")=2,"Du "&AH11&" au "&AI11&CHAR(32)&A11,"Du "&AH11&" au "&AI11&CHAR(32)&"et du "&AJ11&" au "&AK11&CHAR(32)&A11)) -> Du 27 au 28 et du 30 au 31 AOUT | AH11: {=MIN(IF($B11:$AF11<>0,COLUMN($B11:$AF11)-1))} -> 27 | AI11: {=MIN(IF(OFFSET($B11:$AF11,,AH11,1,31-AH11)=0,COLUMN(OFFSET($B11:$AF11,,AH11,1,31-AH11))-2))} -> 28 | AJ11: {=MIN(IF(OFFSET($B11:$AF11,,AI11,1,31-(AI11))<>0,COLUMN(OFFSET($B11:$AF11,,AI11,1,31-(AI11)))-1))} -> 30 | AK11: {=IF(AJ11=0,0,MAX(IF(OFFSET($B11:$AF11,,AJ11-1,1,31-(AJ11-1))<>0,COLUMN(OFFSET($B11:$AF11,,AJ11-1,1,31-(AJ11-1))))-1))} -> 31
A12: SEPTEMBRE | AG12: =IF(SUM(AH12:AK12)=0,"",IF(COUNTIF(AH12:AK12,">0")=2,"Du "&AH12&" au "&AI12&CHAR(32)&A12,"Du "&AH12&" au "&AI12&CHAR(32)&"et du "&AJ12&" au "&AK12&CHAR(32)&A12)) | AH12: {=MIN(IF($B12:$AF12<>0,COLUMN($B12:$AF12)-1))} -> 0 | AI12: {=MIN(IF(OFFSET($B12:$AF12,,AH12,1,31-AH12)=0,COLUMN(OFFSET($B12:$AF12,,AH12,1,31-AH12))-2))} -> 0 | AJ12: {=MIN(IF(OFFSET($B12:$AF12,,AI12,1,31-(AI12))<>0,COLUMN(OFFSET($B12:$AF12,,AI12,1,31-(AI12)))-1))} -> 0 | AK12: {=IF(AJ12=0,0,MAX(IF(OFFSET($B12:$AF12,,AJ12-1,1,31-(AJ12-1))<>0,COLUMN(OFFSET($B12:$AF12,,AJ12-1,1,31-(AJ12-1))))-1))} -> 0
A13: OCTOBRE | AG13: =IF(SUM(AH13:AK13)=0,"",IF(COUNTIF(AH13:AK13,">0")=2,"Du "&AH13&" au "&AI13&CHAR(32)&A13,"Du "&AH13&" au "&AI13&CHAR(32)&"et du "&AJ13&" au "&AK13&CHAR(32)&A13)) | AH13: {=MIN(IF($B13:$AF13<>0,COLUMN($B13:$AF13)-1))} -> 0 | AI13: {=MIN(IF(OFFSET($B13:$AF13,,AH13,1,31-AH13)=0,COLUMN(OFFSET($B13:$AF13,,AH13,1,31-AH13))-2))} -> 0 | AJ13: {=MIN(IF(OFFSET($B13:$AF13,,AI13,1,31-(AI13))<>0,COLUMN(OFFSET($B13:$AF13,,AI13,1,31-(AI13)))-1))} -> 0 | AK13: {=IF(AJ13=0,0,MAX(IF(OFFSET($B13:$AF13,,AJ13-1,1,31-(AJ13-1))<>0,COLUMN(OFFSET($B13:$AF13,,AJ13-1,1,31-(AJ13-1))))-1))} -> 0
A14: NOVEMBRE | AG14: =IF(SUM(AH14:AK14)=0,"",IF(COUNTIF(AH14:AK14,">0")=2,"Du "&AH14&" au "&AI14&CHAR(32)&A14,"Du "&AH14&" au "&AI14&CHAR(32)&"et du "&AJ14&" au "&AK14&CHAR(32)&A14)) | AH14: {=MIN(IF($B14:$AF14<>0,COLUMN($B14:$AF14)-1))} -> 0 | AI14: {=MIN(IF(OFFSET($B14:$AF14,,AH14,1,31-AH14)=0,COLUMN(OFFSET($B14:$AF14,,AH14,1,31-AH14))-2))} -> 0 | AJ14: {=MIN(IF(OFFSET($B14:$AF14,,AI14,1,31-(AI14))<>0,COLUMN(OFFSET($B14:$AF14,,AI14,1,31-(AI14)))-1))} -> 0 | AK14: {=IF(AJ14=0,0,MAX(IF(OFFSET($B14:$AF14,,AJ14-1,1,31-(AJ14-1))<>0,COLUMN(OFFSET($B14:$AF14,,AJ14-1,1,31-(AJ14-1))))-1))} -> 0
A15: décembre | AG15: =IF(SUM(AH15:AK15)=0,"",IF(COUNTIF(AH15:AK15,">0")=2,"Du "&AH15&" au "&AI15&CHAR(32)&A15,"Du "&AH15&" au "&AI15&CHAR(32)&"et du "&AJ15&" au "&AK15&CHAR(32)&A15)) | AH15: {=MIN(IF($B15:$AF15<>0,COLUMN($B15:$AF15)-1))} -> 0 | AI15: {=MIN(IF(OFFSET($B15:$AF15,,AH15,1,31-AH15)=0,COLUMN(OFFSET($B15:$AF15,,AH15,1,31-AH15))-2))} -> 0 | AJ15: {=MIN(IF(OFFSET($B15:$AF15,,AI15,1,31-(AI15))<>0,COLUMN(OFFSET($B15:$AF15,,AI15,1,31-(AI15)))-1))} -> 0 | AK15: {=IF(AJ15=0,0,MAX(IF(OFFSET($B15:$AF15,,AJ15-1,1,31-(AJ15-1))<>0,COLUMN(OFFSET($B15:$AF15,,AJ15-1,1,31-(AJ15-1))))-1))} -> 0
H16: La formule actuelle en AG7, permet de repérer en ligne 7, la date du début des cellules <> 0 (3 avril) mais ne détecte pas la fin à savoir le 7 avril. Actuellement elle prend en compte la deniere cellule <>0 sur toute la ligne c'est à dire le 27 avril. J'aimerais que la formule indique du 3 au 7 et du 24 au 27. Si besoin la formule peu binen sur être changé. Peut être une colonne date début , puis date fin comme indiqué à droite du tableau.
