Workbook
Name Liste_Feuilles: OFFSET('MERCURIALE '!$J$1,,,COUNTA('MERCURIALE '!$J:$J))

Sheet MERCURIALE 
J1: Margherita
A2: Référence | B2: Catérgories | C2: Libellé | D2: Unité | E2: Prix d'achat | F2: Fournisseurs | G2: Valeur produit théorique | J2: Jambon
A3: 1 | C3: paton | D3: U | E3: 0.27 | J3: Regina
A4: 2 | C4: fond Tomates | D4: kg | E4: 1.18
A5: 3 | C5: mozza FIOR DI LATTE | D5: kg | E5: 5.9
A6: 4 | C6: jambon blanc | D6: kg | E6: 4.97 | G6: =SUMPRODUCT(SUMIF(INDIRECT("'"&Liste_Feuilles&"'!$A$2:$A$1000"),$A6,INDIRECT("'"&Liste_Feuilles&"'!$G$2:$G$1000"))) -> 20.3273
A7: 5 | C7: chorizo | D7: kg | E7: 7.33
A8: 6 | C8: jambon de parme | D8: kg | E8: 13
A9: 7 | C9: champignon de paris | D9: kg | E9: 3
A10: 8 | C10: anchois
A11: 9 | C11: lardons | D11: kg | E11: 6.85
A12: 10 | C12: oignons | D12: kg
A13: 11 | C13: capres | E13: 4.69
A14: 12 | C14: creme fraiche | D14: l | E14: 2.78
A15: 13 | C15: gorgonzola | D15: kg | E15: 15.18
A16: 14 | C16: roquefort | D16: kg | E16: 16.64
A17: 15 | C17: chevre | D17: kg | E17: 7.99
A18: 16 | C18: olives
A19: 17 | C19: aubergines | D19: kg | E19: 2.6
A20: 18 | C20: saumon | D20: kg | E20: 14.75
A21: 19 | C21: gesiers | D21: kg | E21: 9.18
A22: 20 | C22: poivrons | D22: kg | E22: 1.85
A23: 21 | C23: oeuf | D23: u | E23: 0.18
A24: 22 | C24: roquettes | E24: 4.99
A25: 23 | C25: parmesan | D25: kg | E25: 12
A26: 24 | C26: tomates fraiches | D26: kg | E26: 1.45
A27: 25 | C27: thon | D27: kg | E27: 4.2
A28: 26 | C28: artichaud | D28: kg | E28: 21
A29: 27 | C29: fond 31 cm | D29: U | E29: 0.97
A30: 28 | C30: MORTADELLE | D30: kg | E30: 6.3
A31: 29 | C31: BURRATA | D31: kg | E31: 14
A32: 30 | C32: SPECK | D32: KG | E32: 9.8
A33: 31 | C33: CEPES CUISINE | D33: kg | E33: 27.44
A34: 32 | C34: SCARMOZA | D34: kg | E34: 9.5
A35: 33 | C35: TALEGGIO | D35: KG | E35: 12.59
A36: 34 | C36: PROVOLONE | D36: KG | E36: 12.51
A37: 35 | C37: SPIANATA | D37: kg | E37: 11.8
A38: 36 | C38: ORIGAN
A39: 37 | C39: MOZZA DI BUFFALA | D39: KG | E39: 12.5
A40: 38 | C40: BASILIC | D40: kg | E40: 33
...

Sheet FT3
A2: PLATS: | B2: 3 | C2: =VLOOKUP($B$2,#REF!,2) -> #REF!
A5: reference | B5: ingredients | C5: unite | D5: quantites | E5: prix à l'unite | F5: cout total
B6: =IF(A6="","",VLOOKUP(A6,'MERCURIALE '!$A$3:$E$202,3)) | C6: =IF(B6="","",VLOOKUP(A6,'MERCURIALE '!$A$3:$E$202,4)) | E6: =IF(A6="","",VLOOKUP(A6,'MERCURIALE '!$A$3:$E$202,5)) | F6: =IF(A6="","",D6*E6)
B7: =IF(A7="","",VLOOKUP(A7,'MERCURIALE '!$A$3:$E$202,3)) | C7: =IF(B7="","",VLOOKUP(A7,'MERCURIALE '!$A$3:$E$202,4)) | E7: =IF(A7="","",VLOOKUP(A7,'MERCURIALE '!$A$3:$E$202,5)) | F7: =IF(A7="","",D7*E7)
B8: =IF(A8="","",VLOOKUP(A8,'MERCURIALE '!$A$3:$E$202,3)) | C8: =IF(B8="","",VLOOKUP(A8,'MERCURIALE '!$A$3:$E$202,4)) | E8: =IF(A8="","",VLOOKUP(A8,'MERCURIALE '!$A$3:$E$202,5)) | F8: =IF(A8="","",D8*E8)
B9: =IF(A9="","",VLOOKUP(A9,'MERCURIALE '!$A$3:$E$202,3)) | C9: =IF(B9="","",VLOOKUP(A9,'MERCURIALE '!$A$3:$E$202,4)) | E9: =IF(A9="","",VLOOKUP(A9,'MERCURIALE '!$A$3:$E$202,5)) | F9: =IF(A9="","",D9*E9)
B10: =IF(A10="","",VLOOKUP(A10,'MERCURIALE '!$A$3:$E$202,3)) | C10: =IF(B10="","",VLOOKUP(A10,'MERCURIALE '!$A$3:$E$202,4)) | E10: =IF(A10="","",VLOOKUP(A10,'MERCURIALE '!$A$3:$E$202,5)) | F10: =IF(A10="","",D10*E10)
B11: =IF(A11="","",VLOOKUP(A11,'MERCURIALE '!$A$3:$E$202,3)) | C11: =IF(B11="","",VLOOKUP(A11,'MERCURIALE '!$A$3:$E$202,4)) | E11: =IF(A11="","",VLOOKUP(A11,'MERCURIALE '!$A$3:$E$202,5)) | F11: =IF(A11="","",D11*E11)
B12: =IF(A12="","",VLOOKUP(A12,'MERCURIALE '!$A$3:$E$202,3)) | C12: =IF(B12="","",VLOOKUP(A12,'MERCURIALE '!$A$3:$E$202,4)) | E12: =IF(A12="","",VLOOKUP(A12,'MERCURIALE '!$A$3:$E$202,5)) | F12: =IF(A12="","",D12*E12)
B13: =IF(A13="","",VLOOKUP(A13,'MERCURIALE '!$A$3:$E$202,3)) | C13: =IF(B13="","",VLOOKUP(A13,'MERCURIALE '!$A$3:$E$202,4)) | E13: =IF(A13="","",VLOOKUP(A13,'MERCURIALE '!$A$3:$E$202,5)) | F13: =IF(A13="","",D13*E13)
B14: =IF(A14="","",VLOOKUP(A14,'MERCURIALE '!$A$3:$E$202,3)) | C14: =IF(B14="","",VLOOKUP(A14,'MERCURIALE '!$A$3:$E$202,4)) | E14: =IF(A14="","",VLOOKUP(A14,'MERCURIALE '!$A$3:$E$202,5)) | F14: =IF(A14="","",D14*E14)
B15: =IF(A15="","",VLOOKUP(A15,'MERCURIALE '!$A$3:$E$202,3)) | C15: =IF(B15="","",VLOOKUP(A15,'MERCURIALE '!$A$3:$E$202,4)) | E15: =IF(A15="","",VLOOKUP(A15,'MERCURIALE '!$A$3:$E$202,5)) | F15: =IF(A15="","",D15*E15)
B16: =IF(A16="","",VLOOKUP(A16,'MERCURIALE '!$A$3:$E$202,3)) | C16: =IF(B16="","",VLOOKUP(A16,'MERCURIALE '!$A$3:$E$202,4)) | E16: =IF(A16="","",VLOOKUP(A16,'MERCURIALE '!$A$3:$E$202,5)) | F16: =IF(A16="","",D16*E16)
B17: =IF(A17="","",VLOOKUP(A17,'MERCURIALE '!$A$3:$E$202,3)) | C17: =IF(B17="","",VLOOKUP(A17,'MERCURIALE '!$A$3:$E$202,4)) | E17: =IF(A17="","",VLOOKUP(A17,'MERCURIALE '!$A$3:$E$202,5)) | F17: =IF(A17="","",D17*E17)
... B26: =IF(A26="","",VLOOKUP(A26,'MERCURIALE '!$A$3:$E$202,3)) | C26: =IF(B26="","",VLOOKUP(A26,'MERCURIALE '!$A$3:$E$202,4)) | E26: =IF(A26="","",VLOOKUP(A26,'MERCURIALE '!$A$3:$E$202,5)) | F26: =IF(A26="","",D26*E26)
B27: Coût total boissons | F27: =SUM(F6:F26) -> 0
B28: couts complémentaires boissons | F28: =F27*E28 -> 0
B29: Coût matieres boissons total | F29: =F27+F28 -> 0
B30: Nombre de portions
B31: Coût matières d'une portion | F31: =IF(F30<>0,F29/F30,0) -> 0
B32: coefficient multiplicateur | F32: =IF(F31<>0,F33/F31,0) -> 0
B33: prix de vente ht | F33: =F34/(1+D34) -> 0
B34: prix de vente ttc | C34: Taux tva | D34: 0.07
B35: ratio cout matieres | F35: =IF(F33<>0,F31/F33,0) -> 0

Sheet MARGHERITA
A2: PLATS: | B2: 4 | C2: =VLOOKUP($B$2,#REF!,2) -> #REF!
B3: Prix unitaire TTC:
B4: Quantité produite sur la période: | C4: 15
A5: reference | B5: ingredients | C5: unite | D5: quantites | E5: prix à l'unite | F5: cout total | G5: Valeur théorique dépensée
A6: 27 | B6: =IF(A6="","",VLOOKUP(A6,'MERCURIALE '!$A$3:$E$202,3)) -> fond 31 cm | C6: =IF(B6="","",VLOOKUP(A6,'MERCURIALE '!$A$3:$E$202,4)) -> U | D6: 1 | E6: =IF(A6="","",VLOOKUP(A6,'MERCURIALE '!$A$3:$E$202,5)) -> 0.97 | F6: =IF(A6="","",D6*E6) -> 0.97 | G6: =IF(F6="","",$C$4*F6) -> 14.55
B7: =IF(A7="","",VLOOKUP(A7,'MERCURIALE '!$A$3:$E$202,3)) | C7: =IF(B7="","",VLOOKUP(A7,'MERCURIALE '!$A$3:$E$202,4)) | D7: 0.08 | E7: =IF(A7="","",VLOOKUP(A7,'MERCURIALE '!$A$3:$E$202,5)) | F7: =IF(A7="","",D7*E7) | G7: =IF(F7="","",$C$4*F7)
B8: =IF(A8="","",VLOOKUP(A8,'MERCURIALE '!$A$3:$E$202,3)) | C8: =IF(B8="","",VLOOKUP(A8,'MERCURIALE '!$A$3:$E$202,4)) | D8: 0.1 | E8: =IF(A8="","",VLOOKUP(A8,'MERCURIALE '!$A$3:$E$202,5)) | F8: =IF(A8="","",D8*E8) | G8: =IF(F8="","",$C$4*F8)
A9: 4 | B9: =IF(A9="","",VLOOKUP(A9,'MERCURIALE '!$A$3:$E$202,3)) -> jambon blanc | C9: =IF(B9="","",VLOOKUP(A9,'MERCURIALE '!$A$3:$E$202,4)) -> kg | D9: 0.1 | E9: =IF(A9="","",VLOOKUP(A9,'MERCURIALE '!$A$3:$E$202,5)) -> 4.97 | F9: =IF(A9="","",D9*E9) -> 0.497 | G9: =IF(F9="","",$C$4*F9) -> 7.455
B10: =IF(A10="","",VLOOKUP(A10,'MERCURIALE '!$A$3:$E$202,3)) | C10: =IF(B10="","",VLOOKUP(A10,'MERCURIALE '!$A$3:$E$202,4)) | E10: =IF(A10="","",VLOOKUP(A10,'MERCURIALE '!$A$3:$E$202,5)) | F10: =IF(A10="","",D10*E10) | G10: =IF(F10="","",$C$4*F10)
B11: =IF(A11="","",VLOOKUP(A11,'MERCURIALE '!$A$3:$E$202,3)) | C11: =IF(B11="","",VLOOKUP(A11,'MERCURIALE '!$A$3:$E$202,4)) | E11: =IF(A11="","",VLOOKUP(A11,'MERCURIALE '!$A$3:$E$202,5)) | F11: =IF(A11="","",D11*E11) | G11: =IF(F11="","",$C$4*F11)
B12: =IF(A12="","",VLOOKUP(A12,'MERCURIALE '!$A$3:$E$202,3)) | C12: =IF(B12="","",VLOOKUP(A12,'MERCURIALE '!$A$3:$E$202,4)) | E12: =IF(A12="","",VLOOKUP(A12,'MERCURIALE '!$A$3:$E$202,5)) | F12: =IF(A12="","",D12*E12) | G12: =IF(F12="","",$C$4*F12)
B13: =IF(A13="","",VLOOKUP(A13,'MERCURIALE '!$A$3:$E$202,3)) | C13: =IF(B13="","",VLOOKUP(A13,'MERCURIALE '!$A$3:$E$202,4)) | E13: =IF(A13="","",VLOOKUP(A13,'MERCURIALE '!$A$3:$E$202,5)) | F13: =IF(A13="","",D13*E13) | G13: =IF(F13="","",$C$4*F13)
B14: =IF(A14="","",VLOOKUP(A14,'MERCURIALE '!$A$3:$E$202,3)) | C14: =IF(B14="","",VLOOKUP(A14,'MERCURIALE '!$A$3:$E$202,4)) | E14: =IF(A14="","",VLOOKUP(A14,'MERCURIALE '!$A$3:$E$202,5)) | F14: =IF(A14="","",D14*E14) | G14: =IF(F14="","",$C$4*F14)
B15: =IF(A15="","",VLOOKUP(A15,'MERCURIALE '!$A$3:$E$202,3)) | C15: =IF(B15="","",VLOOKUP(A15,'MERCURIALE '!$A$3:$E$202,4)) | E15: =IF(A15="","",VLOOKUP(A15,'MERCURIALE '!$A$3:$E$202,5)) | F15: =IF(A15="","",D15*E15) | G15: =IF(F15="","",$C$4*F15)
B16: =IF(A16="","",VLOOKUP(A16,'MERCURIALE '!$A$3:$E$202,3)) | C16: =IF(B16="","",VLOOKUP(A16,'MERCURIALE '!$A$3:$E$202,4)) | E16: =IF(A16="","",VLOOKUP(A16,'MERCURIALE '!$A$3:$E$202,5)) | F16: =IF(A16="","",D16*E16) | G16: =IF(F16="","",$C$4*F16)
B17: =IF(A17="","",VLOOKUP(A17,'MERCURIALE '!$A$3:$E$202,3)) | C17: =IF(B17="","",VLOOKUP(A17,'MERCURIALE '!$A$3:$E$202,4)) | E17: =IF(A17="","",VLOOKUP(A17,'MERCURIALE '!$A$3:$E$202,5)) | F17: =IF(A17="","",D17*E17) | G17: =IF(F17="","",$C$4*F17)
B18: =IF(A18="","",VLOOKUP(A18,'MERCURIALE '!$A$3:$E$202,3)) | C18: =IF(B18="","",VLOOKUP(A18,'MERCURIALE '!$A$3:$E$202,4)) | E18: =IF(A18="","",VLOOKUP(A18,'MERCURIALE '!$A$3:$E$202,5)) | F18: =IF(A18="","",D18*E18) | G18: =IF(F18="","",$C$4*F18)
B19: =IF(A19="","",VLOOKUP(A19,'MERCURIALE '!$A$3:$E$202,3)) | C19: =IF(B19="","",VLOOKUP(A19,'MERCURIALE '!$A$3:$E$202,4)) | E19: =IF(A19="","",VLOOKUP(A19,'MERCURIALE '!$A$3:$E$202,5)) | F19: =IF(A19="","",D19*E19) | G19: =IF(F19="","",$C$4*F19)
B20: =IF(A20="","",VLOOKUP(A20,'MERCURIALE '!$A$3:$E$202,3)) | C20: =IF(B20="","",VLOOKUP(A20,'MERCURIALE '!$A$3:$E$202,4)) | E20: =IF(A20="","",VLOOKUP(A20,'MERCURIALE '!$A$3:$E$202,5)) | F20: =IF(A20="","",D20*E20) | G20: =IF(F20="","",$C$4*F20)
B21: =IF(A21="","",VLOOKUP(A21,'MERCURIALE '!$A$3:$E$202,3)) | C21: =IF(B21="","",VLOOKUP(A21,'MERCURIALE '!$A$3:$E$202,4)) | E21: =IF(A21="","",VLOOKUP(A21,'MERCURIALE '!$A$3:$E$202,5)) | F21: =IF(A21="","",D21*E21) | G21: =IF(F21="","",$C$4*F21)
... B26: =IF(A26="","",VLOOKUP(A26,'MERCURIALE '!$A$3:$E$202,3)) | C26: =IF(B26="","",VLOOKUP(A26,'MERCURIALE '!$A$3:$E$202,4)) | E26: =IF(A26="","",VLOOKUP(A26,'MERCURIALE '!$A$3:$E$202,5)) | F26: =IF(A26="","",D26*E26) | G26: =IF(F26="","",$C$4*F26)
B27: Coût total boissons | F27: =SUM(F6:F26) -> 1.467 | G27: Total dépense théorique
B28: couts complémentaires boissons | E28: 0.03 | F28: =F27*E28 -> 0.04401 | G28: =SUM(G6:G26) -> 22.005
B29: Coût matieres boissons total | F29: =F27+F28 -> 1.51101 | G29: Marge théorique
B30: Nombre de portions | F30: 1 | G30: =C3/(1+D34)*C4-G28 -> -22.005
B31: Coût matières d'une portion | F31: =IF(F30<>0,F29/F30,0) -> 1.51101
B32: coefficient multiplicateur | F32: =IF(F31<>0,F33/F31,0) -> 5.7156231
B33: prix de vente ht | F33: =F34/(1+D34) -> 8.6363636
B34: prix de vente ttc | C34: Taux tva | D34: 0.1 | F34: 9.5
B35: ratio cout matieres | F35: =IF(F33<>0,F31/F33,0) -> 0.17495905

Sheet JAMBON
A2: PLATS: | B2: 5 | C2: =VLOOKUP($B$2,#REF!,2) -> #REF!
B3: Prix unitaire TTC:
B4: Quantité produite sur la période: | C4: 12
A5: reference | B5: ingredients | C5: unite | D5: quantites | E5: prix à l'unite | F5: cout total | G5: Valeur théorique dépensée
A6: 27 | B6: =IF(A6="","",VLOOKUP(A6,'MERCURIALE '!$A$3:$E$202,3)) -> fond 31 cm | C6: =IF(B6="","",VLOOKUP(A6,'MERCURIALE '!$A$3:$E$202,4)) -> U | D6: 1 | E6: =IF(A6="","",VLOOKUP(A6,'MERCURIALE '!$A$3:$E$202,5)) -> 0.97 | F6: =IF(A6="","",D6*E6) -> 0.97 | G6: =IF(F6="","",$C$4*F6) -> 11.64
B7: =IF(A7="","",VLOOKUP(A7,'MERCURIALE '!$A$3:$E$202,3)) | C7: =IF(B7="","",VLOOKUP(A7,'MERCURIALE '!$A$3:$E$202,4)) | E7: =IF(A7="","",VLOOKUP(A7,'MERCURIALE '!$A$3:$E$202,5)) | F7: =IF(A7="","",D7*E7) | G7: =IF(F7="","",$C$4*F7)
B8: =IF(A8="","",VLOOKUP(A8,'MERCURIALE '!$A$3:$E$202,3)) | C8: =IF(B8="","",VLOOKUP(A8,'MERCURIALE '!$A$3:$E$202,4)) | E8: =IF(A8="","",VLOOKUP(A8,'MERCURIALE '!$A$3:$E$202,5)) | F8: =IF(A8="","",D8*E8) | G8: =IF(F8="","",$C$4*F8)
A9: 4 | B9: =IF(A9="","",VLOOKUP(A9,'MERCURIALE '!$A$3:$E$202,3)) -> jambon blanc | C9: =IF(B9="","",VLOOKUP(A9,'MERCURIALE '!$A$3:$E$202,4)) -> kg | D9: 0.07 | E9: =IF(A9="","",VLOOKUP(A9,'MERCURIALE '!$A$3:$E$202,5)) -> 4.97 | F9: =IF(A9="","",D9*E9) -> 0.3479 | G9: =IF(F9="","",$C$4*F9) -> 4.1748
B10: =IF(A10="","",VLOOKUP(A10,'MERCURIALE '!$A$3:$E$202,3)) | C10: =IF(B10="","",VLOOKUP(A10,'MERCURIALE '!$A$3:$E$202,4)) | E10: =IF(A10="","",VLOOKUP(A10,'MERCURIALE '!$A$3:$E$202,5)) | F10: =IF(A10="","",D10*E10) | G10: =IF(F10="","",$C$4*F10)
B11: =IF(A11="","",VLOOKUP(A11,'MERCURIALE '!$A$3:$E$202,3)) | C11: =IF(B11="","",VLOOKUP(A11,'MERCURIALE '!$A$3:$E$202,4)) | E11: =IF(A11="","",VLOOKUP(A11,'MERCURIALE '!$A$3:$E$202,5)) | F11: =IF(A11="","",D11*E11) | G11: =IF(F11="","",$C$4*F11)
B12: =IF(A12="","",VLOOKUP(A12,'MERCURIALE '!$A$3:$E$202,3)) | C12: =IF(B12="","",VLOOKUP(A12,'MERCURIALE '!$A$3:$E$202,4)) | E12: =IF(A12="","",VLOOKUP(A12,'MERCURIALE '!$A$3:$E$202,5)) | F12: =IF(A12="","",D12*E12) | G12: =IF(F12="","",$C$4*F12)
B13: =IF(A13="","",VLOOKUP(A13,'MERCURIALE '!$A$3:$E$202,3)) | C13: =IF(B13="","",VLOOKUP(A13,'MERCURIALE '!$A$3:$E$202,4)) | E13: =IF(A13="","",VLOOKUP(A13,'MERCURIALE '!$A$3:$E$202,5)) | F13: =IF(A13="","",D13*E13) | G13: =IF(F13="","",$C$4*F13)
B14: =IF(A14="","",VLOOKUP(A14,'MERCURIALE '!$A$3:$E$202,3)) | C14: =IF(B14="","",VLOOKUP(A14,'MERCURIALE '!$A$3:$E$202,4)) | E14: =IF(A14="","",VLOOKUP(A14,'MERCURIALE '!$A$3:$E$202,5)) | F14: =IF(A14="","",D14*E14) | G14: =IF(F14="","",$C$4*F14)
B15: =IF(A15="","",VLOOKUP(A15,'MERCURIALE '!$A$3:$E$202,3)) | C15: =IF(B15="","",VLOOKUP(A15,'MERCURIALE '!$A$3:$E$202,4)) | E15: =IF(A15="","",VLOOKUP(A15,'MERCURIALE '!$A$3:$E$202,5)) | F15: =IF(A15="","",D15*E15) | G15: =IF(F15="","",$C$4*F15)
B16: =IF(A16="","",VLOOKUP(A16,'MERCURIALE '!$A$3:$E$202,3)) | C16: =IF(B16="","",VLOOKUP(A16,'MERCURIALE '!$A$3:$E$202,4)) | E16: =IF(A16="","",VLOOKUP(A16,'MERCURIALE '!$A$3:$E$202,5)) | F16: =IF(A16="","",D16*E16) | G16: =IF(F16="","",$C$4*F16)
B17: =IF(A17="","",VLOOKUP(A17,'MERCURIALE '!$A$3:$E$202,3)) | C17: =IF(B17="","",VLOOKUP(A17,'MERCURIALE '!$A$3:$E$202,4)) | E17: =IF(A17="","",VLOOKUP(A17,'MERCURIALE '!$A$3:$E$202,5)) | F17: =IF(A17="","",D17*E17) | G17: =IF(F17="","",$C$4*F17)
B18: =IF(A18="","",VLOOKUP(A18,'MERCURIALE '!$A$3:$E$202,3)) | C18: =IF(B18="","",VLOOKUP(A18,'MERCURIALE '!$A$3:$E$202,4)) | E18: =IF(A18="","",VLOOKUP(A18,'MERCURIALE '!$A$3:$E$202,5)) | F18: =IF(A18="","",D18*E18) | G18: =IF(F18="","",$C$4*F18)
B19: =IF(A19="","",VLOOKUP(A19,'MERCURIALE '!$A$3:$E$202,3)) | C19: =IF(B19="","",VLOOKUP(A19,'MERCURIALE '!$A$3:$E$202,4)) | E19: =IF(A19="","",VLOOKUP(A19,'MERCURIALE '!$A$3:$E$202,5)) | F19: =IF(A19="","",D19*E19) | G19: =IF(F19="","",$C$4*F19)
B20: =IF(A20="","",VLOOKUP(A20,'MERCURIALE '!$A$3:$E$202,3)) | C20: =IF(B20="","",VLOOKUP(A20,'MERCURIALE '!$A$3:$E$202,4)) | E20: =IF(A20="","",VLOOKUP(A20,'MERCURIALE '!$A$3:$E$202,5)) | F20: =IF(A20="","",D20*E20) | G20: =IF(F20="","",$C$4*F20)
B21: =IF(A21="","",VLOOKUP(A21,'MERCURIALE '!$A$3:$E$202,3)) | C21: =IF(B21="","",VLOOKUP(A21,'MERCURIALE '!$A$3:$E$202,4)) | E21: =IF(A21="","",VLOOKUP(A21,'MERCURIALE '!$A$3:$E$202,5)) | F21: =IF(A21="","",D21*E21) | G21: =IF(F21="","",$C$4*F21)
... B26: =IF(A26="","",VLOOKUP(A26,'MERCURIALE '!$A$3:$E$202,3)) | C26: =IF(B26="","",VLOOKUP(A26,'MERCURIALE '!$A$3:$E$202,4)) | E26: =IF(A26="","",VLOOKUP(A26,'MERCURIALE '!$A$3:$E$202,5)) | F26: =IF(A26="","",D26*E26) | G26: =IF(F26="","",$C$4*F26)
B27: Coût total boissons | F27: =SUM(F6:F26) -> 1.3179 | G27: Total dépense théorique
B28: couts complémentaires boissons | E28: 0.03 | F28: =F27*E28 -> 0.039537 | G28: =SUM(G6:G26) -> 15.8148
B29: Coût matieres boissons total | F29: =F27+F28 -> 1.357437 | G29: Marge théorique
B30: Nombre de portions | F30: 1 | G30: =C3/(1+D34)*C4-G28 -> -15.8148
B31: Coût matières d'une portion | F31: =IF(F30<>0,F29/F30,0) -> 1.357437
B32: coefficient multiplicateur | F32: =IF(F31<>0,F33/F31,0) -> 7.70168
B33: prix de vente ht | F33: =F34/(1+D34) -> 10.454545
B34: prix de vente ttc | C34: Taux tva | D34: 0.1 | F34: 11.5
B35: ratio cout matieres | F35: =IF(F33<>0,F31/F33,0) -> 0.1298418

Sheet REGINA
A2: PLATS: | B2: 6 | C2: =VLOOKUP($B$2,#REF!,2) -> #REF!
B3: Prix unitaire TTC:
B4: Quantité produite sur la période: | C4: 25
A5: reference | B5: ingredients | C5: unite | D5: quantites | E5: prix à l'unite | F5: cout total | G5: Valeur théorique dépensée
A6: 27 | B6: =IF(A6="","",VLOOKUP(A6,'MERCURIALE '!$A$3:$E$202,3)) -> fond 31 cm | C6: =IF(B6="","",VLOOKUP(A6,'MERCURIALE '!$A$3:$E$202,4)) -> U | D6: 1 | E6: =IF(A6="","",VLOOKUP(A6,'MERCURIALE '!$A$3:$E$202,5)) -> 0.97 | F6: =IF(A6="","",D6*E6) -> 0.97 | G6: =IF(F6="","",$C$4*F6) -> 24.25
A7: 4 | B7: =IF(A7="","",VLOOKUP(A7,'MERCURIALE '!$A$3:$E$202,3)) -> jambon blanc | C7: =IF(B7="","",VLOOKUP(A7,'MERCURIALE '!$A$3:$E$202,4)) -> kg | D7: 0.07 | E7: =IF(A7="","",VLOOKUP(A7,'MERCURIALE '!$A$3:$E$202,5)) -> 4.97 | F7: =IF(A7="","",D7*E7) -> 0.3479 | G7: =IF(F7="","",$C$4*F7) -> 8.6975
A8: 7 | B8: =IF(A8="","",VLOOKUP(A8,'MERCURIALE '!$A$3:$E$202,3)) -> champignon de paris | C8: =IF(B8="","",VLOOKUP(A8,'MERCURIALE '!$A$3:$E$202,4)) -> kg | D8: 0.05 | E8: =IF(A8="","",VLOOKUP(A8,'MERCURIALE '!$A$3:$E$202,5)) -> 3 | F8: =IF(A8="","",D8*E8) -> 0.15 | G8: =IF(F8="","",$C$4*F8) -> 3.75
B9: =IF(A9="","",VLOOKUP(A9,'MERCURIALE '!$A$3:$E$202,3)) | C9: =IF(B9="","",VLOOKUP(A9,'MERCURIALE '!$A$3:$E$202,4)) | E9: =IF(A9="","",VLOOKUP(A9,'MERCURIALE '!$A$3:$E$202,5)) | F9: =IF(A9="","",D9*E9) | G9: =IF(F9="","",$C$4*F9)
B10: =IF(A10="","",VLOOKUP(A10,'MERCURIALE '!$A$3:$E$202,3)) | C10: =IF(B10="","",VLOOKUP(A10,'MERCURIALE '!$A$3:$E$202,4)) | E10: =IF(A10="","",VLOOKUP(A10,'MERCURIALE '!$A$3:$E$202,5)) | F10: =IF(A10="","",D10*E10) | G10: =IF(F10="","",$C$4*F10)
B11: =IF(A11="","",VLOOKUP(A11,'MERCURIALE '!$A$3:$E$202,3)) | C11: =IF(B11="","",VLOOKUP(A11,'MERCURIALE '!$A$3:$E$202,4)) | E11: =IF(A11="","",VLOOKUP(A11,'MERCURIALE '!$A$3:$E$202,5)) | F11: =IF(A11="","",D11*E11) | G11: =IF(F11="","",$C$4*F11)
B12: =IF(A12="","",VLOOKUP(A12,'MERCURIALE '!$A$3:$E$202,3)) | C12: =IF(B12="","",VLOOKUP(A12,'MERCURIALE '!$A$3:$E$202,4)) | E12: =IF(A12="","",VLOOKUP(A12,'MERCURIALE '!$A$3:$E$202,5)) | F12: =IF(A12="","",D12*E12) | G12: =IF(F12="","",$C$4*F12)
B13: =IF(A13="","",VLOOKUP(A13,'MERCURIALE '!$A$3:$E$202,3)) | C13: =IF(B13="","",VLOOKUP(A13,'MERCURIALE '!$A$3:$E$202,4)) | E13: =IF(A13="","",VLOOKUP(A13,'MERCURIALE '!$A$3:$E$202,5)) | F13: =IF(A13="","",D13*E13) | G13: =IF(F13="","",$C$4*F13)
B14: =IF(A14="","",VLOOKUP(A14,'MERCURIALE '!$A$3:$E$202,3)) | C14: =IF(B14="","",VLOOKUP(A14,'MERCURIALE '!$A$3:$E$202,4)) | E14: =IF(A14="","",VLOOKUP(A14,'MERCURIALE '!$A$3:$E$202,5)) | F14: =IF(A14="","",D14*E14) | G14: =IF(F14="","",$C$4*F14)
B15: =IF(A15="","",VLOOKUP(A15,'MERCURIALE '!$A$3:$E$202,3)) | C15: =IF(B15="","",VLOOKUP(A15,'MERCURIALE '!$A$3:$E$202,4)) | E15: =IF(A15="","",VLOOKUP(A15,'MERCURIALE '!$A$3:$E$202,5)) | F15: =IF(A15="","",D15*E15) | G15: =IF(F15="","",$C$4*F15)
B16: =IF(A16="","",VLOOKUP(A16,'MERCURIALE '!$A$3:$E$202,3)) | C16: =IF(B16="","",VLOOKUP(A16,'MERCURIALE '!$A$3:$E$202,4)) | E16: =IF(A16="","",VLOOKUP(A16,'MERCURIALE '!$A$3:$E$202,5)) | F16: =IF(A16="","",D16*E16) | G16: =IF(F16="","",$C$4*F16)
B17: =IF(A17="","",VLOOKUP(A17,'MERCURIALE '!$A$3:$E$202,3)) | C17: =IF(B17="","",VLOOKUP(A17,'MERCURIALE '!$A$3:$E$202,4)) | E17: =IF(A17="","",VLOOKUP(A17,'MERCURIALE '!$A$3:$E$202,5)) | F17: =IF(A17="","",D17*E17) | G17: =IF(F17="","",$C$4*F17)
B18: =IF(A18="","",VLOOKUP(A18,'MERCURIALE '!$A$3:$E$202,3)) | C18: =IF(B18="","",VLOOKUP(A18,'MERCURIALE '!$A$3:$E$202,4)) | E18: =IF(A18="","",VLOOKUP(A18,'MERCURIALE '!$A$3:$E$202,5)) | F18: =IF(A18="","",D18*E18) | G18: =IF(F18="","",$C$4*F18)
B19: =IF(A19="","",VLOOKUP(A19,'MERCURIALE '!$A$3:$E$202,3)) | C19: =IF(B19="","",VLOOKUP(A19,'MERCURIALE '!$A$3:$E$202,4)) | E19: =IF(A19="","",VLOOKUP(A19,'MERCURIALE '!$A$3:$E$202,5)) | F19: =IF(A19="","",D19*E19) | G19: =IF(F19="","",$C$4*F19)
B20: =IF(A20="","",VLOOKUP(A20,'MERCURIALE '!$A$3:$E$202,3)) | C20: =IF(B20="","",VLOOKUP(A20,'MERCURIALE '!$A$3:$E$202,4)) | E20: =IF(A20="","",VLOOKUP(A20,'MERCURIALE '!$A$3:$E$202,5)) | F20: =IF(A20="","",D20*E20) | G20: =IF(F20="","",$C$4*F20)
... B26: =IF(A26="","",VLOOKUP(A26,'MERCURIALE '!$A$3:$E$202,3)) | C26: =IF(B26="","",VLOOKUP(A26,'MERCURIALE '!$A$3:$E$202,4)) | E26: =IF(A26="","",VLOOKUP(A26,'MERCURIALE '!$A$3:$E$202,5)) | F26: =IF(A26="","",D26*E26) | G26: =IF(F26="","",$C$4*F26)
B27: Coût total boissons | F27: =SUM(F6:F26) -> 1.4679 | G27: Total dépense théorique
B28: couts complémentaires boissons | E28: 0.03 | F28: =F27*E28 -> 0.044037 | G28: =SUM(G6:G26) -> 36.6975
B29: Coût matieres boissons total | F29: =F27+F28 -> 1.511937 | G29: Marge théorique
B30: Nombre de portions | F30: 1 | G30: =C3/(1+D34)*C4-G28 -> -36.6975
B31: Coût matières d'une portion | F31: =IF(F30<>0,F29/F30,0) -> 1.511937
B32: coefficient multiplicateur | F32: =IF(F31<>0,F33/F31,0) -> 6.91467
B33: prix de vente ht | F33: =F34/(1+D34) -> 10.454545
B34: prix de vente ttc | C34: Taux tva | D34: 0.1 | F34: 11.5
B35: ratio cout matieres | F35: =IF(F33<>0,F31/F33,0) -> 0.14462006
