Workbook
Name Plage: OFFSET(Feuil1!$B$4,,,COUNTA(Feuil1!$B:$B)-1)

Sheet Feuil1
A3: Date comptabilisation | B3: N° article | C3: Quantité | D3: Coût total (réel)
A4: 39906 | B4: P200-0001 | C4: 1 | D4: 262503
A5: 39906 | B5: P200-0002 | C5: 29 | D5: 386628
A6: 40096 | B6: P200-0002 | C6: -2 | D6: -26664
A7: 40103 | B7: P200-0002 | C7: -10 | D7: -133320
A8: 40143 | B8: P200-0002 | C8: -2 | D8: -26664
A9: 40151 | B9: P200-0002 | C9: -1 | D9: -13332
A10: 40208 | B10: P200-0002 | C10: -1 | D10: -13332
A11: 40247 | B11: P200-0002 | C11: -1 | D11: -13332
A12: 40335 | B12: P200-0002 | C12: -1 | D12: -13332
A13: 40366 | B13: P200-0002 | C13: -1 | D13: -13332
A14: 40398 | B14: P200-0002 | C14: -4 | D14: -53328
A15: 39906 | B15: P200-0003 | C15: 1 | D15: 444004
... A82: 39906 | B82: P200-0050 | C82: 1 | D82: 40769.72

Sheet Feuil2
A2: N° article | B2: Quantité | C2: Coût total (réel) | D2: Dérniére date comptabilisation
A3: P200-0001 | B3: 1 | C3: 262503 | D3: {=OFFSET(Feuil1!$A$3,MAX(ROW(INDIRECT("$1:$"&COUNTA(Plage)))*(Plage=A3)),,,)} -> 39906
A4: P200-0002 | B4: 29 | C4: 386628 | D4: {=OFFSET(Feuil1!$A$3,MAX(ROW(INDIRECT("$1:$"&COUNTA(Plage)))*(Plage=A4)),,,)} -> 40398
A5: P200-0003 | B5: 1 | C5: 444004 | D5: {=OFFSET(Feuil1!$A$3,MAX(ROW(INDIRECT("$1:$"&COUNTA(Plage)))*(Plage=A5)),,,)} -> 39906
A6: P200-0004 | B6: 10 | C6: 96050 | D6: {=OFFSET(Feuil1!$A$3,MAX(ROW(INDIRECT("$1:$"&COUNTA(Plage)))*(Plage=A6)),,,)} -> 39906
A7: P200-0005 | B7: 3 | C7: 338541 | D7: {=OFFSET(Feuil1!$A$3,MAX(ROW(INDIRECT("$1:$"&COUNTA(Plage)))*(Plage=A7)),,,)} -> 39906
A8: P200-0006 | B8: 3 | C8: 59956.41 | D8: {=OFFSET(Feuil1!$A$3,MAX(ROW(INDIRECT("$1:$"&COUNTA(Plage)))*(Plage=A8)),,,)} -> 39906
A9: P200-0007 | B9: 1 | C9: 21038 | D9: {=OFFSET(Feuil1!$A$3,MAX(ROW(INDIRECT("$1:$"&COUNTA(Plage)))*(Plage=A9)),,,)} -> 39979
A10: P200-0008 | B10: 2 | C10: 0 | D10: {=OFFSET(Feuil1!$A$3,MAX(ROW(INDIRECT("$1:$"&COUNTA(Plage)))*(Plage=A10)),,,)} -> 39906
A11: P200-0009 | B11: 3 | C11: 99975.09 | D11: {=OFFSET(Feuil1!$A$3,MAX(ROW(INDIRECT("$1:$"&COUNTA(Plage)))*(Plage=A11)),,,)} -> 39906
A12: P200-0010 | B12: 1 | C12: 14265.84 | D12: {=OFFSET(Feuil1!$A$3,MAX(ROW(INDIRECT("$1:$"&COUNTA(Plage)))*(Plage=A12)),,,)} -> 39906
A13: P200-0011 | B13: 2 | C13: 39296 | D13: {=OFFSET(Feuil1!$A$3,MAX(ROW(INDIRECT("$1:$"&COUNTA(Plage)))*(Plage=A13)),,,)} -> 39906
A14: P200-0012 | B14: 3 | C14: 72717 | D14: {=OFFSET(Feuil1!$A$3,MAX(ROW(INDIRECT("$1:$"&COUNTA(Plage)))*(Plage=A14)),,,)} -> 39906
... A52: P200-0050 | B52: 1 | C52: 40769.72 | D52: {=OFFSET(Feuil1!$A$3,MAX(ROW(INDIRECT("$1:$"&COUNTA(Plage)))*(Plage=A52)),,,)} -> 39906

Sheet Feuil3
