Workbook
Name date: date!$A$1:$A$366

Sheet Base
A1: Chargement | B1: creneaux | C1: statuts | D1: ref
A2: 42739.375 | B2: AVANT 9h | C2: In Transit | D2: 790625
A3: 42741.542 | B3: 13H - 15H | C3: Tender | D3: 795218
A4: 42738.667 | B4: 15H - 17H | C4: In Transit | D4: 774237
A5: 42738.458 | B5: NAV MESS - 11 | C5: In Transit | D5: 792816
A6: 42739.417 | B6: 9H00 - 11H | C6: In Transit | D6: 795214
C7: Confirming | D7: 788406
A8: 42737.542 | B8: 13H - 15H | C8: In Transit | D8: 788407
A9: 42739.667 | B9: 15H - 17H | C9: Confirming | D9: 795952
A10: 42739.458 | B10: NAV MESS - 11 | C10: In Transit | D10: 795398
A11: 42741.583 | B11: 13H - 15H | C11: Tender | D11: 793682
A12: 42738.458 | B12: NAV MESS - 11 | C12: In Transit | D12: 790620
A13: 42739.542 | B13: 13H - 15H | C13: In Transit | D13: 792364
A14: 42739.458 | B14: NAV MESS - 11 | C14: In Transit | D14: 795215
A15: 42740.583 | B15: 13H - 15H | C15: Tender | D15: 796091
A16: 42739.5 | B16: 13H - 15H | C16: In Transit | D16: 783886
A17: 42739.458 | B17: NAV MESS - 11 | C17: In Transit | D17: 795220
A18: 42741.583 | B18: 13H - 15H | C18: Tender | D18: 783327
C19: Confirming | D19: 501796
A20: 42738.458 | B20: 9H00 - 11H | C20: In Transit | D20: 792727
A21: 42738.001 | B21: AVANT 9h | C21: In Transit | D21: 785154
A22: 42732.458 | B22: NAV MESS - 11 | C22: In Transit | D22: 785157
A23: 42740.667 | B23: 15H - 17H | C23: Tender | D23: 787765
A24: 42738.583 | B24: 13H - 15H | C24: In Transit | D24: 792355
A25: 42738.583 | B25: 13H - 15H | C25: In Transit | D25: 792786
A26: 0 | B26: AVANT 9h | C26: In Transit | D26: 716781
A27: 42739.708 | B27: 15H - 17H | C27: In Transit | D27: 788183
A28: 42738.667 | B28: 15H - 17H | C28: In Transit | D28: 793638
A29: 42706.458 | B29: NAV MESS - 11 | C29: In Transit | D29: 725605
A30: 42739.479 | B30: 9H00 - 11H | C30: In Transit | D30: 785751
A31: 42740.375 | B31: AVANT 9h | C31: Tender | D31: 797788
... A38: 42740.542 | B38: 13H - 15H | C38: Confirming | D38: 797543
C39: Tender | D39: 698663
A40: 42733.458 | B40: NAV MESS - 11 | C40: In Transit | D40: 787522
A41: 42739.583 | B41: 13H - 15H | C41: In Transit | D41: 792290
A42: 42732.458 | B42: NAV MESS - 11 | C42: In Transit | D42: 785166
A43: 42732.458 | B43: NAV MESS - 11 | C43: In Transit | D43: 785266
A44: 42741.458 | B44: 9H00 - 11H | C44: Tender | D44: 795205
A45: 42733.458 | B45: NAV MESS - 11 | C45: In Transit | D45: 787523
A46: 42733.458 | B46: NAV MESS - 11 | C46: In Transit | D46: 787557
A47: 42739.625 | B47: 13H - 15H | C47: Confirming | D47: 774382
A48: 42745.542 | B48: 13H - 15H | C48: Tender | D48: 795927
A49: 42738.583 | B49: 13H - 15H | C49: In Transit | D49: 792136
A50: 42739.583 | B50: 13H - 15H | C50: In Transit | D50: 793721
A51: 42740.458 | B51: 9H00 - 11H | C51: Tender | D51: 788179
C52: Confirming | D52: 791151
A53: 42739.458 | B53: NAV MESS - 11 | C53: In Transit | D53: 795399
A54: 42738.458 | B54: 9H00 - 11H | C54: In Transit | D54: 790623
A55: 42741.625 | B55: 13H - 15H | C55: Tender | D55: 793849
A56: 42738.417 | B56: 9H00 - 11H | C56: In Transit | D56: 792817
A57: 42740.583 | B57: 13H - 15H | C57: Tender | D57: 793752
A58: 42740.667 | B58: 15H - 17H | C58: Tender | D58: 793852
C59: Confirming | D59: 788392
A60: 42744.292 | B60: AVANT 9h | C60: Confirming | D60: 797686
A61: 42738.583 | B61: 13H - 15H | C61: In Transit | D61: 783567
A62: 42741.417 | B62: 9H00 - 11H | C62: Tender | D62: 785151
A63: 42738.583 | B63: 13H - 15H | C63: In Transit | D63: 785174
C64: Confirming | D64: 785940
A65: 42740.458 | B65: 9H00 - 11H | C65: Tender | D65: 797816
C66: Confirming | D66: 788344
A67: 42738.458 | B67: NAV MESS - 11 | C67: In Transit | D67: 793728
A68: 42739.583 | B68: 13H - 15H | C68: In Transit | D68: 795204
A69: 42726.458 | B69: NAV MESS - 11 | C69: In Transit | D69: 773208
A70: 42740.667 | B70: 15H - 17H | C70: Confirming | D70: 795573
A71: 42739.583 | B71: 13H - 15H | C71: In Transit | D71: 783209
A72: 42739.667 | B72: 15H - 17H | C72: In Transit | D72: 795235
A73: 42734.417 | B73: 9H00 - 11H | C73: Confirming | D73: 774226
C74: Confirming | D74: 791150
A75: 42740.625 | B75: 13H - 15H | C75: Confirming | D75: 770640
A76: 42733.458 | B76: NAV MESS - 11 | C76: In Transit | D76: 787527
C77: Confirming | D77: 785939
A78: 42740.583 | B78: 13H - 15H | C78: Tender | D78: 797680
A79: 42719.458 | B79: NAV MESS - 11 | C79: In Transit | D79: 754151
A80: 42738.792 | B80: 17H - 19H | C80: In Transit | D80: 790079
A81: 0 | B81: AVANT 9h | C81: In Transit | D81: 719862
A82: 42741.625 | B82: 13H - 15H | C82: Tender | D82: 778263
A83: 42739.458 | B83: 9H00 - 11H | C83: In Transit | D83: 792734
A84: 42732.458 | B84: NAV MESS - 11 | C84: In Transit | D84: 785168
A85: 42744.542 | B85: 13H - 15H | C85: Tender | D85: 795925
A86: 42740.458 | B86: NAV MESS - 11 | C86: Tender | D86: 797845
A87: 42740.583 | B87: 13H - 15H | C87: Confirming | D87: 795368
C88: Confirming | D88: 681562
C89: Confirming | D89: 780928
A90: 42732.458 | B90: NAV MESS - 11 | C90: In Transit | D90: 785308
A91: 42739.458 | B91: 9H00 - 11H | C91: In Transit | D91: 781363
A92: 42732.458 | B92: NAV MESS - 11 | C92: In Transit | D92: 783715
A93: 42732.458 | B93: NAV MESS - 11 | C93: In Transit | D93: 785167
A94: 42740.542 | B94: 13H - 15H | C94: Confirming | D94: 795716
A95: 42732.458 | B95: NAV MESS - 11 | C95: In Transit | D95: 785156
A96: 42738.001 | B96: AVANT 9h | C96: In Transit | D96: 792354
C97: Tender | D97: 773734
C98: Confirming | D98: 788348
A99: 42739.458 | B99: NAV MESS - 11 | C99: In Transit | D99: 795400
A100: 42740.458 | B100: NAV MESS - 11 | C100: Tender | D100: 797844
C101: Confirming | D101: 788351
A102: 42731.458 | B102: NAV MESS - 11 | C102: In Transit | D102: 783201
A103: 42738.583 | B103: 13H - 15H | C103: In Transit | D103: 790071
A104: 42740.458 | B104: 9H00 - 11H | C104: Tender | D104: 797908
C105: Confirming | D105: 788404
A106: 42740.583 | B106: 13H - 15H | C106: Tender | D106: 793751
...

Sheet Planning
B1: Références
B2: Tender | C2: Confirming | D2: In Transit | F2: Date | G2: 42739 | I2: LISTE DEROULANTE DES DATES
A3: AVANT 9H | B3: {=LARGE(IF(ISNUMBER(INT(Base!$A$2:$A$1000)),(INT(Base!$A$2:$A$1000)=$G$2)*(Base!$B$2:$B$1000=$A3)*(Base!$C$2:$C$1000=B$2)*(Base!$D$2:$D$1000),0),COUNTIF($A$3:$A3,$A3))} -> 0 | C3: {=LARGE(IF(ISNUMBER(INT(Base!$A$2:$A$1000)),(INT(Base!$A$2:$A$1000)=$G$2)*(Base!$B$2:$B$1000=$A3)*(Base!$C$2:$C$1000=C$2)*(Base!$D$2:$D$1000),0),COUNTIF($A$3:$A3,$A3))} -> 0 | D3: {=LARGE(IF(ISNUMBER(INT(Base!$A$2:$A$1000)),(INT(Base!$A$2:$A$1000)=$G$2)*(Base!$B$2:$B$1000=$A3)*(Base!$C$2:$C$1000=D$2)*(Base!$D$2:$D$1000),0),COUNTIF($A$3:$A3,$A3))} -> 790625
A4: AVANT 9H | B4: {=LARGE(IF(ISNUMBER(INT(Base!$A$2:$A$1000)),(INT(Base!$A$2:$A$1000)=$G$2)*(Base!$B$2:$B$1000=$A4)*(Base!$C$2:$C$1000=B$2)*(Base!$D$2:$D$1000),0),COUNTIF($A$3:$A4,$A4))} -> 0 | C4: {=LARGE(IF(ISNUMBER(INT(Base!$A$2:$A$1000)),(INT(Base!$A$2:$A$1000)=$G$2)*(Base!$B$2:$B$1000=$A4)*(Base!$C$2:$C$1000=C$2)*(Base!$D$2:$D$1000),0),COUNTIF($A$3:$A4,$A4))} -> 0 | D4: {=LARGE(IF(ISNUMBER(INT(Base!$A$2:$A$1000)),(INT(Base!$A$2:$A$1000)=$G$2)*(Base!$B$2:$B$1000=$A4)*(Base!$C$2:$C$1000=D$2)*(Base!$D$2:$D$1000),0),COUNTIF($A$3:$A4,$A4))} -> 0
A5: AVANT 9H | B5: {=LARGE(IF(ISNUMBER(INT(Base!$A$2:$A$1000)),(INT(Base!$A$2:$A$1000)=$G$2)*(Base!$B$2:$B$1000=$A5)*(Base!$C$2:$C$1000=B$2)*(Base!$D$2:$D$1000),0),COUNTIF($A$3:$A5,$A5))} -> 0 | C5: {=LARGE(IF(ISNUMBER(INT(Base!$A$2:$A$1000)),(INT(Base!$A$2:$A$1000)=$G$2)*(Base!$B$2:$B$1000=$A5)*(Base!$C$2:$C$1000=C$2)*(Base!$D$2:$D$1000),0),COUNTIF($A$3:$A5,$A5))} -> 0 | D5: {=LARGE(IF(ISNUMBER(INT(Base!$A$2:$A$1000)),(INT(Base!$A$2:$A$1000)=$G$2)*(Base!$B$2:$B$1000=$A5)*(Base!$C$2:$C$1000=D$2)*(Base!$D$2:$D$1000),0),COUNTIF($A$3:$A5,$A5))} -> 0
A6: AVANT 9H | B6: {=LARGE(IF(ISNUMBER(INT(Base!$A$2:$A$1000)),(INT(Base!$A$2:$A$1000)=$G$2)*(Base!$B$2:$B$1000=$A6)*(Base!$C$2:$C$1000=B$2)*(Base!$D$2:$D$1000),0),COUNTIF($A$3:$A6,$A6))} -> 0 | C6: {=LARGE(IF(ISNUMBER(INT(Base!$A$2:$A$1000)),(INT(Base!$A$2:$A$1000)=$G$2)*(Base!$B$2:$B$1000=$A6)*(Base!$C$2:$C$1000=C$2)*(Base!$D$2:$D$1000),0),COUNTIF($A$3:$A6,$A6))} -> 0 | D6: {=LARGE(IF(ISNUMBER(INT(Base!$A$2:$A$1000)),(INT(Base!$A$2:$A$1000)=$G$2)*(Base!$B$2:$B$1000=$A6)*(Base!$C$2:$C$1000=D$2)*(Base!$D$2:$D$1000),0),COUNTIF($A$3:$A6,$A6))} -> 0
A7: AVANT 9H | B7: {=LARGE(IF(ISNUMBER(INT(Base!$A$2:$A$1000)),(INT(Base!$A$2:$A$1000)=$G$2)*(Base!$B$2:$B$1000=$A7)*(Base!$C$2:$C$1000=B$2)*(Base!$D$2:$D$1000),0),COUNTIF($A$3:$A7,$A7))} -> 0 | C7: {=LARGE(IF(ISNUMBER(INT(Base!$A$2:$A$1000)),(INT(Base!$A$2:$A$1000)=$G$2)*(Base!$B$2:$B$1000=$A7)*(Base!$C$2:$C$1000=C$2)*(Base!$D$2:$D$1000),0),COUNTIF($A$3:$A7,$A7))} -> 0 | D7: {=LARGE(IF(ISNUMBER(INT(Base!$A$2:$A$1000)),(INT(Base!$A$2:$A$1000)=$G$2)*(Base!$B$2:$B$1000=$A7)*(Base!$C$2:$C$1000=D$2)*(Base!$D$2:$D$1000),0),COUNTIF($A$3:$A7,$A7))} -> 0 | F7: 1- renvoie les n° de réfénreces dans les cases vides suivants les créneaux et la date du jour
A8: AVANT 9H | B8: {=LARGE(IF(ISNUMBER(INT(Base!$A$2:$A$1000)),(INT(Base!$A$2:$A$1000)=$G$2)*(Base!$B$2:$B$1000=$A8)*(Base!$C$2:$C$1000=B$2)*(Base!$D$2:$D$1000),0),COUNTIF($A$3:$A8,$A8))} -> 0 | C8: {=LARGE(IF(ISNUMBER(INT(Base!$A$2:$A$1000)),(INT(Base!$A$2:$A$1000)=$G$2)*(Base!$B$2:$B$1000=$A8)*(Base!$C$2:$C$1000=C$2)*(Base!$D$2:$D$1000),0),COUNTIF($A$3:$A8,$A8))} -> 0 | D8: {=LARGE(IF(ISNUMBER(INT(Base!$A$2:$A$1000)),(INT(Base!$A$2:$A$1000)=$G$2)*(Base!$B$2:$B$1000=$A8)*(Base!$C$2:$C$1000=D$2)*(Base!$D$2:$D$1000),0),COUNTIF($A$3:$A8,$A8))} -> 0 | F8: 2- si les creneaux dans "Base" sont NAV MESS alors compte les nombres de NAV MESS
A9: AVANT 9H | B9: {=LARGE(IF(ISNUMBER(INT(Base!$A$2:$A$1000)),(INT(Base!$A$2:$A$1000)=$G$2)*(Base!$B$2:$B$1000=$A9)*(Base!$C$2:$C$1000=B$2)*(Base!$D$2:$D$1000),0),COUNTIF($A$3:$A9,$A9))} -> 0 | C9: {=LARGE(IF(ISNUMBER(INT(Base!$A$2:$A$1000)),(INT(Base!$A$2:$A$1000)=$G$2)*(Base!$B$2:$B$1000=$A9)*(Base!$C$2:$C$1000=C$2)*(Base!$D$2:$D$1000),0),COUNTIF($A$3:$A9,$A9))} -> 0 | D9: {=LARGE(IF(ISNUMBER(INT(Base!$A$2:$A$1000)),(INT(Base!$A$2:$A$1000)=$G$2)*(Base!$B$2:$B$1000=$A9)*(Base!$C$2:$C$1000=D$2)*(Base!$D$2:$D$1000),0),COUNTIF($A$3:$A9,$A9))} -> 0
A10: AVANT 9H | B10: {=LARGE(IF(ISNUMBER(INT(Base!$A$2:$A$1000)),(INT(Base!$A$2:$A$1000)=$G$2)*(Base!$B$2:$B$1000=$A10)*(Base!$C$2:$C$1000=B$2)*(Base!$D$2:$D$1000),0),COUNTIF($A$3:$A10,$A10))} -> 0 | C10: {=LARGE(IF(ISNUMBER(INT(Base!$A$2:$A$1000)),(INT(Base!$A$2:$A$1000)=$G$2)*(Base!$B$2:$B$1000=$A10)*(Base!$C$2:$C$1000=C$2)*(Base!$D$2:$D$1000),0),COUNTIF($A$3:$A10,$A10))} -> 0 | D10: {=LARGE(IF(ISNUMBER(INT(Base!$A$2:$A$1000)),(INT(Base!$A$2:$A$1000)=$G$2)*(Base!$B$2:$B$1000=$A10)*(Base!$C$2:$C$1000=D$2)*(Base!$D$2:$D$1000),0),COUNTIF($A$3:$A10,$A10))} -> 0
A11: AVANT 9H | B11: {=LARGE(IF(ISNUMBER(INT(Base!$A$2:$A$1000)),(INT(Base!$A$2:$A$1000)=$G$2)*(Base!$B$2:$B$1000=$A11)*(Base!$C$2:$C$1000=B$2)*(Base!$D$2:$D$1000),0),COUNTIF($A$3:$A11,$A11))} -> 0 | C11: {=LARGE(IF(ISNUMBER(INT(Base!$A$2:$A$1000)),(INT(Base!$A$2:$A$1000)=$G$2)*(Base!$B$2:$B$1000=$A11)*(Base!$C$2:$C$1000=C$2)*(Base!$D$2:$D$1000),0),COUNTIF($A$3:$A11,$A11))} -> 0 | D11: {=LARGE(IF(ISNUMBER(INT(Base!$A$2:$A$1000)),(INT(Base!$A$2:$A$1000)=$G$2)*(Base!$B$2:$B$1000=$A11)*(Base!$C$2:$C$1000=D$2)*(Base!$D$2:$D$1000),0),COUNTIF($A$3:$A11,$A11))} -> 0
A12: AVANT 9H | B12: {=LARGE(IF(ISNUMBER(INT(Base!$A$2:$A$1000)),(INT(Base!$A$2:$A$1000)=$G$2)*(Base!$B$2:$B$1000=$A12)*(Base!$C$2:$C$1000=B$2)*(Base!$D$2:$D$1000),0),COUNTIF($A$3:$A12,$A12))} -> 0 | C12: {=LARGE(IF(ISNUMBER(INT(Base!$A$2:$A$1000)),(INT(Base!$A$2:$A$1000)=$G$2)*(Base!$B$2:$B$1000=$A12)*(Base!$C$2:$C$1000=C$2)*(Base!$D$2:$D$1000),0),COUNTIF($A$3:$A12,$A12))} -> 0 | D12: {=LARGE(IF(ISNUMBER(INT(Base!$A$2:$A$1000)),(INT(Base!$A$2:$A$1000)=$G$2)*(Base!$B$2:$B$1000=$A12)*(Base!$C$2:$C$1000=D$2)*(Base!$D$2:$D$1000),0),COUNTIF($A$3:$A12,$A12))} -> 0
A13: 9H00 - 11H | B13: {=LARGE(IF(ISNUMBER(INT(Base!$A$2:$A$1000)),(INT(Base!$A$2:$A$1000)=$G$2)*(Base!$B$2:$B$1000=$A13)*(Base!$C$2:$C$1000=B$2)*(Base!$D$2:$D$1000),0),COUNTIF($A$3:$A13,$A13))} -> 0 | C13: {=LARGE(IF(ISNUMBER(INT(Base!$A$2:$A$1000)),(INT(Base!$A$2:$A$1000)=$G$2)*(Base!$B$2:$B$1000=$A13)*(Base!$C$2:$C$1000=C$2)*(Base!$D$2:$D$1000),0),COUNTIF($A$3:$A13,$A13))} -> 0 | D13: {=LARGE(IF(ISNUMBER(INT(Base!$A$2:$A$1000)),(INT(Base!$A$2:$A$1000)=$G$2)*(Base!$B$2:$B$1000=$A13)*(Base!$C$2:$C$1000=D$2)*(Base!$D$2:$D$1000),0),COUNTIF($A$3:$A13,$A13))} -> 795214
A14: 9H00 - 11H | B14: {=LARGE(IF(ISNUMBER(INT(Base!$A$2:$A$1000)),(INT(Base!$A$2:$A$1000)=$G$2)*(Base!$B$2:$B$1000=$A14)*(Base!$C$2:$C$1000=B$2)*(Base!$D$2:$D$1000),0),COUNTIF($A$3:$A14,$A14))} -> 0 | C14: {=LARGE(IF(ISNUMBER(INT(Base!$A$2:$A$1000)),(INT(Base!$A$2:$A$1000)=$G$2)*(Base!$B$2:$B$1000=$A14)*(Base!$C$2:$C$1000=C$2)*(Base!$D$2:$D$1000),0),COUNTIF($A$3:$A14,$A14))} -> 0 | D14: {=LARGE(IF(ISNUMBER(INT(Base!$A$2:$A$1000)),(INT(Base!$A$2:$A$1000)=$G$2)*(Base!$B$2:$B$1000=$A14)*(Base!$C$2:$C$1000=D$2)*(Base!$D$2:$D$1000),0),COUNTIF($A$3:$A14,$A14))} -> 792734
A15: 9H00 - 11H | B15: {=LARGE(IF(ISNUMBER(INT(Base!$A$2:$A$1000)),(INT(Base!$A$2:$A$1000)=$G$2)*(Base!$B$2:$B$1000=$A15)*(Base!$C$2:$C$1000=B$2)*(Base!$D$2:$D$1000),0),COUNTIF($A$3:$A15,$A15))} -> 0 | C15: {=LARGE(IF(ISNUMBER(INT(Base!$A$2:$A$1000)),(INT(Base!$A$2:$A$1000)=$G$2)*(Base!$B$2:$B$1000=$A15)*(Base!$C$2:$C$1000=C$2)*(Base!$D$2:$D$1000),0),COUNTIF($A$3:$A15,$A15))} -> 0 | D15: {=LARGE(IF(ISNUMBER(INT(Base!$A$2:$A$1000)),(INT(Base!$A$2:$A$1000)=$G$2)*(Base!$B$2:$B$1000=$A15)*(Base!$C$2:$C$1000=D$2)*(Base!$D$2:$D$1000),0),COUNTIF($A$3:$A15,$A15))} -> 785751
A16: 9H00 - 11H | B16: {=LARGE(IF(ISNUMBER(INT(Base!$A$2:$A$1000)),(INT(Base!$A$2:$A$1000)=$G$2)*(Base!$B$2:$B$1000=$A16)*(Base!$C$2:$C$1000=B$2)*(Base!$D$2:$D$1000),0),COUNTIF($A$3:$A16,$A16))} -> 0 | C16: {=LARGE(IF(ISNUMBER(INT(Base!$A$2:$A$1000)),(INT(Base!$A$2:$A$1000)=$G$2)*(Base!$B$2:$B$1000=$A16)*(Base!$C$2:$C$1000=C$2)*(Base!$D$2:$D$1000),0),COUNTIF($A$3:$A16,$A16))} -> 0 | D16: {=LARGE(IF(ISNUMBER(INT(Base!$A$2:$A$1000)),(INT(Base!$A$2:$A$1000)=$G$2)*(Base!$B$2:$B$1000=$A16)*(Base!$C$2:$C$1000=D$2)*(Base!$D$2:$D$1000),0),COUNTIF($A$3:$A16,$A16))} -> 781363
A17: 9H00 - 11H | B17: {=LARGE(IF(ISNUMBER(INT(Base!$A$2:$A$1000)),(INT(Base!$A$2:$A$1000)=$G$2)*(Base!$B$2:$B$1000=$A17)*(Base!$C$2:$C$1000=B$2)*(Base!$D$2:$D$1000),0),COUNTIF($A$3:$A17,$A17))} -> 0 | C17: {=LARGE(IF(ISNUMBER(INT(Base!$A$2:$A$1000)),(INT(Base!$A$2:$A$1000)=$G$2)*(Base!$B$2:$B$1000=$A17)*(Base!$C$2:$C$1000=C$2)*(Base!$D$2:$D$1000),0),COUNTIF($A$3:$A17,$A17))} -> 0 | D17: {=LARGE(IF(ISNUMBER(INT(Base!$A$2:$A$1000)),(INT(Base!$A$2:$A$1000)=$G$2)*(Base!$B$2:$B$1000=$A17)*(Base!$C$2:$C$1000=D$2)*(Base!$D$2:$D$1000),0),COUNTIF($A$3:$A17,$A17))} -> 0
A18: 9H00 - 11H | B18: {=LARGE(IF(ISNUMBER(INT(Base!$A$2:$A$1000)),(INT(Base!$A$2:$A$1000)=$G$2)*(Base!$B$2:$B$1000=$A18)*(Base!$C$2:$C$1000=B$2)*(Base!$D$2:$D$1000),0),COUNTIF($A$3:$A18,$A18))} -> 0 | C18: {=LARGE(IF(ISNUMBER(INT(Base!$A$2:$A$1000)),(INT(Base!$A$2:$A$1000)=$G$2)*(Base!$B$2:$B$1000=$A18)*(Base!$C$2:$C$1000=C$2)*(Base!$D$2:$D$1000),0),COUNTIF($A$3:$A18,$A18))} -> 0 | D18: {=LARGE(IF(ISNUMBER(INT(Base!$A$2:$A$1000)),(INT(Base!$A$2:$A$1000)=$G$2)*(Base!$B$2:$B$1000=$A18)*(Base!$C$2:$C$1000=D$2)*(Base!$D$2:$D$1000),0),COUNTIF($A$3:$A18,$A18))} -> 0
A19: 9H00 - 11H | B19: {=LARGE(IF(ISNUMBER(INT(Base!$A$2:$A$1000)),(INT(Base!$A$2:$A$1000)=$G$2)*(Base!$B$2:$B$1000=$A19)*(Base!$C$2:$C$1000=B$2)*(Base!$D$2:$D$1000),0),COUNTIF($A$3:$A19,$A19))} -> 0 | C19: {=LARGE(IF(ISNUMBER(INT(Base!$A$2:$A$1000)),(INT(Base!$A$2:$A$1000)=$G$2)*(Base!$B$2:$B$1000=$A19)*(Base!$C$2:$C$1000=C$2)*(Base!$D$2:$D$1000),0),COUNTIF($A$3:$A19,$A19))} -> 0 | D19: {=LARGE(IF(ISNUMBER(INT(Base!$A$2:$A$1000)),(INT(Base!$A$2:$A$1000)=$G$2)*(Base!$B$2:$B$1000=$A19)*(Base!$C$2:$C$1000=D$2)*(Base!$D$2:$D$1000),0),COUNTIF($A$3:$A19,$A19))} -> 0
A20: 9H00 - 11H | B20: {=LARGE(IF(ISNUMBER(INT(Base!$A$2:$A$1000)),(INT(Base!$A$2:$A$1000)=$G$2)*(Base!$B$2:$B$1000=$A20)*(Base!$C$2:$C$1000=B$2)*(Base!$D$2:$D$1000),0),COUNTIF($A$3:$A20,$A20))} -> 0 | C20: {=LARGE(IF(ISNUMBER(INT(Base!$A$2:$A$1000)),(INT(Base!$A$2:$A$1000)=$G$2)*(Base!$B$2:$B$1000=$A20)*(Base!$C$2:$C$1000=C$2)*(Base!$D$2:$D$1000),0),COUNTIF($A$3:$A20,$A20))} -> 0 | D20: {=LARGE(IF(ISNUMBER(INT(Base!$A$2:$A$1000)),(INT(Base!$A$2:$A$1000)=$G$2)*(Base!$B$2:$B$1000=$A20)*(Base!$C$2:$C$1000=D$2)*(Base!$D$2:$D$1000),0),COUNTIF($A$3:$A20,$A20))} -> 0
A21: 9H00 - 11H | B21: {=LARGE(IF(ISNUMBER(INT(Base!$A$2:$A$1000)),(INT(Base!$A$2:$A$1000)=$G$2)*(Base!$B$2:$B$1000=$A21)*(Base!$C$2:$C$1000=B$2)*(Base!$D$2:$D$1000),0),COUNTIF($A$3:$A21,$A21))} -> 0 | C21: {=LARGE(IF(ISNUMBER(INT(Base!$A$2:$A$1000)),(INT(Base!$A$2:$A$1000)=$G$2)*(Base!$B$2:$B$1000=$A21)*(Base!$C$2:$C$1000=C$2)*(Base!$D$2:$D$1000),0),COUNTIF($A$3:$A21,$A21))} -> 0 | D21: {=LARGE(IF(ISNUMBER(INT(Base!$A$2:$A$1000)),(INT(Base!$A$2:$A$1000)=$G$2)*(Base!$B$2:$B$1000=$A21)*(Base!$C$2:$C$1000=D$2)*(Base!$D$2:$D$1000),0),COUNTIF($A$3:$A21,$A21))} -> 0
A22: NAV MESS - 11 | C22: {=SUMPRODUCT((IF(ISNUMBER(INT(Base!$A$2:$A$1000)),(INT(Base!$A$2:$A$1000)=$G$2)*(Base!$B$2:$B$1000=$A22))))} -> 5
A23: 11H - 13H | B23: {=LARGE(IF(ISNUMBER(INT(Base!$A$2:$A$1000)),(INT(Base!$A$2:$A$1000)=$G$2)*(Base!$B$2:$B$1000=$A23)*(Base!$C$2:$C$1000=B$2)*(Base!$D$2:$D$1000),0),COUNTIF($A$3:$A23,$A23))} -> 0 | C23: {=LARGE(IF(ISNUMBER(INT(Base!$A$2:$A$1000)),(INT(Base!$A$2:$A$1000)=$G$2)*(Base!$B$2:$B$1000=$A23)*(Base!$C$2:$C$1000=C$2)*(Base!$D$2:$D$1000),0),COUNTIF($A$3:$A23,$A23))} -> 0 | D23: {=LARGE(IF(ISNUMBER(INT(Base!$A$2:$A$1000)),(INT(Base!$A$2:$A$1000)=$G$2)*(Base!$B$2:$B$1000=$A23)*(Base!$C$2:$C$1000=D$2)*(Base!$D$2:$D$1000),0),COUNTIF($A$3:$A23,$A23))} -> 0
A24: 11H - 13H | B24: {=LARGE(IF(ISNUMBER(INT(Base!$A$2:$A$1000)),(INT(Base!$A$2:$A$1000)=$G$2)*(Base!$B$2:$B$1000=$A24)*(Base!$C$2:$C$1000=B$2)*(Base!$D$2:$D$1000),0),COUNTIF($A$3:$A24,$A24))} -> 0 | C24: {=LARGE(IF(ISNUMBER(INT(Base!$A$2:$A$1000)),(INT(Base!$A$2:$A$1000)=$G$2)*(Base!$B$2:$B$1000=$A24)*(Base!$C$2:$C$1000=C$2)*(Base!$D$2:$D$1000),0),COUNTIF($A$3:$A24,$A24))} -> 0 | D24: {=LARGE(IF(ISNUMBER(INT(Base!$A$2:$A$1000)),(INT(Base!$A$2:$A$1000)=$G$2)*(Base!$B$2:$B$1000=$A24)*(Base!$C$2:$C$1000=D$2)*(Base!$D$2:$D$1000),0),COUNTIF($A$3:$A24,$A24))} -> 0
A25: 11H - 13H | B25: {=LARGE(IF(ISNUMBER(INT(Base!$A$2:$A$1000)),(INT(Base!$A$2:$A$1000)=$G$2)*(Base!$B$2:$B$1000=$A25)*(Base!$C$2:$C$1000=B$2)*(Base!$D$2:$D$1000),0),COUNTIF($A$3:$A25,$A25))} -> 0 | C25: {=LARGE(IF(ISNUMBER(INT(Base!$A$2:$A$1000)),(INT(Base!$A$2:$A$1000)=$G$2)*(Base!$B$2:$B$1000=$A25)*(Base!$C$2:$C$1000=C$2)*(Base!$D$2:$D$1000),0),COUNTIF($A$3:$A25,$A25))} -> 0 | D25: {=LARGE(IF(ISNUMBER(INT(Base!$A$2:$A$1000)),(INT(Base!$A$2:$A$1000)=$G$2)*(Base!$B$2:$B$1000=$A25)*(Base!$C$2:$C$1000=D$2)*(Base!$D$2:$D$1000),0),COUNTIF($A$3:$A25,$A25))} -> 0
A26: 11H - 13H | B26: {=LARGE(IF(ISNUMBER(INT(Base!$A$2:$A$1000)),(INT(Base!$A$2:$A$1000)=$G$2)*(Base!$B$2:$B$1000=$A26)*(Base!$C$2:$C$1000=B$2)*(Base!$D$2:$D$1000),0),COUNTIF($A$3:$A26,$A26))} -> 0 | C26: {=LARGE(IF(ISNUMBER(INT(Base!$A$2:$A$1000)),(INT(Base!$A$2:$A$1000)=$G$2)*(Base!$B$2:$B$1000=$A26)*(Base!$C$2:$C$1000=C$2)*(Base!$D$2:$D$1000),0),COUNTIF($A$3:$A26,$A26))} -> 0 | D26: {=LARGE(IF(ISNUMBER(INT(Base!$A$2:$A$1000)),(INT(Base!$A$2:$A$1000)=$G$2)*(Base!$B$2:$B$1000=$A26)*(Base!$C$2:$C$1000=D$2)*(Base!$D$2:$D$1000),0),COUNTIF($A$3:$A26,$A26))} -> 0
A27: 11H - 13H | B27: {=LARGE(IF(ISNUMBER(INT(Base!$A$2:$A$1000)),(INT(Base!$A$2:$A$1000)=$G$2)*(Base!$B$2:$B$1000=$A27)*(Base!$C$2:$C$1000=B$2)*(Base!$D$2:$D$1000),0),COUNTIF($A$3:$A27,$A27))} -> 0 | C27: {=LARGE(IF(ISNUMBER(INT(Base!$A$2:$A$1000)),(INT(Base!$A$2:$A$1000)=$G$2)*(Base!$B$2:$B$1000=$A27)*(Base!$C$2:$C$1000=C$2)*(Base!$D$2:$D$1000),0),COUNTIF($A$3:$A27,$A27))} -> 0 | D27: {=LARGE(IF(ISNUMBER(INT(Base!$A$2:$A$1000)),(INT(Base!$A$2:$A$1000)=$G$2)*(Base!$B$2:$B$1000=$A27)*(Base!$C$2:$C$1000=D$2)*(Base!$D$2:$D$1000),0),COUNTIF($A$3:$A27,$A27))} -> 0
A28: 11H - 13H | B28: {=LARGE(IF(ISNUMBER(INT(Base!$A$2:$A$1000)),(INT(Base!$A$2:$A$1000)=$G$2)*(Base!$B$2:$B$1000=$A28)*(Base!$C$2:$C$1000=B$2)*(Base!$D$2:$D$1000),0),COUNTIF($A$3:$A28,$A28))} -> 0 | C28: {=LARGE(IF(ISNUMBER(INT(Base!$A$2:$A$1000)),(INT(Base!$A$2:$A$1000)=$G$2)*(Base!$B$2:$B$1000=$A28)*(Base!$C$2:$C$1000=C$2)*(Base!$D$2:$D$1000),0),COUNTIF($A$3:$A28,$A28))} -> 0 | D28: {=LARGE(IF(ISNUMBER(INT(Base!$A$2:$A$1000)),(INT(Base!$A$2:$A$1000)=$G$2)*(Base!$B$2:$B$1000=$A28)*(Base!$C$2:$C$1000=D$2)*(Base!$D$2:$D$1000),0),COUNTIF($A$3:$A28,$A28))} -> 0
A29: 11H - 13H | B29: {=LARGE(IF(ISNUMBER(INT(Base!$A$2:$A$1000)),(INT(Base!$A$2:$A$1000)=$G$2)*(Base!$B$2:$B$1000=$A29)*(Base!$C$2:$C$1000=B$2)*(Base!$D$2:$D$1000),0),COUNTIF($A$3:$A29,$A29))} -> 0 | C29: {=LARGE(IF(ISNUMBER(INT(Base!$A$2:$A$1000)),(INT(Base!$A$2:$A$1000)=$G$2)*(Base!$B$2:$B$1000=$A29)*(Base!$C$2:$C$1000=C$2)*(Base!$D$2:$D$1000),0),COUNTIF($A$3:$A29,$A29))} -> 0 | D29: {=LARGE(IF(ISNUMBER(INT(Base!$A$2:$A$1000)),(INT(Base!$A$2:$A$1000)=$G$2)*(Base!$B$2:$B$1000=$A29)*(Base!$C$2:$C$1000=D$2)*(Base!$D$2:$D$1000),0),COUNTIF($A$3:$A29,$A29))} -> 0
A30: 11H - 13H | B30: {=LARGE(IF(ISNUMBER(INT(Base!$A$2:$A$1000)),(INT(Base!$A$2:$A$1000)=$G$2)*(Base!$B$2:$B$1000=$A30)*(Base!$C$2:$C$1000=B$2)*(Base!$D$2:$D$1000),0),COUNTIF($A$3:$A30,$A30))} -> 0 | C30: {=LARGE(IF(ISNUMBER(INT(Base!$A$2:$A$1000)),(INT(Base!$A$2:$A$1000)=$G$2)*(Base!$B$2:$B$1000=$A30)*(Base!$C$2:$C$1000=C$2)*(Base!$D$2:$D$1000),0),COUNTIF($A$3:$A30,$A30))} -> 0 | D30: {=LARGE(IF(ISNUMBER(INT(Base!$A$2:$A$1000)),(INT(Base!$A$2:$A$1000)=$G$2)*(Base!$B$2:$B$1000=$A30)*(Base!$C$2:$C$1000=D$2)*(Base!$D$2:$D$1000),0),COUNTIF($A$3:$A30,$A30))} -> 0
A31: 11H - 13H | B31: {=LARGE(IF(ISNUMBER(INT(Base!$A$2:$A$1000)),(INT(Base!$A$2:$A$1000)=$G$2)*(Base!$B$2:$B$1000=$A31)*(Base!$C$2:$C$1000=B$2)*(Base!$D$2:$D$1000),0),COUNTIF($A$3:$A31,$A31))} -> 0 | C31: {=LARGE(IF(ISNUMBER(INT(Base!$A$2:$A$1000)),(INT(Base!$A$2:$A$1000)=$G$2)*(Base!$B$2:$B$1000=$A31)*(Base!$C$2:$C$1000=C$2)*(Base!$D$2:$D$1000),0),COUNTIF($A$3:$A31,$A31))} -> 0 | D31: {=LARGE(IF(ISNUMBER(INT(Base!$A$2:$A$1000)),(INT(Base!$A$2:$A$1000)=$G$2)*(Base!$B$2:$B$1000=$A31)*(Base!$C$2:$C$1000=D$2)*(Base!$D$2:$D$1000),0),COUNTIF($A$3:$A31,$A31))} -> 0
A32: 11H - 13H | B32: {=LARGE(IF(ISNUMBER(INT(Base!$A$2:$A$1000)),(INT(Base!$A$2:$A$1000)=$G$2)*(Base!$B$2:$B$1000=$A32)*(Base!$C$2:$C$1000=B$2)*(Base!$D$2:$D$1000),0),COUNTIF($A$3:$A32,$A32))} -> 0 | C32: {=LARGE(IF(ISNUMBER(INT(Base!$A$2:$A$1000)),(INT(Base!$A$2:$A$1000)=$G$2)*(Base!$B$2:$B$1000=$A32)*(Base!$C$2:$C$1000=C$2)*(Base!$D$2:$D$1000),0),COUNTIF($A$3:$A32,$A32))} -> 0 | D32: {=LARGE(IF(ISNUMBER(INT(Base!$A$2:$A$1000)),(INT(Base!$A$2:$A$1000)=$G$2)*(Base!$B$2:$B$1000=$A32)*(Base!$C$2:$C$1000=D$2)*(Base!$D$2:$D$1000),0),COUNTIF($A$3:$A32,$A32))} -> 0
A33: 13H - 15H | B33: {=LARGE(IF(ISNUMBER(INT(Base!$A$2:$A$1000)),(INT(Base!$A$2:$A$1000)=$G$2)*(Base!$B$2:$B$1000=$A33)*(Base!$C$2:$C$1000=B$2)*(Base!$D$2:$D$1000),0),COUNTIF($A$3:$A33,$A33))} -> 0 | C33: {=LARGE(IF(ISNUMBER(INT(Base!$A$2:$A$1000)),(INT(Base!$A$2:$A$1000)=$G$2)*(Base!$B$2:$B$1000=$A33)*(Base!$C$2:$C$1000=C$2)*(Base!$D$2:$D$1000),0),COUNTIF($A$3:$A33,$A33))} -> 774382 | D33: {=LARGE(IF(ISNUMBER(INT(Base!$A$2:$A$1000)),(INT(Base!$A$2:$A$1000)=$G$2)*(Base!$B$2:$B$1000=$A33)*(Base!$C$2:$C$1000=D$2)*(Base!$D$2:$D$1000),0),COUNTIF($A$3:$A33,$A33))} -> 795236
A34: 13H - 15H | B34: {=LARGE(IF(ISNUMBER(INT(Base!$A$2:$A$1000)),(INT(Base!$A$2:$A$1000)=$G$2)*(Base!$B$2:$B$1000=$A34)*(Base!$C$2:$C$1000=B$2)*(Base!$D$2:$D$1000),0),COUNTIF($A$3:$A34,$A34))} -> 0 | C34: {=LARGE(IF(ISNUMBER(INT(Base!$A$2:$A$1000)),(INT(Base!$A$2:$A$1000)=$G$2)*(Base!$B$2:$B$1000=$A34)*(Base!$C$2:$C$1000=C$2)*(Base!$D$2:$D$1000),0),COUNTIF($A$3:$A34,$A34))} -> 0 | D34: {=LARGE(IF(ISNUMBER(INT(Base!$A$2:$A$1000)),(INT(Base!$A$2:$A$1000)=$G$2)*(Base!$B$2:$B$1000=$A34)*(Base!$C$2:$C$1000=D$2)*(Base!$D$2:$D$1000),0),COUNTIF($A$3:$A34,$A34))} -> 795204
... A41: 13H - 15H | B41: {=LARGE(IF(ISNUMBER(INT(Base!$A$2:$A$1000)),(INT(Base!$A$2:$A$1000)=$G$2)*(Base!$B$2:$B$1000=$A41)*(Base!$C$2:$C$1000=B$2)*(Base!$D$2:$D$1000),0),COUNTIF($A$3:$A41,$A41))} -> 0 | C41: {=LARGE(IF(ISNUMBER(INT(Base!$A$2:$A$1000)),(INT(Base!$A$2:$A$1000)=$G$2)*(Base!$B$2:$B$1000=$A41)*(Base!$C$2:$C$1000=C$2)*(Base!$D$2:$D$1000),0),COUNTIF($A$3:$A41,$A41))} -> 0 | D41: {=LARGE(IF(ISNUMBER(INT(Base!$A$2:$A$1000)),(INT(Base!$A$2:$A$1000)=$G$2)*(Base!$B$2:$B$1000=$A41)*(Base!$C$2:$C$1000=D$2)*(Base!$D$2:$D$1000),0),COUNTIF($A$3:$A41,$A41))} -> 0
A42: NAV MESS - 15 | C42: {=SUMPRODUCT((IF(ISNUMBER(INT(Base!$A$2:$A$1000)),(INT(Base!$A$2:$A$1000)=$G$2)*(Base!$B$2:$B$1000=$A42))))} -> 0
A43: 15H - 17H | B43: {=LARGE(IF(ISNUMBER(INT(Base!$A$2:$A$1000)),(INT(Base!$A$2:$A$1000)=$G$2)*(Base!$B$2:$B$1000=$A43)*(Base!$C$2:$C$1000=B$2)*(Base!$D$2:$D$1000),0),COUNTIF($A$3:$A43,$A43))} -> 0 | C43: {=LARGE(IF(ISNUMBER(INT(Base!$A$2:$A$1000)),(INT(Base!$A$2:$A$1000)=$G$2)*(Base!$B$2:$B$1000=$A43)*(Base!$C$2:$C$1000=C$2)*(Base!$D$2:$D$1000),0),COUNTIF($A$3:$A43,$A43))} -> 795952 | D43: {=LARGE(IF(ISNUMBER(INT(Base!$A$2:$A$1000)),(INT(Base!$A$2:$A$1000)=$G$2)*(Base!$B$2:$B$1000=$A43)*(Base!$C$2:$C$1000=D$2)*(Base!$D$2:$D$1000),0),COUNTIF($A$3:$A43,$A43))} -> 795235
A44: 15H - 17H | B44: {=LARGE(IF(ISNUMBER(INT(Base!$A$2:$A$1000)),(INT(Base!$A$2:$A$1000)=$G$2)*(Base!$B$2:$B$1000=$A44)*(Base!$C$2:$C$1000=B$2)*(Base!$D$2:$D$1000),0),COUNTIF($A$3:$A44,$A44))} -> 0 | C44: {=LARGE(IF(ISNUMBER(INT(Base!$A$2:$A$1000)),(INT(Base!$A$2:$A$1000)=$G$2)*(Base!$B$2:$B$1000=$A44)*(Base!$C$2:$C$1000=C$2)*(Base!$D$2:$D$1000),0),COUNTIF($A$3:$A44,$A44))} -> 0 | D44: {=LARGE(IF(ISNUMBER(INT(Base!$A$2:$A$1000)),(INT(Base!$A$2:$A$1000)=$G$2)*(Base!$B$2:$B$1000=$A44)*(Base!$C$2:$C$1000=D$2)*(Base!$D$2:$D$1000),0),COUNTIF($A$3:$A44,$A44))} -> 788183
A45: 15H - 17H | B45: {=LARGE(IF(ISNUMBER(INT(Base!$A$2:$A$1000)),(INT(Base!$A$2:$A$1000)=$G$2)*(Base!$B$2:$B$1000=$A45)*(Base!$C$2:$C$1000=B$2)*(Base!$D$2:$D$1000),0),COUNTIF($A$3:$A45,$A45))} -> 0 | C45: {=LARGE(IF(ISNUMBER(INT(Base!$A$2:$A$1000)),(INT(Base!$A$2:$A$1000)=$G$2)*(Base!$B$2:$B$1000=$A45)*(Base!$C$2:$C$1000=C$2)*(Base!$D$2:$D$1000),0),COUNTIF($A$3:$A45,$A45))} -> 0 | D45: {=LARGE(IF(ISNUMBER(INT(Base!$A$2:$A$1000)),(INT(Base!$A$2:$A$1000)=$G$2)*(Base!$B$2:$B$1000=$A45)*(Base!$C$2:$C$1000=D$2)*(Base!$D$2:$D$1000),0),COUNTIF($A$3:$A45,$A45))} -> 0
A46: 15H - 17H | B46: {=LARGE(IF(ISNUMBER(INT(Base!$A$2:$A$1000)),(INT(Base!$A$2:$A$1000)=$G$2)*(Base!$B$2:$B$1000=$A46)*(Base!$C$2:$C$1000=B$2)*(Base!$D$2:$D$1000),0),COUNTIF($A$3:$A46,$A46))} -> 0 | C46: {=LARGE(IF(ISNUMBER(INT(Base!$A$2:$A$1000)),(INT(Base!$A$2:$A$1000)=$G$2)*(Base!$B$2:$B$1000=$A46)*(Base!$C$2:$C$1000=C$2)*(Base!$D$2:$D$1000),0),COUNTIF($A$3:$A46,$A46))} -> 0 | D46: {=LARGE(IF(ISNUMBER(INT(Base!$A$2:$A$1000)),(INT(Base!$A$2:$A$1000)=$G$2)*(Base!$B$2:$B$1000=$A46)*(Base!$C$2:$C$1000=D$2)*(Base!$D$2:$D$1000),0),COUNTIF($A$3:$A46,$A46))} -> 0
A47: 15H - 17H | B47: {=LARGE(IF(ISNUMBER(INT(Base!$A$2:$A$1000)),(INT(Base!$A$2:$A$1000)=$G$2)*(Base!$B$2:$B$1000=$A47)*(Base!$C$2:$C$1000=B$2)*(Base!$D$2:$D$1000),0),COUNTIF($A$3:$A47,$A47))} -> 0 | C47: {=LARGE(IF(ISNUMBER(INT(Base!$A$2:$A$1000)),(INT(Base!$A$2:$A$1000)=$G$2)*(Base!$B$2:$B$1000=$A47)*(Base!$C$2:$C$1000=C$2)*(Base!$D$2:$D$1000),0),COUNTIF($A$3:$A47,$A47))} -> 0 | D47: {=LARGE(IF(ISNUMBER(INT(Base!$A$2:$A$1000)),(INT(Base!$A$2:$A$1000)=$G$2)*(Base!$B$2:$B$1000=$A47)*(Base!$C$2:$C$1000=D$2)*(Base!$D$2:$D$1000),0),COUNTIF($A$3:$A47,$A47))} -> 0
A48: 15H - 17H | B48: {=LARGE(IF(ISNUMBER(INT(Base!$A$2:$A$1000)),(INT(Base!$A$2:$A$1000)=$G$2)*(Base!$B$2:$B$1000=$A48)*(Base!$C$2:$C$1000=B$2)*(Base!$D$2:$D$1000),0),COUNTIF($A$3:$A48,$A48))} -> 0 | C48: {=LARGE(IF(ISNUMBER(INT(Base!$A$2:$A$1000)),(INT(Base!$A$2:$A$1000)=$G$2)*(Base!$B$2:$B$1000=$A48)*(Base!$C$2:$C$1000=C$2)*(Base!$D$2:$D$1000),0),COUNTIF($A$3:$A48,$A48))} -> 0 | D48: {=LARGE(IF(ISNUMBER(INT(Base!$A$2:$A$1000)),(INT(Base!$A$2:$A$1000)=$G$2)*(Base!$B$2:$B$1000=$A48)*(Base!$C$2:$C$1000=D$2)*(Base!$D$2:$D$1000),0),COUNTIF($A$3:$A48,$A48))} -> 0
A49: 15H - 17H | B49: {=LARGE(IF(ISNUMBER(INT(Base!$A$2:$A$1000)),(INT(Base!$A$2:$A$1000)=$G$2)*(Base!$B$2:$B$1000=$A49)*(Base!$C$2:$C$1000=B$2)*(Base!$D$2:$D$1000),0),COUNTIF($A$3:$A49,$A49))} -> 0 | C49: {=LARGE(IF(ISNUMBER(INT(Base!$A$2:$A$1000)),(INT(Base!$A$2:$A$1000)=$G$2)*(Base!$B$2:$B$1000=$A49)*(Base!$C$2:$C$1000=C$2)*(Base!$D$2:$D$1000),0),COUNTIF($A$3:$A49,$A49))} -> 0 | D49: {=LARGE(IF(ISNUMBER(INT(Base!$A$2:$A$1000)),(INT(Base!$A$2:$A$1000)=$G$2)*(Base!$B$2:$B$1000=$A49)*(Base!$C$2:$C$1000=D$2)*(Base!$D$2:$D$1000),0),COUNTIF($A$3:$A49,$A49))} -> 0
A50: 15H - 17H | B50: {=LARGE(IF(ISNUMBER(INT(Base!$A$2:$A$1000)),(INT(Base!$A$2:$A$1000)=$G$2)*(Base!$B$2:$B$1000=$A50)*(Base!$C$2:$C$1000=B$2)*(Base!$D$2:$D$1000),0),COUNTIF($A$3:$A50,$A50))} -> 0 | C50: {=LARGE(IF(ISNUMBER(INT(Base!$A$2:$A$1000)),(INT(Base!$A$2:$A$1000)=$G$2)*(Base!$B$2:$B$1000=$A50)*(Base!$C$2:$C$1000=C$2)*(Base!$D$2:$D$1000),0),COUNTIF($A$3:$A50,$A50))} -> 0 | D50: {=LARGE(IF(ISNUMBER(INT(Base!$A$2:$A$1000)),(INT(Base!$A$2:$A$1000)=$G$2)*(Base!$B$2:$B$1000=$A50)*(Base!$C$2:$C$1000=D$2)*(Base!$D$2:$D$1000),0),COUNTIF($A$3:$A50,$A50))} -> 0
A51: 15H - 17H | B51: {=LARGE(IF(ISNUMBER(INT(Base!$A$2:$A$1000)),(INT(Base!$A$2:$A$1000)=$G$2)*(Base!$B$2:$B$1000=$A51)*(Base!$C$2:$C$1000=B$2)*(Base!$D$2:$D$1000),0),COUNTIF($A$3:$A51,$A51))} -> 0 | C51: {=LARGE(IF(ISNUMBER(INT(Base!$A$2:$A$1000)),(INT(Base!$A$2:$A$1000)=$G$2)*(Base!$B$2:$B$1000=$A51)*(Base!$C$2:$C$1000=C$2)*(Base!$D$2:$D$1000),0),COUNTIF($A$3:$A51,$A51))} -> 0 | D51: {=LARGE(IF(ISNUMBER(INT(Base!$A$2:$A$1000)),(INT(Base!$A$2:$A$1000)=$G$2)*(Base!$B$2:$B$1000=$A51)*(Base!$C$2:$C$1000=D$2)*(Base!$D$2:$D$1000),0),COUNTIF($A$3:$A51,$A51))} -> 0
A52: 15H - 17H | B52: {=LARGE(IF(ISNUMBER(INT(Base!$A$2:$A$1000)),(INT(Base!$A$2:$A$1000)=$G$2)*(Base!$B$2:$B$1000=$A52)*(Base!$C$2:$C$1000=B$2)*(Base!$D$2:$D$1000),0),COUNTIF($A$3:$A52,$A52))} -> 0 | C52: {=LARGE(IF(ISNUMBER(INT(Base!$A$2:$A$1000)),(INT(Base!$A$2:$A$1000)=$G$2)*(Base!$B$2:$B$1000=$A52)*(Base!$C$2:$C$1000=C$2)*(Base!$D$2:$D$1000),0),COUNTIF($A$3:$A52,$A52))} -> 0 | D52: {=LARGE(IF(ISNUMBER(INT(Base!$A$2:$A$1000)),(INT(Base!$A$2:$A$1000)=$G$2)*(Base!$B$2:$B$1000=$A52)*(Base!$C$2:$C$1000=D$2)*(Base!$D$2:$D$1000),0),COUNTIF($A$3:$A52,$A52))} -> 0
A53: 17H - 19H | B53: {=LARGE(IF(ISNUMBER(INT(Base!$A$2:$A$1000)),(INT(Base!$A$2:$A$1000)=$G$2)*(Base!$B$2:$B$1000=$A53)*(Base!$C$2:$C$1000=B$2)*(Base!$D$2:$D$1000),0),COUNTIF($A$3:$A53,$A53))} -> 0 | C53: {=LARGE(IF(ISNUMBER(INT(Base!$A$2:$A$1000)),(INT(Base!$A$2:$A$1000)=$G$2)*(Base!$B$2:$B$1000=$A53)*(Base!$C$2:$C$1000=C$2)*(Base!$D$2:$D$1000),0),COUNTIF($A$3:$A53,$A53))} -> 0 | D53: {=LARGE(IF(ISNUMBER(INT(Base!$A$2:$A$1000)),(INT(Base!$A$2:$A$1000)=$G$2)*(Base!$B$2:$B$1000=$A53)*(Base!$C$2:$C$1000=D$2)*(Base!$D$2:$D$1000),0),COUNTIF($A$3:$A53,$A53))} -> 0
A54: 17H - 19H | B54: {=LARGE(IF(ISNUMBER(INT(Base!$A$2:$A$1000)),(INT(Base!$A$2:$A$1000)=$G$2)*(Base!$B$2:$B$1000=$A54)*(Base!$C$2:$C$1000=B$2)*(Base!$D$2:$D$1000),0),COUNTIF($A$3:$A54,$A54))} -> 0 | C54: {=LARGE(IF(ISNUMBER(INT(Base!$A$2:$A$1000)),(INT(Base!$A$2:$A$1000)=$G$2)*(Base!$B$2:$B$1000=$A54)*(Base!$C$2:$C$1000=C$2)*(Base!$D$2:$D$1000),0),COUNTIF($A$3:$A54,$A54))} -> 0 | D54: {=LARGE(IF(ISNUMBER(INT(Base!$A$2:$A$1000)),(INT(Base!$A$2:$A$1000)=$G$2)*(Base!$B$2:$B$1000=$A54)*(Base!$C$2:$C$1000=D$2)*(Base!$D$2:$D$1000),0),COUNTIF($A$3:$A54,$A54))} -> 0
... A72: 19H - 21H | B72: {=LARGE(IF(ISNUMBER(INT(Base!$A$2:$A$1000)),(INT(Base!$A$2:$A$1000)=$G$2)*(Base!$B$2:$B$1000=$A72)*(Base!$C$2:$C$1000=B$2)*(Base!$D$2:$D$1000),0),COUNTIF($A$3:$A72,$A72))} -> 0 | C72: {=LARGE(IF(ISNUMBER(INT(Base!$A$2:$A$1000)),(INT(Base!$A$2:$A$1000)=$G$2)*(Base!$B$2:$B$1000=$A72)*(Base!$C$2:$C$1000=C$2)*(Base!$D$2:$D$1000),0),COUNTIF($A$3:$A72,$A72))} -> 0 | D72: {=LARGE(IF(ISNUMBER(INT(Base!$A$2:$A$1000)),(INT(Base!$A$2:$A$1000)=$G$2)*(Base!$B$2:$B$1000=$A72)*(Base!$C$2:$C$1000=D$2)*(Base!$D$2:$D$1000),0),COUNTIF($A$3:$A72,$A72))} -> 0
A73: TOTAL Load | B73: 10 | C73: 10 | D73: 10

Sheet date
A1: date
A2: 42736
A3: 42737
A4: 42738
A5: 42739
A6: 42740
A7: 42741
A8: 42742
A9: 42743
A10: 42744
A11: 42745
A12: 42746
A13: 42747
... A366: 43100
