Workbook
Name date: date!$A$1:$A$366

Sheet Base
A1: Chargement | B1: creneaux | C1: statuts | D1: ref
A2: 42739.375 | B2: AVANT 9h | C2: In Transit | D2: 790625
A3: 42741.542 | B3: 13H - 15H | C3: Tender | D3: 795218
A4: 42738.667 | B4: 15H - 17H | C4: In Transit | D4: 774237
A5: 42738.458 | B5: NAV MESS - 11 | C5: In Transit | D5: 792816
A6: 42739.417 | B6: 9H00 - 11H | C6: In Transit | D6: 795214
C7: Confirming | D7: 788406
A8: 42737.542 | B8: 13H - 15H | C8: In Transit | D8: 788407
A9: 42739.667 | B9: 15H - 17H | C9: Confirming | D9: 795952
A10: 42739.458 | B10: NAV MESS - 11 | C10: In Transit | D10: 795398
A11: 42741.583 | B11: 13H - 15H | C11: Tender | D11: 793682
A12: 42738.458 | B12: NAV MESS - 11 | C12: In Transit | D12: 790620
A13: 42739.542 | B13: 13H - 15H | C13: In Transit | D13: 792364
A14: 42739.458 | B14: NAV MESS - 11 | C14: In Transit | D14: 795215
A15: 42740.583 | B15: 13H - 15H | C15: Tender | D15: 796091
A16: 42739.5 | B16: 13H - 15H | C16: In Transit | D16: 783886
A17: 42739.458 | B17: NAV MESS - 11 | C17: In Transit | D17: 795220
A18: 42741.583 | B18: 13H - 15H | C18: Tender | D18: 783327
C19: Confirming | D19: 501796
A20: 42738.458 | B20: 9H00 - 11H | C20: In Transit | D20: 792727
A21: 42738.001 | B21: AVANT 9h | C21: In Transit | D21: 785154
A22: 42732.458 | B22: NAV MESS - 11 | C22: In Transit | D22: 785157
A23: 42740.667 | B23: 15H - 17H | C23: Tender | D23: 787765
A24: 42738.583 | B24: 13H - 15H | C24: In Transit | D24: 792355
A25: 42738.583 | B25: 13H - 15H | C25: In Transit | D25: 792786
A26: 0 | B26: AVANT 9h | C26: In Transit | D26: 716781
A27: 42739.708 | B27: 15H - 17H | C27: In Transit | D27: 788183
A28: 42738.667 | B28: 15H - 17H | C28: In Transit | D28: 793638
A29: 42706.458 | B29: NAV MESS - 11 | C29: In Transit | D29: 725605
A30: 42739.479 | B30: 9H00 - 11H | C30: In Transit | D30: 785751
A31: 42740.375 | B31: AVANT 9h | C31: Tender | D31: 797788
... A38: 42740.542 | B38: 13H - 15H | C38: Confirming | D38: 797543
C39: Tender | D39: 698663
A40: 42733.458 | B40: NAV MESS - 11 | C40: In Transit | D40: 787522
A41: 42739.583 | B41: 13H - 15H | C41: In Transit | D41: 792290
A42: 42732.458 | B42: NAV MESS - 11 | C42: In Transit | D42: 785166
A43: 42732.458 | B43: NAV MESS - 11 | C43: In Transit | D43: 785266
A44: 42741.458 | B44: 9H00 - 11H | C44: Tender | D44: 795205
A45: 42733.458 | B45: NAV MESS - 11 | C45: In Transit | D45: 787523
A46: 42733.458 | B46: NAV MESS - 11 | C46: In Transit | D46: 787557
...

Sheet Planning
B1: Références
B2: Tender | C2: Confirming | D2: In Transit | F2: Date | G2: 42739 | I2: LISTE DEROULANTE DES DATES
A3: AVANT 9H | B3: {=LARGE(IF(ISNUMBER(INT(Base!$A$2:$A$1000)),(INT(Base!$A$2:$A$1000)=$G$2)*(Base!$B$2:$B$1000=$A3)*(Base!$C$2:$C$1000=B$2)*(Base!$D$2:$D$1000),0),COUNTIF($A$3:$A3,$A3))} -> 0 | C3: {=LARGE(IF(ISNUMBER(INT(Base!$A$2:$A$1000)),(INT(Base!$A$2:$A$1000)=$G$2)*(Base!$B$2:$B$1000=$A3)*(Base!$C$2:$C$1000=C$2)*(Base!$D$2:$D$1000),0),COUNTIF($A$3:$A3,$A3))} -> 0 | D3: {=LARGE(IF(ISNUMBER(INT(Base!$A$2:$A$1000)),(INT(Base!$A$2:$A$1000)=$G$2)*(Base!$B$2:$B$1000=$A3)*(Base!$C$2:$C$1000=D$2)*(Base!$D$2:$D$1000),0),COUNTIF($A$3:$A3,$A3))} -> 790625
A4: AVANT 9H | B4: {=LARGE(IF(ISNUMBER(INT(Base!$A$2:$A$1000)),(INT(Base!$A$2:$A$1000)=$G$2)*(Base!$B$2:$B$1000=$A4)*(Base!$C$2:$C$1000=B$2)*(Base!$D$2:$D$1000),0),COUNTIF($A$3:$A4,$A4))} -> 0 | C4: {=LARGE(IF(ISNUMBER(INT(Base!$A$2:$A$1000)),(INT(Base!$A$2:$A$1000)=$G$2)*(Base!$B$2:$B$1000=$A4)*(Base!$C$2:$C$1000=C$2)*(Base!$D$2:$D$1000),0),COUNTIF($A$3:$A4,$A4))} -> 0 | D4: {=LARGE(IF(ISNUMBER(INT(Base!$A$2:$A$1000)),(INT(Base!$A$2:$A$1000)=$G$2)*(Base!$B$2:$B$1000=$A4)*(Base!$C$2:$C$1000=D$2)*(Base!$D$2:$D$1000),0),COUNTIF($A$3:$A4,$A4))} -> 0
A5: AVANT 9H | B5: {=LARGE(IF(ISNUMBER(INT(Base!$A$2:$A$1000)),(INT(Base!$A$2:$A$1000)=$G$2)*(Base!$B$2:$B$1000=$A5)*(Base!$C$2:$C$1000=B$2)*(Base!$D$2:$D$1000),0),COUNTIF($A$3:$A5,$A5))} -> 0 | C5: {=LARGE(IF(ISNUMBER(INT(Base!$A$2:$A$1000)),(INT(Base!$A$2:$A$1000)=$G$2)*(Base!$B$2:$B$1000=$A5)*(Base!$C$2:$C$1000=C$2)*(Base!$D$2:$D$1000),0),COUNTIF($A$3:$A5,$A5))} -> 0 | D5: {=LARGE(IF(ISNUMBER(INT(Base!$A$2:$A$1000)),(INT(Base!$A$2:$A$1000)=$G$2)*(Base!$B$2:$B$1000=$A5)*(Base!$C$2:$C$1000=D$2)*(Base!$D$2:$D$1000),0),COUNTIF($A$3:$A5,$A5))} -> 0
A6: AVANT 9H | B6: {=LARGE(IF(ISNUMBER(INT(Base!$A$2:$A$1000)),(INT(Base!$A$2:$A$1000)=$G$2)*(Base!$B$2:$B$1000=$A6)*(Base!$C$2:$C$1000=B$2)*(Base!$D$2:$D$1000),0),COUNTIF($A$3:$A6,$A6))} -> 0 | C6: {=LARGE(IF(ISNUMBER(INT(Base!$A$2:$A$1000)),(INT(Base!$A$2:$A$1000)=$G$2)*(Base!$B$2:$B$1000=$A6)*(Base!$C$2:$C$1000=C$2)*(Base!$D$2:$D$1000),0),COUNTIF($A$3:$A6,$A6))} -> 0 | D6: {=LARGE(IF(ISNUMBER(INT(Base!$A$2:$A$1000)),(INT(Base!$A$2:$A$1000)=$G$2)*(Base!$B$2:$B$1000=$A6)*(Base!$C$2:$C$1000=D$2)*(Base!$D$2:$D$1000),0),COUNTIF($A$3:$A6,$A6))} -> 0
A7: AVANT 9H | B7: {=LARGE(IF(ISNUMBER(INT(Base!$A$2:$A$1000)),(INT(Base!$A$2:$A$1000)=$G$2)*(Base!$B$2:$B$1000=$A7)*(Base!$C$2:$C$1000=B$2)*(Base!$D$2:$D$1000),0),COUNTIF($A$3:$A7,$A7))} -> 0 | C7: {=LARGE(IF(ISNUMBER(INT(Base!$A$2:$A$1000)),(INT(Base!$A$2:$A$1000)=$G$2)*(Base!$B$2:$B$1000=$A7)*(Base!$C$2:$C$1000=C$2)*(Base!$D$2:$D$1000),0),COUNTIF($A$3:$A7,$A7))} -> 0 | D7: {=LARGE(IF(ISNUMBER(INT(Base!$A$2:$A$1000)),(INT(Base!$A$2:$A$1000)=$G$2)*(Base!$B$2:$B$1000=$A7)*(Base!$C$2:$C$1000=D$2)*(Base!$D$2:$D$1000),0),COUNTIF($A$3:$A7,$A7))} -> 0 | F7: 1- renvoie les n° de réfénreces dans les cases vides suivants les créneaux et la date du jour
A8: AVANT 9H | B8: {=LARGE(IF(ISNUMBER(INT(Base!$A$2:$A$1000)),(INT(Base!$A$2:$A$1000)=$G$2)*(Base!$B$2:$B$1000=$A8)*(Base!$C$2:$C$1000=B$2)*(Base!$D$2:$D$1000),0),COUNTIF($A$3:$A8,$A8))} -> 0 | C8: {=LARGE(IF(ISNUMBER(INT(Base!$A$2:$A$1000)),(INT(Base!$A$2:$A$1000)=$G$2)*(Base!$B$2:$B$1000=$A8)*(Base!$C$2:$C$1000=C$2)*(Base!$D$2:$D$1000),0),COUNTIF($A$3:$A8,$A8))} -> 0 | D8: {=LARGE(IF(ISNUMBER(INT(Base!$A$2:$A$1000)),(INT(Base!$A$2:$A$1000)=$G$2)*(Base!$B$2:$B$1000=$A8)*(Base!$C$2:$C$1000=D$2)*(Base!$D$2:$D$1000),0),COUNTIF($A$3:$A8,$A8))} -> 0 | F8: 2- si les creneaux dans "Base" sont NAV MESS alors compte les nombres de NAV MESS
A9: AVANT 9H | B9: {=LARGE(IF(ISNUMBER(INT(Base!$A$2:$A$1000)),(INT(Base!$A$2:$A$1000)=$G$2)*(Base!$B$2:$B$1000=$A9)*(Base!$C$2:$C$1000=B$2)*(Base!$D$2:$D$1000),0),COUNTIF($A$3:$A9,$A9))} -> 0 | C9: {=LARGE(IF(ISNUMBER(INT(Base!$A$2:$A$1000)),(INT(Base!$A$2:$A$1000)=$G$2)*(Base!$B$2:$B$1000=$A9)*(Base!$C$2:$C$1000=C$2)*(Base!$D$2:$D$1000),0),COUNTIF($A$3:$A9,$A9))} -> 0 | D9: {=LARGE(IF(ISNUMBER(INT(Base!$A$2:$A$1000)),(INT(Base!$A$2:$A$1000)=$G$2)*(Base!$B$2:$B$1000=$A9)*(Base!$C$2:$C$1000=D$2)*(Base!$D$2:$D$1000),0),COUNTIF($A$3:$A9,$A9))} -> 0
A10: AVANT 9H | B10: {=LARGE(IF(ISNUMBER(INT(Base!$A$2:$A$1000)),(INT(Base!$A$2:$A$1000)=$G$2)*(Base!$B$2:$B$1000=$A10)*(Base!$C$2:$C$1000=B$2)*(Base!$D$2:$D$1000),0),COUNTIF($A$3:$A10,$A10))} -> 0 | C10: {=LARGE(IF(ISNUMBER(INT(Base!$A$2:$A$1000)),(INT(Base!$A$2:$A$1000)=$G$2)*(Base!$B$2:$B$1000=$A10)*(Base!$C$2:$C$1000=C$2)*(Base!$D$2:$D$1000),0),COUNTIF($A$3:$A10,$A10))} -> 0 | D10: {=LARGE(IF(ISNUMBER(INT(Base!$A$2:$A$1000)),(INT(Base!$A$2:$A$1000)=$G$2)*(Base!$B$2:$B$1000=$A10)*(Base!$C$2:$C$1000=D$2)*(Base!$D$2:$D$1000),0),COUNTIF($A$3:$A10,$A10))} -> 0
A11: AVANT 9H | B11: {=LARGE(IF(ISNUMBER(INT(Base!$A$2:$A$1000)),(INT(Base!$A$2:$A$1000)=$G$2)*(Base!$B$2:$B$1000=$A11)*(Base!$C$2:$C$1000=B$2)*(Base!$D$2:$D$1000),0),COUNTIF($A$3:$A11,$A11))} -> 0 | C11: {=LARGE(IF(ISNUMBER(INT(Base!$A$2:$A$1000)),(INT(Base!$A$2:$A$1000)=$G$2)*(Base!$B$2:$B$1000=$A11)*(Base!$C$2:$C$1000=C$2)*(Base!$D$2:$D$1000),0),COUNTIF($A$3:$A11,$A11))} -> 0 | D11: {=LARGE(IF(ISNUMBER(INT(Base!$A$2:$A$1000)),(INT(Base!$A$2:$A$1000)=$G$2)*(Base!$B$2:$B$1000=$A11)*(Base!$C$2:$C$1000=D$2)*(Base!$D$2:$D$1000),0),COUNTIF($A$3:$A11,$A11))} -> 0
A12: AVANT 9H | B12: {=LARGE(IF(ISNUMBER(INT(Base!$A$2:$A$1000)),(INT(Base!$A$2:$A$1000)=$G$2)*(Base!$B$2:$B$1000=$A12)*(Base!$C$2:$C$1000=B$2)*(Base!$D$2:$D$1000),0),COUNTIF($A$3:$A12,$A12))} -> 0 | C12: {=LARGE(IF(ISNUMBER(INT(Base!$A$2:$A$1000)),(INT(Base!$A$2:$A$1000)=$G$2)*(Base!$B$2:$B$1000=$A12)*(Base!$C$2:$C$1000=C$2)*(Base!$D$2:$D$1000),0),COUNTIF($A$3:$A12,$A12))} -> 0 | D12: {=LARGE(IF(ISNUMBER(INT(Base!$A$2:$A$1000)),(INT(Base!$A$2:$A$1000)=$G$2)*(Base!$B$2:$B$1000=$A12)*(Base!$C$2:$C$1000=D$2)*(Base!$D$2:$D$1000),0),COUNTIF($A$3:$A12,$A12))} -> 0
A13: 9H00 - 11H | B13: {=LARGE(IF(ISNUMBER(INT(Base!$A$2:$A$1000)),(INT(Base!$A$2:$A$1000)=$G$2)*(Base!$B$2:$B$1000=$A13)*(Base!$C$2:$C$1000=B$2)*(Base!$D$2:$D$1000),0),COUNTIF($A$3:$A13,$A13))} -> 0 | C13: {=LARGE(IF(ISNUMBER(INT(Base!$A$2:$A$1000)),(INT(Base!$A$2:$A$1000)=$G$2)*(Base!$B$2:$B$1000=$A13)*(Base!$C$2:$C$1000=C$2)*(Base!$D$2:$D$1000),0),COUNTIF($A$3:$A13,$A13))} -> 0 | D13: {=LARGE(IF(ISNUMBER(INT(Base!$A$2:$A$1000)),(INT(Base!$A$2:$A$1000)=$G$2)*(Base!$B$2:$B$1000=$A13)*(Base!$C$2:$C$1000=D$2)*(Base!$D$2:$D$1000),0),COUNTIF($A$3:$A13,$A13))} -> 795214
A14: 9H00 - 11H | B14: {=LARGE(IF(ISNUMBER(INT(Base!$A$2:$A$1000)),(INT(Base!$A$2:$A$1000)=$G$2)*(Base!$B$2:$B$1000=$A14)*(Base!$C$2:$C$1000=B$2)*(Base!$D$2:$D$1000),0),COUNTIF($A$3:$A14,$A14))} -> 0 | C14: {=LARGE(IF(ISNUMBER(INT(Base!$A$2:$A$1000)),(INT(Base!$A$2:$A$1000)=$G$2)*(Base!$B$2:$B$1000=$A14)*(Base!$C$2:$C$1000=C$2)*(Base!$D$2:$D$1000),0),COUNTIF($A$3:$A14,$A14))} -> 0 | D14: {=LARGE(IF(ISNUMBER(INT(Base!$A$2:$A$1000)),(INT(Base!$A$2:$A$1000)=$G$2)*(Base!$B$2:$B$1000=$A14)*(Base!$C$2:$C$1000=D$2)*(Base!$D$2:$D$1000),0),COUNTIF($A$3:$A14,$A14))} -> 792734
A15: 9H00 - 11H | B15: {=LARGE(IF(ISNUMBER(INT(Base!$A$2:$A$1000)),(INT(Base!$A$2:$A$1000)=$G$2)*(Base!$B$2:$B$1000=$A15)*(Base!$C$2:$C$1000=B$2)*(Base!$D$2:$D$1000),0),COUNTIF($A$3:$A15,$A15))} -> 0 | C15: {=LARGE(IF(ISNUMBER(INT(Base!$A$2:$A$1000)),(INT(Base!$A$2:$A$1000)=$G$2)*(Base!$B$2:$B$1000=$A15)*(Base!$C$2:$C$1000=C$2)*(Base!$D$2:$D$1000),0),COUNTIF($A$3:$A15,$A15))} -> 0 | D15: {=LARGE(IF(ISNUMBER(INT(Base!$A$2:$A$1000)),(INT(Base!$A$2:$A$1000)=$G$2)*(Base!$B$2:$B$1000=$A15)*(Base!$C$2:$C$1000=D$2)*(Base!$D$2:$D$1000),0),COUNTIF($A$3:$A15,$A15))} -> 785751
A16: 9H00 - 11H | B16: {=LARGE(IF(ISNUMBER(INT(Base!$A$2:$A$1000)),(INT(Base!$A$2:$A$1000)=$G$2)*(Base!$B$2:$B$1000=$A16)*(Base!$C$2:$C$1000=B$2)*(Base!$D$2:$D$1000),0),COUNTIF($A$3:$A16,$A16))} -> 0 | C16: {=LARGE(IF(ISNUMBER(INT(Base!$A$2:$A$1000)),(INT(Base!$A$2:$A$1000)=$G$2)*(Base!$B$2:$B$1000=$A16)*(Base!$C$2:$C$1000=C$2)*(Base!$D$2:$D$1000),0),COUNTIF($A$3:$A16,$A16))} -> 0 | D16: {=LARGE(IF(ISNUMBER(INT(Base!$A$2:$A$1000)),(INT(Base!$A$2:$A$1000)=$G$2)*(Base!$B$2:$B$1000=$A16)*(Base!$C$2:$C$1000=D$2)*(Base!$D$2:$D$1000),0),COUNTIF($A$3:$A16,$A16))} -> 781363
A17: 9H00 - 11H | B17: {=LARGE(IF(ISNUMBER(INT(Base!$A$2:$A$1000)),(INT(Base!$A$2:$A$1000)=$G$2)*(Base!$B$2:$B$1000=$A17)*(Base!$C$2:$C$1000=B$2)*(Base!$D$2:$D$1000),0),COUNTIF($A$3:$A17,$A17))} -> 0 | C17: {=LARGE(IF(ISNUMBER(INT(Base!$A$2:$A$1000)),(INT(Base!$A$2:$A$1000)=$G$2)*(Base!$B$2:$B$1000=$A17)*(Base!$C$2:$C$1000=C$2)*(Base!$D$2:$D$1000),0),COUNTIF($A$3:$A17,$A17))} -> 0 | D17: {=LARGE(IF(ISNUMBER(INT(Base!$A$2:$A$1000)),(INT(Base!$A$2:$A$1000)=$G$2)*(Base!$B$2:$B$1000=$A17)*(Base!$C$2:$C$1000=D$2)*(Base!$D$2:$D$1000),0),COUNTIF($A$3:$A17,$A17))} -> 0
A18: 9H00 - 11H | B18: {=LARGE(IF(ISNUMBER(INT(Base!$A$2:$A$1000)),(INT(Base!$A$2:$A$1000)=$G$2)*(Base!$B$2:$B$1000=$A18)*(Base!$C$2:$C$1000=B$2)*(Base!$D$2:$D$1000),0),COUNTIF($A$3:$A18,$A18))} -> 0 | C18: {=LARGE(IF(ISNUMBER(INT(Base!$A$2:$A$1000)),(INT(Base!$A$2:$A$1000)=$G$2)*(Base!$B$2:$B$1000=$A18)*(Base!$C$2:$C$1000=C$2)*(Base!$D$2:$D$1000),0),COUNTIF($A$3:$A18,$A18))} -> 0 | D18: {=LARGE(IF(ISNUMBER(INT(Base!$A$2:$A$1000)),(INT(Base!$A$2:$A$1000)=$G$2)*(Base!$B$2:$B$1000=$A18)*(Base!$C$2:$C$1000=D$2)*(Base!$D$2:$D$1000),0),COUNTIF($A$3:$A18,$A18))} -> 0
A19: 9H00 - 11H | B19: {=LARGE(IF(ISNUMBER(INT(Base!$A$2:$A$1000)),(INT(Base!$A$2:$A$1000)=$G$2)*(Base!$B$2:$B$1000=$A19)*(Base!$C$2:$C$1000=B$2)*(Base!$D$2:$D$1000),0),COUNTIF($A$3:$A19,$A19))} -> 0 | C19: {=LARGE(IF(ISNUMBER(INT(Base!$A$2:$A$1000)),(INT(Base!$A$2:$A$1000)=$G$2)*(Base!$B$2:$B$1000=$A19)*(Base!$C$2:$C$1000=C$2)*(Base!$D$2:$D$1000),0),COUNTIF($A$3:$A19,$A19))} -> 0 | D19: {=LARGE(IF(ISNUMBER(INT(Base!$A$2:$A$1000)),(INT(Base!$A$2:$A$1000)=$G$2)*(Base!$B$2:$B$1000=$A19)*(Base!$C$2:$C$1000=D$2)*(Base!$D$2:$D$1000),0),COUNTIF($A$3:$A19,$A19))} -> 0
A20: 9H00 - 11H | B20: {=LARGE(IF(ISNUMBER(INT(Base!$A$2:$A$1000)),(INT(Base!$A$2:$A$1000)=$G$2)*(Base!$B$2:$B$1000=$A20)*(Base!$C$2:$C$1000=B$2)*(Base!$D$2:$D$1000),0),COUNTIF($A$3:$A20,$A20))} -> 0 | C20: {=LARGE(IF(ISNUMBER(INT(Base!$A$2:$A$1000)),(INT(Base!$A$2:$A$1000)=$G$2)*(Base!$B$2:$B$1000=$A20)*(Base!$C$2:$C$1000=C$2)*(Base!$D$2:$D$1000),0),COUNTIF($A$3:$A20,$A20))} -> 0 | D20: {=LARGE(IF(ISNUMBER(INT(Base!$A$2:$A$1000)),(INT(Base!$A$2:$A$1000)=$G$2)*(Base!$B$2:$B$1000=$A20)*(Base!$C$2:$C$1000=D$2)*(Base!$D$2:$D$1000),0),COUNTIF($A$3:$A20,$A20))} -> 0
A21: 9H00 - 11H | B21: {=LARGE(IF(ISNUMBER(INT(Base!$A$2:$A$1000)),(INT(Base!$A$2:$A$1000)=$G$2)*(Base!$B$2:$B$1000=$A21)*(Base!$C$2:$C$1000=B$2)*(Base!$D$2:$D$1000),0),COUNTIF($A$3:$A21,$A21))} -> 0 | C21: {=LARGE(IF(ISNUMBER(INT(Base!$A$2:$A$1000)),(INT(Base!$A$2:$A$1000)=$G$2)*(Base!$B$2:$B$1000=$A21)*(Base!$C$2:$C$1000=C$2)*(Base!$D$2:$D$1000),0),COUNTIF($A$3:$A21,$A21))} -> 0 | D21: {=LARGE(IF(ISNUMBER(INT(Base!$A$2:$A$1000)),(INT(Base!$A$2:$A$1000)=$G$2)*(Base!$B$2:$B$1000=$A21)*(Base!$C$2:$C$1000=D$2)*(Base!$D$2:$D$1000),0),COUNTIF($A$3:$A21,$A21))} -> 0
A22: NAV MESS - 11 | C22: {=SUMPRODUCT((IF(ISNUMBER(INT(Base!$A$2:$A$1000)),(INT(Base!$A$2:$A$1000)=$G$2)*(Base!$B$2:$B$1000=$A22))))} -> 5
A23: 11H - 13H | B23: {=LARGE(IF(ISNUMBER(INT(Base!$A$2:$A$1000)),(INT(Base!$A$2:$A$1000)=$G$2)*(Base!$B$2:$B$1000=$A23)*(Base!$C$2:$C$1000=B$2)*(Base!$D$2:$D$1000),0),COUNTIF($A$3:$A23,$A23))} -> 0 | C23: {=LARGE(IF(ISNUMBER(INT(Base!$A$2:$A$1000)),(INT(Base!$A$2:$A$1000)=$G$2)*(Base!$B$2:$B$1000=$A23)*(Base!$C$2:$C$1000=C$2)*(Base!$D$2:$D$1000),0),COUNTIF($A$3:$A23,$A23))} -> 0 | D23: {=LARGE(IF(ISNUMBER(INT(Base!$A$2:$A$1000)),(INT(Base!$A$2:$A$1000)=$G$2)*(Base!$B$2:$B$1000=$A23)*(Base!$C$2:$C$1000=D$2)*(Base!$D$2:$D$1000),0),COUNTIF($A$3:$A23,$A23))} -> 0
A24: 11H - 13H | B24: {=LARGE(IF(ISNUMBER(INT(Base!$A$2:$A$1000)),(INT(Base!$A$2:$A$1000)=$G$2)*(Base!$B$2:$B$1000=$A24)*(Base!$C$2:$C$1000=B$2)*(Base!$D$2:$D$1000),0),COUNTIF($A$3:$A24,$A24))} -> 0 | C24: {=LARGE(IF(ISNUMBER(INT(Base!$A$2:$A$1000)),(INT(Base!$A$2:$A$1000)=$G$2)*(Base!$B$2:$B$1000=$A24)*(Base!$C$2:$C$1000=C$2)*(Base!$D$2:$D$1000),0),COUNTIF($A$3:$A24,$A24))} -> 0 | D24: {=LARGE(IF(ISNUMBER(INT(Base!$A$2:$A$1000)),(INT(Base!$A$2:$A$1000)=$G$2)*(Base!$B$2:$B$1000=$A24)*(Base!$C$2:$C$1000=D$2)*(Base!$D$2:$D$1000),0),COUNTIF($A$3:$A24,$A24))} -> 0
A25: 11H - 13H | B25: {=LARGE(IF(ISNUMBER(INT(Base!$A$2:$A$1000)),(INT(Base!$A$2:$A$1000)=$G$2)*(Base!$B$2:$B$1000=$A25)*(Base!$C$2:$C$1000=B$2)*(Base!$D$2:$D$1000),0),COUNTIF($A$3:$A25,$A25))} -> 0 | C25: {=LARGE(IF(ISNUMBER(INT(Base!$A$2:$A$1000)),(INT(Base!$A$2:$A$1000)=$G$2)*(Base!$B$2:$B$1000=$A25)*(Base!$C$2:$C$1000=C$2)*(Base!$D$2:$D$1000),0),COUNTIF($A$3:$A25,$A25))} -> 0 | D25: {=LARGE(IF(ISNUMBER(INT(Base!$A$2:$A$1000)),(INT(Base!$A$2:$A$1000)=$G$2)*(Base!$B$2:$B$1000=$A25)*(Base!$C$2:$C$1000=D$2)*(Base!$D$2:$D$1000),0),COUNTIF($A$3:$A25,$A25))} -> 0
A26: 11H - 13H | B26: {=LARGE(IF(ISNUMBER(INT(Base!$A$2:$A$1000)),(INT(Base!$A$2:$A$1000)=$G$2)*(Base!$B$2:$B$1000=$A26)*(Base!$C$2:$C$1000=B$2)*(Base!$D$2:$D$1000),0),COUNTIF($A$3:$A26,$A26))} -> 0 | C26: {=LARGE(IF(ISNUMBER(INT(Base!$A$2:$A$1000)),(INT(Base!$A$2:$A$1000)=$G$2)*(Base!$B$2:$B$1000=$A26)*(Base!$C$2:$C$1000=C$2)*(Base!$D$2:$D$1000),0),COUNTIF($A$3:$A26,$A26))} -> 0 | D26: {=LARGE(IF(ISNUMBER(INT(Base!$A$2:$A$1000)),(INT(Base!$A$2:$A$1000)=$G$2)*(Base!$B$2:$B$1000=$A26)*(Base!$C$2:$C$1000=D$2)*(Base!$D$2:$D$1000),0),COUNTIF($A$3:$A26,$A26))} -> 0
A27: 11H - 13H | B27: {=LARGE(IF(ISNUMBER(INT(Base!$A$2:$A$1000)),(INT(Base!$A$2:$A$1000)=$G$2)*(Base!$B$2:$B$1000=$A27)*(Base!$C$2:$C$1000=B$2)*(Base!$D$2:$D$1000),0),COUNTIF($A$3:$A27,$A27))} -> 0 | C27: {=LARGE(IF(ISNUMBER(INT(Base!$A$2:$A$1000)),(INT(Base!$A$2:$A$1000)=$G$2)*(Base!$B$2:$B$1000=$A27)*(Base!$C$2:$C$1000=C$2)*(Base!$D$2:$D$1000),0),COUNTIF($A$3:$A27,$A27))} -> 0 | D27: {=LARGE(IF(ISNUMBER(INT(Base!$A$2:$A$1000)),(INT(Base!$A$2:$A$1000)=$G$2)*(Base!$B$2:$B$1000=$A27)*(Base!$C$2:$C$1000=D$2)*(Base!$D$2:$D$1000),0),COUNTIF($A$3:$A27,$A27))} -> 0
A28: 11H - 13H | B28: {=LARGE(IF(ISNUMBER(INT(Base!$A$2:$A$1000)),(INT(Base!$A$2:$A$1000)=$G$2)*(Base!$B$2:$B$1000=$A28)*(Base!$C$2:$C$1000=B$2)*(Base!$D$2:$D$1000),0),COUNTIF($A$3:$A28,$A28))} -> 0 | C28: {=LARGE(IF(ISNUMBER(INT(Base!$A$2:$A$1000)),(INT(Base!$A$2:$A$1000)=$G$2)*(Base!$B$2:$B$1000=$A28)*(Base!$C$2:$C$1000=C$2)*(Base!$D$2:$D$1000),0),COUNTIF($A$3:$A28,$A28))} -> 0 | D28: {=LARGE(IF(ISNUMBER(INT(Base!$A$2:$A$1000)),(INT(Base!$A$2:$A$1000)=$G$2)*(Base!$B$2:$B$1000=$A28)*(Base!$C$2:$C$1000=D$2)*(Base!$D$2:$D$1000),0),COUNTIF($A$3:$A28,$A28))} -> 0
A29: 11H - 13H | B29: {=LARGE(IF(ISNUMBER(INT(Base!$A$2:$A$1000)),(INT(Base!$A$2:$A$1000)=$G$2)*(Base!$B$2:$B$1000=$A29)*(Base!$C$2:$C$1000=B$2)*(Base!$D$2:$D$1000),0),COUNTIF($A$3:$A29,$A29))} -> 0 | C29: {=LARGE(IF(ISNUMBER(INT(Base!$A$2:$A$1000)),(INT(Base!$A$2:$A$1000)=$G$2)*(Base!$B$2:$B$1000=$A29)*(Base!$C$2:$C$1000=C$2)*(Base!$D$2:$D$1000),0),COUNTIF($A$3:$A29,$A29))} -> 0 | D29: {=LARGE(IF(ISNUMBER(INT(Base!$A$2:$A$1000)),(INT(Base!$A$2:$A$1000)=$G$2)*(Base!$B$2:$B$1000=$A29)*(Base!$C$2:$C$1000=D$2)*(Base!$D$2:$D$1000),0),COUNTIF($A$3:$A29,$A29))} -> 0
A30: 11H - 13H | B30: {=LARGE(IF(ISNUMBER(INT(Base!$A$2:$A$1000)),(INT(Base!$A$2:$A$1000)=$G$2)*(Base!$B$2:$B$1000=$A30)*(Base!$C$2:$C$1000=B$2)*(Base!$D$2:$D$1000),0),COUNTIF($A$3:$A30,$A30))} -> 0 | C30: {=LARGE(IF(ISNUMBER(INT(Base!$A$2:$A$1000)),(INT(Base!$A$2:$A$1000)=$G$2)*(Base!$B$2:$B$1000=$A30)*(Base!$C$2:$C$1000=C$2)*(Base!$D$2:$D$1000),0),COUNTIF($A$3:$A30,$A30))} -> 0 | D30: {=LARGE(IF(ISNUMBER(INT(Base!$A$2:$A$1000)),(INT(Base!$A$2:$A$1000)=$G$2)*(Base!$B$2:$B$1000=$A30)*(Base!$C$2:$C$1000=D$2)*(Base!$D$2:$D$1000),0),COUNTIF($A$3:$A30,$A30))} -> 0
A31: 11H - 13H | B31: {=LARGE(IF(ISNUMBER(INT(Base!$A$2:$A$1000)),(INT(Base!$A$2:$A$1000)=$G$2)*(Base!$B$2:$B$1000=$A31)*(Base!$C$2:$C$1000=B$2)*(Base!$D$2:$D$1000),0),COUNTIF($A$3:$A31,$A31))} -> 0 | C31: {=LARGE(IF(ISNUMBER(INT(Base!$A$2:$A$1000)),(INT(Base!$A$2:$A$1000)=$G$2)*(Base!$B$2:$B$1000=$A31)*(Base!$C$2:$C$1000=C$2)*(Base!$D$2:$D$1000),0),COUNTIF($A$3:$A31,$A31))} -> 0 | D31: {=LARGE(IF(ISNUMBER(INT(Base!$A$2:$A$1000)),(INT(Base!$A$2:$A$1000)=$G$2)*(Base!$B$2:$B$1000=$A31)*(Base!$C$2:$C$1000=D$2)*(Base!$D$2:$D$1000),0),COUNTIF($A$3:$A31,$A31))} -> 0
A32: 11H - 13H | B32: {=LARGE(IF(ISNUMBER(INT(Base!$A$2:$A$1000)),(INT(Base!$A$2:$A$1000)=$G$2)*(Base!$B$2:$B$1000=$A32)*(Base!$C$2:$C$1000=B$2)*(Base!$D$2:$D$1000),0),COUNTIF($A$3:$A32,$A32))} -> 0 | C32: {=LARGE(IF(ISNUMBER(INT(Base!$A$2:$A$1000)),(INT(Base!$A$2:$A$1000)=$G$2)*(Base!$B$2:$B$1000=$A32)*(Base!$C$2:$C$1000=C$2)*(Base!$D$2:$D$1000),0),COUNTIF($A$3:$A32,$A32))} -> 0 | D32: {=LARGE(IF(ISNUMBER(INT(Base!$A$2:$A$1000)),(INT(Base!$A$2:$A$1000)=$G$2)*(Base!$B$2:$B$1000=$A32)*(Base!$C$2:$C$1000=D$2)*(Base!$D$2:$D$1000),0),COUNTIF($A$3:$A32,$A32))} -> 0
A33: 13H - 15H | B33: {=LARGE(IF(ISNUMBER(INT(Base!$A$2:$A$1000)),(INT(Base!$A$2:$A$1000)=$G$2)*(Base!$B$2:$B$1000=$A33)*(Base!$C$2:$C$1000=B$2)*(Base!$D$2:$D$1000),0),COUNTIF($A$3:$A33,$A33))} -> 0 | C33: {=LARGE(IF(ISNUMBER(INT(Base!$A$2:$A$1000)),(INT(Base!$A$2:$A$1000)=$G$2)*(Base!$B$2:$B$1000=$A33)*(Base!$C$2:$C$1000=C$2)*(Base!$D$2:$D$1000),0),COUNTIF($A$3:$A33,$A33))} -> 774382 | D33: {=LARGE(IF(ISNUMBER(INT(Base!$A$2:$A$1000)),(INT(Base!$A$2:$A$1000)=$G$2)*(Base!$B$2:$B$1000=$A33)*(Base!$C$2:$C$1000=D$2)*(Base!$D$2:$D$1000),0),COUNTIF($A$3:$A33,$A33))} -> 795236
A34: 13H - 15H | B34: {=LARGE(IF(ISNUMBER(INT(Base!$A$2:$A$1000)),(INT(Base!$A$2:$A$1000)=$G$2)*(Base!$B$2:$B$1000=$A34)*(Base!$C$2:$C$1000=B$2)*(Base!$D$2:$D$1000),0),COUNTIF($A$3:$A34,$A34))} -> 0 | C34: {=LARGE(IF(ISNUMBER(INT(Base!$A$2:$A$1000)),(INT(Base!$A$2:$A$1000)=$G$2)*(Base!$B$2:$B$1000=$A34)*(Base!$C$2:$C$1000=C$2)*(Base!$D$2:$D$1000),0),COUNTIF($A$3:$A34,$A34))} -> 0 | D34: {=LARGE(IF(ISNUMBER(INT(Base!$A$2:$A$1000)),(INT(Base!$A$2:$A$1000)=$G$2)*(Base!$B$2:$B$1000=$A34)*(Base!$C$2:$C$1000=D$2)*(Base!$D$2:$D$1000),0),COUNTIF($A$3:$A34,$A34))} -> 795204
... A41: 13H - 15H | B41: {=LARGE(IF(ISNUMBER(INT(Base!$A$2:$A$1000)),(INT(Base!$A$2:$A$1000)=$G$2)*(Base!$B$2:$B$1000=$A41)*(Base!$C$2:$C$1000=B$2)*(Base!$D$2:$D$1000),0),COUNTIF($A$3:$A41,$A41))} -> 0 | C41: {=LARGE(IF(ISNUMBER(INT(Base!$A$2:$A$1000)),(INT(Base!$A$2:$A$1000)=$G$2)*(Base!$B$2:$B$1000=$A41)*(Base!$C$2:$C$1000=C$2)*(Base!$D$2:$D$1000),0),COUNTIF($A$3:$A41,$A41))} -> 0 | D41: {=LARGE(IF(ISNUMBER(INT(Base!$A$2:$A$1000)),(INT(Base!$A$2:$A$1000)=$G$2)*(Base!$B$2:$B$1000=$A41)*(Base!$C$2:$C$1000=D$2)*(Base!$D$2:$D$1000),0),COUNTIF($A$3:$A41,$A41))} -> 0
A42: NAV MESS - 15 | C42: {=SUMPRODUCT((IF(ISNUMBER(INT(Base!$A$2:$A$1000)),(INT(Base!$A$2:$A$1000)=$G$2)*(Base!$B$2:$B$1000=$A42))))} -> 0
A43: 15H - 17H | B43: {=LARGE(IF(ISNUMBER(INT(Base!$A$2:$A$1000)),(INT(Base!$A$2:$A$1000)=$G$2)*(Base!$B$2:$B$1000=$A43)*(Base!$C$2:$C$1000=B$2)*(Base!$D$2:$D$1000),0),COUNTIF($A$3:$A43,$A43))} -> 0 | C43: {=LARGE(IF(ISNUMBER(INT(Base!$A$2:$A$1000)),(INT(Base!$A$2:$A$1000)=$G$2)*(Base!$B$2:$B$1000=$A43)*(Base!$C$2:$C$1000=C$2)*(Base!$D$2:$D$1000),0),COUNTIF($A$3:$A43,$A43))} -> 795952 | D43: {=LARGE(IF(ISNUMBER(INT(Base!$A$2:$A$1000)),(INT(Base!$A$2:$A$1000)=$G$2)*(Base!$B$2:$B$1000=$A43)*(Base!$C$2:$C$1000=D$2)*(Base!$D$2:$D$1000),0),COUNTIF($A$3:$A43,$A43))} -> 795235
A44: 15H - 17H | B44: {=LARGE(IF(ISNUMBER(INT(Base!$A$2:$A$1000)),(INT(Base!$A$2:$A$1000)=$G$2)*(Base!$B$2:$B$1000=$A44)*(Base!$C$2:$C$1000=B$2)*(Base!$D$2:$D$1000),0),COUNTIF($A$3:$A44,$A44))} -> 0 | C44: {=LARGE(IF(ISNUMBER(INT(Base!$A$2:$A$1000)),(INT(Base!$A$2:$A$1000)=$G$2)*(Base!$B$2:$B$1000=$A44)*(Base!$C$2:$C$1000=C$2)*(Base!$D$2:$D$1000),0),COUNTIF($A$3:$A44,$A44))} -> 0 | D44: {=LARGE(IF(ISNUMBER(INT(Base!$A$2:$A$1000)),(INT(Base!$A$2:$A$1000)=$G$2)*(Base!$B$2:$B$1000=$A44)*(Base!$C$2:$C$1000=D$2)*(Base!$D$2:$D$1000),0),COUNTIF($A$3:$A44,$A44))} -> 788183
A45: 15H - 17H | B45: {=LARGE(IF(ISNUMBER(INT(Base!$A$2:$A$1000)),(INT(Base!$A$2:$A$1000)=$G$2)*(Base!$B$2:$B$1000=$A45)*(Base!$C$2:$C$1000=B$2)*(Base!$D$2:$D$1000),0),COUNTIF($A$3:$A45,$A45))} -> 0 | C45: {=LARGE(IF(ISNUMBER(INT(Base!$A$2:$A$1000)),(INT(Base!$A$2:$A$1000)=$G$2)*(Base!$B$2:$B$1000=$A45)*(Base!$C$2:$C$1000=C$2)*(Base!$D$2:$D$1000),0),COUNTIF($A$3:$A45,$A45))} -> 0 | D45: {=LARGE(IF(ISNUMBER(INT(Base!$A$2:$A$1000)),(INT(Base!$A$2:$A$1000)=$G$2)*(Base!$B$2:$B$1000=$A45)*(Base!$C$2:$C$1000=D$2)*(Base!$D$2:$D$1000),0),COUNTIF($A$3:$A45,$A45))} -> 0
A46: 15H - 17H | B46: {=LARGE(IF(ISNUMBER(INT(Base!$A$2:$A$1000)),(INT(Base!$A$2:$A$1000)=$G$2)*(Base!$B$2:$B$1000=$A46)*(Base!$C$2:$C$1000=B$2)*(Base!$D$2:$D$1000),0),COUNTIF($A$3:$A46,$A46))} -> 0 | C46: {=LARGE(IF(ISNUMBER(INT(Base!$A$2:$A$1000)),(INT(Base!$A$2:$A$1000)=$G$2)*(Base!$B$2:$B$1000=$A46)*(Base!$C$2:$C$1000=C$2)*(Base!$D$2:$D$1000),0),COUNTIF($A$3:$A46,$A46))} -> 0 | D46: {=LARGE(IF(ISNUMBER(INT(Base!$A$2:$A$1000)),(INT(Base!$A$2:$A$1000)=$G$2)*(Base!$B$2:$B$1000=$A46)*(Base!$C$2:$C$1000=D$2)*(Base!$D$2:$D$1000),0),COUNTIF($A$3:$A46,$A46))} -> 0
...

Sheet date
A1: date
A2: 42736
A3: 42737
A4: 42738
A5: 42739
A6: 42740
A7: 42741
A8: 42742
A9: 42743
A10: 42744
A11: 42745
A12: 42746
A13: 42747
... A366: 43100
