Workbook

Sheet Liste des contrats
A1: n° contrat | B1: provenance | C1: articles | D1: qté contrat | E1: solde de contrat
A2: 10 | B2: Paris | C2: voiture | D2: 100
A3: 50 | B3: Lyon | C3: table | D3: 50
A4: A420 | B4: Paris | C4: montre | D4: 200
A5: 18 | B5: Orléans | C5: voiture | D5: 50

Sheet Liste des réceptions
A1: N° contrats | B1: provenance | C1: articles | D1: qté contrat | E1: solde de contrat | F1: Qté réceptionnée
A2: 50 | B2: =IF($A2="","",VLOOKUP($A2,'Liste des contrats'!$A:$E,COLUMN(),FALSE)) -> Lyon | C2: =IF($A2="","",VLOOKUP($A2,'Liste des contrats'!$A:$E,COLUMN(),FALSE)) -> table | D2: =IF($A2="","",VLOOKUP($A2,'Liste des contrats'!$A:$E,COLUMN(),FALSE)) -> 50 | E2: =IF($A2="","",D2-SUMPRODUCT(($A$2:A2=A2)*($F$2:F2))) -> 48 | F2: 2
A3: 10 | B3: =IF($A3="","",VLOOKUP($A3,'Liste des contrats'!$A:$E,COLUMN(),FALSE)) -> Paris | C3: =IF($A3="","",VLOOKUP($A3,'Liste des contrats'!$A:$E,COLUMN(),FALSE)) -> voiture | D3: =IF($A3="","",VLOOKUP($A3,'Liste des contrats'!$A:$E,COLUMN(),FALSE)) -> 100 | E3: =IF($A3="","",D3-SUMPRODUCT(($A$2:A3=A3)*($F$2:F3))) -> 95 | F3: 5
A4: 18 | B4: =IF($A4="","",VLOOKUP($A4,'Liste des contrats'!$A:$E,COLUMN(),FALSE)) -> Orléans | C4: =IF($A4="","",VLOOKUP($A4,'Liste des contrats'!$A:$E,COLUMN(),FALSE)) -> voiture | D4: =IF($A4="","",VLOOKUP($A4,'Liste des contrats'!$A:$E,COLUMN(),FALSE)) -> 50 | E4: =IF($A4="","",D4-SUMPRODUCT(($A$2:A4=A4)*($F$2:F4))) -> 40 | F4: 10
A5: 50 | B5: =IF($A5="","",VLOOKUP($A5,'Liste des contrats'!$A:$E,COLUMN(),FALSE)) -> Lyon | C5: =IF($A5="","",VLOOKUP($A5,'Liste des contrats'!$A:$E,COLUMN(),FALSE)) -> table | D5: =IF($A5="","",VLOOKUP($A5,'Liste des contrats'!$A:$E,COLUMN(),FALSE)) -> 50 | E5: =IF($A5="","",D5-SUMPRODUCT(($A$2:A5=A5)*($F$2:F5))) -> 43 | F5: 5
A6: A420 | B6: =IF($A6="","",VLOOKUP($A6,'Liste des contrats'!$A:$E,COLUMN(),FALSE)) -> Paris | C6: =IF($A6="","",VLOOKUP($A6,'Liste des contrats'!$A:$E,COLUMN(),FALSE)) -> montre | D6: =IF($A6="","",VLOOKUP($A6,'Liste des contrats'!$A:$E,COLUMN(),FALSE)) -> 200 | E6: =IF($A6="","",D6-SUMPRODUCT(($A$2:A6=A6)*($F$2:F6))) -> 198 | F6: 2
A7: 50 | B7: =IF($A7="","",VLOOKUP($A7,'Liste des contrats'!$A:$E,COLUMN(),FALSE)) -> Lyon | C7: =IF($A7="","",VLOOKUP($A7,'Liste des contrats'!$A:$E,COLUMN(),FALSE)) -> table | D7: =IF($A7="","",VLOOKUP($A7,'Liste des contrats'!$A:$E,COLUMN(),FALSE)) -> 50 | E7: =IF($A7="","",D7-SUMPRODUCT(($A$2:A7=A7)*($F$2:F7))) -> 40 | F7: 3
A8: A420 | B8: =IF($A8="","",VLOOKUP($A8,'Liste des contrats'!$A:$E,COLUMN(),FALSE)) -> Paris | C8: =IF($A8="","",VLOOKUP($A8,'Liste des contrats'!$A:$E,COLUMN(),FALSE)) -> montre | D8: =IF($A8="","",VLOOKUP($A8,'Liste des contrats'!$A:$E,COLUMN(),FALSE)) -> 200 | E8: =IF($A8="","",D8-SUMPRODUCT(($A$2:A8=A8)*($F$2:F8))) -> 193 | F8: 5
A9: 18 | B9: =IF($A9="","",VLOOKUP($A9,'Liste des contrats'!$A:$E,COLUMN(),FALSE)) -> Orléans | C9: =IF($A9="","",VLOOKUP($A9,'Liste des contrats'!$A:$E,COLUMN(),FALSE)) -> voiture | D9: =IF($A9="","",VLOOKUP($A9,'Liste des contrats'!$A:$E,COLUMN(),FALSE)) -> 50 | E9: =IF($A9="","",D9-SUMPRODUCT(($A$2:A9=A9)*($F$2:F9))) -> 30 | F9: 10
B10: =IF($A10="","",VLOOKUP($A10,'Liste des contrats'!$A:$E,COLUMN(),FALSE)) | C10: =IF($A10="","",VLOOKUP($A10,'Liste des contrats'!$A:$E,COLUMN(),FALSE)) | D10: =IF($A10="","",VLOOKUP($A10,'Liste des contrats'!$A:$E,COLUMN(),FALSE)) | E10: =IF($A10="","",D10-SUMPRODUCT(($A$2:A10=A10)*($F$2:F10)))
B11: =IF($A11="","",VLOOKUP($A11,'Liste des contrats'!$A:$E,COLUMN(),FALSE)) | C11: =IF($A11="","",VLOOKUP($A11,'Liste des contrats'!$A:$E,COLUMN(),FALSE)) | D11: =IF($A11="","",VLOOKUP($A11,'Liste des contrats'!$A:$E,COLUMN(),FALSE)) | E11: =IF($A11="","",D11-SUMPRODUCT(($A$2:A11=A11)*($F$2:F11)))
B12: =IF($A12="","",VLOOKUP($A12,'Liste des contrats'!$A:$E,COLUMN(),FALSE)) | C12: =IF($A12="","",VLOOKUP($A12,'Liste des contrats'!$A:$E,COLUMN(),FALSE)) | D12: =IF($A12="","",VLOOKUP($A12,'Liste des contrats'!$A:$E,COLUMN(),FALSE)) | E12: =IF($A12="","",D12-SUMPRODUCT(($A$2:A12=A12)*($F$2:F12)))
B13: =IF($A13="","",VLOOKUP($A13,'Liste des contrats'!$A:$E,COLUMN(),FALSE)) | C13: =IF($A13="","",VLOOKUP($A13,'Liste des contrats'!$A:$E,COLUMN(),FALSE)) | D13: =IF($A13="","",VLOOKUP($A13,'Liste des contrats'!$A:$E,COLUMN(),FALSE))

Sheet Feuil3
