Workbook
Name Unité: '[1]Liste Deroulante ne pas effacée'!$A$5:$A$10

Sheet Feuil1
H2: A : | I2: Sevran
H3: Le : | I3: 07 Janvier 2015
B11: 58, Boulevard de Stalingrad
B12: 93 270 SEVRAN
B13: Tel : 09.83.27.62.98
B14: Fax : 09.83.51.62.98
A16: DEVIS N° 15 001
A18: Adresse Chantier : | D18: Condition de Paiement : | G18: Commande n° :
D20: Mode de Paiement : | G20: Notre Contact :
D21: Votre Contact : | E21: Zenyo CERQUEIRA
B23: Désignations | E23: Unités | F23: Quantités | G23: Prix Unitaires | I23: Montant H.T.
B25: Mise en Conformité Assainissements | I25: =IF(G25<>"",G25*F25,"")
I26: =IF(G26<>"",G26*F26,"")
B27: Fourniture et pose de regard de branchement 40x40 y | E27: u | F27: 5 | G27: =DS!F3 -> 492.23 | I27: =IF(G27<>"",G27*F27,"") -> 2461.15
B28: compris tampons fonte C250Kn pour réseaux EU | I28: =IF(G28<>"",G28*F28,"")
I29: =IF(G29<>"",G29*F29,"")
B30: Fourniture et pose de regard de branchement 40x40 y | E30: u | F30: 2 | G30: =DS!F31 -> 492.23 | I30: =IF(G30<>"",G30*F30,"") -> 984.46
B31: compris tampons fonte C250Kn pour réseaux EP | I31: =IF(G31<>"",G31*F31,"")
I32: =IF(G32<>"",G32*F32,"")
B33: Fourniture et pose de regard de branchement 40x40 y | E33: u | F33: 1 | G33: =DS!F59 -> 492.23 | I33: =IF(G33<>"",G33*F33,"") -> 492.23
B34: compris tampons fonte C250Kn pour réseaux "EG" | I34: =IF(G34<>"",G34*F34,"")
I35: =IF(G35<>"",G35*F35,"")
B36: Fourniture et pose d'un Séparateur à Graisse de type | E36: for | F36: 1 | G36: =DS!F87 -> 4842 | I36: =IF(G36<>"",G36*F36,"") -> 4842
B37: PSGD2 de chez Ocido | I37: =IF(G37<>"",G37*F37,"")
I38: =IF(G38<>"",G38*F38,"")
B39: Fourniture et pose de tyaux PVC CR8 Ø110, y compris | E39: ml | F39: 45 | G39: =DS!F115 -> 149.09 | I39: =IF(G39<>"",G39*F39,"") -> 6709.05
B40: ouverture et fermeture tranchée et lit de pose | I40: =IF(G40<>"",G40*F40,"")
I41: =IF(G41<>"",G41*F41,"")
B42: Raccordement sur réseaux existants | E42: for | F42: 1 | G42: =DS!F143 -> 600 | I42: =IF(G42<>"",G42*F42,"") -> 600
I43: =IF(G43<>"",G43*F43,"")
B44: Remise en état | E44: for | F44: 1 | G44: =DS!F171 -> 4400 | I44: =IF(G44<>"",G44*F44,"") -> 4400
I45: =IF(G45<>"",G45*F45,"")
I46: =IF(G46<>"",G46*F46,"")
B47: Aménagement Extérieur | I47: =IF(G47<>"",G47*F47,"")
I48: =IF(G48<>"",G48*F48,"")
B49: Démolition du revêtement existant | E49: m2 | F49: =25*3 -> 75 | G49: =DS!F199 -> 36.24 | I49: =IF(G49<>"",G49*F49,"") -> 2718
I50: =IF(G50<>"",G50*F50,"")
B51: Fourniture et mise en œuvre de grave béton concassée | E51: m2 | F51: =20*3 -> 60 | G51: =DS!F227 -> 38.71 | I51: =IF(G51<>"",G51*F51,"") -> 2322.6
B52: 0/31,5 sur une épaisseur moyenne de 0,25m | I52: =IF(G52<>"",G52*F52,"")
I53: =IF(G53<>"",G53*F53,"")
...

Sheet DS
A2: Poste | B2: =Feuil1!B27 -> Fourniture et pose de regard de branchement 40x40 y | F2: Prix de Vente
A3: Unite | B3: =Feuil1!E27 -> u | F3: =ROUNDUP(F28/B4,2) -> 492.23
A4: Quantite | B4: =Feuil1!F27 -> 5
A5: Designation | B5: Unite | C5: Quantite | D5: Jour | E5: Prix Unitaire | F5: Total
A6: Mains Oeuvre
A7: Equipes | B7: u | C7: 3 | D7: 0.5 | E7: 300 | F7: =C7*D7*E7 -> 450 | L7: FG | M7: 1
F8: =C8*D8*E8 -> 0 | L8: Marge | M8: 1
F9: =C9*D9*E9 -> 0
A10: Materiels
A11: Pelle 5T | B11: u | C11: 1 | D11: 0.5 | E11: 250 | F11: =C11*D11*E11 -> 125
A12: Transfert | B12: u | C12: 1 | D12: =2/3 -> 0.66666667 | E12: 200 | F12: =C12*D12*E12 -> 133.33333
A13: Chargeur | B13: u | C13: 1 | D13: 0.5 | E13: 100 | F13: =C13*D13*E13 -> 50
F14: =C14*D14*E14 -> 0
A15: Camion | B15: u | C15: 1 | D15: 0.75 | E15: 580 | F15: =C15*D15*E15 -> 435
F16: =C16*D16*E16 -> 0
F17: =C17*D17*E17 -> 0
F18: =C18*D18*E18 -> 0
A19: Fourniture
A20: Decharge | B20: T | C20: =B4*0.5*0.5*0.5*1.9 -> 1.1875 | D20: 1 | E20: 15 | F20: =C20*D20*E20 -> 17.8125
A21: Regards | B21: u | C21: =B4 -> 5 | D21: 1 | E21: 250 | F21: =C21*D21*E21 -> 1250
F22: =C22*D22*E22 -> 0
F23: =C23*D23*E23 -> 0
F24: =C24*D24*E24 -> 0
A25: Divers | B25: u | C25: 1 | D25: 1 | E25: 0 | F25: =C25*D25*E25 -> 0
E26: DS | F26: =SUM(F6:F25) -> 2461.1458
D27: FG | E27: =$M$7 -> 1 | F27: =F26*E27 -> 2461.1458
D28: Marge | E28: =$M$8 -> 1 | F28: =F27*E28 -> 2461.1458
A30: Poste | B30: =Feuil1!B30 -> Fourniture et pose de regard de branchement 40x40 y | F30: Prix de Vente
A31: Unite | B31: =Feuil1!E30 -> u | F31: =F3 -> 492.23
A32: Quantite | B32: =Feuil1!F30 -> 2
A33: Designation | B33: Unite | C33: Quantite | D33: Jour | E33: Prix Unitaire | F33: Total
A34: Mains Oeuvre
A35: Equipes | B35: u | F35: =C35*D35*E35 -> 0
F36: =C36*D36*E36 -> 0
F37: =C37*D37*E37 -> 0
A38: Materiels | C38: -0.42857143 | D38: 0.84756584 | E38: -81.420591
A39: Pelle 8T | B39: u | F39: =C39*D39*E39 -> 0
F40: =C40*D40*E40 -> 0
A41: Chargeur | B41: u | F41: =C41*D41*E41 -> 0
F42: =C42*D42*E42 -> 0
...
