Workbook

Sheet Sheet1
A1: Employee ID | B1: 2017 | F1: 2018 | J1: Max
B2: Exam A | C2: Exam B | D2: Exam C | E2: Exam D | F2: Exam A | G2: Exam B | H2: Exam C | I2: Exam D | J2: Exam A | K2: Exam B | L2: Exam C | M2: Exam D
A3: 001 | B3: =VLOOKUP($A3,'2017'!$A$2:$E$4,2,FALSE) -> 88 | C3: =VLOOKUP($A3,'2017'!$A$2:$E$4,3,FALSE) -> 73 | D3: =VLOOKUP($A3,'2017'!$A$2:$E$4,4,FALSE) -> 69 | E3: =VLOOKUP($A3,'2017'!$A$2:$E$4,5,FALSE) -> 42 | F3: =VLOOKUP($A3,'2018'!$A$2:$E$4,2,FALSE) -> #N/A | G3: =VLOOKUP($A3,'2018'!$A$2:$E$4,3,FALSE) -> #N/A | H3: =VLOOKUP($A3,'2018'!$A$2:$E$4,4,FALSE) -> #N/A | I3: =VLOOKUP($A3,'2018'!$A$2:$E$4,5,FALSE) -> #N/A | J3: {=MAX(IF(ISNA($B3:$I3),,(B3,F3)))} -> #VALUE! | K3: {=MAX(IF(ISNA($B3:$I3),,(C3,G3)))} -> #VALUE! | L3: {=MAX(IF(ISNA($B3:$I3),,(D3,H3)))} -> #VALUE! | M3: {=MAX(IF(ISNA($B3:$I3),,(E3,I3)))} -> #VALUE!
A4: 002 | B4: =VLOOKUP($A4,'2017'!$A$2:$E$4,2,FALSE) -> #N/A | C4: =VLOOKUP($A4,'2017'!$A$2:$E$4,3,FALSE) -> #N/A | D4: =VLOOKUP($A4,'2017'!$A$2:$E$4,4,FALSE) -> #N/A | E4: =VLOOKUP($A4,'2017'!$A$2:$E$4,5,FALSE) -> #N/A | F4: =VLOOKUP($A4,'2018'!$A$2:$E$4,2,FALSE) -> 94 | G4: =VLOOKUP($A4,'2018'!$A$2:$E$4,3,FALSE) -> 81 | H4: =VLOOKUP($A4,'2018'!$A$2:$E$4,4,FALSE) -> 50 | I4: =VLOOKUP($A4,'2018'!$A$2:$E$4,5,FALSE) -> 25 | J4: {=MAX(IF(ISNA($B4:$I4),,(B4,F4)))} -> #VALUE! | K4: {=MAX(IF(ISNA($B4:$I4),,(C4,G4)))} -> #VALUE! | L4: {=MAX(IF(ISNA($B4:$I4),,(D4,H4)))} -> #VALUE! | M4: {=MAX(IF(ISNA($B4:$I4),,(E4,I4)))} -> #VALUE!
A5: 003 | B5: =VLOOKUP($A5,'2017'!$A$2:$E$4,2,FALSE) -> #N/A | C5: =VLOOKUP($A5,'2017'!$A$2:$E$4,3,FALSE) -> #N/A | D5: =VLOOKUP($A5,'2017'!$A$2:$E$4,4,FALSE) -> #N/A | E5: =VLOOKUP($A5,'2017'!$A$2:$E$4,5,FALSE) -> #N/A | F5: =VLOOKUP($A5,'2018'!$A$2:$E$4,2,FALSE) -> #N/A | G5: =VLOOKUP($A5,'2018'!$A$2:$E$4,3,FALSE) -> #N/A | H5: =VLOOKUP($A5,'2018'!$A$2:$E$4,4,FALSE) -> #N/A | I5: =VLOOKUP($A5,'2018'!$A$2:$E$4,5,FALSE) -> #N/A | J5: {=MAX(IF(ISNA($B5:$I5),,(B5,F5)))} -> 0 | K5: {=MAX(IF(ISNA($B5:$I5),,(C5,G5)))} -> 0 | L5: {=MAX(IF(ISNA($B5:$I5),,(D5,H5)))} -> 0 | M5: {=MAX(IF(ISNA($B5:$I5),,(E5,I5)))} -> 0
A6: 004 | B6: =VLOOKUP($A6,'2017'!$A$2:$E$4,2,FALSE) -> 61 | C6: =VLOOKUP($A6,'2017'!$A$2:$E$4,3,FALSE) -> 92 | D6: =VLOOKUP($A6,'2017'!$A$2:$E$4,4,FALSE) -> 52 | E6: =VLOOKUP($A6,'2017'!$A$2:$E$4,5,FALSE) -> 81 | F6: =VLOOKUP($A6,'2018'!$A$2:$E$4,2,FALSE) -> 70 | G6: =VLOOKUP($A6,'2018'!$A$2:$E$4,3,FALSE) -> 87 | H6: =VLOOKUP($A6,'2018'!$A$2:$E$4,4,FALSE) -> 51 | I6: =VLOOKUP($A6,'2018'!$A$2:$E$4,5,FALSE) -> 74 | J6: {=MAX(IF(ISNA($B6:$I6),,(B6,F6)))} -> #VALUE! | K6: {=MAX(IF(ISNA($B6:$I6),,(C6,G6)))} -> #VALUE! | L6: {=MAX(IF(ISNA($B6:$I6),,(D6,H6)))} -> #VALUE! | M6: {=MAX(IF(ISNA($B6:$I6),,(E6,I6)))} -> #VALUE!
A7: 005 | B7: =VLOOKUP($A7,'2017'!$A$2:$E$4,2,FALSE) -> 42 | C7: =VLOOKUP($A7,'2017'!$A$2:$E$4,3,FALSE) -> 70 | D7: =VLOOKUP($A7,'2017'!$A$2:$E$4,4,FALSE) -> 77 | E7: =VLOOKUP($A7,'2017'!$A$2:$E$4,5,FALSE) -> 56 | F7: =VLOOKUP($A7,'2018'!$A$2:$E$4,2,FALSE) -> #N/A | G7: =VLOOKUP($A7,'2018'!$A$2:$E$4,3,FALSE) -> #N/A | H7: =VLOOKUP($A7,'2018'!$A$2:$E$4,4,FALSE) -> #N/A | I7: =VLOOKUP($A7,'2018'!$A$2:$E$4,5,FALSE) -> #N/A | J7: {=MAX(IF(ISNA($B7:$I7),,(B7,F7)))} -> #VALUE! | K7: {=MAX(IF(ISNA($B7:$I7),,(C7,G7)))} -> #VALUE! | L7: {=MAX(IF(ISNA($B7:$I7),,(D7,H7)))} -> #VALUE! | M7: {=MAX(IF(ISNA($B7:$I7),,(E7,I7)))} -> #VALUE!
A8: 006 | B8: =VLOOKUP($A8,'2017'!$A$2:$E$4,2,FALSE) -> #N/A | C8: =VLOOKUP($A8,'2017'!$A$2:$E$4,3,FALSE) -> #N/A | D8: =VLOOKUP($A8,'2017'!$A$2:$E$4,4,FALSE) -> #N/A | E8: =VLOOKUP($A8,'2017'!$A$2:$E$4,5,FALSE) -> #N/A | F8: =VLOOKUP($A8,'2018'!$A$2:$E$4,2,FALSE) -> 48 | G8: =VLOOKUP($A8,'2018'!$A$2:$E$4,3,FALSE) -> 53 | H8: =VLOOKUP($A8,'2018'!$A$2:$E$4,4,FALSE) -> 36 | I8: =VLOOKUP($A8,'2018'!$A$2:$E$4,5,FALSE) -> 99 | J8: {=MAX(IF(ISNA($B8:$I8),,(B8,F8)))} -> #VALUE! | K8: {=MAX(IF(ISNA($B8:$I8),,(C8,G8)))} -> #VALUE! | L8: {=MAX(IF(ISNA($B8:$I8),,(D8,H8)))} -> #VALUE! | M8: {=MAX(IF(ISNA($B8:$I8),,(E8,I8)))} -> #VALUE!
A9: 007 | B9: =VLOOKUP($A9,'2017'!$A$2:$E$4,2,FALSE) -> #N/A | C9: =VLOOKUP($A9,'2017'!$A$2:$E$4,3,FALSE) -> #N/A | D9: =VLOOKUP($A9,'2017'!$A$2:$E$4,4,FALSE) -> #N/A | E9: =VLOOKUP($A9,'2017'!$A$2:$E$4,5,FALSE) -> #N/A | F9: =VLOOKUP($A9,'2018'!$A$2:$E$4,2,FALSE) -> #N/A | G9: =VLOOKUP($A9,'2018'!$A$2:$E$4,3,FALSE) -> #N/A | H9: =VLOOKUP($A9,'2018'!$A$2:$E$4,4,FALSE) -> #N/A | I9: =VLOOKUP($A9,'2018'!$A$2:$E$4,5,FALSE) -> #N/A | J9: {=MAX(IF(ISNA($B9:$I9),,(B9,F9)))} -> 0 | K9: {=MAX(IF(ISNA($B9:$I9),,(C9,G9)))} -> 0 | L9: {=MAX(IF(ISNA($B9:$I9),,(D9,H9)))} -> 0 | M9: {=MAX(IF(ISNA($B9:$I9),,(E9,I9)))} -> 0

Sheet 2017
A1: Employee ID | B1: Test A | C1: Test B | D1: Test C | E1: Test D
A2: 001 | B2: 88 | C2: 73 | D2: 69 | E2: 42
A3: 004 | B3: 61 | C3: 92 | D3: 52 | E3: 81
A4: 005 | B4: 42 | C4: 70 | D4: 77 | E4: 56

Sheet 2018
A1: Employee ID | B1: Test A | C1: Test B | D1: Test C | E1: Test D
A2: 002 | B2: 94 | C2: 81 | D2: 50 | E2: 25
A3: 004 | B3: 70 | C3: 87 | D3: 51 | E3: 74
A4: 006 | B4: 48 | C4: 53 | D4: 36 | E4: 99
