Workbook

Sheet Feuil1
A1: Table | B1: A | C1: C
A2: AA | B2: ABF112 | C2: =LEN(B2) -> 6 | D2: ABF112XX
A3: AD | B3: ABFAN02 | C3: =LEN(B3) -> 7 | D3: ABFAN002
A4: AG | B4: ACU1022 | C4: =LEN(B4) -> 7 | D4: ACU1022
A5: AH | B5: AFB1 | C5: =LEN(B5) -> 4 | D5: AFB001XX | F5: AFB1 | G5: AFB001XX
A6: AO | B6: AFB13 | C6: =LEN(B6) -> 5 | D6: AFB013XX | F6: AFB13 | G6: AFB013XX
A7: AS | B7: AFC5A | C7: =LEN(B7) -> 5 | D7: AFC005A | F7: ABF112 | G7: ABF112XX
A8: AZ | B8: AFC7 | C8: =LEN(B8) -> 4 | D8: AFC007XX
A9: BC | B9: AFD103A | C9: =LEN(B9) -> 7 | D9: AFD103A
A10: BE | B10: AGJ6 | C10: =LEN(B10) -> 4 | D10: AGJ006XX | F10: Exemples : il ne faut pas de AN car ils ont un suffixe
A11: BF | B11: AHC42 | C11: =LEN(B11) -> 5 | D11: AHC042XX
A12: BG | B12: AJE1 | C12: =LEN(B12) -> 4 | D12: AJE001XX | F12: AFC5A | G12: AFC005A
A13: BH | B13: ALA2 | C13: =LEN(B13) -> 4 | D13: ALA002XX | F13: NLM7A | G13: NLM007A
A14: BI | B14: ALBAN10 | C14: =LEN(B14) -> 7 | D14: ALBAN010 | F14: ALR115M | G14: ALR115M
A15: BJ | B15: ALR115M | C15: =LEN(B15) -> 7 | D15: ALR115M | F15: AFD103A | G15: AFD103A
A16: BK | B16: AMD2 | C16: =LEN(B16) -> 4 | D16: AMD002XX
A17: BL | B17: BTMAN | C17: =LEN(B17) -> 5 | D17: BTMAN
A18: BM | B18: FCO1339 | C18: =LEN(B18) -> 7 | D18: FCO1339
A19: BN | B19: FCO1341 | C19: =LEN(B19) -> 7 | D19: FCO1341 | F19: Voilà les écritures que j'ai ajouté
A20: BO | B20: GBFAN52 | C20: =LEN(B20) -> 7 | D20: GBFAN052
A21: BP | B21: GBFAN67 | C21: =LEN(B21) -> 7 | D21: GBFAN067 | F21: ACKAN1 | G21: ACKAN001
A22: BQ | B22: 085QS2 | C22: =LEN(B22) -> 6 | D22: 085QS2 | F22: AFBAN2 | G22: AFBAN002
A23: BS | B23: 115A17 | C23: =LEN(B23) -> 6 | D23: 115A17 | F23: GBFAN52 | G23: GBFAN052
A24: BT | B24: GHO1062 | C24: =LEN(B24) -> 7 | D24: GHO1062
A25: BU | B25: ACK109 | C25: =LEN(B25) -> 6 | D25: =IF(AND(LEN(B25)=6,COUNTIF(Feuil2!$A:$A,MID(B25,2,2))),MID(B25,1,6)&"XX") -> ACK109XX
A26: BY | B26: ACKAN1 | C26: =LEN(B26) -> 6 | D26: ACKAN001
A27: CA | B27: ACO111 | C27: =LEN(B27) -> 6 | D27: =IF(AND(LEN(B27)=6,COUNTIF(Feuil2!$A:$A,MID(B27,2,2))),MID(B27,1,6)&"XX") -> ACO111XX
A28: CB | B28: ACV101 | C28: =LEN(B28) -> 6 | D28: =IF(AND(LEN(B28)=6,COUNTIF(Feuil2!$A:$A,MID(B28,2,2))),MID(B28,1,6)&"XX") -> ACV101XX
A29: CC | B29: AFB144 | C29: =LEN(B29) -> 6 | D29: =IF(AND(LEN(B29)=6,COUNTIF(Feuil2!$A:$A,MID(B29,2,2))),MID(B29,1,6)&"XX") -> AFB144XX
A30: CD | B30: AFBAN2 | C30: =LEN(B30) -> 6 | D30: AFBAN002
A31: CE | B31: AFD118 | C31: =LEN(B31) -> 6 | D31: =IF(AND(LEN(B31)=6,COUNTIF(Feuil2!$A:$A,MID(B31,2,2))),MID(B31,1,6)&"XX") -> AFD118XX
A32: CF | B32: AFHAN1 | C32: =LEN(B32) -> 6 | D32: AFHAN001
A33: CG | B33: AFJAN4 | C33: =LEN(B33) -> 6 | D33: AFJAN004
A34: CJ | B34: GLR114M | C34: =LEN(B34) -> 7 | D34: GLR114M
A35: CK | B35: GLR1151 | C35: =LEN(B35) -> 7 | D35: GLR1151
A36: CM | B36: GLR1152 | C36: =LEN(B36) -> 7 | D36: GLR1152
A37: CN | B37: GLR1241 | C37: =LEN(B37) -> 7 | D37: GLR1241
A38: CO
A39: CP
A40: CQ
A41: CR
A42: CS
A43: CT
A44: CU
A45: CV
A46: CY
A47: CZ
A48: EB
A49: FB
... A220: ZZ

Sheet Feuil2
A2: AA
A3: AD | C3: BTMAN
A4: AD
A5: AO
A6: AS
A7: BC
A8: BC
A9: BE
A10: BF
A11: BF
A12: BG
A13: BH
A14: BL
A15: BM
... A220: ZZ

Sheet Feuil3

Sheet Feuil4

Sheet Feuil5
