Workbook

Sheet fiche_restaurant
B5: effectif le + élevé réalisé | C5: ="période :" -> période : | D5: 43891 | G5: effectif le + élevé réalisé | H5: ="période :" -> période : | I5: =_xlfn.AGGREGATE(14,6,(historique_effectifs!$B$4:$J$4=LEFT($C5,FIND(" :",$C5)-1))*(historique_effectifs!$K$5:$K$24=$I$11)*historique_effectifs!$B$5:$J$24,1) -> 43891
C6: ="maternelle :" -> maternelle : | D6: =_xlfn.AGGREGATE(14,6,(historique_effectifs!$C$4:$K$4=LEFT($C6,FIND(" :",$C6)-1))*(historique_effectifs!$B$5:$B$24=$D$5)*historique_effectifs!$C$5:$K$24,1) -> 22 | E6: =_xlfn.AGGREGATE(14,6,(historique_effectifs!$C$4:$K$4=LEFT($C6,FIND(" :",$C6)-1))*historique_effectifs!$C$5:$K$24,1) -> 23 | H6: ="maternelle :" -> maternelle : | I6: =_xlfn.AGGREGATE(14,6,(historique_effectifs!$B$4:$J$4=LEFT($C6,FIND(" :",$C6)-1))*(historique_effectifs!$K$5:$K$24=$I$11)*historique_effectifs!$B$5:$J$24,1) -> 22
C7: ="primaires :" -> primaires : | D7: =_xlfn.AGGREGATE(14,6,(historique_effectifs!$C$4:$K$4=LEFT($C7,FIND(" :",$C7)-1))*(historique_effectifs!$B$5:$B$24=$D$5)*historique_effectifs!$C$5:$K$24,1) -> 31 | E7: =_xlfn.AGGREGATE(14,6,(historique_effectifs!$C$4:$K$4=LEFT($C7,FIND(" :",$C7)-1))*historique_effectifs!$C$5:$K$24,1) -> 31 | H7: ="primaires :" -> primaires : | I7: =_xlfn.AGGREGATE(14,6,(historique_effectifs!$B$4:$J$4=LEFT($C7,FIND(" :",$C7)-1))*(historique_effectifs!$K$5:$K$24=$I$11)*historique_effectifs!$B$5:$J$24,1) -> 31
C8: ="animateurs :" -> animateurs : | D8: =_xlfn.AGGREGATE(14,6,(historique_effectifs!$C$4:$K$4=LEFT($C8,FIND(" :",$C8)-1))*(historique_effectifs!$B$5:$B$24=$D$5)*historique_effectifs!$C$5:$K$24,1) -> 6 | E8: =_xlfn.AGGREGATE(14,6,(historique_effectifs!$C$4:$K$4=LEFT($C8,FIND(" :",$C8)-1))*historique_effectifs!$C$5:$K$24,1) -> 6 | H8: ="animateurs :" -> animateurs : | I8: =_xlfn.AGGREGATE(14,6,(historique_effectifs!$B$4:$J$4=LEFT($C8,FIND(" :",$C8)-1))*(historique_effectifs!$K$5:$K$24=$I$11)*historique_effectifs!$B$5:$J$24,1) -> 6
C9: ="agents de service :" -> agents de service : | D9: =_xlfn.AGGREGATE(14,6,(historique_effectifs!$C$4:$K$4=LEFT($C9,FIND(" :",$C9)-1))*(historique_effectifs!$B$5:$B$24=$D$5)*historique_effectifs!$C$5:$K$24,1) -> 1 | E9: =_xlfn.AGGREGATE(14,6,(historique_effectifs!$C$4:$K$4=LEFT($C9,FIND(" :",$C9)-1))*historique_effectifs!$C$5:$K$24,1) -> 1 | H9: ="agents de service :" -> agents de service : | I9: =_xlfn.AGGREGATE(14,6,(historique_effectifs!$B$4:$J$4=LEFT($C9,FIND(" :",$C9)-1))*(historique_effectifs!$K$5:$K$24=$I$11)*historique_effectifs!$B$5:$J$24,1) -> 1
C10: ="agent restauration :" -> agent restauration : | D10: =_xlfn.AGGREGATE(14,6,(historique_effectifs!$C$4:$K$4=LEFT($C10,FIND(" :",$C10)-1))*(historique_effectifs!$B$5:$B$24=$D$5)*historique_effectifs!$C$5:$K$24,1) -> 1 | E10: =_xlfn.AGGREGATE(14,6,(historique_effectifs!$C$4:$K$4=LEFT($C10,FIND(" :",$C10)-1))*historique_effectifs!$C$5:$K$24,1) -> 1 | H10: ="agent restauration :" -> agent restauration : | I10: =_xlfn.AGGREGATE(14,6,(historique_effectifs!$B$4:$J$4=LEFT($C10,FIND(" :",$C10)-1))*(historique_effectifs!$K$5:$K$24=$I$11)*historique_effectifs!$B$5:$J$24,1) -> 1
C11: ="total :" -> total : | D11: =MAX(D6:D10) -> 31 | H11: ="total :" -> total : | I11: =MAX(historique_effectifs!K5:K24) -> 61
G13: résultat souhaité

Sheet historique_effectifs
B4: période | C4: maternelle | D4: primaires | E4: animateurs | F4: agents de service | G4: agent restauration | H4: nbr. de services maternelle | I4: nbr. de services primaire | J4: total nombre de services | K4: total convives
B5: 43831 | C5: 21 | D5: 29 | E5: 6 | F5: 1 | G5: 1 | H5: 2 | I5: 1 | J5: =IF(H5+I5=0,"",H5+I5) -> 3 | K5: =IF(SUM(C5:G5)=0,"",SUM(C5:G5)) -> 58
B6: =EDATE(B5,1) -> 43862 | C6: 23 | D6: 24 | E6: 6 | F6: 1 | G6: 1 | H6: 2 | I6: 1 | J6: =IF(H6+I6=0,"",H6+I6) -> 3 | K6: =IF(SUM(C6:G6)=0,"",SUM(C6:G6)) -> 55
B7: =EDATE(B6,1) -> 43891 | C7: 22 | D7: 31 | E7: 6 | F7: 1 | G7: 1 | H7: 2 | I7: 1 | J7: =IF(H7+I7=0,"",H7+I7) -> 3 | K7: =IF(SUM(C7:G7)=0,"",SUM(C7:G7)) -> 61
B8: =EDATE(B7,1) -> 43922 | C8: 20 | D8: 30 | E8: 6 | F8: 1 | G8: 1 | H8: 2 | I8: 1 | J8: =IF(H8+I8=0,"",H8+I8) -> 3 | K8: =IF(SUM(C8:G8)=0,"",SUM(C8:G8)) -> 58
B9: =EDATE(B8,1) -> 43952 | J9: =IF(H9+I9=0,"",H9+I9) | K9: =IF(SUM(C9:G9)=0,"",SUM(C9:G9))
B10: =EDATE(B9,1) -> 43983 | J10: =IF(H10+I10=0,"",H10+I10) | K10: =IF(SUM(C10:G10)=0,"",SUM(C10:G10))
B11: =EDATE(B10,3) -> 44075 | J11: =IF(H11+I11=0,"",H11+I11) | K11: =IF(SUM(C11:G11)=0,"",SUM(C11:G11))
B12: =EDATE(B11,1) -> 44105 | J12: =IF(H12+I12=0,"",H12+I12) | K12: =IF(SUM(C12:G12)=0,"",SUM(C12:G12))
B13: =EDATE(B12,1) -> 44136 | J13: =IF(H13+I13=0,"",H13+I13) | K13: =IF(SUM(C13:G13)=0,"",SUM(C13:G13))
B14: =EDATE(B13,1) -> 44166 | J14: =IF(H14+I14=0,"",H14+I14) | K14: =IF(SUM(C14:G14)=0,"",SUM(C14:G14))
B15: =EDATE(B14,1) -> 44197 | J15: =IF(H15+I15=0,"",H15+I15) | K15: =IF(SUM(C15:G15)=0,"",SUM(C15:G15))
B16: =EDATE(B15,1) -> 44228 | J16: =IF(H16+I16=0,"",H16+I16) | K16: =IF(SUM(C16:G16)=0,"",SUM(C16:G16))
B17: =EDATE(B16,1) -> 44256 | J17: =IF(H17+I17=0,"",H17+I17) | K17: =IF(SUM(C17:G17)=0,"",SUM(C17:G17))
B18: =EDATE(B17,1) -> 44287 | J18: =IF(H18+I18=0,"",H18+I18) | K18: =IF(SUM(C18:G18)=0,"",SUM(C18:G18))
B19: =EDATE(B18,1) -> 44317 | J19: =IF(H19+I19=0,"",H19+I19) | K19: =IF(SUM(C19:G19)=0,"",SUM(C19:G19))
B20: =EDATE(B19,1) -> 44348 | J20: =IF(H20+I20=0,"",H20+I20) | K20: =IF(SUM(C20:G20)=0,"",SUM(C20:G20))
B21: =EDATE(B20,3) -> 44440 | J21: =IF(H21+I21=0,"",H21+I21) | K21: =IF(SUM(C21:G21)=0,"",SUM(C21:G21))
B22: =EDATE(B21,1) -> 44470 | J22: =IF(H22+I22=0,"",H22+I22) | K22: =IF(SUM(C22:G22)=0,"",SUM(C22:G22))
B23: =EDATE(B22,1) -> 44501 | J23: =IF(H23+I23=0,"",H23+I23) | K23: =IF(SUM(C23:G23)=0,"",SUM(C23:G23))
B24: =EDATE(B23,1) -> 44531 | J24: =IF(H24+I24=0,"",H24+I24) | K24: =IF(SUM(C24:G24)=0,"",SUM(C24:G24))
