Workbook

Sheet Tables
A3: CA | B3: 0.29166667
A4: 1/2 CA | B4: 0.14583333
A5: Récup.
A6: Maladie | B6: 0.29166667
A7: Enfant malade | B7: 0.29166667
A8: Pont | B8: 0.29166667
A9: J.E | B9: 0.29166667
A10: Férié | B10: 0.29166667

Sheet JANVIER 2017
A4: BIZET Christophe
A5: Janvier 2016
A7: Date | D7: Remplacement | E7: Lieu | F7: Prévu | G7: HORAIRES | K7: Observations | L7: Nombre d'heures | M7: +/-
A9: Dimanche | B9: 1 | C9: Janvier | K9: Férié | L9: =(VLOOKUP($K$9,Tables!A3:B16,2,0)) -> 0.29166667 | M9: =F9-L9 -> -0.29166667
A10: Lundi | B10: 2 | C10: Janvier | F10: 0.29166667 | K10: CA | L10: =(VLOOKUP($K$10,Tables!A3:B16,2,0)) -> 0.29166667 | M10: =L10-F10 -> 0
A11: Mardi | B11: 3 | C11: Janvier | F11: 0.29166667 | K11: CA | L11: =(VLOOKUP($K$11,Tables!A3:B16,2,0)) -> 0.29166667 | M11: =L11-F11 -> 0
A12: Mercredi | B12: 4 | C12: Janvier | F12: 0.29166667 | G12: 0.33333333 | H12: 0.625 | L12: =(VLOOKUP($K$12,Tables!A3:B16,2,0)) -> #N/A | M12: =L12-F12 -> #N/A
A13: Jeudi | B13: 5 | C13: Janvier | F13: 0.29166667 | K13: CA | L13: =(VLOOKUP($K$13,Tables!A3:B16,2,0)) -> 0.29166667 | M13: =L13-F13 -> 0
A14: Vendredi | B14: 6 | C14: Janvier | F14: 0.29166667 | K14: CA | L14: =(VLOOKUP($K$14,Tables!A3:B16,2,0)) -> 0.29166667 | M14: =L14-F14 -> 0
A15: Samedi | B15: 7 | C15: Janvier | K15: CA | L15: =(VLOOKUP($K$15,Tables!A3:B16,2,0)) -> 0.29166667 | M15: =L15-F15 -> 0.29166667
A16: Dimanche | B16: 8 | C16: Janvier | K16: CA | L16: =(VLOOKUP($K$16,Tables!A3:B16,2,0)) -> 0.29166667 | M16: =L16-F16 -> 0.29166667
A17: Lundi | B17: 9 | C17: Janvier | F17: 0.29166667 | K17: CA | L17: =(VLOOKUP($K$17,Tables!A3:B16,2,0)) -> 0.29166667 | M17: =L17-F17 -> 0
A18: Mardi | B18: 10 | C18: Janvier | F18: 0.29166667 | K18: CA | L18: =(VLOOKUP($K$18,Tables!A3:B16,2,0)) -> 0.29166667 | M18: =L18-F18 -> 0
A19: Mercredi | B19: 11 | C19: Janvier | F19: 0.29166667 | K19: CA | L19: =(VLOOKUP($K$19,Tables!A3:B16,2,0)) -> 0.29166667 | M19: =L19-F19 -> 0
A20: Jeudi | B20: 12 | C20: Janvier | F20: 0.29166667 | K20: CA | L20: =(VLOOKUP($K$20,Tables!A3:B16,2,0)) -> 0.29166667 | M20: =L20-F20 -> 0
A21: Vendredi | B21: 13 | C21: Janvier | F21: 0.29166667 | K21: CA | L21: =(VLOOKUP($K$21,Tables!A3:B16,2,0)) -> 0.29166667 | M21: =L21-F21 -> 0
A22: Samedi | B22: 14 | C22: Janvier | K22: CA | L22: =(VLOOKUP($K$22,Tables!A3:B16,2,0)) -> 0.29166667 | M22: =L22-F22 -> 0.29166667
A23: Dimanche | B23: 15 | C23: Janvier | K23: CA | L23: =(VLOOKUP($K$23,Tables!A3:B16,2,0)) -> 0.29166667 | M23: =L23-F23 -> 0.29166667
A24: Lundi | B24: 16 | C24: Janvier | F24: 0.29166667 | K24: Récup. | L24: =(VLOOKUP($K$24,Tables!A3:B16,2,0)) -> 0 | M24: =L24-F24 -> -0.29166667
A25: Mardi | B25: 17 | C25: Janvier | F25: 0.29166667 | K25: CA | L25: =(VLOOKUP($K$25,Tables!A3:B16,2,0)) -> 0.29166667 | M25: =L25-F25 -> 0
A26: Mercredi | B26: 18 | C26: Janvier | F26: 0.29166667 | K26: CA | L26: =(VLOOKUP($K$26,Tables!A3:B16,2,0)) -> 0.29166667 | M26: =L26-F26 -> 0
A27: Jeudi | B27: 19 | C27: Janvier | F27: 0.29166667 | K27: CA | L27: =(VLOOKUP($K$27,Tables!A3:B16,2,0)) -> 0.29166667 | M27: =L27-F27 -> 0
A28: Vendredi | B28: 20 | C28: Janvier | F28: 0.29166667 | K28: CA | L28: =(VLOOKUP($K$28,Tables!A3:B16,2,0)) -> 0.29166667 | M28: =L28-F28 -> 0
A29: Samedi | B29: 21 | C29: Janvier | K29: CA | L29: =(VLOOKUP($K$29,Tables!A3:B16,2,0)) -> 0.29166667 | M29: =L29-F29 -> 0.29166667
A30: Dimanche | B30: 22 | C30: Janvier | K30: CA | L30: =(VLOOKUP($K$30,Tables!A3:B16,2,0)) -> 0.29166667 | M30: =L30-F30 -> 0.29166667
A31: Lundi | B31: 23 | C31: Janvier | F31: 0.29166667 | K31: CA | L31: =(VLOOKUP($K$31,Tables!A3:B16,2,0)) -> 0.29166667 | M31: =L31-F31 -> 0
A32: Mardi | B32: 24 | C32: Janvier | F32: 0.29166667 | K32: CA | L32: =(VLOOKUP($K$32,Tables!A3:B16,2,0)) -> 0.29166667 | M32: =L32-F32 -> 0
A33: Mercredi | B33: 25 | C33: Janvier | F33: 0.29166667 | K33: CA | L33: =(VLOOKUP($K$33,Tables!A3:B16,2,0)) -> 0.29166667 | M33: =L33-F33 -> 0
A34: Jeudi | B34: 26 | C34: Janvier | F34: 0.29166667 | K34: CA | L34: =(VLOOKUP($K$34,Tables!A3:B16,2,0)) -> 0.29166667 | M34: =L34-F34 -> 0
A35: Vendredi | B35: 27 | C35: Janvier | F35: 0.29166667 | K35: CA | L35: =(VLOOKUP($K$35,Tables!A3:B16,2,0)) -> 0.29166667 | M35: =L35-F35 -> 0
A36: Samedi | B36: 28 | C36: Janvier | K36: CA | L36: =(VLOOKUP($K$36,Tables!A3:B16,2,0)) -> 0.29166667 | M36: =L36-F36 -> 0.29166667
A37: Dimanche | B37: 29 | C37: Janvier | K37: 1/2 CA | L37: =(VLOOKUP($K$37,Tables!A3:B16,2,0)) -> 0.14583333 | M37: =L37-F37 -> 0.14583333
A38: Lundi | B38: 30 | C38: Janvier | F38: 0.29166667 | K38: CA | L38: =(VLOOKUP($K$38,Tables!A3:B16,2,0)) -> 0.29166667 | M38: =L38-F38 -> 0
A39: Mardi | B39: 31 | C39: Janvier | F39: 0.29166667 | K39: CA | L39: =IF(K39="Maladie",#REF!,((H39-G39)+(J39-I39))) -> 0 | M39: =L39-F39 -> -0.29166667
A40: TOTAL | F40: =SUM(F9:F39) -> 6.4166667 | K40: =SUM(L9:L39) -> #N/A | M40: =SUM(M9:M39) -> #N/A
A41: Total cumulé | K41: =K40 -> #N/A | M41: =M40 -> #N/A
A43: Signature, | J43: Signature du chef de service,

Sheet FEVRIER 2017

Sheet MARS 2017

Sheet AVRIL 2017

Sheet MAI 2017

Sheet JUIN 2017

Sheet JUILLET 2017

Sheet AOUT 2017,

Sheet SEPTEMBRE 2017

Sheet OCTOBRE 2017

Sheet NOVEMBRE 2017

Sheet DECEMBRE 2017

Sheet calendrier 2017
A1: PREVISIONNEL
A2: 2017 | B2: janvier | H2: février | N2: mars | T2: avril | Z2: mai | AF2: juin
B3: date | D3: prév° | E3: réel | F3: obsv° | H3: date | J3: prév° | K3: réel | L3: obsv° | N3: date | P3: prév° | Q3: réel | R3: obsv° | T3: date | V3: prév° | W3: réel | X3: obsv° | Z3: date | AB3: prév° | AC3: réel | AD3: obsv° | AF3: date | AH3: prév° | AI3: réel | AJ3: obsv°
B4: 1er | C4: D | D4: férié | E4: N AN | H4: 1er | I4: M | K4: =#REF! -> #REF! | L4: =#REF! -> #REF! | N4: 1er | O4: M | Q4: =#REF! -> #REF! | R4: =#REF! -> #REF! | T4: 1er | U4: S | Z4: 1er | AA4: L | AB4: férié | AC4: FETE DU TRAVAIL | AF4: 1er | AG4: J | AI4: =#REF! -> #REF! | AJ4: =#REF! -> #REF!
B5: 2 | C5: L | D5: ='JANVIER 2017'!F10 -> 0.29166667 | E5: ='JANVIER 2017'!L10 -> 0.29166667 | F5: =#REF! -> #REF! | H5: 2 | I5: J | K5: =#REF! -> #REF! | L5: =#REF! -> #REF! | N5: 2 | O5: J | Q5: =#REF! -> #REF! | R5: =#REF! -> #REF! | T5: 2 | U5: D | Z5: 2 | AA5: M | AC5: =#REF! -> #REF! | AD5: =#REF! -> #REF! | AF5: 2 | AG5: V | AI5: =#REF! -> #REF! | AJ5: =#REF! -> #REF!
B6: 3 | C6: M | D6: ='JANVIER 2017'!F11 -> 0.29166667 | E6: ='JANVIER 2017'!L11 -> 0.29166667 | F6: =#REF! -> #REF! | H6: 3 | I6: V | K6: =#REF! -> #REF! | L6: =#REF! -> #REF! | N6: 3 | O6: V | Q6: =#REF! -> #REF! | R6: =#REF! -> #REF! | T6: 3 | U6: L | W6: =#REF! -> #REF! | X6: =#REF! -> #REF! | Z6: 3 | AA6: M | AC6: =#REF! -> #REF! | AD6: =#REF! -> #REF! | AF6: 3 | AG6: S
B7: 4 | C7: M | D7: ='JANVIER 2017'!F12 -> 0.29166667 | E7: ='JANVIER 2017'!L12 -> #N/A | F7: =#REF! -> #REF! | H7: 4 | I7: S | T7: 4 | U7: M | W7: =#REF! -> #REF! | X7: =#REF! -> #REF! | Z7: 4 | AA7: J | AC7: =#REF! -> #REF! | AD7: =#REF! -> #REF! | AF7: 4 | AG7: D
B8: 5 | C8: J | D8: ='JANVIER 2017'!F13 -> 0.29166667 | E8: ='JANVIER 2017'!L13 -> 0.29166667 | F8: =#REF! -> #REF! | H8: 5 | I8: D | T8: 5 | U8: M | W8: =#REF! -> #REF! | X8: =#REF! -> #REF! | Z8: 5 | AA8: V | AC8: =#REF! -> #REF! | AD8: =#REF! -> #REF! | AF8: 5 | AG8: L | AH8: férié | AI8: LUNDI DE PENTECOTE
B9: 6 | C9: V | D9: ='JANVIER 2017'!F14 -> 0.29166667 | E9: ='JANVIER 2017'!L14 -> 0.29166667 | F9: =#REF! -> #REF! | H9: 6 | I9: L | K9: =#REF! -> #REF! | L9: =#REF! -> #REF! | N9: 6 | O9: L | Q9: =#REF! -> #REF! | R9: =#REF! -> #REF! | T9: 6 | U9: J | W9: =#REF! -> #REF! | X9: =#REF! -> #REF! | Z9: 6 | AA9: S | AF9: 6 | AG9: M | AI9: =#REF! -> #REF! | AJ9: =#REF! -> #REF!
B10: 7 | C10: S | H10: 7 | I10: M | K10: =#REF! -> #REF! | L10: =#REF! -> #REF! | N10: 7 | O10: M | Q10: =#REF! -> #REF! | R10: =#REF! -> #REF! | T10: 7 | U10: V | W10: =#REF! -> #REF! | X10: =#REF! -> #REF! | Z10: 7 | AA10: D | AF10: 7 | AG10: M | AI10: =#REF! -> #REF! | AJ10: =#REF! -> #REF!
B11: 8 | C11: D | H11: 8 | I11: M | K11: =#REF! -> #REF! | L11: =#REF! -> #REF! | N11: 8 | O11: M | Q11: =#REF! -> #REF! | R11: =#REF! -> #REF! | T11: 8 | U11: S | Z11: 8 | AA11: L | AB11: férié | AC11: ARMISTICE | AF11: 8 | AG11: J | AI11: =#REF! -> #REF! | AJ11: =#REF! -> #REF!
B12: 9 | C12: L | D12: ='JANVIER 2017'!F17 -> 0.29166667 | E12: ='JANVIER 2017'!L17 -> 0.29166667 | F12: =#REF! -> #REF! | H12: 9 | I12: J | K12: =#REF! -> #REF! | L12: =#REF! -> #REF! | N12: 9 | O12: J | Q12: =#REF! -> #REF! | R12: =#REF! -> #REF! | T12: 9 | U12: D | Z12: 9 | AA12: M | AC12: =#REF! -> #REF! | AD12: =#REF! -> #REF! | AF12: 9 | AG12: V | AI12: =#REF! -> #REF! | AJ12: =#REF! -> #REF!
B13: 10 | C13: M | D13: ='JANVIER 2017'!F18 -> 0.29166667 | E13: ='JANVIER 2017'!L18 -> 0.29166667 | F13: =#REF! -> #REF! | H13: 10 | I13: V | K13: =#REF! -> #REF! | L13: =#REF! -> #REF! | N13: 10 | O13: V | Q13: =#REF! -> #REF! | R13: =#REF! -> #REF! | T13: 10 | U13: L | W13: =#REF! -> #REF! | X13: =#REF! -> #REF! | Z13: 10 | AA13: M | AC13: =#REF! -> #REF! | AD13: =#REF! -> #REF! | AF13: 10 | AG13: S
B14: 11 | C14: M | D14: ='JANVIER 2017'!F19 -> 0.29166667 | E14: ='JANVIER 2017'!L19 -> 0.29166667 | F14: =#REF! -> #REF! | H14: 11 | I14: S | T14: 11 | U14: M | W14: =#REF! -> #REF! | X14: =#REF! -> #REF! | Z14: 11 | AA14: J | AC14: =#REF! -> #REF! | AD14: =#REF! -> #REF! | AF14: 11 | AG14: D
B15: 12 | C15: J | D15: ='JANVIER 2017'!F20 -> 0.29166667 | E15: ='JANVIER 2017'!L20 -> 0.29166667 | F15: =#REF! -> #REF! | H15: 12 | I15: D | T15: 12 | U15: M | W15: =#REF! -> #REF! | X15: =#REF! -> #REF! | Z15: 12 | AA15: V | AC15: =#REF! -> #REF! | AD15: =#REF! -> #REF! | AF15: 12 | AG15: L | AI15: =#REF! -> #REF! | AJ15: =#REF! -> #REF!
B16: 13 | C16: V | D16: ='JANVIER 2017'!F21 -> 0.29166667 | E16: ='JANVIER 2017'!L21 -> 0.29166667 | F16: =#REF! -> #REF! | H16: 13 | I16: L | K16: =#REF! -> #REF! | L16: =#REF! -> #REF! | N16: 13 | O16: L | Q16: =#REF! -> #REF! | R16: =#REF! -> #REF! | T16: 13 | U16: J | W16: =#REF! -> #REF! | X16: =#REF! -> #REF! | Z16: 13 | AA16: S | AF16: 13 | AG16: M | AI16: =#REF! -> #REF! | AJ16: =#REF! -> #REF!
B17: 14 | C17: S | H17: 14 | I17: M | K17: =#REF! -> #REF! | L17: =#REF! -> #REF! | N17: 14 | O17: M | Q17: =#REF! -> #REF! | R17: =#REF! -> #REF! | T17: 14 | U17: V | W17: =#REF! -> #REF! | X17: =#REF! -> #REF! | Z17: 14 | AA17: D | AF17: 14 | AG17: M | AI17: =#REF! -> #REF! | AJ17: =#REF! -> #REF!
B18: 15 | C18: D | H18: 15 | I18: M | K18: =#REF! -> #REF! | L18: =#REF! -> #REF! | N18: 15 | O18: M | Q18: =#REF! -> #REF! | R18: =#REF! -> #REF! | T18: 15 | U18: S | Z18: 15 | AA18: L | AC18: =#REF! -> #REF! | AD18: =#REF! -> #REF! | AF18: 15 | AG18: J | AI18: =#REF! -> #REF! | AJ18: =#REF! -> #REF!
B19: 16 | C19: L | D19: ='JANVIER 2017'!F24 -> 0.29166667 | E19: ='JANVIER 2017'!L24 -> 0 | F19: =#REF! -> #REF! | H19: 16 | I19: J | K19: =#REF! -> #REF! | L19: =#REF! -> #REF! | N19: 16 | O19: J | Q19: =#REF! -> #REF! | R19: =#REF! -> #REF! | T19: 16 | U19: D | Z19: 16 | AA19: M | AC19: =#REF! -> #REF! | AD19: =#REF! -> #REF! | AF19: 16 | AG19: V | AI19: =#REF! -> #REF! | AJ19: =#REF! -> #REF!
B20: 17 | C20: M | D20: ='JANVIER 2017'!F25 -> 0.29166667 | E20: ='JANVIER 2017'!L25 -> 0.29166667 | F20: =#REF! -> #REF! | H20: 17 | I20: V | K20: =#REF! -> #REF! | L20: =#REF! -> #REF! | N20: 17 | O20: V | Q20: =#REF! -> #REF! | R20: =#REF! -> #REF! | T20: 17 | U20: L | V20: férié | W20: LUNDI DE PAQUES | Z20: 17 | AA20: M | AC20: =#REF! -> #REF! | AD20: =#REF! -> #REF! | AF20: 17 | AG20: S
B21: 18 | C21: M | D21: ='JANVIER 2017'!F26 -> 0.29166667 | E21: ='JANVIER 2017'!L26 -> 0.29166667 | F21: =#REF! -> #REF! | H21: 18 | I21: S | T21: 18 | U21: M | W21: =#REF! -> #REF! | X21: =#REF! -> #REF! | Z21: 18 | AA21: J | AC21: =#REF! -> #REF! | AD21: =#REF! -> #REF! | AF21: 18 | AG21: D
B22: 19 | C22: J | D22: ='JANVIER 2017'!F27 -> 0.29166667 | E22: ='JANVIER 2017'!L27 -> 0.29166667 | F22: =#REF! -> #REF! | H22: 19 | I22: D | T22: 19 | U22: M | W22: =#REF! -> #REF! | X22: =#REF! -> #REF! | Z22: 19 | AA22: V | AC22: =#REF! -> #REF! | AD22: =#REF! -> #REF! | AF22: 19 | AG22: L | AI22: =#REF! -> #REF! | AJ22: =#REF! -> #REF!
B23: 20 | C23: V | D23: ='JANVIER 2017'!F28 -> 0.29166667 | E23: ='JANVIER 2017'!L28 -> 0.29166667 | F23: =#REF! -> #REF! | H23: 20 | I23: L | K23: =#REF! -> #REF! | L23: =#REF! -> #REF! | N23: 20 | O23: L | Q23: =#REF! -> #REF! | R23: =#REF! -> #REF! | T23: 20 | U23: J | W23: =#REF! -> #REF! | X23: =#REF! -> #REF! | Z23: 20 | AA23: S | AC23: =#REF! -> #REF! | AD23: =#REF! -> #REF! | AF23: 20 | AG23: M | AI23: =#REF! -> #REF! | AJ23: =#REF! -> #REF!
B24: 21 | C24: S | H24: 21 | I24: M | K24: =#REF! -> #REF! | L24: =#REF! -> #REF! | N24: 21 | O24: M | Q24: =#REF! -> #REF! | R24: =#REF! -> #REF! | T24: 21 | U24: V | W24: =#REF! -> #REF! | X24: =#REF! -> #REF! | Z24: 21 | AA24: D | AC24: =#REF! -> #REF! | AD24: =#REF! -> #REF! | AF24: 21 | AG24: M | AI24: =#REF! -> #REF! | AJ24: =#REF! -> #REF!
B25: 22 | C25: D | H25: 22 | I25: M | K25: =#REF! -> #REF! | L25: =#REF! -> #REF! | N25: 22 | O25: M | Q25: =#REF! -> #REF! | R25: =#REF! -> #REF! | T25: 22 | U25: S | Z25: 22 | AA25: L | AC25: =#REF! -> #REF! | AD25: =#REF! -> #REF! | AF25: 22 | AG25: J | AI25: =#REF! -> #REF! | AJ25: =#REF! -> #REF!
B26: 23 | C26: L | D26: ='JANVIER 2017'!F31 -> 0.29166667 | E26: ='JANVIER 2017'!L31 -> 0.29166667 | F26: =#REF! -> #REF! | H26: 23 | I26: J | K26: =#REF! -> #REF! | L26: =#REF! -> #REF! | N26: 23 | O26: J | Q26: =#REF! -> #REF! | R26: =#REF! -> #REF! | T26: 23 | U26: D | Z26: 23 | AA26: M | AC26: =#REF! -> #REF! | AD26: =#REF! -> #REF! | AF26: 23 | AG26: V | AI26: =#REF! -> #REF! | AJ26: =#REF! -> #REF!
B27: 24 | C27: M | D27: ='JANVIER 2017'!F32 -> 0.29166667 | E27: ='JANVIER 2017'!L32 -> 0.29166667 | F27: =#REF! -> #REF! | H27: 24 | I27: V | K27: =#REF! -> #REF! | L27: =#REF! -> #REF! | N27: 24 | O27: V | Q27: =#REF! -> #REF! | R27: =#REF! -> #REF! | T27: 24 | U27: L | W27: =#REF! -> #REF! | X27: =#REF! -> #REF! | Z27: 24 | AA27: M | AC27: =#REF! -> #REF! | AD27: =#REF! -> #REF! | AF27: 24 | AG27: S
B28: 25 | C28: M | D28: ='JANVIER 2017'!F33 -> 0.29166667 | E28: ='JANVIER 2017'!L33 -> 0.29166667 | F28: =#REF! -> #REF! | H28: 25 | I28: S | T28: 25 | U28: M | W28: =#REF! -> #REF! | X28: =#REF! -> #REF! | Z28: 25 | AA28: J | AB28: férié | AC28: ASCENCSION | AF28: 25 | AG28: D
B29: 26 | C29: J | D29: ='JANVIER 2017'!F34 -> 0.29166667 | E29: ='JANVIER 2017'!L34 -> 0.29166667 | F29: =#REF! -> #REF! | H29: 26 | I29: D | T29: 26 | U29: M | W29: =#REF! -> #REF! | X29: =#REF! -> #REF! | Z29: 26 | AA29: V | AC29: =#REF! -> #REF! | AD29: =#REF! -> #REF! | AF29: 26 | AG29: L | AI29: =#REF! -> #REF! | AJ29: =#REF! -> #REF!
B30: 27 | C30: V | D30: ='JANVIER 2017'!F35 -> 0.29166667 | E30: ='JANVIER 2017'!L35 -> 0.29166667 | F30: =#REF! -> #REF! | H30: 27 | I30: L | K30: =#REF! -> #REF! | L30: =#REF! -> #REF! | N30: 27 | O30: L | Q30: =#REF! -> #REF! | R30: =#REF! -> #REF! | T30: 27 | U30: J | W30: =#REF! -> #REF! | X30: =#REF! -> #REF! | Z30: 27 | AA30: S | AF30: 27 | AG30: M | AI30: =#REF! -> #REF! | AJ30: =#REF! -> #REF!
B31: 28 | C31: S | H31: 28 | I31: M | K31: =#REF! -> #REF! | L31: =#REF! -> #REF! | N31: 28 | O31: M | Q31: =#REF! -> #REF! | R31: =#REF! -> #REF! | T31: 28 | U31: V | W31: =#REF! -> #REF! | X31: =#REF! -> #REF! | Z31: 28 | AA31: D | AF31: 28 | AG31: M | AI31: =#REF! -> #REF! | AJ31: =#REF! -> #REF!
B32: 29 | C32: D | K32: =#REF! -> #REF! | L32: =#REF! -> #REF! | N32: 29 | O32: M | Q32: =#REF! -> #REF! | R32: =#REF! -> #REF! | T32: 29 | U32: S | Z32: 29 | AA32: L | AC32: =#REF! -> #REF! | AD32: =#REF! -> #REF! | AF32: 29 | AG32: J | AI32: =#REF! -> #REF! | AJ32: =#REF! -> #REF!
B33: 30 | C33: L | D33: ='JANVIER 2017'!F38 -> 0.29166667 | E33: ='JANVIER 2017'!L38 -> 0.29166667 | F33: =#REF! -> #REF! | N33: 30 | O33: J | Q33: =#REF! -> #REF! | R33: =#REF! -> #REF! | T33: 30 | U33: D | Z33: 30 | AA33: M | AC33: =#REF! -> #REF! | AD33: =#REF! -> #REF! | AF33: 30 | AG33: V | AI33: =#REF! -> #REF! | AJ33: =#REF! -> #REF!
B34: 31 | C34: M | D34: ='JANVIER 2017'!F39 -> 0.29166667 | E34: ='JANVIER 2017'!L39 -> 0 | F34: =#REF! -> #REF! | N34: 31 | O34: V | Q34: =#REF! -> #REF! | R34: =#REF! -> #REF! | Z34: 31 | AA34: M | AC34: =#REF! -> #REF! | AD34: =#REF! -> #REF!
B35: janv. | C35: D | D35: =SUM(D4:D34) -> 6.4166667 | E35: =SUM(E4:E34) -> #N/A | H35: fév. | J35: =SUM(J4:J34) -> 0 | K35: =SUM(K4:K34) -> #REF! | N35: mars | P35: =SUM(P4:P34) -> 0 | Q35: =SUM(Q4:Q34) -> #REF! | T35: avril | V35: =SUM(V4:V34) -> 0 | W35: =SUM(W4:W34) -> #REF! | Z35: mai | AB35: =SUM(AB4:AB34) -> 0 | AC35: =SUM(AC4:AC34) -> #REF! | AF35: juin | AH35: =SUM(AH4:AH34) -> 0 | AI35: =SUM(AI4:AI34) -> #REF!
A36: heures payées
A37: Total mensuel | D37: =D35+-D36 -> 6.4166667 | E37: =E35+-E36 -> #N/A | J37: =J35+-J36 -> 0 | K37: =K35+-K36 -> #REF! | P37: =P35+-P36 -> 0 | Q37: =Q35+-Q36 -> #REF! | V37: =V35+-V36 -> 0 | W37: =W35+-W36 -> #REF! | AB37: =AB35+-AB36 -> 0 | AC37: =AC35+-AC36 -> #REF! | AH37: =AH35+-AH36 -> 0 | AI37: =AI35+-AI36 -> #REF!
B39: juillet | H39: aout | N39: septembre | T39: octobre | Z39: novembre | AF39: décembre
B40: date | D40: prév° | E40: réel | F40: obsv° | H40: date | J40: prév° | K40: réel | L40: obsv° | N40: date | P40: prév° | Q40: réel | R40: obsv° | T40: date | V40: prév° | W40: réel | X40: obsv° | Z40: date | AB40: prév° | AC40: réel | AD40: obsv° | AF40: date | AH40: prév° | AI40: réel | AJ40: obsv°
B41: 1er | C41: S | H41: 1er | I41: M | K41: =#REF! -> #REF! | L41: =#REF! -> #REF! | N41: 1er | O41: V | Q41: =#REF! -> #REF! | R41: =#REF! -> #REF! | T41: 1er | U41: D | Z41: 1er | AA41: M | AB41: férié | AC41: TOUSSAINT | AF41: 1er | AG41: V | AI41: =#REF! -> #REF! | AJ41: =#REF! -> #REF!
...
