Workbook

Sheet Tables
A3: CA | B3: 0.29166667
A4: 1/2 CA | B4: 0.14583333
A5: Récup.
A6: Maladie | B6: 0.29166667
A7: Enfant malade | B7: 0.29166667
A8: Pont | B8: 0.29166667
A9: J.E | B9: 0.29166667
A10: Férié | B10: 0.29166667

Sheet JANVIER 2017
A4: BIZET Christophe
A5: Janvier 2016
A7: Date | D7: Remplacement | E7: Lieu | F7: Prévu | G7: HORAIRES | K7: Observations | L7: Nombre d'heures | M7: +/-
A9: Dimanche | B9: 1 | C9: Janvier | K9: Férié | L9: =(VLOOKUP($K$9,Tables!A3:B16,2,0)) -> 0.29166667 | M9: =F9-L9 -> -0.29166667
A10: Lundi | B10: 2 | C10: Janvier | F10: 0.29166667 | K10: CA | L10: =(VLOOKUP($K$10,Tables!A3:B16,2,0)) -> 0.29166667 | M10: =L10-F10 -> 0
A11: Mardi | B11: 3 | C11: Janvier | F11: 0.29166667 | K11: CA | L11: =(VLOOKUP($K$11,Tables!A3:B16,2,0)) -> 0.29166667 | M11: =L11-F11 -> 0
A12: Mercredi | B12: 4 | C12: Janvier | F12: 0.29166667 | G12: 0.33333333 | H12: 0.625 | L12: =(VLOOKUP($K$12,Tables!A3:B16,2,0)) -> #N/A | M12: =L12-F12 -> #N/A
A13: Jeudi | B13: 5 | C13: Janvier | F13: 0.29166667 | K13: CA | L13: =(VLOOKUP($K$13,Tables!A3:B16,2,0)) -> 0.29166667 | M13: =L13-F13 -> 0
A14: Vendredi | B14: 6 | C14: Janvier | F14: 0.29166667 | K14: CA | L14: =(VLOOKUP($K$14,Tables!A3:B16,2,0)) -> 0.29166667 | M14: =L14-F14 -> 0
A15: Samedi | B15: 7 | C15: Janvier | K15: CA | L15: =(VLOOKUP($K$15,Tables!A3:B16,2,0)) -> 0.29166667 | M15: =L15-F15 -> 0.29166667
A16: Dimanche | B16: 8 | C16: Janvier | K16: CA | L16: =(VLOOKUP($K$16,Tables!A3:B16,2,0)) -> 0.29166667 | M16: =L16-F16 -> 0.29166667
A17: Lundi | B17: 9 | C17: Janvier | F17: 0.29166667 | K17: CA | L17: =(VLOOKUP($K$17,Tables!A3:B16,2,0)) -> 0.29166667 | M17: =L17-F17 -> 0
A18: Mardi | B18: 10 | C18: Janvier | F18: 0.29166667 | K18: CA | L18: =(VLOOKUP($K$18,Tables!A3:B16,2,0)) -> 0.29166667 | M18: =L18-F18 -> 0
A19: Mercredi | B19: 11 | C19: Janvier | F19: 0.29166667 | K19: CA | L19: =(VLOOKUP($K$19,Tables!A3:B16,2,0)) -> 0.29166667 | M19: =L19-F19 -> 0
A20: Jeudi | B20: 12 | C20: Janvier | F20: 0.29166667 | K20: CA | L20: =(VLOOKUP($K$20,Tables!A3:B16,2,0)) -> 0.29166667 | M20: =L20-F20 -> 0
A21: Vendredi | B21: 13 | C21: Janvier | F21: 0.29166667 | K21: CA | L21: =(VLOOKUP($K$21,Tables!A3:B16,2,0)) -> 0.29166667 | M21: =L21-F21 -> 0
A22: Samedi | B22: 14 | C22: Janvier | K22: CA | L22: =(VLOOKUP($K$22,Tables!A3:B16,2,0)) -> 0.29166667 | M22: =L22-F22 -> 0.29166667
A23: Dimanche | B23: 15 | C23: Janvier | K23: CA | L23: =(VLOOKUP($K$23,Tables!A3:B16,2,0)) -> 0.29166667 | M23: =L23-F23 -> 0.29166667
A24: Lundi | B24: 16 | C24: Janvier | F24: 0.29166667 | K24: Récup. | L24: =(VLOOKUP($K$24,Tables!A3:B16,2,0)) -> 0 | M24: =L24-F24 -> -0.29166667
A25: Mardi | B25: 17 | C25: Janvier | F25: 0.29166667 | K25: CA | L25: =(VLOOKUP($K$25,Tables!A3:B16,2,0)) -> 0.29166667 | M25: =L25-F25 -> 0
A26: Mercredi | B26: 18 | C26: Janvier | F26: 0.29166667 | K26: CA | L26: =(VLOOKUP($K$26,Tables!A3:B16,2,0)) -> 0.29166667 | M26: =L26-F26 -> 0
A27: Jeudi | B27: 19 | C27: Janvier | F27: 0.29166667 | K27: CA | L27: =(VLOOKUP($K$27,Tables!A3:B16,2,0)) -> 0.29166667 | M27: =L27-F27 -> 0
A28: Vendredi | B28: 20 | C28: Janvier | F28: 0.29166667 | K28: CA | L28: =(VLOOKUP($K$28,Tables!A3:B16,2,0)) -> 0.29166667 | M28: =L28-F28 -> 0
A29: Samedi | B29: 21 | C29: Janvier | K29: CA | L29: =(VLOOKUP($K$29,Tables!A3:B16,2,0)) -> 0.29166667 | M29: =L29-F29 -> 0.29166667
A30: Dimanche | B30: 22 | C30: Janvier | K30: CA | L30: =(VLOOKUP($K$30,Tables!A3:B16,2,0)) -> 0.29166667 | M30: =L30-F30 -> 0.29166667
A31: Lundi | B31: 23 | C31: Janvier | F31: 0.29166667 | K31: CA | L31: =(VLOOKUP($K$31,Tables!A3:B16,2,0)) -> 0.29166667 | M31: =L31-F31 -> 0
A32: Mardi | B32: 24 | C32: Janvier | F32: 0.29166667 | K32: CA | L32: =(VLOOKUP($K$32,Tables!A3:B16,2,0)) -> 0.29166667 | M32: =L32-F32 -> 0
A33: Mercredi | B33: 25 | C33: Janvier | F33: 0.29166667 | K33: CA | L33: =(VLOOKUP($K$33,Tables!A3:B16,2,0)) -> 0.29166667 | M33: =L33-F33 -> 0
A34: Jeudi | B34: 26 | C34: Janvier | F34: 0.29166667 | K34: CA | L34: =(VLOOKUP($K$34,Tables!A3:B16,2,0)) -> 0.29166667 | M34: =L34-F34 -> 0
A35: Vendredi | B35: 27 | C35: Janvier | F35: 0.29166667 | K35: CA | L35: =(VLOOKUP($K$35,Tables!A3:B16,2,0)) -> 0.29166667 | M35: =L35-F35 -> 0
A36: Samedi | B36: 28 | C36: Janvier | K36: CA | L36: =(VLOOKUP($K$36,Tables!A3:B16,2,0)) -> 0.29166667 | M36: =L36-F36 -> 0.29166667
A37: Dimanche | B37: 29 | C37: Janvier | K37: 1/2 CA | L37: =(VLOOKUP($K$37,Tables!A3:B16,2,0)) -> 0.14583333 | M37: =L37-F37 -> 0.14583333
A38: Lundi | B38: 30 | C38: Janvier | F38: 0.29166667 | K38: CA | L38: =(VLOOKUP($K$38,Tables!A3:B16,2,0)) -> 0.29166667 | M38: =L38-F38 -> 0
A39: Mardi | B39: 31 | C39: Janvier | F39: 0.29166667 | K39: CA | L39: =IF(K39="Maladie",#REF!,((H39-G39)+(J39-I39))) -> 0 | M39: =L39-F39 -> -0.29166667
A40: TOTAL | F40: =SUM(F9:F39) -> 6.4166667 | K40: =SUM(L9:L39) -> #N/A | M40: =SUM(M9:M39) -> #N/A
A41: Total cumulé | K41: =K40 -> #N/A | M41: =M40 -> #N/A
A43: Signature, | J43: Signature du chef de service,

Sheet FEVRIER 2017

Sheet MARS 2017

Sheet AVRIL 2017

Sheet MAI 2017

Sheet JUIN 2017

Sheet JUILLET 2017

Sheet AOUT 2017,

Sheet SEPTEMBRE 2017

Sheet OCTOBRE 2017

Sheet NOVEMBRE 2017

Sheet DECEMBRE 2017

Sheet calendrier 2017
A1: PREVISIONNEL
A2: 2017 | B2: janvier | H2: février | N2: mars | T2: avril | Z2: mai | AF2: juin
B3: date | D3: prév° | E3: réel | F3: obsv° | H3: date | J3: prév° | K3: réel | L3: obsv° | N3: date | P3: prév° | Q3: réel | R3: obsv° | T3: date | V3: prév° | W3: réel | X3: obsv° | Z3: date | AB3: prév° | AC3: réel | AD3: obsv° | AF3: date | AH3: prév° | AI3: réel | AJ3: obsv°
B4: 1er | C4: D | D4: férié | E4: N AN | H4: 1er | I4: M | K4: =#REF! -> #REF! | L4: =#REF! -> #REF! | N4: 1er | O4: M | Q4: =#REF! -> #REF! | R4: =#REF! -> #REF! | T4: 1er | U4: S | Z4: 1er | AA4: L | AB4: férié | AC4: FETE DU TRAVAIL | AF4: 1er | AG4: J | AI4: =#REF! -> #REF! | AJ4: =#REF! -> #REF!
B5: 2 | C5: L | D5: ='JANVIER 2017'!F10 -> 0.29166667 | E5: ='JANVIER 2017'!L10 -> 0.29166667 | F5: =#REF! -> #REF! | H5: 2 | I5: J | K5: =#REF! -> #REF! | L5: =#REF! -> #REF! | N5: 2 | O5: J | Q5: =#REF! -> #REF! | R5: =#REF! -> #REF! | T5: 2 | U5: D | Z5: 2 | AA5: M | AC5: =#REF! -> #REF! | AD5: =#REF! -> #REF! | AF5: 2 | AG5: V | AI5: =#REF! -> #REF! | AJ5: =#REF! -> #REF!
B6: 3 | C6: M | D6: ='JANVIER 2017'!F11 -> 0.29166667 | E6: ='JANVIER 2017'!L11 -> 0.29166667 | F6: =#REF! -> #REF! | H6: 3 | I6: V | K6: =#REF! -> #REF! | L6: =#REF! -> #REF! | N6: 3 | O6: V | Q6: =#REF! -> #REF! | R6: =#REF! -> #REF! | T6: 3 | U6: L | W6: =#REF! -> #REF! | X6: =#REF! -> #REF! | Z6: 3 | AA6: M | AC6: =#REF! -> #REF! | AD6: =#REF! -> #REF! | AF6: 3 | AG6: S
B7: 4 | C7: M | D7: ='JANVIER 2017'!F12 -> 0.29166667 | E7: ='JANVIER 2017'!L12 -> #N/A | F7: =#REF! -> #REF! | H7: 4 | I7: S | T7: 4 | U7: M | W7: =#REF! -> #REF! | X7: =#REF! -> #REF! | Z7: 4 | AA7: J | AC7: =#REF! -> #REF! | AD7: =#REF! -> #REF! | AF7: 4 | AG7: D
B8: 5 | C8: J | D8: ='JANVIER 2017'!F13 -> 0.29166667 | E8: ='JANVIER 2017'!L13 -> 0.29166667 | F8: =#REF! -> #REF! | H8: 5 | I8: D | T8: 5 | U8: M | W8: =#REF! -> #REF! | X8: =#REF! -> #REF! | Z8: 5 | AA8: V | AC8: =#REF! -> #REF! | AD8: =#REF! -> #REF! | AF8: 5 | AG8: L | AH8: férié | AI8: LUNDI DE PENTECOTE
B9: 6 | C9: V | D9: ='JANVIER 2017'!F14 -> 0.29166667 | E9: ='JANVIER 2017'!L14 -> 0.29166667 | F9: =#REF! -> #REF! | H9: 6 | I9: L | K9: =#REF! -> #REF! | L9: =#REF! -> #REF! | N9: 6 | O9: L | Q9: =#REF! -> #REF! | R9: =#REF! -> #REF! | T9: 6 | U9: J | W9: =#REF! -> #REF! | X9: =#REF! -> #REF! | Z9: 6 | AA9: S | AF9: 6 | AG9: M | AI9: =#REF! -> #REF! | AJ9: =#REF! -> #REF!
B10: 7 | C10: S | H10: 7 | I10: M | K10: =#REF! -> #REF! | L10: =#REF! -> #REF! | N10: 7 | O10: M | Q10: =#REF! -> #REF! | R10: =#REF! -> #REF! | T10: 7 | U10: V | W10: =#REF! -> #REF! | X10: =#REF! -> #REF! | Z10: 7 | AA10: D | AF10: 7 | AG10: M | AI10: =#REF! -> #REF! | AJ10: =#REF! -> #REF!
B11: 8 | C11: D | H11: 8 | I11: M | K11: =#REF! -> #REF! | L11: =#REF! -> #REF! | N11: 8 | O11: M | Q11: =#REF! -> #REF! | R11: =#REF! -> #REF! | T11: 8 | U11: S | Z11: 8 | AA11: L | AB11: férié | AC11: ARMISTICE | AF11: 8 | AG11: J | AI11: =#REF! -> #REF! | AJ11: =#REF! -> #REF!
B12: 9 | C12: L | D12: ='JANVIER 2017'!F17 -> 0.29166667 | E12: ='JANVIER 2017'!L17 -> 0.29166667 | F12: =#REF! -> #REF! | H12: 9 | I12: J | K12: =#REF! -> #REF! | L12: =#REF! -> #REF! | N12: 9 | O12: J | Q12: =#REF! -> #REF! | R12: =#REF! -> #REF! | T12: 9 | U12: D | Z12: 9 | AA12: M | AC12: =#REF! -> #REF! | AD12: =#REF! -> #REF! | AF12: 9 | AG12: V | AI12: =#REF! -> #REF! | AJ12: =#REF! -> #REF!
B13: 10 | C13: M | D13: ='JANVIER 2017'!F18 -> 0.29166667 | E13: ='JANVIER 2017'!L18 -> 0.29166667 | F13: =#REF! -> #REF! | H13: 10 | I13: V | K13: =#REF! -> #REF! | L13: =#REF! -> #REF! | N13: 10 | O13: V | Q13: =#REF! -> #REF! | R13: =#REF! -> #REF! | T13: 10 | U13: L | W13: =#REF! -> #REF! | X13: =#REF! -> #REF! | Z13: 10 | AA13: M | AC13: =#REF! -> #REF! | AD13: =#REF! -> #REF! | AF13: 10 | AG13: S
B14: 11 | C14: M | D14: ='JANVIER 2017'!F19 -> 0.29166667 | E14: ='JANVIER 2017'!L19 -> 0.29166667 | F14: =#REF! -> #REF! | H14: 11 | I14: S | T14: 11 | U14: M | W14: =#REF! -> #REF! | X14: =#REF! -> #REF! | Z14: 11 | AA14: J | AC14: =#REF! -> #REF! | AD14: =#REF! -> #REF! | AF14: 11 | AG14: D
B15: 12 | C15: J | D15: ='JANVIER 2017'!F20 -> 0.29166667 | E15: ='JANVIER 2017'!L20 -> 0.29166667 | F15: =#REF! -> #REF! | H15: 12 | I15: D | T15: 12 | U15: M | W15: =#REF! -> #REF! | X15: =#REF! -> #REF! | Z15: 12 | AA15: V | AC15: =#REF! -> #REF! | AD15: =#REF! -> #REF! | AF15: 12 | AG15: L | AI15: =#REF! -> #REF! | AJ15: =#REF! -> #REF!
B16: 13 | C16: V | D16: ='JANVIER 2017'!F21 -> 0.29166667 | E16: ='JANVIER 2017'!L21 -> 0.29166667 | F16: =#REF! -> #REF! | H16: 13 | I16: L | K16: =#REF! -> #REF! | L16: =#REF! -> #REF! | N16: 13 | O16: L | Q16: =#REF! -> #REF! | R16: =#REF! -> #REF! | T16: 13 | U16: J | W16: =#REF! -> #REF! | X16: =#REF! -> #REF! | Z16: 13 | AA16: S | AF16: 13 | AG16: M | AI16: =#REF! -> #REF! | AJ16: =#REF! -> #REF!
B17: 14 | C17: S | H17: 14 | I17: M | K17: =#REF! -> #REF! | L17: =#REF! -> #REF! | N17: 14 | O17: M | Q17: =#REF! -> #REF! | R17: =#REF! -> #REF! | T17: 14 | U17: V | W17: =#REF! -> #REF! | X17: =#REF! -> #REF! | Z17: 14 | AA17: D | AF17: 14 | AG17: M | AI17: =#REF! -> #REF! | AJ17: =#REF! -> #REF!
B18: 15 | C18: D | H18: 15 | I18: M | K18: =#REF! -> #REF! | L18: =#REF! -> #REF! | N18: 15 | O18: M | Q18: =#REF! -> #REF! | R18: =#REF! -> #REF! | T18: 15 | U18: S | Z18: 15 | AA18: L | AC18: =#REF! -> #REF! | AD18: =#REF! -> #REF! | AF18: 15 | AG18: J | AI18: =#REF! -> #REF! | AJ18: =#REF! -> #REF!
B19: 16 | C19: L | D19: ='JANVIER 2017'!F24 -> 0.29166667 | E19: ='JANVIER 2017'!L24 -> 0 | F19: =#REF! -> #REF! | H19: 16 | I19: J | K19: =#REF! -> #REF! | L19: =#REF! -> #REF! | N19: 16 | O19: J | Q19: =#REF! -> #REF! | R19: =#REF! -> #REF! | T19: 16 | U19: D | Z19: 16 | AA19: M | AC19: =#REF! -> #REF! | AD19: =#REF! -> #REF! | AF19: 16 | AG19: V | AI19: =#REF! -> #REF! | AJ19: =#REF! -> #REF!
B20: 17 | C20: M | D20: ='JANVIER 2017'!F25 -> 0.29166667 | E20: ='JANVIER 2017'!L25 -> 0.29166667 | F20: =#REF! -> #REF! | H20: 17 | I20: V | K20: =#REF! -> #REF! | L20: =#REF! -> #REF! | N20: 17 | O20: V | Q20: =#REF! -> #REF! | R20: =#REF! -> #REF! | T20: 17 | U20: L | V20: férié | W20: LUNDI DE PAQUES | Z20: 17 | AA20: M | AC20: =#REF! -> #REF! | AD20: =#REF! -> #REF! | AF20: 17 | AG20: S
B21: 18 | C21: M | D21: ='JANVIER 2017'!F26 -> 0.29166667 | E21: ='JANVIER 2017'!L26 -> 0.29166667 | F21: =#REF! -> #REF! | H21: 18 | I21: S | T21: 18 | U21: M | W21: =#REF! -> #REF! | X21: =#REF! -> #REF! | Z21: 18 | AA21: J | AC21: =#REF! -> #REF! | AD21: =#REF! -> #REF! | AF21: 18 | AG21: D
B22: 19 | C22: J | D22: ='JANVIER 2017'!F27 -> 0.29166667 | E22: ='JANVIER 2017'!L27 -> 0.29166667 | F22: =#REF! -> #REF! | H22: 19 | I22: D | T22: 19 | U22: M | W22: =#REF! -> #REF! | X22: =#REF! -> #REF! | Z22: 19 | AA22: V | AC22: =#REF! -> #REF! | AD22: =#REF! -> #REF! | AF22: 19 | AG22: L | AI22: =#REF! -> #REF! | AJ22: =#REF! -> #REF!
B23: 20 | C23: V | D23: ='JANVIER 2017'!F28 -> 0.29166667 | E23: ='JANVIER 2017'!L28 -> 0.29166667 | F23: =#REF! -> #REF! | H23: 20 | I23: L | K23: =#REF! -> #REF! | L23: =#REF! -> #REF! | N23: 20 | O23: L | Q23: =#REF! -> #REF! | R23: =#REF! -> #REF! | T23: 20 | U23: J | W23: =#REF! -> #REF! | X23: =#REF! -> #REF! | Z23: 20 | AA23: S | AC23: =#REF! -> #REF! | AD23: =#REF! -> #REF! | AF23: 20 | AG23: M | AI23: =#REF! -> #REF! | AJ23: =#REF! -> #REF!
B24: 21 | C24: S | H24: 21 | I24: M | K24: =#REF! -> #REF! | L24: =#REF! -> #REF! | N24: 21 | O24: M | Q24: =#REF! -> #REF! | R24: =#REF! -> #REF! | T24: 21 | U24: V | W24: =#REF! -> #REF! | X24: =#REF! -> #REF! | Z24: 21 | AA24: D | AC24: =#REF! -> #REF! | AD24: =#REF! -> #REF! | AF24: 21 | AG24: M | AI24: =#REF! -> #REF! | AJ24: =#REF! -> #REF!
B25: 22 | C25: D | H25: 22 | I25: M | K25: =#REF! -> #REF! | L25: =#REF! -> #REF! | N25: 22 | O25: M | Q25: =#REF! -> #REF! | R25: =#REF! -> #REF! | T25: 22 | U25: S | Z25: 22 | AA25: L | AC25: =#REF! -> #REF! | AD25: =#REF! -> #REF! | AF25: 22 | AG25: J | AI25: =#REF! -> #REF! | AJ25: =#REF! -> #REF!
B26: 23 | C26: L | D26: ='JANVIER 2017'!F31 -> 0.29166667 | E26: ='JANVIER 2017'!L31 -> 0.29166667 | F26: =#REF! -> #REF! | H26: 23 | I26: J | K26: =#REF! -> #REF! | L26: =#REF! -> #REF! | N26: 23 | O26: J | Q26: =#REF! -> #REF! | R26: =#REF! -> #REF! | T26: 23 | U26: D | Z26: 23 | AA26: M | AC26: =#REF! -> #REF! | AD26: =#REF! -> #REF! | AF26: 23 | AG26: V | AI26: =#REF! -> #REF! | AJ26: =#REF! -> #REF!
B27: 24 | C27: M | D27: ='JANVIER 2017'!F32 -> 0.29166667 | E27: ='JANVIER 2017'!L32 -> 0.29166667 | F27: =#REF! -> #REF! | H27: 24 | I27: V | K27: =#REF! -> #REF! | L27: =#REF! -> #REF! | N27: 24 | O27: V | Q27: =#REF! -> #REF! | R27: =#REF! -> #REF! | T27: 24 | U27: L | W27: =#REF! -> #REF! | X27: =#REF! -> #REF! | Z27: 24 | AA27: M | AC27: =#REF! -> #REF! | AD27: =#REF! -> #REF! | AF27: 24 | AG27: S
B28: 25 | C28: M | D28: ='JANVIER 2017'!F33 -> 0.29166667 | E28: ='JANVIER 2017'!L33 -> 0.29166667 | F28: =#REF! -> #REF! | H28: 25 | I28: S | T28: 25 | U28: M | W28: =#REF! -> #REF! | X28: =#REF! -> #REF! | Z28: 25 | AA28: J | AB28: férié | AC28: ASCENCSION | AF28: 25 | AG28: D
B29: 26 | C29: J | D29: ='JANVIER 2017'!F34 -> 0.29166667 | E29: ='JANVIER 2017'!L34 -> 0.29166667 | F29: =#REF! -> #REF! | H29: 26 | I29: D | T29: 26 | U29: M | W29: =#REF! -> #REF! | X29: =#REF! -> #REF! | Z29: 26 | AA29: V | AC29: =#REF! -> #REF! | AD29: =#REF! -> #REF! | AF29: 26 | AG29: L | AI29: =#REF! -> #REF! | AJ29: =#REF! -> #REF!
B30: 27 | C30: V | D30: ='JANVIER 2017'!F35 -> 0.29166667 | E30: ='JANVIER 2017'!L35 -> 0.29166667 | F30: =#REF! -> #REF! | H30: 27 | I30: L | K30: =#REF! -> #REF! | L30: =#REF! -> #REF! | N30: 27 | O30: L | Q30: =#REF! -> #REF! | R30: =#REF! -> #REF! | T30: 27 | U30: J | W30: =#REF! -> #REF! | X30: =#REF! -> #REF! | Z30: 27 | AA30: S | AF30: 27 | AG30: M | AI30: =#REF! -> #REF! | AJ30: =#REF! -> #REF!
B31: 28 | C31: S | H31: 28 | I31: M | K31: =#REF! -> #REF! | L31: =#REF! -> #REF! | N31: 28 | O31: M | Q31: =#REF! -> #REF! | R31: =#REF! -> #REF! | T31: 28 | U31: V | W31: =#REF! -> #REF! | X31: =#REF! -> #REF! | Z31: 28 | AA31: D | AF31: 28 | AG31: M | AI31: =#REF! -> #REF! | AJ31: =#REF! -> #REF!
B32: 29 | C32: D | K32: =#REF! -> #REF! | L32: =#REF! -> #REF! | N32: 29 | O32: M | Q32: =#REF! -> #REF! | R32: =#REF! -> #REF! | T32: 29 | U32: S | Z32: 29 | AA32: L | AC32: =#REF! -> #REF! | AD32: =#REF! -> #REF! | AF32: 29 | AG32: J | AI32: =#REF! -> #REF! | AJ32: =#REF! -> #REF!
B33: 30 | C33: L | D33: ='JANVIER 2017'!F38 -> 0.29166667 | E33: ='JANVIER 2017'!L38 -> 0.29166667 | F33: =#REF! -> #REF! | N33: 30 | O33: J | Q33: =#REF! -> #REF! | R33: =#REF! -> #REF! | T33: 30 | U33: D | Z33: 30 | AA33: M | AC33: =#REF! -> #REF! | AD33: =#REF! -> #REF! | AF33: 30 | AG33: V | AI33: =#REF! -> #REF! | AJ33: =#REF! -> #REF!
B34: 31 | C34: M | D34: ='JANVIER 2017'!F39 -> 0.29166667 | E34: ='JANVIER 2017'!L39 -> 0 | F34: =#REF! -> #REF! | N34: 31 | O34: V | Q34: =#REF! -> #REF! | R34: =#REF! -> #REF! | Z34: 31 | AA34: M | AC34: =#REF! -> #REF! | AD34: =#REF! -> #REF!
B35: janv. | C35: D | D35: =SUM(D4:D34) -> 6.4166667 | E35: =SUM(E4:E34) -> #N/A | H35: fév. | J35: =SUM(J4:J34) -> 0 | K35: =SUM(K4:K34) -> #REF! | N35: mars | P35: =SUM(P4:P34) -> 0 | Q35: =SUM(Q4:Q34) -> #REF! | T35: avril | V35: =SUM(V4:V34) -> 0 | W35: =SUM(W4:W34) -> #REF! | Z35: mai | AB35: =SUM(AB4:AB34) -> 0 | AC35: =SUM(AC4:AC34) -> #REF! | AF35: juin | AH35: =SUM(AH4:AH34) -> 0 | AI35: =SUM(AI4:AI34) -> #REF!
A36: heures payées
A37: Total mensuel | D37: =D35+-D36 -> 6.4166667 | E37: =E35+-E36 -> #N/A | J37: =J35+-J36 -> 0 | K37: =K35+-K36 -> #REF! | P37: =P35+-P36 -> 0 | Q37: =Q35+-Q36 -> #REF! | V37: =V35+-V36 -> 0 | W37: =W35+-W36 -> #REF! | AB37: =AB35+-AB36 -> 0 | AC37: =AC35+-AC36 -> #REF! | AH37: =AH35+-AH36 -> 0 | AI37: =AI35+-AI36 -> #REF!
B39: juillet | H39: aout | N39: septembre | T39: octobre | Z39: novembre | AF39: décembre
B40: date | D40: prév° | E40: réel | F40: obsv° | H40: date | J40: prév° | K40: réel | L40: obsv° | N40: date | P40: prév° | Q40: réel | R40: obsv° | T40: date | V40: prév° | W40: réel | X40: obsv° | Z40: date | AB40: prév° | AC40: réel | AD40: obsv° | AF40: date | AH40: prév° | AI40: réel | AJ40: obsv°
B41: 1er | C41: S | H41: 1er | I41: M | K41: =#REF! -> #REF! | L41: =#REF! -> #REF! | N41: 1er | O41: V | Q41: =#REF! -> #REF! | R41: =#REF! -> #REF! | T41: 1er | U41: D | Z41: 1er | AA41: M | AB41: férié | AC41: TOUSSAINT | AF41: 1er | AG41: V | AI41: =#REF! -> #REF! | AJ41: =#REF! -> #REF!
B42: 2 | C42: D | H42: 2 | I42: M | K42: =#REF! -> #REF! | L42: =#REF! -> #REF! | N42: 2 | O42: S | T42: 2 | U42: L | W42: =#REF! -> #REF! | X42: =#REF! -> #REF! | Z42: 2 | AA42: J | AC42: =#REF! -> #REF! | AD42: =#REF! -> #REF! | AF42: 2 | AG42: S
B43: 3 | C43: L | E43: =#REF! -> #REF! | F43: =#REF! -> #REF! | H43: 3 | I43: J | K43: =#REF! -> #REF! | L43: =#REF! -> #REF! | N43: 3 | O43: D | T43: 3 | U43: M | W43: =#REF! -> #REF! | X43: =#REF! -> #REF! | Z43: 3 | AA43: V | AC43: =#REF! -> #REF! | AD43: =#REF! -> #REF! | AF43: 3 | AG43: D
B44: 4 | C44: M | E44: =#REF! -> #REF! | F44: =#REF! -> #REF! | H44: 4 | I44: V | K44: =#REF! -> #REF! | L44: =#REF! -> #REF! | N44: 4 | O44: L | Q44: =#REF! -> #REF! | R44: =#REF! -> #REF! | T44: 4 | U44: M | W44: =#REF! -> #REF! | X44: =#REF! -> #REF! | Z44: 4 | AA44: S | AF44: 4 | AG44: L | AI44: =#REF! -> #REF! | AJ44: =#REF! -> #REF!
B45: 5 | C45: M | E45: =#REF! -> #REF! | F45: =#REF! -> #REF! | H45: 5 | I45: S | N45: 5 | O45: M | Q45: =#REF! -> #REF! | R45: =#REF! -> #REF! | T45: 5 | U45: J | W45: =#REF! -> #REF! | X45: =#REF! -> #REF! | Z45: 5 | AA45: D | AF45: 5 | AG45: M | AI45: =#REF! -> #REF! | AJ45: =#REF! -> #REF!
B46: 6 | C46: J | E46: =#REF! -> #REF! | F46: =#REF! -> #REF! | H46: 6 | I46: D | N46: 6 | O46: M | Q46: =#REF! -> #REF! | R46: =#REF! -> #REF! | T46: 6 | U46: V | W46: =#REF! -> #REF! | X46: =#REF! -> #REF! | Z46: 6 | AA46: L | AC46: =#REF! -> #REF! | AD46: =#REF! -> #REF! | AF46: 6 | AG46: M | AI46: =#REF! -> #REF! | AJ46: =#REF! -> #REF!
B47: 7 | C47: V | E47: =#REF! -> #REF! | F47: =#REF! -> #REF! | H47: 7 | I47: L | K47: =#REF! -> #REF! | L47: =#REF! -> #REF! | N47: 7 | O47: J | Q47: =#REF! -> #REF! | R47: =#REF! -> #REF! | T47: 7 | U47: S | Z47: 7 | AA47: M | AC47: =#REF! -> #REF! | AD47: =#REF! -> #REF! | AF47: 7 | AG47: J | AI47: =#REF! -> #REF! | AJ47: =#REF! -> #REF!
B48: 8 | C48: S | H48: 8 | I48: M | K48: =#REF! -> #REF! | L48: =#REF! -> #REF! | N48: 8 | O48: V | Q48: =#REF! -> #REF! | R48: =#REF! -> #REF! | T48: 8 | U48: D | Z48: 8 | AA48: M | AC48: =#REF! -> #REF! | AD48: =#REF! -> #REF! | AF48: 8 | AG48: V | AI48: =#REF! -> #REF! | AJ48: =#REF! -> #REF!
B49: 9 | C49: D | H49: 9 | I49: M | K49: =#REF! -> #REF! | L49: =#REF! -> #REF! | N49: 9 | O49: S | T49: 9 | U49: L | W49: =#REF! -> #REF! | X49: =#REF! -> #REF! | Z49: 9 | AA49: J | AC49: =#REF! -> #REF! | AD49: =#REF! -> #REF! | AF49: 9 | AG49: S
B50: 10 | C50: L | E50: =#REF! -> #REF! | F50: =#REF! -> #REF! | H50: 10 | I50: J | K50: =#REF! -> #REF! | L50: =#REF! -> #REF! | N50: 10 | O50: D | T50: 10 | U50: M | W50: =#REF! -> #REF! | X50: =#REF! -> #REF! | Z50: 10 | AA50: V | AC50: =#REF! -> #REF! | AD50: =#REF! -> #REF! | AF50: 10 | AG50: D
B51: 11 | C51: M | E51: =#REF! -> #REF! | F51: =#REF! -> #REF! | H51: 11 | I51: V | K51: =#REF! -> #REF! | L51: =#REF! -> #REF! | N51: 11 | O51: L | Q51: =#REF! -> #REF! | R51: =#REF! -> #REF! | T51: 11 | U51: M | W51: =#REF! -> #REF! | X51: =#REF! -> #REF! | Z51: 11 | AA51: S | AB51: férié | AC51: ARMISTICE | AF51: 11 | AG51: L | AI51: =#REF! -> #REF! | AJ51: =#REF! -> #REF!
B52: 12 | C52: M | E52: =#REF! -> #REF! | F52: =#REF! -> #REF! | H52: 12 | I52: S | N52: 12 | O52: M | Q52: =#REF! -> #REF! | R52: =#REF! -> #REF! | T52: 12 | U52: J | W52: =#REF! -> #REF! | X52: =#REF! -> #REF! | Z52: 12 | AA52: D | AF52: 12 | AG52: M | AI52: =#REF! -> #REF! | AJ52: =#REF! -> #REF!
B53: 13 | C53: J | E53: =#REF! -> #REF! | F53: =#REF! -> #REF! | H53: 13 | I53: D | N53: 13 | O53: M | Q53: =#REF! -> #REF! | R53: =#REF! -> #REF! | T53: 13 | U53: V | W53: =#REF! -> #REF! | X53: =#REF! -> #REF! | Z53: 13 | AA53: L | AC53: =#REF! -> #REF! | AD53: =#REF! -> #REF! | AF53: 13 | AG53: M | AI53: =#REF! -> #REF! | AJ53: =#REF! -> #REF!
B54: 14 | C54: V | D54: férié | E54: FETE NATIONALE | H54: 14 | I54: L | K54: =#REF! -> #REF! | L54: =#REF! -> #REF! | N54: 14 | O54: J | Q54: =#REF! -> #REF! | R54: =#REF! -> #REF! | T54: 14 | U54: S | Z54: 14 | AA54: M | AC54: =#REF! -> #REF! | AD54: =#REF! -> #REF! | AF54: 14 | AG54: J | AI54: =#REF! -> #REF! | AJ54: =#REF! -> #REF!
B55: 15 | C55: S | H55: 15 | I55: M | J55: férié | K55: ASSOMPTION | N55: 15 | O55: V | Q55: =#REF! -> #REF! | R55: =#REF! -> #REF! | T55: 15 | U55: D | Z55: 15 | AA55: M | AC55: =#REF! -> #REF! | AD55: =#REF! -> #REF! | AF55: 15 | AG55: V | AI55: =#REF! -> #REF! | AJ55: =#REF! -> #REF!
B56: 16 | C56: D | H56: 16 | I56: M | K56: =#REF! -> #REF! | L56: =#REF! -> #REF! | N56: 16 | O56: S | T56: 16 | U56: L | W56: =#REF! -> #REF! | X56: =#REF! -> #REF! | Z56: 16 | AA56: J | AC56: =#REF! -> #REF! | AD56: =#REF! -> #REF! | AF56: 16 | AG56: S
B57: 17 | C57: L | E57: =#REF! -> #REF! | F57: =#REF! -> #REF! | H57: 17 | I57: J | K57: =#REF! -> #REF! | L57: =#REF! -> #REF! | N57: 17 | O57: D | T57: 17 | U57: M | W57: =#REF! -> #REF! | X57: =#REF! -> #REF! | Z57: 17 | AA57: V | AC57: =#REF! -> #REF! | AD57: =#REF! -> #REF! | AF57: 17 | AG57: D
B58: 18 | C58: M | E58: =#REF! -> #REF! | F58: =#REF! -> #REF! | H58: 18 | I58: V | K58: =#REF! -> #REF! | L58: =#REF! -> #REF! | N58: 18 | O58: L | Q58: =#REF! -> #REF! | R58: =#REF! -> #REF! | T58: 18 | U58: M | W58: =#REF! -> #REF! | X58: =#REF! -> #REF! | Z58: 18 | AA58: S | AF58: 18 | AG58: L | AI58: =#REF! -> #REF! | AJ58: =#REF! -> #REF!
B59: 19 | C59: M | E59: =#REF! -> #REF! | F59: =#REF! -> #REF! | H59: 19 | I59: S | N59: 19 | O59: M | Q59: =#REF! -> #REF! | R59: =#REF! -> #REF! | T59: 19 | U59: J | W59: =#REF! -> #REF! | X59: =#REF! -> #REF! | Z59: 19 | AA59: D | AF59: 19 | AG59: M | AI59: =#REF! -> #REF! | AJ59: =#REF! -> #REF!
B60: 20 | C60: J | E60: =#REF! -> #REF! | F60: =#REF! -> #REF! | H60: 20 | I60: D | N60: 20 | O60: M | Q60: =#REF! -> #REF! | R60: =#REF! -> #REF! | T60: 20 | U60: V | W60: =#REF! -> #REF! | X60: =#REF! -> #REF! | Z60: 20 | AA60: L | AC60: =#REF! -> #REF! | AD60: =#REF! -> #REF! | AF60: 20 | AG60: M | AI60: =#REF! -> #REF! | AJ60: =#REF! -> #REF!
B61: 21 | C61: V | E61: =#REF! -> #REF! | F61: =#REF! -> #REF! | H61: 21 | I61: L | K61: =#REF! -> #REF! | L61: =#REF! -> #REF! | N61: 21 | O61: J | Q61: =#REF! -> #REF! | R61: =#REF! -> #REF! | T61: 21 | U61: S | Z61: 21 | AA61: M | AC61: =#REF! -> #REF! | AD61: =#REF! -> #REF! | AF61: 21 | AG61: J | AI61: =#REF! -> #REF! | AJ61: =#REF! -> #REF!
B62: 22 | C62: S | H62: 22 | I62: M | K62: =#REF! -> #REF! | L62: =#REF! -> #REF! | N62: 22 | O62: V | Q62: =#REF! -> #REF! | R62: =#REF! -> #REF! | T62: 22 | U62: D | Z62: 22 | AA62: M | AC62: =#REF! -> #REF! | AD62: =#REF! -> #REF! | AF62: 22 | AG62: V | AI62: =#REF! -> #REF! | AJ62: =#REF! -> #REF!
B63: 23 | C63: D | H63: 23 | I63: M | K63: =#REF! -> #REF! | L63: =#REF! -> #REF! | N63: 23 | O63: S | T63: 23 | U63: L | W63: =#REF! -> #REF! | X63: =#REF! -> #REF! | Z63: 23 | AA63: J | AC63: =#REF! -> #REF! | AD63: =#REF! -> #REF! | AF63: 23 | AG63: S
B64: 24 | C64: L | E64: =#REF! -> #REF! | F64: =#REF! -> #REF! | H64: 24 | I64: J | K64: =#REF! -> #REF! | L64: =#REF! -> #REF! | N64: 24 | O64: D | T64: 24 | U64: M | W64: =#REF! -> #REF! | X64: =#REF! -> #REF! | Z64: 24 | AA64: V | AC64: =#REF! -> #REF! | AD64: =#REF! -> #REF! | AF64: 24 | AG64: D
B65: 25 | C65: M | E65: =#REF! -> #REF! | F65: =#REF! -> #REF! | H65: 25 | I65: V | K65: =#REF! -> #REF! | L65: =#REF! -> #REF! | N65: 25 | O65: L | Q65: =#REF! -> #REF! | R65: =#REF! -> #REF! | T65: 25 | U65: M | W65: =#REF! -> #REF! | X65: =#REF! -> #REF! | Z65: 25 | AA65: S | AF65: 25 | AG65: L | AH65: férié | AI65: NOEL
B66: 26 | C66: M | E66: =#REF! -> #REF! | F66: =#REF! -> #REF! | H66: 26 | I66: S | N66: 26 | O66: M | Q66: =#REF! -> #REF! | R66: =#REF! -> #REF! | T66: 26 | U66: J | W66: =#REF! -> #REF! | X66: =#REF! -> #REF! | Z66: 26 | AA66: D | AF66: 26 | AG66: M | AI66: =#REF! -> #REF! | AJ66: =#REF! -> #REF!
B67: 27 | C67: J | E67: =#REF! -> #REF! | F67: =#REF! -> #REF! | H67: 27 | I67: D | N67: 27 | O67: M | Q67: =#REF! -> #REF! | R67: =#REF! -> #REF! | T67: 27 | U67: V | W67: =#REF! -> #REF! | X67: =#REF! -> #REF! | Z67: 27 | AA67: L | AC67: =#REF! -> #REF! | AD67: =#REF! -> #REF! | AF67: 27 | AG67: M | AI67: =#REF! -> #REF! | AJ67: =#REF! -> #REF!
B68: 28 | C68: V | E68: =#REF! -> #REF! | F68: =#REF! -> #REF! | H68: 28 | I68: L | K68: =#REF! -> #REF! | L68: =#REF! -> #REF! | N68: 28 | O68: J | Q68: =#REF! -> #REF! | R68: =#REF! -> #REF! | T68: 28 | U68: S | Z68: 28 | AA68: M | AC68: =#REF! -> #REF! | AD68: =#REF! -> #REF! | AF68: 28 | AG68: J | AI68: =#REF! -> #REF! | AJ68: =#REF! -> #REF!
B69: 29 | C69: S | H69: 29 | I69: M | K69: =#REF! -> #REF! | L69: =#REF! -> #REF! | N69: 29 | O69: V | Q69: =#REF! -> #REF! | R69: =#REF! -> #REF! | T69: 29 | U69: D | Z69: 29 | AA69: M | AC69: =#REF! -> #REF! | AD69: =#REF! -> #REF! | AF69: 29 | AG69: V | AI69: =#REF! -> #REF! | AJ69: =#REF! -> #REF!
B70: 30 | C70: D | H70: 30 | I70: M | K70: =#REF! -> #REF! | L70: =#REF! -> #REF! | N70: 30 | O70: S | T70: 30 | U70: L | W70: =#REF! -> #REF! | X70: =#REF! -> #REF! | Z70: 30 | AA70: J | AC70: =#REF! -> #REF! | AD70: =#REF! -> #REF! | AF70: 30 | AG70: S
B71: 31 | C71: L | E71: =#REF! -> #REF! | F71: =#REF! -> #REF! | H71: 31 | I71: J | K71: =#REF! -> #REF! | L71: =#REF! -> #REF! | T71: 31 | U71: M | W71: =#REF! -> #REF! | X71: =#REF! -> #REF! | AF71: 31 | AG71: D
B72: juillet | D72: =SUM(D41:D71) -> 0 | E72: =SUM(E41:E71) -> #REF! | H72: août | J72: =SUM(J41:J71) -> 0 | K72: =SUM(K41:K71) -> #REF! | N72: sept. | P72: =SUM(P41:P70) -> 0 | Q72: =SUM(Q41:Q71) -> #REF! | T72: oct. | U72: D | V72: =SUM(V41:V71) -> 0 | W72: =SUM(W41:W71) -> #REF! | Z72: nov. | AB72: =SUM(AB41:AB70) -> 0 | AC72: =SUM(AC41:AC71) -> #REF! | AF72: déc. | AH72: =SUM(AH41:AH71) -> 0 | AI72: =SUM(AI41:AI71) -> #REF!
A73: heures payées
A74: Total mensuel | D74: =D72+-D73 -> 0 | E74: =E72+-E73 -> #REF! | J74: =J72+-J73 -> 0 | K74: =K72+-K73 -> #REF! | P74: =P72+-P73 -> 0 | Q74: =Q72+-Q73 -> #REF! | V74: =V72+-V73 -> 0 | W74: =W72+-W73 -> #REF! | AB74: =AB72+-AB73 -> 0 | AC74: =AC72+-AC73 -> #REF! | AH74: =AH72+-AH73 -> 0 | AI74: =AI72+-AI73 -> #REF!
C78: TEMPS A EFFECTUER | N78: TEMPS DE TRAVAIL PREVISIONNEL | Y78: SOLDE PREVISIONNEL | AF78: VERSEMENT CET 2017
C79: 1 | N79: =D37+J37+P37+V37+AB37+AH37+D74+J74+P74+V74+AB74+AH74 -> 6.4166667 | Y79: =N79-C80 -> -1526.5833
C80: 1533
C81: 63.875 | N81: TEMPS DE TRAVAIL effectué en 2017 | Y81: SOLDE 2017 | AF81: NOUVEAU SOLDE cumulé
N82: =E37+K37+Q37+W37+AC37+AI37+AI74+AC74+W74+Q74+K74+E74 -> #N/A | Y82: =+N82-C81 -> #N/A | AF82: =Y88-AF79 -> #N/A
Y84: SOLDE 2016
Y87: SOLDE cumulé
Y88: =Y82+Y85 -> #N/A
Y95: 27 CA
Y96: 2 HP
Y97: 4,5 RTT
Y98: 1 jour PONT
Y99: 1 jour MAIRE
Y100: 1 jour FETE
Y101: ½ jour Noël
Y102: ½ jour jour NOUVEL AN
