Workbook
Name Année: Config.!$C$2
Name Année_2: Config.!$I$2
Name Année_3: Config.!$O$2
Name date: OFFSET(année!$B$5,,,COUNT(année!$B:$B))
Name J_1: Config.!$E$3
Name J_2: Config.!$K$3
Name J_3: Config.!$Q$3
Name liste_agents: Config.!$B$4:$B$48
Name noms: OFFSET(année!$C$5:$I$38,,,COUNT(année!$B:$B))

Sheet Config.
C2: 2019 | I2: =Année+1 -> 2020 | O2: =Année+2 -> 2021
B3: =COUNTA(B4:B48)&" agents" -> 43 agents | E3: =DATE(Année,1,1) -> 43466 | K3: =DATE(Année_2,1,1) -> 43831 | Q3: =DATE(Année_3,1,1) -> 44197
B4: Agent 1 | C4: 2018 | D4: Noël | E4: 43456 | F4: Jour de l’an | H4: =DATE(Année,1,1) -> 43466 | I4: =C6 -> 2019 | J4: Noël | K4: =E14 -> 43820 | L4: Jour de l’an | N4: =DATE(Année_2,1,1) -> 43831 | O4: =I6 -> 2020 | P4: Noël | Q4: =K14 -> 44184 | R4: Jour de l’an | T4: =DATE(Année_3,1,1) -> 44197
B5: Agent 2 | E5: 43470 | F5: Pâques | H5: =IF(MOD(19*MOD(Année,19)+24,30)+MOD(2*MOD(Année,4)+4*MOD(Année,7)+6* MOD(19*MOD(Année,19)+24,30)+5,7)-9<=0,DATE(Année,3,22+MOD(19*MOD(Année, 19)+24,30)+MOD(2*MOD(Année,4)+4*MOD(Année,7)+6*MOD(19*MOD(Année,19)+24, 30)+5,7)),DATE(Année,4,MOD(19*MOD(Année,19)+24,30)+MOD(2*MOD(Année,4)+4* MOD(Année,7)+6*MOD(19*MOD(Année,19)+24,30)+5,7)-9)) -> 43576 | K5: =E15 -> 43836 | L5: Pâques | N5: =IF(MOD(19*MOD(Année_2,19)+24,30)+MOD(2*MOD(Année_2,4)+4*MOD(Année_2,7)+6* MOD(19*MOD(Année_2,19)+24,30)+5,7)-9<=0,DATE(Année_2,3,22+MOD(19*MOD(Année_2, 19)+24,30)+MOD(2*MOD(Année_2,4)+4*MOD(Année_2,7)+6*MOD(19*MOD(Année_2,19)+24, 30)+5,7)),DATE(Année_2,4,MOD(19*MOD(Année_2,19)+24,30)+MOD(2*MOD(Année_2,4)+4* MOD(Année_2,7)+6*MOD(19*MOD(Année_2,19)+24,30)+5,7)-9)) -> 43933 | Q5: =K15 -> 44200 | R5: Pâques | T5: =IF(MOD(19*MOD(Année_3,19)+24,30)+MOD(2*MOD(Année_3,4)+4*MOD(Année_3,7)+6* MOD(19*MOD(Année_3,19)+24,30)+5,7)-9<=0,DATE(Année_3,3,22+MOD(19*MOD(Année_3, 19)+24,30)+MOD(2*MOD(Année_3,4)+4*MOD(Année_3,7)+6*MOD(19*MOD(Année_3,19)+24, 30)+5,7)),DATE(Année_3,4,MOD(19*MOD(Année_3,19)+24,30)+MOD(2*MOD(Année_3,4)+4* MOD(Année_3,7)+6*MOD(19*MOD(Année_3,19)+24,30)+5,7)-9)) -> 44290
B6: Agent 3 | C6: 2019 | D6: Hiver | E6: 43505 | F6: Lundi de Pâques | H6: =H5+1 -> 43577 | I6: =I4+1 -> 2020 | J6: Hiver | K6: 43876 | L6: Lundi de Pâques | N6: =N5+1 -> 43934 | O6: =O4+1 -> 2021 | P6: Hiver | Q6: 44240 | R6: Lundi de Pâques | T6: =T5+1 -> 44291
B7: Agent 4 | E7: 43521 | F7: Fête du travail | H7: =DATE(Année,5,1) -> 43586 | K7: 43892 | L7: Fête du travail | N7: =DATE(Année_2,5,1) -> 43952 | Q7: 44255 | R7: Fête du travail | T7: =DATE(Année_3,5,1) -> 44317
B8: Agent 5 | D8: Printemps | E8: 43561 | F8: Victoire 1945 | H8: =DATE(Année,5,8) -> 43593 | J8: Printemps | K8: 43932 | L8: Victoire 1945 | N8: =DATE(Année_2,5,8) -> 43959 | P8: Printemps | R8: Victoire 1945 | T8: =DATE(Année_3,5,8) -> 44324
B9: Agent 6 | E9: 43578 | F9: Ascension | H9: =H5+39 -> 43615 | K9: 43948 | L9: Ascension | N9: =N5+39 -> 43972 | R9: Ascension | T9: =T5+39 -> 44329
B10: Agent 7 | D10: Été | E10: 43652 | F10: Pentecôte | H10: =H5+49 -> 43625 | J10: Été | K10: 44016 | L10: Pentecôte | N10: =N5+49 -> 43982 | P10: Été | R10: Pentecôte | T10: =T5+49 -> 44339
B11: Agent 8 | E11: 43710 | F11: Lundi de Pentecôte | H11: =H5+50 -> 43626 | K11: 44075 | L11: Lundi de Pentecôte | N11: =N5+50 -> 43983 | R11: Lundi de Pentecôte | T11: =T5+50 -> 44340
B12: Agent 9 | D12: Toussaint | E12: 43757 | F12: Fête nationale | H12: =DATE(Année,7,14) -> 43660 | J12: Toussaint | K12: 44121 | L12: Fête nationale | N12: =DATE(Année_2,7,14) -> 44026 | P12: Toussaint | R12: Fête nationale | T12: =DATE(Année_3,7,14) -> 44391
B13: Agent 10 | E13: 43773 | F13: Assomption | H13: =DATE(Année,8,15) -> 43692 | K13: 44137 | L13: Assomption | N13: =DATE(Année_2,8,15) -> 44058 | R13: Assomption | T13: =DATE(Année_3,8,15) -> 44423
B14: Agent 11 | D14: Noël | E14: 43820 | F14: Toussaint | H14: =DATE(Année,11,1) -> 43770 | J14: Noël | K14: 44184 | L14: Toussaint | N14: =DATE(Année_2,11,1) -> 44136 | P14: Noël | R14: Toussaint | T14: =DATE(Année_3,11,1) -> 44501
B15: Agent 12 | E15: 43836 | F15: Armistice | H15: =DATE(Année,11,11) -> 43780 | K15: 44200 | L15: Armistice | N15: =DATE(Année_2,11,11) -> 44146 | R15: Armistice | T15: =DATE(Année_3,11,11) -> 44511
B16: Agent 13 | F16: Noël | H16: =DATE(Année,12,25) -> 43824 | L16: Noël | N16: =DATE(Année_2,12,25) -> 44190 | R16: Noël | T16: =DATE(Année_3,12,25) -> 44555
B17: Agent 14 | F17: Mercredis | G17: Noël | H17: =J_1-DAY(J_1)+8-WEEKDAY(J_1-DAY(J_1)-3) -> 43467 | I17: J_1-JOUR(J_1)+8-JOURSEM(J_1-JOUR(J_1)-3) | L17: Mercredis | M17: Noël | N17: =J_2-DAY(J_2)+8-WEEKDAY(J_2-DAY(J_2)-3) -> 43831 | O17: J_2-JOUR(J_2)+8-JOURSEM(J_2-JOUR(J_2)-3) | R17: Mercredis | S17: Noël | T17: =J_3-DAY(J_3)+8-WEEKDAY(J_3-DAY(J_3)-3) -> 44202 | U17: J_3-JOUR(J_3)+8-JOURSEM(J_3-JOUR(J_3)-3)
B18: Agent 15 | F18: Mercredis | G18: Hiver | H18: =IF(WEEKDAY(E6,2)=6,E6+4,E6+1) -> 43509 | L18: Mercredis | M18: Hiver | N18: =IF(WEEKDAY(K6,2)=6,K6+4,K6+1) -> 43880 | R18: Mercredis | S18: Hiver | T18: =IF(WEEKDAY(Q6,2)=6,Q6+4,Q6+1) -> 44244
B19: Agent 16 | H19: =H18+7 -> 43516 | N19: =N18+7 -> 43887 | T19: =T18+7 -> 44251
B20: Agent 17 | F20: Mercredis | G20: Printemps | H20: =IF(WEEKDAY(E8,2)=6,E8+4,E8+1) -> 43565 | L20: Mercredis | M20: Printemps | N20: =IF(WEEKDAY(K8,2)=6,K8+4,K8+1) -> 43936 | R20: Mercredis | S20: Printemps | T20: =IF(WEEKDAY(Q8,2)=6,Q8+4,Q8+1) -> 4
B21: Agent 18 | H21: =H20+7 -> 43572 | N21: =N20+7 -> 43943 | T21: =T20+7 -> 11
B22: Agent 19 | F22: Mercredis | G22: Eté | H22: =IF(WEEKDAY(E10,2)=6,E10+4,E10+1) -> 43656 | L22: Mercredis | M22: Eté | N22: =IF(WEEKDAY(K10,2)=6,K10+4,K10+1) -> 44020 | R22: Mercredis | S22: Eté | T22: =IF(WEEKDAY(Q10,2)=6,Q10+4,Q10+1) -> 4
B23: Agent 20 | H23: =H22+7 -> 43663 | N23: =N22+7 -> 44027 | T23: =T22+7 -> 11
B24: Agent 21 | H24: =H23+7 -> 43670 | N24: =N23+7 -> 44034 | T24: =T23+7 -> 18
B25: Agent 22 | H25: =H24+7 -> 43677 | N25: =N24+7 -> 44041 | T25: =T24+7 -> 25
B26: Agent 23 | H26: =H25+7 -> 43684 | N26: =N25+7 -> 44048 | T26: =T25+7 -> 32
B27: Agent 24 | H27: =H26+7 -> 43691 | N27: =N26+7 -> 44055 | T27: =T26+7 -> 39
B28: Agent 25 | H28: =H27+7 -> 43698 | N28: =N27+7 -> 44062 | T28: =T27+7 -> 46
B29: Agent 26 | H29: =H28+7 -> 43705 | N29: =N28+7 -> 44069 | T29: =T28+7 -> 53
B30: Agent 27 | I30: H29+7 | N30: =N29+7 -> 44076 | O30: N29+7 | T30: =T29+7 -> 60 | U30: T29+7
B31: Agent 28 | F31: Mercredis | G31: Toussaint | H31: =IF(WEEKDAY(E12,2)=6,E12+4,E12+1) -> 43761 | L31: Mercredis | M31: Toussaint | N31: =IF(WEEKDAY(K12,2)=6,K12+4,K12+1) -> 44125 | R31: Mercredis | S31: Toussaint | T31: =IF(WEEKDAY(Q12,2)=6,Q12+4,Q12+1) -> 4
B32: Agent 29 | H32: =H31+7 -> 43768 | N32: =N31+7 -> 44132 | T32: =T31+7 -> 11
B33: Agent 30 | F33: Mercredis | G33: Noël | H33: =IF(WEEKDAY(E14,2)=6,E14+4,E14+1) -> 43824 | L33: Mercredis | M33: Noël | N33: =IF(WEEKDAY(K14,2)=6,K14+4,K14+1) -> 44188 | R33: Mercredis | S33: Noël | T33: =IF(WEEKDAY(Q14,2)=6,Q14+4,Q14+1) -> 4
B34: Agent 31 | H34: =H33+7 -> 43831 | N34: =N33+7 -> 44195 | T34: =T33+7 -> 11
B35: Agent 32
B36: Agent 33
B37: Agent 34
B38: Agent 35
B39: Agent 36
B40: Agent 37
B41: Agent 38
B42: Agent 39
B43: Agent 40
B44: Agent 41
B45: Agent 42
B46: Agent 43

Sheet année
A1: =J_2 -> 43831 | K1: =COUNTA(K2:K45)&" agents" -> 37 agents
B2: ="Planning des mercredis - année "&Année_2 -> Planning des mercredis - année 2020 | K2: AGENT 1 | L2: =COUNTIF(C$5:I$38,K2) -> 5
C3: MTB | F3: CDF | I3: BRIGADE | K3: AGENT 2 | L3: =COUNTIF(C$5:I$38,K3) -> 5
B4: Dates | C4: 8h30-16h30 | K4: AGENT 3 | L4: =COUNTIF(C$5:I$38,K4) -> 5
B5: =WORKDAY.INTL($A$1-DAY($A$1)+8-WEEKDAY($A$1-DAY($A$1)-3),7,"0000000",Config.!$N$4:$N$34) -> 43838 | C5: Agent 1 | D5: Agent 2 | F5: Agent 3 | G5: Agent 4 | H5: Agent 33 | I5: BAZIZ.R | K5: AGENT 4 | L5: =COUNTIF(C$5:I$38,K5) -> 5
B6: =WORKDAY.INTL(B5,1,"1101111",Config.!$N$4:$N$34) -> 43845 | C6: Agent 5 | D6: Agent 6 | E6: Agent 34 | F6: Agent 7 | G6: Agent 8 | K6: AGENT 5 | L6: =COUNTIF(C$5:I$38,K6) -> 5
B7: =WORKDAY.INTL(B6,1,"1101111",Config.!$N$4:$N$34) -> 43852 | C7: Agent 9 | D7: Agent 10 | F7: Agent 11 | G7: Agent 12 | I7: BAZIZ.R | K7: AGENT 6 | L7: =COUNTIF(C$5:I$38,K7) -> 5
B8: =WORKDAY.INTL(B7,1,"1101111",Config.!$N$4:$N$34) -> 43859 | C8: Agent 13 | D8: Agent 14 | F8: Agent 15 | G8: Agent 16 | H8: Agent 35 | K8: AGENT 7 | L8: =COUNTIF(C$5:I$38,K8) -> 5
B9: =WORKDAY.INTL(B8,1,"1101111",Config.!$N$4:$N$34) -> 43866 | C9: Agent 17 | D9: Agent 18 | F9: Agent 19 | G9: Agent 20 | I9: BAZIZ.R | K9: AGENT 8 | L9: =COUNTIF(C$5:I$38,K9) -> 5
B10: =WORKDAY.INTL(B9,1,"1101111",Config.!$N$4:$N$34) -> 43873 | C10: Agent 21 | D10: Agent 22 | E10: Agent 36 | F10: Agent 23 | G10: Agent 24 | H10: Agent 37 | K10: AGENT 9 | L10: =COUNTIF(C$5:I$38,K10) -> 4
B11: =WORKDAY.INTL(B10,1,"1101111",Config.!$N$4:$N$34) -> 43894 | C11: Agent 25 | D11: Agent 26 | F11: Agent 27 | G11: Agent 28 | I11: BAZIZ.R | K11: AGENT 10 | L11: =COUNTIF(C$5:I$38,K11) -> 4
B12: =WORKDAY.INTL(B11,1,"1101111",Config.!$N$4:$N$34) -> 43901 | C12: Agent 29 | D12: Agent 30 | F12: Agent 31 | G12: Agent 32 | K12: AGENT 11 | L12: =COUNTIF(C$5:I$38,K12) -> 4
B13: =WORKDAY.INTL(B12,1,"1101111",Config.!$N$4:$N$34) -> 43908 | C13: Agent 1 | D13: Agent 2 | F13: Agent 3 | G13: Agent 4 | H13: Agent 33 | I13: BAZIZ.R | K13: AGENT 12 | L13: =COUNTIF(C$5:I$38,K13) -> 4
B14: =WORKDAY.INTL(B13,1,"1101111",Config.!$N$4:$N$34) -> 43915 | C14: Agent 5 | D14: Agent 6 | E14: Agent 34 | F14: Agent 7 | G14: Agent 8 | K14: AGENT 13 | L14: =COUNTIF(C$5:I$38,K14) -> 4
B15: =WORKDAY.INTL(B14,1,"1101111",Config.!$N$4:$N$34) -> 43922 | C15: Agent 9 | D15: Agent 10 | F15: Agent 11 | G15: Agent 12 | I15: BAZIZ.R | K15: AGENT 14 | L15: =COUNTIF(C$5:I$38,K15) -> 4
B16: =WORKDAY.INTL(B15,1,"1101111",Config.!$N$4:$N$34) -> 43929 | C16: Agent 13 | D16: Agent 14 | F16: Agent 15 | G16: Agent 16 | H16: Agent 35 | K16: AGENT 15 | L16: =COUNTIF(C$5:I$38,K16) -> 4
B17: =WORKDAY.INTL(B16,1,"1101111",Config.!$N$4:$N$34) -> 43950 | C17: Agent 17 | D17: Agent 18 | F17: Agent 19 | G17: Agent 20 | I17: BAZIZ.R | K17: AGENT 16 | L17: =COUNTIF(C$5:I$38,K17) -> 4
B18: =WORKDAY.INTL(B17,1,"1101111",Config.!$N$4:$N$34) -> 43957 | C18: Agent 21 | D18: Agent 22 | E18: Agent 36 | F18: Agent 23 | G18: Agent 24 | H18: Agent 37 | K18: AGENT 17 | L18: =COUNTIF(C$5:I$38,K18) -> 4
B19: =WORKDAY.INTL(B18,1,"1101111",Config.!$N$4:$N$34) -> 43964 | C19: Agent 25 | D19: Agent 26 | F19: Agent 27 | G19: Agent 28 | I19: BAZIZ.R | K19: AGENT 18 | L19: =COUNTIF(C$5:I$38,K19) -> 4
B20: =WORKDAY.INTL(B19,1,"1101111",Config.!$N$4:$N$34) -> 43971 | C20: Agent 29 | D20: Agent 30 | F20: Agent 31 | G20: Agent 32 | K20: AGENT 19 | L20: =COUNTIF(C$5:I$38,K20) -> 4
B21: =WORKDAY.INTL(B20,1,"1101111",Config.!$N$4:$N$34) -> 43978 | C21: Agent 1 | D21: Agent 2 | F21: Agent 3 | G21: Agent 4 | H21: Agent 33 | I21: BAZIZ.R | K21: AGENT 20 | L21: =COUNTIF(C$5:I$38,K21) -> 4
B22: =WORKDAY.INTL(B21,1,"1101111",Config.!$N$4:$N$34) -> 43985 | C22: Agent 5 | D22: Agent 6 | E22: Agent 34 | F22: Agent 7 | G22: Agent 8 | K22: AGENT 21 | L22: =COUNTIF(C$5:I$38,K22) -> 4
B23: =WORKDAY.INTL(B22,1,"1101111",Config.!$N$4:$N$34) -> 43992 | C23: Agent 9 | D23: Agent 10 | F23: Agent 11 | G23: Agent 12 | I23: BAZIZ.R | K23: AGENT 22 | L23: =COUNTIF(C$5:I$38,K23) -> 4
B24: =WORKDAY.INTL(B23,1,"1101111",Config.!$N$4:$N$34) -> 43999 | C24: Agent 13 | D24: Agent 14 | F24: Agent 15 | G24: Agent 16 | H24: Agent 35 | K24: AGENT 23 | L24: =COUNTIF(C$5:I$38,K24) -> 4
B25: =WORKDAY.INTL(B24,1,"1101111",Config.!$N$4:$N$34) -> 44006 | C25: Agent 17 | D25: Agent 18 | F25: Agent 19 | G25: Agent 20 | I25: BAZIZ.R | K25: AGENT 24 | L25: =COUNTIF(C$5:I$38,K25) -> 4
B26: =WORKDAY.INTL(B25,1,"1101111",Config.!$N$4:$N$34) -> 44013 | C26: Agent 21 | D26: Agent 22 | E26: Agent 36 | F26: Agent 23 | G26: Agent 24 | H26: Agent 37 | K26: AGENT 25 | L26: =COUNTIF(C$5:I$38,K26) -> 4
B27: =WORKDAY.INTL(B26,1,"1101111",Config.!$N$4:$N$34) -> 44083 | C27: Agent 25 | D27: Agent 26 | F27: Agent 27 | G27: Agent 28 | I27: BAZIZ.R | K27: AGENT 26 | L27: =COUNTIF(C$5:I$38,K27) -> 4
B28: =WORKDAY.INTL(B27,1,"1101111",Config.!$N$4:$N$34) -> 44090 | C28: Agent 29 | D28: Agent 30 | F28: Agent 31 | G28: Agent 32 | K28: AGENT 27 | L28: =COUNTIF(C$5:I$38,K28) -> 4
B29: =WORKDAY.INTL(B28,1,"1101111",Config.!$N$4:$N$34) -> 44097 | C29: Agent 1 | D29: Agent 2 | F29: Agent 3 | G29: Agent 4 | H29: Agent 33 | I29: BAZIZ.R | K29: AGENT 28 | L29: =COUNTIF(C$5:I$38,K29) -> 4
B30: =WORKDAY.INTL(B29,1,"1101111",Config.!$N$4:$N$34) -> 44104 | C30: Agent 5 | D30: Agent 6 | E30: Agent 34 | F30: Agent 7 | G30: Agent 8 | K30: AGENT 29 | L30: =COUNTIF(C$5:I$38,K30) -> 4
B31: =WORKDAY.INTL(B30,1,"1101111",Config.!$N$4:$N$34) -> 44111 | C31: Agent 9 | D31: Agent 10 | F31: Agent 11 | G31: Agent 12 | I31: BAZIZ.R | K31: AGENT 30 | L31: =COUNTIF(C$5:I$38,K31) -> 4
B32: =WORKDAY.INTL(B31,1,"1101111",Config.!$N$4:$N$34) -> 44118 | C32: Agent 13 | D32: Agent 14 | F32: Agent 15 | G32: Agent 16 | H32: Agent 35 | K32: AGENT 31 | L32: =COUNTIF(C$5:I$38,K32) -> 4
B33: =WORKDAY.INTL(B32,1,"1101111",Config.!$N$4:$N$34) -> 44139 | C33: Agent 17 | D33: Agent 18 | F33: Agent 19 | G33: Agent 20 | I33: BAZIZ.R | K33: AGENT 32 | L33: =COUNTIF(C$5:I$38,K33) -> 4
B34: =WORKDAY.INTL(B33,1,"1101111",Config.!$N$4:$N$34) -> 44153 | C34: Agent 21 | D34: Agent 22 | E34: Agent 36 | F34: Agent 23 | G34: Agent 24 | H34: Agent 37 | K34: AGENT 33 | L34: =COUNTIF(C$5:I$38,K34) -> 5
B35: =WORKDAY.INTL(B34,1,"1101111",Config.!$N$4:$N$34) -> 44160 | C35: Agent 25 | D35: Agent 26 | F35: Agent 27 | G35: Agent 28 | I35: BAZIZ.R | K35: AGENT 34 | L35: =COUNTIF(C$5:I$38,K35) -> 4
B36: =WORKDAY.INTL(B35,1,"1101111",Config.!$N$4:$N$34) -> 44167 | C36: Agent 29 | D36: Agent 30 | F36: Agent 31 | G36: Agent 32 | K36: AGENT 35 | L36: =COUNTIF(C$5:I$38,K36) -> 4
B37: =WORKDAY.INTL(B36,1,"1101111",Config.!$N$4:$N$34) -> 44174 | C37: Agent 1 | D37: Agent 2 | F37: Agent 3 | G37: Agent 4 | H37: Agent 33 | I37: BAZIZ.R | K37: AGENT 36 | L37: =COUNTIF(C$5:I$38,K37) -> 4
B38: =WORKDAY.INTL(B37,1,"1101111",Config.!$N$4:$N$34) -> 44181 | C38: Agent 5 | D38: Agent 6 | F38: Agent 7 | G38: Agent 8 | K38: AGENT 37 | L38: =COUNTIF(C$5:I$38,K38) -> 4

Sheet Synthèse individuelle
B2: Agent 3
B4: {=IFERROR(INDEX(date,SMALL(IF(noms=$B$2,ROW(date)-4,""),ROW($A1))),"")} -> 43838 | D4: Bonjour à tous, je souhaiterais, en sélectionnant un agent en B2, que les dates des mercredis qu'il a à faire dans l'année d'affichent en B4, B5, B6, B7, B8 et B9 (Tableau dans l'onglet "2020"). Est-ce que cela est possible par formule? En attendant votre aide, merci et bonne journée.
B5: {=IFERROR(INDEX(date,SMALL(IF(noms=$B$2,ROW(date)-4,""),ROW($A2))),"")} -> 43908
B6: {=IFERROR(INDEX(date,SMALL(IF(noms=$B$2,ROW(date)-4,""),ROW($A3))),"")} -> 43978
B7: {=IFERROR(INDEX(date,SMALL(IF(noms=$B$2,ROW(date)-4,""),ROW($A4))),"")} -> 44097
B8: {=IFERROR(INDEX(date,SMALL(IF(noms=$B$2,ROW(date)-4,""),ROW($A5))),"")} -> 44174
B9: {=IFERROR(INDEX(date,SMALL(IF(noms=$B$2,ROW(date)-4,""),ROW($A6))),"")}
