Workbook

Sheet perf. general
C1: Erick | I1: Patryk | O1: Adam | U1: Klaudia | AB1: Guy
C2: Calls | D2: Talk time | E2: Disposition Time | F2: Break | G2: Average Talk Time | H2: Average Disposition Time | I2: Calls | J2: Talk time | K2: Disposition Time | L2: Break | M2: Average Talk Time | N2: Average Disposition Time | O2: Calls | P2: Talk time | Q2: Disposition Time | R2: Break | S2: Average Talk Time | T2: Average Disposition Time | U2: Calls | V2: Talk time | W2: Disposition Time | X2: Break | Y2: Average Talk Time | Z2: Average Disposition Time | AA2: Average Disposition Time | AB2: Calls | AC2: Talk time | AD2: Disposition Time | AE2: Break | AF2: Average Talk Time | AG2: Average Disposition Time
B3: 42217
B4: 42218
A5: Week 32 | B5: 42219
B6: 42220
B7: 42221
B8: 42222
B9: 42223
B10: 42224
B11: 42225
A12: Week 33 | B12: 42226
B13: 42227
B14: 42228
B15: 42229
B16: 42230
B17: 42231
B18: 42232
A19: Week 34 | B19: 42233
B20: 42234
B21: 42235
B22: 42236
B23: 42237
B24: 42238
B25: 42239
A26: Week 35 | B26: 42240
B27: 42241
B28: 42242
B29: 42243
B30: 42244
B31: 42245
B32: 42246
B33: 42247
B34: Total | C34: =SUM(C3:C33) -> 0 | D34: =SUM(D3:D33) -> 0 | F34: =SUM(F3:F33) -> 0 | G34: =SUM(G3:G33) -> 0 | H34: =SUM(H3:H33) -> 0 | I34: =SUM(I3:I33) -> 0 | J34: =SUM(J3:J33) -> 0 | L34: =SUM(L3:L33) -> 0 | M34: =SUM(M3:M33) -> 0 | N34: =SUM(N3:N33) -> 0 | O34: =SUM(O3:O33) -> 0 | P34: =SUM(P3:P33) -> 0 | R34: =SUM(R3:R33) -> 0 | S34: =SUM(S3:S33) -> 0 | T34: =SUM(T3:T33) -> 0 | U34: =SUM(U3:U33) -> 0 | W34: =SUM(W3:W33) -> 0 | X34: =SUM(X3:X33) -> 0 | Y34: =SUM(Y3:Y33) -> 0 | Z34: =SUM(Z3:Z33) -> 0 | AA34: =SUM(AA3:AA33) -> 0 | AB34: =SUM(AB3:AB33) -> 0 | AC34: =SUM(AC3:AC33) -> 0 | AD34: =SUM(AD3:AD33) -> 0 | ... AG34: =SUM(AG3:AG33) -> 0

Sheet calls
C1: Erick | D1: Patryk | E1: Adam | F1: Klaudia | G1: Guy
B2: 42217
B3: 42218
A4: Week 32 | B4: 42219 | C4: ='perf. general'!C5 -> 0 | D4: ='perf. general'!I5 -> 0 | E4: ='perf. general'!O5 -> 0 | F4: ='perf. general'!U5 -> 0 | G4: ='perf. general'!AB5 -> 0
B5: 42220 | C5: ='perf. general'!C6 -> 0 | D5: ='perf. general'!I6 -> 0 | E5: ='perf. general'!O6 -> 0 | F5: ='perf. general'!U6 -> 0 | G5: ='perf. general'!AB6 -> 0
B6: 42221 | C6: ='perf. general'!C7 -> 0 | D6: ='perf. general'!I7 -> 0 | E6: ='perf. general'!O7 -> 0 | F6: ='perf. general'!U7 -> 0 | G6: ='perf. general'!AB7 -> 0
B7: 42222 | C7: ='perf. general'!C8 -> 0 | D7: ='perf. general'!I8 -> 0 | E7: ='perf. general'!O8 -> 0 | F7: ='perf. general'!U8 -> 0 | G7: ='perf. general'!AB8 -> 0
B8: 42223 | C8: ='perf. general'!C9 -> 0 | D8: ='perf. general'!I9 -> 0 | E8: ='perf. general'!O9 -> 0 | F8: ='perf. general'!U9 -> 0 | G8: ='perf. general'!AB9 -> 0
B9: 42224
B10: 42225
A11: Week 33 | B11: 42226 | C11: ='perf. general'!C12 -> 0 | D11: ='perf. general'!I12 -> 0 | E11: ='perf. general'!O12 -> 0 | F11: ='perf. general'!U12 -> 0 | G11: ='perf. general'!AB12 -> 0
B12: 42227 | C12: ='perf. general'!C13 -> 0 | D12: ='perf. general'!I13 -> 0 | E12: ='perf. general'!O13 -> 0 | F12: ='perf. general'!U13 -> 0 | G12: ='perf. general'!AB13 -> 0
B13: 42228 | C13: ='perf. general'!C14 -> 0 | D13: ='perf. general'!I14 -> 0 | E13: ='perf. general'!O14 -> 0 | F13: ='perf. general'!U14 -> 0 | G13: ='perf. general'!AB14 -> 0
B14: 42229 | C14: ='perf. general'!C15 -> 0 | D14: ='perf. general'!I15 -> 0 | E14: ='perf. general'!O15 -> 0 | F14: ='perf. general'!U15 -> 0 | G14: ='perf. general'!AB15 -> 0
B15: 42230 | C15: ='perf. general'!C16 -> 0 | D15: ='perf. general'!I16 -> 0 | E15: ='perf. general'!O16 -> 0 | F15: ='perf. general'!U16 -> 0 | G15: ='perf. general'!AB16 -> 0
B16: 42231
B17: 42232
A18: Week 34 | B18: 42233 | C18: ='perf. general'!C19 -> 0 | D18: ='perf. general'!I19 -> 0 | E18: ='perf. general'!O19 -> 0 | F18: ='perf. general'!U19 -> 0 | G18: ='perf. general'!AB19 -> 0
B19: 42234 | C19: ='perf. general'!C20 -> 0 | D19: ='perf. general'!I20 -> 0 | E19: ='perf. general'!O20 -> 0 | F19: ='perf. general'!U20 -> 0 | G19: ='perf. general'!AB20 -> 0
B20: 42235 | C20: ='perf. general'!C21 -> 0 | D20: ='perf. general'!I21 -> 0 | E20: ='perf. general'!O21 -> 0 | F20: ='perf. general'!U21 -> 0 | G20: ='perf. general'!AB21 -> 0
B21: 42236 | C21: ='perf. general'!C22 -> 0 | D21: ='perf. general'!I22 -> 0 | E21: ='perf. general'!O22 -> 0 | F21: ='perf. general'!U22 -> 0 | G21: ='perf. general'!AB22 -> 0
B22: 42237 | C22: ='perf. general'!C23 -> 0 | D22: ='perf. general'!I23 -> 0 | E22: ='perf. general'!O23 -> 0 | F22: ='perf. general'!U23 -> 0 | G22: ='perf. general'!AB23 -> 0
B23: 42238
B24: 42239
A25: Week 35 | B25: 42240 | C25: ='perf. general'!C26 -> 0 | D25: ='perf. general'!I26 -> 0 | E25: ='perf. general'!O26 -> 0 | F25: ='perf. general'!U26 -> 0 | G25: ='perf. general'!AB26 -> 0
B26: 42241 | C26: ='perf. general'!C27 -> 0 | D26: ='perf. general'!I27 -> 0 | E26: ='perf. general'!O27 -> 0 | F26: ='perf. general'!U27 -> 0 | G26: ='perf. general'!AB27 -> 0
B27: 42242 | C27: ='perf. general'!C28 -> 0 | D27: ='perf. general'!I28 -> 0 | E27: ='perf. general'!O28 -> 0 | F27: ='perf. general'!U28 -> 0 | G27: ='perf. general'!AB28 -> 0
B28: 42243 | C28: ='perf. general'!C29 -> 0 | D28: ='perf. general'!I29 -> 0 | E28: ='perf. general'!O29 -> 0 | F28: ='perf. general'!U29 -> 0 | G28: ='perf. general'!AB29 -> 0
B29: 42244 | C29: ='perf. general'!C30 -> 0 | D29: ='perf. general'!I30 -> 0 | E29: ='perf. general'!O30 -> 0 | F29: ='perf. general'!U30 -> 0 | G29: ='perf. general'!AB30 -> 0
B30: 42245
B31: 42246
B32: 42247 | C32: ='perf. general'!C33 -> 0 | D32: ='perf. general'!I33 -> 0 | E32: ='perf. general'!O33 -> 0 | F32: ='perf. general'!U33 -> 0 | G32: ='perf. general'!AB33 -> 0
B33: Total | C33: =SUM(C2:C32) -> 0 | D33: =SUM(D2:D32) -> 0 | E33: =SUM(E2:E32) -> 0 | F33: =SUM(F2:F32) -> 0 | G33: =SUM(G2:G32) -> 0

Sheet talk time
C1: Erick | D1: Patryk | E1: Adam | F1: Klaudia | G1: Guy
B2: 42217
B3: 42218
A4: Week 32 | B4: 42219 | C4: ='perf. general'!D5 -> 0 | D4: ='perf. general'!J5 -> 0 | E4: ='perf. general'!P5 -> 0 | F4: ='perf. general'!W5 -> 0 | G4: ='perf. general'!AC5 -> 0
B5: 42220 | C5: ='perf. general'!D6 -> 0 | D5: ='perf. general'!J6 -> 0 | E5: ='perf. general'!P6 -> 0 | F5: ='perf. general'!W6 -> 0 | G5: ='perf. general'!AC6 -> 0
B6: 42221 | C6: ='perf. general'!D7 -> 0 | D6: ='perf. general'!J7 -> 0 | E6: ='perf. general'!P7 -> 0 | F6: ='perf. general'!W7 -> 0 | G6: ='perf. general'!AC7 -> 0
B7: 42222 | C7: ='perf. general'!D8 -> 0 | D7: ='perf. general'!J8 -> 0 | E7: ='perf. general'!P8 -> 0 | F7: ='perf. general'!W8 -> 0 | G7: ='perf. general'!AC8 -> 0
B8: 42223 | C8: ='perf. general'!D9 -> 0 | D8: ='perf. general'!J9 -> 0 | E8: ='perf. general'!P9 -> 0 | F8: ='perf. general'!W9 -> 0 | G8: ='perf. general'!AC9 -> 0
B9: 42224
B10: 42225
A11: Week 33 | B11: 42226 | C11: ='perf. general'!D12 -> 0 | D11: ='perf. general'!J12 -> 0 | E11: ='perf. general'!P12 -> 0 | F11: ='perf. general'!W12 -> 0 | G11: ='perf. general'!AC12 -> 0
B12: 42227 | C12: ='perf. general'!D13 -> 0 | D12: ='perf. general'!J13 -> 0 | E12: ='perf. general'!P13 -> 0 | F12: ='perf. general'!W13 -> 0 | G12: ='perf. general'!AC13 -> 0
B13: 42228 | C13: ='perf. general'!D14 -> 0 | D13: ='perf. general'!J14 -> 0 | E13: ='perf. general'!P14 -> 0 | F13: ='perf. general'!W14 -> 0 | G13: ='perf. general'!AC14 -> 0
B14: 42229 | C14: ='perf. general'!D15 -> 0 | D14: ='perf. general'!J15 -> 0 | E14: ='perf. general'!P15 -> 0 | F14: ='perf. general'!W15 -> 0 | G14: ='perf. general'!AC15 -> 0
B15: 42230 | C15: ='perf. general'!D16 -> 0 | D15: ='perf. general'!J16 -> 0 | E15: ='perf. general'!P16 -> 0 | F15: ='perf. general'!W16 -> 0 | G15: ='perf. general'!AC16 -> 0
B16: 42231
B17: 42232
A18: Week 34 | B18: 42233 | C18: ='perf. general'!D19 -> 0 | D18: ='perf. general'!J19 -> 0 | E18: ='perf. general'!P19 -> 0 | F18: ='perf. general'!W19 -> 0 | G18: ='perf. general'!AC19 -> 0
B19: 42234 | C19: ='perf. general'!D20 -> 0 | D19: ='perf. general'!J20 -> 0 | E19: ='perf. general'!P20 -> 0 | F19: ='perf. general'!W20 -> 0 | G19: ='perf. general'!AC20 -> 0
B20: 42235 | C20: ='perf. general'!D21 -> 0 | D20: ='perf. general'!J21 -> 0 | E20: ='perf. general'!P21 -> 0 | F20: ='perf. general'!W21 -> 0 | G20: ='perf. general'!AC21 -> 0
B21: 42236 | C21: ='perf. general'!D22 -> 0 | D21: ='perf. general'!J22 -> 0 | E21: ='perf. general'!P22 -> 0 | F21: ='perf. general'!W22 -> 0 | G21: ='perf. general'!AC22 -> 0
B22: 42237 | C22: ='perf. general'!D23 -> 0 | D22: ='perf. general'!J23 -> 0 | E22: ='perf. general'!P23 -> 0 | F22: ='perf. general'!W23 -> 0 | G22: ='perf. general'!AC23 -> 0
B23: 42238
B24: 42239
A25: Week 35 | B25: 42240 | C25: ='perf. general'!D26 -> 0 | D25: ='perf. general'!J26 -> 0 | E25: ='perf. general'!P26 -> 0 | F25: ='perf. general'!W26 -> 0 | G25: ='perf. general'!AC26 -> 0
B26: 42241 | C26: ='perf. general'!D27 -> 0 | D26: ='perf. general'!J27 -> 0 | E26: ='perf. general'!P27 -> 0 | F26: ='perf. general'!W27 -> 0 | G26: ='perf. general'!AC27 -> 0
B27: 42242 | C27: ='perf. general'!D28 -> 0 | D27: ='perf. general'!J28 -> 0 | E27: ='perf. general'!P28 -> 0 | F27: ='perf. general'!W28 -> 0 | G27: ='perf. general'!AC28 -> 0
B28: 42243 | C28: ='perf. general'!D29 -> 0 | D28: ='perf. general'!J29 -> 0 | E28: ='perf. general'!P29 -> 0 | F28: ='perf. general'!W29 -> 0 | G28: ='perf. general'!AC29 -> 0
B29: 42244 | C29: ='perf. general'!D30 -> 0 | D29: ='perf. general'!J30 -> 0 | E29: ='perf. general'!P30 -> 0 | F29: ='perf. general'!W30 -> 0 | G29: ='perf. general'!AC30 -> 0
B30: 42245
B31: 42246
B32: 42247 | C32: ='perf. general'!D33 -> 0 | D32: ='perf. general'!J33 -> 0 | E32: ='perf. general'!P33 -> 0 | F32: ='perf. general'!W33 -> 0 | G32: ='perf. general'!AC33 -> 0
B33: Total | C33: =SUM(C2:C32) -> 0 | D33: =SUM(D2:D32) -> 0 | E33: =SUM(E2:E32) -> 0 | F33: =SUM(F2:F32) -> 0 | G33: =SUM(G2:G32) -> 0

Sheet Performances
C2: Erick | K2: Patryk | S2: Adam | AA2: Klaudia | AH2: Guy
C3: Logged-in | D3: Logged-out | E3: Total time | F3: AHT | G3: Time on break | H3: Time on dead | I3: Number of calls | J3: Number of call /1h | K3: Logged-in | L3: Logged-out | M3: Total time | N3: AHT | O3: Time on break | P3: Time on dead | Q3: Number of calls | R3: Number of call /1h | S3: Logged-in | T3: Logged-out | U3: Total time | V3: AHT | W3: Time on break | X3: Time on dead | Y3: Number of calls | Z3: Number of call /1h | AA3: Logged-in | AB3: Logged-out | AC3: AHT | AD3: Time on break | AE3: Time on dead | AF3: Number of calls | AG3: Number of call /1h | AH3: Logged-in | AI3: Logged-out | AJ3: Total time | AK3: AHT | AL3: Time on break | AM3: Time on dead | AN3: Number of calls | AO3: Number of call /1h
B4: 42217
B5: 42218
A6: Week 32 | B6: 42219 | F6: =SUM('perf. general'!D5,'perf. general'!E5) -> 0 | G6: =('perf. general'!F5) -> 0 | I6: =calls!C4 -> 0 | N6: =SUM('perf. general'!J5,'perf. general'!K5) -> 0 | O6: ='perf. general'!L5 -> 0 | Q6: =calls!D4 -> 0 | V6: =SUM('perf. general'!P5,'perf. general'!Q5) -> 0 | W6: =('perf. general'!R5) -> 0 | Y6: =(calls!E4) -> 0 | AC6: =SUM('perf. general'!V5,'perf. general'!W5) -> 0 | AD6: =('perf. general'!X5) -> 0 | AF6: =(calls!F4) -> 0 | AK6: =SUM('perf. general'!AC5,'perf. general'!AD5) -> 0 | AL6: =('perf. general'!AE5) -> 0 | AN6: =(calls!G4) -> 0
B7: 42220 | F7: =SUM('perf. general'!D6,'perf. general'!E6) -> 0 | G7: =('perf. general'!F6) -> 0 | I7: =calls!C5 -> 0 | N7: =SUM('perf. general'!J6,'perf. general'!K6) -> 0 | O7: ='perf. general'!L6 -> 0 | Q7: =calls!D5 -> 0 | V7: =SUM('perf. general'!P6,'perf. general'!Q6) -> 0 | W7: =('perf. general'!R6) -> 0 | Y7: =(calls!E5) -> 0 | AC7: =SUM('perf. general'!V6,'perf. general'!W6) -> 0 | AD7: =('perf. general'!X6) -> 0 | AF7: =(calls!F5) -> 0 | AK7: =SUM('perf. general'!AC6,'perf. general'!AD6) -> 0 | AL7: =('perf. general'!AE6) -> 0 | AN7: =(calls!G5) -> 0
B8: 42221 | F8: =SUM('perf. general'!D7,'perf. general'!E7) -> 0 | G8: =('perf. general'!F7) -> 0 | I8: =calls!C6 -> 0 | N8: =SUM('perf. general'!J7,'perf. general'!K7) -> 0 | O8: ='perf. general'!L7 -> 0 | Q8: =calls!D6 -> 0 | V8: =SUM('perf. general'!P7,'perf. general'!Q7) -> 0 | W8: =('perf. general'!R7) -> 0 | Y8: =(calls!E6) -> 0 | AC8: =SUM('perf. general'!V7,'perf. general'!W7) -> 0 | AD8: =('perf. general'!X7) -> 0 | AF8: =(calls!F6) -> 0 | AK8: =SUM('perf. general'!AC7,'perf. general'!AD7) -> 0 | AL8: =('perf. general'!AE7) -> 0 | AN8: =(calls!G6) -> 0
B9: 42222 | F9: =SUM('perf. general'!D8,'perf. general'!E8) -> 0 | G9: =('perf. general'!F8) -> 0 | I9: =calls!C7 -> 0 | N9: =SUM('perf. general'!J8,'perf. general'!K8) -> 0 | O9: ='perf. general'!L8 -> 0 | Q9: =calls!D7 -> 0 | V9: =SUM('perf. general'!P8,'perf. general'!Q8) -> 0 | W9: =('perf. general'!R8) -> 0 | Y9: =(calls!E7) -> 0 | AC9: =SUM('perf. general'!V8,'perf. general'!W8) -> 0 | AD9: =('perf. general'!X8) -> 0 | AF9: =(calls!F7) -> 0 | AK9: =SUM('perf. general'!AC8,'perf. general'!AD8) -> 0 | AL9: =('perf. general'!AE8) -> 0 | AN9: =(calls!G7) -> 0
B10: 42223 | F10: =SUM('perf. general'!D9,'perf. general'!E9) -> 0 | G10: =('perf. general'!F9) -> 0 | I10: =calls!C8 -> 0 | N10: =SUM('perf. general'!J9,'perf. general'!K9) -> 0 | O10: ='perf. general'!L9 -> 0 | Q10: =calls!D8 -> 0 | V10: =SUM('perf. general'!P9,'perf. general'!Q9) -> 0 | W10: =('perf. general'!R9) -> 0 | Y10: =(calls!E8) -> 0 | AC10: =SUM('perf. general'!V9,'perf. general'!W9) -> 0 | AD10: =('perf. general'!X9) -> 0 | AF10: =(calls!F8) -> 0 | AK10: =SUM('perf. general'!AC9,'perf. general'!AD9) -> 0 | AL10: =('perf. general'!AE9) -> 0 | AN10: =(calls!G8) -> 0
B11: 42224
B12: 42225
A13: Week 33 | B13: 42226 | F13: =SUM('perf. general'!D12,'perf. general'!E12) -> 0 | G13: =('perf. general'!F12) -> 0 | I13: =calls!C11 -> 0 | N13: =SUM('perf. general'!J12,'perf. general'!K12) -> 0 | O13: ='perf. general'!L12 -> 0 | Q13: =calls!D11 -> 0 | V13: =SUM('perf. general'!P12,'perf. general'!Q12) -> 0 | W13: =('perf. general'!R12) -> 0 | Y13: =(calls!E11) -> 0 | AC13: =SUM('perf. general'!V12,'perf. general'!W12) -> 0 | AD13: =('perf. general'!X12) -> 0 | AF13: =(calls!F11) -> 0 | AK13: =SUM('perf. general'!AC12,'perf. general'!AD12) -> 0 | AL13: =('perf. general'!AE12) -> 0 | AN13: =(calls!G11) -> 0
B14: 42227 | F14: =SUM('perf. general'!D13,'perf. general'!E13) -> 0 | G14: =('perf. general'!F13) -> 0 | I14: =calls!C12 -> 0 | N14: =SUM('perf. general'!J13,'perf. general'!K13) -> 0 | O14: ='perf. general'!L13 -> 0 | Q14: =calls!D12 -> 0 | V14: =SUM('perf. general'!P13,'perf. general'!Q13) -> 0 | W14: =('perf. general'!R13) -> 0 | Y14: =(calls!E12) -> 0 | AC14: =SUM('perf. general'!V13,'perf. general'!W13) -> 0 | AD14: =('perf. general'!X13) -> 0 | AF14: =(calls!F12) -> 0 | AK14: =SUM('perf. general'!AC13,'perf. general'!AD13) -> 0 | AL14: =('perf. general'!AE13) -> 0 | AN14: =(calls!G12) -> 0
B15: 42228 | F15: =SUM('perf. general'!D14,'perf. general'!E14) -> 0 | G15: =('perf. general'!F14) -> 0 | I15: =calls!C13 -> 0 | N15: =SUM('perf. general'!J14,'perf. general'!K14) -> 0 | O15: ='perf. general'!L14 -> 0 | Q15: =calls!D13 -> 0 | V15: =SUM('perf. general'!P14,'perf. general'!Q14) -> 0 | W15: =('perf. general'!R14) -> 0 | Y15: =(calls!E13) -> 0 | AC15: =SUM('perf. general'!V14,'perf. general'!W14) -> 0 | AD15: =('perf. general'!X14) -> 0 | AF15: =(calls!F13) -> 0 | AK15: =SUM('perf. general'!AC14,'perf. general'!AD14) -> 0 | AL15: =('perf. general'!AE14) -> 0 | AN15: =(calls!G13) -> 0
B16: 42229 | F16: =SUM('perf. general'!D15,'perf. general'!E15) -> 0 | G16: =('perf. general'!F15) -> 0 | I16: =calls!C14 -> 0 | N16: =SUM('perf. general'!J15,'perf. general'!K15) -> 0 | O16: ='perf. general'!L15 -> 0 | Q16: =calls!D14 -> 0 | V16: =SUM('perf. general'!P15,'perf. general'!Q15) -> 0 | W16: =('perf. general'!R15) -> 0 | Y16: =(calls!E14) -> 0 | AC16: =SUM('perf. general'!V15,'perf. general'!W15) -> 0 | AD16: =('perf. general'!X15) -> 0 | AF16: =(calls!F14) -> 0 | AK16: =SUM('perf. general'!AC15,'perf. general'!AD15) -> 0 | AL16: =('perf. general'!AE15) -> 0 | AN16: =(calls!G14) -> 0
B17: 42230 | F17: =SUM('perf. general'!D16,'perf. general'!E16) -> 0 | G17: =('perf. general'!F16) -> 0 | I17: =calls!C15 -> 0 | N17: =SUM('perf. general'!J16,'perf. general'!K16) -> 0 | O17: ='perf. general'!L16 -> 0 | Q17: =calls!D15 -> 0 | V17: =SUM('perf. general'!P16,'perf. general'!Q16) -> 0 | W17: =('perf. general'!R16) -> 0 | Y17: =(calls!E15) -> 0 | AC17: =SUM('perf. general'!V16,'perf. general'!W16) -> 0 | AD17: =('perf. general'!X16) -> 0 | AF17: =(calls!F15) -> 0 | AK17: =SUM('perf. general'!AC16,'perf. general'!AD16) -> 0 | AL17: =('perf. general'!AE16) -> 0 | AN17: =(calls!G15) -> 0
B18: 42231
B19: 42232
A20: Week 34 | B20: 42233 | F20: =SUM('perf. general'!D19,'perf. general'!E19) -> 0 | G20: =('perf. general'!F19) -> 0 | I20: =calls!C18 -> 0 | N20: =SUM('perf. general'!J19,'perf. general'!K19) -> 0 | O20: ='perf. general'!L19 -> 0 | Q20: =calls!D18 -> 0 | V20: =SUM('perf. general'!P19,'perf. general'!Q19) -> 0 | W20: =('perf. general'!R19) -> 0 | Y20: =(calls!E18) -> 0 | AC20: =SUM('perf. general'!V19,'perf. general'!W19) -> 0 | AD20: =('perf. general'!X19) -> 0 | AF20: =(calls!F18) -> 0 | AK20: =SUM('perf. general'!AC19,'perf. general'!AD19) -> 0 | AL20: =('perf. general'!AE19) -> 0 | AN20: =(calls!G18) -> 0
B21: 42234 | F21: =SUM('perf. general'!D20,'perf. general'!E20) -> 0 | G21: =('perf. general'!F20) -> 0 | I21: =calls!C19 -> 0 | N21: =SUM('perf. general'!J20,'perf. general'!K20) -> 0 | O21: ='perf. general'!L20 -> 0 | Q21: =calls!D19 -> 0 | V21: =SUM('perf. general'!P20,'perf. general'!Q20) -> 0 | W21: =('perf. general'!R20) -> 0 | Y21: =(calls!E19) -> 0 | AC21: =SUM('perf. general'!V20,'perf. general'!W20) -> 0 | AD21: =('perf. general'!X20) -> 0 | AF21: =(calls!F19) -> 0 | AK21: =SUM('perf. general'!AC20,'perf. general'!AD20) -> 0 | AL21: =('perf. general'!AE20) -> 0 | AN21: =(calls!G19) -> 0
B22: 42235 | F22: =SUM('perf. general'!D21,'perf. general'!E21) -> 0 | G22: =('perf. general'!F21) -> 0 | I22: =calls!C20 -> 0 | N22: =SUM('perf. general'!J21,'perf. general'!K21) -> 0 | O22: ='perf. general'!L21 -> 0 | Q22: =calls!D20 -> 0 | V22: =SUM('perf. general'!P21,'perf. general'!Q21) -> 0 | W22: =('perf. general'!R21) -> 0 | Y22: =(calls!E20) -> 0 | AC22: =SUM('perf. general'!V21,'perf. general'!W21) -> 0 | AD22: =('perf. general'!X21) -> 0 | AF22: =(calls!F20) -> 0 | AK22: =SUM('perf. general'!AC21,'perf. general'!AD21) -> 0 | AL22: =('perf. general'!AE21) -> 0 | AN22: =(calls!G20) -> 0
B23: 42236 | F23: =SUM('perf. general'!D22,'perf. general'!E22) -> 0 | G23: =('perf. general'!F22) -> 0 | I23: =calls!C21 -> 0 | N23: =SUM('perf. general'!J22,'perf. general'!K22) -> 0 | O23: ='perf. general'!L22 -> 0 | Q23: =calls!D21 -> 0 | V23: =SUM('perf. general'!P22,'perf. general'!Q22) -> 0 | W23: =('perf. general'!R22) -> 0 | Y23: =(calls!E21) -> 0 | AC23: =SUM('perf. general'!V22,'perf. general'!W22) -> 0 | AD23: =('perf. general'!X22) -> 0 | AF23: =(calls!F21) -> 0 | AK23: =SUM('perf. general'!AC22,'perf. general'!AD22) -> 0 | AL23: =('perf. general'!AE22) -> 0 | AN23: =(calls!G21) -> 0
B24: 42237 | F24: =SUM('perf. general'!D23,'perf. general'!E23) -> 0 | G24: =('perf. general'!F23) -> 0 | I24: =calls!C22 -> 0 | N24: =SUM('perf. general'!J23,'perf. general'!K23) -> 0 | O24: ='perf. general'!L23 -> 0 | Q24: =calls!D22 -> 0 | V24: =SUM('perf. general'!P23,'perf. general'!Q23) -> 0 | W24: =('perf. general'!R23) -> 0 | Y24: =(calls!E22) -> 0 | AC24: =SUM('perf. general'!V23,'perf. general'!W23) -> 0 | AD24: =('perf. general'!X23) -> 0 | AF24: =(calls!F22) -> 0 | AK24: =SUM('perf. general'!AC23,'perf. general'!AD23) -> 0 | AL24: =('perf. general'!AE23) -> 0 | AN24: =(calls!G22) -> 0
B25: 42238
B26: 42239
A27: Week 35 | B27: 42240 | F27: =SUM('perf. general'!D26,'perf. general'!E26) -> 0 | G27: =('perf. general'!F26) -> 0 | I27: =calls!C25 -> 0 | N27: =SUM('perf. general'!J26,'perf. general'!K26) -> 0 | O27: ='perf. general'!L26 -> 0 | Q27: =calls!D25 -> 0 | V27: =SUM('perf. general'!P26,'perf. general'!Q26) -> 0 | W27: =('perf. general'!R26) -> 0 | Y27: =(calls!E25) -> 0 | AC27: =SUM('perf. general'!V26,'perf. general'!W26) -> 0 | AD27: =('perf. general'!X26) -> 0 | AF27: =(calls!F25) -> 0 | AK27: =SUM('perf. general'!AC26,'perf. general'!AD26) -> 0 | AL27: =('perf. general'!AE26) -> 0 | AN27: =(calls!G25) -> 0
B28: 42241 | F28: =SUM('perf. general'!D27,'perf. general'!E27) -> 0 | G28: =('perf. general'!F27) -> 0 | I28: =calls!C26 -> 0 | N28: =SUM('perf. general'!J27,'perf. general'!K27) -> 0 | O28: ='perf. general'!L27 -> 0 | Q28: =calls!D26 -> 0 | V28: =SUM('perf. general'!P27,'perf. general'!Q27) -> 0 | W28: =('perf. general'!R27) -> 0 | Y28: =(calls!E26) -> 0 | AC28: =SUM('perf. general'!V27,'perf. general'!W27) -> 0 | AD28: =('perf. general'!X27) -> 0 | AF28: =(calls!F26) -> 0 | AK28: =SUM('perf. general'!AC27,'perf. general'!AD27) -> 0 | AL28: =('perf. general'!AE27) -> 0 | AN28: =(calls!G26) -> 0
B29: 42242 | F29: =SUM('perf. general'!D28,'perf. general'!E28) -> 0 | G29: =('perf. general'!F28) -> 0 | I29: =calls!C27 -> 0 | N29: =SUM('perf. general'!J28,'perf. general'!K28) -> 0 | O29: ='perf. general'!L28 -> 0 | Q29: =calls!D27 -> 0 | V29: =SUM('perf. general'!P28,'perf. general'!Q28) -> 0 | W29: =('perf. general'!R28) -> 0 | Y29: =(calls!E27) -> 0 | AC29: =SUM('perf. general'!V28,'perf. general'!W28) -> 0 | AD29: =('perf. general'!X28) -> 0 | AF29: =(calls!F27) -> 0 | AK29: =SUM('perf. general'!AC28,'perf. general'!AD28) -> 0 | AL29: =('perf. general'!AE28) -> 0 | AN29: =(calls!G27) -> 0
B30: 42243 | F30: =SUM('perf. general'!D29,'perf. general'!E29) -> 0 | G30: =('perf. general'!F29) -> 0 | I30: =calls!C28 -> 0 | N30: =SUM('perf. general'!J29,'perf. general'!K29) -> 0 | O30: ='perf. general'!L29 -> 0 | Q30: =calls!D28 -> 0 | V30: =SUM('perf. general'!P29,'perf. general'!Q29) -> 0 | W30: =('perf. general'!R29) -> 0 | Y30: =(calls!E28) -> 0 | AC30: =SUM('perf. general'!V29,'perf. general'!W29) -> 0 | AD30: =('perf. general'!X29) -> 0 | AF30: =(calls!F28) -> 0 | AK30: =SUM('perf. general'!AC29,'perf. general'!AD29) -> 0 | AL30: =('perf. general'!AE29) -> 0 | AN30: =(calls!G28) -> 0
B31: 42244 | F31: =SUM('perf. general'!D30,'perf. general'!E30) -> 0 | G31: =('perf. general'!F30) -> 0 | I31: =calls!C29 -> 0 | N31: =SUM('perf. general'!J30,'perf. general'!K30) -> 0 | O31: ='perf. general'!L30 -> 0 | Q31: =calls!D29 -> 0 | V31: =SUM('perf. general'!P30,'perf. general'!Q30) -> 0 | W31: =('perf. general'!R30) -> 0 | Y31: =(calls!E29) -> 0 | AC31: =SUM('perf. general'!V30,'perf. general'!W30) -> 0 | AD31: =('perf. general'!X30) -> 0 | AF31: =(calls!F29) -> 0 | AK31: =SUM('perf. general'!AC30,'perf. general'!AD30) -> 0 | AL31: =('perf. general'!AE30) -> 0 | AN31: =(calls!G29) -> 0
B32: 42245
B33: 42246
B34: 42247 | F34: =SUM('perf. general'!D33,'perf. general'!E33) -> 0 | G34: =('perf. general'!F33) -> 0 | I34: =calls!C32 -> 0 | N34: =SUM('perf. general'!J33,'perf. general'!K33) -> 0 | O34: ='perf. general'!L33 -> 0 | Q34: =calls!D32 -> 0 | V34: =SUM('perf. general'!P33,'perf. general'!Q33) -> 0 | W34: =('perf. general'!R33) -> 0 | Y34: =(calls!E32) -> 0 | AC34: =SUM('perf. general'!V33,'perf. general'!W33) -> 0 | AD34: =('perf. general'!X33) -> 0 | AF34: =(calls!F32) -> 0 | AK34: =SUM('perf. general'!AC33,'perf. general'!AD33) -> 0 | AL34: =('perf. general'!AE33) -> 0 | AN34: =(calls!G32) -> 0
