Workbook

Sheet inventaire
C1: PRODUIT (MELANGE)
A2: n° | B2: produit | C2: fabricant | D2: fourniseur | E2: conso /an | H2: picto | J2: phrases de risques | K2: CMR
A3: 1 | B3: produit 1 | C3: fab 1 | D3: fournisseur 1 | E3: 30 | F3: L/an | G3: D | H3: C | I3: T | J3: H205 | K3: C3
A4: 2 | B4: produit 2 | C4: fab 2 | D4: fournisseur 2 | E4: 50 | F4: Kg/an | G4: F | H4: P | J4: H300, H354 | K4: M1
A5: 3 | B5: produit 3 | C5: fab 3 | D5: fournisseur 3 | E5: 200 | F5: m3/an
A6: 4 | B6: produit 4 | C6: fab 4 | D6: fournisseur 4 | E6: 150 | F6: L/an
A7: 5 | B7: produit 5 | C7: fab 5 | D7: fournisseur 5 | E7: 0 | F7: L/an
A8: 6 | B8: produit 6 | C8: fab 6 | D8: fournisseur 6 | E8: 20 | F8: L/an
A9: 7 | B9: produit 7 | C9: fab 7 | D9: fournisseur 7 | E9: 20 | F9: L/an
A10: 8 | B10: produit 8 | C10: fab 8 | D10: fournisseur 8 | E10: 20 | F10: L/an
A11: 9 | B11: produit 9 | C11: fab 9 | D11: fournisseur 9 | E11: 20 | F11: L/an
A12: 10 | B12: produit 10 | C12: fab 10 | D12: fournisseur 10 | E12: 20 | F12: L/an
E15: cet onglet est normalement un excel réalisé par un collègue avec des macros etc.

Sheet avec substances
C1: PRODUIT (MELANGE) | O1: SUBSTANCES
A2: n° | B2: produit | C2: fabricant | D2: fourniseur | E2: conso /an | H2: picto | J2: phrases de risques | K2: CMR | L2: R42 | M2: R43 | N2: CMR | O2: détails
A3: =inventaire!A3 -> 1 | B3: =inventaire!B3 -> produit 1 | C3: =inventaire!C3 -> fab 1 | D3: =inventaire!D3 -> fournisseur 1 | E3: =inventaire!E3 -> 30 | F3: =inventaire!F3 -> L/an | G3: =inventaire!G3 -> D | H3: =inventaire!H3 -> C | ... K3: =inventaire!K3 -> C3 | L3: x | M3: x
A4: =inventaire!A4 -> 2 | B4: =inventaire!B4 -> produit 2 | C4: =inventaire!C4 -> fab 2 | D4: =inventaire!D4 -> fournisseur 2 | E4: =inventaire!E4 -> 50 | F4: =inventaire!F4 -> Kg/an | G4: =inventaire!G4 -> F | H4: =inventaire!H4 -> P | ... K4: =inventaire!K4 -> M1
A5: =inventaire!A5 -> 3 | B5: =inventaire!B5 -> produit 3 | C5: =inventaire!C5 -> fab 3 | D5: =inventaire!D5 -> fournisseur 3 | E5: =inventaire!E5 -> 200 | F5: =inventaire!F5 -> m3/an | G5: =inventaire!G5 -> 0 | H5: =inventaire!H5 -> 0 | ... K5: =inventaire!K5 -> 0
A6: =inventaire!A6 -> 4 | B6: =inventaire!B6 -> produit 4 | C6: =inventaire!C6 -> fab 4 | D6: =inventaire!D6 -> fournisseur 4 | E6: =inventaire!E6 -> 150 | F6: =inventaire!F6 -> L/an | G6: =inventaire!G6 -> 0 | H6: =inventaire!H6 -> 0 | ... K6: =inventaire!K6 -> 0
A7: =inventaire!A7 -> 5 | B7: =inventaire!B7 -> produit 5 | C7: =inventaire!C7 -> fab 5 | D7: =inventaire!D7 -> fournisseur 5 | E7: =inventaire!E7 -> 0 | F7: =inventaire!F7 -> L/an | G7: =inventaire!G7 -> 0 | H7: =inventaire!H7 -> 0 | ... K7: =inventaire!K7 -> 0
A8: =inventaire!A8 -> 6 | B8: =inventaire!B8 -> produit 6 | C8: =inventaire!C8 -> fab 6 | D8: =inventaire!D8 -> fournisseur 6 | E8: =inventaire!E8 -> 20 | F8: =inventaire!F8 -> L/an | G8: =inventaire!G8 -> 0 | H8: =inventaire!H8 -> 0 | ... K8: =inventaire!K8 -> 0
A9: =inventaire!A9 -> 7 | B9: =inventaire!B9 -> produit 7 | C9: =inventaire!C9 -> fab 7 | D9: =inventaire!D9 -> fournisseur 7 | E9: =inventaire!E9 -> 20 | F9: =inventaire!F9 -> L/an | G9: =inventaire!G9 -> 0 | H9: =inventaire!H9 -> 0 | ... K9: =inventaire!K9 -> 0
A10: =inventaire!A10 -> 8 | B10: =inventaire!B10 -> produit 8 | C10: =inventaire!C10 -> fab 8 | D10: =inventaire!D10 -> fournisseur 8 | E10: =inventaire!E10 -> 20 | F10: =inventaire!F10 -> L/an | G10: =inventaire!G10 -> 0 | H10: =inventaire!H10 -> 0 | ... K10: =inventaire!K10 -> 0
A11: =inventaire!A11 -> 9 | B11: =inventaire!B11 -> produit 9 | C11: =inventaire!C11 -> fab 9 | D11: =inventaire!D11 -> fournisseur 9 | E11: =inventaire!E11 -> 20 | F11: =inventaire!F11 -> L/an | G11: =inventaire!G11 -> 0 | H11: =inventaire!H11 -> 0 | ... K11: =inventaire!K11 -> 0
A12: =inventaire!A12 -> 10 | B12: =inventaire!B12 -> produit 10 | C12: =inventaire!C12 -> fab 10 | D12: =inventaire!D12 -> fournisseur 10 | E12: =inventaire!E12 -> 20 | F12: =inventaire!F12 -> L/an | G12: =inventaire!G12 -> 0 | H12: =inventaire!H12 -> 0 | ... K12: =inventaire!K12 -> 0
A13: =inventaire!A13 -> 0 | B13: =inventaire!B13 -> 0 | C13: =inventaire!C13 -> 0 | D13: =inventaire!D13 -> 0 | E13: =inventaire!E13 -> 0 | F13: =inventaire!F13 -> 0 | G13: =inventaire!G13 -> 0 | H13: =inventaire!H13 -> 0 | ... K13: =inventaire!K13 -> 0
A14: =inventaire!A14 -> 0 | B14: =inventaire!B14 -> 0 | C14: =inventaire!C14 -> 0 | D14: =inventaire!D14 -> 0 | E14: =inventaire!E14 -> 0 | F14: =inventaire!F14 -> 0 | G14: =inventaire!G14 -> 0 | H14: =inventaire!H14 -> 0 | ... K14: =inventaire!K14 -> 0
A15: =inventaire!A15 -> 0 | B15: =inventaire!B15 -> 0 | C15: =inventaire!C15 -> 0 | D15: =inventaire!D15 -> 0 | E15: =inventaire!E15 -> cet onglet est normalement un excel réalisé par un collègue avec des macros etc. | F15: =inventaire!F15 -> 0 | G15: =inventaire!G15 -> 0 | H15: =inventaire!H15 -> 0 | ... K15: =inventaire!K15 -> 0
... A17: =inventaire!A17 -> 0 | B17: =inventaire!B17 -> 0 | C17: =inventaire!C17 -> 0 | D17: =inventaire!D17 -> 0 | E17: =inventaire!E17 -> 0 | F17: =inventaire!F17 -> 0 | G17: =inventaire!G17 -> 0 | H17: =inventaire!H17 -> 0 | ... K17: =inventaire!K17 -> 0
E21: cet onglet rajouté par moi
E23: j'aimerai que l'image T de l'onglet IMAGES vienne se coller sur la cellule I3 automatiquement
E24: et pareil pour les autres lettres et images
E26: avec ton exemple, c'est un menu déroulant et il faudrait que je fasse 'manuellement' la manipulation pour chaque cellule…
E27: Merci beaucoup de ton aide !

Sheet images
A1: accronymes
A2: T
A3: HR
A4: C
A5: D
A6: F
A7: P
A8: E
A9: O
A10: N
