Workbook

Sheet Clsst
A1: CLASSEMENT
S3: ▲ | T3: ▼ | U3: +▲
A4: MAJ 26/04/2015 | C4: Class. | D4: Playerz | E4: % V | F4: J | G4: Diff. | H4: V | I4: D | J4: N | K4: Série | M4: +▲ | S4: =MAX(Résultat!N6:BO6) -> 3 | T4: =MAX(Résultat!N7:CG7) -> 3 | U4: =MAX(M5:N22) -> 5
C5: 1 | D5: Paulo | E5: =IF(F5>4,H5/F5,"Play again") -> 0.6 | F5: =J5+I5+H5 -> 5 | G5: =HLOOKUP($D5,Résultat!$N$1:$AV$5,5,FALSE) -> -2 | H5: =HLOOKUP($D5,Résultat!$N$1:$AV$5,2,FALSE) -> 3 | I5: =HLOOKUP($D5,Résultat!$N$1:$AV$5,3,FALSE) -> 1 | J5: =HLOOKUP($D5,Résultat!$N$1:$AV$5,4,FALSE) -> 1 | K5: =IF((HLOOKUP($D5,Résultat!$N$1:$BW$8,6,FALSE)-HLOOKUP($D5,Résultat!$N$1:$BW$8,7,FALSE))>0,"▲","▼") -> ▲ | L5: =IF($E5="Play again","-",ABS((HLOOKUP(Clsst!$D5,Résultat!$N$1:$CO$8,6,FALSE))-(HLOOKUP(Clsst!$D5,Résultat!$N$1:$CO$8,7,FALSE)))) -> 2 | M5: =HLOOKUP($D5,Résultat!$N$1:$CH$8,8,FALSE) -> 2 | R5: =IF(F5=H5+I5+J5,"-","ERROR") -> - | S5: =IF(AND(K5="▲",L5=$S$4),D5,0) -> 0 | T5: =IF(AND(K5="▼",L5=$T$4),D5,0) -> 0 | U5: =IF(M5=$U$4,D5,0) -> 0
C6: 2 | D6: Olivier | E6: =IF(F6>4,H6/F6,"Play again") -> 0.57142857 | F6: =J6+I6+H6 -> 7 | G6: =HLOOKUP($D6,Résultat!$N$1:$AV$5,5,FALSE) -> 11 | H6: =HLOOKUP($D6,Résultat!$N$1:$AV$5,2,FALSE) -> 4 | I6: =HLOOKUP($D6,Résultat!$N$1:$AV$5,3,FALSE) -> 2 | J6: =HLOOKUP($D6,Résultat!$N$1:$AV$5,4,FALSE) -> 1 | K6: =IF((HLOOKUP($D6,Résultat!$N$1:$BW$8,6,FALSE)-HLOOKUP($D6,Résultat!$N$1:$BW$8,7,FALSE))>0,"▲","▼") -> ▼ | L6: =IF($E6="Play again","-",ABS((HLOOKUP(Clsst!$D6,Résultat!$N$1:$CO$8,6,FALSE))-(HLOOKUP(Clsst!$D6,Résultat!$N$1:$CO$8,7,FALSE)))) -> 1 | M6: =HLOOKUP($D6,Résultat!$N$1:$CH$8,8,FALSE) -> 4 | R6: =IF(F6=H6+I6+J6,"-","ERROR") -> - | S6: =IF(AND(K6="▲",L6=$S$4),D6,0) -> 0 | T6: =IF(AND(K6="▼",L6=$T$4),D6,0) -> 0 | U6: =IF(M6=$U$4,D6,0) -> 0
C7: 3 | D7: Time | E7: =IF(F7>4,H7/F7,"Play again") -> 0.57142857 | F7: =J7+I7+H7 -> 7 | G7: =HLOOKUP($D7,Résultat!$N$1:$AV$5,5,FALSE) -> 17 | H7: =HLOOKUP($D7,Résultat!$N$1:$AV$5,2,FALSE) -> 4 | I7: =HLOOKUP($D7,Résultat!$N$1:$AV$5,3,FALSE) -> 2 | J7: =HLOOKUP($D7,Résultat!$N$1:$AV$5,4,FALSE) -> 1 | K7: =IF((HLOOKUP($D7,Résultat!$N$1:$BW$8,6,FALSE)-HLOOKUP($D7,Résultat!$N$1:$BW$8,7,FALSE))>0,"▲","▼") -> ▲ | L7: =IF($E7="Play again","-",ABS((HLOOKUP(Clsst!$D7,Résultat!$N$1:$CO$8,6,FALSE))-(HLOOKUP(Clsst!$D7,Résultat!$N$1:$CO$8,7,FALSE)))) -> 3 | M7: =HLOOKUP($D7,Résultat!$N$1:$CH$8,8,FALSE) -> 3 | R7: =IF(F7=H7+I7+J7,"-","ERROR") -> - | S7: =IF(AND(K7="▲",L7=$S$4),D7,0) -> Time | T7: =IF(AND(K7="▼",L7=$T$4),D7,0) -> 0 | U7: =IF(M7=$U$4,D7,0) -> 0
C8: 4 | D8: Ben | E8: =IF(F8>4,H8/F8,"Play again") -> 0.5 | F8: =J8+I8+H8 -> 10 | G8: =HLOOKUP($D8,Résultat!$N$1:$AV$5,5,FALSE) -> 4 | H8: =HLOOKUP($D8,Résultat!$N$1:$AV$5,2,FALSE) -> 5 | I8: =HLOOKUP($D8,Résultat!$N$1:$AV$5,3,FALSE) -> 3 | J8: =HLOOKUP($D8,Résultat!$N$1:$AV$5,4,FALSE) -> 2 | K8: =IF((HLOOKUP($D8,Résultat!$N$1:$BW$8,6,FALSE)-HLOOKUP($D8,Résultat!$N$1:$BW$8,7,FALSE))>0,"▲","▼") -> ▼ | L8: =IF($E8="Play again","-",ABS((HLOOKUP(Clsst!$D8,Résultat!$N$1:$CO$8,6,FALSE))-(HLOOKUP(Clsst!$D8,Résultat!$N$1:$CO$8,7,FALSE)))) -> 3 | M8: =HLOOKUP($D8,Résultat!$N$1:$CH$8,8,FALSE) -> 5 | R8: =IF(F8=H8+I8+J8,"-","ERROR") -> - | S8: =IF(AND(K8="▲",L8=$S$4),D8,0) -> 0 | T8: =IF(AND(K8="▼",L8=$T$4),D8,0) -> Ben | U8: =IF(M8=$U$4,D8,0) -> Ben
C9: 5 | D9: Rémi C | E9: =IF(F9>4,H9/F9,"Play again") -> 0.5 | F9: =J9+I9+H9 -> 10 | G9: =HLOOKUP($D9,Résultat!$N$1:$AV$5,5,FALSE) -> -2 | H9: =HLOOKUP($D9,Résultat!$N$1:$AV$5,2,FALSE) -> 5 | I9: =HLOOKUP($D9,Résultat!$N$1:$AV$5,3,FALSE) -> 4 | J9: =HLOOKUP($D9,Résultat!$N$1:$AV$5,4,FALSE) -> 1 | K9: =IF((HLOOKUP($D9,Résultat!$N$1:$BW$8,6,FALSE)-HLOOKUP($D9,Résultat!$N$1:$BW$8,7,FALSE))>0,"▲","▼") -> ▼ | L9: =IF($E9="Play again","-",ABS((HLOOKUP(Clsst!$D9,Résultat!$N$1:$CO$8,6,FALSE))-(HLOOKUP(Clsst!$D9,Résultat!$N$1:$CO$8,7,FALSE)))) -> 1 | M9: =HLOOKUP($D9,Résultat!$N$1:$CH$8,8,FALSE) -> 2 | R9: =IF(F9=H9+I9+J9,"-","ERROR") -> - | S9: =IF(AND(K9="▲",L9=$S$4),D9,0) -> 0 | T9: =IF(AND(K9="▼",L9=$T$4),D9,0) -> 0 | U9: =IF(M9=$U$4,D9,0) -> 0
C10: 6 | D10: Romain | E10: =IF(F10>4,H10/F10,"Play again") -> Play again | F10: =J10+I10+H10 -> 4 | G10: =HLOOKUP($D10,Résultat!$N$1:$AV$5,5,FALSE) -> 13 | H10: =HLOOKUP($D10,Résultat!$N$1:$AV$5,2,FALSE) -> 2 | I10: =HLOOKUP($D10,Résultat!$N$1:$AV$5,3,FALSE) -> 1 | J10: =HLOOKUP($D10,Résultat!$N$1:$AV$5,4,FALSE) -> 1 | K10: =IF((HLOOKUP($D10,Résultat!$N$1:$BW$8,6,FALSE)-HLOOKUP($D10,Résultat!$N$1:$BW$8,7,FALSE))>0,"▲","▼") -> ▲ | L10: =IF($E10="Play again","-",ABS((HLOOKUP(Clsst!$D10,Résultat!$N$1:$CO$8,6,FALSE))-(HLOOKUP(Clsst!$D10,Résultat!$N$1:$CO$8,7,FALSE)))) -> - | M10: =HLOOKUP($D10,Résultat!$N$1:$CH$8,8,FALSE) -> 2 | R10: =IF(F10=H10+I10+J10,"-","ERROR") -> - | S10: =IF(AND(K10="▲",L10=$S$4),D10,0) -> 0 | T10: =IF(AND(K10="▼",L10=$T$4),D10,0) -> 0 | U10: =IF(M10=$U$4,D10,0) -> 0
C11: 7 | D11: Gui | E11: =IF(F11>4,H11/F11,"Play again") -> 0.42857143 | F11: =J11+I11+H11 -> 14 | G11: =HLOOKUP($D11,Résultat!$N$1:$AV$5,5,FALSE) -> -17 | H11: =HLOOKUP($D11,Résultat!$N$1:$AV$5,2,FALSE) -> 6 | I11: =HLOOKUP($D11,Résultat!$N$1:$AV$5,3,FALSE) -> 6 | J11: =HLOOKUP($D11,Résultat!$N$1:$AV$5,4,FALSE) -> 2 | K11: =IF((HLOOKUP($D11,Résultat!$N$1:$BW$8,6,FALSE)-HLOOKUP($D11,Résultat!$N$1:$BW$8,7,FALSE))>0,"▲","▼") -> ▲ | L11: =IF($E11="Play again","-",ABS((HLOOKUP(Clsst!$D11,Résultat!$N$1:$CO$8,6,FALSE))-(HLOOKUP(Clsst!$D11,Résultat!$N$1:$CO$8,7,FALSE)))) -> 1 | M11: =HLOOKUP($D11,Résultat!$N$1:$CH$8,8,FALSE) -> 1 | R11: =IF(F11=H11+I11+J11,"-","ERROR") -> - | S11: =IF(AND(K11="▲",L11=$S$4),D11,0) -> 0 | T11: =IF(AND(K11="▼",L11=$T$4),D11,0) -> 0 | U11: =IF(M11=$U$4,D11,0) -> 0
C12: 8 | D12: Maxou | E12: =IF(F12>4,H12/F12,"Play again") -> 0.3 | F12: =J12+I12+H12 -> 10 | G12: =HLOOKUP($D12,Résultat!$N$1:$AV$5,5,FALSE) -> -11 | H12: =HLOOKUP($D12,Résultat!$N$1:$AV$5,2,FALSE) -> 3 | I12: =HLOOKUP($D12,Résultat!$N$1:$AV$5,3,FALSE) -> 5 | J12: =HLOOKUP($D12,Résultat!$N$1:$AV$5,4,FALSE) -> 2 | K12: =IF((HLOOKUP($D12,Résultat!$N$1:$BW$8,6,FALSE)-HLOOKUP($D12,Résultat!$N$1:$BW$8,7,FALSE))>0,"▲","▼") -> ▲ | L12: =IF($E12="Play again","-",ABS((HLOOKUP(Clsst!$D12,Résultat!$N$1:$CO$8,6,FALSE))-(HLOOKUP(Clsst!$D12,Résultat!$N$1:$CO$8,7,FALSE)))) -> 1 | M12: =HLOOKUP($D12,Résultat!$N$1:$CH$8,8,FALSE) -> 1 | R12: =IF(F12=H12+I12+J12,"-","ERROR") -> - | S12: =IF(AND(K12="▲",L12=$S$4),D12,0) -> 0 | T12: =IF(AND(K12="▼",L12=$T$4),D12,0) -> 0 | U12: =IF(M12=$U$4,D12,0) -> 0
C13: 9 | D13: Stéphane | E13: =IF(F13>4,H13/F13,"Play again") -> 0.28571429 | F13: =J13+I13+H13 -> 7 | G13: =HLOOKUP($D13,Résultat!$N$1:$AV$5,5,FALSE) -> 6 | H13: =HLOOKUP($D13,Résultat!$N$1:$AV$5,2,FALSE) -> 2 | I13: =HLOOKUP($D13,Résultat!$N$1:$AV$5,3,FALSE) -> 4 | J13: =HLOOKUP($D13,Résultat!$N$1:$AV$5,4,FALSE) -> 1 | K13: =IF((HLOOKUP($D13,Résultat!$N$1:$BW$8,6,FALSE)-HLOOKUP($D13,Résultat!$N$1:$BW$8,7,FALSE))>0,"▲","▼") -> ▼ | L13: =IF($E13="Play again","-",ABS((HLOOKUP(Clsst!$D13,Résultat!$N$1:$CO$8,6,FALSE))-(HLOOKUP(Clsst!$D13,Résultat!$N$1:$CO$8,7,FALSE)))) -> 1 | M13: =HLOOKUP($D13,Résultat!$N$1:$CH$8,8,FALSE) -> 2 | R13: =IF(F13=H13+I13+J13,"-","ERROR") -> - | S13: =IF(AND(K13="▲",L13=$S$4),D13,0) -> 0 | T13: =IF(AND(K13="▼",L13=$T$4),D13,0) -> 0 | U13: =IF(M13=$U$4,D13,0) -> 0
C14: 10 | D14: Rios | E14: =IF(F14>4,H14/F14,"Play again") -> 0.25 | F14: =J14+I14+H14 -> 12 | G14: =HLOOKUP($D14,Résultat!$N$1:$AV$5,5,FALSE) -> -19 | H14: =HLOOKUP($D14,Résultat!$N$1:$AV$5,2,FALSE) -> 3 | I14: =HLOOKUP($D14,Résultat!$N$1:$AV$5,3,FALSE) -> 7 | J14: =HLOOKUP($D14,Résultat!$N$1:$AV$5,4,FALSE) -> 2 | K14: =IF((HLOOKUP($D14,Résultat!$N$1:$BW$8,6,FALSE)-HLOOKUP($D14,Résultat!$N$1:$BW$8,7,FALSE))>0,"▲","▼") -> ▲ | L14: =IF($E14="Play again","-",ABS((HLOOKUP(Clsst!$D14,Résultat!$N$1:$CO$8,6,FALSE))-(HLOOKUP(Clsst!$D14,Résultat!$N$1:$CO$8,7,FALSE)))) -> 1 | M14: =HLOOKUP($D14,Résultat!$N$1:$CH$8,8,FALSE) -> 2 | R14: =IF(F14=H14+I14+J14,"-","ERROR") -> - | S14: =IF(AND(K14="▲",L14=$S$4),D14,0) -> 0 | T14: =IF(AND(K14="▼",L14=$T$4),D14,0) -> 0 | U14: =IF(M14=$U$4,D14,0) -> 0
C15: 11 | D15: Mehdi | E15: =IF(F15>4,H15/F15,"Play again") -> 0.2 | F15: =J15+I15+H15 -> 10 | G15: =HLOOKUP($D15,Résultat!$N$1:$AV$5,5,FALSE) -> -1 | H15: =HLOOKUP($D15,Résultat!$N$1:$AV$5,2,FALSE) -> 2 | I15: =HLOOKUP($D15,Résultat!$N$1:$AV$5,3,FALSE) -> 6 | J15: =HLOOKUP($D15,Résultat!$N$1:$AV$5,4,FALSE) -> 2 | K15: =IF((HLOOKUP($D15,Résultat!$N$1:$BW$8,6,FALSE)-HLOOKUP($D15,Résultat!$N$1:$BW$8,7,FALSE))>0,"▲","▼") -> ▲ | L15: =IF($E15="Play again","-",ABS((HLOOKUP(Clsst!$D15,Résultat!$N$1:$CO$8,6,FALSE))-(HLOOKUP(Clsst!$D15,Résultat!$N$1:$CO$8,7,FALSE)))) -> 1 | M15: =HLOOKUP($D15,Résultat!$N$1:$CH$8,8,FALSE) -> 1 | R15: =IF(F15=H15+I15+J15,"-","ERROR") -> - | S15: =IF(AND(K15="▲",L15=$S$4),D15,0) -> 0 | T15: =IF(AND(K15="▼",L15=$T$4),D15,0) -> 0 | U15: =IF(M15=$U$4,D15,0) -> 0
C16: 12 | D16: Klaim | E16: =IF(F16>4,H16/F16,"Play again") -> 0.083333333 | F16: =J16+I16+H16 -> 12 | G16: =HLOOKUP($D16,Résultat!$N$1:$AV$5,5,FALSE) -> -47 | H16: =HLOOKUP($D16,Résultat!$N$1:$AV$5,2,FALSE) -> 1 | I16: =HLOOKUP($D16,Résultat!$N$1:$AV$5,3,FALSE) -> 10 | J16: =HLOOKUP($D16,Résultat!$N$1:$AV$5,4,FALSE) -> 1 | K16: =IF((HLOOKUP($D16,Résultat!$N$1:$BW$8,6,FALSE)-HLOOKUP($D16,Résultat!$N$1:$BW$8,7,FALSE))>0,"▲","▼") -> ▼ | L16: =IF($E16="Play again","-",ABS((HLOOKUP(Clsst!$D16,Résultat!$N$1:$CO$8,6,FALSE))-(HLOOKUP(Clsst!$D16,Résultat!$N$1:$CO$8,7,FALSE)))) -> 1 | M16: =HLOOKUP($D16,Résultat!$N$1:$CH$8,8,FALSE) -> 1 | R16: =IF(F16=H16+I16+J16,"-","ERROR") -> - | S16: =IF(AND(K16="▲",L16=$S$4),D16,0) -> 0 | T16: =IF(AND(K16="▼",L16=$T$4),D16,0) -> 0 | U16: =IF(M16=$U$4,D16,0) -> 0
C17: 13 | D17: Harry | E17: =IF(F17>4,H17/F17,"Play again") -> Play again | F17: =J17+I17+H17 -> 4 | G17: =HLOOKUP($D17,Résultat!$N$1:$AV$5,5,FALSE) -> 16 | H17: =HLOOKUP($D17,Résultat!$N$1:$AV$5,2,FALSE) -> 3 | I17: =HLOOKUP($D17,Résultat!$N$1:$AV$5,3,FALSE) -> 1 | J17: =HLOOKUP($D17,Résultat!$N$1:$AV$5,4,FALSE) -> 0 | K17: =IF((HLOOKUP($D17,Résultat!$N$1:$BW$8,6,FALSE)-HLOOKUP($D17,Résultat!$N$1:$BW$8,7,FALSE))>0,"▲","▼") -> ▲ | L17: =IF($E17="Play again","-",ABS((HLOOKUP(Clsst!$D17,Résultat!$N$1:$CO$8,6,FALSE))-(HLOOKUP(Clsst!$D17,Résultat!$N$1:$CO$8,7,FALSE)))) -> - | M17: =HLOOKUP($D17,Résultat!$N$1:$CH$8,8,FALSE) -> 3 | R17: =IF(F17=H17+I17+J17,"-","ERROR") -> - | S17: =IF(AND(K17="▲",L17=$S$4),D17,0) -> 0 | T17: =IF(AND(K17="▼",L17=$T$4),D17,0) -> 0 | U17: =IF(M17=$U$4,D17,0) -> 0
C18: 14 | D18: Beber | E18: =IF(F18>3,H18/F18,"Play again") -> Play again | F18: =J18+I18+H18 -> 3 | G18: =HLOOKUP($D18,Résultat!$N$1:$AV$5,5,FALSE) -> 18 | H18: =HLOOKUP($D18,Résultat!$N$1:$AV$5,2,FALSE) -> 3 | I18: =HLOOKUP($D18,Résultat!$N$1:$AV$5,3,FALSE) -> 0 | J18: =HLOOKUP($D18,Résultat!$N$1:$AV$5,4,FALSE) -> 0 | K18: =IF((HLOOKUP($D18,Résultat!$N$1:$BW$8,6,FALSE)-HLOOKUP($D18,Résultat!$N$1:$BW$8,7,FALSE))>0,"▲","▼") -> ▲ | L18: =IF($E18="Play again","-",ABS((HLOOKUP(Clsst!$D18,Résultat!$N$1:$CO$8,6,FALSE))-(HLOOKUP(Clsst!$D18,Résultat!$N$1:$CO$8,7,FALSE)))) -> - | M18: =HLOOKUP($D18,Résultat!$N$1:$CH$8,8,FALSE) -> 3 | R18: =IF(F18=H18+I18+J18,"-","ERROR") -> - | S18: =IF(AND(K18="▲",L18=$S$4),D18,0) -> 0 | T18: =IF(AND(K18="▼",L18=$T$4),D18,0) -> 0 | U18: =IF(M18=$U$4,D18,0) -> 0
C19: 15 | D19: Rémi V | E19: =IF(F19>3,H19/F19,"Play again") -> Play again | F19: =J19+I19+H19 -> 2 | G19: =HLOOKUP($D19,Résultat!$N$1:$AV$5,5,FALSE) -> 2 | H19: =HLOOKUP($D19,Résultat!$N$1:$AV$5,2,FALSE) -> 1 | I19: =HLOOKUP($D19,Résultat!$N$1:$AV$5,3,FALSE) -> 0 | J19: =HLOOKUP($D19,Résultat!$N$1:$AV$5,4,FALSE) -> 1 | K19: =IF((HLOOKUP($D19,Résultat!$N$1:$BW$8,6,FALSE)-HLOOKUP($D19,Résultat!$N$1:$BW$8,7,FALSE))>0,"▲","▼") -> ▲ | L19: =IF($E19="Play again","-",ABS((HLOOKUP(Clsst!$D19,Résultat!$N$1:$CO$8,6,FALSE))-(HLOOKUP(Clsst!$D19,Résultat!$N$1:$CO$8,7,FALSE)))) -> - | M19: =HLOOKUP($D19,Résultat!$N$1:$CH$8,8,FALSE) -> 1 | R19: =IF(F19=H19+I19+J19,"-","ERROR") -> - | S19: =IF(AND(K19="▲",L19=$S$4),D19,0) -> 0 | T19: =IF(AND(K19="▼",L19=$T$4),D19,0) -> 0 | U19: =IF(M19=$U$4,D19,0) -> 0
C20: 16 | D20: Nabil | E20: =IF(F20>3,H20/F20,"Play again") -> Play again | F20: =J20+I20+H20 -> 2 | G20: =HLOOKUP($D20,Résultat!$N$1:$AV$5,5,FALSE) -> -2 | H20: =HLOOKUP($D20,Résultat!$N$1:$AV$5,2,FALSE) -> 0 | I20: =HLOOKUP($D20,Résultat!$N$1:$AV$5,3,FALSE) -> 1 | J20: =HLOOKUP($D20,Résultat!$N$1:$AV$5,4,FALSE) -> 1 | K20: =IF((HLOOKUP($D20,Résultat!$N$1:$BW$8,6,FALSE)-HLOOKUP($D20,Résultat!$N$1:$BW$8,7,FALSE))>0,"▲","▼") -> ▼ | L20: =IF($E20="Play again","-",ABS((HLOOKUP(Clsst!$D20,Résultat!$N$1:$CO$8,6,FALSE))-(HLOOKUP(Clsst!$D20,Résultat!$N$1:$CO$8,7,FALSE)))) -> - | M20: =HLOOKUP($D20,Résultat!$N$1:$CH$8,8,FALSE) -> 0 | R20: =IF(F20=H20+I20+J20,"-","ERROR") -> - | S20: =IF(AND(K20="▲",L20=$S$4),D20,0) -> 0 | T20: =IF(AND(K20="▼",L20=$T$4),D20,0) -> 0 | U20: =IF(M20=$U$4,D20,0) -> 0
C21: 17 | D21: Arti | E21: =IF(F21>3,H21/F21,"Play again") -> Play again | F21: =J21+I21+H21 -> 1 | G21: =HLOOKUP($D21,Résultat!$N$1:$AV$5,5,FALSE) -> 2 | H21: =HLOOKUP($D21,Résultat!$N$1:$AV$5,2,FALSE) -> 1 | I21: =HLOOKUP($D21,Résultat!$N$1:$AV$5,3,FALSE) -> 0 | J21: =HLOOKUP($D21,Résultat!$N$1:$AV$5,4,FALSE) -> 0 | K21: =IF((HLOOKUP($D21,Résultat!$N$1:$BW$8,6,FALSE)-HLOOKUP($D21,Résultat!$N$1:$BW$8,7,FALSE))>0,"▲","▼") -> ▲ | L21: =IF($E21="Play again","-",ABS((HLOOKUP(Clsst!$D21,Résultat!$N$1:$CO$8,6,FALSE))-(HLOOKUP(Clsst!$D21,Résultat!$N$1:$CO$8,7,FALSE)))) -> - | M21: =HLOOKUP($D21,Résultat!$N$1:$CH$8,8,FALSE) -> 1 | R21: =IF(F21=H21+I21+J21,"-","ERROR") -> - | S21: =IF(AND(K21="▲",L21=$S$4),D21,0) -> 0 | T21: =IF(AND(K21="▼",L21=$T$4),D21,0) -> 0 | U21: =IF(M21=$U$4,D21,0) -> 0
C22: 18 | D22: Roland | E22: =IF(F22>3,H22/F22,"Play again") -> Play again | F22: =J22+I22+H22 -> 1 | G22: =HLOOKUP($D22,Résultat!$N$1:$AV$5,5,FALSE) -> 4 | H22: =HLOOKUP($D22,Résultat!$N$1:$AV$5,2,FALSE) -> 1 | I22: =HLOOKUP($D22,Résultat!$N$1:$AV$5,3,FALSE) -> 0 | J22: =HLOOKUP($D22,Résultat!$N$1:$AV$5,4,FALSE) -> 0 | K22: =IF((HLOOKUP($D22,Résultat!$N$1:$BW$8,6,FALSE)-HLOOKUP($D22,Résultat!$N$1:$BW$8,7,FALSE))>0,"▲","▼") -> ▲ | L22: =IF($E22="Play again","-",ABS((HLOOKUP(Clsst!$D22,Résultat!$N$1:$CO$8,6,FALSE))-(HLOOKUP(Clsst!$D22,Résultat!$N$1:$CO$8,7,FALSE)))) -> - | M22: =HLOOKUP($D22,Résultat!$N$1:$CH$8,8,FALSE) -> 1 | R22: =IF(F22=H22+I22+J22,"-","ERROR") -> - | S22: =IF(AND(K22="▲",L22=$S$4),D22,0) -> 0 | T22: =IF(AND(K22="▼",L22=$T$4),D22,0) -> 0 | U22: =IF(M22=$U$4,D22,0) -> 0
I24: - Série victoire : | K24: Time | M24: ▲ | N24: =VLOOKUP(K24,D4:N22,9,FALSE) -> 3
C25: - Comments : | I25: - Série défaite : | K25: Ben | M25: ▼ | N25: =VLOOKUP(K25,D4:N22,9,FALSE) -> 3
I27: - Recordman vict. : | K27: Ben | M27: +▲ | N27: =VLOOKUP(K27,D4:N22,10,FALSE) -> 5
I28: d'affilée
Q31: olivier | R31: Benoit
Q32: 2 | R32: 1
Q35: 4 | R35: 3

Sheet Résultat
A1: RESULTATS | N1: Gui | P1: Rios | R1: Time | T1: Ben | V1: Mehdi | X1: Stéphane | Z1: Harry | AB1: Beber | AD1: Klaim | AF1: Maxou | AH1: Olivier | AJ1: Romain | AL1: Rémi V | AN1: Rémi C | AP1: Paulo | AR1: Arti | AT1: Roland | AV1: Nabil
M2: V | N2: =COUNTIF(N$9:N$2047,"v") -> 6 | P2: =COUNTIF(P$9:P$2047,"v") -> 3 | R2: =COUNTIF(R$9:R$2047,"v") -> 4 | T2: =COUNTIF(T$9:T$2047,"v") -> 5 | V2: =COUNTIF(V$9:V$2047,"v") -> 2 | X2: =COUNTIF(X$9:X$2047,"v") -> 2 | Z2: =COUNTIF(Z$9:Z$2047,"v") -> 3 | AB2: =COUNTIF(AB$9:AB$2047,"v") -> 3 | AD2: =COUNTIF(AD$9:AD$2047,"v") -> 1 | AF2: =COUNTIF(AF$9:AF$2047,"v") -> 3 | AH2: =COUNTIF(AH$9:AH$2047,"v") -> 4 | AJ2: =COUNTIF(AJ$9:AJ$2047,"v") -> 2 | AL2: =COUNTIF(AL$9:AL$2047,"v") -> 1 | AN2: =COUNTIF(AN$9:AN$2047,"v") -> 5 | AP2: =COUNTIF(AP$9:AP$2047,"v") -> 3 | AR2: =COUNTIF(AR$9:AR$2047,"v") -> 1 | AT2: =COUNTIF(AT$9:AT$2047,"v") -> 1 | AV2: =COUNTIF(AV$9:AV$2047,"v") -> 0
M3: D | N3: =COUNTIF(N$9:N$2051,"d") -> 6 | P3: =COUNTIF(P$9:P$2051,"d") -> 7 | R3: =COUNTIF(R$9:R$2051,"d") -> 2 | T3: =COUNTIF(T$9:T$2051,"d") -> 3 | V3: =COUNTIF(V$9:V$2051,"d") -> 6 | X3: =COUNTIF(X$9:X$2051,"d") -> 4 | Z3: =COUNTIF(Z$9:Z$2051,"d") -> 1 | AB3: =COUNTIF(AB$9:AB$2051,"d") -> 0 | AD3: =COUNTIF(AD$9:AD$2051,"d") -> 10 | AF3: =COUNTIF(AF$9:AF$2051,"d") -> 5 | AH3: =COUNTIF(AH$9:AH$2051,"d") -> 2 | AJ3: =COUNTIF(AJ$9:AJ$2051,"d") -> 1 | AL3: =COUNTIF(AL$9:AL$2051,"d") -> 0 | AN3: =COUNTIF(AN$9:AN$2051,"d") -> 4 | AP3: =COUNTIF(AP$9:AP$2051,"d") -> 1 | AR3: =COUNTIF(AR$9:AR$2051,"d") -> 0 | AT3: =COUNTIF(AT$9:AT$2051,"d") -> 0 | AV3: =COUNTIF(AV$9:AV$2051,"d") -> 1
M4: N | N4: =COUNTIF(N$9:N$2051,"n") -> 2 | P4: =COUNTIF(P$9:P$2051,"n") -> 2 | R4: =COUNTIF(R$9:R$2051,"n") -> 1 | T4: =COUNTIF(T$9:T$2051,"n") -> 2 | V4: =COUNTIF(V$9:V$2051,"n") -> 2 | X4: =COUNTIF(X$9:X$2051,"n") -> 1 | Z4: =COUNTIF(Z$9:Z$2051,"n") -> 0 | AB4: =COUNTIF(AB$9:AB$2051,"n") -> 0 | AD4: =COUNTIF(AD$9:AD$2051,"n") -> 1 | AF4: =COUNTIF(AF$9:AF$2051,"n") -> 2 | AH4: =COUNTIF(AH$9:AH$2051,"n") -> 1 | AJ4: =COUNTIF(AJ$9:AJ$2051,"n") -> 1 | AL4: =COUNTIF(AL$9:AL$2051,"n") -> 1 | AN4: =COUNTIF(AN$9:AN$2051,"n") -> 1 | AP4: =COUNTIF(AP$9:AP$2051,"n") -> 1 | AR4: =COUNTIF(AR$9:AR$2051,"n") -> 0 | AT4: =COUNTIF(AT$9:AT$2051,"n") -> 0 | AV4: =COUNTIF(AV$9:AV$2051,"n") -> 1
M5: Diff. | N5: =SUM(N9:N2067) -> -17 | P5: =SUM(P9:P2067) -> -19 | R5: =SUM(R9:R2067) -> 17 | T5: =SUM(T9:T2067) -> 4 | V5: =SUM(V9:V2067) -> -1 | X5: =SUM(X9:X2067) -> 6 | Z5: =SUM(Z9:Z2067) -> 16 | AB5: =SUM(AB9:AB2067) -> 18 | AD5: =SUM(AD9:AD2067) -> -47 | AF5: =SUM(AF9:AF2067) -> -11 | AH5: =SUM(AH9:AH2067) -> 11 | AJ5: =SUM(AJ9:AJ2067) -> 13 | AL5: =SUM(AL9:AL2067) -> 2 | AN5: =SUM(AN9:AN2067) -> -2 | AP5: =SUM(AP9:AP2067) -> -2 | AR5: =SUM(AR9:AR2067) -> 2 | AT5: =SUM(AT9:AT2067) -> 4 | AV5: =SUM(AV9:AV2067) -> -2
M6: ▲ | N6: =IF(N3=0,COUNTIF(N$9:N$200018,"v"),COUNTIF(OFFSET(N9,0,0,MATCH("d",N$9:N$250018,0)-1),"v")) -> 1 | P6: =IF(P3=0,COUNTIF(P$9:P$200018,"v"),COUNTIF(OFFSET(P9,0,0,MATCH("d",P$9:P$250018,0)-1),"v")) -> 1 | R6: =IF(R3=0,COUNTIF(R$9:R$200018,"v"),COUNTIF(OFFSET(R9,0,0,MATCH("d",R$9:R$250018,0)-1),"v")) -> 3 | T6: =IF(T3=0,COUNTIF(T$9:T$200018,"v"),COUNTIF(OFFSET(T9,0,0,MATCH("d",T$9:T$250018,0)-1),"v")) -> 0 | V6: =IF(V3=0,COUNTIF(V$9:V$200018,"v"),COUNTIF(OFFSET(V9,0,0,MATCH("d",V$9:V$250018,0)-1),"v")) -> 1 | X6: =IF(X3=0,COUNTIF(X$9:X$200018,"v"),COUNTIF(OFFSET(X9,0,0,MATCH("d",X$9:X$250018,0)-1),"v")) -> 0 | Z6: =IF(Z3=0,COUNTIF(Z$9:Z$200018,"v"),COUNTIF(OFFSET(Z9,0,0,MATCH("d",Z$9:Z$250018,0)-1),"v")) -> 3 | AB6: =IF(AB3=0,COUNTIF(AB$9:AB$200018,"v"),COUNTIF(OFFSET(AB9,0,0,MATCH("d",AB$9:AB$250018,0)-1),"v")) -> 3 | AD6: =IF(AD3=0,COUNTIF(AD$9:AD$200018,"v"),COUNTIF(OFFSET(AD9,0,0,MATCH("d",AD$9:AD$250018,0)-1),"v")) -> 0 | AF6: =IF(AF3=0,COUNTIF(AF$9:AF$200018,"v"),COUNTIF(OFFSET(AF9,0,0,MATCH("d",AF$9:AF$250018,0)-1),"v")) -> 1 | AH6: =IF(AH3=0,COUNTIF(AH$9:AH$200018,"v"),COUNTIF(OFFSET(AH9,0,0,MATCH("d",AH$9:AH$250018,0)-1),"v")) -> 0 | AJ6: =IF(AJ3=0,COUNTIF(AJ$9:AJ$200018,"v"),COUNTIF(OFFSET(AJ9,0,0,MATCH("d",AJ$9:AJ$250018,0)-1),"v")) -> 2 | AL6: =IF(AL3=0,COUNTIF(AL$9:AL$200018,"v"),COUNTIF(OFFSET(AL9,0,0,MATCH("d",AL$9:AL$250018,0)-1),"v")) -> 1 | AN6: =IF(AN3=0,COUNTIF(AN$9:AN$200018,"v"),COUNTIF(OFFSET(AN9,0,0,MATCH("d",AN$9:AN$250018,0)-1),"v")) -> 0 | AP6: =IF(AP3=0,COUNTIF(AP$9:AP$200018,"v"),COUNTIF(OFFSET(AP9,0,0,MATCH("d",AP$9:AP$250018,0)-1),"v")) -> 2 | AR6: =IF(AR3=0,COUNTIF(AR$9:AR$200018,"v"),COUNTIF(OFFSET(AR9,0,0,MATCH("d",AR$9:AR$250018,0)-1),"v")) -> 1 | AT6: =IF(AT3=0,COUNTIF(AT$9:AT$200018,"v"),COUNTIF(OFFSET(AT9,0,0,MATCH("d",AT$9:AT$250018,0)-1),"v")) -> 1 | AV6: =IF(AV3=0,COUNTIF(AV$9:AV$200018,"v"),COUNTIF(OFFSET(AV9,0,0,MATCH("d",AV$9:AV$250018,0)-1),"v")) -> 0
M7: ▼ | N7: =IF(N2=0,COUNTIF(N$9:N$200018,"d"),COUNTIF(OFFSET(N9,0,0,MATCH("v",N$9:N$250018,0)-1),"d")) -> 0 | P7: =IF(P2=0,COUNTIF(P$9:P$200018,"d"),COUNTIF(OFFSET(P9,0,0,MATCH("v",P$9:P$250018,0)-1),"d")) -> 0 | R7: =IF(R2=0,COUNTIF(R$9:R$200018,"d"),COUNTIF(OFFSET(R9,0,0,MATCH("v",R$9:R$250018,0)-1),"d")) -> 0 | T7: =IF(T2=0,COUNTIF(T$9:T$200018,"d"),COUNTIF(OFFSET(T9,0,0,MATCH("v",T$9:T$250018,0)-1),"d")) -> 3 | V7: =IF(V2=0,COUNTIF(V$9:V$200018,"d"),COUNTIF(OFFSET(V9,0,0,MATCH("v",V$9:V$250018,0)-1),"d")) -> 0 | X7: =IF(X2=0,COUNTIF(X$9:X$200018,"d"),COUNTIF(OFFSET(X9,0,0,MATCH("v",X$9:X$250018,0)-1),"d")) -> 1 | Z7: =IF(Z2=0,COUNTIF(Z$9:Z$200018,"d"),COUNTIF(OFFSET(Z9,0,0,MATCH("v",Z$9:Z$250018,0)-1),"d")) -> 0 | AB7: =IF(AB2=0,COUNTIF(AB$9:AB$200018,"d"),COUNTIF(OFFSET(AB9,0,0,MATCH("v",AB$9:AB$250018,0)-1),"d")) -> 0 | AD7: =IF(AD2=0,COUNTIF(AD$9:AD$200018,"d"),COUNTIF(OFFSET(AD9,0,0,MATCH("v",AD$9:AD$250018,0)-1),"d")) -> 1 | AF7: =IF(AF2=0,COUNTIF(AF$9:AF$200018,"d"),COUNTIF(OFFSET(AF9,0,0,MATCH("v",AF$9:AF$250018,0)-1),"d")) -> 0 | AH7: =IF(AH2=0,COUNTIF(AH$9:AH$200018,"d"),COUNTIF(OFFSET(AH9,0,0,MATCH("v",AH$9:AH$250018,0)-1),"d")) -> 1 | AJ7: =IF(AJ2=0,COUNTIF(AJ$9:AJ$200018,"d"),COUNTIF(OFFSET(AJ9,0,0,MATCH("v",AJ$9:AJ$250018,0)-1),"d")) -> 0 | AL7: =IF(AL2=0,COUNTIF(AL$9:AL$200018,"d"),COUNTIF(OFFSET(AL9,0,0,MATCH("v",AL$9:AL$250018,0)-1),"d")) -> 0 | AN7: =IF(AN2=0,COUNTIF(AN$9:AN$200018,"d"),COUNTIF(OFFSET(AN9,0,0,MATCH("v",AN$9:AN$250018,0)-1),"d")) -> 1 | AP7: =IF(AP2=0,COUNTIF(AP$9:AP$200018,"d"),COUNTIF(OFFSET(AP9,0,0,MATCH("v",AP$9:AP$250018,0)-1),"d")) -> 0 | AR7: =IF(AR2=0,COUNTIF(AR$9:AR$200018,"d"),COUNTIF(OFFSET(AR9,0,0,MATCH("v",AR$9:AR$250018,0)-1),"d")) -> 0 | AT7: =IF(AT2=0,COUNTIF(AT$9:AT$200018,"d"),COUNTIF(OFFSET(AT9,0,0,MATCH("v",AT$9:AT$250018,0)-1),"d")) -> 0 | AV7: =IF(AV2=0,COUNTIF(AV$9:AV$200018,"d"),COUNTIF(OFFSET(AV9,0,0,MATCH("v",AV$9:AV$250018,0)-1),"d")) -> 1
M8: +▲ | N8: =MAX(O$9:O$250018) -> 1 | P8: =MAX(Q$9:Q$250018) -> 2 | R8: =MAX(S$9:S$250018) -> 3 | T8: =MAX(U$9:U$250018) -> 5 | V8: =MAX(W$9:W$250018) -> 1 | X8: =MAX(Y$9:Y$250018) -> 2 | Z8: =MAX(AA$9:AA$250018) -> 3 | AB8: =MAX(AC$9:AC$250018) -> 3 | AD8: =MAX(AE$9:AE$250018) -> 1 | AF8: =MAX(AG$9:AG$250018) -> 1 | AH8: =MAX(AI$9:AI$250018) -> 4 | AJ8: =MAX(AK$9:AK$250018) -> 2 | AL8: =MAX(AM$9:AM$250018) -> 1 | AN8: =MAX(AO$9:AO$250018) -> 2 | AP8: =MAX(AQ$9:AQ$250018) -> 2 | AR8: =MAX(AS$9:AS$250018) -> 1 | AT8: =MAX(AU$9:AU$250018) -> 1 | AV8: =MAX(AW$9:AW$250018) -> 0
B11: 42120 | O11: =IF(N11="v",1+O12,IF(N11="d",0,O12)) -> 1 | Q11: =IF(P11="v",1+Q12,IF(P11="d",0,Q12)) -> 1 | S11: =IF(R11="v",1+S12,IF(R11="d",0,S12)) -> 3 | U11: =IF(T11="v",1+U12,IF(T11="d",0,U12)) -> 0 | W11: =IF(V11="v",1+W12,IF(V11="d",0,W12)) -> 1 | Y11: =IF(X11="v",1+Y12,IF(X11="d",0,Y12)) -> 0 | AA11: =IF(Z11="v",1+AA12,IF(Z11="d",0,AA12)) -> 3 | AC11: =IF(AB11="v",1+AC12,IF(AB11="d",0,AC12)) -> 3 | AE11: =IF(AD11="v",1+AE12,IF(AD11="d",0,AE12)) -> 0 | AG11: =IF(AF11="v",1+AG12,IF(AF11="d",0,AG12)) -> 1 | AI11: =IF(AH11="v",1+AI12,IF(AH11="d",0,AI12)) -> 0 | AK11: =IF(AJ11="v",1+AK12,IF(AJ11="d",0,AK12)) -> 2 | AM11: =IF(AL11="v",1+AM12,IF(AL11="d",0,AM12)) -> 1 | AO11: =IF(AN11="v",1+AO12,IF(AN11="d",0,AO12)) -> 0 | AQ11: =IF(AP11="v",1+AQ12,IF(AP11="d",0,AQ12)) -> 2 | AS11: =IF(AR11="v",1+AS12,IF(AR11="d",0,AS12)) -> 1 | AU11: =IF(AT11="v",1+AU12,IF(AT11="d",0,AU12)) -> 1 | AW11: =IF(AV11="v",1+AW12,IF(AV11="d",0,AW12)) -> 0
C12: T1 | E12: T2 | O12: =IF(N12="v",1+O13,IF(N12="d",0,O13)) -> 1 | Q12: =IF(P12="v",1+Q13,IF(P12="d",0,Q13)) -> 1 | S12: =IF(R12="v",1+S13,IF(R12="d",0,S13)) -> 3 | U12: =IF(T12="v",1+U13,IF(T12="d",0,U13)) -> 0 | W12: =IF(V12="v",1+W13,IF(V12="d",0,W13)) -> 1 | Y12: =IF(X12="v",1+Y13,IF(X12="d",0,Y13)) -> 0 | AA12: =IF(Z12="v",1+AA13,IF(Z12="d",0,AA13)) -> 3 | AC12: =IF(AB12="v",1+AC13,IF(AB12="d",0,AC13)) -> 3 | AE12: =IF(AD12="v",1+AE13,IF(AD12="d",0,AE13)) -> 0 | AG12: =IF(AF12="v",1+AG13,IF(AF12="d",0,AG13)) -> 1 | AI12: =IF(AH12="v",1+AI13,IF(AH12="d",0,AI13)) -> 0 | AK12: =IF(AJ12="v",1+AK13,IF(AJ12="d",0,AK13)) -> 2 | AM12: =IF(AL12="v",1+AM13,IF(AL12="d",0,AM13)) -> 1 | AO12: =IF(AN12="v",1+AO13,IF(AN12="d",0,AO13)) -> 0 | AQ12: =IF(AP12="v",1+AQ13,IF(AP12="d",0,AQ13)) -> 2 | AS12: =IF(AR12="v",1+AS13,IF(AR12="d",0,AS13)) -> 1 | AU12: =IF(AT12="v",1+AU13,IF(AT12="d",0,AU13)) -> 1 | AW12: =IF(AV12="v",1+AW13,IF(AV12="d",0,AW13)) -> 0
C13: Gui | D13: =IF(C18=E18,"n",IF(C18>E18,"v","d")) -> n | E13: =IF(C18=E18,"n",IF(C18<E18,"v","d")) -> n | F13: Olivier | N13: =IF(C13=$N$1,D13,IF(F13=$N$1,E13,"-")) -> n | O13: =IF(N13="v",1+O14,IF(N13="d",0,O14)) -> 1 | P13: =IF($C13=$P$1,$D13,IF($F13=$P$1,$E13,"-")) -> - | Q13: =IF(P13="v",1+Q14,IF(P13="d",0,Q14)) -> 1 | R13: =IF($C13=R$1,$D13,IF($F13=R$1,$E13,"-")) -> - | S13: =IF(R13="v",1+S14,IF(R13="d",0,S14)) -> 3 | T13: =IF($C13=T$1,$D13,IF($F13=T$1,$E13,"-")) -> - | U13: =IF(T13="v",1+U14,IF(T13="d",0,U14)) -> 0 | V13: =IF($C13=V$1,$D13,IF($F13=V$1,$E13,"-")) -> - | W13: =IF(V13="v",1+W14,IF(V13="d",0,W14)) -> 1 | X13: =IF($C13=X$1,$D13,IF($F13=X$1,$E13,"-")) -> - | Y13: =IF(X13="v",1+Y14,IF(X13="d",0,Y14)) -> 0 | Z13: =IF($C13=Z$1,$D13,IF($F13=Z$1,$E13,"-")) -> - | AA13: =IF(Z13="v",1+AA14,IF(Z13="d",0,AA14)) -> 3 | AB13: =IF($C13=AB$1,$D13,IF($F13=AB$1,$E13,"-")) -> - | AC13: =IF(AB13="v",1+AC14,IF(AB13="d",0,AC14)) -> 3 | AD13: =IF($C13=AD$1,$D13,IF($F13=AD$1,$E13,"-")) -> - | AE13: =IF(AD13="v",1+AE14,IF(AD13="d",0,AE14)) -> 0 | AF13: =IF($C13=AF$1,$D13,IF($F13=AF$1,$E13,"-")) -> - | AG13: =IF(AF13="v",1+AG14,IF(AF13="d",0,AG14)) -> 1 | AH13: =IF($C13=AH$1,$D13,IF($F13=AH$1,$E13,"-")) -> n | AI13: =IF(AH13="v",1+AI14,IF(AH13="d",0,AI14)) -> 0 | AJ13: =IF($C13=AJ$1,$D13,IF($F13=AJ$1,$E13,"-")) -> - | AK13: =IF(AJ13="v",1+AK14,IF(AJ13="d",0,AK14)) -> 2 | AL13: =IF($C13=AL$1,$D13,IF($F13=AL$1,$E13,"-")) -> - | AM13: =IF(AL13="v",1+AM14,IF(AL13="d",0,AM14)) -> 1 | AN13: =IF($C13=AN$1,$D13,IF($F13=AN$1,$E13,"-")) -> - | AO13: =IF(AN13="v",1+AO14,IF(AN13="d",0,AO14)) -> 0 | AP13: =IF($C13=AP$1,$D13,IF($F13=AP$1,$E13,"-")) -> - | AQ13: =IF(AP13="v",1+AQ14,IF(AP13="d",0,AQ14)) -> 2 | AR13: =IF($C13=AR$1,$D13,IF($F13=AR$1,$E13,"-")) -> - | AS13: =IF(AR13="v",1+AS14,IF(AR13="d",0,AS14)) -> 1 | AT13: =IF($C13=AT$1,$D13,IF($F13=AT$1,$E13,"-")) -> - | AU13: =IF(AT13="v",1+AU14,IF(AT13="d",0,AU14)) -> 1 | AV13: =IF($C13=AV$1,$D13,IF($F13=AV$1,$E13,"-")) -> - | AW13: =IF(AV13="v",1+AW14,IF(AV13="d",0,AW14)) -> 0
C14: Rios | D14: =IF(C18=E18,"n",IF(C18>E18,"v","d")) -> n | E14: =IF(C18=E18,"n",IF(C18<E18,"v","d")) -> n | F14: Stéphane | N14: =IF(C14=$N$1,D14,IF(F14=$N$1,E14,"-")) -> - | O14: =IF(N14="v",1+O15,IF(N14="d",0,O15)) -> 1 | P14: =IF(C14=$P$1,D14,IF(F14=$P$1,E14,"-")) -> n | Q14: =IF(P14="v",1+Q15,IF(P14="d",0,Q15)) -> 1 | R14: =IF($C14=R$1,$D14,IF($F14=R$1,$E14,"-")) -> - | S14: =IF(R14="v",1+S15,IF(R14="d",0,S15)) -> 3 | T14: =IF($C14=T$1,$D14,IF($F14=T$1,$E14,"-")) -> - | U14: =IF(T14="v",1+U15,IF(T14="d",0,U15)) -> 0 | V14: =IF($C14=V$1,$D14,IF($F14=V$1,$E14,"-")) -> - | W14: =IF(V14="v",1+W15,IF(V14="d",0,W15)) -> 1 | X14: =IF($C14=X$1,$D14,IF($F14=X$1,$E14,"-")) -> n | Y14: =IF(X14="v",1+Y15,IF(X14="d",0,Y15)) -> 0 | Z14: =IF($C14=Z$1,$D14,IF($F14=Z$1,$E14,"-")) -> - | AA14: =IF(Z14="v",1+AA15,IF(Z14="d",0,AA15)) -> 3 | AB14: =IF($C14=AB$1,$D14,IF($F14=AB$1,$E14,"-")) -> - | AC14: =IF(AB14="v",1+AC15,IF(AB14="d",0,AC15)) -> 3 | AD14: =IF($C14=AD$1,$D14,IF($F14=AD$1,$E14,"-")) -> - | AE14: =IF(AD14="v",1+AE15,IF(AD14="d",0,AE15)) -> 0 | AF14: =IF($C14=AF$1,$D14,IF($F14=AF$1,$E14,"-")) -> - | AG14: =IF(AF14="v",1+AG15,IF(AF14="d",0,AG15)) -> 1 | AH14: =IF($C14=AH$1,$D14,IF($F14=AH$1,$E14,"-")) -> - | AI14: =IF(AH14="v",1+AI15,IF(AH14="d",0,AI15)) -> 0 | AJ14: =IF($C14=AJ$1,$D14,IF($F14=AJ$1,$E14,"-")) -> - | AK14: =IF(AJ14="v",1+AK15,IF(AJ14="d",0,AK15)) -> 2 | AL14: =IF($C14=AL$1,$D14,IF($F14=AL$1,$E14,"-")) -> - | AM14: =IF(AL14="v",1+AM15,IF(AL14="d",0,AM15)) -> 1 | AN14: =IF($C14=AN$1,$D14,IF($F14=AN$1,$E14,"-")) -> - | AO14: =IF(AN14="v",1+AO15,IF(AN14="d",0,AO15)) -> 0 | AP14: =IF($C14=AP$1,$D14,IF($F14=AP$1,$E14,"-")) -> - | AQ14: =IF(AP14="v",1+AQ15,IF(AP14="d",0,AQ15)) -> 2 | AR14: =IF($C14=AR$1,$D14,IF($F14=AR$1,$E14,"-")) -> - | AS14: =IF(AR14="v",1+AS15,IF(AR14="d",0,AS15)) -> 1 | AT14: =IF($C14=AT$1,$D14,IF($F14=AT$1,$E14,"-")) -> - | AU14: =IF(AT14="v",1+AU15,IF(AT14="d",0,AU15)) -> 1 | AV14: =IF($C14=AV$1,$D14,IF($F14=AV$1,$E14,"-")) -> - | AW14: =IF(AV14="v",1+AW15,IF(AV14="d",0,AW15)) -> 0
C15: Ben | D15: =IF(C18=E18,"n",IF(C18>E18,"v","d")) -> n | E15: =IF(C18=E18,"n",IF(C18<E18,"v","d")) -> n | F15: Mehdi | N15: =IF(C15=$N$1,D15,IF(F15=$N$1,E15,"-")) -> - | O15: =IF(N15="v",1+O16,IF(N15="d",0,O16)) -> 1 | P15: =IF(C15=$P$1,D15,IF(F15=$P$1,E15,"-")) -> - | Q15: =IF(P15="v",1+Q16,IF(P15="d",0,Q16)) -> 1 | R15: =IF($C15=R$1,$D15,IF($F15=R$1,$E15,"-")) -> - | S15: =IF(R15="v",1+S16,IF(R15="d",0,S16)) -> 3 | T15: =IF($C15=T$1,$D15,IF($F15=T$1,$E15,"-")) -> n | U15: =IF(T15="v",1+U16,IF(T15="d",0,U16)) -> 0 | V15: =IF($C15=V$1,$D15,IF($F15=V$1,$E15,"-")) -> n | W15: =IF(V15="v",1+W16,IF(V15="d",0,W16)) -> 1 | X15: =IF($C15=X$1,$D15,IF($F15=X$1,$E15,"-")) -> - | Y15: =IF(X15="v",1+Y16,IF(X15="d",0,Y16)) -> 0 | Z15: =IF($C15=Z$1,$D15,IF($F15=Z$1,$E15,"-")) -> - | AA15: =IF(Z15="v",1+AA16,IF(Z15="d",0,AA16)) -> 3 | AB15: =IF($C15=AB$1,$D15,IF($F15=AB$1,$E15,"-")) -> - | AC15: =IF(AB15="v",1+AC16,IF(AB15="d",0,AC16)) -> 3 | AD15: =IF($C15=AD$1,$D15,IF($F15=AD$1,$E15,"-")) -> - | AE15: =IF(AD15="v",1+AE16,IF(AD15="d",0,AE16)) -> 0 | AF15: =IF($C15=AF$1,$D15,IF($F15=AF$1,$E15,"-")) -> - | AG15: =IF(AF15="v",1+AG16,IF(AF15="d",0,AG16)) -> 1 | AH15: =IF($C15=AH$1,$D15,IF($F15=AH$1,$E15,"-")) -> - | AI15: =IF(AH15="v",1+AI16,IF(AH15="d",0,AI16)) -> 0 | AJ15: =IF($C15=AJ$1,$D15,IF($F15=AJ$1,$E15,"-")) -> - | AK15: =IF(AJ15="v",1+AK16,IF(AJ15="d",0,AK16)) -> 2 | AL15: =IF($C15=AL$1,$D15,IF($F15=AL$1,$E15,"-")) -> - | AM15: =IF(AL15="v",1+AM16,IF(AL15="d",0,AM16)) -> 1 | AN15: =IF($C15=AN$1,$D15,IF($F15=AN$1,$E15,"-")) -> - | AO15: =IF(AN15="v",1+AO16,IF(AN15="d",0,AO16)) -> 0 | AP15: =IF($C15=AP$1,$D15,IF($F15=AP$1,$E15,"-")) -> - | AQ15: =IF(AP15="v",1+AQ16,IF(AP15="d",0,AQ16)) -> 2 | AR15: =IF($C15=AR$1,$D15,IF($F15=AR$1,$E15,"-")) -> - | AS15: =IF(AR15="v",1+AS16,IF(AR15="d",0,AS16)) -> 1 | AT15: =IF($C15=AT$1,$D15,IF($F15=AT$1,$E15,"-")) -> - | AU15: =IF(AT15="v",1+AU16,IF(AT15="d",0,AU16)) -> 1 | AV15: =IF($C15=AV$1,$D15,IF($F15=AV$1,$E15,"-")) -> - | AW15: =IF(AV15="v",1+AW16,IF(AV15="d",0,AW16)) -> 0
C16: Paulo | D16: =IF(C18=E18,"n",IF(C18>E18,"v","d")) -> n | E16: =IF(C18=E18,"n",IF(C18<E18,"v","d")) -> n | F16: Maxou | N16: =IF(C16=$N$1,D16,IF(F16=$N$1,E16,"-")) -> - | O16: =IF(N16="v",1+O17,IF(N16="d",0,O17)) -> 1 | P16: =IF(C16=$P$1,D16,IF(F16=$P$1,E16,"-")) -> - | Q16: =IF(P16="v",1+Q17,IF(P16="d",0,Q17)) -> 1 | R16: =IF($C16=R$1,$D16,IF($F16=R$1,$E16,"-")) -> - | S16: =IF(R16="v",1+S17,IF(R16="d",0,S17)) -> 3 | T16: =IF($C16=T$1,$D16,IF($F16=T$1,$E16,"-")) -> - | U16: =IF(T16="v",1+U17,IF(T16="d",0,U17)) -> 0 | V16: =IF($C16=V$1,$D16,IF($F16=V$1,$E16,"-")) -> - | W16: =IF(V16="v",1+W17,IF(V16="d",0,W17)) -> 1 | X16: =IF($C16=X$1,$D16,IF($F16=X$1,$E16,"-")) -> - | Y16: =IF(X16="v",1+Y17,IF(X16="d",0,Y17)) -> 0 | Z16: =IF($C16=Z$1,$D16,IF($F16=Z$1,$E16,"-")) -> - | AA16: =IF(Z16="v",1+AA17,IF(Z16="d",0,AA17)) -> 3 | AB16: =IF($C16=AB$1,$D16,IF($F16=AB$1,$E16,"-")) -> - | AC16: =IF(AB16="v",1+AC17,IF(AB16="d",0,AC17)) -> 3 | AD16: =IF($C16=AD$1,$D16,IF($F16=AD$1,$E16,"-")) -> - | AE16: =IF(AD16="v",1+AE17,IF(AD16="d",0,AE17)) -> 0 | AF16: =IF($C16=AF$1,$D16,IF($F16=AF$1,$E16,"-")) -> n | AG16: =IF(AF16="v",1+AG17,IF(AF16="d",0,AG17)) -> 1 | AH16: =IF($C16=AH$1,$D16,IF($F16=AH$1,$E16,"-")) -> - | AI16: =IF(AH16="v",1+AI17,IF(AH16="d",0,AI17)) -> 0 | AJ16: =IF($C16=AJ$1,$D16,IF($F16=AJ$1,$E16,"-")) -> - | AK16: =IF(AJ16="v",1+AK17,IF(AJ16="d",0,AK17)) -> 2 | AL16: =IF($C16=AL$1,$D16,IF($F16=AL$1,$E16,"-")) -> - | AM16: =IF(AL16="v",1+AM17,IF(AL16="d",0,AM17)) -> 1 | AN16: =IF($C16=AN$1,$D16,IF($F16=AN$1,$E16,"-")) -> - | AO16: =IF(AN16="v",1+AO17,IF(AN16="d",0,AO17)) -> 0 | AP16: =IF($C16=AP$1,$D16,IF($F16=AP$1,$E16,"-")) -> n | AQ16: =IF(AP16="v",1+AQ17,IF(AP16="d",0,AQ17)) -> 2 | AR16: =IF($C16=AR$1,$D16,IF($F16=AR$1,$E16,"-")) -> - | AS16: =IF(AR16="v",1+AS17,IF(AR16="d",0,AS17)) -> 1 | AT16: =IF($C16=AT$1,$D16,IF($F16=AT$1,$E16,"-")) -> - | AU16: =IF(AT16="v",1+AU17,IF(AT16="d",0,AU17)) -> 1 | AV16: =IF($C16=AV$1,$D16,IF($F16=AV$1,$E16,"-")) -> - | AW16: =IF(AV16="v",1+AW17,IF(AV16="d",0,AW17)) -> 0
C17: Romain | D17: =IF(C18=E18,"n",IF(C18>E18,"v","d")) -> n | E17: =IF(C18=E18,"n",IF(C18<E18,"v","d")) -> n | F17: Bastien | N17: =IF(C17=$N$1,D17,IF(F17=$N$1,E17,"-")) -> - | O17: =IF(N17="v",1+O18,IF(N17="d",0,O18)) -> 1 | P17: =IF(C17=$P$1,D17,IF(F17=$P$1,E17,"-")) -> - | Q17: =IF(P17="v",1+Q18,IF(P17="d",0,Q18)) -> 1 | R17: =IF($C17=R$1,$D17,IF($F17=R$1,$E17,"-")) -> - | S17: =IF(R17="v",1+S18,IF(R17="d",0,S18)) -> 3 | T17: =IF($C17=T$1,$D17,IF($F17=T$1,$E17,"-")) -> - | U17: =IF(T17="v",1+U18,IF(T17="d",0,U18)) -> 0 | V17: =IF($C17=V$1,$D17,IF($F17=V$1,$E17,"-")) -> - | W17: =IF(V17="v",1+W18,IF(V17="d",0,W18)) -> 1 | X17: =IF($C17=X$1,$D17,IF($F17=X$1,$E17,"-")) -> - | Y17: =IF(X17="v",1+Y18,IF(X17="d",0,Y18)) -> 0 | Z17: =IF($C17=Z$1,$D17,IF($F17=Z$1,$E17,"-")) -> - | AA17: =IF(Z17="v",1+AA18,IF(Z17="d",0,AA18)) -> 3 | AB17: =IF($C17=AB$1,$D17,IF($F17=AB$1,$E17,"-")) -> - | AC17: =IF(AB17="v",1+AC18,IF(AB17="d",0,AC18)) -> 3 | AD17: =IF($C17=AD$1,$D17,IF($F17=AD$1,$E17,"-")) -> - | AE17: =IF(AD17="v",1+AE18,IF(AD17="d",0,AE18)) -> 0 | AF17: =IF($C17=AF$1,$D17,IF($F17=AF$1,$E17,"-")) -> - | AG17: =IF(AF17="v",1+AG18,IF(AF17="d",0,AG18)) -> 1 | AH17: =IF($C17=AH$1,$D17,IF($F17=AH$1,$E17,"-")) -> - | AI17: =IF(AH17="v",1+AI18,IF(AH17="d",0,AI18)) -> 0 | AJ17: =IF($C17=AJ$1,$D17,IF($F17=AJ$1,$E17,"-")) -> n | AK17: =IF(AJ17="v",1+AK18,IF(AJ17="d",0,AK18)) -> 2 | AL17: =IF($C17=AL$1,$D17,IF($F17=AL$1,$E17,"-")) -> - | AM17: =IF(AL17="v",1+AM18,IF(AL17="d",0,AM18)) -> 1 | AN17: =IF($C17=AN$1,$D17,IF($F17=AN$1,$E17,"-")) -> - | AO17: =IF(AN17="v",1+AO18,IF(AN17="d",0,AO18)) -> 0 | AP17: =IF($C17=AP$1,$D17,IF($F17=AP$1,$E17,"-")) -> - | AQ17: =IF(AP17="v",1+AQ18,IF(AP17="d",0,AQ18)) -> 2 | AR17: =IF($C17=AR$1,$D17,IF($F17=AR$1,$E17,"-")) -> - | AS17: =IF(AR17="v",1+AS18,IF(AR17="d",0,AS18)) -> 1 | AT17: =IF($C17=AT$1,$D17,IF($F17=AT$1,$E17,"-")) -> - | AU17: =IF(AT17="v",1+AU18,IF(AT17="d",0,AU18)) -> 1 | AV17: =IF($C17=AV$1,$D17,IF($F17=AV$1,$E17,"-")) -> - | AW17: =IF(AV17="v",1+AW18,IF(AV17="d",0,AW18)) -> 0
B18: SCORE | C18: 21 | E18: 21 | N18: =IF((COUNTIF(N13:N17,"d")=1),-ABS($C18-$E18),IF((COUNTIF(N13:N17,"v")=1),ABS($C18-$E18),0)) -> 0 | O18: =IF(N18="v",1+O19,IF(N18="d",0,O19)) -> 1 | P18: =IF((COUNTIF(P13:P17,"d")=1),-ABS($C18-$E18),IF((COUNTIF(P13:P17,"v")=1),ABS($C18-$E18),0)) -> 0 | Q18: =IF(P18="v",1+Q19,IF(P18="d",0,Q19)) -> 1 | R18: =IF((COUNTIF(R13:R17,"d")=1),-ABS($C18-$E18),IF((COUNTIF(R13:R17,"v")=1),ABS($C18-$E18),0)) -> 0 | S18: =IF(R18="v",1+S19,IF(R18="d",0,S19)) -> 3 | T18: =IF((COUNTIF(T13:T17,"d")=1),-ABS($C18-$E18),IF((COUNTIF(T13:T17,"v")=1),ABS($C18-$E18),0)) -> 0 | U18: =IF(T18="v",1+U19,IF(T18="d",0,U19)) -> 0 | V18: =IF((COUNTIF(V13:V17,"d")=1),-ABS($C18-$E18),IF((COUNTIF(V13:V17,"v")=1),ABS($C18-$E18),0)) -> 0 | W18: =IF(V18="v",1+W19,IF(V18="d",0,W19)) -> 1 | X18: =IF((COUNTIF(X13:X17,"d")=1),-ABS($C18-$E18),IF((COUNTIF(X13:X17,"v")=1),ABS($C18-$E18),0)) -> 0 | Y18: =IF(X18="v",1+Y19,IF(X18="d",0,Y19)) -> 0 | Z18: =IF((COUNTIF(Z13:Z17,"d")=1),-ABS($C18-$E18),IF((COUNTIF(Z13:Z17,"v")=1),ABS($C18-$E18),0)) -> 0 | AA18: =IF(Z18="v",1+AA19,IF(Z18="d",0,AA19)) -> 3 | AB18: =IF((COUNTIF(AB13:AB17,"d")=1),-ABS($C18-$E18),IF((COUNTIF(AB13:AB17,"v")=1),ABS($C18-$E18),0)) -> 0 | AC18: =IF(AB18="v",1+AC19,IF(AB18="d",0,AC19)) -> 3 | AD18: =IF((COUNTIF(AD13:AD17,"d")=1),-ABS($C18-$E18),IF((COUNTIF(AD13:AD17,"v")=1),ABS($C18-$E18),0)) -> 0 | AE18: =IF(AD18="v",1+AE19,IF(AD18="d",0,AE19)) -> 0 | AF18: =IF((COUNTIF(AF13:AF17,"d")=1),-ABS($C18-$E18),IF((COUNTIF(AF13:AF17,"v")=1),ABS($C18-$E18),0)) -> 0 | AG18: =IF(AF18="v",1+AG19,IF(AF18="d",0,AG19)) -> 1 | AH18: =IF((COUNTIF(AH13:AH17,"d")=1),-ABS($C18-$E18),IF((COUNTIF(AH13:AH17,"v")=1),ABS($C18-$E18),0)) -> 0 | AI18: =IF(AH18="v",1+AI19,IF(AH18="d",0,AI19)) -> 0 | AJ18: =IF((COUNTIF(AJ13:AJ17,"d")=1),-ABS($C18-$E18),IF((COUNTIF(AJ13:AJ17,"v")=1),ABS($C18-$E18),0)) -> 0 | AK18: =IF(AJ18="v",1+AK19,IF(AJ18="d",0,AK19)) -> 2 | AL18: =IF((COUNTIF(AL13:AL17,"d")=1),-ABS($C18-$E18),IF((COUNTIF(AL13:AL17,"v")=1),ABS($C18-$E18),0)) -> 0 | AM18: =IF(AL18="v",1+AM19,IF(AL18="d",0,AM19)) -> 1 | AN18: =IF((COUNTIF(AN13:AN17,"d")=1),-ABS($C18-$E18),IF((COUNTIF(AN13:AN17,"v")=1),ABS($C18-$E18),0)) -> 0 | AO18: =IF(AN18="v",1+AO19,IF(AN18="d",0,AO19)) -> 0 | AP18: =IF((COUNTIF(AP13:AP17,"d")=1),-ABS($C18-$E18),IF((COUNTIF(AP13:AP17,"v")=1),ABS($C18-$E18),0)) -> 0 | AQ18: =IF(AP18="v",1+AQ19,IF(AP18="d",0,AQ19)) -> 2 | AR18: =IF((COUNTIF(AR13:AR17,"d")=1),-ABS($C18-$E18),IF((COUNTIF(AR13:AR17,"v")=1),ABS($C18-$E18),0)) -> 0 | AS18: =IF(AR18="v",1+AS19,IF(AR18="d",0,AS19)) -> 1 | AT18: =IF((COUNTIF(AT13:AT17,"d")=1),-ABS($C18-$E18),IF((COUNTIF(AT13:AT17,"v")=1),ABS($C18-$E18),0)) -> 0 | AU18: =IF(AT18="v",1+AU19,IF(AT18="d",0,AU19)) -> 1 | AV18: =IF((COUNTIF(AV13:AV17,"d")=1),-ABS($C18-$E18),IF((COUNTIF(AV13:AV17,"v")=1),ABS($C18-$E18),0)) -> 0 | AW18: =IF(AV18="v",1+AW19,IF(AV18="d",0,AW19)) -> 0
O19: =IF(N19="v",1+O20,IF(N19="d",0,O20)) -> 1 | Q19: =IF(P19="v",1+Q20,IF(P19="d",0,Q20)) -> 1 | S19: =IF(R19="v",1+S20,IF(R19="d",0,S20)) -> 3 | U19: =IF(T19="v",1+U20,IF(T19="d",0,U20)) -> 0 | W19: =IF(V19="v",1+W20,IF(V19="d",0,W20)) -> 1 | Y19: =IF(X19="v",1+Y20,IF(X19="d",0,Y20)) -> 0 | AA19: =IF(Z19="v",1+AA20,IF(Z19="d",0,AA20)) -> 3 | AC19: =IF(AB19="v",1+AC20,IF(AB19="d",0,AC20)) -> 3 | AE19: =IF(AD19="v",1+AE20,IF(AD19="d",0,AE20)) -> 0 | AG19: =IF(AF19="v",1+AG20,IF(AF19="d",0,AG20)) -> 1 | AI19: =IF(AH19="v",1+AI20,IF(AH19="d",0,AI20)) -> 0 | AK19: =IF(AJ19="v",1+AK20,IF(AJ19="d",0,AK20)) -> 2 | AM19: =IF(AL19="v",1+AM20,IF(AL19="d",0,AM20)) -> 1 | AO19: =IF(AN19="v",1+AO20,IF(AN19="d",0,AO20)) -> 0 | AQ19: =IF(AP19="v",1+AQ20,IF(AP19="d",0,AQ20)) -> 2 | AS19: =IF(AR19="v",1+AS20,IF(AR19="d",0,AS20)) -> 1 | AU19: =IF(AT19="v",1+AU20,IF(AT19="d",0,AU20)) -> 1 | AW19: =IF(AV19="v",1+AW20,IF(AV19="d",0,AW20)) -> 0
B20: 42113 | O20: =IF(N20="v",1+O21,IF(N20="d",0,O21)) -> 1 | Q20: =IF(P20="v",1+Q21,IF(P20="d",0,Q21)) -> 1 | S20: =IF(R20="v",1+S21,IF(R20="d",0,S21)) -> 3 | U20: =IF(T20="v",1+U21,IF(T20="d",0,U21)) -> 0 | W20: =IF(V20="v",1+W21,IF(V20="d",0,W21)) -> 1 | Y20: =IF(X20="v",1+Y21,IF(X20="d",0,Y21)) -> 0 | AA20: =IF(Z20="v",1+AA21,IF(Z20="d",0,AA21)) -> 3 | AC20: =IF(AB20="v",1+AC21,IF(AB20="d",0,AC21)) -> 3 | AE20: =IF(AD20="v",1+AE21,IF(AD20="d",0,AE21)) -> 0 | AG20: =IF(AF20="v",1+AG21,IF(AF20="d",0,AG21)) -> 1 | AI20: =IF(AH20="v",1+AI21,IF(AH20="d",0,AI21)) -> 0 | AK20: =IF(AJ20="v",1+AK21,IF(AJ20="d",0,AK21)) -> 2 | AM20: =IF(AL20="v",1+AM21,IF(AL20="d",0,AM21)) -> 1 | AO20: =IF(AN20="v",1+AO21,IF(AN20="d",0,AO21)) -> 0 | AQ20: =IF(AP20="v",1+AQ21,IF(AP20="d",0,AQ21)) -> 2 | AS20: =IF(AR20="v",1+AS21,IF(AR20="d",0,AS21)) -> 1 | AU20: =IF(AT20="v",1+AU21,IF(AT20="d",0,AU21)) -> 1 | AW20: =IF(AV20="v",1+AW21,IF(AV20="d",0,AW21)) -> 0
C21: T1 | E21: T2 | O21: =IF(N21="v",1+O22,IF(N21="d",0,O22)) -> 1 | Q21: =IF(P21="v",1+Q22,IF(P21="d",0,Q22)) -> 1 | S21: =IF(R21="v",1+S22,IF(R21="d",0,S22)) -> 3 | U21: =IF(T21="v",1+U22,IF(T21="d",0,U22)) -> 0 | W21: =IF(V21="v",1+W22,IF(V21="d",0,W22)) -> 1 | Y21: =IF(X21="v",1+Y22,IF(X21="d",0,Y22)) -> 0 | AA21: =IF(Z21="v",1+AA22,IF(Z21="d",0,AA22)) -> 3 | AC21: =IF(AB21="v",1+AC22,IF(AB21="d",0,AC22)) -> 3 | AE21: =IF(AD21="v",1+AE22,IF(AD21="d",0,AE22)) -> 0 | AG21: =IF(AF21="v",1+AG22,IF(AF21="d",0,AG22)) -> 1 | AI21: =IF(AH21="v",1+AI22,IF(AH21="d",0,AI22)) -> 0 | AK21: =IF(AJ21="v",1+AK22,IF(AJ21="d",0,AK22)) -> 2 | AM21: =IF(AL21="v",1+AM22,IF(AL21="d",0,AM22)) -> 1 | AO21: =IF(AN21="v",1+AO22,IF(AN21="d",0,AO22)) -> 0 | AQ21: =IF(AP21="v",1+AQ22,IF(AP21="d",0,AQ22)) -> 2 | AS21: =IF(AR21="v",1+AS22,IF(AR21="d",0,AS22)) -> 1 | AU21: =IF(AT21="v",1+AU22,IF(AT21="d",0,AU22)) -> 1 | AW21: =IF(AV21="v",1+AW22,IF(AV21="d",0,AW22)) -> 0
C22: Gui | D22: =IF(C27=E27,"n",IF(C27>E27,"v","d")) -> v | E22: =IF(C27=E27,"n",IF(C27<E27,"v","d")) -> d | F22: Olivier | N22: =IF(C22=$N$1,D22,IF(F22=$N$1,E22,"-")) -> v | O22: =IF(N22="v",1+O23,IF(N22="d",0,O23)) -> 1 | P22: =IF($C22=$P$1,$D22,IF($F22=$P$1,$E22,"-")) -> - | Q22: =IF(P22="v",1+Q23,IF(P22="d",0,Q23)) -> 1 | R22: =IF($C22=R$1,$D22,IF($F22=R$1,$E22,"-")) -> - | S22: =IF(R22="v",1+S23,IF(R22="d",0,S23)) -> 3 | T22: =IF($C22=T$1,$D22,IF($F22=T$1,$E22,"-")) -> - | U22: =IF(T22="v",1+U23,IF(T22="d",0,U23)) -> 0 | V22: =IF($C22=V$1,$D22,IF($F22=V$1,$E22,"-")) -> - | W22: =IF(V22="v",1+W23,IF(V22="d",0,W23)) -> 1 | X22: =IF($C22=X$1,$D22,IF($F22=X$1,$E22,"-")) -> - | Y22: =IF(X22="v",1+Y23,IF(X22="d",0,Y23)) -> 0 | Z22: =IF($C22=Z$1,$D22,IF($F22=Z$1,$E22,"-")) -> - | AA22: =IF(Z22="v",1+AA23,IF(Z22="d",0,AA23)) -> 3 | AB22: =IF($C22=AB$1,$D22,IF($F22=AB$1,$E22,"-")) -> - | AC22: =IF(AB22="v",1+AC23,IF(AB22="d",0,AC23)) -> 3 | AD22: =IF($C22=AD$1,$D22,IF($F22=AD$1,$E22,"-")) -> - | AE22: =IF(AD22="v",1+AE23,IF(AD22="d",0,AE23)) -> 0 | AF22: =IF($C22=AF$1,$D22,IF($F22=AF$1,$E22,"-")) -> - | AG22: =IF(AF22="v",1+AG23,IF(AF22="d",0,AG23)) -> 1 | AH22: =IF($C22=AH$1,$D22,IF($F22=AH$1,$E22,"-")) -> d | AI22: =IF(AH22="v",1+AI23,IF(AH22="d",0,AI23)) -> 0 | AJ22: =IF($C22=AJ$1,$D22,IF($F22=AJ$1,$E22,"-")) -> - | AK22: =IF(AJ22="v",1+AK23,IF(AJ22="d",0,AK23)) -> 2 | AL22: =IF($C22=AL$1,$D22,IF($F22=AL$1,$E22,"-")) -> - | AM22: =IF(AL22="v",1+AM23,IF(AL22="d",0,AM23)) -> 1 | AN22: =IF($C22=AN$1,$D22,IF($F22=AN$1,$E22,"-")) -> - | AO22: =IF(AN22="v",1+AO23,IF(AN22="d",0,AO23)) -> 0 | AP22: =IF($C22=AP$1,$D22,IF($F22=AP$1,$E22,"-")) -> - | AQ22: =IF(AP22="v",1+AQ23,IF(AP22="d",0,AQ23)) -> 2 | AR22: =IF($C22=AR$1,$D22,IF($F22=AR$1,$E22,"-")) -> - | AS22: =IF(AR22="v",1+AS23,IF(AR22="d",0,AS23)) -> 1 | AT22: =IF($C22=AT$1,$D22,IF($F22=AT$1,$E22,"-")) -> - | AU22: =IF(AT22="v",1+AU23,IF(AT22="d",0,AU23)) -> 1 | AV22: =IF($C22=AV$1,$D22,IF($F22=AV$1,$E22,"-")) -> - | AW22: =IF(AV22="v",1+AW23,IF(AV22="d",0,AW23)) -> 0
C23: Maxou | D23: =IF(C27=E27,"n",IF(C27>E27,"v","d")) -> v | E23: =IF(C27=E27,"n",IF(C27<E27,"v","d")) -> d | F23: Rémi C | N23: =IF(C23=$N$1,D23,IF(F23=$N$1,E23,"-")) -> - | O23: =IF(N23="v",1+O24,IF(N23="d",0,O24)) -> 0 | P23: =IF(C23=$P$1,D23,IF(F23=$P$1,E23,"-")) -> - | Q23: =IF(P23="v",1+Q24,IF(P23="d",0,Q24)) -> 1 | R23: =IF($C23=R$1,$D23,IF($F23=R$1,$E23,"-")) -> - | S23: =IF(R23="v",1+S24,IF(R23="d",0,S24)) -> 3 | T23: =IF($C23=T$1,$D23,IF($F23=T$1,$E23,"-")) -> - | U23: =IF(T23="v",1+U24,IF(T23="d",0,U24)) -> 0 | V23: =IF($C23=V$1,$D23,IF($F23=V$1,$E23,"-")) -> - | W23: =IF(V23="v",1+W24,IF(V23="d",0,W24)) -> 1 | X23: =IF($C23=X$1,$D23,IF($F23=X$1,$E23,"-")) -> - | Y23: =IF(X23="v",1+Y24,IF(X23="d",0,Y24)) -> 0 | Z23: =IF($C23=Z$1,$D23,IF($F23=Z$1,$E23,"-")) -> - | AA23: =IF(Z23="v",1+AA24,IF(Z23="d",0,AA24)) -> 3 | AB23: =IF($C23=AB$1,$D23,IF($F23=AB$1,$E23,"-")) -> - | AC23: =IF(AB23="v",1+AC24,IF(AB23="d",0,AC24)) -> 3 | AD23: =IF($C23=AD$1,$D23,IF($F23=AD$1,$E23,"-")) -> - | AE23: =IF(AD23="v",1+AE24,IF(AD23="d",0,AE24)) -> 0 | AF23: =IF($C23=AF$1,$D23,IF($F23=AF$1,$E23,"-")) -> v | AG23: =IF(AF23="v",1+AG24,IF(AF23="d",0,AG24)) -> 1 | AH23: =IF($C23=AH$1,$D23,IF($F23=AH$1,$E23,"-")) -> - | AI23: =IF(AH23="v",1+AI24,IF(AH23="d",0,AI24)) -> 4 | AJ23: =IF($C23=AJ$1,$D23,IF($F23=AJ$1,$E23,"-")) -> - | AK23: =IF(AJ23="v",1+AK24,IF(AJ23="d",0,AK24)) -> 2 | AL23: =IF($C23=AL$1,$D23,IF($F23=AL$1,$E23,"-")) -> - | AM23: =IF(AL23="v",1+AM24,IF(AL23="d",0,AM24)) -> 1 | AN23: =IF($C23=AN$1,$D23,IF($F23=AN$1,$E23,"-")) -> d | AO23: =IF(AN23="v",1+AO24,IF(AN23="d",0,AO24)) -> 0 | AP23: =IF($C23=AP$1,$D23,IF($F23=AP$1,$E23,"-")) -> - | AQ23: =IF(AP23="v",1+AQ24,IF(AP23="d",0,AQ24)) -> 2 | AR23: =IF($C23=AR$1,$D23,IF($F23=AR$1,$E23,"-")) -> - | AS23: =IF(AR23="v",1+AS24,IF(AR23="d",0,AS24)) -> 1 | AT23: =IF($C23=AT$1,$D23,IF($F23=AT$1,$E23,"-")) -> - | AU23: =IF(AT23="v",1+AU24,IF(AT23="d",0,AU24)) -> 1 | AV23: =IF($C23=AV$1,$D23,IF($F23=AV$1,$E23,"-")) -> - | AW23: =IF(AV23="v",1+AW24,IF(AV23="d",0,AW24)) -> 0
C24: Mehdi | D24: =IF(C27=E27,"n",IF(C27>E27,"v","d")) -> v | E24: =IF(C27=E27,"n",IF(C27<E27,"v","d")) -> d | F24: Plamont | N24: =IF(C24=$N$1,D24,IF(F24=$N$1,E24,"-")) -> - | O24: =IF(N24="v",1+O25,IF(N24="d",0,O25)) -> 0 | P24: =IF(C24=$P$1,D24,IF(F24=$P$1,E24,"-")) -> - | Q24: =IF(P24="v",1+Q25,IF(P24="d",0,Q25)) -> 1 | R24: =IF($C24=R$1,$D24,IF($F24=R$1,$E24,"-")) -> - | S24: =IF(R24="v",1+S25,IF(R24="d",0,S25)) -> 3 | T24: =IF($C24=T$1,$D24,IF($F24=T$1,$E24,"-")) -> - | U24: =IF(T24="v",1+U25,IF(T24="d",0,U25)) -> 0 | V24: =IF($C24=V$1,$D24,IF($F24=V$1,$E24,"-")) -> v | W24: =IF(V24="v",1+W25,IF(V24="d",0,W25)) -> 1 | X24: =IF($C24=X$1,$D24,IF($F24=X$1,$E24,"-")) -> - | Y24: =IF(X24="v",1+Y25,IF(X24="d",0,Y25)) -> 0 | Z24: =IF($C24=Z$1,$D24,IF($F24=Z$1,$E24,"-")) -> - | AA24: =IF(Z24="v",1+AA25,IF(Z24="d",0,AA25)) -> 3 | AB24: =IF($C24=AB$1,$D24,IF($F24=AB$1,$E24,"-")) -> - | AC24: =IF(AB24="v",1+AC25,IF(AB24="d",0,AC25)) -> 3 | AD24: =IF($C24=AD$1,$D24,IF($F24=AD$1,$E24,"-")) -> - | AE24: =IF(AD24="v",1+AE25,IF(AD24="d",0,AE25)) -> 0 | AF24: =IF($C24=AF$1,$D24,IF($F24=AF$1,$E24,"-")) -> - | AG24: =IF(AF24="v",1+AG25,IF(AF24="d",0,AG25)) -> 0 | AH24: =IF($C24=AH$1,$D24,IF($F24=AH$1,$E24,"-")) -> - | AI24: =IF(AH24="v",1+AI25,IF(AH24="d",0,AI25)) -> 4 | AJ24: =IF($C24=AJ$1,$D24,IF($F24=AJ$1,$E24,"-")) -> - | AK24: =IF(AJ24="v",1+AK25,IF(AJ24="d",0,AK25)) -> 2 | AL24: =IF($C24=AL$1,$D24,IF($F24=AL$1,$E24,"-")) -> - | AM24: =IF(AL24="v",1+AM25,IF(AL24="d",0,AM25)) -> 1 | AN24: =IF($C24=AN$1,$D24,IF($F24=AN$1,$E24,"-")) -> - | AO24: =IF(AN24="v",1+AO25,IF(AN24="d",0,AO25)) -> 1 | AP24: =IF($C24=AP$1,$D24,IF($F24=AP$1,$E24,"-")) -> - | AQ24: =IF(AP24="v",1+AQ25,IF(AP24="d",0,AQ25)) -> 2 | AR24: =IF($C24=AR$1,$D24,IF($F24=AR$1,$E24,"-")) -> - | AS24: =IF(AR24="v",1+AS25,IF(AR24="d",0,AS25)) -> 1 | AT24: =IF($C24=AT$1,$D24,IF($F24=AT$1,$E24,"-")) -> - | AU24: =IF(AT24="v",1+AU25,IF(AT24="d",0,AU25)) -> 1 | AV24: =IF($C24=AV$1,$D24,IF($F24=AV$1,$E24,"-")) -> - | AW24: =IF(AV24="v",1+AW25,IF(AV24="d",0,AW25)) -> 0
C25: Ambroise | D25: =IF(C27=E27,"n",IF(C27>E27,"v","d")) -> v | E25: =IF(C27=E27,"n",IF(C27<E27,"v","d")) -> d | F25: Bastien | N25: =IF(C25=$N$1,D25,IF(F25=$N$1,E25,"-")) -> - | O25: =IF(N25="v",1+O26,IF(N25="d",0,O26)) -> 0 | P25: =IF(C25=$P$1,D25,IF(F25=$P$1,E25,"-")) -> - | Q25: =IF(P25="v",1+Q26,IF(P25="d",0,Q26)) -> 1 | R25: =IF($C25=R$1,$D25,IF($F25=R$1,$E25,"-")) -> - | S25: =IF(R25="v",1+S26,IF(R25="d",0,S26)) -> 3 | T25: =IF($C25=T$1,$D25,IF($F25=T$1,$E25,"-")) -> - | U25: =IF(T25="v",1+U26,IF(T25="d",0,U26)) -> 0 | V25: =IF($C25=V$1,$D25,IF($F25=V$1,$E25,"-")) -> - | W25: =IF(V25="v",1+W26,IF(V25="d",0,W26)) -> 0 | X25: =IF($C25=X$1,$D25,IF($F25=X$1,$E25,"-")) -> - | Y25: =IF(X25="v",1+Y26,IF(X25="d",0,Y26)) -> 0 | Z25: =IF($C25=Z$1,$D25,IF($F25=Z$1,$E25,"-")) -> - | AA25: =IF(Z25="v",1+AA26,IF(Z25="d",0,AA26)) -> 3 | AB25: =IF($C25=AB$1,$D25,IF($F25=AB$1,$E25,"-")) -> - | AC25: =IF(AB25="v",1+AC26,IF(AB25="d",0,AC26)) -> 3 | AD25: =IF($C25=AD$1,$D25,IF($F25=AD$1,$E25,"-")) -> - | AE25: =IF(AD25="v",1+AE26,IF(AD25="d",0,AE26)) -> 0 | AF25: =IF($C25=AF$1,$D25,IF($F25=AF$1,$E25,"-")) -> - | AG25: =IF(AF25="v",1+AG26,IF(AF25="d",0,AG26)) -> 0 | AH25: =IF($C25=AH$1,$D25,IF($F25=AH$1,$E25,"-")) -> - | AI25: =IF(AH25="v",1+AI26,IF(AH25="d",0,AI26)) -> 4 | AJ25: =IF($C25=AJ$1,$D25,IF($F25=AJ$1,$E25,"-")) -> - | AK25: =IF(AJ25="v",1+AK26,IF(AJ25="d",0,AK26)) -> 2 | AL25: =IF($C25=AL$1,$D25,IF($F25=AL$1,$E25,"-")) -> - | AM25: =IF(AL25="v",1+AM26,IF(AL25="d",0,AM26)) -> 1 | AN25: =IF($C25=AN$1,$D25,IF($F25=AN$1,$E25,"-")) -> - | AO25: =IF(AN25="v",1+AO26,IF(AN25="d",0,AO26)) -> 1 | AP25: =IF($C25=AP$1,$D25,IF($F25=AP$1,$E25,"-")) -> - | AQ25: =IF(AP25="v",1+AQ26,IF(AP25="d",0,AQ26)) -> 2 | AR25: =IF($C25=AR$1,$D25,IF($F25=AR$1,$E25,"-")) -> - | AS25: =IF(AR25="v",1+AS26,IF(AR25="d",0,AS26)) -> 1 | AT25: =IF($C25=AT$1,$D25,IF($F25=AT$1,$E25,"-")) -> - | AU25: =IF(AT25="v",1+AU26,IF(AT25="d",0,AU26)) -> 1 | AV25: =IF($C25=AV$1,$D25,IF($F25=AV$1,$E25,"-")) -> - | AW25: =IF(AV25="v",1+AW26,IF(AV25="d",0,AW26)) -> 0
C26: Rios | D26: =IF(C27=E27,"n",IF(C27>E27,"v","d")) -> v | E26: =IF(C27=E27,"n",IF(C27<E27,"v","d")) -> d | F26: Klaim | N26: =IF(C26=$N$1,D26,IF(F26=$N$1,E26,"-")) -> - | O26: =IF(N26="v",1+O27,IF(N26="d",0,O27)) -> 0 | P26: =IF(C26=$P$1,D26,IF(F26=$P$1,E26,"-")) -> v | Q26: =IF(P26="v",1+Q27,IF(P26="d",0,Q27)) -> 1 | R26: =IF($C26=R$1,$D26,IF($F26=R$1,$E26,"-")) -> - | S26: =IF(R26="v",1+S27,IF(R26="d",0,S27)) -> 3 | T26: =IF($C26=T$1,$D26,IF($F26=T$1,$E26,"-")) -> - | U26: =IF(T26="v",1+U27,IF(T26="d",0,U27)) -> 0 | V26: =IF($C26=V$1,$D26,IF($F26=V$1,$E26,"-")) -> - | W26: =IF(V26="v",1+W27,IF(V26="d",0,W27)) -> 0 | X26: =IF($C26=X$1,$D26,IF($F26=X$1,$E26,"-")) -> - | Y26: =IF(X26="v",1+Y27,IF(X26="d",0,Y27)) -> 0 | Z26: =IF($C26=Z$1,$D26,IF($F26=Z$1,$E26,"-")) -> - | AA26: =IF(Z26="v",1+AA27,IF(Z26="d",0,AA27)) -> 3 | AB26: =IF($C26=AB$1,$D26,IF($F26=AB$1,$E26,"-")) -> - | AC26: =IF(AB26="v",1+AC27,IF(AB26="d",0,AC27)) -> 3 | AD26: =IF($C26=AD$1,$D26,IF($F26=AD$1,$E26,"-")) -> d | AE26: =IF(AD26="v",1+AE27,IF(AD26="d",0,AE27)) -> 0 | AF26: =IF($C26=AF$1,$D26,IF($F26=AF$1,$E26,"-")) -> - | AG26: =IF(AF26="v",1+AG27,IF(AF26="d",0,AG27)) -> 0 | AH26: =IF($C26=AH$1,$D26,IF($F26=AH$1,$E26,"-")) -> - | AI26: =IF(AH26="v",1+AI27,IF(AH26="d",0,AI27)) -> 4 | AJ26: =IF($C26=AJ$1,$D26,IF($F26=AJ$1,$E26,"-")) -> - | AK26: =IF(AJ26="v",1+AK27,IF(AJ26="d",0,AK27)) -> 2 | AL26: =IF($C26=AL$1,$D26,IF($F26=AL$1,$E26,"-")) -> - | AM26: =IF(AL26="v",1+AM27,IF(AL26="d",0,AM27)) -> 1 | AN26: =IF($C26=AN$1,$D26,IF($F26=AN$1,$E26,"-")) -> - | AO26: =IF(AN26="v",1+AO27,IF(AN26="d",0,AO27)) -> 1 | AP26: =IF($C26=AP$1,$D26,IF($F26=AP$1,$E26,"-")) -> - | AQ26: =IF(AP26="v",1+AQ27,IF(AP26="d",0,AQ27)) -> 2 | AR26: =IF($C26=AR$1,$D26,IF($F26=AR$1,$E26,"-")) -> - | AS26: =IF(AR26="v",1+AS27,IF(AR26="d",0,AS27)) -> 1 | AT26: =IF($C26=AT$1,$D26,IF($F26=AT$1,$E26,"-")) -> - | AU26: =IF(AT26="v",1+AU27,IF(AT26="d",0,AU27)) -> 1 | AV26: =IF($C26=AV$1,$D26,IF($F26=AV$1,$E26,"-")) -> - | AW26: =IF(AV26="v",1+AW27,IF(AV26="d",0,AW27)) -> 0
B27: SCORE | C27: 27 | E27: 15 | N27: =IF((COUNTIF(N22:N26,"d")=1),-ABS($C27-$E27),IF((COUNTIF(N22:N26,"v")=1),ABS($C27-$E27),0)) -> 12 | O27: =IF(N27="v",1+O28,IF(N27="d",0,O28)) -> 0 | P27: =IF((COUNTIF(P22:P26,"d")=1),-ABS($C27-$E27),IF((COUNTIF(P22:P26,"v")=1),ABS($C27-$E27),0)) -> 12 | Q27: =IF(P27="v",1+Q28,IF(P27="d",0,Q28)) -> 0 | R27: =IF((COUNTIF(R22:R26,"d")=1),-ABS($C27-$E27),IF((COUNTIF(R22:R26,"v")=1),ABS($C27-$E27),0)) -> 0 | S27: =IF(R27="v",1+S28,IF(R27="d",0,S28)) -> 3 | T27: =IF((COUNTIF(T22:T26,"d")=1),-ABS($C27-$E27),IF((COUNTIF(T22:T26,"v")=1),ABS($C27-$E27),0)) -> 0 | U27: =IF(T27="v",1+U28,IF(T27="d",0,U28)) -> 0 | V27: =IF((COUNTIF(V22:V26,"d")=1),-ABS($C27-$E27),IF((COUNTIF(V22:V26,"v")=1),ABS($C27-$E27),0)) -> 12 | W27: =IF(V27="v",1+W28,IF(V27="d",0,W28)) -> 0 | X27: =IF((COUNTIF(X22:X26,"d")=1),-ABS($C27-$E27),IF((COUNTIF(X22:X26,"v")=1),ABS($C27-$E27),0)) -> 0 | Y27: =IF(X27="v",1+Y28,IF(X27="d",0,Y28)) -> 0 | Z27: =IF((COUNTIF(Z22:Z26,"d")=1),-ABS($C27-$E27),IF((COUNTIF(Z22:Z26,"v")=1),ABS($C27-$E27),0)) -> 0 | AA27: =IF(Z27="v",1+AA28,IF(Z27="d",0,AA28)) -> 3 | AB27: =IF((COUNTIF(AB22:AB26,"d")=1),-ABS($C27-$E27),IF((COUNTIF(AB22:AB26,"v")=1),ABS($C27-$E27),0)) -> 0 | AC27: =IF(AB27="v",1+AC28,IF(AB27="d",0,AC28)) -> 3 | AD27: =IF((COUNTIF(AD22:AD26,"d")=1),-ABS($C27-$E27),IF((COUNTIF(AD22:AD26,"v")=1),ABS($C27-$E27),0)) -> -12 | AE27: =IF(AD27="v",1+AE28,IF(AD27="d",0,AE28)) -> 1 | AF27: =IF((COUNTIF(AF22:AF26,"d")=1),-ABS($C27-$E27),IF((COUNTIF(AF22:AF26,"v")=1),ABS($C27-$E27),0)) -> 12 | AG27: =IF(AF27="v",1+AG28,IF(AF27="d",0,AG28)) -> 0 | AH27: =IF((COUNTIF(AH22:AH26,"d")=1),-ABS($C27-$E27),IF((COUNTIF(AH22:AH26,"v")=1),ABS($C27-$E27),0)) -> -12 | AI27: =IF(AH27="v",1+AI28,IF(AH27="d",0,AI28)) -> 4 | AJ27: =IF((COUNTIF(AJ22:AJ26,"d")=1),-ABS($C27-$E27),IF((COUNTIF(AJ22:AJ26,"v")=1),ABS($C27-$E27),0)) -> 0 | AK27: =IF(AJ27="v",1+AK28,IF(AJ27="d",0,AK28)) -> 2 | AL27: =IF((COUNTIF(AL22:AL26,"d")=1),-ABS($C27-$E27),IF((COUNTIF(AL22:AL26,"v")=1),ABS($C27-$E27),0)) -> 0 | AM27: =IF(AL27="v",1+AM28,IF(AL27="d",0,AM28)) -> 1 | AN27: =IF((COUNTIF(AN22:AN26,"d")=1),-ABS($C27-$E27),IF((COUNTIF(AN22:AN26,"v")=1),ABS($C27-$E27),0)) -> -12 | AO27: =IF(AN27="v",1+AO28,IF(AN27="d",0,AO28)) -> 1 | AP27: =IF((COUNTIF(AP22:AP26,"d")=1),-ABS($C27-$E27),IF((COUNTIF(AP22:AP26,"v")=1),ABS($C27-$E27),0)) -> 0 | AQ27: =IF(AP27="v",1+AQ28,IF(AP27="d",0,AQ28)) -> 2 | AR27: =IF((COUNTIF(AR22:AR26,"d")=1),-ABS($C27-$E27),IF((COUNTIF(AR22:AR26,"v")=1),ABS($C27-$E27),0)) -> 0 | AS27: =IF(AR27="v",1+AS28,IF(AR27="d",0,AS28)) -> 1 | AT27: =IF((COUNTIF(AT22:AT26,"d")=1),-ABS($C27-$E27),IF((COUNTIF(AT22:AT26,"v")=1),ABS($C27-$E27),0)) -> 0 | AU27: =IF(AT27="v",1+AU28,IF(AT27="d",0,AU28)) -> 1 | AV27: =IF((COUNTIF(AV22:AV26,"d")=1),-ABS($C27-$E27),IF((COUNTIF(AV22:AV26,"v")=1),ABS($C27-$E27),0)) -> 0 | AW27: =IF(AV27="v",1+AW28,IF(AV27="d",0,AW28)) -> 0
O28: =IF(N28="v",1+O29,IF(N28="d",0,O29)) -> 0 | Q28: =IF(P28="v",1+Q29,IF(P28="d",0,Q29)) -> 0 | S28: =IF(R28="v",1+S29,IF(R28="d",0,S29)) -> 3 | U28: =IF(T28="v",1+U29,IF(T28="d",0,U29)) -> 0 | W28: =IF(V28="v",1+W29,IF(V28="d",0,W29)) -> 0 | Y28: =IF(X28="v",1+Y29,IF(X28="d",0,Y29)) -> 0 | AA28: =IF(Z28="v",1+AA29,IF(Z28="d",0,AA29)) -> 3 | AC28: =IF(AB28="v",1+AC29,IF(AB28="d",0,AC29)) -> 3 | AE28: =IF(AD28="v",1+AE29,IF(AD28="d",0,AE29)) -> 1 | AG28: =IF(AF28="v",1+AG29,IF(AF28="d",0,AG29)) -> 0 | AI28: =IF(AH28="v",1+AI29,IF(AH28="d",0,AI29)) -> 4 | AK28: =IF(AJ28="v",1+AK29,IF(AJ28="d",0,AK29)) -> 2 | AM28: =IF(AL28="v",1+AM29,IF(AL28="d",0,AM29)) -> 1 | AO28: =IF(AN28="v",1+AO29,IF(AN28="d",0,AO29)) -> 1 | AQ28: =IF(AP28="v",1+AQ29,IF(AP28="d",0,AQ29)) -> 2 | AS28: =IF(AR28="v",1+AS29,IF(AR28="d",0,AS29)) -> 1 | AU28: =IF(AT28="v",1+AU29,IF(AT28="d",0,AU29)) -> 1 | AW28: =IF(AV28="v",1+AW29,IF(AV28="d",0,AW29)) -> 0
B29: 42099 | O29: =IF(N29="v",1+O30,IF(N29="d",0,O30)) -> 0 | Q29: =IF(P29="v",1+Q30,IF(P29="d",0,Q30)) -> 0 | S29: =IF(R29="v",1+S30,IF(R29="d",0,S30)) -> 3 | U29: =IF(T29="v",1+U30,IF(T29="d",0,U30)) -> 0 | W29: =IF(V29="v",1+W30,IF(V29="d",0,W30)) -> 0 | Y29: =IF(X29="v",1+Y30,IF(X29="d",0,Y30)) -> 0 | AA29: =IF(Z29="v",1+AA30,IF(Z29="d",0,AA30)) -> 3 | AC29: =IF(AB29="v",1+AC30,IF(AB29="d",0,AC30)) -> 3 | AE29: =IF(AD29="v",1+AE30,IF(AD29="d",0,AE30)) -> 1 | AG29: =IF(AF29="v",1+AG30,IF(AF29="d",0,AG30)) -> 0 | AI29: =IF(AH29="v",1+AI30,IF(AH29="d",0,AI30)) -> 4 | AK29: =IF(AJ29="v",1+AK30,IF(AJ29="d",0,AK30)) -> 2 | AM29: =IF(AL29="v",1+AM30,IF(AL29="d",0,AM30)) -> 1 | AO29: =IF(AN29="v",1+AO30,IF(AN29="d",0,AO30)) -> 1 | AQ29: =IF(AP29="v",1+AQ30,IF(AP29="d",0,AQ30)) -> 2 | AS29: =IF(AR29="v",1+AS30,IF(AR29="d",0,AS30)) -> 1 | AU29: =IF(AT29="v",1+AU30,IF(AT29="d",0,AU30)) -> 1 | AW29: =IF(AV29="v",1+AW30,IF(AV29="d",0,AW30)) -> 0
C30: T1 | E30: T2 | O30: =IF(N30="v",1+O31,IF(N30="d",0,O31)) -> 0 | Q30: =IF(P30="v",1+Q31,IF(P30="d",0,Q31)) -> 0 | S30: =IF(R30="v",1+S31,IF(R30="d",0,S31)) -> 3 | U30: =IF(T30="v",1+U31,IF(T30="d",0,U31)) -> 0 | W30: =IF(V30="v",1+W31,IF(V30="d",0,W31)) -> 0 | Y30: =IF(X30="v",1+Y31,IF(X30="d",0,Y31)) -> 0 | AA30: =IF(Z30="v",1+AA31,IF(Z30="d",0,AA31)) -> 3 | AC30: =IF(AB30="v",1+AC31,IF(AB30="d",0,AC31)) -> 3 | AE30: =IF(AD30="v",1+AE31,IF(AD30="d",0,AE31)) -> 1 | AG30: =IF(AF30="v",1+AG31,IF(AF30="d",0,AG31)) -> 0 | AI30: =IF(AH30="v",1+AI31,IF(AH30="d",0,AI31)) -> 4 | AK30: =IF(AJ30="v",1+AK31,IF(AJ30="d",0,AK31)) -> 2 | AM30: =IF(AL30="v",1+AM31,IF(AL30="d",0,AM31)) -> 1 | AO30: =IF(AN30="v",1+AO31,IF(AN30="d",0,AO31)) -> 1 | AQ30: =IF(AP30="v",1+AQ31,IF(AP30="d",0,AQ31)) -> 2 | AS30: =IF(AR30="v",1+AS31,IF(AR30="d",0,AS31)) -> 1 | AU30: =IF(AT30="v",1+AU31,IF(AT30="d",0,AU31)) -> 1 | AW30: =IF(AV30="v",1+AW31,IF(AV30="d",0,AW31)) -> 0
C31: Olivier | D31: =IF(C36=E36,"n",IF(C36>E36,"v","d")) -> v | E31: =IF(C36=E36,"n",IF(C36<E36,"v","d")) -> d | F31: Rios | N31: =IF(C31=$N$1,D31,IF(F31=$N$1,E31,"-")) -> - | O31: =IF(N31="v",1+O32,IF(N31="d",0,O32)) -> 0 | P31: =IF($C31=$P$1,$D31,IF($F31=$P$1,$E31,"-")) -> d | Q31: =IF(P31="v",1+Q32,IF(P31="d",0,Q32)) -> 0 | R31: =IF($C31=R$1,$D31,IF($F31=R$1,$E31,"-")) -> - | S31: =IF(R31="v",1+S32,IF(R31="d",0,S32)) -> 3 | T31: =IF($C31=T$1,$D31,IF($F31=T$1,$E31,"-")) -> - | U31: =IF(T31="v",1+U32,IF(T31="d",0,U32)) -> 0 | V31: =IF($C31=V$1,$D31,IF($F31=V$1,$E31,"-")) -> - | W31: =IF(V31="v",1+W32,IF(V31="d",0,W32)) -> 0 | X31: =IF($C31=X$1,$D31,IF($F31=X$1,$E31,"-")) -> - | Y31: =IF(X31="v",1+Y32,IF(X31="d",0,Y32)) -> 0 | Z31: =IF($C31=Z$1,$D31,IF($F31=Z$1,$E31,"-")) -> - | AA31: =IF(Z31="v",1+AA32,IF(Z31="d",0,AA32)) -> 3 | AB31: =IF($C31=AB$1,$D31,IF($F31=AB$1,$E31,"-")) -> - | AC31: =IF(AB31="v",1+AC32,IF(AB31="d",0,AC32)) -> 3 | AD31: =IF($C31=AD$1,$D31,IF($F31=AD$1,$E31,"-")) -> - | AE31: =IF(AD31="v",1+AE32,IF(AD31="d",0,AE32)) -> 1 | AF31: =IF($C31=AF$1,$D31,IF($F31=AF$1,$E31,"-")) -> - | AG31: =IF(AF31="v",1+AG32,IF(AF31="d",0,AG32)) -> 0 | AH31: =IF($C31=AH$1,$D31,IF($F31=AH$1,$E31,"-")) -> v | AI31: =IF(AH31="v",1+AI32,IF(AH31="d",0,AI32)) -> 4 | AJ31: =IF($C31=AJ$1,$D31,IF($F31=AJ$1,$E31,"-")) -> - | AK31: =IF(AJ31="v",1+AK32,IF(AJ31="d",0,AK32)) -> 2 | AL31: =IF($C31=AL$1,$D31,IF($F31=AL$1,$E31,"-")) -> - | AM31: =IF(AL31="v",1+AM32,IF(AL31="d",0,AM32)) -> 1 | AN31: =IF($C31=AN$1,$D31,IF($F31=AN$1,$E31,"-")) -> - | AO31: =IF(AN31="v",1+AO32,IF(AN31="d",0,AO32)) -> 1 | AP31: =IF($C31=AP$1,$D31,IF($F31=AP$1,$E31,"-")) -> - | AQ31: =IF(AP31="v",1+AQ32,IF(AP31="d",0,AQ32)) -> 2 | AR31: =IF($C31=AR$1,$D31,IF($F31=AR$1,$E31,"-")) -> - | AS31: =IF(AR31="v",1+AS32,IF(AR31="d",0,AS32)) -> 1 | AT31: =IF($C31=AT$1,$D31,IF($F31=AT$1,$E31,"-")) -> - | AU31: =IF(AT31="v",1+AU32,IF(AT31="d",0,AU32)) -> 1 | AV31: =IF($C31=AV$1,$D31,IF($F31=AV$1,$E31,"-")) -> - | AW31: =IF(AV31="v",1+AW32,IF(AV31="d",0,AW32)) -> 0
C32: Time | D32: =IF(C36=E36,"n",IF(C36>E36,"v","d")) -> v | E32: =IF(C36=E36,"n",IF(C36<E36,"v","d")) -> d | F32: Gui | N32: =IF(C32=$N$1,D32,IF(F32=$N$1,E32,"-")) -> d | O32: =IF(N32="v",1+O33,IF(N32="d",0,O33)) -> 0 | P32: =IF(C32=$P$1,D32,IF(F32=$P$1,E32,"-")) -> - | Q32: =IF(P32="v",1+Q33,IF(P32="d",0,Q33)) -> 0 | R32: =IF($C32=R$1,$D32,IF($F32=R$1,$E32,"-")) -> v | S32: =IF(R32="v",1+S33,IF(R32="d",0,S33)) -> 3 | T32: =IF($C32=T$1,$D32,IF($F32=T$1,$E32,"-")) -> - | U32: =IF(T32="v",1+U33,IF(T32="d",0,U33)) -> 0 | V32: =IF($C32=V$1,$D32,IF($F32=V$1,$E32,"-")) -> - | W32: =IF(V32="v",1+W33,IF(V32="d",0,W33)) -> 0 | X32: =IF($C32=X$1,$D32,IF($F32=X$1,$E32,"-")) -> - | Y32: =IF(X32="v",1+Y33,IF(X32="d",0,Y33)) -> 0 | Z32: =IF($C32=Z$1,$D32,IF($F32=Z$1,$E32,"-")) -> - | AA32: =IF(Z32="v",1+AA33,IF(Z32="d",0,AA33)) -> 3 | AB32: =IF($C32=AB$1,$D32,IF($F32=AB$1,$E32,"-")) -> - | AC32: =IF(AB32="v",1+AC33,IF(AB32="d",0,AC33)) -> 3 | AD32: =IF($C32=AD$1,$D32,IF($F32=AD$1,$E32,"-")) -> - | AE32: =IF(AD32="v",1+AE33,IF(AD32="d",0,AE33)) -> 1 | AF32: =IF($C32=AF$1,$D32,IF($F32=AF$1,$E32,"-")) -> - | AG32: =IF(AF32="v",1+AG33,IF(AF32="d",0,AG33)) -> 0 | AH32: =IF($C32=AH$1,$D32,IF($F32=AH$1,$E32,"-")) -> - | AI32: =IF(AH32="v",1+AI33,IF(AH32="d",0,AI33)) -> 3 | AJ32: =IF($C32=AJ$1,$D32,IF($F32=AJ$1,$E32,"-")) -> - | AK32: =IF(AJ32="v",1+AK33,IF(AJ32="d",0,AK33)) -> 2 | AL32: =IF($C32=AL$1,$D32,IF($F32=AL$1,$E32,"-")) -> - | AM32: =IF(AL32="v",1+AM33,IF(AL32="d",0,AM33)) -> 1 | AN32: =IF($C32=AN$1,$D32,IF($F32=AN$1,$E32,"-")) -> - | AO32: =IF(AN32="v",1+AO33,IF(AN32="d",0,AO33)) -> 1 | AP32: =IF($C32=AP$1,$D32,IF($F32=AP$1,$E32,"-")) -> - | AQ32: =IF(AP32="v",1+AQ33,IF(AP32="d",0,AQ33)) -> 2 | AR32: =IF($C32=AR$1,$D32,IF($F32=AR$1,$E32,"-")) -> - | AS32: =IF(AR32="v",1+AS33,IF(AR32="d",0,AS33)) -> 1 | AT32: =IF($C32=AT$1,$D32,IF($F32=AT$1,$E32,"-")) -> - | AU32: =IF(AT32="v",1+AU33,IF(AT32="d",0,AU33)) -> 1 | AV32: =IF($C32=AV$1,$D32,IF($F32=AV$1,$E32,"-")) -> - | AW32: =IF(AV32="v",1+AW33,IF(AV32="d",0,AW33)) -> 0
C33: Romain | D33: =IF(C36=E36,"n",IF(C36>E36,"v","d")) -> v | E33: =IF(C36=E36,"n",IF(C36<E36,"v","d")) -> d | F33: Maxou | N33: =IF(C33=$N$1,D33,IF(F33=$N$1,E33,"-")) -> - | O33: =IF(N33="v",1+O34,IF(N33="d",0,O34)) -> 0 | P33: =IF(C33=$P$1,D33,IF(F33=$P$1,E33,"-")) -> - | Q33: =IF(P33="v",1+Q34,IF(P33="d",0,Q34)) -> 0 | R33: =IF($C33=R$1,$D33,IF($F33=R$1,$E33,"-")) -> - | S33: =IF(R33="v",1+S34,IF(R33="d",0,S34)) -> 2 | T33: =IF($C33=T$1,$D33,IF($F33=T$1,$E33,"-")) -> - | U33: =IF(T33="v",1+U34,IF(T33="d",0,U34)) -> 0 | V33: =IF($C33=V$1,$D33,IF($F33=V$1,$E33,"-")) -> - | W33: =IF(V33="v",1+W34,IF(V33="d",0,W34)) -> 0 | X33: =IF($C33=X$1,$D33,IF($F33=X$1,$E33,"-")) -> - | Y33: =IF(X33="v",1+Y34,IF(X33="d",0,Y34)) -> 0 | Z33: =IF($C33=Z$1,$D33,IF($F33=Z$1,$E33,"-")) -> - | AA33: =IF(Z33="v",1+AA34,IF(Z33="d",0,AA34)) -> 3 | AB33: =IF($C33=AB$1,$D33,IF($F33=AB$1,$E33,"-")) -> - | AC33: =IF(AB33="v",1+AC34,IF(AB33="d",0,AC34)) -> 3 | AD33: =IF($C33=AD$1,$D33,IF($F33=AD$1,$E33,"-")) -> - | AE33: =IF(AD33="v",1+AE34,IF(AD33="d",0,AE34)) -> 1 | AF33: =IF($C33=AF$1,$D33,IF($F33=AF$1,$E33,"-")) -> d | AG33: =IF(AF33="v",1+AG34,IF(AF33="d",0,AG34)) -> 0 | AH33: =IF($C33=AH$1,$D33,IF($F33=AH$1,$E33,"-")) -> - | AI33: =IF(AH33="v",1+AI34,IF(AH33="d",0,AI34)) -> 3 | AJ33: =IF($C33=AJ$1,$D33,IF($F33=AJ$1,$E33,"-")) -> v | AK33: =IF(AJ33="v",1+AK34,IF(AJ33="d",0,AK34)) -> 2 | AL33: =IF($C33=AL$1,$D33,IF($F33=AL$1,$E33,"-")) -> - | AM33: =IF(AL33="v",1+AM34,IF(AL33="d",0,AM34)) -> 1 | AN33: =IF($C33=AN$1,$D33,IF($F33=AN$1,$E33,"-")) -> - | AO33: =IF(AN33="v",1+AO34,IF(AN33="d",0,AO34)) -> 1 | AP33: =IF($C33=AP$1,$D33,IF($F33=AP$1,$E33,"-")) -> - | AQ33: =IF(AP33="v",1+AQ34,IF(AP33="d",0,AQ34)) -> 2 | AR33: =IF($C33=AR$1,$D33,IF($F33=AR$1,$E33,"-")) -> - | AS33: =IF(AR33="v",1+AS34,IF(AR33="d",0,AS34)) -> 1 | AT33: =IF($C33=AT$1,$D33,IF($F33=AT$1,$E33,"-")) -> - | AU33: =IF(AT33="v",1+AU34,IF(AT33="d",0,AU34)) -> 1 | AV33: =IF($C33=AV$1,$D33,IF($F33=AV$1,$E33,"-")) -> - | AW33: =IF(AV33="v",1+AW34,IF(AV33="d",0,AW34)) -> 0
C34: Plamont | D34: =IF(C36=E36,"n",IF(C36>E36,"v","d")) -> v | E34: =IF(C36=E36,"n",IF(C36<E36,"v","d")) -> d | F34: Ambroise | N34: =IF(C34=$N$1,D34,IF(F34=$N$1,E34,"-")) -> - | O34: =IF(N34="v",1+O35,IF(N34="d",0,O35)) -> 0 | P34: =IF(C34=$P$1,D34,IF(F34=$P$1,E34,"-")) -> - | Q34: =IF(P34="v",1+Q35,IF(P34="d",0,Q35)) -> 0 | R34: =IF($C34=R$1,$D34,IF($F34=R$1,$E34,"-")) -> - | S34: =IF(R34="v",1+S35,IF(R34="d",0,S35)) -> 2 | T34: =IF($C34=T$1,$D34,IF($F34=T$1,$E34,"-")) -> - | U34: =IF(T34="v",1+U35,IF(T34="d",0,U35)) -> 0 | V34: =IF($C34=V$1,$D34,IF($F34=V$1,$E34,"-")) -> - | W34: =IF(V34="v",1+W35,IF(V34="d",0,W35)) -> 0 | X34: =IF($C34=X$1,$D34,IF($F34=X$1,$E34,"-")) -> - | Y34: =IF(X34="v",1+Y35,IF(X34="d",0,Y35)) -> 0 | Z34: =IF($C34=Z$1,$D34,IF($F34=Z$1,$E34,"-")) -> - | AA34: =IF(Z34="v",1+AA35,IF(Z34="d",0,AA35)) -> 3 | AB34: =IF($C34=AB$1,$D34,IF($F34=AB$1,$E34,"-")) -> - | AC34: =IF(AB34="v",1+AC35,IF(AB34="d",0,AC35)) -> 3 | AD34: =IF($C34=AD$1,$D34,IF($F34=AD$1,$E34,"-")) -> - | AE34: =IF(AD34="v",1+AE35,IF(AD34="d",0,AE35)) -> 1 | AF34: =IF($C34=AF$1,$D34,IF($F34=AF$1,$E34,"-")) -> - | AG34: =IF(AF34="v",1+AG35,IF(AF34="d",0,AG35)) -> 1 | AH34: =IF($C34=AH$1,$D34,IF($F34=AH$1,$E34,"-")) -> - | AI34: =IF(AH34="v",1+AI35,IF(AH34="d",0,AI35)) -> 3 | AJ34: =IF($C34=AJ$1,$D34,IF($F34=AJ$1,$E34,"-")) -> - | AK34: =IF(AJ34="v",1+AK35,IF(AJ34="d",0,AK35)) -> 1 | AL34: =IF($C34=AL$1,$D34,IF($F34=AL$1,$E34,"-")) -> - | AM34: =IF(AL34="v",1+AM35,IF(AL34="d",0,AM35)) -> 1 | AN34: =IF($C34=AN$1,$D34,IF($F34=AN$1,$E34,"-")) -> - | AO34: =IF(AN34="v",1+AO35,IF(AN34="d",0,AO35)) -> 1 | AP34: =IF($C34=AP$1,$D34,IF($F34=AP$1,$E34,"-")) -> - | AQ34: =IF(AP34="v",1+AQ35,IF(AP34="d",0,AQ35)) -> 2 | AR34: =IF($C34=AR$1,$D34,IF($F34=AR$1,$E34,"-")) -> - | AS34: =IF(AR34="v",1+AS35,IF(AR34="d",0,AS35)) -> 1 | AT34: =IF($C34=AT$1,$D34,IF($F34=AT$1,$E34,"-")) -> - | AU34: =IF(AT34="v",1+AU35,IF(AT34="d",0,AU35)) -> 1 | AV34: =IF($C34=AV$1,$D34,IF($F34=AV$1,$E34,"-")) -> - | AW34: =IF(AV34="v",1+AW35,IF(AV34="d",0,AW35)) -> 0
C35: Klaim | D35: =IF(C36=E36,"n",IF(C36>E36,"v","d")) -> v | E35: =IF(C36=E36,"n",IF(C36<E36,"v","d")) -> d | F35: Mehdi | N35: =IF(C35=$N$1,D35,IF(F35=$N$1,E35,"-")) -> - | O35: =IF(N35="v",1+O36,IF(N35="d",0,O36)) -> 0 | P35: =IF(C35=$P$1,D35,IF(F35=$P$1,E35,"-")) -> - | Q35: =IF(P35="v",1+Q36,IF(P35="d",0,Q36)) -> 0 | R35: =IF($C35=R$1,$D35,IF($F35=R$1,$E35,"-")) -> - | S35: =IF(R35="v",1+S36,IF(R35="d",0,S36)) -> 2 | T35: =IF($C35=T$1,$D35,IF($F35=T$1,$E35,"-")) -> - | U35: =IF(T35="v",1+U36,IF(T35="d",0,U36)) -> 0 | V35: =IF($C35=V$1,$D35,IF($F35=V$1,$E35,"-")) -> d | W35: =IF(V35="v",1+W36,IF(V35="d",0,W36)) -> 0 | X35: =IF($C35=X$1,$D35,IF($F35=X$1,$E35,"-")) -> - | Y35: =IF(X35="v",1+Y36,IF(X35="d",0,Y36)) -> 0 | Z35: =IF($C35=Z$1,$D35,IF($F35=Z$1,$E35,"-")) -> - | AA35: =IF(Z35="v",1+AA36,IF(Z35="d",0,AA36)) -> 3 | AB35: =IF($C35=AB$1,$D35,IF($F35=AB$1,$E35,"-")) -> - | AC35: =IF(AB35="v",1+AC36,IF(AB35="d",0,AC36)) -> 3 | AD35: =IF($C35=AD$1,$D35,IF($F35=AD$1,$E35,"-")) -> v | AE35: =IF(AD35="v",1+AE36,IF(AD35="d",0,AE36)) -> 1 | AF35: =IF($C35=AF$1,$D35,IF($F35=AF$1,$E35,"-")) -> - | AG35: =IF(AF35="v",1+AG36,IF(AF35="d",0,AG36)) -> 1 | AH35: =IF($C35=AH$1,$D35,IF($F35=AH$1,$E35,"-")) -> - | AI35: =IF(AH35="v",1+AI36,IF(AH35="d",0,AI36)) -> 3 | AJ35: =IF($C35=AJ$1,$D35,IF($F35=AJ$1,$E35,"-")) -> - | AK35: =IF(AJ35="v",1+AK36,IF(AJ35="d",0,AK36)) -> 1 | AL35: =IF($C35=AL$1,$D35,IF($F35=AL$1,$E35,"-")) -> - | AM35: =IF(AL35="v",1+AM36,IF(AL35="d",0,AM36)) -> 1 | AN35: =IF($C35=AN$1,$D35,IF($F35=AN$1,$E35,"-")) -> - | AO35: =IF(AN35="v",1+AO36,IF(AN35="d",0,AO36)) -> 1 | AP35: =IF($C35=AP$1,$D35,IF($F35=AP$1,$E35,"-")) -> - | AQ35: =IF(AP35="v",1+AQ36,IF(AP35="d",0,AQ36)) -> 2 | AR35: =IF($C35=AR$1,$D35,IF($F35=AR$1,$E35,"-")) -> - | AS35: =IF(AR35="v",1+AS36,IF(AR35="d",0,AS36)) -> 1 | AT35: =IF($C35=AT$1,$D35,IF($F35=AT$1,$E35,"-")) -> - | AU35: =IF(AT35="v",1+AU36,IF(AT35="d",0,AU36)) -> 1 | AV35: =IF($C35=AV$1,$D35,IF($F35=AV$1,$E35,"-")) -> - | AW35: =IF(AV35="v",1+AW36,IF(AV35="d",0,AW36)) -> 0
B36: SCORE | C36: 28 | E36: 21 | N36: =IF((COUNTIF(N31:N35,"d")=1),-ABS($C36-$E36),IF((COUNTIF(N31:N35,"v")=1),ABS($C36-$E36),0)) -> -7 | O36: =IF(N36="v",1+O37,IF(N36="d",0,O37)) -> 0 | P36: =IF((COUNTIF(P31:P35,"d")=1),-ABS($C36-$E36),IF((COUNTIF(P31:P35,"v")=1),ABS($C36-$E36),0)) -> -7 | Q36: =IF(P36="v",1+Q37,IF(P36="d",0,Q37)) -> 0 | R36: =IF((COUNTIF(R31:R35,"d")=1),-ABS($C36-$E36),IF((COUNTIF(R31:R35,"v")=1),ABS($C36-$E36),0)) -> 7 | S36: =IF(R36="v",1+S37,IF(R36="d",0,S37)) -> 2 | T36: =IF((COUNTIF(T31:T35,"d")=1),-ABS($C36-$E36),IF((COUNTIF(T31:T35,"v")=1),ABS($C36-$E36),0)) -> 0 | U36: =IF(T36="v",1+U37,IF(T36="d",0,U37)) -> 0 | V36: =IF((COUNTIF(V31:V35,"d")=1),-ABS($C36-$E36),IF((COUNTIF(V31:V35,"v")=1),ABS($C36-$E36),0)) -> -7 | W36: =IF(V36="v",1+W37,IF(V36="d",0,W37)) -> 1 | X36: =IF((COUNTIF(X31:X35,"d")=1),-ABS($C36-$E36),IF((COUNTIF(X31:X35,"v")=1),ABS($C36-$E36),0)) -> 0 | Y36: =IF(X36="v",1+Y37,IF(X36="d",0,Y37)) -> 0 | Z36: =IF((COUNTIF(Z31:Z35,"d")=1),-ABS($C36-$E36),IF((COUNTIF(Z31:Z35,"v")=1),ABS($C36-$E36),0)) -> 0 | AA36: =IF(Z36="v",1+AA37,IF(Z36="d",0,AA37)) -> 3 | AB36: =IF((COUNTIF(AB31:AB35,"d")=1),-ABS($C36-$E36),IF((COUNTIF(AB31:AB35,"v")=1),ABS($C36-$E36),0)) -> 0 | AC36: =IF(AB36="v",1+AC37,IF(AB36="d",0,AC37)) -> 3 | AD36: =IF((COUNTIF(AD31:AD35,"d")=1),-ABS($C36-$E36),IF((COUNTIF(AD31:AD35,"v")=1),ABS($C36-$E36),0)) -> 7 | AE36: =IF(AD36="v",1+AE37,IF(AD36="d",0,AE37)) -> 0 | AF36: =IF((COUNTIF(AF31:AF35,"d")=1),-ABS($C36-$E36),IF((COUNTIF(AF31:AF35,"v")=1),ABS($C36-$E36),0)) -> -7 | AG36: =IF(AF36="v",1+AG37,IF(AF36="d",0,AG37)) -> 1 | AH36: =IF((COUNTIF(AH31:AH35,"d")=1),-ABS($C36-$E36),IF((COUNTIF(AH31:AH35,"v")=1),ABS($C36-$E36),0)) -> 7 | AI36: =IF(AH36="v",1+AI37,IF(AH36="d",0,AI37)) -> 3 | AJ36: =IF((COUNTIF(AJ31:AJ35,"d")=1),-ABS($C36-$E36),IF((COUNTIF(AJ31:AJ35,"v")=1),ABS($C36-$E36),0)) -> 7 | AK36: =IF(AJ36="v",1+AK37,IF(AJ36="d",0,AK37)) -> 1 | AL36: =IF((COUNTIF(AL31:AL35,"d")=1),-ABS($C36-$E36),IF((COUNTIF(AL31:AL35,"v")=1),ABS($C36-$E36),0)) -> 0 | AM36: =IF(AL36="v",1+AM37,IF(AL36="d",0,AM37)) -> 1 | AN36: =IF((COUNTIF(AN31:AN35,"d")=1),-ABS($C36-$E36),IF((COUNTIF(AN31:AN35,"v")=1),ABS($C36-$E36),0)) -> 0 | AO36: =IF(AN36="v",1+AO37,IF(AN36="d",0,AO37)) -> 1 | AP36: =IF((COUNTIF(AP31:AP35,"d")=1),-ABS($C36-$E36),IF((COUNTIF(AP31:AP35,"v")=1),ABS($C36-$E36),0)) -> 0 | AQ36: =IF(AP36="v",1+AQ37,IF(AP36="d",0,AQ37)) -> 2 | AR36: =IF((COUNTIF(AR31:AR35,"d")=1),-ABS($C36-$E36),IF((COUNTIF(AR31:AR35,"v")=1),ABS($C36-$E36),0)) -> 0 | AS36: =IF(AR36="v",1+AS37,IF(AR36="d",0,AS37)) -> 1 | AT36: =IF((COUNTIF(AT31:AT35,"d")=1),-ABS($C36-$E36),IF((COUNTIF(AT31:AT35,"v")=1),ABS($C36-$E36),0)) -> 0 | AU36: =IF(AT36="v",1+AU37,IF(AT36="d",0,AU37)) -> 1 | AV36: =IF((COUNTIF(AV31:AV35,"d")=1),-ABS($C36-$E36),IF((COUNTIF(AV31:AV35,"v")=1),ABS($C36-$E36),0)) -> 0 | AW36: =IF(AV36="v",1+AW37,IF(AV36="d",0,AW37)) -> 0
O37: =IF(N37="v",1+O38,IF(N37="d",0,O38)) -> 0 | Q37: =IF(P37="v",1+Q38,IF(P37="d",0,Q38)) -> 0 | S37: =IF(R37="v",1+S38,IF(R37="d",0,S38)) -> 2 | U37: =IF(T37="v",1+U38,IF(T37="d",0,U38)) -> 0 | W37: =IF(V37="v",1+W38,IF(V37="d",0,W38)) -> 1 | Y37: =IF(X37="v",1+Y38,IF(X37="d",0,Y38)) -> 0 | AA37: =IF(Z37="v",1+AA38,IF(Z37="d",0,AA38)) -> 3 | AC37: =IF(AB37="v",1+AC38,IF(AB37="d",0,AC38)) -> 3 | AE37: =IF(AD37="v",1+AE38,IF(AD37="d",0,AE38)) -> 0 | AG37: =IF(AF37="v",1+AG38,IF(AF37="d",0,AG38)) -> 1 | AI37: =IF(AH37="v",1+AI38,IF(AH37="d",0,AI38)) -> 3 | AK37: =IF(AJ37="v",1+AK38,IF(AJ37="d",0,AK38)) -> 1 | AM37: =IF(AL37="v",1+AM38,IF(AL37="d",0,AM38)) -> 1 | AO37: =IF(AN37="v",1+AO38,IF(AN37="d",0,AO38)) -> 1 | AQ37: =IF(AP37="v",1+AQ38,IF(AP37="d",0,AQ38)) -> 2 | AS37: =IF(AR37="v",1+AS38,IF(AR37="d",0,AS38)) -> 1 | AU37: =IF(AT37="v",1+AU38,IF(AT37="d",0,AU38)) -> 1 | AW37: =IF(AV37="v",1+AW38,IF(AV37="d",0,AW38)) -> 0
B38: 42092 | O38: =IF(N38="v",1+O39,IF(N38="d",0,O39)) -> 0 | Q38: =IF(P38="v",1+Q39,IF(P38="d",0,Q39)) -> 0 | S38: =IF(R38="v",1+S39,IF(R38="d",0,S39)) -> 2 | U38: =IF(T38="v",1+U39,IF(T38="d",0,U39)) -> 0 | W38: =IF(V38="v",1+W39,IF(V38="d",0,W39)) -> 1 | Y38: =IF(X38="v",1+Y39,IF(X38="d",0,Y39)) -> 0 | AA38: =IF(Z38="v",1+AA39,IF(Z38="d",0,AA39)) -> 3 | AC38: =IF(AB38="v",1+AC39,IF(AB38="d",0,AC39)) -> 3 | AE38: =IF(AD38="v",1+AE39,IF(AD38="d",0,AE39)) -> 0 | AG38: =IF(AF38="v",1+AG39,IF(AF38="d",0,AG39)) -> 1 | AI38: =IF(AH38="v",1+AI39,IF(AH38="d",0,AI39)) -> 3 | AK38: =IF(AJ38="v",1+AK39,IF(AJ38="d",0,AK39)) -> 1 | AM38: =IF(AL38="v",1+AM39,IF(AL38="d",0,AM39)) -> 1 | AO38: =IF(AN38="v",1+AO39,IF(AN38="d",0,AO39)) -> 1 | AQ38: =IF(AP38="v",1+AQ39,IF(AP38="d",0,AQ39)) -> 2 | AS38: =IF(AR38="v",1+AS39,IF(AR38="d",0,AS39)) -> 1 | AU38: =IF(AT38="v",1+AU39,IF(AT38="d",0,AU39)) -> 1 | AW38: =IF(AV38="v",1+AW39,IF(AV38="d",0,AW39)) -> 0
C39: T1 | E39: T2 | O39: =IF(N39="v",1+O40,IF(N39="d",0,O40)) -> 0 | Q39: =IF(P39="v",1+Q40,IF(P39="d",0,Q40)) -> 0 | S39: =IF(R39="v",1+S40,IF(R39="d",0,S40)) -> 2 | U39: =IF(T39="v",1+U40,IF(T39="d",0,U40)) -> 0 | W39: =IF(V39="v",1+W40,IF(V39="d",0,W40)) -> 1 | Y39: =IF(X39="v",1+Y40,IF(X39="d",0,Y40)) -> 0 | AA39: =IF(Z39="v",1+AA40,IF(Z39="d",0,AA40)) -> 3 | AC39: =IF(AB39="v",1+AC40,IF(AB39="d",0,AC40)) -> 3 | AE39: =IF(AD39="v",1+AE40,IF(AD39="d",0,AE40)) -> 0 | AG39: =IF(AF39="v",1+AG40,IF(AF39="d",0,AG40)) -> 1 | AI39: =IF(AH39="v",1+AI40,IF(AH39="d",0,AI40)) -> 3 | AK39: =IF(AJ39="v",1+AK40,IF(AJ39="d",0,AK40)) -> 1 | AM39: =IF(AL39="v",1+AM40,IF(AL39="d",0,AM40)) -> 1 | AO39: =IF(AN39="v",1+AO40,IF(AN39="d",0,AO40)) -> 1 | AQ39: =IF(AP39="v",1+AQ40,IF(AP39="d",0,AQ40)) -> 2 | AS39: =IF(AR39="v",1+AS40,IF(AR39="d",0,AS40)) -> 1 | AU39: =IF(AT39="v",1+AU40,IF(AT39="d",0,AU40)) -> 1 | AW39: =IF(AV39="v",1+AW40,IF(AV39="d",0,AW40)) -> 0
C40: Rios | D40: =IF(C45=E45,"n",IF(C45>E45,"v","d")) -> d | E40: =IF(C45=E45,"n",IF(C45<E45,"v","d")) -> v | F40: Olivier | N40: =IF(C40=$N$1,D40,IF(F40=$N$1,E40,"-")) -> - | O40: =IF(N40="v",1+O41,IF(N40="d",0,O41)) -> 0 | P40: =IF($C40=$P$1,$D40,IF($F40=$P$1,$E40,"-")) -> d | Q40: =IF(P40="v",1+Q41,IF(P40="d",0,Q41)) -> 0 | R40: =IF($C40=R$1,$D40,IF($F40=R$1,$E40,"-")) -> - | S40: =IF(R40="v",1+S41,IF(R40="d",0,S41)) -> 2 | T40: =IF($C40=T$1,$D40,IF($F40=T$1,$E40,"-")) -> - | U40: =IF(T40="v",1+U41,IF(T40="d",0,U41)) -> 0 | V40: =IF($C40=V$1,$D40,IF($F40=V$1,$E40,"-")) -> - | W40: =IF(V40="v",1+W41,IF(V40="d",0,W41)) -> 1 | X40: =IF($C40=X$1,$D40,IF($F40=X$1,$E40,"-")) -> - | Y40: =IF(X40="v",1+Y41,IF(X40="d",0,Y41)) -> 0 | Z40: =IF($C40=Z$1,$D40,IF($F40=Z$1,$E40,"-")) -> - | AA40: =IF(Z40="v",1+AA41,IF(Z40="d",0,AA41)) -> 3 | AB40: =IF($C40=AB$1,$D40,IF($F40=AB$1,$E40,"-")) -> - | AC40: =IF(AB40="v",1+AC41,IF(AB40="d",0,AC41)) -> 3 | AD40: =IF($C40=AD$1,$D40,IF($F40=AD$1,$E40,"-")) -> - | AE40: =IF(AD40="v",1+AE41,IF(AD40="d",0,AE41)) -> 0 | AF40: =IF($C40=AF$1,$D40,IF($F40=AF$1,$E40,"-")) -> - | AG40: =IF(AF40="v",1+AG41,IF(AF40="d",0,AG41)) -> 1 | AH40: =IF($C40=AH$1,$D40,IF($F40=AH$1,$E40,"-")) -> v | AI40: =IF(AH40="v",1+AI41,IF(AH40="d",0,AI41)) -> 3 | AJ40: =IF($C40=AJ$1,$D40,IF($F40=AJ$1,$E40,"-")) -> - | AK40: =IF(AJ40="v",1+AK41,IF(AJ40="d",0,AK41)) -> 1 | AL40: =IF($C40=AL$1,$D40,IF($F40=AL$1,$E40,"-")) -> - | AM40: =IF(AL40="v",1+AM41,IF(AL40="d",0,AM41)) -> 1 | AN40: =IF($C40=AN$1,$D40,IF($F40=AN$1,$E40,"-")) -> - | AO40: =IF(AN40="v",1+AO41,IF(AN40="d",0,AO41)) -> 1 | AP40: =IF($C40=AP$1,$D40,IF($F40=AP$1,$E40,"-")) -> - | AQ40: =IF(AP40="v",1+AQ41,IF(AP40="d",0,AQ41)) -> 2 | AR40: =IF($C40=AR$1,$D40,IF($F40=AR$1,$E40,"-")) -> - | AS40: =IF(AR40="v",1+AS41,IF(AR40="d",0,AS41)) -> 1 | AT40: =IF($C40=AT$1,$D40,IF($F40=AT$1,$E40,"-")) -> - | AU40: =IF(AT40="v",1+AU41,IF(AT40="d",0,AU41)) -> 1 | AV40: =IF($C40=AV$1,$D40,IF($F40=AV$1,$E40,"-")) -> - | AW40: =IF(AV40="v",1+AW41,IF(AV40="d",0,AW41)) -> 0
C41: Gui | D41: =IF(C45=E45,"n",IF(C45>E45,"v","d")) -> d | E41: =IF(C45=E45,"n",IF(C45<E45,"v","d")) -> v | F41: Romain | N41: =IF(C41=$N$1,D41,IF(F41=$N$1,E41,"-")) -> d | O41: =IF(N41="v",1+O42,IF(N41="d",0,O42)) -> 0 | P41: =IF(C41=$P$1,D41,IF(F41=$P$1,E41,"-")) -> - | Q41: =IF(P41="v",1+Q42,IF(P41="d",0,Q42)) -> 0 | R41: =IF($C41=R$1,$D41,IF($F41=R$1,$E41,"-")) -> - | S41: =IF(R41="v",1+S42,IF(R41="d",0,S42)) -> 2 | T41: =IF($C41=T$1,$D41,IF($F41=T$1,$E41,"-")) -> - | U41: =IF(T41="v",1+U42,IF(T41="d",0,U42)) -> 0 | V41: =IF($C41=V$1,$D41,IF($F41=V$1,$E41,"-")) -> - | W41: =IF(V41="v",1+W42,IF(V41="d",0,W42)) -> 1 | X41: =IF($C41=X$1,$D41,IF($F41=X$1,$E41,"-")) -> - | Y41: =IF(X41="v",1+Y42,IF(X41="d",0,Y42)) -> 0 | Z41: =IF($C41=Z$1,$D41,IF($F41=Z$1,$E41,"-")) -> - | AA41: =IF(Z41="v",1+AA42,IF(Z41="d",0,AA42)) -> 3 | AB41: =IF($C41=AB$1,$D41,IF($F41=AB$1,$E41,"-")) -> - | AC41: =IF(AB41="v",1+AC42,IF(AB41="d",0,AC42)) -> 3 | AD41: =IF($C41=AD$1,$D41,IF($F41=AD$1,$E41,"-")) -> - | AE41: =IF(AD41="v",1+AE42,IF(AD41="d",0,AE42)) -> 0 | AF41: =IF($C41=AF$1,$D41,IF($F41=AF$1,$E41,"-")) -> - | AG41: =IF(AF41="v",1+AG42,IF(AF41="d",0,AG42)) -> 1 | AH41: =IF($C41=AH$1,$D41,IF($F41=AH$1,$E41,"-")) -> - | AI41: =IF(AH41="v",1+AI42,IF(AH41="d",0,AI42)) -> 2 | AJ41: =IF($C41=AJ$1,$D41,IF($F41=AJ$1,$E41,"-")) -> v | AK41: =IF(AJ41="v",1+AK42,IF(AJ41="d",0,AK42)) -> 1 | AL41: =IF($C41=AL$1,$D41,IF($F41=AL$1,$E41,"-")) -> - | AM41: =IF(AL41="v",1+AM42,IF(AL41="d",0,AM42)) -> 1 | AN41: =IF($C41=AN$1,$D41,IF($F41=AN$1,$E41,"-")) -> - | AO41: =IF(AN41="v",1+AO42,IF(AN41="d",0,AO42)) -> 1 | AP41: =IF($C41=AP$1,$D41,IF($F41=AP$1,$E41,"-")) -> - | AQ41: =IF(AP41="v",1+AQ42,IF(AP41="d",0,AQ42)) -> 2 | AR41: =IF($C41=AR$1,$D41,IF($F41=AR$1,$E41,"-")) -> - | AS41: =IF(AR41="v",1+AS42,IF(AR41="d",0,AS42)) -> 1 | AT41: =IF($C41=AT$1,$D41,IF($F41=AT$1,$E41,"-")) -> - | AU41: =IF(AT41="v",1+AU42,IF(AT41="d",0,AU42)) -> 1 | AV41: =IF($C41=AV$1,$D41,IF($F41=AV$1,$E41,"-")) -> - | AW41: =IF(AV41="v",1+AW42,IF(AV41="d",0,AW42)) -> 0
C42: Max R | D42: =IF(C45=E45,"n",IF(C45>E45,"v","d")) -> d | E42: =IF(C45=E45,"n",IF(C45<E45,"v","d")) -> v | F42: Time | N42: =IF(C42=$N$1,D42,IF(F42=$N$1,E42,"-")) -> - | O42: =IF(N42="v",1+O43,IF(N42="d",0,O43)) -> 1 | P42: =IF(C42=$P$1,D42,IF(F42=$P$1,E42,"-")) -> - | Q42: =IF(P42="v",1+Q43,IF(P42="d",0,Q43)) -> 0 | R42: =IF($C42=R$1,$D42,IF($F42=R$1,$E42,"-")) -> v | S42: =IF(R42="v",1+S43,IF(R42="d",0,S43)) -> 2 | T42: =IF($C42=T$1,$D42,IF($F42=T$1,$E42,"-")) -> - | U42: =IF(T42="v",1+U43,IF(T42="d",0,U43)) -> 0 | V42: =IF($C42=V$1,$D42,IF($F42=V$1,$E42,"-")) -> - | W42: =IF(V42="v",1+W43,IF(V42="d",0,W43)) -> 1 | X42: =IF($C42=X$1,$D42,IF($F42=X$1,$E42,"-")) -> - | Y42: =IF(X42="v",1+Y43,IF(X42="d",0,Y43)) -> 0 | Z42: =IF($C42=Z$1,$D42,IF($F42=Z$1,$E42,"-")) -> - | AA42: =IF(Z42="v",1+AA43,IF(Z42="d",0,AA43)) -> 3 | AB42: =IF($C42=AB$1,$D42,IF($F42=AB$1,$E42,"-")) -> - | AC42: =IF(AB42="v",1+AC43,IF(AB42="d",0,AC43)) -> 3 | AD42: =IF($C42=AD$1,$D42,IF($F42=AD$1,$E42,"-")) -> - | AE42: =IF(AD42="v",1+AE43,IF(AD42="d",0,AE43)) -> 0 | AF42: =IF($C42=AF$1,$D42,IF($F42=AF$1,$E42,"-")) -> - | AG42: =IF(AF42="v",1+AG43,IF(AF42="d",0,AG43)) -> 1 | AH42: =IF($C42=AH$1,$D42,IF($F42=AH$1,$E42,"-")) -> - | AI42: =IF(AH42="v",1+AI43,IF(AH42="d",0,AI43)) -> 2 | AJ42: =IF($C42=AJ$1,$D42,IF($F42=AJ$1,$E42,"-")) -> - | AK42: =IF(AJ42="v",1+AK43,IF(AJ42="d",0,AK43)) -> 0 | AL42: =IF($C42=AL$1,$D42,IF($F42=AL$1,$E42,"-")) -> - | AM42: =IF(AL42="v",1+AM43,IF(AL42="d",0,AM43)) -> 1 | AN42: =IF($C42=AN$1,$D42,IF($F42=AN$1,$E42,"-")) -> - | AO42: =IF(AN42="v",1+AO43,IF(AN42="d",0,AO43)) -> 1 | AP42: =IF($C42=AP$1,$D42,IF($F42=AP$1,$E42,"-")) -> - | AQ42: =IF(AP42="v",1+AQ43,IF(AP42="d",0,AQ43)) -> 2 | AR42: =IF($C42=AR$1,$D42,IF($F42=AR$1,$E42,"-")) -> - | AS42: =IF(AR42="v",1+AS43,IF(AR42="d",0,AS43)) -> 1 | AT42: =IF($C42=AT$1,$D42,IF($F42=AT$1,$E42,"-")) -> - | AU42: =IF(AT42="v",1+AU43,IF(AT42="d",0,AU43)) -> 1 | AV42: =IF($C42=AV$1,$D42,IF($F42=AV$1,$E42,"-")) -> - | AW42: =IF(AV42="v",1+AW43,IF(AV42="d",0,AW43)) -> 0
C43: Ben | D43: =IF(C45=E45,"n",IF(C45>E45,"v","d")) -> d | E43: =IF(C45=E45,"n",IF(C45<E45,"v","d")) -> v | F43: Rémi C | N43: =IF(C43=$N$1,D43,IF(F43=$N$1,E43,"-")) -> - | O43: =IF(N43="v",1+O44,IF(N43="d",0,O44)) -> 1 | P43: =IF(C43=$P$1,D43,IF(F43=$P$1,E43,"-")) -> - | Q43: =IF(P43="v",1+Q44,IF(P43="d",0,Q44)) -> 0 | R43: =IF($C43=R$1,$D43,IF($F43=R$1,$E43,"-")) -> - | S43: =IF(R43="v",1+S44,IF(R43="d",0,S44)) -> 1 | T43: =IF($C43=T$1,$D43,IF($F43=T$1,$E43,"-")) -> d | U43: =IF(T43="v",1+U44,IF(T43="d",0,U44)) -> 0 | V43: =IF($C43=V$1,$D43,IF($F43=V$1,$E43,"-")) -> - | W43: =IF(V43="v",1+W44,IF(V43="d",0,W44)) -> 1 | X43: =IF($C43=X$1,$D43,IF($F43=X$1,$E43,"-")) -> - | Y43: =IF(X43="v",1+Y44,IF(X43="d",0,Y44)) -> 0 | Z43: =IF($C43=Z$1,$D43,IF($F43=Z$1,$E43,"-")) -> - | AA43: =IF(Z43="v",1+AA44,IF(Z43="d",0,AA44)) -> 3 | AB43: =IF($C43=AB$1,$D43,IF($F43=AB$1,$E43,"-")) -> - | AC43: =IF(AB43="v",1+AC44,IF(AB43="d",0,AC44)) -> 3 | AD43: =IF($C43=AD$1,$D43,IF($F43=AD$1,$E43,"-")) -> - | AE43: =IF(AD43="v",1+AE44,IF(AD43="d",0,AE44)) -> 0 | AF43: =IF($C43=AF$1,$D43,IF($F43=AF$1,$E43,"-")) -> - | AG43: =IF(AF43="v",1+AG44,IF(AF43="d",0,AG44)) -> 1 | AH43: =IF($C43=AH$1,$D43,IF($F43=AH$1,$E43,"-")) -> - | AI43: =IF(AH43="v",1+AI44,IF(AH43="d",0,AI44)) -> 2 | AJ43: =IF($C43=AJ$1,$D43,IF($F43=AJ$1,$E43,"-")) -> - | AK43: =IF(AJ43="v",1+AK44,IF(AJ43="d",0,AK44)) -> 0 | AL43: =IF($C43=AL$1,$D43,IF($F43=AL$1,$E43,"-")) -> - | AM43: =IF(AL43="v",1+AM44,IF(AL43="d",0,AM44)) -> 1 | AN43: =IF($C43=AN$1,$D43,IF($F43=AN$1,$E43,"-")) -> v | AO43: =IF(AN43="v",1+AO44,IF(AN43="d",0,AO44)) -> 1 | AP43: =IF($C43=AP$1,$D43,IF($F43=AP$1,$E43,"-")) -> - | AQ43: =IF(AP43="v",1+AQ44,IF(AP43="d",0,AQ44)) -> 2 | AR43: =IF($C43=AR$1,$D43,IF($F43=AR$1,$E43,"-")) -> - | AS43: =IF(AR43="v",1+AS44,IF(AR43="d",0,AS44)) -> 1 | AT43: =IF($C43=AT$1,$D43,IF($F43=AT$1,$E43,"-")) -> - | AU43: =IF(AT43="v",1+AU44,IF(AT43="d",0,AU44)) -> 1 | AV43: =IF($C43=AV$1,$D43,IF($F43=AV$1,$E43,"-")) -> - | AW43: =IF(AV43="v",1+AW44,IF(AV43="d",0,AW44)) -> 0
C44: Klaim | D44: =IF(C45=E45,"n",IF(C45>E45,"v","d")) -> d | E44: =IF(C45=E45,"n",IF(C45<E45,"v","d")) -> v | F44: Bastien | N44: =IF(C44=$N$1,D44,IF(F44=$N$1,E44,"-")) -> - | O44: =IF(N44="v",1+O45,IF(N44="d",0,O45)) -> 1 | P44: =IF(C44=$P$1,D44,IF(F44=$P$1,E44,"-")) -> - | Q44: =IF(P44="v",1+Q45,IF(P44="d",0,Q45)) -> 0 | R44: =IF($C44=R$1,$D44,IF($F44=R$1,$E44,"-")) -> - | S44: =IF(R44="v",1+S45,IF(R44="d",0,S45)) -> 1 | T44: =IF($C44=T$1,$D44,IF($F44=T$1,$E44,"-")) -> - | U44: =IF(T44="v",1+U45,IF(T44="d",0,U45)) -> 0 | V44: =IF($C44=V$1,$D44,IF($F44=V$1,$E44,"-")) -> - | W44: =IF(V44="v",1+W45,IF(V44="d",0,W45)) -> 1 | X44: =IF($C44=X$1,$D44,IF($F44=X$1,$E44,"-")) -> - | Y44: =IF(X44="v",1+Y45,IF(X44="d",0,Y45)) -> 0 | Z44: =IF($C44=Z$1,$D44,IF($F44=Z$1,$E44,"-")) -> - | AA44: =IF(Z44="v",1+AA45,IF(Z44="d",0,AA45)) -> 3 | AB44: =IF($C44=AB$1,$D44,IF($F44=AB$1,$E44,"-")) -> - | AC44: =IF(AB44="v",1+AC45,IF(AB44="d",0,AC45)) -> 3 | AD44: =IF($C44=AD$1,$D44,IF($F44=AD$1,$E44,"-")) -> d | AE44: =IF(AD44="v",1+AE45,IF(AD44="d",0,AE45)) -> 0 | AF44: =IF($C44=AF$1,$D44,IF($F44=AF$1,$E44,"-")) -> - | AG44: =IF(AF44="v",1+AG45,IF(AF44="d",0,AG45)) -> 1 | AH44: =IF($C44=AH$1,$D44,IF($F44=AH$1,$E44,"-")) -> - | AI44: =IF(AH44="v",1+AI45,IF(AH44="d",0,AI45)) -> 2 | AJ44: =IF($C44=AJ$1,$D44,IF($F44=AJ$1,$E44,"-")) -> - | AK44: =IF(AJ44="v",1+AK45,IF(AJ44="d",0,AK45)) -> 0 | AL44: =IF($C44=AL$1,$D44,IF($F44=AL$1,$E44,"-")) -> - | AM44: =IF(AL44="v",1+AM45,IF(AL44="d",0,AM45)) -> 1 | AN44: =IF($C44=AN$1,$D44,IF($F44=AN$1,$E44,"-")) -> - | AO44: =IF(AN44="v",1+AO45,IF(AN44="d",0,AO45)) -> 0 | AP44: =IF($C44=AP$1,$D44,IF($F44=AP$1,$E44,"-")) -> - | AQ44: =IF(AP44="v",1+AQ45,IF(AP44="d",0,AQ45)) -> 2 | AR44: =IF($C44=AR$1,$D44,IF($F44=AR$1,$E44,"-")) -> - | AS44: =IF(AR44="v",1+AS45,IF(AR44="d",0,AS45)) -> 1 | AT44: =IF($C44=AT$1,$D44,IF($F44=AT$1,$E44,"-")) -> - | AU44: =IF(AT44="v",1+AU45,IF(AT44="d",0,AU45)) -> 1 | AV44: =IF($C44=AV$1,$D44,IF($F44=AV$1,$E44,"-")) -> - | AW44: =IF(AV44="v",1+AW45,IF(AV44="d",0,AW45)) -> 0
B45: SCORE | C45: 21 | E45: 29 | N45: =IF((COUNTIF(N40:N44,"d")=1),-ABS($C45-$E45),IF((COUNTIF(N40:N44,"v")=1),ABS($C45-$E45),0)) -> -8 | O45: =IF(N45="v",1+O46,IF(N45="d",0,O46)) -> 1 | P45: =IF((COUNTIF(P40:P44,"d")=1),-ABS($C45-$E45),IF((COUNTIF(P40:P44,"v")=1),ABS($C45-$E45),0)) -> -8 | Q45: =IF(P45="v",1+Q46,IF(P45="d",0,Q46)) -> 0 | R45: =IF((COUNTIF(R40:R44,"d")=1),-ABS($C45-$E45),IF((COUNTIF(R40:R44,"v")=1),ABS($C45-$E45),0)) -> 8 | S45: =IF(R45="v",1+S46,IF(R45="d",0,S46)) -> 1 | T45: =IF((COUNTIF(T40:T44,"d")=1),-ABS($C45-$E45),IF((COUNTIF(T40:T44,"v")=1),ABS($C45-$E45),0)) -> -8 | U45: =IF(T45="v",1+U46,IF(T45="d",0,U46)) -> 0 | V45: =IF((COUNTIF(V40:V44,"d")=1),-ABS($C45-$E45),IF((COUNTIF(V40:V44,"v")=1),ABS($C45-$E45),0)) -> 0 | W45: =IF(V45="v",1+W46,IF(V45="d",0,W46)) -> 1 | X45: =IF((COUNTIF(X40:X44,"d")=1),-ABS($C45-$E45),IF((COUNTIF(X40:X44,"v")=1),ABS($C45-$E45),0)) -> 0 | Y45: =IF(X45="v",1+Y46,IF(X45="d",0,Y46)) -> 0 | Z45: =IF((COUNTIF(Z40:Z44,"d")=1),-ABS($C45-$E45),IF((COUNTIF(Z40:Z44,"v")=1),ABS($C45-$E45),0)) -> 0 | AA45: =IF(Z45="v",1+AA46,IF(Z45="d",0,AA46)) -> 3 | AB45: =IF((COUNTIF(AB40:AB44,"d")=1),-ABS($C45-$E45),IF((COUNTIF(AB40:AB44,"v")=1),ABS($C45-$E45),0)) -> 0 | AC45: =IF(AB45="v",1+AC46,IF(AB45="d",0,AC46)) -> 3 | AD45: =IF((COUNTIF(AD40:AD44,"d")=1),-ABS($C45-$E45),IF((COUNTIF(AD40:AD44,"v")=1),ABS($C45-$E45),0)) -> -8 | AE45: =IF(AD45="v",1+AE46,IF(AD45="d",0,AE46)) -> 0 | AF45: =IF((COUNTIF(AF40:AF44,"d")=1),-ABS($C45-$E45),IF((COUNTIF(AF40:AF44,"v")=1),ABS($C45-$E45),0)) -> 0 | AG45: =IF(AF45="v",1+AG46,IF(AF45="d",0,AG46)) -> 1 | AH45: =IF((COUNTIF(AH40:AH44,"d")=1),-ABS($C45-$E45),IF((COUNTIF(AH40:AH44,"v")=1),ABS($C45-$E45),0)) -> 8 | AI45: =IF(AH45="v",1+AI46,IF(AH45="d",0,AI46)) -> 2 | AJ45: =IF((COUNTIF(AJ40:AJ44,"d")=1),-ABS($C45-$E45),IF((COUNTIF(AJ40:AJ44,"v")=1),ABS($C45-$E45),0)) -> 8 | AK45: =IF(AJ45="v",1+AK46,IF(AJ45="d",0,AK46)) -> 0 | AL45: =IF((COUNTIF(AL40:AL44,"d")=1),-ABS($C45-$E45),IF((COUNTIF(AL40:AL44,"v")=1),ABS($C45-$E45),0)) -> 0 | AM45: =IF(AL45="v",1+AM46,IF(AL45="d",0,AM46)) -> 1 | AN45: =IF((COUNTIF(AN40:AN44,"d")=1),-ABS($C45-$E45),IF((COUNTIF(AN40:AN44,"v")=1),ABS($C45-$E45),0)) -> 8 | AO45: =IF(AN45="v",1+AO46,IF(AN45="d",0,AO46)) -> 0 | AP45: =IF((COUNTIF(AP40:AP44,"d")=1),-ABS($C45-$E45),IF((COUNTIF(AP40:AP44,"v")=1),ABS($C45-$E45),0)) -> 0 | AQ45: =IF(AP45="v",1+AQ46,IF(AP45="d",0,AQ46)) -> 2 | AR45: =IF((COUNTIF(AR40:AR44,"d")=1),-ABS($C45-$E45),IF((COUNTIF(AR40:AR44,"v")=1),ABS($C45-$E45),0)) -> 0 | AS45: =IF(AR45="v",1+AS46,IF(AR45="d",0,AS46)) -> 1 | AT45: =IF((COUNTIF(AT40:AT44,"d")=1),-ABS($C45-$E45),IF((COUNTIF(AT40:AT44,"v")=1),ABS($C45-$E45),0)) -> 0 | AU45: =IF(AT45="v",1+AU46,IF(AT45="d",0,AU46)) -> 1 | AV45: =IF((COUNTIF(AV40:AV44,"d")=1),-ABS($C45-$E45),IF((COUNTIF(AV40:AV44,"v")=1),ABS($C45-$E45),0)) -> 0 | AW45: =IF(AV45="v",1+AW46,IF(AV45="d",0,AW46)) -> 0
O46: =IF(N46="v",1+O47,IF(N46="d",0,O47)) -> 1 | Q46: =IF(P46="v",1+Q47,IF(P46="d",0,Q47)) -> 0 | S46: =IF(R46="v",1+S47,IF(R46="d",0,S47)) -> 1 | U46: =IF(T46="v",1+U47,IF(T46="d",0,U47)) -> 0 | W46: =IF(V46="v",1+W47,IF(V46="d",0,W47)) -> 1 | Y46: =IF(X46="v",1+Y47,IF(X46="d",0,Y47)) -> 0 | AA46: =IF(Z46="v",1+AA47,IF(Z46="d",0,AA47)) -> 3 | AC46: =IF(AB46="v",1+AC47,IF(AB46="d",0,AC47)) -> 3 | AE46: =IF(AD46="v",1+AE47,IF(AD46="d",0,AE47)) -> 0 | AG46: =IF(AF46="v",1+AG47,IF(AF46="d",0,AG47)) -> 1 | AI46: =IF(AH46="v",1+AI47,IF(AH46="d",0,AI47)) -> 2 | AK46: =IF(AJ46="v",1+AK47,IF(AJ46="d",0,AK47)) -> 0 | AM46: =IF(AL46="v",1+AM47,IF(AL46="d",0,AM47)) -> 1 | AO46: =IF(AN46="v",1+AO47,IF(AN46="d",0,AO47)) -> 0 | AQ46: =IF(AP46="v",1+AQ47,IF(AP46="d",0,AQ47)) -> 2 | AS46: =IF(AR46="v",1+AS47,IF(AR46="d",0,AS47)) -> 1 | AU46: =IF(AT46="v",1+AU47,IF(AT46="d",0,AU47)) -> 1 | AW46: =IF(AV46="v",1+AW47,IF(AV46="d",0,AW47)) -> 0
B47: 42064 | O47: =IF(N47="v",1+O48,IF(N47="d",0,O48)) -> 1 | Q47: =IF(P47="v",1+Q48,IF(P47="d",0,Q48)) -> 0 | S47: =IF(R47="v",1+S48,IF(R47="d",0,S48)) -> 1 | U47: =IF(T47="v",1+U48,IF(T47="d",0,U48)) -> 0 | W47: =IF(V47="v",1+W48,IF(V47="d",0,W48)) -> 1 | Y47: =IF(X47="v",1+Y48,IF(X47="d",0,Y48)) -> 0 | AA47: =IF(Z47="v",1+AA48,IF(Z47="d",0,AA48)) -> 3 | AC47: =IF(AB47="v",1+AC48,IF(AB47="d",0,AC48)) -> 3 | AE47: =IF(AD47="v",1+AE48,IF(AD47="d",0,AE48)) -> 0 | AG47: =IF(AF47="v",1+AG48,IF(AF47="d",0,AG48)) -> 1 | AI47: =IF(AH47="v",1+AI48,IF(AH47="d",0,AI48)) -> 2 | AK47: =IF(AJ47="v",1+AK48,IF(AJ47="d",0,AK48)) -> 0 | AM47: =IF(AL47="v",1+AM48,IF(AL47="d",0,AM48)) -> 1 | AO47: =IF(AN47="v",1+AO48,IF(AN47="d",0,AO48)) -> 0 | AQ47: =IF(AP47="v",1+AQ48,IF(AP47="d",0,AQ48)) -> 2 | AS47: =IF(AR47="v",1+AS48,IF(AR47="d",0,AS48)) -> 1 | AU47: =IF(AT47="v",1+AU48,IF(AT47="d",0,AU48)) -> 1 | AW47: =IF(AV47="v",1+AW48,IF(AV47="d",0,AW48)) -> 0
C48: T1 | E48: T2 | O48: =IF(N48="v",1+O49,IF(N48="d",0,O49)) -> 1 | Q48: =IF(P48="v",1+Q49,IF(P48="d",0,Q49)) -> 0 | S48: =IF(R48="v",1+S49,IF(R48="d",0,S49)) -> 1 | U48: =IF(T48="v",1+U49,IF(T48="d",0,U49)) -> 0 | W48: =IF(V48="v",1+W49,IF(V48="d",0,W49)) -> 1 | Y48: =IF(X48="v",1+Y49,IF(X48="d",0,Y49)) -> 0 | AA48: =IF(Z48="v",1+AA49,IF(Z48="d",0,AA49)) -> 3 | AC48: =IF(AB48="v",1+AC49,IF(AB48="d",0,AC49)) -> 3 | AE48: =IF(AD48="v",1+AE49,IF(AD48="d",0,AE49)) -> 0 | AG48: =IF(AF48="v",1+AG49,IF(AF48="d",0,AG49)) -> 1 | AI48: =IF(AH48="v",1+AI49,IF(AH48="d",0,AI49)) -> 2 | AK48: =IF(AJ48="v",1+AK49,IF(AJ48="d",0,AK49)) -> 0 | AM48: =IF(AL48="v",1+AM49,IF(AL48="d",0,AM49)) -> 1 | AO48: =IF(AN48="v",1+AO49,IF(AN48="d",0,AO49)) -> 0 | AQ48: =IF(AP48="v",1+AQ49,IF(AP48="d",0,AQ49)) -> 2 | AS48: =IF(AR48="v",1+AS49,IF(AR48="d",0,AS49)) -> 1 | AU48: =IF(AT48="v",1+AU49,IF(AT48="d",0,AU49)) -> 1 | AW48: =IF(AV48="v",1+AW49,IF(AV48="d",0,AW49)) -> 0
C49: Stéphane | D49: =IF(C54=E54,"n",IF(C54>E54,"v","d")) -> d | E49: =IF(C54=E54,"n",IF(C54<E54,"v","d")) -> v | F49: Olivier | N49: =IF(C49=$N$1,D49,IF(F49=$N$1,E49,"-")) -> - | O49: =IF(N49="v",1+O50,IF(N49="d",0,O50)) -> 1 | P49: =IF($C49=$P$1,$D49,IF($F49=$P$1,$E49,"-")) -> - | Q49: =IF(P49="v",1+Q50,IF(P49="d",0,Q50)) -> 0 | R49: =IF($C49=R$1,$D49,IF($F49=R$1,$E49,"-")) -> - | S49: =IF(R49="v",1+S50,IF(R49="d",0,S50)) -> 1 | T49: =IF($C49=T$1,$D49,IF($F49=T$1,$E49,"-")) -> - | U49: =IF(T49="v",1+U50,IF(T49="d",0,U50)) -> 0 | V49: =IF($C49=V$1,$D49,IF($F49=V$1,$E49,"-")) -> - | W49: =IF(V49="v",1+W50,IF(V49="d",0,W50)) -> 1 | X49: =IF($C49=X$1,$D49,IF($F49=X$1,$E49,"-")) -> d | Y49: =IF(X49="v",1+Y50,IF(X49="d",0,Y50)) -> 0 | Z49: =IF($C49=Z$1,$D49,IF($F49=Z$1,$E49,"-")) -> - | AA49: =IF(Z49="v",1+AA50,IF(Z49="d",0,AA50)) -> 3 | AB49: =IF($C49=AB$1,$D49,IF($F49=AB$1,$E49,"-")) -> - | AC49: =IF(AB49="v",1+AC50,IF(AB49="d",0,AC50)) -> 3 | AD49: =IF($C49=AD$1,$D49,IF($F49=AD$1,$E49,"-")) -> - | AE49: =IF(AD49="v",1+AE50,IF(AD49="d",0,AE50)) -> 0 | AF49: =IF($C49=AF$1,$D49,IF($F49=AF$1,$E49,"-")) -> - | AG49: =IF(AF49="v",1+AG50,IF(AF49="d",0,AG50)) -> 1 | AH49: =IF($C49=AH$1,$D49,IF($F49=AH$1,$E49,"-")) -> v | AI49: =IF(AH49="v",1+AI50,IF(AH49="d",0,AI50)) -> 2 | AJ49: =IF($C49=AJ$1,$D49,IF($F49=AJ$1,$E49,"-")) -> - | AK49: =IF(AJ49="v",1+AK50,IF(AJ49="d",0,AK50)) -> 0 | AL49: =IF($C49=AL$1,$D49,IF($F49=AL$1,$E49,"-")) -> - | AM49: =IF(AL49="v",1+AM50,IF(AL49="d",0,AM50)) -> 1 | AN49: =IF($C49=AN$1,$D49,IF($F49=AN$1,$E49,"-")) -> - | AO49: =IF(AN49="v",1+AO50,IF(AN49="d",0,AO50)) -> 0 | AP49: =IF($C49=AP$1,$D49,IF($F49=AP$1,$E49,"-")) -> - | AQ49: =IF(AP49="v",1+AQ50,IF(AP49="d",0,AQ50)) -> 2 | AR49: =IF($C49=AR$1,$D49,IF($F49=AR$1,$E49,"-")) -> - | AS49: =IF(AR49="v",1+AS50,IF(AR49="d",0,AS50)) -> 1 | AT49: =IF($C49=AT$1,$D49,IF($F49=AT$1,$E49,"-")) -> - | AU49: =IF(AT49="v",1+AU50,IF(AT49="d",0,AU50)) -> 1 | AV49: =IF($C49=AV$1,$D49,IF($F49=AV$1,$E49,"-")) -> - | AW49: =IF(AV49="v",1+AW50,IF(AV49="d",0,AW50)) -> 0
C50: Kevin | D50: =IF(C54=E54,"n",IF(C54>E54,"v","d")) -> d | E50: =IF(C54=E54,"n",IF(C54<E54,"v","d")) -> v | F50: Maxou | N50: =IF(C50=$N$1,D50,IF(F50=$N$1,E50,"-")) -> - | O50: =IF(N50="v",1+O51,IF(N50="d",0,O51)) -> 1 | P50: =IF(C50=$P$1,D50,IF(F50=$P$1,E50,"-")) -> - | Q50: =IF(P50="v",1+Q51,IF(P50="d",0,Q51)) -> 0 | R50: =IF($C50=R$1,$D50,IF($F50=R$1,$E50,"-")) -> - | S50: =IF(R50="v",1+S51,IF(R50="d",0,S51)) -> 1 | T50: =IF($C50=T$1,$D50,IF($F50=T$1,$E50,"-")) -> - | U50: =IF(T50="v",1+U51,IF(T50="d",0,U51)) -> 0 | V50: =IF($C50=V$1,$D50,IF($F50=V$1,$E50,"-")) -> - | W50: =IF(V50="v",1+W51,IF(V50="d",0,W51)) -> 1 | X50: =IF($C50=X$1,$D50,IF($F50=X$1,$E50,"-")) -> - | Y50: =IF(X50="v",1+Y51,IF(X50="d",0,Y51)) -> 2 | Z50: =IF($C50=Z$1,$D50,IF($F50=Z$1,$E50,"-")) -> - | AA50: =IF(Z50="v",1+AA51,IF(Z50="d",0,AA51)) -> 3 | AB50: =IF($C50=AB$1,$D50,IF($F50=AB$1,$E50,"-")) -> - | AC50: =IF(AB50="v",1+AC51,IF(AB50="d",0,AC51)) -> 3 | AD50: =IF($C50=AD$1,$D50,IF($F50=AD$1,$E50,"-")) -> - | AE50: =IF(AD50="v",1+AE51,IF(AD50="d",0,AE51)) -> 0 | AF50: =IF($C50=AF$1,$D50,IF($F50=AF$1,$E50,"-")) -> v | AG50: =IF(AF50="v",1+AG51,IF(AF50="d",0,AG51)) -> 1 | AH50: =IF($C50=AH$1,$D50,IF($F50=AH$1,$E50,"-")) -> - | AI50: =IF(AH50="v",1+AI51,IF(AH50="d",0,AI51)) -> 1 | AJ50: =IF($C50=AJ$1,$D50,IF($F50=AJ$1,$E50,"-")) -> - | AK50: =IF(AJ50="v",1+AK51,IF(AJ50="d",0,AK51)) -> 0 | AL50: =IF($C50=AL$1,$D50,IF($F50=AL$1,$E50,"-")) -> - | AM50: =IF(AL50="v",1+AM51,IF(AL50="d",0,AM51)) -> 1 | AN50: =IF($C50=AN$1,$D50,IF($F50=AN$1,$E50,"-")) -> - | AO50: =IF(AN50="v",1+AO51,IF(AN50="d",0,AO51)) -> 0 | AP50: =IF($C50=AP$1,$D50,IF($F50=AP$1,$E50,"-")) -> - | AQ50: =IF(AP50="v",1+AQ51,IF(AP50="d",0,AQ51)) -> 2 | AR50: =IF($C50=AR$1,$D50,IF($F50=AR$1,$E50,"-")) -> - | AS50: =IF(AR50="v",1+AS51,IF(AR50="d",0,AS51)) -> 1 | AT50: =IF($C50=AT$1,$D50,IF($F50=AT$1,$E50,"-")) -> - | AU50: =IF(AT50="v",1+AU51,IF(AT50="d",0,AU51)) -> 1 | AV50: =IF($C50=AV$1,$D50,IF($F50=AV$1,$E50,"-")) -> - | AW50: =IF(AV50="v",1+AW51,IF(AV50="d",0,AW51)) -> 0
C51: Rios | D51: =IF(C54=E54,"n",IF(C54>E54,"v","d")) -> d | E51: =IF(C54=E54,"n",IF(C54<E54,"v","d")) -> v | F51: Gui | N51: =IF(C51=$N$1,D51,IF(F51=$N$1,E51,"-")) -> v | O51: =IF(N51="v",1+O52,IF(N51="d",0,O52)) -> 1 | P51: =IF(C51=$P$1,D51,IF(F51=$P$1,E51,"-")) -> d | Q51: =IF(P51="v",1+Q52,IF(P51="d",0,Q52)) -> 0 | R51: =IF($C51=R$1,$D51,IF($F51=R$1,$E51,"-")) -> - | S51: =IF(R51="v",1+S52,IF(R51="d",0,S52)) -> 1 | T51: =IF($C51=T$1,$D51,IF($F51=T$1,$E51,"-")) -> - | U51: =IF(T51="v",1+U52,IF(T51="d",0,U52)) -> 0 | V51: =IF($C51=V$1,$D51,IF($F51=V$1,$E51,"-")) -> - | W51: =IF(V51="v",1+W52,IF(V51="d",0,W52)) -> 1 | X51: =IF($C51=X$1,$D51,IF($F51=X$1,$E51,"-")) -> - | Y51: =IF(X51="v",1+Y52,IF(X51="d",0,Y52)) -> 2 | Z51: =IF($C51=Z$1,$D51,IF($F51=Z$1,$E51,"-")) -> - | AA51: =IF(Z51="v",1+AA52,IF(Z51="d",0,AA52)) -> 3 | AB51: =IF($C51=AB$1,$D51,IF($F51=AB$1,$E51,"-")) -> - | AC51: =IF(AB51="v",1+AC52,IF(AB51="d",0,AC52)) -> 3 | AD51: =IF($C51=AD$1,$D51,IF($F51=AD$1,$E51,"-")) -> - | AE51: =IF(AD51="v",1+AE52,IF(AD51="d",0,AE52)) -> 0 | AF51: =IF($C51=AF$1,$D51,IF($F51=AF$1,$E51,"-")) -> - | AG51: =IF(AF51="v",1+AG52,IF(AF51="d",0,AG52)) -> 0 | AH51: =IF($C51=AH$1,$D51,IF($F51=AH$1,$E51,"-")) -> - | AI51: =IF(AH51="v",1+AI52,IF(AH51="d",0,AI52)) -> 1 | AJ51: =IF($C51=AJ$1,$D51,IF($F51=AJ$1,$E51,"-")) -> - | AK51: =IF(AJ51="v",1+AK52,IF(AJ51="d",0,AK52)) -> 0 | AL51: =IF($C51=AL$1,$D51,IF($F51=AL$1,$E51,"-")) -> - | AM51: =IF(AL51="v",1+AM52,IF(AL51="d",0,AM52)) -> 1 | AN51: =IF($C51=AN$1,$D51,IF($F51=AN$1,$E51,"-")) -> - | AO51: =IF(AN51="v",1+AO52,IF(AN51="d",0,AO52)) -> 0 | AP51: =IF($C51=AP$1,$D51,IF($F51=AP$1,$E51,"-")) -> - | AQ51: =IF(AP51="v",1+AQ52,IF(AP51="d",0,AQ52)) -> 2 | AR51: =IF($C51=AR$1,$D51,IF($F51=AR$1,$E51,"-")) -> - | AS51: =IF(AR51="v",1+AS52,IF(AR51="d",0,AS52)) -> 1 | AT51: =IF($C51=AT$1,$D51,IF($F51=AT$1,$E51,"-")) -> - | AU51: =IF(AT51="v",1+AU52,IF(AT51="d",0,AU52)) -> 1 | AV51: =IF($C51=AV$1,$D51,IF($F51=AV$1,$E51,"-")) -> - | AW51: =IF(AV51="v",1+AW52,IF(AV51="d",0,AW52)) -> 0
C52: Ben | D52: =IF(C54=E54,"n",IF(C54>E54,"v","d")) -> d | E52: =IF(C54=E54,"n",IF(C54<E54,"v","d")) -> v | F52: Time | N52: =IF(C52=$N$1,D52,IF(F52=$N$1,E52,"-")) -> - | O52: =IF(N52="v",1+O53,IF(N52="d",0,O53)) -> 0 | P52: =IF(C52=$P$1,D52,IF(F52=$P$1,E52,"-")) -> - | Q52: =IF(P52="v",1+Q53,IF(P52="d",0,Q53)) -> 2 | R52: =IF($C52=R$1,$D52,IF($F52=R$1,$E52,"-")) -> v | S52: =IF(R52="v",1+S53,IF(R52="d",0,S53)) -> 1 | T52: =IF($C52=T$1,$D52,IF($F52=T$1,$E52,"-")) -> d | U52: =IF(T52="v",1+U53,IF(T52="d",0,U53)) -> 0 | V52: =IF($C52=V$1,$D52,IF($F52=V$1,$E52,"-")) -> - | W52: =IF(V52="v",1+W53,IF(V52="d",0,W53)) -> 1 | X52: =IF($C52=X$1,$D52,IF($F52=X$1,$E52,"-")) -> - | Y52: =IF(X52="v",1+Y53,IF(X52="d",0,Y53)) -> 2 | Z52: =IF($C52=Z$1,$D52,IF($F52=Z$1,$E52,"-")) -> - | AA52: =IF(Z52="v",1+AA53,IF(Z52="d",0,AA53)) -> 3 | AB52: =IF($C52=AB$1,$D52,IF($F52=AB$1,$E52,"-")) -> - | AC52: =IF(AB52="v",1+AC53,IF(AB52="d",0,AC53)) -> 3 | AD52: =IF($C52=AD$1,$D52,IF($F52=AD$1,$E52,"-")) -> - | AE52: =IF(AD52="v",1+AE53,IF(AD52="d",0,AE53)) -> 0 | AF52: =IF($C52=AF$1,$D52,IF($F52=AF$1,$E52,"-")) -> - | AG52: =IF(AF52="v",1+AG53,IF(AF52="d",0,AG53)) -> 0 | AH52: =IF($C52=AH$1,$D52,IF($F52=AH$1,$E52,"-")) -> - | AI52: =IF(AH52="v",1+AI53,IF(AH52="d",0,AI53)) -> 1 | AJ52: =IF($C52=AJ$1,$D52,IF($F52=AJ$1,$E52,"-")) -> - | AK52: =IF(AJ52="v",1+AK53,IF(AJ52="d",0,AK53)) -> 0 | AL52: =IF($C52=AL$1,$D52,IF($F52=AL$1,$E52,"-")) -> - | AM52: =IF(AL52="v",1+AM53,IF(AL52="d",0,AM53)) -> 1 | AN52: =IF($C52=AN$1,$D52,IF($F52=AN$1,$E52,"-")) -> - | AO52: =IF(AN52="v",1+AO53,IF(AN52="d",0,AO53)) -> 0 | AP52: =IF($C52=AP$1,$D52,IF($F52=AP$1,$E52,"-")) -> - | AQ52: =IF(AP52="v",1+AQ53,IF(AP52="d",0,AQ53)) -> 2 | AR52: =IF($C52=AR$1,$D52,IF($F52=AR$1,$E52,"-")) -> - | AS52: =IF(AR52="v",1+AS53,IF(AR52="d",0,AS53)) -> 1 | AT52: =IF($C52=AT$1,$D52,IF($F52=AT$1,$E52,"-")) -> - | AU52: =IF(AT52="v",1+AU53,IF(AT52="d",0,AU53)) -> 1 | AV52: =IF($C52=AV$1,$D52,IF($F52=AV$1,$E52,"-")) -> - | AW52: =IF(AV52="v",1+AW53,IF(AV52="d",0,AW53)) -> 0
C53: Rémi C | D53: =IF(C54=E54,"n",IF(C54>E54,"v","d")) -> d | E53: =IF(C54=E54,"n",IF(C54<E54,"v","d")) -> v | F53: Paulo | N53: =IF(C53=$N$1,D53,IF(F53=$N$1,E53,"-")) -> - | O53: =IF(N53="v",1+O54,IF(N53="d",0,O54)) -> 0 | P53: =IF(C53=$P$1,D53,IF(F53=$P$1,E53,"-")) -> - | Q53: =IF(P53="v",1+Q54,IF(P53="d",0,Q54)) -> 2 | R53: =IF($C53=R$1,$D53,IF($F53=R$1,$E53,"-")) -> - | S53: =IF(R53="v",1+S54,IF(R53="d",0,S54)) -> 0 | T53: =IF($C53=T$1,$D53,IF($F53=T$1,$E53,"-")) -> - | U53: =IF(T53="v",1+U54,IF(T53="d",0,U54)) -> 0 | V53: =IF($C53=V$1,$D53,IF($F53=V$1,$E53,"-")) -> - | W53: =IF(V53="v",1+W54,IF(V53="d",0,W54)) -> 1 | X53: =IF($C53=X$1,$D53,IF($F53=X$1,$E53,"-")) -> - | Y53: =IF(X53="v",1+Y54,IF(X53="d",0,Y54)) -> 2 | Z53: =IF($C53=Z$1,$D53,IF($F53=Z$1,$E53,"-")) -> - | AA53: =IF(Z53="v",1+AA54,IF(Z53="d",0,AA54)) -> 3 | AB53: =IF($C53=AB$1,$D53,IF($F53=AB$1,$E53,"-")) -> - | AC53: =IF(AB53="v",1+AC54,IF(AB53="d",0,AC54)) -> 3 | AD53: =IF($C53=AD$1,$D53,IF($F53=AD$1,$E53,"-")) -> - | AE53: =IF(AD53="v",1+AE54,IF(AD53="d",0,AE54)) -> 0 | AF53: =IF($C53=AF$1,$D53,IF($F53=AF$1,$E53,"-")) -> - | AG53: =IF(AF53="v",1+AG54,IF(AF53="d",0,AG54)) -> 0 | AH53: =IF($C53=AH$1,$D53,IF($F53=AH$1,$E53,"-")) -> - | AI53: =IF(AH53="v",1+AI54,IF(AH53="d",0,AI54)) -> 1 | AJ53: =IF($C53=AJ$1,$D53,IF($F53=AJ$1,$E53,"-")) -> - | AK53: =IF(AJ53="v",1+AK54,IF(AJ53="d",0,AK54)) -> 0 | AL53: =IF($C53=AL$1,$D53,IF($F53=AL$1,$E53,"-")) -> - | AM53: =IF(AL53="v",1+AM54,IF(AL53="d",0,AM54)) -> 1 | AN53: =IF($C53=AN$1,$D53,IF($F53=AN$1,$E53,"-")) -> d | AO53: =IF(AN53="v",1+AO54,IF(AN53="d",0,AO54)) -> 0 | AP53: =IF($C53=AP$1,$D53,IF($F53=AP$1,$E53,"-")) -> v | AQ53: =IF(AP53="v",1+AQ54,IF(AP53="d",0,AQ54)) -> 2 | AR53: =IF($C53=AR$1,$D53,IF($F53=AR$1,$E53,"-")) -> - | AS53: =IF(AR53="v",1+AS54,IF(AR53="d",0,AS54)) -> 1 | AT53: =IF($C53=AT$1,$D53,IF($F53=AT$1,$E53,"-")) -> - | AU53: =IF(AT53="v",1+AU54,IF(AT53="d",0,AU54)) -> 1 | AV53: =IF($C53=AV$1,$D53,IF($F53=AV$1,$E53,"-")) -> - | AW53: =IF(AV53="v",1+AW54,IF(AV53="d",0,AW54)) -> 0
B54: SCORE | C54: 22 | E54: 26 | N54: =IF((COUNTIF(N49:N53,"d")=1),-ABS($C54-$E54),IF((COUNTIF(N49:N53,"v")=1),ABS($C54-$E54),0)) -> 4 | O54: =IF(N54="v",1+O55,IF(N54="d",0,O55)) -> 0 | P54: =IF((COUNTIF(P49:P53,"d")=1),-ABS($C54-$E54),IF((COUNTIF(P49:P53,"v")=1),ABS($C54-$E54),0)) -> -4 | Q54: =IF(P54="v",1+Q55,IF(P54="d",0,Q55)) -> 2 | R54: =IF((COUNTIF(R49:R53,"d")=1),-ABS($C54-$E54),IF((COUNTIF(R49:R53,"v")=1),ABS($C54-$E54),0)) -> 4 | S54: =IF(R54="v",1+S55,IF(R54="d",0,S55)) -> 0 | T54: =IF((COUNTIF(T49:T53,"d")=1),-ABS($C54-$E54),IF((COUNTIF(T49:T53,"v")=1),ABS($C54-$E54),0)) -> -4 | U54: =IF(T54="v",1+U55,IF(T54="d",0,U55)) -> 0 | V54: =IF((COUNTIF(V49:V53,"d")=1),-ABS($C54-$E54),IF((COUNTIF(V49:V53,"v")=1),ABS($C54-$E54),0)) -> 0 | W54: =IF(V54="v",1+W55,IF(V54="d",0,W55)) -> 1 | X54: =IF((COUNTIF(X49:X53,"d")=1),-ABS($C54-$E54),IF((COUNTIF(X49:X53,"v")=1),ABS($C54-$E54),0)) -> -4 | Y54: =IF(X54="v",1+Y55,IF(X54="d",0,Y55)) -> 2 | Z54: =IF((COUNTIF(Z49:Z53,"d")=1),-ABS($C54-$E54),IF((COUNTIF(Z49:Z53,"v")=1),ABS($C54-$E54),0)) -> 0 | AA54: =IF(Z54="v",1+AA55,IF(Z54="d",0,AA55)) -> 3 | AB54: =IF((COUNTIF(AB49:AB53,"d")=1),-ABS($C54-$E54),IF((COUNTIF(AB49:AB53,"v")=1),ABS($C54-$E54),0)) -> 0 | AC54: =IF(AB54="v",1+AC55,IF(AB54="d",0,AC55)) -> 3 | AD54: =IF((COUNTIF(AD49:AD53,"d")=1),-ABS($C54-$E54),IF((COUNTIF(AD49:AD53,"v")=1),ABS($C54-$E54),0)) -> 0 | AE54: =IF(AD54="v",1+AE55,IF(AD54="d",0,AE55)) -> 0 | AF54: =IF((COUNTIF(AF49:AF53,"d")=1),-ABS($C54-$E54),IF((COUNTIF(AF49:AF53,"v")=1),ABS($C54-$E54),0)) -> 4 | AG54: =IF(AF54="v",1+AG55,IF(AF54="d",0,AG55)) -> 0 | AH54: =IF((COUNTIF(AH49:AH53,"d")=1),-ABS($C54-$E54),IF((COUNTIF(AH49:AH53,"v")=1),ABS($C54-$E54),0)) -> 4 | AI54: =IF(AH54="v",1+AI55,IF(AH54="d",0,AI55)) -> 1 | AJ54: =IF((COUNTIF(AJ49:AJ53,"d")=1),-ABS($C54-$E54),IF((COUNTIF(AJ49:AJ53,"v")=1),ABS($C54-$E54),0)) -> 0 | AK54: =IF(AJ54="v",1+AK55,IF(AJ54="d",0,AK55)) -> 0 | AL54: =IF((COUNTIF(AL49:AL53,"d")=1),-ABS($C54-$E54),IF((COUNTIF(AL49:AL53,"v")=1),ABS($C54-$E54),0)) -> 0 | AM54: =IF(AL54="v",1+AM55,IF(AL54="d",0,AM55)) -> 1 | AN54: =IF((COUNTIF(AN49:AN53,"d")=1),-ABS($C54-$E54),IF((COUNTIF(AN49:AN53,"v")=1),ABS($C54-$E54),0)) -> -4 | AO54: =IF(AN54="v",1+AO55,IF(AN54="d",0,AO55)) -> 2 | AP54: =IF((COUNTIF(AP49:AP53,"d")=1),-ABS($C54-$E54),IF((COUNTIF(AP49:AP53,"v")=1),ABS($C54-$E54),0)) -> 4 | AQ54: =IF(AP54="v",1+AQ55,IF(AP54="d",0,AQ55)) -> 1 | AR54: =IF((COUNTIF(AR49:AR53,"d")=1),-ABS($C54-$E54),IF((COUNTIF(AR49:AR53,"v")=1),ABS($C54-$E54),0)) -> 0 | AS54: =IF(AR54="v",1+AS55,IF(AR54="d",0,AS55)) -> 1 | AT54: =IF((COUNTIF(AT49:AT53,"d")=1),-ABS($C54-$E54),IF((COUNTIF(AT49:AT53,"v")=1),ABS($C54-$E54),0)) -> 0 | AU54: =IF(AT54="v",1+AU55,IF(AT54="d",0,AU55)) -> 1 | AV54: =IF((COUNTIF(AV49:AV53,"d")=1),-ABS($C54-$E54),IF((COUNTIF(AV49:AV53,"v")=1),ABS($C54-$E54),0)) -> 0 | AW54: =IF(AV54="v",1+AW55,IF(AV54="d",0,AW55)) -> 0
O55: =IF(N55="v",1+O56,IF(N55="d",0,O56)) -> 0 | Q55: =IF(P55="v",1+Q56,IF(P55="d",0,Q56)) -> 2 | S55: =IF(R55="v",1+S56,IF(R55="d",0,S56)) -> 0 | U55: =IF(T55="v",1+U56,IF(T55="d",0,U56)) -> 0 | W55: =IF(V55="v",1+W56,IF(V55="d",0,W56)) -> 1 | Y55: =IF(X55="v",1+Y56,IF(X55="d",0,Y56)) -> 2 | AA55: =IF(Z55="v",1+AA56,IF(Z55="d",0,AA56)) -> 3 | AC55: =IF(AB55="v",1+AC56,IF(AB55="d",0,AC56)) -> 3 | AE55: =IF(AD55="v",1+AE56,IF(AD55="d",0,AE56)) -> 0 | AG55: =IF(AF55="v",1+AG56,IF(AF55="d",0,AG56)) -> 0 | AI55: =IF(AH55="v",1+AI56,IF(AH55="d",0,AI56)) -> 1 | AK55: =IF(AJ55="v",1+AK56,IF(AJ55="d",0,AK56)) -> 0 | AM55: =IF(AL55="v",1+AM56,IF(AL55="d",0,AM56)) -> 1 | AO55: =IF(AN55="v",1+AO56,IF(AN55="d",0,AO56)) -> 2 | AQ55: =IF(AP55="v",1+AQ56,IF(AP55="d",0,AQ56)) -> 1 | AS55: =IF(AR55="v",1+AS56,IF(AR55="d",0,AS56)) -> 1 | AU55: =IF(AT55="v",1+AU56,IF(AT55="d",0,AU56)) -> 1 | AW55: =IF(AV55="v",1+AW56,IF(AV55="d",0,AW56)) -> 0
B56: 42057 | O56: =IF(N56="v",1+O57,IF(N56="d",0,O57)) -> 0 | Q56: =IF(P56="v",1+Q57,IF(P56="d",0,Q57)) -> 2 | S56: =IF(R56="v",1+S57,IF(R56="d",0,S57)) -> 0 | U56: =IF(T56="v",1+U57,IF(T56="d",0,U57)) -> 0 | W56: =IF(V56="v",1+W57,IF(V56="d",0,W57)) -> 1 | Y56: =IF(X56="v",1+Y57,IF(X56="d",0,Y57)) -> 2 | AA56: =IF(Z56="v",1+AA57,IF(Z56="d",0,AA57)) -> 3 | AC56: =IF(AB56="v",1+AC57,IF(AB56="d",0,AC57)) -> 3 | AE56: =IF(AD56="v",1+AE57,IF(AD56="d",0,AE57)) -> 0 | AG56: =IF(AF56="v",1+AG57,IF(AF56="d",0,AG57)) -> 0 | AI56: =IF(AH56="v",1+AI57,IF(AH56="d",0,AI57)) -> 1 | AK56: =IF(AJ56="v",1+AK57,IF(AJ56="d",0,AK57)) -> 0 | AM56: =IF(AL56="v",1+AM57,IF(AL56="d",0,AM57)) -> 1 | AO56: =IF(AN56="v",1+AO57,IF(AN56="d",0,AO57)) -> 2 | AQ56: =IF(AP56="v",1+AQ57,IF(AP56="d",0,AQ57)) -> 1 | AS56: =IF(AR56="v",1+AS57,IF(AR56="d",0,AS57)) -> 1 | AU56: =IF(AT56="v",1+AU57,IF(AT56="d",0,AU57)) -> 1 | AW56: =IF(AV56="v",1+AW57,IF(AV56="d",0,AW57)) -> 0
C57: T1 | E57: T2 | O57: =IF(N57="v",1+O58,IF(N57="d",0,O58)) -> 0 | Q57: =IF(P57="v",1+Q58,IF(P57="d",0,Q58)) -> 2 | S57: =IF(R57="v",1+S58,IF(R57="d",0,S58)) -> 0 | U57: =IF(T57="v",1+U58,IF(T57="d",0,U58)) -> 0 | W57: =IF(V57="v",1+W58,IF(V57="d",0,W58)) -> 1 | Y57: =IF(X57="v",1+Y58,IF(X57="d",0,Y58)) -> 2 | AA57: =IF(Z57="v",1+AA58,IF(Z57="d",0,AA58)) -> 3 | AC57: =IF(AB57="v",1+AC58,IF(AB57="d",0,AC58)) -> 3 | AE57: =IF(AD57="v",1+AE58,IF(AD57="d",0,AE58)) -> 0 | AG57: =IF(AF57="v",1+AG58,IF(AF57="d",0,AG58)) -> 0 | AI57: =IF(AH57="v",1+AI58,IF(AH57="d",0,AI58)) -> 1 | AK57: =IF(AJ57="v",1+AK58,IF(AJ57="d",0,AK58)) -> 0 | AM57: =IF(AL57="v",1+AM58,IF(AL57="d",0,AM58)) -> 1 | AO57: =IF(AN57="v",1+AO58,IF(AN57="d",0,AO58)) -> 2 | AQ57: =IF(AP57="v",1+AQ58,IF(AP57="d",0,AQ58)) -> 1 | AS57: =IF(AR57="v",1+AS58,IF(AR57="d",0,AS58)) -> 1 | AU57: =IF(AT57="v",1+AU58,IF(AT57="d",0,AU58)) -> 1 | AW57: =IF(AV57="v",1+AW58,IF(AV57="d",0,AW58)) -> 0
C58: Olivier | D58: =IF(C63=E63,"n",IF(C63>E63,"v","d")) -> v | E58: =IF(C63=E63,"n",IF(C63<E63,"v","d")) -> d | F58: Ben | N58: =IF(C58=$N$1,D58,IF(F58=$N$1,E58,"-")) -> - | O58: =IF(N58="v",1+O59,IF(N58="d",0,O59)) -> 0 | P58: =IF($C58=$P$1,$D58,IF($F58=$P$1,$E58,"-")) -> - | Q58: =IF(P58="v",1+Q59,IF(P58="d",0,Q59)) -> 2 | R58: =IF($C58=R$1,$D58,IF($F58=R$1,$E58,"-")) -> - | S58: =IF(R58="v",1+S59,IF(R58="d",0,S59)) -> 0 | T58: =IF($C58=T$1,$D58,IF($F58=T$1,$E58,"-")) -> d | U58: =IF(T58="v",1+U59,IF(T58="d",0,U59)) -> 0 | V58: =IF($C58=V$1,$D58,IF($F58=V$1,$E58,"-")) -> - | W58: =IF(V58="v",1+W59,IF(V58="d",0,W59)) -> 1 | X58: =IF($C58=X$1,$D58,IF($F58=X$1,$E58,"-")) -> - | Y58: =IF(X58="v",1+Y59,IF(X58="d",0,Y59)) -> 2 | Z58: =IF($C58=Z$1,$D58,IF($F58=Z$1,$E58,"-")) -> - | AA58: =IF(Z58="v",1+AA59,IF(Z58="d",0,AA59)) -> 3 | AB58: =IF($C58=AB$1,$D58,IF($F58=AB$1,$E58,"-")) -> - | AC58: =IF(AB58="v",1+AC59,IF(AB58="d",0,AC59)) -> 3 | AD58: =IF($C58=AD$1,$D58,IF($F58=AD$1,$E58,"-")) -> - | AE58: =IF(AD58="v",1+AE59,IF(AD58="d",0,AE59)) -> 0 | AF58: =IF($C58=AF$1,$D58,IF($F58=AF$1,$E58,"-")) -> - | AG58: =IF(AF58="v",1+AG59,IF(AF58="d",0,AG59)) -> 0 | AH58: =IF($C58=AH$1,$D58,IF($F58=AH$1,$E58,"-")) -> v | AI58: =IF(AH58="v",1+AI59,IF(AH58="d",0,AI59)) -> 1 | AJ58: =IF($C58=AJ$1,$D58,IF($F58=AJ$1,$E58,"-")) -> - | AK58: =IF(AJ58="v",1+AK59,IF(AJ58="d",0,AK59)) -> 0 | AL58: =IF($C58=AL$1,$D58,IF($F58=AL$1,$E58,"-")) -> - | AM58: =IF(AL58="v",1+AM59,IF(AL58="d",0,AM59)) -> 1 | AN58: =IF($C58=AN$1,$D58,IF($F58=AN$1,$E58,"-")) -> - | AO58: =IF(AN58="v",1+AO59,IF(AN58="d",0,AO59)) -> 2 | AP58: =IF($C58=AP$1,$D58,IF($F58=AP$1,$E58,"-")) -> - | AQ58: =IF(AP58="v",1+AQ59,IF(AP58="d",0,AQ59)) -> 1 | AR58: =IF($C58=AR$1,$D58,IF($F58=AR$1,$E58,"-")) -> - | AS58: =IF(AR58="v",1+AS59,IF(AR58="d",0,AS59)) -> 1 | AT58: =IF($C58=AT$1,$D58,IF($F58=AT$1,$E58,"-")) -> - | AU58: =IF(AT58="v",1+AU59,IF(AT58="d",0,AU59)) -> 1 | AV58: =IF($C58=AV$1,$D58,IF($F58=AV$1,$E58,"-")) -> - | AW58: =IF(AV58="v",1+AW59,IF(AV58="d",0,AW59)) -> 0
C59: Rémi C | D59: =IF(C63=E63,"n",IF(C63>E63,"v","d")) -> v | E59: =IF(C63=E63,"n",IF(C63<E63,"v","d")) -> d | F59: Klaim | N59: =IF(C59=$N$1,D59,IF(F59=$N$1,E59,"-")) -> - | O59: =IF(N59="v",1+O60,IF(N59="d",0,O60)) -> 0 | P59: =IF(C59=$P$1,D59,IF(F59=$P$1,E59,"-")) -> - | Q59: =IF(P59="v",1+Q60,IF(P59="d",0,Q60)) -> 2 | R59: =IF($C59=R$1,$D59,IF($F59=R$1,$E59,"-")) -> - | S59: =IF(R59="v",1+S60,IF(R59="d",0,S60)) -> 0 | T59: =IF($C59=T$1,$D59,IF($F59=T$1,$E59,"-")) -> - | U59: =IF(T59="v",1+U60,IF(T59="d",0,U60)) -> 5 | V59: =IF($C59=V$1,$D59,IF($F59=V$1,$E59,"-")) -> - | W59: =IF(V59="v",1+W60,IF(V59="d",0,W60)) -> 1 | X59: =IF($C59=X$1,$D59,IF($F59=X$1,$E59,"-")) -> - | Y59: =IF(X59="v",1+Y60,IF(X59="d",0,Y60)) -> 2 | Z59: =IF($C59=Z$1,$D59,IF($F59=Z$1,$E59,"-")) -> - | AA59: =IF(Z59="v",1+AA60,IF(Z59="d",0,AA60)) -> 3 | AB59: =IF($C59=AB$1,$D59,IF($F59=AB$1,$E59,"-")) -> - | AC59: =IF(AB59="v",1+AC60,IF(AB59="d",0,AC60)) -> 3 | AD59: =IF($C59=AD$1,$D59,IF($F59=AD$1,$E59,"-")) -> d | AE59: =IF(AD59="v",1+AE60,IF(AD59="d",0,AE60)) -> 0 | AF59: =IF($C59=AF$1,$D59,IF($F59=AF$1,$E59,"-")) -> - | AG59: =IF(AF59="v",1+AG60,IF(AF59="d",0,AG60)) -> 0 | AH59: =IF($C59=AH$1,$D59,IF($F59=AH$1,$E59,"-")) -> - | AI59: =IF(AH59="v",1+AI60,IF(AH59="d",0,AI60)) -> 0 | AJ59: =IF($C59=AJ$1,$D59,IF($F59=AJ$1,$E59,"-")) -> - | AK59: =IF(AJ59="v",1+AK60,IF(AJ59="d",0,AK60)) -> 0 | AL59: =IF($C59=AL$1,$D59,IF($F59=AL$1,$E59,"-")) -> - | AM59: =IF(AL59="v",1+AM60,IF(AL59="d",0,AM60)) -> 1 | AN59: =IF($C59=AN$1,$D59,IF($F59=AN$1,$E59,"-")) -> v | AO59: =IF(AN59="v",1+AO60,IF(AN59="d",0,AO60)) -> 2 | AP59: =IF($C59=AP$1,$D59,IF($F59=AP$1,$E59,"-")) -> - | AQ59: =IF(AP59="v",1+AQ60,IF(AP59="d",0,AQ60)) -> 1 | AR59: =IF($C59=AR$1,$D59,IF($F59=AR$1,$E59,"-")) -> - | AS59: =IF(AR59="v",1+AS60,IF(AR59="d",0,AS60)) -> 1 | AT59: =IF($C59=AT$1,$D59,IF($F59=AT$1,$E59,"-")) -> - | AU59: =IF(AT59="v",1+AU60,IF(AT59="d",0,AU60)) -> 1 | AV59: =IF($C59=AV$1,$D59,IF($F59=AV$1,$E59,"-")) -> - | AW59: =IF(AV59="v",1+AW60,IF(AV59="d",0,AW60)) -> 0
C60: Mehdi | D60: =IF(C63=E63,"n",IF(C63>E63,"v","d")) -> v | E60: =IF(C63=E63,"n",IF(C63<E63,"v","d")) -> d | F60: Gui | N60: =IF(C60=$N$1,D60,IF(F60=$N$1,E60,"-")) -> d | O60: =IF(N60="v",1+O61,IF(N60="d",0,O61)) -> 0 | P60: =IF(C60=$P$1,D60,IF(F60=$P$1,E60,"-")) -> - | Q60: =IF(P60="v",1+Q61,IF(P60="d",0,Q61)) -> 2 | R60: =IF($C60=R$1,$D60,IF($F60=R$1,$E60,"-")) -> - | S60: =IF(R60="v",1+S61,IF(R60="d",0,S61)) -> 0 | T60: =IF($C60=T$1,$D60,IF($F60=T$1,$E60,"-")) -> - | U60: =IF(T60="v",1+U61,IF(T60="d",0,U61)) -> 5 | V60: =IF($C60=V$1,$D60,IF($F60=V$1,$E60,"-")) -> v | W60: =IF(V60="v",1+W61,IF(V60="d",0,W61)) -> 1 | X60: =IF($C60=X$1,$D60,IF($F60=X$1,$E60,"-")) -> - | Y60: =IF(X60="v",1+Y61,IF(X60="d",0,Y61)) -> 2 | Z60: =IF($C60=Z$1,$D60,IF($F60=Z$1,$E60,"-")) -> - | AA60: =IF(Z60="v",1+AA61,IF(Z60="d",0,AA61)) -> 3 | AB60: =IF($C60=AB$1,$D60,IF($F60=AB$1,$E60,"-")) -> - | AC60: =IF(AB60="v",1+AC61,IF(AB60="d",0,AC61)) -> 3 | AD60: =IF($C60=AD$1,$D60,IF($F60=AD$1,$E60,"-")) -> - | AE60: =IF(AD60="v",1+AE61,IF(AD60="d",0,AE61)) -> 0 | AF60: =IF($C60=AF$1,$D60,IF($F60=AF$1,$E60,"-")) -> - | AG60: =IF(AF60="v",1+AG61,IF(AF60="d",0,AG61)) -> 0 | AH60: =IF($C60=AH$1,$D60,IF($F60=AH$1,$E60,"-")) -> - | AI60: =IF(AH60="v",1+AI61,IF(AH60="d",0,AI61)) -> 0 | AJ60: =IF($C60=AJ$1,$D60,IF($F60=AJ$1,$E60,"-")) -> - | AK60: =IF(AJ60="v",1+AK61,IF(AJ60="d",0,AK61)) -> 0 | AL60: =IF($C60=AL$1,$D60,IF($F60=AL$1,$E60,"-")) -> - | AM60: =IF(AL60="v",1+AM61,IF(AL60="d",0,AM61)) -> 1 | AN60: =IF($C60=AN$1,$D60,IF($F60=AN$1,$E60,"-")) -> - | AO60: =IF(AN60="v",1+AO61,IF(AN60="d",0,AO61)) -> 1 | AP60: =IF($C60=AP$1,$D60,IF($F60=AP$1,$E60,"-")) -> - | AQ60: =IF(AP60="v",1+AQ61,IF(AP60="d",0,AQ61)) -> 1 | AR60: =IF($C60=AR$1,$D60,IF($F60=AR$1,$E60,"-")) -> - | AS60: =IF(AR60="v",1+AS61,IF(AR60="d",0,AS61)) -> 1 | AT60: =IF($C60=AT$1,$D60,IF($F60=AT$1,$E60,"-")) -> - | AU60: =IF(AT60="v",1+AU61,IF(AT60="d",0,AU61)) -> 1 | AV60: =IF($C60=AV$1,$D60,IF($F60=AV$1,$E60,"-")) -> - | AW60: =IF(AV60="v",1+AW61,IF(AV60="d",0,AW61)) -> 0
C61: Rios | D61: =IF(C63=E63,"n",IF(C63>E63,"v","d")) -> v | E61: =IF(C63=E63,"n",IF(C63<E63,"v","d")) -> d | F61: Maxou | N61: =IF(C61=$N$1,D61,IF(F61=$N$1,E61,"-")) -> - | O61: =IF(N61="v",1+O62,IF(N61="d",0,O62)) -> 1 | P61: =IF(C61=$P$1,D61,IF(F61=$P$1,E61,"-")) -> v | Q61: =IF(P61="v",1+Q62,IF(P61="d",0,Q62)) -> 2 | R61: =IF($C61=R$1,$D61,IF($F61=R$1,$E61,"-")) -> - | S61: =IF(R61="v",1+S62,IF(R61="d",0,S62)) -> 0 | T61: =IF($C61=T$1,$D61,IF($F61=T$1,$E61,"-")) -> - | U61: =IF(T61="v",1+U62,IF(T61="d",0,U62)) -> 5 | V61: =IF($C61=V$1,$D61,IF($F61=V$1,$E61,"-")) -> - | W61: =IF(V61="v",1+W62,IF(V61="d",0,W62)) -> 0 | X61: =IF($C61=X$1,$D61,IF($F61=X$1,$E61,"-")) -> - | Y61: =IF(X61="v",1+Y62,IF(X61="d",0,Y62)) -> 2 | Z61: =IF($C61=Z$1,$D61,IF($F61=Z$1,$E61,"-")) -> - | AA61: =IF(Z61="v",1+AA62,IF(Z61="d",0,AA62)) -> 3 | AB61: =IF($C61=AB$1,$D61,IF($F61=AB$1,$E61,"-")) -> - | AC61: =IF(AB61="v",1+AC62,IF(AB61="d",0,AC62)) -> 3 | AD61: =IF($C61=AD$1,$D61,IF($F61=AD$1,$E61,"-")) -> - | AE61: =IF(AD61="v",1+AE62,IF(AD61="d",0,AE62)) -> 0 | AF61: =IF($C61=AF$1,$D61,IF($F61=AF$1,$E61,"-")) -> d | AG61: =IF(AF61="v",1+AG62,IF(AF61="d",0,AG62)) -> 0 | AH61: =IF($C61=AH$1,$D61,IF($F61=AH$1,$E61,"-")) -> - | AI61: =IF(AH61="v",1+AI62,IF(AH61="d",0,AI62)) -> 0 | AJ61: =IF($C61=AJ$1,$D61,IF($F61=AJ$1,$E61,"-")) -> - | AK61: =IF(AJ61="v",1+AK62,IF(AJ61="d",0,AK62)) -> 0 | AL61: =IF($C61=AL$1,$D61,IF($F61=AL$1,$E61,"-")) -> - | AM61: =IF(AL61="v",1+AM62,IF(AL61="d",0,AM62)) -> 1 | AN61: =IF($C61=AN$1,$D61,IF($F61=AN$1,$E61,"-")) -> - | AO61: =IF(AN61="v",1+AO62,IF(AN61="d",0,AO62)) -> 1 | AP61: =IF($C61=AP$1,$D61,IF($F61=AP$1,$E61,"-")) -> - | AQ61: =IF(AP61="v",1+AQ62,IF(AP61="d",0,AQ62)) -> 1 | AR61: =IF($C61=AR$1,$D61,IF($F61=AR$1,$E61,"-")) -> - | AS61: =IF(AR61="v",1+AS62,IF(AR61="d",0,AS62)) -> 1 | AT61: =IF($C61=AT$1,$D61,IF($F61=AT$1,$E61,"-")) -> - | AU61: =IF(AT61="v",1+AU62,IF(AT61="d",0,AU62)) -> 1 | AV61: =IF($C61=AV$1,$D61,IF($F61=AV$1,$E61,"-")) -> - | AW61: =IF(AV61="v",1+AW62,IF(AV61="d",0,AW62)) -> 0
C62: Paulo | D62: =IF(C63=E63,"n",IF(C63>E63,"v","d")) -> v | E62: =IF(C63=E63,"n",IF(C63<E63,"v","d")) -> d | F62: Jf Raynaud | N62: =IF(C62=$N$1,D62,IF(F62=$N$1,E62,"-")) -> - | O62: =IF(N62="v",1+O63,IF(N62="d",0,O63)) -> 1 | P62: =IF(C62=$P$1,D62,IF(F62=$P$1,E62,"-")) -> - | Q62: =IF(P62="v",1+Q63,IF(P62="d",0,Q63)) -> 1 | R62: =IF($C62=R$1,$D62,IF($F62=R$1,$E62,"-")) -> - | S62: =IF(R62="v",1+S63,IF(R62="d",0,S63)) -> 0 | T62: =IF($C62=T$1,$D62,IF($F62=T$1,$E62,"-")) -> - | U62: =IF(T62="v",1+U63,IF(T62="d",0,U63)) -> 5 | V62: =IF($C62=V$1,$D62,IF($F62=V$1,$E62,"-")) -> - | W62: =IF(V62="v",1+W63,IF(V62="d",0,W63)) -> 0 | X62: =IF($C62=X$1,$D62,IF($F62=X$1,$E62,"-")) -> - | Y62: =IF(X62="v",1+Y63,IF(X62="d",0,Y63)) -> 2 | Z62: =IF($C62=Z$1,$D62,IF($F62=Z$1,$E62,"-")) -> - | AA62: =IF(Z62="v",1+AA63,IF(Z62="d",0,AA63)) -> 3 | AB62: =IF($C62=AB$1,$D62,IF($F62=AB$1,$E62,"-")) -> - | AC62: =IF(AB62="v",1+AC63,IF(AB62="d",0,AC63)) -> 3 | AD62: =IF($C62=AD$1,$D62,IF($F62=AD$1,$E62,"-")) -> - | AE62: =IF(AD62="v",1+AE63,IF(AD62="d",0,AE63)) -> 0 | AF62: =IF($C62=AF$1,$D62,IF($F62=AF$1,$E62,"-")) -> - | AG62: =IF(AF62="v",1+AG63,IF(AF62="d",0,AG63)) -> 0 | AH62: =IF($C62=AH$1,$D62,IF($F62=AH$1,$E62,"-")) -> - | AI62: =IF(AH62="v",1+AI63,IF(AH62="d",0,AI63)) -> 0 | AJ62: =IF($C62=AJ$1,$D62,IF($F62=AJ$1,$E62,"-")) -> - | AK62: =IF(AJ62="v",1+AK63,IF(AJ62="d",0,AK63)) -> 0 | AL62: =IF($C62=AL$1,$D62,IF($F62=AL$1,$E62,"-")) -> - | AM62: =IF(AL62="v",1+AM63,IF(AL62="d",0,AM63)) -> 1 | AN62: =IF($C62=AN$1,$D62,IF($F62=AN$1,$E62,"-")) -> - | AO62: =IF(AN62="v",1+AO63,IF(AN62="d",0,AO63)) -> 1 | AP62: =IF($C62=AP$1,$D62,IF($F62=AP$1,$E62,"-")) -> v | AQ62: =IF(AP62="v",1+AQ63,IF(AP62="d",0,AQ63)) -> 1 | AR62: =IF($C62=AR$1,$D62,IF($F62=AR$1,$E62,"-")) -> - | AS62: =IF(AR62="v",1+AS63,IF(AR62="d",0,AS63)) -> 1 | AT62: =IF($C62=AT$1,$D62,IF($F62=AT$1,$E62,"-")) -> - | AU62: =IF(AT62="v",1+AU63,IF(AT62="d",0,AU63)) -> 1 | AV62: =IF($C62=AV$1,$D62,IF($F62=AV$1,$E62,"-")) -> - | AW62: =IF(AV62="v",1+AW63,IF(AV62="d",0,AW63)) -> 0
B63: SCORE | C63: 22 | E63: 16 | N63: =IF((COUNTIF(N58:N62,"d")=1),-ABS($C63-$E63),IF((COUNTIF(N58:N62,"v")=1),ABS($C63-$E63),0)) -> -6 | O63: =IF(N63="v",1+O64,IF(N63="d",0,O64)) -> 1 | P63: =IF((COUNTIF(P58:P62,"d")=1),-ABS($C63-$E63),IF((COUNTIF(P58:P62,"v")=1),ABS($C63-$E63),0)) -> 6 | Q63: =IF(P63="v",1+Q64,IF(P63="d",0,Q64)) -> 1 | R63: =IF((COUNTIF(R58:R62,"d")=1),-ABS($C63-$E63),IF((COUNTIF(R58:R62,"v")=1),ABS($C63-$E63),0)) -> 0 | S63: =IF(R63="v",1+S64,IF(R63="d",0,S64)) -> 0 | T63: =IF((COUNTIF(T58:T62,"d")=1),-ABS($C63-$E63),IF((COUNTIF(T58:T62,"v")=1),ABS($C63-$E63),0)) -> -6 | U63: =IF(T63="v",1+U64,IF(T63="d",0,U64)) -> 5 | V63: =IF((COUNTIF(V58:V62,"d")=1),-ABS($C63-$E63),IF((COUNTIF(V58:V62,"v")=1),ABS($C63-$E63),0)) -> 6 | W63: =IF(V63="v",1+W64,IF(V63="d",0,W64)) -> 0 | X63: =IF((COUNTIF(X58:X62,"d")=1),-ABS($C63-$E63),IF((COUNTIF(X58:X62,"v")=1),ABS($C63-$E63),0)) -> 0 | Y63: =IF(X63="v",1+Y64,IF(X63="d",0,Y64)) -> 2 | Z63: =IF((COUNTIF(Z58:Z62,"d")=1),-ABS($C63-$E63),IF((COUNTIF(Z58:Z62,"v")=1),ABS($C63-$E63),0)) -> 0 | AA63: =IF(Z63="v",1+AA64,IF(Z63="d",0,AA64)) -> 3 | AB63: =IF((COUNTIF(AB58:AB62,"d")=1),-ABS($C63-$E63),IF((COUNTIF(AB58:AB62,"v")=1),ABS($C63-$E63),0)) -> 0 | AC63: =IF(AB63="v",1+AC64,IF(AB63="d",0,AC64)) -> 3 | AD63: =IF((COUNTIF(AD58:AD62,"d")=1),-ABS($C63-$E63),IF((COUNTIF(AD58:AD62,"v")=1),ABS($C63-$E63),0)) -> -6 | AE63: =IF(AD63="v",1+AE64,IF(AD63="d",0,AE64)) -> 0 | AF63: =IF((COUNTIF(AF58:AF62,"d")=1),-ABS($C63-$E63),IF((COUNTIF(AF58:AF62,"v")=1),ABS($C63-$E63),0)) -> -6 | AG63: =IF(AF63="v",1+AG64,IF(AF63="d",0,AG64)) -> 0 | AH63: =IF((COUNTIF(AH58:AH62,"d")=1),-ABS($C63-$E63),IF((COUNTIF(AH58:AH62,"v")=1),ABS($C63-$E63),0)) -> 6 | AI63: =IF(AH63="v",1+AI64,IF(AH63="d",0,AI64)) -> 0 | AJ63: =IF((COUNTIF(AJ58:AJ62,"d")=1),-ABS($C63-$E63),IF((COUNTIF(AJ58:AJ62,"v")=1),ABS($C63-$E63),0)) -> 0 | AK63: =IF(AJ63="v",1+AK64,IF(AJ63="d",0,AK64)) -> 0 | AL63: =IF((COUNTIF(AL58:AL62,"d")=1),-ABS($C63-$E63),IF((COUNTIF(AL58:AL62,"v")=1),ABS($C63-$E63),0)) -> 0 | AM63: =IF(AL63="v",1+AM64,IF(AL63="d",0,AM64)) -> 1 | AN63: =IF((COUNTIF(AN58:AN62,"d")=1),-ABS($C63-$E63),IF((COUNTIF(AN58:AN62,"v")=1),ABS($C63-$E63),0)) -> 6 | AO63: =IF(AN63="v",1+AO64,IF(AN63="d",0,AO64)) -> 1 | AP63: =IF((COUNTIF(AP58:AP62,"d")=1),-ABS($C63-$E63),IF((COUNTIF(AP58:AP62,"v")=1),ABS($C63-$E63),0)) -> 6 | AQ63: =IF(AP63="v",1+AQ64,IF(AP63="d",0,AQ64)) -> 0 | AR63: =IF((COUNTIF(AR58:AR62,"d")=1),-ABS($C63-$E63),IF((COUNTIF(AR58:AR62,"v")=1),ABS($C63-$E63),0)) -> 0 | AS63: =IF(AR63="v",1+AS64,IF(AR63="d",0,AS64)) -> 1 | AT63: =IF((COUNTIF(AT58:AT62,"d")=1),-ABS($C63-$E63),IF((COUNTIF(AT58:AT62,"v")=1),ABS($C63-$E63),0)) -> 0 | AU63: =IF(AT63="v",1+AU64,IF(AT63="d",0,AU64)) -> 1 | AV63: =IF((COUNTIF(AV58:AV62,"d")=1),-ABS($C63-$E63),IF((COUNTIF(AV58:AV62,"v")=1),ABS($C63-$E63),0)) -> 0 | AW63: =IF(AV63="v",1+AW64,IF(AV63="d",0,AW64)) -> 0
O64: =IF(N64="v",1+O65,IF(N64="d",0,O65)) -> 1 | Q64: =IF(P64="v",1+Q65,IF(P64="d",0,Q65)) -> 1 | S64: =IF(R64="v",1+S65,IF(R64="d",0,S65)) -> 0 | U64: =IF(T64="v",1+U65,IF(T64="d",0,U65)) -> 5 | W64: =IF(V64="v",1+W65,IF(V64="d",0,W65)) -> 0 | Y64: =IF(X64="v",1+Y65,IF(X64="d",0,Y65)) -> 2 | AA64: =IF(Z64="v",1+AA65,IF(Z64="d",0,AA65)) -> 3 | AC64: =IF(AB64="v",1+AC65,IF(AB64="d",0,AC65)) -> 3 | AE64: =IF(AD64="v",1+AE65,IF(AD64="d",0,AE65)) -> 0 | AG64: =IF(AF64="v",1+AG65,IF(AF64="d",0,AG65)) -> 0 | AI64: =IF(AH64="v",1+AI65,IF(AH64="d",0,AI65)) -> 0 | AK64: =IF(AJ64="v",1+AK65,IF(AJ64="d",0,AK65)) -> 0 | AM64: =IF(AL64="v",1+AM65,IF(AL64="d",0,AM65)) -> 1 | AO64: =IF(AN64="v",1+AO65,IF(AN64="d",0,AO65)) -> 1 | AQ64: =IF(AP64="v",1+AQ65,IF(AP64="d",0,AQ65)) -> 0 | AS64: =IF(AR64="v",1+AS65,IF(AR64="d",0,AS65)) -> 1 | AU64: =IF(AT64="v",1+AU65,IF(AT64="d",0,AU65)) -> 1 | AW64: =IF(AV64="v",1+AW65,IF(AV64="d",0,AW65)) -> 0
B65: 42050 | O65: =IF(N65="v",1+O66,IF(N65="d",0,O66)) -> 1 | Q65: =IF(P65="v",1+Q66,IF(P65="d",0,Q66)) -> 1 | S65: =IF(R65="v",1+S66,IF(R65="d",0,S66)) -> 0 | U65: =IF(T65="v",1+U66,IF(T65="d",0,U66)) -> 5 | W65: =IF(V65="v",1+W66,IF(V65="d",0,W66)) -> 0 | Y65: =IF(X65="v",1+Y66,IF(X65="d",0,Y66)) -> 2 | AA65: =IF(Z65="v",1+AA66,IF(Z65="d",0,AA66)) -> 3 | AC65: =IF(AB65="v",1+AC66,IF(AB65="d",0,AC66)) -> 3 | AE65: =IF(AD65="v",1+AE66,IF(AD65="d",0,AE66)) -> 0 | AG65: =IF(AF65="v",1+AG66,IF(AF65="d",0,AG66)) -> 0 | AI65: =IF(AH65="v",1+AI66,IF(AH65="d",0,AI66)) -> 0 | AK65: =IF(AJ65="v",1+AK66,IF(AJ65="d",0,AK66)) -> 0 | AM65: =IF(AL65="v",1+AM66,IF(AL65="d",0,AM66)) -> 1 | AO65: =IF(AN65="v",1+AO66,IF(AN65="d",0,AO66)) -> 1 | AQ65: =IF(AP65="v",1+AQ66,IF(AP65="d",0,AQ66)) -> 0 | AS65: =IF(AR65="v",1+AS66,IF(AR65="d",0,AS66)) -> 1 | AU65: =IF(AT65="v",1+AU66,IF(AT65="d",0,AU66)) -> 1 | AW65: =IF(AV65="v",1+AW66,IF(AV65="d",0,AW66)) -> 0
C66: T1 | E66: T2 | O66: =IF(N66="v",1+O67,IF(N66="d",0,O67)) -> 1 | Q66: =IF(P66="v",1+Q67,IF(P66="d",0,Q67)) -> 1 | S66: =IF(R66="v",1+S67,IF(R66="d",0,S67)) -> 0 | U66: =IF(T66="v",1+U67,IF(T66="d",0,U67)) -> 5 | W66: =IF(V66="v",1+W67,IF(V66="d",0,W67)) -> 0 | Y66: =IF(X66="v",1+Y67,IF(X66="d",0,Y67)) -> 2 | AA66: =IF(Z66="v",1+AA67,IF(Z66="d",0,AA67)) -> 3 | AC66: =IF(AB66="v",1+AC67,IF(AB66="d",0,AC67)) -> 3 | AE66: =IF(AD66="v",1+AE67,IF(AD66="d",0,AE67)) -> 0 | AG66: =IF(AF66="v",1+AG67,IF(AF66="d",0,AG67)) -> 0 | AI66: =IF(AH66="v",1+AI67,IF(AH66="d",0,AI67)) -> 0 | AK66: =IF(AJ66="v",1+AK67,IF(AJ66="d",0,AK67)) -> 0 | AM66: =IF(AL66="v",1+AM67,IF(AL66="d",0,AM67)) -> 1 | AO66: =IF(AN66="v",1+AO67,IF(AN66="d",0,AO67)) -> 1 | AQ66: =IF(AP66="v",1+AQ67,IF(AP66="d",0,AQ67)) -> 0 | AS66: =IF(AR66="v",1+AS67,IF(AR66="d",0,AS67)) -> 1 | AU66: =IF(AT66="v",1+AU67,IF(AT66="d",0,AU67)) -> 1 | AW66: =IF(AV66="v",1+AW67,IF(AV66="d",0,AW67)) -> 0
C67: Olivier | D67: =IF(C72=E72,"n",IF(C72>E72,"v","d")) -> d | E67: =IF(C72=E72,"n",IF(C72<E72,"v","d")) -> v | F67: Ben | N67: =IF(C67=$N$1,D67,IF(F67=$N$1,E67,"-")) -> - | O67: =IF(N67="v",1+O68,IF(N67="d",0,O68)) -> 1 | P67: =IF($C67=$P$1,$D67,IF($F67=$P$1,$E67,"-")) -> - | Q67: =IF(P67="v",1+Q68,IF(P67="d",0,Q68)) -> 1 | R67: =IF($C67=R$1,$D67,IF($F67=R$1,$E67,"-")) -> - | S67: =IF(R67="v",1+S68,IF(R67="d",0,S68)) -> 0 | T67: =IF($C67=T$1,$D67,IF($F67=T$1,$E67,"-")) -> v | U67: =IF(T67="v",1+U68,IF(T67="d",0,U68)) -> 5 | V67: =IF($C67=V$1,$D67,IF($F67=V$1,$E67,"-")) -> - | W67: =IF(V67="v",1+W68,IF(V67="d",0,W68)) -> 0 | X67: =IF($C67=X$1,$D67,IF($F67=X$1,$E67,"-")) -> - | Y67: =IF(X67="v",1+Y68,IF(X67="d",0,Y68)) -> 2 | Z67: =IF($C67=Z$1,$D67,IF($F67=Z$1,$E67,"-")) -> - | AA67: =IF(Z67="v",1+AA68,IF(Z67="d",0,AA68)) -> 3 | AB67: =IF($C67=AB$1,$D67,IF($F67=AB$1,$E67,"-")) -> - | AC67: =IF(AB67="v",1+AC68,IF(AB67="d",0,AC68)) -> 3 | AD67: =IF($C67=AD$1,$D67,IF($F67=AD$1,$E67,"-")) -> - | AE67: =IF(AD67="v",1+AE68,IF(AD67="d",0,AE68)) -> 0 | AF67: =IF($C67=AF$1,$D67,IF($F67=AF$1,$E67,"-")) -> - | AG67: =IF(AF67="v",1+AG68,IF(AF67="d",0,AG68)) -> 0 | AH67: =IF($C67=AH$1,$D67,IF($F67=AH$1,$E67,"-")) -> d | AI67: =IF(AH67="v",1+AI68,IF(AH67="d",0,AI68)) -> 0 | AJ67: =IF($C67=AJ$1,$D67,IF($F67=AJ$1,$E67,"-")) -> - | AK67: =IF(AJ67="v",1+AK68,IF(AJ67="d",0,AK68)) -> 0 | AL67: =IF($C67=AL$1,$D67,IF($F67=AL$1,$E67,"-")) -> - | AM67: =IF(AL67="v",1+AM68,IF(AL67="d",0,AM68)) -> 1 | AN67: =IF($C67=AN$1,$D67,IF($F67=AN$1,$E67,"-")) -> - | AO67: =IF(AN67="v",1+AO68,IF(AN67="d",0,AO68)) -> 1 | AP67: =IF($C67=AP$1,$D67,IF($F67=AP$1,$E67,"-")) -> - | AQ67: =IF(AP67="v",1+AQ68,IF(AP67="d",0,AQ68)) -> 0 | AR67: =IF($C67=AR$1,$D67,IF($F67=AR$1,$E67,"-")) -> - | AS67: =IF(AR67="v",1+AS68,IF(AR67="d",0,AS68)) -> 1 | AT67: =IF($C67=AT$1,$D67,IF($F67=AT$1,$E67,"-")) -> - | AU67: =IF(AT67="v",1+AU68,IF(AT67="d",0,AU68)) -> 1 | AV67: =IF($C67=AV$1,$D67,IF($F67=AV$1,$E67,"-")) -> - | AW67: =IF(AV67="v",1+AW68,IF(AV67="d",0,AW68)) -> 0
C68: Romain | D68: =IF(C72=E72,"n",IF(C72>E72,"v","d")) -> d | E68: =IF(C72=E72,"n",IF(C72<E72,"v","d")) -> v | F68: Stéphane | N68: =IF(C68=$N$1,D68,IF(F68=$N$1,E68,"-")) -> - | O68: =IF(N68="v",1+O69,IF(N68="d",0,O69)) -> 1 | P68: =IF(C68=$P$1,D68,IF(F68=$P$1,E68,"-")) -> - | Q68: =IF(P68="v",1+Q69,IF(P68="d",0,Q69)) -> 1 | R68: =IF($C68=R$1,$D68,IF($F68=R$1,$E68,"-")) -> - | S68: =IF(R68="v",1+S69,IF(R68="d",0,S69)) -> 0 | T68: =IF($C68=T$1,$D68,IF($F68=T$1,$E68,"-")) -> - | U68: =IF(T68="v",1+U69,IF(T68="d",0,U69)) -> 4 | V68: =IF($C68=V$1,$D68,IF($F68=V$1,$E68,"-")) -> - | W68: =IF(V68="v",1+W69,IF(V68="d",0,W69)) -> 0 | X68: =IF($C68=X$1,$D68,IF($F68=X$1,$E68,"-")) -> v | Y68: =IF(X68="v",1+Y69,IF(X68="d",0,Y69)) -> 2 | Z68: =IF($C68=Z$1,$D68,IF($F68=Z$1,$E68,"-")) -> - | AA68: =IF(Z68="v",1+AA69,IF(Z68="d",0,AA69)) -> 3 | AB68: =IF($C68=AB$1,$D68,IF($F68=AB$1,$E68,"-")) -> - | AC68: =IF(AB68="v",1+AC69,IF(AB68="d",0,AC69)) -> 3 | AD68: =IF($C68=AD$1,$D68,IF($F68=AD$1,$E68,"-")) -> - | AE68: =IF(AD68="v",1+AE69,IF(AD68="d",0,AE69)) -> 0 | AF68: =IF($C68=AF$1,$D68,IF($F68=AF$1,$E68,"-")) -> - | AG68: =IF(AF68="v",1+AG69,IF(AF68="d",0,AG69)) -> 0 | AH68: =IF($C68=AH$1,$D68,IF($F68=AH$1,$E68,"-")) -> - | AI68: =IF(AH68="v",1+AI69,IF(AH68="d",0,AI69)) -> 0 | AJ68: =IF($C68=AJ$1,$D68,IF($F68=AJ$1,$E68,"-")) -> d | AK68: =IF(AJ68="v",1+AK69,IF(AJ68="d",0,AK69)) -> 0 | AL68: =IF($C68=AL$1,$D68,IF($F68=AL$1,$E68,"-")) -> - | AM68: =IF(AL68="v",1+AM69,IF(AL68="d",0,AM69)) -> 1 | AN68: =IF($C68=AN$1,$D68,IF($F68=AN$1,$E68,"-")) -> - | AO68: =IF(AN68="v",1+AO69,IF(AN68="d",0,AO69)) -> 1 | AP68: =IF($C68=AP$1,$D68,IF($F68=AP$1,$E68,"-")) -> - | AQ68: =IF(AP68="v",1+AQ69,IF(AP68="d",0,AQ69)) -> 0 | AR68: =IF($C68=AR$1,$D68,IF($F68=AR$1,$E68,"-")) -> - | AS68: =IF(AR68="v",1+AS69,IF(AR68="d",0,AS69)) -> 1 | AT68: =IF($C68=AT$1,$D68,IF($F68=AT$1,$E68,"-")) -> - | AU68: =IF(AT68="v",1+AU69,IF(AT68="d",0,AU69)) -> 1 | AV68: =IF($C68=AV$1,$D68,IF($F68=AV$1,$E68,"-")) -> - | AW68: =IF(AV68="v",1+AW69,IF(AV68="d",0,AW69)) -> 0
C69: Mehdi | D69: =IF(C72=E72,"n",IF(C72>E72,"v","d")) -> d | E69: =IF(C72=E72,"n",IF(C72<E72,"v","d")) -> v | F69: Gui | N69: =IF(C69=$N$1,D69,IF(F69=$N$1,E69,"-")) -> v | O69: =IF(N69="v",1+O70,IF(N69="d",0,O70)) -> 1 | P69: =IF(C69=$P$1,D69,IF(F69=$P$1,E69,"-")) -> - | Q69: =IF(P69="v",1+Q70,IF(P69="d",0,Q70)) -> 1 | R69: =IF($C69=R$1,$D69,IF($F69=R$1,$E69,"-")) -> - | S69: =IF(R69="v",1+S70,IF(R69="d",0,S70)) -> 0 | T69: =IF($C69=T$1,$D69,IF($F69=T$1,$E69,"-")) -> - | U69: =IF(T69="v",1+U70,IF(T69="d",0,U70)) -> 4 | V69: =IF($C69=V$1,$D69,IF($F69=V$1,$E69,"-")) -> d | W69: =IF(V69="v",1+W70,IF(V69="d",0,W70)) -> 0 | X69: =IF($C69=X$1,$D69,IF($F69=X$1,$E69,"-")) -> - | Y69: =IF(X69="v",1+Y70,IF(X69="d",0,Y70)) -> 1 | Z69: =IF($C69=Z$1,$D69,IF($F69=Z$1,$E69,"-")) -> - | AA69: =IF(Z69="v",1+AA70,IF(Z69="d",0,AA70)) -> 3 | AB69: =IF($C69=AB$1,$D69,IF($F69=AB$1,$E69,"-")) -> - | AC69: =IF(AB69="v",1+AC70,IF(AB69="d",0,AC70)) -> 3 | AD69: =IF($C69=AD$1,$D69,IF($F69=AD$1,$E69,"-")) -> - | AE69: =IF(AD69="v",1+AE70,IF(AD69="d",0,AE70)) -> 0 | AF69: =IF($C69=AF$1,$D69,IF($F69=AF$1,$E69,"-")) -> - | AG69: =IF(AF69="v",1+AG70,IF(AF69="d",0,AG70)) -> 0 | AH69: =IF($C69=AH$1,$D69,IF($F69=AH$1,$E69,"-")) -> - | AI69: =IF(AH69="v",1+AI70,IF(AH69="d",0,AI70)) -> 0 | AJ69: =IF($C69=AJ$1,$D69,IF($F69=AJ$1,$E69,"-")) -> - | AK69: =IF(AJ69="v",1+AK70,IF(AJ69="d",0,AK70)) -> 0 | AL69: =IF($C69=AL$1,$D69,IF($F69=AL$1,$E69,"-")) -> - | AM69: =IF(AL69="v",1+AM70,IF(AL69="d",0,AM70)) -> 1 | AN69: =IF($C69=AN$1,$D69,IF($F69=AN$1,$E69,"-")) -> - | AO69: =IF(AN69="v",1+AO70,IF(AN69="d",0,AO70)) -> 1 | AP69: =IF($C69=AP$1,$D69,IF($F69=AP$1,$E69,"-")) -> - | AQ69: =IF(AP69="v",1+AQ70,IF(AP69="d",0,AQ70)) -> 0 | AR69: =IF($C69=AR$1,$D69,IF($F69=AR$1,$E69,"-")) -> - | AS69: =IF(AR69="v",1+AS70,IF(AR69="d",0,AS70)) -> 1 | AT69: =IF($C69=AT$1,$D69,IF($F69=AT$1,$E69,"-")) -> - | AU69: =IF(AT69="v",1+AU70,IF(AT69="d",0,AU70)) -> 1 | AV69: =IF($C69=AV$1,$D69,IF($F69=AV$1,$E69,"-")) -> - | AW69: =IF(AV69="v",1+AW70,IF(AV69="d",0,AW70)) -> 0
C70: Time | D70: =IF(C72=E72,"n",IF(C72>E72,"v","d")) -> d | E70: =IF(C72=E72,"n",IF(C72<E72,"v","d")) -> v | F70: Rios | N70: =IF(C70=$N$1,D70,IF(F70=$N$1,E70,"-")) -> - | O70: =IF(N70="v",1+O71,IF(N70="d",0,O71)) -> 0 | P70: =IF(C70=$P$1,D70,IF(F70=$P$1,E70,"-")) -> v | Q70: =IF(P70="v",1+Q71,IF(P70="d",0,Q71)) -> 1 | R70: =IF($C70=R$1,$D70,IF($F70=R$1,$E70,"-")) -> d | S70: =IF(R70="v",1+S71,IF(R70="d",0,S71)) -> 0 | T70: =IF($C70=T$1,$D70,IF($F70=T$1,$E70,"-")) -> - | U70: =IF(T70="v",1+U71,IF(T70="d",0,U71)) -> 4 | V70: =IF($C70=V$1,$D70,IF($F70=V$1,$E70,"-")) -> - | W70: =IF(V70="v",1+W71,IF(V70="d",0,W71)) -> 0 | X70: =IF($C70=X$1,$D70,IF($F70=X$1,$E70,"-")) -> - | Y70: =IF(X70="v",1+Y71,IF(X70="d",0,Y71)) -> 1 | Z70: =IF($C70=Z$1,$D70,IF($F70=Z$1,$E70,"-")) -> - | AA70: =IF(Z70="v",1+AA71,IF(Z70="d",0,AA71)) -> 3 | AB70: =IF($C70=AB$1,$D70,IF($F70=AB$1,$E70,"-")) -> - | AC70: =IF(AB70="v",1+AC71,IF(AB70="d",0,AC71)) -> 3 | AD70: =IF($C70=AD$1,$D70,IF($F70=AD$1,$E70,"-")) -> - | AE70: =IF(AD70="v",1+AE71,IF(AD70="d",0,AE71)) -> 0 | AF70: =IF($C70=AF$1,$D70,IF($F70=AF$1,$E70,"-")) -> - | AG70: =IF(AF70="v",1+AG71,IF(AF70="d",0,AG71)) -> 0 | AH70: =IF($C70=AH$1,$D70,IF($F70=AH$1,$E70,"-")) -> - | AI70: =IF(AH70="v",1+AI71,IF(AH70="d",0,AI71)) -> 0 | AJ70: =IF($C70=AJ$1,$D70,IF($F70=AJ$1,$E70,"-")) -> - | AK70: =IF(AJ70="v",1+AK71,IF(AJ70="d",0,AK71)) -> 0 | AL70: =IF($C70=AL$1,$D70,IF($F70=AL$1,$E70,"-")) -> - | AM70: =IF(AL70="v",1+AM71,IF(AL70="d",0,AM71)) -> 1 | AN70: =IF($C70=AN$1,$D70,IF($F70=AN$1,$E70,"-")) -> - | AO70: =IF(AN70="v",1+AO71,IF(AN70="d",0,AO71)) -> 1 | AP70: =IF($C70=AP$1,$D70,IF($F70=AP$1,$E70,"-")) -> - | AQ70: =IF(AP70="v",1+AQ71,IF(AP70="d",0,AQ71)) -> 0 | AR70: =IF($C70=AR$1,$D70,IF($F70=AR$1,$E70,"-")) -> - | AS70: =IF(AR70="v",1+AS71,IF(AR70="d",0,AS71)) -> 1 | AT70: =IF($C70=AT$1,$D70,IF($F70=AT$1,$E70,"-")) -> - | AU70: =IF(AT70="v",1+AU71,IF(AT70="d",0,AU71)) -> 1 | AV70: =IF($C70=AV$1,$D70,IF($F70=AV$1,$E70,"-")) -> - | AW70: =IF(AV70="v",1+AW71,IF(AV70="d",0,AW71)) -> 0
C71: Klaim | D71: =IF(C72=E72,"n",IF(C72>E72,"v","d")) -> d | E71: =IF(C72=E72,"n",IF(C72<E72,"v","d")) -> v | F71: Rémi C | N71: =IF(C71=$N$1,D71,IF(F71=$N$1,E71,"-")) -> - | O71: =IF(N71="v",1+O72,IF(N71="d",0,O72)) -> 0 | P71: =IF(C71=$P$1,D71,IF(F71=$P$1,E71,"-")) -> - | Q71: =IF(P71="v",1+Q72,IF(P71="d",0,Q72)) -> 0 | R71: =IF($C71=R$1,$D71,IF($F71=R$1,$E71,"-")) -> - | S71: =IF(R71="v",1+S72,IF(R71="d",0,S72)) -> 0 | T71: =IF($C71=T$1,$D71,IF($F71=T$1,$E71,"-")) -> - | U71: =IF(T71="v",1+U72,IF(T71="d",0,U72)) -> 4 | V71: =IF($C71=V$1,$D71,IF($F71=V$1,$E71,"-")) -> - | W71: =IF(V71="v",1+W72,IF(V71="d",0,W72)) -> 0 | X71: =IF($C71=X$1,$D71,IF($F71=X$1,$E71,"-")) -> - | Y71: =IF(X71="v",1+Y72,IF(X71="d",0,Y72)) -> 1 | Z71: =IF($C71=Z$1,$D71,IF($F71=Z$1,$E71,"-")) -> - | AA71: =IF(Z71="v",1+AA72,IF(Z71="d",0,AA72)) -> 3 | AB71: =IF($C71=AB$1,$D71,IF($F71=AB$1,$E71,"-")) -> - | AC71: =IF(AB71="v",1+AC72,IF(AB71="d",0,AC72)) -> 3 | AD71: =IF($C71=AD$1,$D71,IF($F71=AD$1,$E71,"-")) -> d | AE71: =IF(AD71="v",1+AE72,IF(AD71="d",0,AE72)) -> 0 | AF71: =IF($C71=AF$1,$D71,IF($F71=AF$1,$E71,"-")) -> - | AG71: =IF(AF71="v",1+AG72,IF(AF71="d",0,AG72)) -> 0 | AH71: =IF($C71=AH$1,$D71,IF($F71=AH$1,$E71,"-")) -> - | AI71: =IF(AH71="v",1+AI72,IF(AH71="d",0,AI72)) -> 0 | AJ71: =IF($C71=AJ$1,$D71,IF($F71=AJ$1,$E71,"-")) -> - | AK71: =IF(AJ71="v",1+AK72,IF(AJ71="d",0,AK72)) -> 0 | AL71: =IF($C71=AL$1,$D71,IF($F71=AL$1,$E71,"-")) -> - | AM71: =IF(AL71="v",1+AM72,IF(AL71="d",0,AM72)) -> 1 | AN71: =IF($C71=AN$1,$D71,IF($F71=AN$1,$E71,"-")) -> v | AO71: =IF(AN71="v",1+AO72,IF(AN71="d",0,AO72)) -> 1 | AP71: =IF($C71=AP$1,$D71,IF($F71=AP$1,$E71,"-")) -> - | AQ71: =IF(AP71="v",1+AQ72,IF(AP71="d",0,AQ72)) -> 0 | AR71: =IF($C71=AR$1,$D71,IF($F71=AR$1,$E71,"-")) -> - | AS71: =IF(AR71="v",1+AS72,IF(AR71="d",0,AS72)) -> 1 | AT71: =IF($C71=AT$1,$D71,IF($F71=AT$1,$E71,"-")) -> - | AU71: =IF(AT71="v",1+AU72,IF(AT71="d",0,AU72)) -> 1 | AV71: =IF($C71=AV$1,$D71,IF($F71=AV$1,$E71,"-")) -> - | AW71: =IF(AV71="v",1+AW72,IF(AV71="d",0,AW72)) -> 0
B72: SCORE | C72: 22 | E72: 24 | N72: =IF((COUNTIF(N67:N71,"d")=1),-ABS($C72-$E72),IF((COUNTIF(N67:N71,"v")=1),ABS($C72-$E72),0)) -> 2 | O72: =IF(N72="v",1+O73,IF(N72="d",0,O73)) -> 0 | P72: =IF((COUNTIF(P67:P71,"d")=1),-ABS($C72-$E72),IF((COUNTIF(P67:P71,"v")=1),ABS($C72-$E72),0)) -> 2 | Q72: =IF(P72="v",1+Q73,IF(P72="d",0,Q73)) -> 0 | R72: =IF((COUNTIF(R67:R71,"d")=1),-ABS($C72-$E72),IF((COUNTIF(R67:R71,"v")=1),ABS($C72-$E72),0)) -> -2 | S72: =IF(R72="v",1+S73,IF(R72="d",0,S73)) -> 0 | T72: =IF((COUNTIF(T67:T71,"d")=1),-ABS($C72-$E72),IF((COUNTIF(T67:T71,"v")=1),ABS($C72-$E72),0)) -> 2 | U72: =IF(T72="v",1+U73,IF(T72="d",0,U73)) -> 4 | V72: =IF((COUNTIF(V67:V71,"d")=1),-ABS($C72-$E72),IF((COUNTIF(V67:V71,"v")=1),ABS($C72-$E72),0)) -> -2 | W72: =IF(V72="v",1+W73,IF(V72="d",0,W73)) -> 0 | X72: =IF((COUNTIF(X67:X71,"d")=1),-ABS($C72-$E72),IF((COUNTIF(X67:X71,"v")=1),ABS($C72-$E72),0)) -> 2 | Y72: =IF(X72="v",1+Y73,IF(X72="d",0,Y73)) -> 1 | Z72: =IF((COUNTIF(Z67:Z71,"d")=1),-ABS($C72-$E72),IF((COUNTIF(Z67:Z71,"v")=1),ABS($C72-$E72),0)) -> 0 | AA72: =IF(Z72="v",1+AA73,IF(Z72="d",0,AA73)) -> 3 | AB72: =IF((COUNTIF(AB67:AB71,"d")=1),-ABS($C72-$E72),IF((COUNTIF(AB67:AB71,"v")=1),ABS($C72-$E72),0)) -> 0 | AC72: =IF(AB72="v",1+AC73,IF(AB72="d",0,AC73)) -> 3 | AD72: =IF((COUNTIF(AD67:AD71,"d")=1),-ABS($C72-$E72),IF((COUNTIF(AD67:AD71,"v")=1),ABS($C72-$E72),0)) -> -2 | AE72: =IF(AD72="v",1+AE73,IF(AD72="d",0,AE73)) -> 0 | AF72: =IF((COUNTIF(AF67:AF71,"d")=1),-ABS($C72-$E72),IF((COUNTIF(AF67:AF71,"v")=1),ABS($C72-$E72),0)) -> 0 | AG72: =IF(AF72="v",1+AG73,IF(AF72="d",0,AG73)) -> 0 | AH72: =IF((COUNTIF(AH67:AH71,"d")=1),-ABS($C72-$E72),IF((COUNTIF(AH67:AH71,"v")=1),ABS($C72-$E72),0)) -> -2 | AI72: =IF(AH72="v",1+AI73,IF(AH72="d",0,AI73)) -> 0 | AJ72: =IF((COUNTIF(AJ67:AJ71,"d")=1),-ABS($C72-$E72),IF((COUNTIF(AJ67:AJ71,"v")=1),ABS($C72-$E72),0)) -> -2 | AK72: =IF(AJ72="v",1+AK73,IF(AJ72="d",0,AK73)) -> 0 | AL72: =IF((COUNTIF(AL67:AL71,"d")=1),-ABS($C72-$E72),IF((COUNTIF(AL67:AL71,"v")=1),ABS($C72-$E72),0)) -> 0 | AM72: =IF(AL72="v",1+AM73,IF(AL72="d",0,AM73)) -> 1 | AN72: =IF((COUNTIF(AN67:AN71,"d")=1),-ABS($C72-$E72),IF((COUNTIF(AN67:AN71,"v")=1),ABS($C72-$E72),0)) -> 2 | AO72: =IF(AN72="v",1+AO73,IF(AN72="d",0,AO73)) -> 0 | AP72: =IF((COUNTIF(AP67:AP71,"d")=1),-ABS($C72-$E72),IF((COUNTIF(AP67:AP71,"v")=1),ABS($C72-$E72),0)) -> 0 | AQ72: =IF(AP72="v",1+AQ73,IF(AP72="d",0,AQ73)) -> 0 | AR72: =IF((COUNTIF(AR67:AR71,"d")=1),-ABS($C72-$E72),IF((COUNTIF(AR67:AR71,"v")=1),ABS($C72-$E72),0)) -> 0 | AS72: =IF(AR72="v",1+AS73,IF(AR72="d",0,AS73)) -> 1 | AT72: =IF((COUNTIF(AT67:AT71,"d")=1),-ABS($C72-$E72),IF((COUNTIF(AT67:AT71,"v")=1),ABS($C72-$E72),0)) -> 0 | AU72: =IF(AT72="v",1+AU73,IF(AT72="d",0,AU73)) -> 1 | AV72: =IF((COUNTIF(AV67:AV71,"d")=1),-ABS($C72-$E72),IF((COUNTIF(AV67:AV71,"v")=1),ABS($C72-$E72),0)) -> 0 | AW72: =IF(AV72="v",1+AW73,IF(AV72="d",0,AW73)) -> 0
O73: =IF(N73="v",1+O74,IF(N73="d",0,O74)) -> 0 | Q73: =IF(P73="v",1+Q74,IF(P73="d",0,Q74)) -> 0 | S73: =IF(R73="v",1+S74,IF(R73="d",0,S74)) -> 0 | U73: =IF(T73="v",1+U74,IF(T73="d",0,U74)) -> 4 | W73: =IF(V73="v",1+W74,IF(V73="d",0,W74)) -> 0 | Y73: =IF(X73="v",1+Y74,IF(X73="d",0,Y74)) -> 1 | AA73: =IF(Z73="v",1+AA74,IF(Z73="d",0,AA74)) -> 3 | AC73: =IF(AB73="v",1+AC74,IF(AB73="d",0,AC74)) -> 3 | AE73: =IF(AD73="v",1+AE74,IF(AD73="d",0,AE74)) -> 0 | AG73: =IF(AF73="v",1+AG74,IF(AF73="d",0,AG74)) -> 0 | AI73: =IF(AH73="v",1+AI74,IF(AH73="d",0,AI74)) -> 0 | AK73: =IF(AJ73="v",1+AK74,IF(AJ73="d",0,AK74)) -> 0 | AM73: =IF(AL73="v",1+AM74,IF(AL73="d",0,AM74)) -> 1 | AO73: =IF(AN73="v",1+AO74,IF(AN73="d",0,AO74)) -> 0 | AQ73: =IF(AP73="v",1+AQ74,IF(AP73="d",0,AQ74)) -> 0 | AS73: =IF(AR73="v",1+AS74,IF(AR73="d",0,AS74)) -> 1 | AU73: =IF(AT73="v",1+AU74,IF(AT73="d",0,AU74)) -> 1 | AW73: =IF(AV73="v",1+AW74,IF(AV73="d",0,AW74)) -> 0
B74: 42043 | O74: =IF(N74="v",1+O75,IF(N74="d",0,O75)) -> 0 | Q74: =IF(P74="v",1+Q75,IF(P74="d",0,Q75)) -> 0 | S74: =IF(R74="v",1+S75,IF(R74="d",0,S75)) -> 0 | U74: =IF(T74="v",1+U75,IF(T74="d",0,U75)) -> 4 | W74: =IF(V74="v",1+W75,IF(V74="d",0,W75)) -> 0 | Y74: =IF(X74="v",1+Y75,IF(X74="d",0,Y75)) -> 1 | AA74: =IF(Z74="v",1+AA75,IF(Z74="d",0,AA75)) -> 3 | AC74: =IF(AB74="v",1+AC75,IF(AB74="d",0,AC75)) -> 3 | AE74: =IF(AD74="v",1+AE75,IF(AD74="d",0,AE75)) -> 0 | AG74: =IF(AF74="v",1+AG75,IF(AF74="d",0,AG75)) -> 0 | AI74: =IF(AH74="v",1+AI75,IF(AH74="d",0,AI75)) -> 0 | AK74: =IF(AJ74="v",1+AK75,IF(AJ74="d",0,AK75)) -> 0 | AM74: =IF(AL74="v",1+AM75,IF(AL74="d",0,AM75)) -> 1 | AO74: =IF(AN74="v",1+AO75,IF(AN74="d",0,AO75)) -> 0 | AQ74: =IF(AP74="v",1+AQ75,IF(AP74="d",0,AQ75)) -> 0 | AS74: =IF(AR74="v",1+AS75,IF(AR74="d",0,AS75)) -> 1 | AU74: =IF(AT74="v",1+AU75,IF(AT74="d",0,AU75)) -> 1 | AW74: =IF(AV74="v",1+AW75,IF(AV74="d",0,AW75)) -> 0
C75: T1 | E75: T2 | O75: =IF(N75="v",1+O76,IF(N75="d",0,O76)) -> 0 | Q75: =IF(P75="v",1+Q76,IF(P75="d",0,Q76)) -> 0 | S75: =IF(R75="v",1+S76,IF(R75="d",0,S76)) -> 0 | U75: =IF(T75="v",1+U76,IF(T75="d",0,U76)) -> 4 | W75: =IF(V75="v",1+W76,IF(V75="d",0,W76)) -> 0 | Y75: =IF(X75="v",1+Y76,IF(X75="d",0,Y76)) -> 1 | AA75: =IF(Z75="v",1+AA76,IF(Z75="d",0,AA76)) -> 3 | AC75: =IF(AB75="v",1+AC76,IF(AB75="d",0,AC76)) -> 3 | AE75: =IF(AD75="v",1+AE76,IF(AD75="d",0,AE76)) -> 0 | AG75: =IF(AF75="v",1+AG76,IF(AF75="d",0,AG76)) -> 0 | AI75: =IF(AH75="v",1+AI76,IF(AH75="d",0,AI76)) -> 0 | AK75: =IF(AJ75="v",1+AK76,IF(AJ75="d",0,AK76)) -> 0 | AM75: =IF(AL75="v",1+AM76,IF(AL75="d",0,AM76)) -> 1 | AO75: =IF(AN75="v",1+AO76,IF(AN75="d",0,AO76)) -> 0 | AQ75: =IF(AP75="v",1+AQ76,IF(AP75="d",0,AQ76)) -> 0 | AS75: =IF(AR75="v",1+AS76,IF(AR75="d",0,AS76)) -> 1 | AU75: =IF(AT75="v",1+AU76,IF(AT75="d",0,AU76)) -> 1 | AW75: =IF(AV75="v",1+AW76,IF(AV75="d",0,AW76)) -> 0
C76: Ben | D76: =IF(C81=E81,"n",IF(C81>E81,"v","d")) -> v | E76: =IF(C81=E81,"n",IF(C81<E81,"v","d")) -> d | F76: Gui | N76: =IF(C76=$N$1,D76,IF(F76=$N$1,E76,"-")) -> d | O76: =IF(N76="v",1+O77,IF(N76="d",0,O77)) -> 0 | P76: =IF($C76=$P$1,$D76,IF($F76=$P$1,$E76,"-")) -> - | Q76: =IF(P76="v",1+Q77,IF(P76="d",0,Q77)) -> 0 | R76: =IF($C76=R$1,$D76,IF($F76=R$1,$E76,"-")) -> - | S76: =IF(R76="v",1+S77,IF(R76="d",0,S77)) -> 0 | T76: =IF($C76=T$1,$D76,IF($F76=T$1,$E76,"-")) -> v | U76: =IF(T76="v",1+U77,IF(T76="d",0,U77)) -> 4 | V76: =IF($C76=V$1,$D76,IF($F76=V$1,$E76,"-")) -> - | W76: =IF(V76="v",1+W77,IF(V76="d",0,W77)) -> 0 | X76: =IF($C76=X$1,$D76,IF($F76=X$1,$E76,"-")) -> - | Y76: =IF(X76="v",1+Y77,IF(X76="d",0,Y77)) -> 1 | Z76: =IF($C76=Z$1,$D76,IF($F76=Z$1,$E76,"-")) -> - | AA76: =IF(Z76="v",1+AA77,IF(Z76="d",0,AA77)) -> 3 | AB76: =IF($C76=AB$1,$D76,IF($F76=AB$1,$E76,"-")) -> - | AC76: =IF(AB76="v",1+AC77,IF(AB76="d",0,AC77)) -> 3 | AD76: =IF($C76=AD$1,$D76,IF($F76=AD$1,$E76,"-")) -> - | AE76: =IF(AD76="v",1+AE77,IF(AD76="d",0,AE77)) -> 0 | AF76: =IF($C76=AF$1,$D76,IF($F76=AF$1,$E76,"-")) -> - | AG76: =IF(AF76="v",1+AG77,IF(AF76="d",0,AG77)) -> 0 | AH76: =IF($C76=AH$1,$D76,IF($F76=AH$1,$E76,"-")) -> - | AI76: =IF(AH76="v",1+AI77,IF(AH76="d",0,AI77)) -> 0 | AJ76: =IF($C76=AJ$1,$D76,IF($F76=AJ$1,$E76,"-")) -> - | AK76: =IF(AJ76="v",1+AK77,IF(AJ76="d",0,AK77)) -> 0 | AL76: =IF($C76=AL$1,$D76,IF($F76=AL$1,$E76,"-")) -> - | AM76: =IF(AL76="v",1+AM77,IF(AL76="d",0,AM77)) -> 1 | AN76: =IF($C76=AN$1,$D76,IF($F76=AN$1,$E76,"-")) -> - | AO76: =IF(AN76="v",1+AO77,IF(AN76="d",0,AO77)) -> 0 | AP76: =IF($C76=AP$1,$D76,IF($F76=AP$1,$E76,"-")) -> - | AQ76: =IF(AP76="v",1+AQ77,IF(AP76="d",0,AQ77)) -> 0 | AR76: =IF($C76=AR$1,$D76,IF($F76=AR$1,$E76,"-")) -> - | AS76: =IF(AR76="v",1+AS77,IF(AR76="d",0,AS77)) -> 1 | AT76: =IF($C76=AT$1,$D76,IF($F76=AT$1,$E76,"-")) -> - | AU76: =IF(AT76="v",1+AU77,IF(AT76="d",0,AU77)) -> 1 | AV76: =IF($C76=AV$1,$D76,IF($F76=AV$1,$E76,"-")) -> - | AW76: =IF(AV76="v",1+AW77,IF(AV76="d",0,AW77)) -> 0
C77: Stéphane | D77: =IF(C81=E81,"n",IF(C81>E81,"v","d")) -> v | E77: =IF(C81=E81,"n",IF(C81<E81,"v","d")) -> d | F77: Rios | N77: =IF(C77=$N$1,D77,IF(F77=$N$1,E77,"-")) -> - | O77: =IF(N77="v",1+O78,IF(N77="d",0,O78)) -> 1 | P77: =IF(C77=$P$1,D77,IF(F77=$P$1,E77,"-")) -> d | Q77: =IF(P77="v",1+Q78,IF(P77="d",0,Q78)) -> 0 | R77: =IF($C77=R$1,$D77,IF($F77=R$1,$E77,"-")) -> - | S77: =IF(R77="v",1+S78,IF(R77="d",0,S78)) -> 0 | T77: =IF($C77=T$1,$D77,IF($F77=T$1,$E77,"-")) -> - | U77: =IF(T77="v",1+U78,IF(T77="d",0,U78)) -> 3 | V77: =IF($C77=V$1,$D77,IF($F77=V$1,$E77,"-")) -> - | W77: =IF(V77="v",1+W78,IF(V77="d",0,W78)) -> 0 | X77: =IF($C77=X$1,$D77,IF($F77=X$1,$E77,"-")) -> v | Y77: =IF(X77="v",1+Y78,IF(X77="d",0,Y78)) -> 1 | Z77: =IF($C77=Z$1,$D77,IF($F77=Z$1,$E77,"-")) -> - | AA77: =IF(Z77="v",1+AA78,IF(Z77="d",0,AA78)) -> 3 | AB77: =IF($C77=AB$1,$D77,IF($F77=AB$1,$E77,"-")) -> - | AC77: =IF(AB77="v",1+AC78,IF(AB77="d",0,AC78)) -> 3 | AD77: =IF($C77=AD$1,$D77,IF($F77=AD$1,$E77,"-")) -> - | AE77: =IF(AD77="v",1+AE78,IF(AD77="d",0,AE78)) -> 0 | AF77: =IF($C77=AF$1,$D77,IF($F77=AF$1,$E77,"-")) -> - | AG77: =IF(AF77="v",1+AG78,IF(AF77="d",0,AG78)) -> 0 | AH77: =IF($C77=AH$1,$D77,IF($F77=AH$1,$E77,"-")) -> - | AI77: =IF(AH77="v",1+AI78,IF(AH77="d",0,AI78)) -> 0 | AJ77: =IF($C77=AJ$1,$D77,IF($F77=AJ$1,$E77,"-")) -> - | AK77: =IF(AJ77="v",1+AK78,IF(AJ77="d",0,AK78)) -> 0 | AL77: =IF($C77=AL$1,$D77,IF($F77=AL$1,$E77,"-")) -> - | AM77: =IF(AL77="v",1+AM78,IF(AL77="d",0,AM78)) -> 1 | AN77: =IF($C77=AN$1,$D77,IF($F77=AN$1,$E77,"-")) -> - | AO77: =IF(AN77="v",1+AO78,IF(AN77="d",0,AO78)) -> 0 | AP77: =IF($C77=AP$1,$D77,IF($F77=AP$1,$E77,"-")) -> - | AQ77: =IF(AP77="v",1+AQ78,IF(AP77="d",0,AQ78)) -> 0 | AR77: =IF($C77=AR$1,$D77,IF($F77=AR$1,$E77,"-")) -> - | AS77: =IF(AR77="v",1+AS78,IF(AR77="d",0,AS78)) -> 1 | AT77: =IF($C77=AT$1,$D77,IF($F77=AT$1,$E77,"-")) -> - | AU77: =IF(AT77="v",1+AU78,IF(AT77="d",0,AU78)) -> 1 | AV77: =IF($C77=AV$1,$D77,IF($F77=AV$1,$E77,"-")) -> - | AW77: =IF(AV77="v",1+AW78,IF(AV77="d",0,AW78)) -> 0
C78: Beber | D78: =IF(C81=E81,"n",IF(C81>E81,"v","d")) -> v | E78: =IF(C81=E81,"n",IF(C81<E81,"v","d")) -> d | F78: Maxou | N78: =IF(C78=$N$1,D78,IF(F78=$N$1,E78,"-")) -> - | O78: =IF(N78="v",1+O79,IF(N78="d",0,O79)) -> 1 | P78: =IF(C78=$P$1,D78,IF(F78=$P$1,E78,"-")) -> - | Q78: =IF(P78="v",1+Q79,IF(P78="d",0,Q79)) -> 0 | R78: =IF($C78=R$1,$D78,IF($F78=R$1,$E78,"-")) -> - | S78: =IF(R78="v",1+S79,IF(R78="d",0,S79)) -> 0 | T78: =IF($C78=T$1,$D78,IF($F78=T$1,$E78,"-")) -> - | U78: =IF(T78="v",1+U79,IF(T78="d",0,U79)) -> 3 | V78: =IF($C78=V$1,$D78,IF($F78=V$1,$E78,"-")) -> - | W78: =IF(V78="v",1+W79,IF(V78="d",0,W79)) -> 0 | X78: =IF($C78=X$1,$D78,IF($F78=X$1,$E78,"-")) -> - | Y78: =IF(X78="v",1+Y79,IF(X78="d",0,Y79)) -> 0 | Z78: =IF($C78=Z$1,$D78,IF($F78=Z$1,$E78,"-")) -> - | AA78: =IF(Z78="v",1+AA79,IF(Z78="d",0,AA79)) -> 3 | AB78: =IF($C78=AB$1,$D78,IF($F78=AB$1,$E78,"-")) -> v | AC78: =IF(AB78="v",1+AC79,IF(AB78="d",0,AC79)) -> 3 | AD78: =IF($C78=AD$1,$D78,IF($F78=AD$1,$E78,"-")) -> - | AE78: =IF(AD78="v",1+AE79,IF(AD78="d",0,AE79)) -> 0 | AF78: =IF($C78=AF$1,$D78,IF($F78=AF$1,$E78,"-")) -> d | AG78: =IF(AF78="v",1+AG79,IF(AF78="d",0,AG79)) -> 0 | AH78: =IF($C78=AH$1,$D78,IF($F78=AH$1,$E78,"-")) -> - | AI78: =IF(AH78="v",1+AI79,IF(AH78="d",0,AI79)) -> 0 | AJ78: =IF($C78=AJ$1,$D78,IF($F78=AJ$1,$E78,"-")) -> - | AK78: =IF(AJ78="v",1+AK79,IF(AJ78="d",0,AK79)) -> 0 | AL78: =IF($C78=AL$1,$D78,IF($F78=AL$1,$E78,"-")) -> - | AM78: =IF(AL78="v",1+AM79,IF(AL78="d",0,AM79)) -> 1 | AN78: =IF($C78=AN$1,$D78,IF($F78=AN$1,$E78,"-")) -> - | AO78: =IF(AN78="v",1+AO79,IF(AN78="d",0,AO79)) -> 0 | AP78: =IF($C78=AP$1,$D78,IF($F78=AP$1,$E78,"-")) -> - | AQ78: =IF(AP78="v",1+AQ79,IF(AP78="d",0,AQ79)) -> 0 | AR78: =IF($C78=AR$1,$D78,IF($F78=AR$1,$E78,"-")) -> - | AS78: =IF(AR78="v",1+AS79,IF(AR78="d",0,AS79)) -> 1 | AT78: =IF($C78=AT$1,$D78,IF($F78=AT$1,$E78,"-")) -> - | AU78: =IF(AT78="v",1+AU79,IF(AT78="d",0,AU79)) -> 1 | AV78: =IF($C78=AV$1,$D78,IF($F78=AV$1,$E78,"-")) -> - | AW78: =IF(AV78="v",1+AW79,IF(AV78="d",0,AW79)) -> 0
C79: Harry | D79: =IF(C81=E81,"n",IF(C81>E81,"v","d")) -> v | E79: =IF(C81=E81,"n",IF(C81<E81,"v","d")) -> d | F79: Klaim | N79: =IF(C79=$N$1,D79,IF(F79=$N$1,E79,"-")) -> - | O79: =IF(N79="v",1+O80,IF(N79="d",0,O80)) -> 1 | P79: =IF(C79=$P$1,D79,IF(F79=$P$1,E79,"-")) -> - | Q79: =IF(P79="v",1+Q80,IF(P79="d",0,Q80)) -> 0 | R79: =IF($C79=R$1,$D79,IF($F79=R$1,$E79,"-")) -> - | S79: =IF(R79="v",1+S80,IF(R79="d",0,S80)) -> 0 | T79: =IF($C79=T$1,$D79,IF($F79=T$1,$E79,"-")) -> - | U79: =IF(T79="v",1+U80,IF(T79="d",0,U80)) -> 3 | V79: =IF($C79=V$1,$D79,IF($F79=V$1,$E79,"-")) -> - | W79: =IF(V79="v",1+W80,IF(V79="d",0,W80)) -> 0 | X79: =IF($C79=X$1,$D79,IF($F79=X$1,$E79,"-")) -> - | Y79: =IF(X79="v",1+Y80,IF(X79="d",0,Y80)) -> 0 | Z79: =IF($C79=Z$1,$D79,IF($F79=Z$1,$E79,"-")) -> v | AA79: =IF(Z79="v",1+AA80,IF(Z79="d",0,AA80)) -> 3 | AB79: =IF($C79=AB$1,$D79,IF($F79=AB$1,$E79,"-")) -> - | AC79: =IF(AB79="v",1+AC80,IF(AB79="d",0,AC80)) -> 2 | AD79: =IF($C79=AD$1,$D79,IF($F79=AD$1,$E79,"-")) -> d | AE79: =IF(AD79="v",1+AE80,IF(AD79="d",0,AE80)) -> 0 | AF79: =IF($C79=AF$1,$D79,IF($F79=AF$1,$E79,"-")) -> - | AG79: =IF(AF79="v",1+AG80,IF(AF79="d",0,AG80)) -> 0 | AH79: =IF($C79=AH$1,$D79,IF($F79=AH$1,$E79,"-")) -> - | AI79: =IF(AH79="v",1+AI80,IF(AH79="d",0,AI80)) -> 0 | AJ79: =IF($C79=AJ$1,$D79,IF($F79=AJ$1,$E79,"-")) -> - | AK79: =IF(AJ79="v",1+AK80,IF(AJ79="d",0,AK80)) -> 0 | AL79: =IF($C79=AL$1,$D79,IF($F79=AL$1,$E79,"-")) -> - | AM79: =IF(AL79="v",1+AM80,IF(AL79="d",0,AM80)) -> 1 | AN79: =IF($C79=AN$1,$D79,IF($F79=AN$1,$E79,"-")) -> - | AO79: =IF(AN79="v",1+AO80,IF(AN79="d",0,AO80)) -> 0 | AP79: =IF($C79=AP$1,$D79,IF($F79=AP$1,$E79,"-")) -> - | AQ79: =IF(AP79="v",1+AQ80,IF(AP79="d",0,AQ80)) -> 0 | AR79: =IF($C79=AR$1,$D79,IF($F79=AR$1,$E79,"-")) -> - | AS79: =IF(AR79="v",1+AS80,IF(AR79="d",0,AS80)) -> 1 | AT79: =IF($C79=AT$1,$D79,IF($F79=AT$1,$E79,"-")) -> - | AU79: =IF(AT79="v",1+AU80,IF(AT79="d",0,AU80)) -> 1 | AV79: =IF($C79=AV$1,$D79,IF($F79=AV$1,$E79,"-")) -> - | AW79: =IF(AV79="v",1+AW80,IF(AV79="d",0,AW80)) -> 0
C80: Pierre | D80: =IF(C81=E81,"n",IF(C81>E81,"v","d")) -> v | E80: =IF(C81=E81,"n",IF(C81<E81,"v","d")) -> d | F80: Paulo | N80: =IF(C80=$N$1,D80,IF(F80=$N$1,E80,"-")) -> - | O80: =IF(N80="v",1+O81,IF(N80="d",0,O81)) -> 1 | P80: =IF(C80=$P$1,D80,IF(F80=$P$1,E80,"-")) -> - | Q80: =IF(P80="v",1+Q81,IF(P80="d",0,Q81)) -> 0 | R80: =IF($C80=R$1,$D80,IF($F80=R$1,$E80,"-")) -> - | S80: =IF(R80="v",1+S81,IF(R80="d",0,S81)) -> 0 | T80: =IF($C80=T$1,$D80,IF($F80=T$1,$E80,"-")) -> - | U80: =IF(T80="v",1+U81,IF(T80="d",0,U81)) -> 3 | V80: =IF($C80=V$1,$D80,IF($F80=V$1,$E80,"-")) -> - | W80: =IF(V80="v",1+W81,IF(V80="d",0,W81)) -> 0 | X80: =IF($C80=X$1,$D80,IF($F80=X$1,$E80,"-")) -> - | Y80: =IF(X80="v",1+Y81,IF(X80="d",0,Y81)) -> 0 | Z80: =IF($C80=Z$1,$D80,IF($F80=Z$1,$E80,"-")) -> - | AA80: =IF(Z80="v",1+AA81,IF(Z80="d",0,AA81)) -> 2 | AB80: =IF($C80=AB$1,$D80,IF($F80=AB$1,$E80,"-")) -> - | AC80: =IF(AB80="v",1+AC81,IF(AB80="d",0,AC81)) -> 2 | AD80: =IF($C80=AD$1,$D80,IF($F80=AD$1,$E80,"-")) -> - | AE80: =IF(AD80="v",1+AE81,IF(AD80="d",0,AE81)) -> 0 | AF80: =IF($C80=AF$1,$D80,IF($F80=AF$1,$E80,"-")) -> - | AG80: =IF(AF80="v",1+AG81,IF(AF80="d",0,AG81)) -> 0 | AH80: =IF($C80=AH$1,$D80,IF($F80=AH$1,$E80,"-")) -> - | AI80: =IF(AH80="v",1+AI81,IF(AH80="d",0,AI81)) -> 0 | AJ80: =IF($C80=AJ$1,$D80,IF($F80=AJ$1,$E80,"-")) -> - | AK80: =IF(AJ80="v",1+AK81,IF(AJ80="d",0,AK81)) -> 0 | AL80: =IF($C80=AL$1,$D80,IF($F80=AL$1,$E80,"-")) -> - | AM80: =IF(AL80="v",1+AM81,IF(AL80="d",0,AM81)) -> 1 | AN80: =IF($C80=AN$1,$D80,IF($F80=AN$1,$E80,"-")) -> - | AO80: =IF(AN80="v",1+AO81,IF(AN80="d",0,AO81)) -> 0 | AP80: =IF($C80=AP$1,$D80,IF($F80=AP$1,$E80,"-")) -> d | AQ80: =IF(AP80="v",1+AQ81,IF(AP80="d",0,AQ81)) -> 0 | AR80: =IF($C80=AR$1,$D80,IF($F80=AR$1,$E80,"-")) -> - | AS80: =IF(AR80="v",1+AS81,IF(AR80="d",0,AS81)) -> 1 | AT80: =IF($C80=AT$1,$D80,IF($F80=AT$1,$E80,"-")) -> - | AU80: =IF(AT80="v",1+AU81,IF(AT80="d",0,AU81)) -> 1 | AV80: =IF($C80=AV$1,$D80,IF($F80=AV$1,$E80,"-")) -> - | AW80: =IF(AV80="v",1+AW81,IF(AV80="d",0,AW81)) -> 0
B81: SCORE | C81: 26 | E81: 12 | N81: =IF((COUNTIF(N76:N80,"d")=1),-ABS($C81-$E81),IF((COUNTIF(N76:N80,"v")=1),ABS($C81-$E81),0)) -> -14 | O81: =IF(N81="v",1+O82,IF(N81="d",0,O82)) -> 1 | P81: =IF((COUNTIF(P76:P80,"d")=1),-ABS($C81-$E81),IF((COUNTIF(P76:P80,"v")=1),ABS($C81-$E81),0)) -> -14 | Q81: =IF(P81="v",1+Q82,IF(P81="d",0,Q82)) -> 0 | R81: =IF((COUNTIF(R76:R80,"d")=1),-ABS($C81-$E81),IF((COUNTIF(R76:R80,"v")=1),ABS($C81-$E81),0)) -> 0 | S81: =IF(R81="v",1+S82,IF(R81="d",0,S82)) -> 0 | T81: =IF((COUNTIF(T76:T80,"d")=1),-ABS($C81-$E81),IF((COUNTIF(T76:T80,"v")=1),ABS($C81-$E81),0)) -> 14 | U81: =IF(T81="v",1+U82,IF(T81="d",0,U82)) -> 3 | V81: =IF((COUNTIF(V76:V80,"d")=1),-ABS($C81-$E81),IF((COUNTIF(V76:V80,"v")=1),ABS($C81-$E81),0)) -> 0 | W81: =IF(V81="v",1+W82,IF(V81="d",0,W82)) -> 0 | X81: =IF((COUNTIF(X76:X80,"d")=1),-ABS($C81-$E81),IF((COUNTIF(X76:X80,"v")=1),ABS($C81-$E81),0)) -> 14 | Y81: =IF(X81="v",1+Y82,IF(X81="d",0,Y82)) -> 0 | Z81: =IF((COUNTIF(Z76:Z80,"d")=1),-ABS($C81-$E81),IF((COUNTIF(Z76:Z80,"v")=1),ABS($C81-$E81),0)) -> 14 | AA81: =IF(Z81="v",1+AA82,IF(Z81="d",0,AA82)) -> 2 | AB81: =IF((COUNTIF(AB76:AB80,"d")=1),-ABS($C81-$E81),IF((COUNTIF(AB76:AB80,"v")=1),ABS($C81-$E81),0)) -> 14 | AC81: =IF(AB81="v",1+AC82,IF(AB81="d",0,AC82)) -> 2 | AD81: =IF((COUNTIF(AD76:AD80,"d")=1),-ABS($C81-$E81),IF((COUNTIF(AD76:AD80,"v")=1),ABS($C81-$E81),0)) -> -14 | AE81: =IF(AD81="v",1+AE82,IF(AD81="d",0,AE82)) -> 0 | AF81: =IF((COUNTIF(AF76:AF80,"d")=1),-ABS($C81-$E81),IF((COUNTIF(AF76:AF80,"v")=1),ABS($C81-$E81),0)) -> -14 | AG81: =IF(AF81="v",1+AG82,IF(AF81="d",0,AG82)) -> 0 | AH81: =IF((COUNTIF(AH76:AH80,"d")=1),-ABS($C81-$E81),IF((COUNTIF(AH76:AH80,"v")=1),ABS($C81-$E81),0)) -> 0 | AI81: =IF(AH81="v",1+AI82,IF(AH81="d",0,AI82)) -> 0 | AJ81: =IF((COUNTIF(AJ76:AJ80,"d")=1),-ABS($C81-$E81),IF((COUNTIF(AJ76:AJ80,"v")=1),ABS($C81-$E81),0)) -> 0 | AK81: =IF(AJ81="v",1+AK82,IF(AJ81="d",0,AK82)) -> 0 | AL81: =IF((COUNTIF(AL76:AL80,"d")=1),-ABS($C81-$E81),IF((COUNTIF(AL76:AL80,"v")=1),ABS($C81-$E81),0)) -> 0 | AM81: =IF(AL81="v",1+AM82,IF(AL81="d",0,AM82)) -> 1 | AN81: =IF((COUNTIF(AN76:AN80,"d")=1),-ABS($C81-$E81),IF((COUNTIF(AN76:AN80,"v")=1),ABS($C81-$E81),0)) -> 0 | AO81: =IF(AN81="v",1+AO82,IF(AN81="d",0,AO82)) -> 0 | AP81: =IF((COUNTIF(AP76:AP80,"d")=1),-ABS($C81-$E81),IF((COUNTIF(AP76:AP80,"v")=1),ABS($C81-$E81),0)) -> -14 | AQ81: =IF(AP81="v",1+AQ82,IF(AP81="d",0,AQ82)) -> 1 | AR81: =IF((COUNTIF(AR76:AR80,"d")=1),-ABS($C81-$E81),IF((COUNTIF(AR76:AR80,"v")=1),ABS($C81-$E81),0)) -> 0 | AS81: =IF(AR81="v",1+AS82,IF(AR81="d",0,AS82)) -> 1 | AT81: =IF((COUNTIF(AT76:AT80,"d")=1),-ABS($C81-$E81),IF((COUNTIF(AT76:AT80,"v")=1),ABS($C81-$E81),0)) -> 0 | AU81: =IF(AT81="v",1+AU82,IF(AT81="d",0,AU82)) -> 1 | AV81: =IF((COUNTIF(AV76:AV80,"d")=1),-ABS($C81-$E81),IF((COUNTIF(AV76:AV80,"v")=1),ABS($C81-$E81),0)) -> 0 | AW81: =IF(AV81="v",1+AW82,IF(AV81="d",0,AW82)) -> 0
O82: =IF(N82="v",1+O83,IF(N82="d",0,O83)) -> 1 | Q82: =IF(P82="v",1+Q83,IF(P82="d",0,Q83)) -> 0 | S82: =IF(R82="v",1+S83,IF(R82="d",0,S83)) -> 0 | U82: =IF(T82="v",1+U83,IF(T82="d",0,U83)) -> 3 | W82: =IF(V82="v",1+W83,IF(V82="d",0,W83)) -> 0 | Y82: =IF(X82="v",1+Y83,IF(X82="d",0,Y83)) -> 0 | AA82: =IF(Z82="v",1+AA83,IF(Z82="d",0,AA83)) -> 2 | AC82: =IF(AB82="v",1+AC83,IF(AB82="d",0,AC83)) -> 2 | AE82: =IF(AD82="v",1+AE83,IF(AD82="d",0,AE83)) -> 0 | AG82: =IF(AF82="v",1+AG83,IF(AF82="d",0,AG83)) -> 0 | AI82: =IF(AH82="v",1+AI83,IF(AH82="d",0,AI83)) -> 0 | AK82: =IF(AJ82="v",1+AK83,IF(AJ82="d",0,AK83)) -> 0 | AM82: =IF(AL82="v",1+AM83,IF(AL82="d",0,AM83)) -> 1 | AO82: =IF(AN82="v",1+AO83,IF(AN82="d",0,AO83)) -> 0 | AQ82: =IF(AP82="v",1+AQ83,IF(AP82="d",0,AQ83)) -> 1 | AS82: =IF(AR82="v",1+AS83,IF(AR82="d",0,AS83)) -> 1 | AU82: =IF(AT82="v",1+AU83,IF(AT82="d",0,AU83)) -> 1 | AW82: =IF(AV82="v",1+AW83,IF(AV82="d",0,AW83)) -> 0
B83: 42036 | O83: =IF(N83="v",1+O84,IF(N83="d",0,O84)) -> 1 | Q83: =IF(P83="v",1+Q84,IF(P83="d",0,Q84)) -> 0 | S83: =IF(R83="v",1+S84,IF(R83="d",0,S84)) -> 0 | U83: =IF(T83="v",1+U84,IF(T83="d",0,U84)) -> 3 | W83: =IF(V83="v",1+W84,IF(V83="d",0,W84)) -> 0 | Y83: =IF(X83="v",1+Y84,IF(X83="d",0,Y84)) -> 0 | AA83: =IF(Z83="v",1+AA84,IF(Z83="d",0,AA84)) -> 2 | AC83: =IF(AB83="v",1+AC84,IF(AB83="d",0,AC84)) -> 2 | AE83: =IF(AD83="v",1+AE84,IF(AD83="d",0,AE84)) -> 0 | AG83: =IF(AF83="v",1+AG84,IF(AF83="d",0,AG84)) -> 0 | AI83: =IF(AH83="v",1+AI84,IF(AH83="d",0,AI84)) -> 0 | AK83: =IF(AJ83="v",1+AK84,IF(AJ83="d",0,AK84)) -> 0 | AM83: =IF(AL83="v",1+AM84,IF(AL83="d",0,AM84)) -> 1 | AO83: =IF(AN83="v",1+AO84,IF(AN83="d",0,AO84)) -> 0 | AQ83: =IF(AP83="v",1+AQ84,IF(AP83="d",0,AQ84)) -> 1 | AS83: =IF(AR83="v",1+AS84,IF(AR83="d",0,AS84)) -> 1 | AU83: =IF(AT83="v",1+AU84,IF(AT83="d",0,AU84)) -> 1 | AW83: =IF(AV83="v",1+AW84,IF(AV83="d",0,AW84)) -> 0
C84: T1 | E84: T2 | O84: =IF(N84="v",1+O85,IF(N84="d",0,O85)) -> 1 | Q84: =IF(P84="v",1+Q85,IF(P84="d",0,Q85)) -> 0 | S84: =IF(R84="v",1+S85,IF(R84="d",0,S85)) -> 0 | U84: =IF(T84="v",1+U85,IF(T84="d",0,U85)) -> 3 | W84: =IF(V84="v",1+W85,IF(V84="d",0,W85)) -> 0 | Y84: =IF(X84="v",1+Y85,IF(X84="d",0,Y85)) -> 0 | AA84: =IF(Z84="v",1+AA85,IF(Z84="d",0,AA85)) -> 2 | AC84: =IF(AB84="v",1+AC85,IF(AB84="d",0,AC85)) -> 2 | AE84: =IF(AD84="v",1+AE85,IF(AD84="d",0,AE85)) -> 0 | AG84: =IF(AF84="v",1+AG85,IF(AF84="d",0,AG85)) -> 0 | AI84: =IF(AH84="v",1+AI85,IF(AH84="d",0,AI85)) -> 0 | AK84: =IF(AJ84="v",1+AK85,IF(AJ84="d",0,AK85)) -> 0 | AM84: =IF(AL84="v",1+AM85,IF(AL84="d",0,AM85)) -> 1 | AO84: =IF(AN84="v",1+AO85,IF(AN84="d",0,AO85)) -> 0 | AQ84: =IF(AP84="v",1+AQ85,IF(AP84="d",0,AQ85)) -> 1 | AS84: =IF(AR84="v",1+AS85,IF(AR84="d",0,AS85)) -> 1 | AU84: =IF(AT84="v",1+AU85,IF(AT84="d",0,AU85)) -> 1 | AW84: =IF(AV84="v",1+AW85,IF(AV84="d",0,AW85)) -> 0
C85: Rios | D85: =IF(C90=E90,"n",IF(C90>E90,"v","d")) -> d | E85: =IF(C90=E90,"n",IF(C90<E90,"v","d")) -> v | F85: Gui | N85: =IF(C85=$N$1,D85,IF(F85=$N$1,E85,"-")) -> v | O85: =IF(N85="v",1+O86,IF(N85="d",0,O86)) -> 1 | P85: =IF($C85=$P$1,$D85,IF($F85=$P$1,$E85,"-")) -> d | Q85: =IF(P85="v",1+Q86,IF(P85="d",0,Q86)) -> 0 | R85: =IF($C85=R$1,$D85,IF($F85=R$1,$E85,"-")) -> - | S85: =IF(R85="v",1+S86,IF(R85="d",0,S86)) -> 0 | T85: =IF($C85=T$1,$D85,IF($F85=T$1,$E85,"-")) -> - | U85: =IF(T85="v",1+U86,IF(T85="d",0,U86)) -> 3 | V85: =IF($C85=V$1,$D85,IF($F85=V$1,$E85,"-")) -> - | W85: =IF(V85="v",1+W86,IF(V85="d",0,W86)) -> 0 | X85: =IF($C85=X$1,$D85,IF($F85=X$1,$E85,"-")) -> - | Y85: =IF(X85="v",1+Y86,IF(X85="d",0,Y86)) -> 0 | Z85: =IF($C85=Z$1,$D85,IF($F85=Z$1,$E85,"-")) -> - | AA85: =IF(Z85="v",1+AA86,IF(Z85="d",0,AA86)) -> 2 | AB85: =IF($C85=AB$1,$D85,IF($F85=AB$1,$E85,"-")) -> - | AC85: =IF(AB85="v",1+AC86,IF(AB85="d",0,AC86)) -> 2 | AD85: =IF($C85=AD$1,$D85,IF($F85=AD$1,$E85,"-")) -> - | AE85: =IF(AD85="v",1+AE86,IF(AD85="d",0,AE86)) -> 0 | AF85: =IF($C85=AF$1,$D85,IF($F85=AF$1,$E85,"-")) -> - | AG85: =IF(AF85="v",1+AG86,IF(AF85="d",0,AG86)) -> 0 | AH85: =IF($C85=AH$1,$D85,IF($F85=AH$1,$E85,"-")) -> - | AI85: =IF(AH85="v",1+AI86,IF(AH85="d",0,AI86)) -> 0 | AJ85: =IF($C85=AJ$1,$D85,IF($F85=AJ$1,$E85,"-")) -> - | AK85: =IF(AJ85="v",1+AK86,IF(AJ85="d",0,AK86)) -> 0 | AL85: =IF($C85=AL$1,$D85,IF($F85=AL$1,$E85,"-")) -> - | AM85: =IF(AL85="v",1+AM86,IF(AL85="d",0,AM86)) -> 1 | AN85: =IF($C85=AN$1,$D85,IF($F85=AN$1,$E85,"-")) -> - | AO85: =IF(AN85="v",1+AO86,IF(AN85="d",0,AO86)) -> 0 | AP85: =IF($C85=AP$1,$D85,IF($F85=AP$1,$E85,"-")) -> - | AQ85: =IF(AP85="v",1+AQ86,IF(AP85="d",0,AQ86)) -> 1 | AR85: =IF($C85=AR$1,$D85,IF($F85=AR$1,$E85,"-")) -> - | AS85: =IF(AR85="v",1+AS86,IF(AR85="d",0,AS86)) -> 1 | AT85: =IF($C85=AT$1,$D85,IF($F85=AT$1,$E85,"-")) -> - | AU85: =IF(AT85="v",1+AU86,IF(AT85="d",0,AU86)) -> 1 | AV85: =IF($C85=AV$1,$D85,IF($F85=AV$1,$E85,"-")) -> - | AW85: =IF(AV85="v",1+AW86,IF(AV85="d",0,AW86)) -> 0
C86: Stéphane | D86: =IF(C90=E90,"n",IF(C90>E90,"v","d")) -> d | E86: =IF(C90=E90,"n",IF(C90<E90,"v","d")) -> v | F86: Beber | N86: =IF(C86=$N$1,D86,IF(F86=$N$1,E86,"-")) -> - | O86: =IF(N86="v",1+O87,IF(N86="d",0,O87)) -> 0 | P86: =IF(C86=$P$1,D86,IF(F86=$P$1,E86,"-")) -> - | Q86: =IF(P86="v",1+Q87,IF(P86="d",0,Q87)) -> 0 | R86: =IF($C86=R$1,$D86,IF($F86=R$1,$E86,"-")) -> - | S86: =IF(R86="v",1+S87,IF(R86="d",0,S87)) -> 0 | T86: =IF($C86=T$1,$D86,IF($F86=T$1,$E86,"-")) -> - | U86: =IF(T86="v",1+U87,IF(T86="d",0,U87)) -> 3 | V86: =IF($C86=V$1,$D86,IF($F86=V$1,$E86,"-")) -> - | W86: =IF(V86="v",1+W87,IF(V86="d",0,W87)) -> 0 | X86: =IF($C86=X$1,$D86,IF($F86=X$1,$E86,"-")) -> d | Y86: =IF(X86="v",1+Y87,IF(X86="d",0,Y87)) -> 0 | Z86: =IF($C86=Z$1,$D86,IF($F86=Z$1,$E86,"-")) -> - | AA86: =IF(Z86="v",1+AA87,IF(Z86="d",0,AA87)) -> 2 | AB86: =IF($C86=AB$1,$D86,IF($F86=AB$1,$E86,"-")) -> v | AC86: =IF(AB86="v",1+AC87,IF(AB86="d",0,AC87)) -> 2 | AD86: =IF($C86=AD$1,$D86,IF($F86=AD$1,$E86,"-")) -> - | AE86: =IF(AD86="v",1+AE87,IF(AD86="d",0,AE87)) -> 0 | AF86: =IF($C86=AF$1,$D86,IF($F86=AF$1,$E86,"-")) -> - | AG86: =IF(AF86="v",1+AG87,IF(AF86="d",0,AG87)) -> 0 | AH86: =IF($C86=AH$1,$D86,IF($F86=AH$1,$E86,"-")) -> - | AI86: =IF(AH86="v",1+AI87,IF(AH86="d",0,AI87)) -> 0 | AJ86: =IF($C86=AJ$1,$D86,IF($F86=AJ$1,$E86,"-")) -> - | AK86: =IF(AJ86="v",1+AK87,IF(AJ86="d",0,AK87)) -> 0 | AL86: =IF($C86=AL$1,$D86,IF($F86=AL$1,$E86,"-")) -> - | AM86: =IF(AL86="v",1+AM87,IF(AL86="d",0,AM87)) -> 1 | AN86: =IF($C86=AN$1,$D86,IF($F86=AN$1,$E86,"-")) -> - | AO86: =IF(AN86="v",1+AO87,IF(AN86="d",0,AO87)) -> 0 | AP86: =IF($C86=AP$1,$D86,IF($F86=AP$1,$E86,"-")) -> - | AQ86: =IF(AP86="v",1+AQ87,IF(AP86="d",0,AQ87)) -> 1 | AR86: =IF($C86=AR$1,$D86,IF($F86=AR$1,$E86,"-")) -> - | AS86: =IF(AR86="v",1+AS87,IF(AR86="d",0,AS87)) -> 1 | AT86: =IF($C86=AT$1,$D86,IF($F86=AT$1,$E86,"-")) -> - | AU86: =IF(AT86="v",1+AU87,IF(AT86="d",0,AU87)) -> 1 | AV86: =IF($C86=AV$1,$D86,IF($F86=AV$1,$E86,"-")) -> - | AW86: =IF(AV86="v",1+AW87,IF(AV86="d",0,AW87)) -> 0
C87: Klaim | D87: =IF(C90=E90,"n",IF(C90>E90,"v","d")) -> d | E87: =IF(C90=E90,"n",IF(C90<E90,"v","d")) -> v | F87: Harry | N87: =IF(C87=$N$1,D87,IF(F87=$N$1,E87,"-")) -> - | O87: =IF(N87="v",1+O88,IF(N87="d",0,O88)) -> 0 | P87: =IF(C87=$P$1,D87,IF(F87=$P$1,E87,"-")) -> - | Q87: =IF(P87="v",1+Q88,IF(P87="d",0,Q88)) -> 0 | R87: =IF($C87=R$1,$D87,IF($F87=R$1,$E87,"-")) -> - | S87: =IF(R87="v",1+S88,IF(R87="d",0,S88)) -> 0 | T87: =IF($C87=T$1,$D87,IF($F87=T$1,$E87,"-")) -> - | U87: =IF(T87="v",1+U88,IF(T87="d",0,U88)) -> 3 | V87: =IF($C87=V$1,$D87,IF($F87=V$1,$E87,"-")) -> - | W87: =IF(V87="v",1+W88,IF(V87="d",0,W88)) -> 0 | X87: =IF($C87=X$1,$D87,IF($F87=X$1,$E87,"-")) -> - | Y87: =IF(X87="v",1+Y88,IF(X87="d",0,Y88)) -> 0 | Z87: =IF($C87=Z$1,$D87,IF($F87=Z$1,$E87,"-")) -> v | AA87: =IF(Z87="v",1+AA88,IF(Z87="d",0,AA88)) -> 2 | AB87: =IF($C87=AB$1,$D87,IF($F87=AB$1,$E87,"-")) -> - | AC87: =IF(AB87="v",1+AC88,IF(AB87="d",0,AC88)) -> 1 | AD87: =IF($C87=AD$1,$D87,IF($F87=AD$1,$E87,"-")) -> d | AE87: =IF(AD87="v",1+AE88,IF(AD87="d",0,AE88)) -> 0 | AF87: =IF($C87=AF$1,$D87,IF($F87=AF$1,$E87,"-")) -> - | AG87: =IF(AF87="v",1+AG88,IF(AF87="d",0,AG88)) -> 0 | AH87: =IF($C87=AH$1,$D87,IF($F87=AH$1,$E87,"-")) -> - | AI87: =IF(AH87="v",1+AI88,IF(AH87="d",0,AI88)) -> 0 | AJ87: =IF($C87=AJ$1,$D87,IF($F87=AJ$1,$E87,"-")) -> - | AK87: =IF(AJ87="v",1+AK88,IF(AJ87="d",0,AK88)) -> 0 | AL87: =IF($C87=AL$1,$D87,IF($F87=AL$1,$E87,"-")) -> - | AM87: =IF(AL87="v",1+AM88,IF(AL87="d",0,AM88)) -> 1 | AN87: =IF($C87=AN$1,$D87,IF($F87=AN$1,$E87,"-")) -> - | AO87: =IF(AN87="v",1+AO88,IF(AN87="d",0,AO88)) -> 0 | AP87: =IF($C87=AP$1,$D87,IF($F87=AP$1,$E87,"-")) -> - | AQ87: =IF(AP87="v",1+AQ88,IF(AP87="d",0,AQ88)) -> 1 | AR87: =IF($C87=AR$1,$D87,IF($F87=AR$1,$E87,"-")) -> - | AS87: =IF(AR87="v",1+AS88,IF(AR87="d",0,AS88)) -> 1 | AT87: =IF($C87=AT$1,$D87,IF($F87=AT$1,$E87,"-")) -> - | AU87: =IF(AT87="v",1+AU88,IF(AT87="d",0,AU88)) -> 1 | AV87: =IF($C87=AV$1,$D87,IF($F87=AV$1,$E87,"-")) -> - | AW87: =IF(AV87="v",1+AW88,IF(AV87="d",0,AW88)) -> 0
C88: Rémi C | D88: =IF(C90=E90,"n",IF(C90>E90,"v","d")) -> d | E88: =IF(C90=E90,"n",IF(C90<E90,"v","d")) -> v | F88: Ben | N88: =IF(C88=$N$1,D88,IF(F88=$N$1,E88,"-")) -> - | O88: =IF(N88="v",1+O89,IF(N88="d",0,O89)) -> 0 | P88: =IF(C88=$P$1,D88,IF(F88=$P$1,E88,"-")) -> - | Q88: =IF(P88="v",1+Q89,IF(P88="d",0,Q89)) -> 0 | R88: =IF($C88=R$1,$D88,IF($F88=R$1,$E88,"-")) -> - | S88: =IF(R88="v",1+S89,IF(R88="d",0,S89)) -> 0 | T88: =IF($C88=T$1,$D88,IF($F88=T$1,$E88,"-")) -> v | U88: =IF(T88="v",1+U89,IF(T88="d",0,U89)) -> 3 | V88: =IF($C88=V$1,$D88,IF($F88=V$1,$E88,"-")) -> - | W88: =IF(V88="v",1+W89,IF(V88="d",0,W89)) -> 0 | X88: =IF($C88=X$1,$D88,IF($F88=X$1,$E88,"-")) -> - | Y88: =IF(X88="v",1+Y89,IF(X88="d",0,Y89)) -> 0 | Z88: =IF($C88=Z$1,$D88,IF($F88=Z$1,$E88,"-")) -> - | AA88: =IF(Z88="v",1+AA89,IF(Z88="d",0,AA89)) -> 1 | AB88: =IF($C88=AB$1,$D88,IF($F88=AB$1,$E88,"-")) -> - | AC88: =IF(AB88="v",1+AC89,IF(AB88="d",0,AC89)) -> 1 | AD88: =IF($C88=AD$1,$D88,IF($F88=AD$1,$E88,"-")) -> - | AE88: =IF(AD88="v",1+AE89,IF(AD88="d",0,AE89)) -> 0 | AF88: =IF($C88=AF$1,$D88,IF($F88=AF$1,$E88,"-")) -> - | AG88: =IF(AF88="v",1+AG89,IF(AF88="d",0,AG89)) -> 0 | AH88: =IF($C88=AH$1,$D88,IF($F88=AH$1,$E88,"-")) -> - | AI88: =IF(AH88="v",1+AI89,IF(AH88="d",0,AI89)) -> 0 | AJ88: =IF($C88=AJ$1,$D88,IF($F88=AJ$1,$E88,"-")) -> - | AK88: =IF(AJ88="v",1+AK89,IF(AJ88="d",0,AK89)) -> 0 | AL88: =IF($C88=AL$1,$D88,IF($F88=AL$1,$E88,"-")) -> - | AM88: =IF(AL88="v",1+AM89,IF(AL88="d",0,AM89)) -> 1 | AN88: =IF($C88=AN$1,$D88,IF($F88=AN$1,$E88,"-")) -> d | AO88: =IF(AN88="v",1+AO89,IF(AN88="d",0,AO89)) -> 0 | AP88: =IF($C88=AP$1,$D88,IF($F88=AP$1,$E88,"-")) -> - | AQ88: =IF(AP88="v",1+AQ89,IF(AP88="d",0,AQ89)) -> 1 | AR88: =IF($C88=AR$1,$D88,IF($F88=AR$1,$E88,"-")) -> - | AS88: =IF(AR88="v",1+AS89,IF(AR88="d",0,AS89)) -> 1 | AT88: =IF($C88=AT$1,$D88,IF($F88=AT$1,$E88,"-")) -> - | AU88: =IF(AT88="v",1+AU89,IF(AT88="d",0,AU89)) -> 1 | AV88: =IF($C88=AV$1,$D88,IF($F88=AV$1,$E88,"-")) -> - | AW88: =IF(AV88="v",1+AW89,IF(AV88="d",0,AW89)) -> 0
C89: Maxou | D89: =IF(C90=E90,"n",IF(C90>E90,"v","d")) -> d | E89: =IF(C90=E90,"n",IF(C90<E90,"v","d")) -> v | F89: Paulo | N89: =IF(C89=$N$1,D89,IF(F89=$N$1,E89,"-")) -> - | O89: =IF(N89="v",1+O90,IF(N89="d",0,O90)) -> 0 | P89: =IF(C89=$P$1,D89,IF(F89=$P$1,E89,"-")) -> - | Q89: =IF(P89="v",1+Q90,IF(P89="d",0,Q90)) -> 0 | R89: =IF($C89=R$1,$D89,IF($F89=R$1,$E89,"-")) -> - | S89: =IF(R89="v",1+S90,IF(R89="d",0,S90)) -> 0 | T89: =IF($C89=T$1,$D89,IF($F89=T$1,$E89,"-")) -> - | U89: =IF(T89="v",1+U90,IF(T89="d",0,U90)) -> 2 | V89: =IF($C89=V$1,$D89,IF($F89=V$1,$E89,"-")) -> - | W89: =IF(V89="v",1+W90,IF(V89="d",0,W90)) -> 0 | X89: =IF($C89=X$1,$D89,IF($F89=X$1,$E89,"-")) -> - | Y89: =IF(X89="v",1+Y90,IF(X89="d",0,Y90)) -> 0 | Z89: =IF($C89=Z$1,$D89,IF($F89=Z$1,$E89,"-")) -> - | AA89: =IF(Z89="v",1+AA90,IF(Z89="d",0,AA90)) -> 1 | AB89: =IF($C89=AB$1,$D89,IF($F89=AB$1,$E89,"-")) -> - | AC89: =IF(AB89="v",1+AC90,IF(AB89="d",0,AC90)) -> 1 | AD89: =IF($C89=AD$1,$D89,IF($F89=AD$1,$E89,"-")) -> - | AE89: =IF(AD89="v",1+AE90,IF(AD89="d",0,AE90)) -> 0 | AF89: =IF($C89=AF$1,$D89,IF($F89=AF$1,$E89,"-")) -> d | AG89: =IF(AF89="v",1+AG90,IF(AF89="d",0,AG90)) -> 0 | AH89: =IF($C89=AH$1,$D89,IF($F89=AH$1,$E89,"-")) -> - | AI89: =IF(AH89="v",1+AI90,IF(AH89="d",0,AI90)) -> 0 | AJ89: =IF($C89=AJ$1,$D89,IF($F89=AJ$1,$E89,"-")) -> - | AK89: =IF(AJ89="v",1+AK90,IF(AJ89="d",0,AK90)) -> 0 | AL89: =IF($C89=AL$1,$D89,IF($F89=AL$1,$E89,"-")) -> - | AM89: =IF(AL89="v",1+AM90,IF(AL89="d",0,AM90)) -> 1 | AN89: =IF($C89=AN$1,$D89,IF($F89=AN$1,$E89,"-")) -> - | AO89: =IF(AN89="v",1+AO90,IF(AN89="d",0,AO90)) -> 1 | AP89: =IF($C89=AP$1,$D89,IF($F89=AP$1,$E89,"-")) -> v | AQ89: =IF(AP89="v",1+AQ90,IF(AP89="d",0,AQ90)) -> 1 | AR89: =IF($C89=AR$1,$D89,IF($F89=AR$1,$E89,"-")) -> - | AS89: =IF(AR89="v",1+AS90,IF(AR89="d",0,AS90)) -> 1 | AT89: =IF($C89=AT$1,$D89,IF($F89=AT$1,$E89,"-")) -> - | AU89: =IF(AT89="v",1+AU90,IF(AT89="d",0,AU90)) -> 1 | AV89: =IF($C89=AV$1,$D89,IF($F89=AV$1,$E89,"-")) -> - | AW89: =IF(AV89="v",1+AW90,IF(AV89="d",0,AW90)) -> 0
B90: SCORE | C90: 19 | E90: 21 | N90: =IF((COUNTIF(N85:N89,"d")=1),-ABS($C90-$E90),IF((COUNTIF(N85:N89,"v")=1),ABS($C90-$E90),0)) -> 2 | O90: =IF(N90="v",1+O91,IF(N90="d",0,O91)) -> 0 | P90: =IF((COUNTIF(P85:P89,"d")=1),-ABS($C90-$E90),IF((COUNTIF(P85:P89,"v")=1),ABS($C90-$E90),0)) -> -2 | Q90: =IF(P90="v",1+Q91,IF(P90="d",0,Q91)) -> 0 | R90: =IF((COUNTIF(R85:R89,"d")=1),-ABS($C90-$E90),IF((COUNTIF(R85:R89,"v")=1),ABS($C90-$E90),0)) -> 0 | S90: =IF(R90="v",1+S91,IF(R90="d",0,S91)) -> 0 | T90: =IF((COUNTIF(T85:T89,"d")=1),-ABS($C90-$E90),IF((COUNTIF(T85:T89,"v")=1),ABS($C90-$E90),0)) -> 2 | U90: =IF(T90="v",1+U91,IF(T90="d",0,U91)) -> 2 | V90: =IF((COUNTIF(V85:V89,"d")=1),-ABS($C90-$E90),IF((COUNTIF(V85:V89,"v")=1),ABS($C90-$E90),0)) -> 0 | W90: =IF(V90="v",1+W91,IF(V90="d",0,W91)) -> 0 | X90: =IF((COUNTIF(X85:X89,"d")=1),-ABS($C90-$E90),IF((COUNTIF(X85:X89,"v")=1),ABS($C90-$E90),0)) -> -2 | Y90: =IF(X90="v",1+Y91,IF(X90="d",0,Y91)) -> 0 | Z90: =IF((COUNTIF(Z85:Z89,"d")=1),-ABS($C90-$E90),IF((COUNTIF(Z85:Z89,"v")=1),ABS($C90-$E90),0)) -> 2 | AA90: =IF(Z90="v",1+AA91,IF(Z90="d",0,AA91)) -> 1 | AB90: =IF((COUNTIF(AB85:AB89,"d")=1),-ABS($C90-$E90),IF((COUNTIF(AB85:AB89,"v")=1),ABS($C90-$E90),0)) -> 2 | AC90: =IF(AB90="v",1+AC91,IF(AB90="d",0,AC91)) -> 1 | AD90: =IF((COUNTIF(AD85:AD89,"d")=1),-ABS($C90-$E90),IF((COUNTIF(AD85:AD89,"v")=1),ABS($C90-$E90),0)) -> -2 | AE90: =IF(AD90="v",1+AE91,IF(AD90="d",0,AE91)) -> 0 | AF90: =IF((COUNTIF(AF85:AF89,"d")=1),-ABS($C90-$E90),IF((COUNTIF(AF85:AF89,"v")=1),ABS($C90-$E90),0)) -> -2 | AG90: =IF(AF90="v",1+AG91,IF(AF90="d",0,AG91)) -> 0 | AH90: =IF((COUNTIF(AH85:AH89,"d")=1),-ABS($C90-$E90),IF((COUNTIF(AH85:AH89,"v")=1),ABS($C90-$E90),0)) -> 0 | AI90: =IF(AH90="v",1+AI91,IF(AH90="d",0,AI91)) -> 0 | AJ90: =IF((COUNTIF(AJ85:AJ89,"d")=1),-ABS($C90-$E90),IF((COUNTIF(AJ85:AJ89,"v")=1),ABS($C90-$E90),0)) -> 0 | AK90: =IF(AJ90="v",1+AK91,IF(AJ90="d",0,AK91)) -> 0 | AL90: =IF((COUNTIF(AL85:AL89,"d")=1),-ABS($C90-$E90),IF((COUNTIF(AL85:AL89,"v")=1),ABS($C90-$E90),0)) -> 0 | AM90: =IF(AL90="v",1+AM91,IF(AL90="d",0,AM91)) -> 1 | AN90: =IF((COUNTIF(AN85:AN89,"d")=1),-ABS($C90-$E90),IF((COUNTIF(AN85:AN89,"v")=1),ABS($C90-$E90),0)) -> -2 | AO90: =IF(AN90="v",1+AO91,IF(AN90="d",0,AO91)) -> 1 | AP90: =IF((COUNTIF(AP85:AP89,"d")=1),-ABS($C90-$E90),IF((COUNTIF(AP85:AP89,"v")=1),ABS($C90-$E90),0)) -> 2 | AQ90: =IF(AP90="v",1+AQ91,IF(AP90="d",0,AQ91)) -> 0 | AR90: =IF((COUNTIF(AR85:AR89,"d")=1),-ABS($C90-$E90),IF((COUNTIF(AR85:AR89,"v")=1),ABS($C90-$E90),0)) -> 0 | AS90: =IF(AR90="v",1+AS91,IF(AR90="d",0,AS91)) -> 1 | AT90: =IF((COUNTIF(AT85:AT89,"d")=1),-ABS($C90-$E90),IF((COUNTIF(AT85:AT89,"v")=1),ABS($C90-$E90),0)) -> 0 | AU90: =IF(AT90="v",1+AU91,IF(AT90="d",0,AU91)) -> 1 | AV90: =IF((COUNTIF(AV85:AV89,"d")=1),-ABS($C90-$E90),IF((COUNTIF(AV85:AV89,"v")=1),ABS($C90-$E90),0)) -> 0 | AW90: =IF(AV90="v",1+AW91,IF(AV90="d",0,AW91)) -> 0
O91: =IF(N91="v",1+O92,IF(N91="d",0,O92)) -> 0 | Q91: =IF(P91="v",1+Q92,IF(P91="d",0,Q92)) -> 0 | S91: =IF(R91="v",1+S92,IF(R91="d",0,S92)) -> 0 | U91: =IF(T91="v",1+U92,IF(T91="d",0,U92)) -> 2 | W91: =IF(V91="v",1+W92,IF(V91="d",0,W92)) -> 0 | Y91: =IF(X91="v",1+Y92,IF(X91="d",0,Y92)) -> 0 | AA91: =IF(Z91="v",1+AA92,IF(Z91="d",0,AA92)) -> 1 | AC91: =IF(AB91="v",1+AC92,IF(AB91="d",0,AC92)) -> 1 | AE91: =IF(AD91="v",1+AE92,IF(AD91="d",0,AE92)) -> 0 | AG91: =IF(AF91="v",1+AG92,IF(AF91="d",0,AG92)) -> 0 | AI91: =IF(AH91="v",1+AI92,IF(AH91="d",0,AI92)) -> 0 | AK91: =IF(AJ91="v",1+AK92,IF(AJ91="d",0,AK92)) -> 0 | AM91: =IF(AL91="v",1+AM92,IF(AL91="d",0,AM92)) -> 1 | AO91: =IF(AN91="v",1+AO92,IF(AN91="d",0,AO92)) -> 1 | AQ91: =IF(AP91="v",1+AQ92,IF(AP91="d",0,AQ92)) -> 0 | AS91: =IF(AR91="v",1+AS92,IF(AR91="d",0,AS92)) -> 1 | AU91: =IF(AT91="v",1+AU92,IF(AT91="d",0,AU92)) -> 1 | AW91: =IF(AV91="v",1+AW92,IF(AV91="d",0,AW92)) -> 0
B92: 42022 | O92: =IF(N92="v",1+O93,IF(N92="d",0,O93)) -> 0 | Q92: =IF(P92="v",1+Q93,IF(P92="d",0,Q93)) -> 0 | S92: =IF(R92="v",1+S93,IF(R92="d",0,S93)) -> 0 | U92: =IF(T92="v",1+U93,IF(T92="d",0,U93)) -> 2 | W92: =IF(V92="v",1+W93,IF(V92="d",0,W93)) -> 0 | Y92: =IF(X92="v",1+Y93,IF(X92="d",0,Y93)) -> 0 | AA92: =IF(Z92="v",1+AA93,IF(Z92="d",0,AA93)) -> 1 | AC92: =IF(AB92="v",1+AC93,IF(AB92="d",0,AC93)) -> 1 | AE92: =IF(AD92="v",1+AE93,IF(AD92="d",0,AE93)) -> 0 | AG92: =IF(AF92="v",1+AG93,IF(AF92="d",0,AG93)) -> 0 | AI92: =IF(AH92="v",1+AI93,IF(AH92="d",0,AI93)) -> 0 | AK92: =IF(AJ92="v",1+AK93,IF(AJ92="d",0,AK93)) -> 0 | AM92: =IF(AL92="v",1+AM93,IF(AL92="d",0,AM93)) -> 1 | AO92: =IF(AN92="v",1+AO93,IF(AN92="d",0,AO93)) -> 1 | AQ92: =IF(AP92="v",1+AQ93,IF(AP92="d",0,AQ93)) -> 0 | AS92: =IF(AR92="v",1+AS93,IF(AR92="d",0,AS93)) -> 1 | AU92: =IF(AT92="v",1+AU93,IF(AT92="d",0,AU93)) -> 1 | AW92: =IF(AV92="v",1+AW93,IF(AV92="d",0,AW93)) -> 0
C93: T1 | E93: T2 | O93: =IF(N93="v",1+O94,IF(N93="d",0,O94)) -> 0 | Q93: =IF(P93="v",1+Q94,IF(P93="d",0,Q94)) -> 0 | S93: =IF(R93="v",1+S94,IF(R93="d",0,S94)) -> 0 | U93: =IF(T93="v",1+U94,IF(T93="d",0,U94)) -> 2 | W93: =IF(V93="v",1+W94,IF(V93="d",0,W94)) -> 0 | Y93: =IF(X93="v",1+Y94,IF(X93="d",0,Y94)) -> 0 | AA93: =IF(Z93="v",1+AA94,IF(Z93="d",0,AA94)) -> 1 | AC93: =IF(AB93="v",1+AC94,IF(AB93="d",0,AC94)) -> 1 | AE93: =IF(AD93="v",1+AE94,IF(AD93="d",0,AE94)) -> 0 | AG93: =IF(AF93="v",1+AG94,IF(AF93="d",0,AG94)) -> 0 | AI93: =IF(AH93="v",1+AI94,IF(AH93="d",0,AI94)) -> 0 | AK93: =IF(AJ93="v",1+AK94,IF(AJ93="d",0,AK94)) -> 0 | AM93: =IF(AL93="v",1+AM94,IF(AL93="d",0,AM94)) -> 1 | AO93: =IF(AN93="v",1+AO94,IF(AN93="d",0,AO94)) -> 1 | AQ93: =IF(AP93="v",1+AQ94,IF(AP93="d",0,AQ94)) -> 0 | AS93: =IF(AR93="v",1+AS94,IF(AR93="d",0,AS94)) -> 1 | AU93: =IF(AT93="v",1+AU94,IF(AT93="d",0,AU94)) -> 1 | AW93: =IF(AV93="v",1+AW94,IF(AV93="d",0,AW94)) -> 0
C94: Bryan | D94: =IF(C99=E99,"n",IF(C99>E99,"v","d")) -> v | E94: =IF(C99=E99,"n",IF(C99<E99,"v","d")) -> d | F94: Gui | N94: =IF(C94=$N$1,D94,IF(F94=$N$1,E94,"-")) -> d | O94: =IF(N94="v",1+O95,IF(N94="d",0,O95)) -> 0 | P94: =IF($C94=$P$1,$D94,IF($F94=$P$1,$E94,"-")) -> - | Q94: =IF(P94="v",1+Q95,IF(P94="d",0,Q95)) -> 0 | R94: =IF($C94=R$1,$D94,IF($F94=R$1,$E94,"-")) -> - | S94: =IF(R94="v",1+S95,IF(R94="d",0,S95)) -> 0 | T94: =IF($C94=T$1,$D94,IF($F94=T$1,$E94,"-")) -> - | U94: =IF(T94="v",1+U95,IF(T94="d",0,U95)) -> 2 | V94: =IF($C94=V$1,$D94,IF($F94=V$1,$E94,"-")) -> - | W94: =IF(V94="v",1+W95,IF(V94="d",0,W95)) -> 0 | X94: =IF($C94=X$1,$D94,IF($F94=X$1,$E94,"-")) -> - | Y94: =IF(X94="v",1+Y95,IF(X94="d",0,Y95)) -> 0 | Z94: =IF($C94=Z$1,$D94,IF($F94=Z$1,$E94,"-")) -> - | AA94: =IF(Z94="v",1+AA95,IF(Z94="d",0,AA95)) -> 1 | AB94: =IF($C94=AB$1,$D94,IF($F94=AB$1,$E94,"-")) -> - | AC94: =IF(AB94="v",1+AC95,IF(AB94="d",0,AC95)) -> 1 | AD94: =IF($C94=AD$1,$D94,IF($F94=AD$1,$E94,"-")) -> - | AE94: =IF(AD94="v",1+AE95,IF(AD94="d",0,AE95)) -> 0 | AF94: =IF($C94=AF$1,$D94,IF($F94=AF$1,$E94,"-")) -> - | AG94: =IF(AF94="v",1+AG95,IF(AF94="d",0,AG95)) -> 0 | AH94: =IF($C94=AH$1,$D94,IF($F94=AH$1,$E94,"-")) -> - | AI94: =IF(AH94="v",1+AI95,IF(AH94="d",0,AI95)) -> 0 | AJ94: =IF($C94=AJ$1,$D94,IF($F94=AJ$1,$E94,"-")) -> - | AK94: =IF(AJ94="v",1+AK95,IF(AJ94="d",0,AK95)) -> 0 | AL94: =IF($C94=AL$1,$D94,IF($F94=AL$1,$E94,"-")) -> - | AM94: =IF(AL94="v",1+AM95,IF(AL94="d",0,AM95)) -> 1 | AN94: =IF($C94=AN$1,$D94,IF($F94=AN$1,$E94,"-")) -> - | AO94: =IF(AN94="v",1+AO95,IF(AN94="d",0,AO95)) -> 1 | AP94: =IF($C94=AP$1,$D94,IF($F94=AP$1,$E94,"-")) -> - | AQ94: =IF(AP94="v",1+AQ95,IF(AP94="d",0,AQ95)) -> 0 | AR94: =IF($C94=AR$1,$D94,IF($F94=AR$1,$E94,"-")) -> - | AS94: =IF(AR94="v",1+AS95,IF(AR94="d",0,AS95)) -> 1 | AT94: =IF($C94=AT$1,$D94,IF($F94=AT$1,$E94,"-")) -> - | AU94: =IF(AT94="v",1+AU95,IF(AT94="d",0,AU95)) -> 1 | AV94: =IF($C94=AV$1,$D94,IF($F94=AV$1,$E94,"-")) -> - | AW94: =IF(AV94="v",1+AW95,IF(AV94="d",0,AW95)) -> 0
C95: Ricardo | D95: =IF(C99=E99,"n",IF(C99>E99,"v","d")) -> v | E95: =IF(C99=E99,"n",IF(C99<E99,"v","d")) -> d | F95: Time | N95: =IF(C95=$N$1,D95,IF(F95=$N$1,E95,"-")) -> - | O95: =IF(N95="v",1+O96,IF(N95="d",0,O96)) -> 1 | P95: =IF(C95=$P$1,D95,IF(F95=$P$1,E95,"-")) -> - | Q95: =IF(P95="v",1+Q96,IF(P95="d",0,Q96)) -> 0 | R95: =IF($C95=R$1,$D95,IF($F95=R$1,$E95,"-")) -> d | S95: =IF(R95="v",1+S96,IF(R95="d",0,S96)) -> 0 | T95: =IF($C95=T$1,$D95,IF($F95=T$1,$E95,"-")) -> - | U95: =IF(T95="v",1+U96,IF(T95="d",0,U96)) -> 2 | V95: =IF($C95=V$1,$D95,IF($F95=V$1,$E95,"-")) -> - | W95: =IF(V95="v",1+W96,IF(V95="d",0,W96)) -> 0 | X95: =IF($C95=X$1,$D95,IF($F95=X$1,$E95,"-")) -> - | Y95: =IF(X95="v",1+Y96,IF(X95="d",0,Y96)) -> 0 | Z95: =IF($C95=Z$1,$D95,IF($F95=Z$1,$E95,"-")) -> - | AA95: =IF(Z95="v",1+AA96,IF(Z95="d",0,AA96)) -> 1 | AB95: =IF($C95=AB$1,$D95,IF($F95=AB$1,$E95,"-")) -> - | AC95: =IF(AB95="v",1+AC96,IF(AB95="d",0,AC96)) -> 1 | AD95: =IF($C95=AD$1,$D95,IF($F95=AD$1,$E95,"-")) -> - | AE95: =IF(AD95="v",1+AE96,IF(AD95="d",0,AE96)) -> 0 | AF95: =IF($C95=AF$1,$D95,IF($F95=AF$1,$E95,"-")) -> - | AG95: =IF(AF95="v",1+AG96,IF(AF95="d",0,AG96)) -> 0 | AH95: =IF($C95=AH$1,$D95,IF($F95=AH$1,$E95,"-")) -> - | AI95: =IF(AH95="v",1+AI96,IF(AH95="d",0,AI96)) -> 0 | AJ95: =IF($C95=AJ$1,$D95,IF($F95=AJ$1,$E95,"-")) -> - | AK95: =IF(AJ95="v",1+AK96,IF(AJ95="d",0,AK96)) -> 0 | AL95: =IF($C95=AL$1,$D95,IF($F95=AL$1,$E95,"-")) -> - | AM95: =IF(AL95="v",1+AM96,IF(AL95="d",0,AM96)) -> 1 | AN95: =IF($C95=AN$1,$D95,IF($F95=AN$1,$E95,"-")) -> - | AO95: =IF(AN95="v",1+AO96,IF(AN95="d",0,AO96)) -> 1 | AP95: =IF($C95=AP$1,$D95,IF($F95=AP$1,$E95,"-")) -> - | AQ95: =IF(AP95="v",1+AQ96,IF(AP95="d",0,AQ96)) -> 0 | AR95: =IF($C95=AR$1,$D95,IF($F95=AR$1,$E95,"-")) -> - | AS95: =IF(AR95="v",1+AS96,IF(AR95="d",0,AS96)) -> 1 | AT95: =IF($C95=AT$1,$D95,IF($F95=AT$1,$E95,"-")) -> - | AU95: =IF(AT95="v",1+AU96,IF(AT95="d",0,AU96)) -> 1 | AV95: =IF($C95=AV$1,$D95,IF($F95=AV$1,$E95,"-")) -> - | AW95: =IF(AV95="v",1+AW96,IF(AV95="d",0,AW96)) -> 0
C96: Thomas | D96: =IF(C99=E99,"n",IF(C99>E99,"v","d")) -> v | E96: =IF(C99=E99,"n",IF(C99<E99,"v","d")) -> d | F96: Nabil | N96: =IF(C96=$N$1,D96,IF(F96=$N$1,E96,"-")) -> - | O96: =IF(N96="v",1+O97,IF(N96="d",0,O97)) -> 1 | P96: =IF(C96=$P$1,D96,IF(F96=$P$1,E96,"-")) -> - | Q96: =IF(P96="v",1+Q97,IF(P96="d",0,Q97)) -> 0 | R96: =IF($C96=R$1,$D96,IF($F96=R$1,$E96,"-")) -> - | S96: =IF(R96="v",1+S97,IF(R96="d",0,S97)) -> 1 | T96: =IF($C96=T$1,$D96,IF($F96=T$1,$E96,"-")) -> - | U96: =IF(T96="v",1+U97,IF(T96="d",0,U97)) -> 2 | V96: =IF($C96=V$1,$D96,IF($F96=V$1,$E96,"-")) -> - | W96: =IF(V96="v",1+W97,IF(V96="d",0,W97)) -> 0 | X96: =IF($C96=X$1,$D96,IF($F96=X$1,$E96,"-")) -> - | Y96: =IF(X96="v",1+Y97,IF(X96="d",0,Y97)) -> 0 | Z96: =IF($C96=Z$1,$D96,IF($F96=Z$1,$E96,"-")) -> - | AA96: =IF(Z96="v",1+AA97,IF(Z96="d",0,AA97)) -> 1 | AB96: =IF($C96=AB$1,$D96,IF($F96=AB$1,$E96,"-")) -> - | AC96: =IF(AB96="v",1+AC97,IF(AB96="d",0,AC97)) -> 1 | AD96: =IF($C96=AD$1,$D96,IF($F96=AD$1,$E96,"-")) -> - | AE96: =IF(AD96="v",1+AE97,IF(AD96="d",0,AE97)) -> 0 | AF96: =IF($C96=AF$1,$D96,IF($F96=AF$1,$E96,"-")) -> - | AG96: =IF(AF96="v",1+AG97,IF(AF96="d",0,AG97)) -> 0 | AH96: =IF($C96=AH$1,$D96,IF($F96=AH$1,$E96,"-")) -> - | AI96: =IF(AH96="v",1+AI97,IF(AH96="d",0,AI97)) -> 0 | AJ96: =IF($C96=AJ$1,$D96,IF($F96=AJ$1,$E96,"-")) -> - | AK96: =IF(AJ96="v",1+AK97,IF(AJ96="d",0,AK97)) -> 0 | AL96: =IF($C96=AL$1,$D96,IF($F96=AL$1,$E96,"-")) -> - | AM96: =IF(AL96="v",1+AM97,IF(AL96="d",0,AM97)) -> 1 | AN96: =IF($C96=AN$1,$D96,IF($F96=AN$1,$E96,"-")) -> - | AO96: =IF(AN96="v",1+AO97,IF(AN96="d",0,AO97)) -> 1 | AP96: =IF($C96=AP$1,$D96,IF($F96=AP$1,$E96,"-")) -> - | AQ96: =IF(AP96="v",1+AQ97,IF(AP96="d",0,AQ97)) -> 0 | AR96: =IF($C96=AR$1,$D96,IF($F96=AR$1,$E96,"-")) -> - | AS96: =IF(AR96="v",1+AS97,IF(AR96="d",0,AS97)) -> 1 | AT96: =IF($C96=AT$1,$D96,IF($F96=AT$1,$E96,"-")) -> - | AU96: =IF(AT96="v",1+AU97,IF(AT96="d",0,AU97)) -> 1 | AV96: =IF($C96=AV$1,$D96,IF($F96=AV$1,$E96,"-")) -> d | AW96: =IF(AV96="v",1+AW97,IF(AV96="d",0,AW97)) -> 0
C97: Tomollet | D97: =IF(C99=E99,"n",IF(C99>E99,"v","d")) -> v | E97: =IF(C99=E99,"n",IF(C99<E99,"v","d")) -> d | F97: Klaim | N97: =IF(C97=$N$1,D97,IF(F97=$N$1,E97,"-")) -> - | O97: =IF(N97="v",1+O98,IF(N97="d",0,O98)) -> 1 | P97: =IF(C97=$P$1,D97,IF(F97=$P$1,E97,"-")) -> - | Q97: =IF(P97="v",1+Q98,IF(P97="d",0,Q98)) -> 0 | R97: =IF($C97=R$1,$D97,IF($F97=R$1,$E97,"-")) -> - | S97: =IF(R97="v",1+S98,IF(R97="d",0,S98)) -> 1 | T97: =IF($C97=T$1,$D97,IF($F97=T$1,$E97,"-")) -> - | U97: =IF(T97="v",1+U98,IF(T97="d",0,U98)) -> 2 | V97: =IF($C97=V$1,$D97,IF($F97=V$1,$E97,"-")) -> - | W97: =IF(V97="v",1+W98,IF(V97="d",0,W98)) -> 0 | X97: =IF($C97=X$1,$D97,IF($F97=X$1,$E97,"-")) -> - | Y97: =IF(X97="v",1+Y98,IF(X97="d",0,Y98)) -> 0 | Z97: =IF($C97=Z$1,$D97,IF($F97=Z$1,$E97,"-")) -> - | AA97: =IF(Z97="v",1+AA98,IF(Z97="d",0,AA98)) -> 1 | AB97: =IF($C97=AB$1,$D97,IF($F97=AB$1,$E97,"-")) -> - | AC97: =IF(AB97="v",1+AC98,IF(AB97="d",0,AC98)) -> 1 | AD97: =IF($C97=AD$1,$D97,IF($F97=AD$1,$E97,"-")) -> d | AE97: =IF(AD97="v",1+AE98,IF(AD97="d",0,AE98)) -> 0 | AF97: =IF($C97=AF$1,$D97,IF($F97=AF$1,$E97,"-")) -> - | AG97: =IF(AF97="v",1+AG98,IF(AF97="d",0,AG98)) -> 0 | AH97: =IF($C97=AH$1,$D97,IF($F97=AH$1,$E97,"-")) -> - | AI97: =IF(AH97="v",1+AI98,IF(AH97="d",0,AI98)) -> 0 | AJ97: =IF($C97=AJ$1,$D97,IF($F97=AJ$1,$E97,"-")) -> - | AK97: =IF(AJ97="v",1+AK98,IF(AJ97="d",0,AK98)) -> 0 | AL97: =IF($C97=AL$1,$D97,IF($F97=AL$1,$E97,"-")) -> - | AM97: =IF(AL97="v",1+AM98,IF(AL97="d",0,AM98)) -> 1 | AN97: =IF($C97=AN$1,$D97,IF($F97=AN$1,$E97,"-")) -> - | AO97: =IF(AN97="v",1+AO98,IF(AN97="d",0,AO98)) -> 1 | AP97: =IF($C97=AP$1,$D97,IF($F97=AP$1,$E97,"-")) -> - | AQ97: =IF(AP97="v",1+AQ98,IF(AP97="d",0,AQ98)) -> 0 | AR97: =IF($C97=AR$1,$D97,IF($F97=AR$1,$E97,"-")) -> - | AS97: =IF(AR97="v",1+AS98,IF(AR97="d",0,AS98)) -> 1 | AT97: =IF($C97=AT$1,$D97,IF($F97=AT$1,$E97,"-")) -> - | AU97: =IF(AT97="v",1+AU98,IF(AT97="d",0,AU98)) -> 1 | AV97: =IF($C97=AV$1,$D97,IF($F97=AV$1,$E97,"-")) -> - | AW97: =IF(AV97="v",1+AW98,IF(AV97="d",0,AW98)) -> 0
C98: Rémi C | D98: =IF(C99=E99,"n",IF(C99>E99,"v","d")) -> v | E98: =IF(C99=E99,"n",IF(C99<E99,"v","d")) -> d | F98: Mehdi | N98: =IF(C98=$N$1,D98,IF(F98=$N$1,E98,"-")) -> - | O98: =IF(N98="v",1+O99,IF(N98="d",0,O99)) -> 1 | P98: =IF(C98=$P$1,D98,IF(F98=$P$1,E98,"-")) -> - | Q98: =IF(P98="v",1+Q99,IF(P98="d",0,Q99)) -> 0 | R98: =IF($C98=R$1,$D98,IF($F98=R$1,$E98,"-")) -> - | S98: =IF(R98="v",1+S99,IF(R98="d",0,S99)) -> 1 | T98: =IF($C98=T$1,$D98,IF($F98=T$1,$E98,"-")) -> - | U98: =IF(T98="v",1+U99,IF(T98="d",0,U99)) -> 2 | V98: =IF($C98=V$1,$D98,IF($F98=V$1,$E98,"-")) -> d | W98: =IF(V98="v",1+W99,IF(V98="d",0,W99)) -> 0 | X98: =IF($C98=X$1,$D98,IF($F98=X$1,$E98,"-")) -> - | Y98: =IF(X98="v",1+Y99,IF(X98="d",0,Y99)) -> 0 | Z98: =IF($C98=Z$1,$D98,IF($F98=Z$1,$E98,"-")) -> - | AA98: =IF(Z98="v",1+AA99,IF(Z98="d",0,AA99)) -> 1 | AB98: =IF($C98=AB$1,$D98,IF($F98=AB$1,$E98,"-")) -> - | AC98: =IF(AB98="v",1+AC99,IF(AB98="d",0,AC99)) -> 1 | AD98: =IF($C98=AD$1,$D98,IF($F98=AD$1,$E98,"-")) -> - | AE98: =IF(AD98="v",1+AE99,IF(AD98="d",0,AE99)) -> 0 | AF98: =IF($C98=AF$1,$D98,IF($F98=AF$1,$E98,"-")) -> - | AG98: =IF(AF98="v",1+AG99,IF(AF98="d",0,AG99)) -> 0 | AH98: =IF($C98=AH$1,$D98,IF($F98=AH$1,$E98,"-")) -> - | AI98: =IF(AH98="v",1+AI99,IF(AH98="d",0,AI99)) -> 0 | AJ98: =IF($C98=AJ$1,$D98,IF($F98=AJ$1,$E98,"-")) -> - | AK98: =IF(AJ98="v",1+AK99,IF(AJ98="d",0,AK99)) -> 0 | AL98: =IF($C98=AL$1,$D98,IF($F98=AL$1,$E98,"-")) -> - | AM98: =IF(AL98="v",1+AM99,IF(AL98="d",0,AM99)) -> 1 | AN98: =IF($C98=AN$1,$D98,IF($F98=AN$1,$E98,"-")) -> v | AO98: =IF(AN98="v",1+AO99,IF(AN98="d",0,AO99)) -> 1 | AP98: =IF($C98=AP$1,$D98,IF($F98=AP$1,$E98,"-")) -> - | AQ98: =IF(AP98="v",1+AQ99,IF(AP98="d",0,AQ99)) -> 0 | AR98: =IF($C98=AR$1,$D98,IF($F98=AR$1,$E98,"-")) -> - | AS98: =IF(AR98="v",1+AS99,IF(AR98="d",0,AS99)) -> 1 | AT98: =IF($C98=AT$1,$D98,IF($F98=AT$1,$E98,"-")) -> - | AU98: =IF(AT98="v",1+AU99,IF(AT98="d",0,AU99)) -> 1 | AV98: =IF($C98=AV$1,$D98,IF($F98=AV$1,$E98,"-")) -> - | AW98: =IF(AV98="v",1+AW99,IF(AV98="d",0,AW99)) -> 0
B99: SCORE | C99: 21 | E99: 19 | N99: =IF((COUNTIF(N94:N98,"d")=1),-ABS($C99-$E99),IF((COUNTIF(N94:N98,"v")=1),ABS($C99-$E99),0)) -> -2 | O99: =IF(N99="v",1+O100,IF(N99="d",0,O100)) -> 1 | P99: =IF((COUNTIF(P94:P98,"d")=1),-ABS($C99-$E99),IF((COUNTIF(P94:P98,"v")=1),ABS($C99-$E99),0)) -> 0 | Q99: =IF(P99="v",1+Q100,IF(P99="d",0,Q100)) -> 0 | R99: =IF((COUNTIF(R94:R98,"d")=1),-ABS($C99-$E99),IF((COUNTIF(R94:R98,"v")=1),ABS($C99-$E99),0)) -> -2 | S99: =IF(R99="v",1+S100,IF(R99="d",0,S100)) -> 1 | T99: =IF((COUNTIF(T94:T98,"d")=1),-ABS($C99-$E99),IF((COUNTIF(T94:T98,"v")=1),ABS($C99-$E99),0)) -> 0 | U99: =IF(T99="v",1+U100,IF(T99="d",0,U100)) -> 2 | V99: =IF((COUNTIF(V94:V98,"d")=1),-ABS($C99-$E99),IF((COUNTIF(V94:V98,"v")=1),ABS($C99-$E99),0)) -> -2 | W99: =IF(V99="v",1+W100,IF(V99="d",0,W100)) -> 0 | X99: =IF((COUNTIF(X94:X98,"d")=1),-ABS($C99-$E99),IF((COUNTIF(X94:X98,"v")=1),ABS($C99-$E99),0)) -> 0 | Y99: =IF(X99="v",1+Y100,IF(X99="d",0,Y100)) -> 0 | Z99: =IF((COUNTIF(Z94:Z98,"d")=1),-ABS($C99-$E99),IF((COUNTIF(Z94:Z98,"v")=1),ABS($C99-$E99),0)) -> 0 | AA99: =IF(Z99="v",1+AA100,IF(Z99="d",0,AA100)) -> 1 | AB99: =IF((COUNTIF(AB94:AB98,"d")=1),-ABS($C99-$E99),IF((COUNTIF(AB94:AB98,"v")=1),ABS($C99-$E99),0)) -> 0 | AC99: =IF(AB99="v",1+AC100,IF(AB99="d",0,AC100)) -> 1 | AD99: =IF((COUNTIF(AD94:AD98,"d")=1),-ABS($C99-$E99),IF((COUNTIF(AD94:AD98,"v")=1),ABS($C99-$E99),0)) -> -2 | AE99: =IF(AD99="v",1+AE100,IF(AD99="d",0,AE100)) -> 0 | AF99: =IF((COUNTIF(AF94:AF98,"d")=1),-ABS($C99-$E99),IF((COUNTIF(AF94:AF98,"v")=1),ABS($C99-$E99),0)) -> 0 | AG99: =IF(AF99="v",1+AG100,IF(AF99="d",0,AG100)) -> 0 | AH99: =IF((COUNTIF(AH94:AH98,"d")=1),-ABS($C99-$E99),IF((COUNTIF(AH94:AH98,"v")=1),ABS($C99-$E99),0)) -> 0 | AI99: =IF(AH99="v",1+AI100,IF(AH99="d",0,AI100)) -> 0 | AJ99: =IF((COUNTIF(AJ94:AJ98,"d")=1),-ABS($C99-$E99),IF((COUNTIF(AJ94:AJ98,"v")=1),ABS($C99-$E99),0)) -> 0 | AK99: =IF(AJ99="v",1+AK100,IF(AJ99="d",0,AK100)) -> 0 | AL99: =IF((COUNTIF(AL94:AL98,"d")=1),-ABS($C99-$E99),IF((COUNTIF(AL94:AL98,"v")=1),ABS($C99-$E99),0)) -> 0 | AM99: =IF(AL99="v",1+AM100,IF(AL99="d",0,AM100)) -> 1 | AN99: =IF((COUNTIF(AN94:AN98,"d")=1),-ABS($C99-$E99),IF((COUNTIF(AN94:AN98,"v")=1),ABS($C99-$E99),0)) -> 2 | AO99: =IF(AN99="v",1+AO100,IF(AN99="d",0,AO100)) -> 0 | AP99: =IF((COUNTIF(AP94:AP98,"d")=1),-ABS($C99-$E99),IF((COUNTIF(AP94:AP98,"v")=1),ABS($C99-$E99),0)) -> 0 | AQ99: =IF(AP99="v",1+AQ100,IF(AP99="d",0,AQ100)) -> 0 | AR99: =IF((COUNTIF(AR94:AR98,"d")=1),-ABS($C99-$E99),IF((COUNTIF(AR94:AR98,"v")=1),ABS($C99-$E99),0)) -> 0 | AS99: =IF(AR99="v",1+AS100,IF(AR99="d",0,AS100)) -> 1 | AT99: =IF((COUNTIF(AT94:AT98,"d")=1),-ABS($C99-$E99),IF((COUNTIF(AT94:AT98,"v")=1),ABS($C99-$E99),0)) -> 0 | AU99: =IF(AT99="v",1+AU100,IF(AT99="d",0,AU100)) -> 1 | AV99: =IF((COUNTIF(AV94:AV98,"d")=1),-ABS($C99-$E99),IF((COUNTIF(AV94:AV98,"v")=1),ABS($C99-$E99),0)) -> -2 | AW99: =IF(AV99="v",1+AW100,IF(AV99="d",0,AW100)) -> 0
O100: =IF(N100="v",1+O101,IF(N100="d",0,O101)) -> 1 | Q100: =IF(P100="v",1+Q101,IF(P100="d",0,Q101)) -> 0 | S100: =IF(R100="v",1+S101,IF(R100="d",0,S101)) -> 1 | U100: =IF(T100="v",1+U101,IF(T100="d",0,U101)) -> 2 | W100: =IF(V100="v",1+W101,IF(V100="d",0,W101)) -> 0 | Y100: =IF(X100="v",1+Y101,IF(X100="d",0,Y101)) -> 0 | AA100: =IF(Z100="v",1+AA101,IF(Z100="d",0,AA101)) -> 1 | AC100: =IF(AB100="v",1+AC101,IF(AB100="d",0,AC101)) -> 1 | AE100: =IF(AD100="v",1+AE101,IF(AD100="d",0,AE101)) -> 0 | AG100: =IF(AF100="v",1+AG101,IF(AF100="d",0,AG101)) -> 0 | AI100: =IF(AH100="v",1+AI101,IF(AH100="d",0,AI101)) -> 0 | AK100: =IF(AJ100="v",1+AK101,IF(AJ100="d",0,AK101)) -> 0 | AM100: =IF(AL100="v",1+AM101,IF(AL100="d",0,AM101)) -> 1 | AO100: =IF(AN100="v",1+AO101,IF(AN100="d",0,AO101)) -> 0 | AQ100: =IF(AP100="v",1+AQ101,IF(AP100="d",0,AQ101)) -> 0 | AS100: =IF(AR100="v",1+AS101,IF(AR100="d",0,AS101)) -> 1 | AU100: =IF(AT100="v",1+AU101,IF(AT100="d",0,AU101)) -> 1 | AW100: =IF(AV100="v",1+AW101,IF(AV100="d",0,AW101)) -> 0
B101: 42008 | O101: =IF(N101="v",1+O102,IF(N101="d",0,O102)) -> 1 | Q101: =IF(P101="v",1+Q102,IF(P101="d",0,Q102)) -> 0 | S101: =IF(R101="v",1+S102,IF(R101="d",0,S102)) -> 1 | U101: =IF(T101="v",1+U102,IF(T101="d",0,U102)) -> 2 | W101: =IF(V101="v",1+W102,IF(V101="d",0,W102)) -> 0 | Y101: =IF(X101="v",1+Y102,IF(X101="d",0,Y102)) -> 0 | AA101: =IF(Z101="v",1+AA102,IF(Z101="d",0,AA102)) -> 1 | AC101: =IF(AB101="v",1+AC102,IF(AB101="d",0,AC102)) -> 1 | AE101: =IF(AD101="v",1+AE102,IF(AD101="d",0,AE102)) -> 0 | AG101: =IF(AF101="v",1+AG102,IF(AF101="d",0,AG102)) -> 0 | AI101: =IF(AH101="v",1+AI102,IF(AH101="d",0,AI102)) -> 0 | AK101: =IF(AJ101="v",1+AK102,IF(AJ101="d",0,AK102)) -> 0 | AM101: =IF(AL101="v",1+AM102,IF(AL101="d",0,AM102)) -> 1 | AO101: =IF(AN101="v",1+AO102,IF(AN101="d",0,AO102)) -> 0 | AQ101: =IF(AP101="v",1+AQ102,IF(AP101="d",0,AQ102)) -> 0 | AS101: =IF(AR101="v",1+AS102,IF(AR101="d",0,AS102)) -> 1 | AU101: =IF(AT101="v",1+AU102,IF(AT101="d",0,AU102)) -> 1 | AW101: =IF(AV101="v",1+AW102,IF(AV101="d",0,AW102)) -> 0
C102: T1 | E102: T2 | O102: =IF(N102="v",1+O103,IF(N102="d",0,O103)) -> 1 | Q102: =IF(P102="v",1+Q103,IF(P102="d",0,Q103)) -> 0 | S102: =IF(R102="v",1+S103,IF(R102="d",0,S103)) -> 1 | U102: =IF(T102="v",1+U103,IF(T102="d",0,U103)) -> 2 | W102: =IF(V102="v",1+W103,IF(V102="d",0,W103)) -> 0 | Y102: =IF(X102="v",1+Y103,IF(X102="d",0,Y103)) -> 0 | AA102: =IF(Z102="v",1+AA103,IF(Z102="d",0,AA103)) -> 1 | AC102: =IF(AB102="v",1+AC103,IF(AB102="d",0,AC103)) -> 1 | AE102: =IF(AD102="v",1+AE103,IF(AD102="d",0,AE103)) -> 0 | AG102: =IF(AF102="v",1+AG103,IF(AF102="d",0,AG103)) -> 0 | AI102: =IF(AH102="v",1+AI103,IF(AH102="d",0,AI103)) -> 0 | AK102: =IF(AJ102="v",1+AK103,IF(AJ102="d",0,AK103)) -> 0 | AM102: =IF(AL102="v",1+AM103,IF(AL102="d",0,AM103)) -> 1 | AO102: =IF(AN102="v",1+AO103,IF(AN102="d",0,AO103)) -> 0 | AQ102: =IF(AP102="v",1+AQ103,IF(AP102="d",0,AQ103)) -> 0 | AS102: =IF(AR102="v",1+AS103,IF(AR102="d",0,AS103)) -> 1 | AU102: =IF(AT102="v",1+AU103,IF(AT102="d",0,AU103)) -> 1 | AW102: =IF(AV102="v",1+AW103,IF(AV102="d",0,AW103)) -> 0
...
