Workbook

Sheet Clsst
A1: CLASSEMENT
S3: ▲ | T3: ▼ | U3: +▲
A4: MAJ 26/04/2015 | C4: Class. | D4: Playerz | E4: % V | F4: J | G4: Diff. | H4: V | I4: D | J4: N | K4: Série | M4: +▲ | S4: =MAX(Résultat!N6:BO6) -> 3 | T4: =MAX(Résultat!N7:CG7) -> 3 | U4: =MAX(M5:N22) -> 5
C5: 1 | D5: Paulo | E5: =IF(F5>4,H5/F5,"Play again") -> 0.6 | F5: =J5+I5+H5 -> 5 | G5: =HLOOKUP($D5,Résultat!$N$1:$AV$5,5,FALSE) -> -2 | H5: =HLOOKUP($D5,Résultat!$N$1:$AV$5,2,FALSE) -> 3 | I5: =HLOOKUP($D5,Résultat!$N$1:$AV$5,3,FALSE) -> 1 | J5: =HLOOKUP($D5,Résultat!$N$1:$AV$5,4,FALSE) -> 1 | K5: =IF((HLOOKUP($D5,Résultat!$N$1:$BW$8,6,FALSE)-HLOOKUP($D5,Résultat!$N$1:$BW$8,7,FALSE))>0,"▲","▼") -> ▲ | L5: =IF($E5="Play again","-",ABS((HLOOKUP(Clsst!$D5,Résultat!$N$1:$CO$8,6,FALSE))-(HLOOKUP(Clsst!$D5,Résultat!$N$1:$CO$8,7,FALSE)))) -> 2 | M5: =HLOOKUP($D5,Résultat!$N$1:$CH$8,8,FALSE) -> 2 | R5: =IF(F5=H5+I5+J5,"-","ERROR") -> - | S5: =IF(AND(K5="▲",L5=$S$4),D5,0) -> 0 | T5: =IF(AND(K5="▼",L5=$T$4),D5,0) -> 0 | U5: =IF(M5=$U$4,D5,0) -> 0
C6: 2 | D6: Olivier | E6: =IF(F6>4,H6/F6,"Play again") -> 0.57142857 | F6: =J6+I6+H6 -> 7 | G6: =HLOOKUP($D6,Résultat!$N$1:$AV$5,5,FALSE) -> 11 | H6: =HLOOKUP($D6,Résultat!$N$1:$AV$5,2,FALSE) -> 4 | I6: =HLOOKUP($D6,Résultat!$N$1:$AV$5,3,FALSE) -> 2 | J6: =HLOOKUP($D6,Résultat!$N$1:$AV$5,4,FALSE) -> 1 | K6: =IF((HLOOKUP($D6,Résultat!$N$1:$BW$8,6,FALSE)-HLOOKUP($D6,Résultat!$N$1:$BW$8,7,FALSE))>0,"▲","▼") -> ▼ | L6: =IF($E6="Play again","-",ABS((HLOOKUP(Clsst!$D6,Résultat!$N$1:$CO$8,6,FALSE))-(HLOOKUP(Clsst!$D6,Résultat!$N$1:$CO$8,7,FALSE)))) -> 1 | M6: =HLOOKUP($D6,Résultat!$N$1:$CH$8,8,FALSE) -> 4 | R6: =IF(F6=H6+I6+J6,"-","ERROR") -> - | S6: =IF(AND(K6="▲",L6=$S$4),D6,0) -> 0 | T6: =IF(AND(K6="▼",L6=$T$4),D6,0) -> 0 | U6: =IF(M6=$U$4,D6,0) -> 0
C7: 3 | D7: Time | E7: =IF(F7>4,H7/F7,"Play again") -> 0.57142857 | F7: =J7+I7+H7 -> 7 | G7: =HLOOKUP($D7,Résultat!$N$1:$AV$5,5,FALSE) -> 17 | H7: =HLOOKUP($D7,Résultat!$N$1:$AV$5,2,FALSE) -> 4 | I7: =HLOOKUP($D7,Résultat!$N$1:$AV$5,3,FALSE) -> 2 | J7: =HLOOKUP($D7,Résultat!$N$1:$AV$5,4,FALSE) -> 1 | K7: =IF((HLOOKUP($D7,Résultat!$N$1:$BW$8,6,FALSE)-HLOOKUP($D7,Résultat!$N$1:$BW$8,7,FALSE))>0,"▲","▼") -> ▲ | L7: =IF($E7="Play again","-",ABS((HLOOKUP(Clsst!$D7,Résultat!$N$1:$CO$8,6,FALSE))-(HLOOKUP(Clsst!$D7,Résultat!$N$1:$CO$8,7,FALSE)))) -> 3 | M7: =HLOOKUP($D7,Résultat!$N$1:$CH$8,8,FALSE) -> 3 | R7: =IF(F7=H7+I7+J7,"-","ERROR") -> - | S7: =IF(AND(K7="▲",L7=$S$4),D7,0) -> Time | T7: =IF(AND(K7="▼",L7=$T$4),D7,0) -> 0 | U7: =IF(M7=$U$4,D7,0) -> 0
C8: 4 | D8: Ben | E8: =IF(F8>4,H8/F8,"Play again") -> 0.5 | F8: =J8+I8+H8 -> 10 | G8: =HLOOKUP($D8,Résultat!$N$1:$AV$5,5,FALSE) -> 4 | H8: =HLOOKUP($D8,Résultat!$N$1:$AV$5,2,FALSE) -> 5 | I8: =HLOOKUP($D8,Résultat!$N$1:$AV$5,3,FALSE) -> 3 | J8: =HLOOKUP($D8,Résultat!$N$1:$AV$5,4,FALSE) -> 2 | K8: =IF((HLOOKUP($D8,Résultat!$N$1:$BW$8,6,FALSE)-HLOOKUP($D8,Résultat!$N$1:$BW$8,7,FALSE))>0,"▲","▼") -> ▼ | L8: =IF($E8="Play again","-",ABS((HLOOKUP(Clsst!$D8,Résultat!$N$1:$CO$8,6,FALSE))-(HLOOKUP(Clsst!$D8,Résultat!$N$1:$CO$8,7,FALSE)))) -> 3 | M8: =HLOOKUP($D8,Résultat!$N$1:$CH$8,8,FALSE) -> 5 | R8: =IF(F8=H8+I8+J8,"-","ERROR") -> - | S8: =IF(AND(K8="▲",L8=$S$4),D8,0) -> 0 | T8: =IF(AND(K8="▼",L8=$T$4),D8,0) -> Ben | U8: =IF(M8=$U$4,D8,0) -> Ben
C9: 5 | D9: Rémi C | E9: =IF(F9>4,H9/F9,"Play again") -> 0.5 | F9: =J9+I9+H9 -> 10 | G9: =HLOOKUP($D9,Résultat!$N$1:$AV$5,5,FALSE) -> -2 | H9: =HLOOKUP($D9,Résultat!$N$1:$AV$5,2,FALSE) -> 5 | I9: =HLOOKUP($D9,Résultat!$N$1:$AV$5,3,FALSE) -> 4 | J9: =HLOOKUP($D9,Résultat!$N$1:$AV$5,4,FALSE) -> 1 | K9: =IF((HLOOKUP($D9,Résultat!$N$1:$BW$8,6,FALSE)-HLOOKUP($D9,Résultat!$N$1:$BW$8,7,FALSE))>0,"▲","▼") -> ▼ | L9: =IF($E9="Play again","-",ABS((HLOOKUP(Clsst!$D9,Résultat!$N$1:$CO$8,6,FALSE))-(HLOOKUP(Clsst!$D9,Résultat!$N$1:$CO$8,7,FALSE)))) -> 1 | M9: =HLOOKUP($D9,Résultat!$N$1:$CH$8,8,FALSE) -> 2 | R9: =IF(F9=H9+I9+J9,"-","ERROR") -> - | S9: =IF(AND(K9="▲",L9=$S$4),D9,0) -> 0 | T9: =IF(AND(K9="▼",L9=$T$4),D9,0) -> 0 | U9: =IF(M9=$U$4,D9,0) -> 0
C10: 6 | D10: Romain | E10: =IF(F10>4,H10/F10,"Play again") -> Play again | F10: =J10+I10+H10 -> 4 | G10: =HLOOKUP($D10,Résultat!$N$1:$AV$5,5,FALSE) -> 13 | H10: =HLOOKUP($D10,Résultat!$N$1:$AV$5,2,FALSE) -> 2 | I10: =HLOOKUP($D10,Résultat!$N$1:$AV$5,3,FALSE) -> 1 | J10: =HLOOKUP($D10,Résultat!$N$1:$AV$5,4,FALSE) -> 1 | K10: =IF((HLOOKUP($D10,Résultat!$N$1:$BW$8,6,FALSE)-HLOOKUP($D10,Résultat!$N$1:$BW$8,7,FALSE))>0,"▲","▼") -> ▲ | L10: =IF($E10="Play again","-",ABS((HLOOKUP(Clsst!$D10,Résultat!$N$1:$CO$8,6,FALSE))-(HLOOKUP(Clsst!$D10,Résultat!$N$1:$CO$8,7,FALSE)))) -> - | M10: =HLOOKUP($D10,Résultat!$N$1:$CH$8,8,FALSE) -> 2 | R10: =IF(F10=H10+I10+J10,"-","ERROR") -> - | S10: =IF(AND(K10="▲",L10=$S$4),D10,0) -> 0 | T10: =IF(AND(K10="▼",L10=$T$4),D10,0) -> 0 | U10: =IF(M10=$U$4,D10,0) -> 0
C11: 7 | D11: Gui | E11: =IF(F11>4,H11/F11,"Play again") -> 0.42857143 | F11: =J11+I11+H11 -> 14 | G11: =HLOOKUP($D11,Résultat!$N$1:$AV$5,5,FALSE) -> -17 | H11: =HLOOKUP($D11,Résultat!$N$1:$AV$5,2,FALSE) -> 6 | I11: =HLOOKUP($D11,Résultat!$N$1:$AV$5,3,FALSE) -> 6 | J11: =HLOOKUP($D11,Résultat!$N$1:$AV$5,4,FALSE) -> 2 | K11: =IF((HLOOKUP($D11,Résultat!$N$1:$BW$8,6,FALSE)-HLOOKUP($D11,Résultat!$N$1:$BW$8,7,FALSE))>0,"▲","▼") -> ▲ | L11: =IF($E11="Play again","-",ABS((HLOOKUP(Clsst!$D11,Résultat!$N$1:$CO$8,6,FALSE))-(HLOOKUP(Clsst!$D11,Résultat!$N$1:$CO$8,7,FALSE)))) -> 1 | M11: =HLOOKUP($D11,Résultat!$N$1:$CH$8,8,FALSE) -> 1 | R11: =IF(F11=H11+I11+J11,"-","ERROR") -> - | S11: =IF(AND(K11="▲",L11=$S$4),D11,0) -> 0 | T11: =IF(AND(K11="▼",L11=$T$4),D11,0) -> 0 | U11: =IF(M11=$U$4,D11,0) -> 0
C12: 8 | D12: Maxou | E12: =IF(F12>4,H12/F12,"Play again") -> 0.3 | F12: =J12+I12+H12 -> 10 | G12: =HLOOKUP($D12,Résultat!$N$1:$AV$5,5,FALSE) -> -11 | H12: =HLOOKUP($D12,Résultat!$N$1:$AV$5,2,FALSE) -> 3 | I12: =HLOOKUP($D12,Résultat!$N$1:$AV$5,3,FALSE) -> 5 | J12: =HLOOKUP($D12,Résultat!$N$1:$AV$5,4,FALSE) -> 2 | K12: =IF((HLOOKUP($D12,Résultat!$N$1:$BW$8,6,FALSE)-HLOOKUP($D12,Résultat!$N$1:$BW$8,7,FALSE))>0,"▲","▼") -> ▲ | L12: =IF($E12="Play again","-",ABS((HLOOKUP(Clsst!$D12,Résultat!$N$1:$CO$8,6,FALSE))-(HLOOKUP(Clsst!$D12,Résultat!$N$1:$CO$8,7,FALSE)))) -> 1 | M12: =HLOOKUP($D12,Résultat!$N$1:$CH$8,8,FALSE) -> 1 | R12: =IF(F12=H12+I12+J12,"-","ERROR") -> - | S12: =IF(AND(K12="▲",L12=$S$4),D12,0) -> 0 | T12: =IF(AND(K12="▼",L12=$T$4),D12,0) -> 0 | U12: =IF(M12=$U$4,D12,0) -> 0
C13: 9 | D13: Stéphane | E13: =IF(F13>4,H13/F13,"Play again") -> 0.28571429 | F13: =J13+I13+H13 -> 7 | G13: =HLOOKUP($D13,Résultat!$N$1:$AV$5,5,FALSE) -> 6 | H13: =HLOOKUP($D13,Résultat!$N$1:$AV$5,2,FALSE) -> 2 | I13: =HLOOKUP($D13,Résultat!$N$1:$AV$5,3,FALSE) -> 4 | J13: =HLOOKUP($D13,Résultat!$N$1:$AV$5,4,FALSE) -> 1 | K13: =IF((HLOOKUP($D13,Résultat!$N$1:$BW$8,6,FALSE)-HLOOKUP($D13,Résultat!$N$1:$BW$8,7,FALSE))>0,"▲","▼") -> ▼ | L13: =IF($E13="Play again","-",ABS((HLOOKUP(Clsst!$D13,Résultat!$N$1:$CO$8,6,FALSE))-(HLOOKUP(Clsst!$D13,Résultat!$N$1:$CO$8,7,FALSE)))) -> 1 | M13: =HLOOKUP($D13,Résultat!$N$1:$CH$8,8,FALSE) -> 2 | R13: =IF(F13=H13+I13+J13,"-","ERROR") -> - | S13: =IF(AND(K13="▲",L13=$S$4),D13,0) -> 0 | T13: =IF(AND(K13="▼",L13=$T$4),D13,0) -> 0 | U13: =IF(M13=$U$4,D13,0) -> 0
C14: 10 | D14: Rios | E14: =IF(F14>4,H14/F14,"Play again") -> 0.25 | F14: =J14+I14+H14 -> 12 | G14: =HLOOKUP($D14,Résultat!$N$1:$AV$5,5,FALSE) -> -19 | H14: =HLOOKUP($D14,Résultat!$N$1:$AV$5,2,FALSE) -> 3 | I14: =HLOOKUP($D14,Résultat!$N$1:$AV$5,3,FALSE) -> 7 | J14: =HLOOKUP($D14,Résultat!$N$1:$AV$5,4,FALSE) -> 2 | K14: =IF((HLOOKUP($D14,Résultat!$N$1:$BW$8,6,FALSE)-HLOOKUP($D14,Résultat!$N$1:$BW$8,7,FALSE))>0,"▲","▼") -> ▲ | L14: =IF($E14="Play again","-",ABS((HLOOKUP(Clsst!$D14,Résultat!$N$1:$CO$8,6,FALSE))-(HLOOKUP(Clsst!$D14,Résultat!$N$1:$CO$8,7,FALSE)))) -> 1 | M14: =HLOOKUP($D14,Résultat!$N$1:$CH$8,8,FALSE) -> 2 | R14: =IF(F14=H14+I14+J14,"-","ERROR") -> - | S14: =IF(AND(K14="▲",L14=$S$4),D14,0) -> 0 | T14: =IF(AND(K14="▼",L14=$T$4),D14,0) -> 0 | U14: =IF(M14=$U$4,D14,0) -> 0
C15: 11 | D15: Mehdi | E15: =IF(F15>4,H15/F15,"Play again") -> 0.2 | F15: =J15+I15+H15 -> 10 | G15: =HLOOKUP($D15,Résultat!$N$1:$AV$5,5,FALSE) -> -1 | H15: =HLOOKUP($D15,Résultat!$N$1:$AV$5,2,FALSE) -> 2 | I15: =HLOOKUP($D15,Résultat!$N$1:$AV$5,3,FALSE) -> 6 | J15: =HLOOKUP($D15,Résultat!$N$1:$AV$5,4,FALSE) -> 2 | K15: =IF((HLOOKUP($D15,Résultat!$N$1:$BW$8,6,FALSE)-HLOOKUP($D15,Résultat!$N$1:$BW$8,7,FALSE))>0,"▲","▼") -> ▲ | L15: =IF($E15="Play again","-",ABS((HLOOKUP(Clsst!$D15,Résultat!$N$1:$CO$8,6,FALSE))-(HLOOKUP(Clsst!$D15,Résultat!$N$1:$CO$8,7,FALSE)))) -> 1 | M15: =HLOOKUP($D15,Résultat!$N$1:$CH$8,8,FALSE) -> 1 | R15: =IF(F15=H15+I15+J15,"-","ERROR") -> - | S15: =IF(AND(K15="▲",L15=$S$4),D15,0) -> 0 | T15: =IF(AND(K15="▼",L15=$T$4),D15,0) -> 0 | U15: =IF(M15=$U$4,D15,0) -> 0
C16: 12 | D16: Klaim | E16: =IF(F16>4,H16/F16,"Play again") -> 0.083333333 | F16: =J16+I16+H16 -> 12 | G16: =HLOOKUP($D16,Résultat!$N$1:$AV$5,5,FALSE) -> -47 | H16: =HLOOKUP($D16,Résultat!$N$1:$AV$5,2,FALSE) -> 1 | I16: =HLOOKUP($D16,Résultat!$N$1:$AV$5,3,FALSE) -> 10 | J16: =HLOOKUP($D16,Résultat!$N$1:$AV$5,4,FALSE) -> 1 | K16: =IF((HLOOKUP($D16,Résultat!$N$1:$BW$8,6,FALSE)-HLOOKUP($D16,Résultat!$N$1:$BW$8,7,FALSE))>0,"▲","▼") -> ▼ | L16: =IF($E16="Play again","-",ABS((HLOOKUP(Clsst!$D16,Résultat!$N$1:$CO$8,6,FALSE))-(HLOOKUP(Clsst!$D16,Résultat!$N$1:$CO$8,7,FALSE)))) -> 1 | M16: =HLOOKUP($D16,Résultat!$N$1:$CH$8,8,FALSE) -> 1 | R16: =IF(F16=H16+I16+J16,"-","ERROR") -> - | S16: =IF(AND(K16="▲",L16=$S$4),D16,0) -> 0 | T16: =IF(AND(K16="▼",L16=$T$4),D16,0) -> 0 | U16: =IF(M16=$U$4,D16,0) -> 0
C17: 13 | D17: Harry | E17: =IF(F17>4,H17/F17,"Play again") -> Play again | F17: =J17+I17+H17 -> 4 | G17: =HLOOKUP($D17,Résultat!$N$1:$AV$5,5,FALSE) -> 16 | H17: =HLOOKUP($D17,Résultat!$N$1:$AV$5,2,FALSE) -> 3 | I17: =HLOOKUP($D17,Résultat!$N$1:$AV$5,3,FALSE) -> 1 | J17: =HLOOKUP($D17,Résultat!$N$1:$AV$5,4,FALSE) -> 0 | K17: =IF((HLOOKUP($D17,Résultat!$N$1:$BW$8,6,FALSE)-HLOOKUP($D17,Résultat!$N$1:$BW$8,7,FALSE))>0,"▲","▼") -> ▲ | L17: =IF($E17="Play again","-",ABS((HLOOKUP(Clsst!$D17,Résultat!$N$1:$CO$8,6,FALSE))-(HLOOKUP(Clsst!$D17,Résultat!$N$1:$CO$8,7,FALSE)))) -> - | M17: =HLOOKUP($D17,Résultat!$N$1:$CH$8,8,FALSE) -> 3 | R17: =IF(F17=H17+I17+J17,"-","ERROR") -> - | S17: =IF(AND(K17="▲",L17=$S$4),D17,0) -> 0 | T17: =IF(AND(K17="▼",L17=$T$4),D17,0) -> 0 | U17: =IF(M17=$U$4,D17,0) -> 0
C18: 14 | D18: Beber | E18: =IF(F18>3,H18/F18,"Play again") -> Play again | F18: =J18+I18+H18 -> 3 | G18: =HLOOKUP($D18,Résultat!$N$1:$AV$5,5,FALSE) -> 18 | H18: =HLOOKUP($D18,Résultat!$N$1:$AV$5,2,FALSE) -> 3 | I18: =HLOOKUP($D18,Résultat!$N$1:$AV$5,3,FALSE) -> 0 | J18: =HLOOKUP($D18,Résultat!$N$1:$AV$5,4,FALSE) -> 0 | K18: =IF((HLOOKUP($D18,Résultat!$N$1:$BW$8,6,FALSE)-HLOOKUP($D18,Résultat!$N$1:$BW$8,7,FALSE))>0,"▲","▼") -> ▲ | L18: =IF($E18="Play again","-",ABS((HLOOKUP(Clsst!$D18,Résultat!$N$1:$CO$8,6,FALSE))-(HLOOKUP(Clsst!$D18,Résultat!$N$1:$CO$8,7,FALSE)))) -> - | M18: =HLOOKUP($D18,Résultat!$N$1:$CH$8,8,FALSE) -> 3 | R18: =IF(F18=H18+I18+J18,"-","ERROR") -> - | S18: =IF(AND(K18="▲",L18=$S$4),D18,0) -> 0 | T18: =IF(AND(K18="▼",L18=$T$4),D18,0) -> 0 | U18: =IF(M18=$U$4,D18,0) -> 0
C19: 15 | D19: Rémi V | E19: =IF(F19>3,H19/F19,"Play again") -> Play again | F19: =J19+I19+H19 -> 2 | G19: =HLOOKUP($D19,Résultat!$N$1:$AV$5,5,FALSE) -> 2 | H19: =HLOOKUP($D19,Résultat!$N$1:$AV$5,2,FALSE) -> 1 | I19: =HLOOKUP($D19,Résultat!$N$1:$AV$5,3,FALSE) -> 0 | J19: =HLOOKUP($D19,Résultat!$N$1:$AV$5,4,FALSE) -> 1 | K19: =IF((HLOOKUP($D19,Résultat!$N$1:$BW$8,6,FALSE)-HLOOKUP($D19,Résultat!$N$1:$BW$8,7,FALSE))>0,"▲","▼") -> ▲ | L19: =IF($E19="Play again","-",ABS((HLOOKUP(Clsst!$D19,Résultat!$N$1:$CO$8,6,FALSE))-(HLOOKUP(Clsst!$D19,Résultat!$N$1:$CO$8,7,FALSE)))) -> - | M19: =HLOOKUP($D19,Résultat!$N$1:$CH$8,8,FALSE) -> 1 | R19: =IF(F19=H19+I19+J19,"-","ERROR") -> - | S19: =IF(AND(K19="▲",L19=$S$4),D19,0) -> 0 | T19: =IF(AND(K19="▼",L19=$T$4),D19,0) -> 0 | U19: =IF(M19=$U$4,D19,0) -> 0
C20: 16 | D20: Nabil | E20: =IF(F20>3,H20/F20,"Play again") -> Play again | F20: =J20+I20+H20 -> 2 | G20: =HLOOKUP($D20,Résultat!$N$1:$AV$5,5,FALSE) -> -2 | H20: =HLOOKUP($D20,Résultat!$N$1:$AV$5,2,FALSE) -> 0 | I20: =HLOOKUP($D20,Résultat!$N$1:$AV$5,3,FALSE) -> 1 | J20: =HLOOKUP($D20,Résultat!$N$1:$AV$5,4,FALSE) -> 1 | K20: =IF((HLOOKUP($D20,Résultat!$N$1:$BW$8,6,FALSE)-HLOOKUP($D20,Résultat!$N$1:$BW$8,7,FALSE))>0,"▲","▼") -> ▼ | L20: =IF($E20="Play again","-",ABS((HLOOKUP(Clsst!$D20,Résultat!$N$1:$CO$8,6,FALSE))-(HLOOKUP(Clsst!$D20,Résultat!$N$1:$CO$8,7,FALSE)))) -> - | M20: =HLOOKUP($D20,Résultat!$N$1:$CH$8,8,FALSE) -> 0 | R20: =IF(F20=H20+I20+J20,"-","ERROR") -> - | S20: =IF(AND(K20="▲",L20=$S$4),D20,0) -> 0 | T20: =IF(AND(K20="▼",L20=$T$4),D20,0) -> 0 | U20: =IF(M20=$U$4,D20,0) -> 0
C21: 17 | D21: Arti | E21: =IF(F21>3,H21/F21,"Play again") -> Play again | F21: =J21+I21+H21 -> 1 | G21: =HLOOKUP($D21,Résultat!$N$1:$AV$5,5,FALSE) -> 2 | H21: =HLOOKUP($D21,Résultat!$N$1:$AV$5,2,FALSE) -> 1 | I21: =HLOOKUP($D21,Résultat!$N$1:$AV$5,3,FALSE) -> 0 | J21: =HLOOKUP($D21,Résultat!$N$1:$AV$5,4,FALSE) -> 0 | K21: =IF((HLOOKUP($D21,Résultat!$N$1:$BW$8,6,FALSE)-HLOOKUP($D21,Résultat!$N$1:$BW$8,7,FALSE))>0,"▲","▼") -> ▲ | L21: =IF($E21="Play again","-",ABS((HLOOKUP(Clsst!$D21,Résultat!$N$1:$CO$8,6,FALSE))-(HLOOKUP(Clsst!$D21,Résultat!$N$1:$CO$8,7,FALSE)))) -> - | M21: =HLOOKUP($D21,Résultat!$N$1:$CH$8,8,FALSE) -> 1 | R21: =IF(F21=H21+I21+J21,"-","ERROR") -> - | S21: =IF(AND(K21="▲",L21=$S$4),D21,0) -> 0 | T21: =IF(AND(K21="▼",L21=$T$4),D21,0) -> 0 | U21: =IF(M21=$U$4,D21,0) -> 0
C22: 18 | D22: Roland | E22: =IF(F22>3,H22/F22,"Play again") -> Play again | F22: =J22+I22+H22 -> 1 | G22: =HLOOKUP($D22,Résultat!$N$1:$AV$5,5,FALSE) -> 4 | H22: =HLOOKUP($D22,Résultat!$N$1:$AV$5,2,FALSE) -> 1 | I22: =HLOOKUP($D22,Résultat!$N$1:$AV$5,3,FALSE) -> 0 | J22: =HLOOKUP($D22,Résultat!$N$1:$AV$5,4,FALSE) -> 0 | K22: =IF((HLOOKUP($D22,Résultat!$N$1:$BW$8,6,FALSE)-HLOOKUP($D22,Résultat!$N$1:$BW$8,7,FALSE))>0,"▲","▼") -> ▲ | L22: =IF($E22="Play again","-",ABS((HLOOKUP(Clsst!$D22,Résultat!$N$1:$CO$8,6,FALSE))-(HLOOKUP(Clsst!$D22,Résultat!$N$1:$CO$8,7,FALSE)))) -> - | M22: =HLOOKUP($D22,Résultat!$N$1:$CH$8,8,FALSE) -> 1 | R22: =IF(F22=H22+I22+J22,"-","ERROR") -> - | S22: =IF(AND(K22="▲",L22=$S$4),D22,0) -> 0 | T22: =IF(AND(K22="▼",L22=$T$4),D22,0) -> 0 | U22: =IF(M22=$U$4,D22,0) -> 0
I24: - Série victoire : | K24: Time | M24: ▲ | N24: =VLOOKUP(K24,D4:N22,9,FALSE) -> 3
C25: - Comments : | I25: - Série défaite : | K25: Ben | M25: ▼ | N25: =VLOOKUP(K25,D4:N22,9,FALSE) -> 3
I27: - Recordman vict. : | K27: Ben | M27: +▲ | N27: =VLOOKUP(K27,D4:N22,10,FALSE) -> 5
I28: d'affilée
Q31: olivier | R31: Benoit
Q32: 2 | R32: 1
Q35: 4 | R35: 3

Sheet Résultat
A1: RESULTATS | N1: Gui | P1: Rios | R1: Time | T1: Ben | V1: Mehdi | X1: Stéphane | Z1: Harry | AB1: Beber | AD1: Klaim | AF1: Maxou | AH1: Olivier | AJ1: Romain | AL1: Rémi V | AN1: Rémi C | AP1: Paulo | AR1: Arti | AT1: Roland | AV1: Nabil
M2: V | N2: =COUNTIF(N$9:N$2047,"v") -> 6 | P2: =COUNTIF(P$9:P$2047,"v") -> 3 | R2: =COUNTIF(R$9:R$2047,"v") -> 4 | T2: =COUNTIF(T$9:T$2047,"v") -> 5 | V2: =COUNTIF(V$9:V$2047,"v") -> 2 | X2: =COUNTIF(X$9:X$2047,"v") -> 2 | Z2: =COUNTIF(Z$9:Z$2047,"v") -> 3 | AB2: =COUNTIF(AB$9:AB$2047,"v") -> 3 | AD2: =COUNTIF(AD$9:AD$2047,"v") -> 1 | AF2: =COUNTIF(AF$9:AF$2047,"v") -> 3 | AH2: =COUNTIF(AH$9:AH$2047,"v") -> 4 | AJ2: =COUNTIF(AJ$9:AJ$2047,"v") -> 2 | AL2: =COUNTIF(AL$9:AL$2047,"v") -> 1 | AN2: =COUNTIF(AN$9:AN$2047,"v") -> 5 | AP2: =COUNTIF(AP$9:AP$2047,"v") -> 3 | AR2: =COUNTIF(AR$9:AR$2047,"v") -> 1 | AT2: =COUNTIF(AT$9:AT$2047,"v") -> 1 | AV2: =COUNTIF(AV$9:AV$2047,"v") -> 0
M3: D | N3: =COUNTIF(N$9:N$2051,"d") -> 6 | P3: =COUNTIF(P$9:P$2051,"d") -> 7 | R3: =COUNTIF(R$9:R$2051,"d") -> 2 | T3: =COUNTIF(T$9:T$2051,"d") -> 3 | V3: =COUNTIF(V$9:V$2051,"d") -> 6 | X3: =COUNTIF(X$9:X$2051,"d") -> 4 | Z3: =COUNTIF(Z$9:Z$2051,"d") -> 1 | AB3: =COUNTIF(AB$9:AB$2051,"d") -> 0 | AD3: =COUNTIF(AD$9:AD$2051,"d") -> 10 | AF3: =COUNTIF(AF$9:AF$2051,"d") -> 5 | AH3: =COUNTIF(AH$9:AH$2051,"d") -> 2 | AJ3: =COUNTIF(AJ$9:AJ$2051,"d") -> 1 | AL3: =COUNTIF(AL$9:AL$2051,"d") -> 0 | AN3: =COUNTIF(AN$9:AN$2051,"d") -> 4 | AP3: =COUNTIF(AP$9:AP$2051,"d") -> 1 | AR3: =COUNTIF(AR$9:AR$2051,"d") -> 0 | AT3: =COUNTIF(AT$9:AT$2051,"d") -> 0 | AV3: =COUNTIF(AV$9:AV$2051,"d") -> 1
M4: N | N4: =COUNTIF(N$9:N$2051,"n") -> 2 | P4: =COUNTIF(P$9:P$2051,"n") -> 2 | R4: =COUNTIF(R$9:R$2051,"n") -> 1 | T4: =COUNTIF(T$9:T$2051,"n") -> 2 | V4: =COUNTIF(V$9:V$2051,"n") -> 2 | X4: =COUNTIF(X$9:X$2051,"n") -> 1 | Z4: =COUNTIF(Z$9:Z$2051,"n") -> 0 | AB4: =COUNTIF(AB$9:AB$2051,"n") -> 0 | AD4: =COUNTIF(AD$9:AD$2051,"n") -> 1 | AF4: =COUNTIF(AF$9:AF$2051,"n") -> 2 | AH4: =COUNTIF(AH$9:AH$2051,"n") -> 1 | AJ4: =COUNTIF(AJ$9:AJ$2051,"n") -> 1 | AL4: =COUNTIF(AL$9:AL$2051,"n") -> 1 | AN4: =COUNTIF(AN$9:AN$2051,"n") -> 1 | AP4: =COUNTIF(AP$9:AP$2051,"n") -> 1 | AR4: =COUNTIF(AR$9:AR$2051,"n") -> 0 | AT4: =COUNTIF(AT$9:AT$2051,"n") -> 0 | AV4: =COUNTIF(AV$9:AV$2051,"n") -> 1
M5: Diff. | N5: =SUM(N9:N2067) -> -17 | P5: =SUM(P9:P2067) -> -19 | R5: =SUM(R9:R2067) -> 17 | T5: =SUM(T9:T2067) -> 4 | V5: =SUM(V9:V2067) -> -1 | X5: =SUM(X9:X2067) -> 6 | Z5: =SUM(Z9:Z2067) -> 16 | AB5: =SUM(AB9:AB2067) -> 18 | AD5: =SUM(AD9:AD2067) -> -47 | AF5: =SUM(AF9:AF2067) -> -11 | AH5: =SUM(AH9:AH2067) -> 11 | AJ5: =SUM(AJ9:AJ2067) -> 13 | AL5: =SUM(AL9:AL2067) -> 2 | AN5: =SUM(AN9:AN2067) -> -2 | AP5: =SUM(AP9:AP2067) -> -2 | AR5: =SUM(AR9:AR2067) -> 2 | AT5: =SUM(AT9:AT2067) -> 4 | AV5: =SUM(AV9:AV2067) -> -2
M6: ▲ | N6: =IF(N3=0,COUNTIF(N$9:N$200018,"v"),COUNTIF(OFFSET(N9,0,0,MATCH("d",N$9:N$250018,0)-1),"v")) -> 1 | P6: =IF(P3=0,COUNTIF(P$9:P$200018,"v"),COUNTIF(OFFSET(P9,0,0,MATCH("d",P$9:P$250018,0)-1),"v")) -> 1 | R6: =IF(R3=0,COUNTIF(R$9:R$200018,"v"),COUNTIF(OFFSET(R9,0,0,MATCH("d",R$9:R$250018,0)-1),"v")) -> 3 | T6: =IF(T3=0,COUNTIF(T$9:T$200018,"v"),COUNTIF(OFFSET(T9,0,0,MATCH("d",T$9:T$250018,0)-1),"v")) -> 0 | V6: =IF(V3=0,COUNTIF(V$9:V$200018,"v"),COUNTIF(OFFSET(V9,0,0,MATCH("d",V$9:V$250018,0)-1),"v")) -> 1 | X6: =IF(X3=0,COUNTIF(X$9:X$200018,"v"),COUNTIF(OFFSET(X9,0,0,MATCH("d",X$9:X$250018,0)-1),"v")) -> 0 | Z6: =IF(Z3=0,COUNTIF(Z$9:Z$200018,"v"),COUNTIF(OFFSET(Z9,0,0,MATCH("d",Z$9:Z$250018,0)-1),"v")) -> 3 | AB6: =IF(AB3=0,COUNTIF(AB$9:AB$200018,"v"),COUNTIF(OFFSET(AB9,0,0,MATCH("d",AB$9:AB$250018,0)-1),"v")) -> 3 | AD6: =IF(AD3=0,COUNTIF(AD$9:AD$200018,"v"),COUNTIF(OFFSET(AD9,0,0,MATCH("d",AD$9:AD$250018,0)-1),"v")) -> 0 | AF6: =IF(AF3=0,COUNTIF(AF$9:AF$200018,"v"),COUNTIF(OFFSET(AF9,0,0,MATCH("d",AF$9:AF$250018,0)-1),"v")) -> 1 | AH6: =IF(AH3=0,COUNTIF(AH$9:AH$200018,"v"),COUNTIF(OFFSET(AH9,0,0,MATCH("d",AH$9:AH$250018,0)-1),"v")) -> 0 | AJ6: =IF(AJ3=0,COUNTIF(AJ$9:AJ$200018,"v"),COUNTIF(OFFSET(AJ9,0,0,MATCH("d",AJ$9:AJ$250018,0)-1),"v")) -> 2 | AL6: =IF(AL3=0,COUNTIF(AL$9:AL$200018,"v"),COUNTIF(OFFSET(AL9,0,0,MATCH("d",AL$9:AL$250018,0)-1),"v")) -> 1 | AN6: =IF(AN3=0,COUNTIF(AN$9:AN$200018,"v"),COUNTIF(OFFSET(AN9,0,0,MATCH("d",AN$9:AN$250018,0)-1),"v")) -> 0 | AP6: =IF(AP3=0,COUNTIF(AP$9:AP$200018,"v"),COUNTIF(OFFSET(AP9,0,0,MATCH("d",AP$9:AP$250018,0)-1),"v")) -> 2 | AR6: =IF(AR3=0,COUNTIF(AR$9:AR$200018,"v"),COUNTIF(OFFSET(AR9,0,0,MATCH("d",AR$9:AR$250018,0)-1),"v")) -> 1 | AT6: =IF(AT3=0,COUNTIF(AT$9:AT$200018,"v"),COUNTIF(OFFSET(AT9,0,0,MATCH("d",AT$9:AT$250018,0)-1),"v")) -> 1 | AV6: =IF(AV3=0,COUNTIF(AV$9:AV$200018,"v"),COUNTIF(OFFSET(AV9,0,0,MATCH("d",AV$9:AV$250018,0)-1),"v")) -> 0
M7: ▼ | N7: =IF(N2=0,COUNTIF(N$9:N$200018,"d"),COUNTIF(OFFSET(N9,0,0,MATCH("v",N$9:N$250018,0)-1),"d")) -> 0 | P7: =IF(P2=0,COUNTIF(P$9:P$200018,"d"),COUNTIF(OFFSET(P9,0,0,MATCH("v",P$9:P$250018,0)-1),"d")) -> 0 | R7: =IF(R2=0,COUNTIF(R$9:R$200018,"d"),COUNTIF(OFFSET(R9,0,0,MATCH("v",R$9:R$250018,0)-1),"d")) -> 0 | T7: =IF(T2=0,COUNTIF(T$9:T$200018,"d"),COUNTIF(OFFSET(T9,0,0,MATCH("v",T$9:T$250018,0)-1),"d")) -> 3 | V7: =IF(V2=0,COUNTIF(V$9:V$200018,"d"),COUNTIF(OFFSET(V9,0,0,MATCH("v",V$9:V$250018,0)-1),"d")) -> 0 | X7: =IF(X2=0,COUNTIF(X$9:X$200018,"d"),COUNTIF(OFFSET(X9,0,0,MATCH("v",X$9:X$250018,0)-1),"d")) -> 1 | Z7: =IF(Z2=0,COUNTIF(Z$9:Z$200018,"d"),COUNTIF(OFFSET(Z9,0,0,MATCH("v",Z$9:Z$250018,0)-1),"d")) -> 0 | AB7: =IF(AB2=0,COUNTIF(AB$9:AB$200018,"d"),COUNTIF(OFFSET(AB9,0,0,MATCH("v",AB$9:AB$250018,0)-1),"d")) -> 0 | AD7: =IF(AD2=0,COUNTIF(AD$9:AD$200018,"d"),COUNTIF(OFFSET(AD9,0,0,MATCH("v",AD$9:AD$250018,0)-1),"d")) -> 1 | AF7: =IF(AF2=0,COUNTIF(AF$9:AF$200018,"d"),COUNTIF(OFFSET(AF9,0,0,MATCH("v",AF$9:AF$250018,0)-1),"d")) -> 0 | AH7: =IF(AH2=0,COUNTIF(AH$9:AH$200018,"d"),COUNTIF(OFFSET(AH9,0,0,MATCH("v",AH$9:AH$250018,0)-1),"d")) -> 1 | AJ7: =IF(AJ2=0,COUNTIF(AJ$9:AJ$200018,"d"),COUNTIF(OFFSET(AJ9,0,0,MATCH("v",AJ$9:AJ$250018,0)-1),"d")) -> 0 | AL7: =IF(AL2=0,COUNTIF(AL$9:AL$200018,"d"),COUNTIF(OFFSET(AL9,0,0,MATCH("v",AL$9:AL$250018,0)-1),"d")) -> 0 | AN7: =IF(AN2=0,COUNTIF(AN$9:AN$200018,"d"),COUNTIF(OFFSET(AN9,0,0,MATCH("v",AN$9:AN$250018,0)-1),"d")) -> 1 | AP7: =IF(AP2=0,COUNTIF(AP$9:AP$200018,"d"),COUNTIF(OFFSET(AP9,0,0,MATCH("v",AP$9:AP$250018,0)-1),"d")) -> 0 | AR7: =IF(AR2=0,COUNTIF(AR$9:AR$200018,"d"),COUNTIF(OFFSET(AR9,0,0,MATCH("v",AR$9:AR$250018,0)-1),"d")) -> 0 | AT7: =IF(AT2=0,COUNTIF(AT$9:AT$200018,"d"),COUNTIF(OFFSET(AT9,0,0,MATCH("v",AT$9:AT$250018,0)-1),"d")) -> 0 | AV7: =IF(AV2=0,COUNTIF(AV$9:AV$200018,"d"),COUNTIF(OFFSET(AV9,0,0,MATCH("v",AV$9:AV$250018,0)-1),"d")) -> 1
M8: +▲ | N8: =MAX(O$9:O$250018) -> 1 | P8: =MAX(Q$9:Q$250018) -> 2 | R8: =MAX(S$9:S$250018) -> 3 | T8: =MAX(U$9:U$250018) -> 5 | V8: =MAX(W$9:W$250018) -> 1 | X8: =MAX(Y$9:Y$250018) -> 2 | Z8: =MAX(AA$9:AA$250018) -> 3 | AB8: =MAX(AC$9:AC$250018) -> 3 | AD8: =MAX(AE$9:AE$250018) -> 1 | AF8: =MAX(AG$9:AG$250018) -> 1 | AH8: =MAX(AI$9:AI$250018) -> 4 | AJ8: =MAX(AK$9:AK$250018) -> 2 | AL8: =MAX(AM$9:AM$250018) -> 1 | AN8: =MAX(AO$9:AO$250018) -> 2 | AP8: =MAX(AQ$9:AQ$250018) -> 2 | AR8: =MAX(AS$9:AS$250018) -> 1 | AT8: =MAX(AU$9:AU$250018) -> 1 | AV8: =MAX(AW$9:AW$250018) -> 0
B11: 42120 | O11: =IF(N11="v",1+O12,IF(N11="d",0,O12)) -> 1 | Q11: =IF(P11="v",1+Q12,IF(P11="d",0,Q12)) -> 1 | S11: =IF(R11="v",1+S12,IF(R11="d",0,S12)) -> 3 | U11: =IF(T11="v",1+U12,IF(T11="d",0,U12)) -> 0 | W11: =IF(V11="v",1+W12,IF(V11="d",0,W12)) -> 1 | Y11: =IF(X11="v",1+Y12,IF(X11="d",0,Y12)) -> 0 | AA11: =IF(Z11="v",1+AA12,IF(Z11="d",0,AA12)) -> 3 | AC11: =IF(AB11="v",1+AC12,IF(AB11="d",0,AC12)) -> 3 | AE11: =IF(AD11="v",1+AE12,IF(AD11="d",0,AE12)) -> 0 | AG11: =IF(AF11="v",1+AG12,IF(AF11="d",0,AG12)) -> 1 | AI11: =IF(AH11="v",1+AI12,IF(AH11="d",0,AI12)) -> 0 | AK11: =IF(AJ11="v",1+AK12,IF(AJ11="d",0,AK12)) -> 2 | AM11: =IF(AL11="v",1+AM12,IF(AL11="d",0,AM12)) -> 1 | AO11: =IF(AN11="v",1+AO12,IF(AN11="d",0,AO12)) -> 0 | AQ11: =IF(AP11="v",1+AQ12,IF(AP11="d",0,AQ12)) -> 2 | AS11: =IF(AR11="v",1+AS12,IF(AR11="d",0,AS12)) -> 1 | AU11: =IF(AT11="v",1+AU12,IF(AT11="d",0,AU12)) -> 1 | AW11: =IF(AV11="v",1+AW12,IF(AV11="d",0,AW12)) -> 0
C12: T1 | E12: T2 | O12: =IF(N12="v",1+O13,IF(N12="d",0,O13)) -> 1 | Q12: =IF(P12="v",1+Q13,IF(P12="d",0,Q13)) -> 1 | S12: =IF(R12="v",1+S13,IF(R12="d",0,S13)) -> 3 | U12: =IF(T12="v",1+U13,IF(T12="d",0,U13)) -> 0 | W12: =IF(V12="v",1+W13,IF(V12="d",0,W13)) -> 1 | Y12: =IF(X12="v",1+Y13,IF(X12="d",0,Y13)) -> 0 | AA12: =IF(Z12="v",1+AA13,IF(Z12="d",0,AA13)) -> 3 | AC12: =IF(AB12="v",1+AC13,IF(AB12="d",0,AC13)) -> 3 | AE12: =IF(AD12="v",1+AE13,IF(AD12="d",0,AE13)) -> 0 | AG12: =IF(AF12="v",1+AG13,IF(AF12="d",0,AG13)) -> 1 | AI12: =IF(AH12="v",1+AI13,IF(AH12="d",0,AI13)) -> 0 | AK12: =IF(AJ12="v",1+AK13,IF(AJ12="d",0,AK13)) -> 2 | AM12: =IF(AL12="v",1+AM13,IF(AL12="d",0,AM13)) -> 1 | AO12: =IF(AN12="v",1+AO13,IF(AN12="d",0,AO13)) -> 0 | AQ12: =IF(AP12="v",1+AQ13,IF(AP12="d",0,AQ13)) -> 2 | AS12: =IF(AR12="v",1+AS13,IF(AR12="d",0,AS13)) -> 1 | AU12: =IF(AT12="v",1+AU13,IF(AT12="d",0,AU13)) -> 1 | AW12: =IF(AV12="v",1+AW13,IF(AV12="d",0,AW13)) -> 0
C13: Gui | D13: =IF(C18=E18,"n",IF(C18>E18,"v","d")) -> n | E13: =IF(C18=E18,"n",IF(C18<E18,"v","d")) -> n | F13: Olivier | N13: =IF(C13=$N$1,D13,IF(F13=$N$1,E13,"-")) -> n | O13: =IF(N13="v",1+O14,IF(N13="d",0,O14)) -> 1 | P13: =IF($C13=$P$1,$D13,IF($F13=$P$1,$E13,"-")) -> - | Q13: =IF(P13="v",1+Q14,IF(P13="d",0,Q14)) -> 1 | R13: =IF($C13=R$1,$D13,IF($F13=R$1,$E13,"-")) -> - | S13: =IF(R13="v",1+S14,IF(R13="d",0,S14)) -> 3 | T13: =IF($C13=T$1,$D13,IF($F13=T$1,$E13,"-")) -> - | U13: =IF(T13="v",1+U14,IF(T13="d",0,U14)) -> 0 | V13: =IF($C13=V$1,$D13,IF($F13=V$1,$E13,"-")) -> - | W13: =IF(V13="v",1+W14,IF(V13="d",0,W14)) -> 1 | X13: =IF($C13=X$1,$D13,IF($F13=X$1,$E13,"-")) -> - | Y13: =IF(X13="v",1+Y14,IF(X13="d",0,Y14)) -> 0 | Z13: =IF($C13=Z$1,$D13,IF($F13=Z$1,$E13,"-")) -> - | AA13: =IF(Z13="v",1+AA14,IF(Z13="d",0,AA14)) -> 3 | AB13: =IF($C13=AB$1,$D13,IF($F13=AB$1,$E13,"-")) -> - | AC13: =IF(AB13="v",1+AC14,IF(AB13="d",0,AC14)) -> 3 | AD13: =IF($C13=AD$1,$D13,IF($F13=AD$1,$E13,"-")) -> - | AE13: =IF(AD13="v",1+AE14,IF(AD13="d",0,AE14)) -> 0 | AF13: =IF($C13=AF$1,$D13,IF($F13=AF$1,$E13,"-")) -> - | AG13: =IF(AF13="v",1+AG14,IF(AF13="d",0,AG14)) -> 1 | AH13: =IF($C13=AH$1,$D13,IF($F13=AH$1,$E13,"-")) -> n | AI13: =IF(AH13="v",1+AI14,IF(AH13="d",0,AI14)) -> 0 | AJ13: =IF($C13=AJ$1,$D13,IF($F13=AJ$1,$E13,"-")) -> - | AK13: =IF(AJ13="v",1+AK14,IF(AJ13="d",0,AK14)) -> 2 | AL13: =IF($C13=AL$1,$D13,IF($F13=AL$1,$E13,"-")) -> - | AM13: =IF(AL13="v",1+AM14,IF(AL13="d",0,AM14)) -> 1 | AN13: =IF($C13=AN$1,$D13,IF($F13=AN$1,$E13,"-")) -> - | AO13: =IF(AN13="v",1+AO14,IF(AN13="d",0,AO14)) -> 0 | AP13: =IF($C13=AP$1,$D13,IF($F13=AP$1,$E13,"-")) -> - | AQ13: =IF(AP13="v",1+AQ14,IF(AP13="d",0,AQ14)) -> 2 | AR13: =IF($C13=AR$1,$D13,IF($F13=AR$1,$E13,"-")) -> - | AS13: =IF(AR13="v",1+AS14,IF(AR13="d",0,AS14)) -> 1 | AT13: =IF($C13=AT$1,$D13,IF($F13=AT$1,$E13,"-")) -> - | AU13: =IF(AT13="v",1+AU14,IF(AT13="d",0,AU14)) -> 1 | AV13: =IF($C13=AV$1,$D13,IF($F13=AV$1,$E13,"-")) -> - | AW13: =IF(AV13="v",1+AW14,IF(AV13="d",0,AW14)) -> 0
C14: Rios | D14: =IF(C18=E18,"n",IF(C18>E18,"v","d")) -> n | E14: =IF(C18=E18,"n",IF(C18<E18,"v","d")) -> n | F14: Stéphane | N14: =IF(C14=$N$1,D14,IF(F14=$N$1,E14,"-")) -> - | O14: =IF(N14="v",1+O15,IF(N14="d",0,O15)) -> 1 | P14: =IF(C14=$P$1,D14,IF(F14=$P$1,E14,"-")) -> n | Q14: =IF(P14="v",1+Q15,IF(P14="d",0,Q15)) -> 1 | R14: =IF($C14=R$1,$D14,IF($F14=R$1,$E14,"-")) -> - | S14: =IF(R14="v",1+S15,IF(R14="d",0,S15)) -> 3 | T14: =IF($C14=T$1,$D14,IF($F14=T$1,$E14,"-")) -> - | U14: =IF(T14="v",1+U15,IF(T14="d",0,U15)) -> 0 | V14: =IF($C14=V$1,$D14,IF($F14=V$1,$E14,"-")) -> - | W14: =IF(V14="v",1+W15,IF(V14="d",0,W15)) -> 1 | X14: =IF($C14=X$1,$D14,IF($F14=X$1,$E14,"-")) -> n | Y14: =IF(X14="v",1+Y15,IF(X14="d",0,Y15)) -> 0 | Z14: =IF($C14=Z$1,$D14,IF($F14=Z$1,$E14,"-")) -> - | AA14: =IF(Z14="v",1+AA15,IF(Z14="d",0,AA15)) -> 3 | AB14: =IF($C14=AB$1,$D14,IF($F14=AB$1,$E14,"-")) -> - | AC14: =IF(AB14="v",1+AC15,IF(AB14="d",0,AC15)) -> 3 | AD14: =IF($C14=AD$1,$D14,IF($F14=AD$1,$E14,"-")) -> - | AE14: =IF(AD14="v",1+AE15,IF(AD14="d",0,AE15)) -> 0 | AF14: =IF($C14=AF$1,$D14,IF($F14=AF$1,$E14,"-")) -> - | AG14: =IF(AF14="v",1+AG15,IF(AF14="d",0,AG15)) -> 1 | AH14: =IF($C14=AH$1,$D14,IF($F14=AH$1,$E14,"-")) -> - | AI14: =IF(AH14="v",1+AI15,IF(AH14="d",0,AI15)) -> 0 | AJ14: =IF($C14=AJ$1,$D14,IF($F14=AJ$1,$E14,"-")) -> - | AK14: =IF(AJ14="v",1+AK15,IF(AJ14="d",0,AK15)) -> 2 | AL14: =IF($C14=AL$1,$D14,IF($F14=AL$1,$E14,"-")) -> - | AM14: =IF(AL14="v",1+AM15,IF(AL14="d",0,AM15)) -> 1 | AN14: =IF($C14=AN$1,$D14,IF($F14=AN$1,$E14,"-")) -> - | AO14: =IF(AN14="v",1+AO15,IF(AN14="d",0,AO15)) -> 0 | AP14: =IF($C14=AP$1,$D14,IF($F14=AP$1,$E14,"-")) -> - | AQ14: =IF(AP14="v",1+AQ15,IF(AP14="d",0,AQ15)) -> 2 | AR14: =IF($C14=AR$1,$D14,IF($F14=AR$1,$E14,"-")) -> - | AS14: =IF(AR14="v",1+AS15,IF(AR14="d",0,AS15)) -> 1 | AT14: =IF($C14=AT$1,$D14,IF($F14=AT$1,$E14,"-")) -> - | AU14: =IF(AT14="v",1+AU15,IF(AT14="d",0,AU15)) -> 1 | AV14: =IF($C14=AV$1,$D14,IF($F14=AV$1,$E14,"-")) -> - | AW14: =IF(AV14="v",1+AW15,IF(AV14="d",0,AW15)) -> 0
C15: Ben | D15: =IF(C18=E18,"n",IF(C18>E18,"v","d")) -> n | E15: =IF(C18=E18,"n",IF(C18<E18,"v","d")) -> n | F15: Mehdi | N15: =IF(C15=$N$1,D15,IF(F15=$N$1,E15,"-")) -> - | O15: =IF(N15="v",1+O16,IF(N15="d",0,O16)) -> 1 | P15: =IF(C15=$P$1,D15,IF(F15=$P$1,E15,"-")) -> - | Q15: =IF(P15="v",1+Q16,IF(P15="d",0,Q16)) -> 1 | R15: =IF($C15=R$1,$D15,IF($F15=R$1,$E15,"-")) -> - | S15: =IF(R15="v",1+S16,IF(R15="d",0,S16)) -> 3 | T15: =IF($C15=T$1,$D15,IF($F15=T$1,$E15,"-")) -> n | U15: =IF(T15="v",1+U16,IF(T15="d",0,U16)) -> 0 | V15: =IF($C15=V$1,$D15,IF($F15=V$1,$E15,"-")) -> n | W15: =IF(V15="v",1+W16,IF(V15="d",0,W16)) -> 1 | X15: =IF($C15=X$1,$D15,IF($F15=X$1,$E15,"-")) -> - | Y15: =IF(X15="v",1+Y16,IF(X15="d",0,Y16)) -> 0 | Z15: =IF($C15=Z$1,$D15,IF($F15=Z$1,$E15,"-")) -> - | AA15: =IF(Z15="v",1+AA16,IF(Z15="d",0,AA16)) -> 3 | AB15: =IF($C15=AB$1,$D15,IF($F15=AB$1,$E15,"-")) -> - | AC15: =IF(AB15="v",1+AC16,IF(AB15="d",0,AC16)) -> 3 | AD15: =IF($C15=AD$1,$D15,IF($F15=AD$1,$E15,"-")) -> - | AE15: =IF(AD15="v",1+AE16,IF(AD15="d",0,AE16)) -> 0 | AF15: =IF($C15=AF$1,$D15,IF($F15=AF$1,$E15,"-")) -> - | AG15: =IF(AF15="v",1+AG16,IF(AF15="d",0,AG16)) -> 1 | AH15: =IF($C15=AH$1,$D15,IF($F15=AH$1,$E15,"-")) -> - | AI15: =IF(AH15="v",1+AI16,IF(AH15="d",0,AI16)) -> 0 | AJ15: =IF($C15=AJ$1,$D15,IF($F15=AJ$1,$E15,"-")) -> - | AK15: =IF(AJ15="v",1+AK16,IF(AJ15="d",0,AK16)) -> 2 | AL15: =IF($C15=AL$1,$D15,IF($F15=AL$1,$E15,"-")) -> - | AM15: =IF(AL15="v",1+AM16,IF(AL15="d",0,AM16)) -> 1 | AN15: =IF($C15=AN$1,$D15,IF($F15=AN$1,$E15,"-")) -> - | AO15: =IF(AN15="v",1+AO16,IF(AN15="d",0,AO16)) -> 0 | AP15: =IF($C15=AP$1,$D15,IF($F15=AP$1,$E15,"-")) -> - | AQ15: =IF(AP15="v",1+AQ16,IF(AP15="d",0,AQ16)) -> 2 | AR15: =IF($C15=AR$1,$D15,IF($F15=AR$1,$E15,"-")) -> - | AS15: =IF(AR15="v",1+AS16,IF(AR15="d",0,AS16)) -> 1 | AT15: =IF($C15=AT$1,$D15,IF($F15=AT$1,$E15,"-")) -> - | AU15: =IF(AT15="v",1+AU16,IF(AT15="d",0,AU16)) -> 1 | AV15: =IF($C15=AV$1,$D15,IF($F15=AV$1,$E15,"-")) -> - | AW15: =IF(AV15="v",1+AW16,IF(AV15="d",0,AW16)) -> 0
C16: Paulo | D16: =IF(C18=E18,"n",IF(C18>E18,"v","d")) -> n | E16: =IF(C18=E18,"n",IF(C18<E18,"v","d")) -> n | F16: Maxou | N16: =IF(C16=$N$1,D16,IF(F16=$N$1,E16,"-")) -> - | O16: =IF(N16="v",1+O17,IF(N16="d",0,O17)) -> 1 | P16: =IF(C16=$P$1,D16,IF(F16=$P$1,E16,"-")) -> - | Q16: =IF(P16="v",1+Q17,IF(P16="d",0,Q17)) -> 1 | R16: =IF($C16=R$1,$D16,IF($F16=R$1,$E16,"-")) -> - | S16: =IF(R16="v",1+S17,IF(R16="d",0,S17)) -> 3 | T16: =IF($C16=T$1,$D16,IF($F16=T$1,$E16,"-")) -> - | U16: =IF(T16="v",1+U17,IF(T16="d",0,U17)) -> 0 | V16: =IF($C16=V$1,$D16,IF($F16=V$1,$E16,"-")) -> - | W16: =IF(V16="v",1+W17,IF(V16="d",0,W17)) -> 1 | X16: =IF($C16=X$1,$D16,IF($F16=X$1,$E16,"-")) -> - | Y16: =IF(X16="v",1+Y17,IF(X16="d",0,Y17)) -> 0 | Z16: =IF($C16=Z$1,$D16,IF($F16=Z$1,$E16,"-")) -> - | AA16: =IF(Z16="v",1+AA17,IF(Z16="d",0,AA17)) -> 3 | AB16: =IF($C16=AB$1,$D16,IF($F16=AB$1,$E16,"-")) -> - | AC16: =IF(AB16="v",1+AC17,IF(AB16="d",0,AC17)) -> 3 | AD16: =IF($C16=AD$1,$D16,IF($F16=AD$1,$E16,"-")) -> - | AE16: =IF(AD16="v",1+AE17,IF(AD16="d",0,AE17)) -> 0 | AF16: =IF($C16=AF$1,$D16,IF($F16=AF$1,$E16,"-")) -> n | AG16: =IF(AF16="v",1+AG17,IF(AF16="d",0,AG17)) -> 1 | AH16: =IF($C16=AH$1,$D16,IF($F16=AH$1,$E16,"-")) -> - | AI16: =IF(AH16="v",1+AI17,IF(AH16="d",0,AI17)) -> 0 | AJ16: =IF($C16=AJ$1,$D16,IF($F16=AJ$1,$E16,"-")) -> - | AK16: =IF(AJ16="v",1+AK17,IF(AJ16="d",0,AK17)) -> 2 | AL16: =IF($C16=AL$1,$D16,IF($F16=AL$1,$E16,"-")) -> - | AM16: =IF(AL16="v",1+AM17,IF(AL16="d",0,AM17)) -> 1 | AN16: =IF($C16=AN$1,$D16,IF($F16=AN$1,$E16,"-")) -> - | AO16: =IF(AN16="v",1+AO17,IF(AN16="d",0,AO17)) -> 0 | AP16: =IF($C16=AP$1,$D16,IF($F16=AP$1,$E16,"-")) -> n | AQ16: =IF(AP16="v",1+AQ17,IF(AP16="d",0,AQ17)) -> 2 | AR16: =IF($C16=AR$1,$D16,IF($F16=AR$1,$E16,"-")) -> - | AS16: =IF(AR16="v",1+AS17,IF(AR16="d",0,AS17)) -> 1 | AT16: =IF($C16=AT$1,$D16,IF($F16=AT$1,$E16,"-")) -> - | AU16: =IF(AT16="v",1+AU17,IF(AT16="d",0,AU17)) -> 1 | AV16: =IF($C16=AV$1,$D16,IF($F16=AV$1,$E16,"-")) -> - | AW16: =IF(AV16="v",1+AW17,IF(AV16="d",0,AW17)) -> 0
C17: Romain | D17: =IF(C18=E18,"n",IF(C18>E18,"v","d")) -> n | E17: =IF(C18=E18,"n",IF(C18<E18,"v","d")) -> n | F17: Bastien | N17: =IF(C17=$N$1,D17,IF(F17=$N$1,E17,"-")) -> - | O17: =IF(N17="v",1+O18,IF(N17="d",0,O18)) -> 1 | P17: =IF(C17=$P$1,D17,IF(F17=$P$1,E17,"-")) -> - | Q17: =IF(P17="v",1+Q18,IF(P17="d",0,Q18)) -> 1 | R17: =IF($C17=R$1,$D17,IF($F17=R$1,$E17,"-")) -> - | S17: =IF(R17="v",1+S18,IF(R17="d",0,S18)) -> 3 | T17: =IF($C17=T$1,$D17,IF($F17=T$1,$E17,"-")) -> - | U17: =IF(T17="v",1+U18,IF(T17="d",0,U18)) -> 0 | V17: =IF($C17=V$1,$D17,IF($F17=V$1,$E17,"-")) -> - | W17: =IF(V17="v",1+W18,IF(V17="d",0,W18)) -> 1 | X17: =IF($C17=X$1,$D17,IF($F17=X$1,$E17,"-")) -> - | Y17: =IF(X17="v",1+Y18,IF(X17="d",0,Y18)) -> 0 | Z17: =IF($C17=Z$1,$D17,IF($F17=Z$1,$E17,"-")) -> - | AA17: =IF(Z17="v",1+AA18,IF(Z17="d",0,AA18)) -> 3 | AB17: =IF($C17=AB$1,$D17,IF($F17=AB$1,$E17,"-")) -> - | AC17: =IF(AB17="v",1+AC18,IF(AB17="d",0,AC18)) -> 3 | AD17: =IF($C17=AD$1,$D17,IF($F17=AD$1,$E17,"-")) -> - | AE17: =IF(AD17="v",1+AE18,IF(AD17="d",0,AE18)) -> 0 | AF17: =IF($C17=AF$1,$D17,IF($F17=AF$1,$E17,"-")) -> - | AG17: =IF(AF17="v",1+AG18,IF(AF17="d",0,AG18)) -> 1 | AH17: =IF($C17=AH$1,$D17,IF($F17=AH$1,$E17,"-")) -> - | AI17: =IF(AH17="v",1+AI18,IF(AH17="d",0,AI18)) -> 0 | AJ17: =IF($C17=AJ$1,$D17,IF($F17=AJ$1,$E17,"-")) -> n | AK17: =IF(AJ17="v",1+AK18,IF(AJ17="d",0,AK18)) -> 2 | AL17: =IF($C17=AL$1,$D17,IF($F17=AL$1,$E17,"-")) -> - | AM17: =IF(AL17="v",1+AM18,IF(AL17="d",0,AM18)) -> 1 | AN17: =IF($C17=AN$1,$D17,IF($F17=AN$1,$E17,"-")) -> - | AO17: =IF(AN17="v",1+AO18,IF(AN17="d",0,AO18)) -> 0 | AP17: =IF($C17=AP$1,$D17,IF($F17=AP$1,$E17,"-")) -> - | AQ17: =IF(AP17="v",1+AQ18,IF(AP17="d",0,AQ18)) -> 2 | AR17: =IF($C17=AR$1,$D17,IF($F17=AR$1,$E17,"-")) -> - | AS17: =IF(AR17="v",1+AS18,IF(AR17="d",0,AS18)) -> 1 | AT17: =IF($C17=AT$1,$D17,IF($F17=AT$1,$E17,"-")) -> - | AU17: =IF(AT17="v",1+AU18,IF(AT17="d",0,AU18)) -> 1 | AV17: =IF($C17=AV$1,$D17,IF($F17=AV$1,$E17,"-")) -> - | AW17: =IF(AV17="v",1+AW18,IF(AV17="d",0,AW18)) -> 0
B18: SCORE | C18: 21 | E18: 21 | N18: =IF((COUNTIF(N13:N17,"d")=1),-ABS($C18-$E18),IF((COUNTIF(N13:N17,"v")=1),ABS($C18-$E18),0)) -> 0 | O18: =IF(N18="v",1+O19,IF(N18="d",0,O19)) -> 1 | P18: =IF((COUNTIF(P13:P17,"d")=1),-ABS($C18-$E18),IF((COUNTIF(P13:P17,"v")=1),ABS($C18-$E18),0)) -> 0 | Q18: =IF(P18="v",1+Q19,IF(P18="d",0,Q19)) -> 1 | R18: =IF((COUNTIF(R13:R17,"d")=1),-ABS($C18-$E18),IF((COUNTIF(R13:R17,"v")=1),ABS($C18-$E18),0)) -> 0 | S18: =IF(R18="v",1+S19,IF(R18="d",0,S19)) -> 3 | T18: =IF((COUNTIF(T13:T17,"d")=1),-ABS($C18-$E18),IF((COUNTIF(T13:T17,"v")=1),ABS($C18-$E18),0)) -> 0 | U18: =IF(T18="v",1+U19,IF(T18="d",0,U19)) -> 0 | V18: =IF((COUNTIF(V13:V17,"d")=1),-ABS($C18-$E18),IF((COUNTIF(V13:V17,"v")=1),ABS($C18-$E18),0)) -> 0 | W18: =IF(V18="v",1+W19,IF(V18="d",0,W19)) -> 1 | X18: =IF((COUNTIF(X13:X17,"d")=1),-ABS($C18-$E18),IF((COUNTIF(X13:X17,"v")=1),ABS($C18-$E18),0)) -> 0 | Y18: =IF(X18="v",1+Y19,IF(X18="d",0,Y19)) -> 0 | Z18: =IF((COUNTIF(Z13:Z17,"d")=1),-ABS($C18-$E18),IF((COUNTIF(Z13:Z17,"v")=1),ABS($C18-$E18),0)) -> 0 | AA18: =IF(Z18="v",1+AA19,IF(Z18="d",0,AA19)) -> 3 | AB18: =IF((COUNTIF(AB13:AB17,"d")=1),-ABS($C18-$E18),IF((COUNTIF(AB13:AB17,"v")=1),ABS($C18-$E18),0)) -> 0 | AC18: =IF(AB18="v",1+AC19,IF(AB18="d",0,AC19)) -> 3 | AD18: =IF((COUNTIF(AD13:AD17,"d")=1),-ABS($C18-$E18),IF((COUNTIF(AD13:AD17,"v")=1),ABS($C18-$E18),0)) -> 0 | AE18: =IF(AD18="v",1+AE19,IF(AD18="d",0,AE19)) -> 0 | AF18: =IF((COUNTIF(AF13:AF17,"d")=1),-ABS($C18-$E18),IF((COUNTIF(AF13:AF17,"v")=1),ABS($C18-$E18),0)) -> 0 | AG18: =IF(AF18="v",1+AG19,IF(AF18="d",0,AG19)) -> 1 | AH18: =IF((COUNTIF(AH13:AH17,"d")=1),-ABS($C18-$E18),IF((COUNTIF(AH13:AH17,"v")=1),ABS($C18-$E18),0)) -> 0 | AI18: =IF(AH18="v",1+AI19,IF(AH18="d",0,AI19)) -> 0 | AJ18: =IF((COUNTIF(AJ13:AJ17,"d")=1),-ABS($C18-$E18),IF((COUNTIF(AJ13:AJ17,"v")=1),ABS($C18-$E18),0)) -> 0 | AK18: =IF(AJ18="v",1+AK19,IF(AJ18="d",0,AK19)) -> 2 | AL18: =IF((COUNTIF(AL13:AL17,"d")=1),-ABS($C18-$E18),IF((COUNTIF(AL13:AL17,"v")=1),ABS($C18-$E18),0)) -> 0 | AM18: =IF(AL18="v",1+AM19,IF(AL18="d",0,AM19)) -> 1 | AN18: =IF((COUNTIF(AN13:AN17,"d")=1),-ABS($C18-$E18),IF((COUNTIF(AN13:AN17,"v")=1),ABS($C18-$E18),0)) -> 0 | AO18: =IF(AN18="v",1+AO19,IF(AN18="d",0,AO19)) -> 0 | AP18: =IF((COUNTIF(AP13:AP17,"d")=1),-ABS($C18-$E18),IF((COUNTIF(AP13:AP17,"v")=1),ABS($C18-$E18),0)) -> 0 | AQ18: =IF(AP18="v",1+AQ19,IF(AP18="d",0,AQ19)) -> 2 | AR18: =IF((COUNTIF(AR13:AR17,"d")=1),-ABS($C18-$E18),IF((COUNTIF(AR13:AR17,"v")=1),ABS($C18-$E18),0)) -> 0 | AS18: =IF(AR18="v",1+AS19,IF(AR18="d",0,AS19)) -> 1 | AT18: =IF((COUNTIF(AT13:AT17,"d")=1),-ABS($C18-$E18),IF((COUNTIF(AT13:AT17,"v")=1),ABS($C18-$E18),0)) -> 0 | AU18: =IF(AT18="v",1+AU19,IF(AT18="d",0,AU19)) -> 1 | AV18: =IF((COUNTIF(AV13:AV17,"d")=1),-ABS($C18-$E18),IF((COUNTIF(AV13:AV17,"v")=1),ABS($C18-$E18),0)) -> 0 | AW18: =IF(AV18="v",1+AW19,IF(AV18="d",0,AW19)) -> 0
O19: =IF(N19="v",1+O20,IF(N19="d",0,O20)) -> 1 | Q19: =IF(P19="v",1+Q20,IF(P19="d",0,Q20)) -> 1 | S19: =IF(R19="v",1+S20,IF(R19="d",0,S20)) -> 3 | U19: =IF(T19="v",1+U20,IF(T19="d",0,U20)) -> 0 | W19: =IF(V19="v",1+W20,IF(V19="d",0,W20)) -> 1 | Y19: =IF(X19="v",1+Y20,IF(X19="d",0,Y20)) -> 0 | AA19: =IF(Z19="v",1+AA20,IF(Z19="d",0,AA20)) -> 3 | AC19: =IF(AB19="v",1+AC20,IF(AB19="d",0,AC20)) -> 3 | AE19: =IF(AD19="v",1+AE20,IF(AD19="d",0,AE20)) -> 0 | AG19: =IF(AF19="v",1+AG20,IF(AF19="d",0,AG20)) -> 1 | AI19: =IF(AH19="v",1+AI20,IF(AH19="d",0,AI20)) -> 0 | AK19: =IF(AJ19="v",1+AK20,IF(AJ19="d",0,AK20)) -> 2 | AM19: =IF(AL19="v",1+AM20,IF(AL19="d",0,AM20)) -> 1 | AO19: =IF(AN19="v",1+AO20,IF(AN19="d",0,AO20)) -> 0 | AQ19: =IF(AP19="v",1+AQ20,IF(AP19="d",0,AQ20)) -> 2 | AS19: =IF(AR19="v",1+AS20,IF(AR19="d",0,AS20)) -> 1 | AU19: =IF(AT19="v",1+AU20,IF(AT19="d",0,AU20)) -> 1 | AW19: =IF(AV19="v",1+AW20,IF(AV19="d",0,AW20)) -> 0
B20: 42113 | O20: =IF(N20="v",1+O21,IF(N20="d",0,O21)) -> 1 | Q20: =IF(P20="v",1+Q21,IF(P20="d",0,Q21)) -> 1 | S20: =IF(R20="v",1+S21,IF(R20="d",0,S21)) -> 3 | U20: =IF(T20="v",1+U21,IF(T20="d",0,U21)) -> 0 | W20: =IF(V20="v",1+W21,IF(V20="d",0,W21)) -> 1 | Y20: =IF(X20="v",1+Y21,IF(X20="d",0,Y21)) -> 0 | AA20: =IF(Z20="v",1+AA21,IF(Z20="d",0,AA21)) -> 3 | AC20: =IF(AB20="v",1+AC21,IF(AB20="d",0,AC21)) -> 3 | AE20: =IF(AD20="v",1+AE21,IF(AD20="d",0,AE21)) -> 0 | AG20: =IF(AF20="v",1+AG21,IF(AF20="d",0,AG21)) -> 1 | AI20: =IF(AH20="v",1+AI21,IF(AH20="d",0,AI21)) -> 0 | AK20: =IF(AJ20="v",1+AK21,IF(AJ20="d",0,AK21)) -> 2 | AM20: =IF(AL20="v",1+AM21,IF(AL20="d",0,AM21)) -> 1 | AO20: =IF(AN20="v",1+AO21,IF(AN20="d",0,AO21)) -> 0 | AQ20: =IF(AP20="v",1+AQ21,IF(AP20="d",0,AQ21)) -> 2 | AS20: =IF(AR20="v",1+AS21,IF(AR20="d",0,AS21)) -> 1 | AU20: =IF(AT20="v",1+AU21,IF(AT20="d",0,AU21)) -> 1 | AW20: =IF(AV20="v",1+AW21,IF(AV20="d",0,AW21)) -> 0
C21: T1 | E21: T2 | O21: =IF(N21="v",1+O22,IF(N21="d",0,O22)) -> 1 | Q21: =IF(P21="v",1+Q22,IF(P21="d",0,Q22)) -> 1 | S21: =IF(R21="v",1+S22,IF(R21="d",0,S22)) -> 3 | U21: =IF(T21="v",1+U22,IF(T21="d",0,U22)) -> 0 | W21: =IF(V21="v",1+W22,IF(V21="d",0,W22)) -> 1 | Y21: =IF(X21="v",1+Y22,IF(X21="d",0,Y22)) -> 0 | AA21: =IF(Z21="v",1+AA22,IF(Z21="d",0,AA22)) -> 3 | AC21: =IF(AB21="v",1+AC22,IF(AB21="d",0,AC22)) -> 3 | AE21: =IF(AD21="v",1+AE22,IF(AD21="d",0,AE22)) -> 0 | AG21: =IF(AF21="v",1+AG22,IF(AF21="d",0,AG22)) -> 1 | AI21: =IF(AH21="v",1+AI22,IF(AH21="d",0,AI22)) -> 0 | AK21: =IF(AJ21="v",1+AK22,IF(AJ21="d",0,AK22)) -> 2 | AM21: =IF(AL21="v",1+AM22,IF(AL21="d",0,AM22)) -> 1 | AO21: =IF(AN21="v",1+AO22,IF(AN21="d",0,AO22)) -> 0 | AQ21: =IF(AP21="v",1+AQ22,IF(AP21="d",0,AQ22)) -> 2 | AS21: =IF(AR21="v",1+AS22,IF(AR21="d",0,AS22)) -> 1 | AU21: =IF(AT21="v",1+AU22,IF(AT21="d",0,AU22)) -> 1 | AW21: =IF(AV21="v",1+AW22,IF(AV21="d",0,AW22)) -> 0
C22: Gui | D22: =IF(C27=E27,"n",IF(C27>E27,"v","d")) -> v | E22: =IF(C27=E27,"n",IF(C27<E27,"v","d")) -> d | F22: Olivier | N22: =IF(C22=$N$1,D22,IF(F22=$N$1,E22,"-")) -> v | O22: =IF(N22="v",1+O23,IF(N22="d",0,O23)) -> 1 | P22: =IF($C22=$P$1,$D22,IF($F22=$P$1,$E22,"-")) -> - | Q22: =IF(P22="v",1+Q23,IF(P22="d",0,Q23)) -> 1 | R22: =IF($C22=R$1,$D22,IF($F22=R$1,$E22,"-")) -> - | S22: =IF(R22="v",1+S23,IF(R22="d",0,S23)) -> 3 | T22: =IF($C22=T$1,$D22,IF($F22=T$1,$E22,"-")) -> - | U22: =IF(T22="v",1+U23,IF(T22="d",0,U23)) -> 0 | V22: =IF($C22=V$1,$D22,IF($F22=V$1,$E22,"-")) -> - | W22: =IF(V22="v",1+W23,IF(V22="d",0,W23)) -> 1 | X22: =IF($C22=X$1,$D22,IF($F22=X$1,$E22,"-")) -> - | Y22: =IF(X22="v",1+Y23,IF(X22="d",0,Y23)) -> 0 | Z22: =IF($C22=Z$1,$D22,IF($F22=Z$1,$E22,"-")) -> - | AA22: =IF(Z22="v",1+AA23,IF(Z22="d",0,AA23)) -> 3 | AB22: =IF($C22=AB$1,$D22,IF($F22=AB$1,$E22,"-")) -> - | AC22: =IF(AB22="v",1+AC23,IF(AB22="d",0,AC23)) -> 3 | AD22: =IF($C22=AD$1,$D22,IF($F22=AD$1,$E22,"-")) -> - | AE22: =IF(AD22="v",1+AE23,IF(AD22="d",0,AE23)) -> 0 | AF22: =IF($C22=AF$1,$D22,IF($F22=AF$1,$E22,"-")) -> - | AG22: =IF(AF22="v",1+AG23,IF(AF22="d",0,AG23)) -> 1 | AH22: =IF($C22=AH$1,$D22,IF($F22=AH$1,$E22,"-")) -> d | AI22: =IF(AH22="v",1+AI23,IF(AH22="d",0,AI23)) -> 0 | AJ22: =IF($C22=AJ$1,$D22,IF($F22=AJ$1,$E22,"-")) -> - | AK22: =IF(AJ22="v",1+AK23,IF(AJ22="d",0,AK23)) -> 2 | AL22: =IF($C22=AL$1,$D22,IF($F22=AL$1,$E22,"-")) -> - | AM22: =IF(AL22="v",1+AM23,IF(AL22="d",0,AM23)) -> 1 | AN22: =IF($C22=AN$1,$D22,IF($F22=AN$1,$E22,"-")) -> - | AO22: =IF(AN22="v",1+AO23,IF(AN22="d",0,AO23)) -> 0 | AP22: =IF($C22=AP$1,$D22,IF($F22=AP$1,$E22,"-")) -> - | AQ22: =IF(AP22="v",1+AQ23,IF(AP22="d",0,AQ23)) -> 2 | AR22: =IF($C22=AR$1,$D22,IF($F22=AR$1,$E22,"-")) -> - | AS22: =IF(AR22="v",1+AS23,IF(AR22="d",0,AS23)) -> 1 | AT22: =IF($C22=AT$1,$D22,IF($F22=AT$1,$E22,"-")) -> - | AU22: =IF(AT22="v",1+AU23,IF(AT22="d",0,AU23)) -> 1 | AV22: =IF($C22=AV$1,$D22,IF($F22=AV$1,$E22,"-")) -> - | AW22: =IF(AV22="v",1+AW23,IF(AV22="d",0,AW23)) -> 0
C23: Maxou | D23: =IF(C27=E27,"n",IF(C27>E27,"v","d")) -> v | E23: =IF(C27=E27,"n",IF(C27<E27,"v","d")) -> d | F23: Rémi C | N23: =IF(C23=$N$1,D23,IF(F23=$N$1,E23,"-")) -> - | O23: =IF(N23="v",1+O24,IF(N23="d",0,O24)) -> 0 | P23: =IF(C23=$P$1,D23,IF(F23=$P$1,E23,"-")) -> - | Q23: =IF(P23="v",1+Q24,IF(P23="d",0,Q24)) -> 1 | R23: =IF($C23=R$1,$D23,IF($F23=R$1,$E23,"-")) -> - | S23: =IF(R23="v",1+S24,IF(R23="d",0,S24)) -> 3 | T23: =IF($C23=T$1,$D23,IF($F23=T$1,$E23,"-")) -> - | U23: =IF(T23="v",1+U24,IF(T23="d",0,U24)) -> 0 | V23: =IF($C23=V$1,$D23,IF($F23=V$1,$E23,"-")) -> - | W23: =IF(V23="v",1+W24,IF(V23="d",0,W24)) -> 1 | X23: =IF($C23=X$1,$D23,IF($F23=X$1,$E23,"-")) -> - | Y23: =IF(X23="v",1+Y24,IF(X23="d",0,Y24)) -> 0 | Z23: =IF($C23=Z$1,$D23,IF($F23=Z$1,$E23,"-")) -> - | AA23: =IF(Z23="v",1+AA24,IF(Z23="d",0,AA24)) -> 3 | AB23: =IF($C23=AB$1,$D23,IF($F23=AB$1,$E23,"-")) -> - | AC23: =IF(AB23="v",1+AC24,IF(AB23="d",0,AC24)) -> 3 | AD23: =IF($C23=AD$1,$D23,IF($F23=AD$1,$E23,"-")) -> - | AE23: =IF(AD23="v",1+AE24,IF(AD23="d",0,AE24)) -> 0 | AF23: =IF($C23=AF$1,$D23,IF($F23=AF$1,$E23,"-")) -> v | AG23: =IF(AF23="v",1+AG24,IF(AF23="d",0,AG24)) -> 1 | AH23: =IF($C23=AH$1,$D23,IF($F23=AH$1,$E23,"-")) -> - | AI23: =IF(AH23="v",1+AI24,IF(AH23="d",0,AI24)) -> 4 | AJ23: =IF($C23=AJ$1,$D23,IF($F23=AJ$1,$E23,"-")) -> - | AK23: =IF(AJ23="v",1+AK24,IF(AJ23="d",0,AK24)) -> 2 | AL23: =IF($C23=AL$1,$D23,IF($F23=AL$1,$E23,"-")) -> - | AM23: =IF(AL23="v",1+AM24,IF(AL23="d",0,AM24)) -> 1 | AN23: =IF($C23=AN$1,$D23,IF($F23=AN$1,$E23,"-")) -> d | AO23: =IF(AN23="v",1+AO24,IF(AN23="d",0,AO24)) -> 0 | AP23: =IF($C23=AP$1,$D23,IF($F23=AP$1,$E23,"-")) -> - | AQ23: =IF(AP23="v",1+AQ24,IF(AP23="d",0,AQ24)) -> 2 | AR23: =IF($C23=AR$1,$D23,IF($F23=AR$1,$E23,"-")) -> - | AS23: =IF(AR23="v",1+AS24,IF(AR23="d",0,AS24)) -> 1 | AT23: =IF($C23=AT$1,$D23,IF($F23=AT$1,$E23,"-")) -> - | AU23: =IF(AT23="v",1+AU24,IF(AT23="d",0,AU24)) -> 1 | AV23: =IF($C23=AV$1,$D23,IF($F23=AV$1,$E23,"-")) -> - | AW23: =IF(AV23="v",1+AW24,IF(AV23="d",0,AW24)) -> 0
C24: Mehdi | D24: =IF(C27=E27,"n",IF(C27>E27,"v","d")) -> v | E24: =IF(C27=E27,"n",IF(C27<E27,"v","d")) -> d | F24: Plamont | N24: =IF(C24=$N$1,D24,IF(F24=$N$1,E24,"-")) -> - | O24: =IF(N24="v",1+O25,IF(N24="d",0,O25)) -> 0 | P24: =IF(C24=$P$1,D24,IF(F24=$P$1,E24,"-")) -> - | Q24: =IF(P24="v",1+Q25,IF(P24="d",0,Q25)) -> 1 | R24: =IF($C24=R$1,$D24,IF($F24=R$1,$E24,"-")) -> - | S24: =IF(R24="v",1+S25,IF(R24="d",0,S25)) -> 3 | T24: =IF($C24=T$1,$D24,IF($F24=T$1,$E24,"-")) -> - | U24: =IF(T24="v",1+U25,IF(T24="d",0,U25)) -> 0 | V24: =IF($C24=V$1,$D24,IF($F24=V$1,$E24,"-")) -> v | W24: =IF(V24="v",1+W25,IF(V24="d",0,W25)) -> 1 | X24: =IF($C24=X$1,$D24,IF($F24=X$1,$E24,"-")) -> - | Y24: =IF(X24="v",1+Y25,IF(X24="d",0,Y25)) -> 0 | Z24: =IF($C24=Z$1,$D24,IF($F24=Z$1,$E24,"-")) -> - | AA24: =IF(Z24="v",1+AA25,IF(Z24="d",0,AA25)) -> 3 | AB24: =IF($C24=AB$1,$D24,IF($F24=AB$1,$E24,"-")) -> - | AC24: =IF(AB24="v",1+AC25,IF(AB24="d",0,AC25)) -> 3 | AD24: =IF($C24=AD$1,$D24,IF($F24=AD$1,$E24,"-")) -> - | AE24: =IF(AD24="v",1+AE25,IF(AD24="d",0,AE25)) -> 0 | AF24: =IF($C24=AF$1,$D24,IF($F24=AF$1,$E24,"-")) -> - | AG24: =IF(AF24="v",1+AG25,IF(AF24="d",0,AG25)) -> 0 | AH24: =IF($C24=AH$1,$D24,IF($F24=AH$1,$E24,"-")) -> - | AI24: =IF(AH24="v",1+AI25,IF(AH24="d",0,AI25)) -> 4 | AJ24: =IF($C24=AJ$1,$D24,IF($F24=AJ$1,$E24,"-")) -> - | AK24: =IF(AJ24="v",1+AK25,IF(AJ24="d",0,AK25)) -> 2 | AL24: =IF($C24=AL$1,$D24,IF($F24=AL$1,$E24,"-")) -> - | AM24: =IF(AL24="v",1+AM25,IF(AL24="d",0,AM25)) -> 1 | AN24: =IF($C24=AN$1,$D24,IF($F24=AN$1,$E24,"-")) -> - | AO24: =IF(AN24="v",1+AO25,IF(AN24="d",0,AO25)) -> 1 | AP24: =IF($C24=AP$1,$D24,IF($F24=AP$1,$E24,"-")) -> - | AQ24: =IF(AP24="v",1+AQ25,IF(AP24="d",0,AQ25)) -> 2 | AR24: =IF($C24=AR$1,$D24,IF($F24=AR$1,$E24,"-")) -> - | AS24: =IF(AR24="v",1+AS25,IF(AR24="d",0,AS25)) -> 1 | AT24: =IF($C24=AT$1,$D24,IF($F24=AT$1,$E24,"-")) -> - | AU24: =IF(AT24="v",1+AU25,IF(AT24="d",0,AU25)) -> 1 | AV24: =IF($C24=AV$1,$D24,IF($F24=AV$1,$E24,"-")) -> - | AW24: =IF(AV24="v",1+AW25,IF(AV24="d",0,AW25)) -> 0
C25: Ambroise | D25: =IF(C27=E27,"n",IF(C27>E27,"v","d")) -> v | E25: =IF(C27=E27,"n",IF(C27<E27,"v","d")) -> d | F25: Bastien | N25: =IF(C25=$N$1,D25,IF(F25=$N$1,E25,"-")) -> - | O25: =IF(N25="v",1+O26,IF(N25="d",0,O26)) -> 0 | P25: =IF(C25=$P$1,D25,IF(F25=$P$1,E25,"-")) -> - | Q25: =IF(P25="v",1+Q26,IF(P25="d",0,Q26)) -> 1 | R25: =IF($C25=R$1,$D25,IF($F25=R$1,$E25,"-")) -> - | S25: =IF(R25="v",1+S26,IF(R25="d",0,S26)) -> 3 | T25: =IF($C25=T$1,$D25,IF($F25=T$1,$E25,"-")) -> - | U25: =IF(T25="v",1+U26,IF(T25="d",0,U26)) -> 0 | V25: =IF($C25=V$1,$D25,IF($F25=V$1,$E25,"-")) -> - | W25: =IF(V25="v",1+W26,IF(V25="d",0,W26)) -> 0 | X25: =IF($C25=X$1,$D25,IF($F25=X$1,$E25,"-")) -> - | Y25: =IF(X25="v",1+Y26,IF(X25="d",0,Y26)) -> 0 | Z25: =IF($C25=Z$1,$D25,IF($F25=Z$1,$E25,"-")) -> - | AA25: =IF(Z25="v",1+AA26,IF(Z25="d",0,AA26)) -> 3 | AB25: =IF($C25=AB$1,$D25,IF($F25=AB$1,$E25,"-")) -> - | AC25: =IF(AB25="v",1+AC26,IF(AB25="d",0,AC26)) -> 3 | AD25: =IF($C25=AD$1,$D25,IF($F25=AD$1,$E25,"-")) -> - | AE25: =IF(AD25="v",1+AE26,IF(AD25="d",0,AE26)) -> 0 | AF25: =IF($C25=AF$1,$D25,IF($F25=AF$1,$E25,"-")) -> - | AG25: =IF(AF25="v",1+AG26,IF(AF25="d",0,AG26)) -> 0 | AH25: =IF($C25=AH$1,$D25,IF($F25=AH$1,$E25,"-")) -> - | AI25: =IF(AH25="v",1+AI26,IF(AH25="d",0,AI26)) -> 4 | AJ25: =IF($C25=AJ$1,$D25,IF($F25=AJ$1,$E25,"-")) -> - | AK25: =IF(AJ25="v",1+AK26,IF(AJ25="d",0,AK26)) -> 2 | AL25: =IF($C25=AL$1,$D25,IF($F25=AL$1,$E25,"-")) -> - | AM25: =IF(AL25="v",1+AM26,IF(AL25="d",0,AM26)) -> 1 | AN25: =IF($C25=AN$1,$D25,IF($F25=AN$1,$E25,"-")) -> - | AO25: =IF(AN25="v",1+AO26,IF(AN25="d",0,AO26)) -> 1 | AP25: =IF($C25=AP$1,$D25,IF($F25=AP$1,$E25,"-")) -> - | AQ25: =IF(AP25="v",1+AQ26,IF(AP25="d",0,AQ26)) -> 2 | AR25: =IF($C25=AR$1,$D25,IF($F25=AR$1,$E25,"-")) -> - | AS25: =IF(AR25="v",1+AS26,IF(AR25="d",0,AS26)) -> 1 | AT25: =IF($C25=AT$1,$D25,IF($F25=AT$1,$E25,"-")) -> - | AU25: =IF(AT25="v",1+AU26,IF(AT25="d",0,AU26)) -> 1 | AV25: =IF($C25=AV$1,$D25,IF($F25=AV$1,$E25,"-")) -> - | AW25: =IF(AV25="v",1+AW26,IF(AV25="d",0,AW26)) -> 0
C26: Rios | D26: =IF(C27=E27,"n",IF(C27>E27,"v","d")) -> v | E26: =IF(C27=E27,"n",IF(C27<E27,"v","d")) -> d | F26: Klaim | N26: =IF(C26=$N$1,D26,IF(F26=$N$1,E26,"-")) -> - | O26: =IF(N26="v",1+O27,IF(N26="d",0,O27)) -> 0 | P26: =IF(C26=$P$1,D26,IF(F26=$P$1,E26,"-")) -> v | Q26: =IF(P26="v",1+Q27,IF(P26="d",0,Q27)) -> 1 | R26: =IF($C26=R$1,$D26,IF($F26=R$1,$E26,"-")) -> - | S26: =IF(R26="v",1+S27,IF(R26="d",0,S27)) -> 3 | T26: =IF($C26=T$1,$D26,IF($F26=T$1,$E26,"-")) -> - | U26: =IF(T26="v",1+U27,IF(T26="d",0,U27)) -> 0 | V26: =IF($C26=V$1,$D26,IF($F26=V$1,$E26,"-")) -> - | W26: =IF(V26="v",1+W27,IF(V26="d",0,W27)) -> 0 | X26: =IF($C26=X$1,$D26,IF($F26=X$1,$E26,"-")) -> - | Y26: =IF(X26="v",1+Y27,IF(X26="d",0,Y27)) -> 0 | Z26: =IF($C26=Z$1,$D26,IF($F26=Z$1,$E26,"-")) -> - | AA26: =IF(Z26="v",1+AA27,IF(Z26="d",0,AA27)) -> 3 | AB26: =IF($C26=AB$1,$D26,IF($F26=AB$1,$E26,"-")) -> - | AC26: =IF(AB26="v",1+AC27,IF(AB26="d",0,AC27)) -> 3 | AD26: =IF($C26=AD$1,$D26,IF($F26=AD$1,$E26,"-")) -> d | AE26: =IF(AD26="v",1+AE27,IF(AD26="d",0,AE27)) -> 0 | AF26: =IF($C26=AF$1,$D26,IF($F26=AF$1,$E26,"-")) -> - | AG26: =IF(AF26="v",1+AG27,IF(AF26="d",0,AG27)) -> 0 | AH26: =IF($C26=AH$1,$D26,IF($F26=AH$1,$E26,"-")) -> - | AI26: =IF(AH26="v",1+AI27,IF(AH26="d",0,AI27)) -> 4 | AJ26: =IF($C26=AJ$1,$D26,IF($F26=AJ$1,$E26,"-")) -> - | AK26: =IF(AJ26="v",1+AK27,IF(AJ26="d",0,AK27)) -> 2 | AL26: =IF($C26=AL$1,$D26,IF($F26=AL$1,$E26,"-")) -> - | AM26: =IF(AL26="v",1+AM27,IF(AL26="d",0,AM27)) -> 1 | AN26: =IF($C26=AN$1,$D26,IF($F26=AN$1,$E26,"-")) -> - | AO26: =IF(AN26="v",1+AO27,IF(AN26="d",0,AO27)) -> 1 | AP26: =IF($C26=AP$1,$D26,IF($F26=AP$1,$E26,"-")) -> - | AQ26: =IF(AP26="v",1+AQ27,IF(AP26="d",0,AQ27)) -> 2 | AR26: =IF($C26=AR$1,$D26,IF($F26=AR$1,$E26,"-")) -> - | AS26: =IF(AR26="v",1+AS27,IF(AR26="d",0,AS27)) -> 1 | AT26: =IF($C26=AT$1,$D26,IF($F26=AT$1,$E26,"-")) -> - | AU26: =IF(AT26="v",1+AU27,IF(AT26="d",0,AU27)) -> 1 | AV26: =IF($C26=AV$1,$D26,IF($F26=AV$1,$E26,"-")) -> - | AW26: =IF(AV26="v",1+AW27,IF(AV26="d",0,AW27)) -> 0
B27: SCORE | C27: 27 | E27: 15 | N27: =IF((COUNTIF(N22:N26,"d")=1),-ABS($C27-$E27),IF((COUNTIF(N22:N26,"v")=1),ABS($C27-$E27),0)) -> 12 | O27: =IF(N27="v",1+O28,IF(N27="d",0,O28)) -> 0 | P27: =IF((COUNTIF(P22:P26,"d")=1),-ABS($C27-$E27),IF((COUNTIF(P22:P26,"v")=1),ABS($C27-$E27),0)) -> 12 | Q27: =IF(P27="v",1+Q28,IF(P27="d",0,Q28)) -> 0 | R27: =IF((COUNTIF(R22:R26,"d")=1),-ABS($C27-$E27),IF((COUNTIF(R22:R26,"v")=1),ABS($C27-$E27),0)) -> 0 | S27: =IF(R27="v",1+S28,IF(R27="d",0,S28)) -> 3 | T27: =IF((COUNTIF(T22:T26,"d")=1),-ABS($C27-$E27),IF((COUNTIF(T22:T26,"v")=1),ABS($C27-$E27),0)) -> 0 | U27: =IF(T27="v",1+U28,IF(T27="d",0,U28)) -> 0 | V27: =IF((COUNTIF(V22:V26,"d")=1),-ABS($C27-$E27),IF((COUNTIF(V22:V26,"v")=1),ABS($C27-$E27),0)) -> 12 | W27: =IF(V27="v",1+W28,IF(V27="d",0,W28)) -> 0 | X27: =IF((COUNTIF(X22:X26,"d")=1),-ABS($C27-$E27),IF((COUNTIF(X22:X26,"v")=1),ABS($C27-$E27),0)) -> 0 | Y27: =IF(X27="v",1+Y28,IF(X27="d",0,Y28)) -> 0 | Z27: =IF((COUNTIF(Z22:Z26,"d")=1),-ABS($C27-$E27),IF((COUNTIF(Z22:Z26,"v")=1),ABS($C27-$E27),0)) -> 0 | AA27: =IF(Z27="v",1+AA28,IF(Z27="d",0,AA28)) -> 3 | AB27: =IF((COUNTIF(AB22:AB26,"d")=1),-ABS($C27-$E27),IF((COUNTIF(AB22:AB26,"v")=1),ABS($C27-$E27),0)) -> 0 | AC27: =IF(AB27="v",1+AC28,IF(AB27="d",0,AC28)) -> 3 | AD27: =IF((COUNTIF(AD22:AD26,"d")=1),-ABS($C27-$E27),IF((COUNTIF(AD22:AD26,"v")=1),ABS($C27-$E27),0)) -> -12 | AE27: =IF(AD27="v",1+AE28,IF(AD27="d",0,AE28)) -> 1 | AF27: =IF((COUNTIF(AF22:AF26,"d")=1),-ABS($C27-$E27),IF((COUNTIF(AF22:AF26,"v")=1),ABS($C27-$E27),0)) -> 12 | AG27: =IF(AF27="v",1+AG28,IF(AF27="d",0,AG28)) -> 0 | AH27: =IF((COUNTIF(AH22:AH26,"d")=1),-ABS($C27-$E27),IF((COUNTIF(AH22:AH26,"v")=1),ABS($C27-$E27),0)) -> -12 | AI27: =IF(AH27="v",1+AI28,IF(AH27="d",0,AI28)) -> 4 | AJ27: =IF((COUNTIF(AJ22:AJ26,"d")=1),-ABS($C27-$E27),IF((COUNTIF(AJ22:AJ26,"v")=1),ABS($C27-$E27),0)) -> 0 | AK27: =IF(AJ27="v",1+AK28,IF(AJ27="d",0,AK28)) -> 2 | AL27: =IF((COUNTIF(AL22:AL26,"d")=1),-ABS($C27-$E27),IF((COUNTIF(AL22:AL26,"v")=1),ABS($C27-$E27),0)) -> 0 | AM27: =IF(AL27="v",1+AM28,IF(AL27="d",0,AM28)) -> 1 | AN27: =IF((COUNTIF(AN22:AN26,"d")=1),-ABS($C27-$E27),IF((COUNTIF(AN22:AN26,"v")=1),ABS($C27-$E27),0)) -> -12 | AO27: =IF(AN27="v",1+AO28,IF(AN27="d",0,AO28)) -> 1 | AP27: =IF((COUNTIF(AP22:AP26,"d")=1),-ABS($C27-$E27),IF((COUNTIF(AP22:AP26,"v")=1),ABS($C27-$E27),0)) -> 0 | AQ27: =IF(AP27="v",1+AQ28,IF(AP27="d",0,AQ28)) -> 2 | AR27: =IF((COUNTIF(AR22:AR26,"d")=1),-ABS($C27-$E27),IF((COUNTIF(AR22:AR26,"v")=1),ABS($C27-$E27),0)) -> 0 | AS27: =IF(AR27="v",1+AS28,IF(AR27="d",0,AS28)) -> 1 | AT27: =IF((COUNTIF(AT22:AT26,"d")=1),-ABS($C27-$E27),IF((COUNTIF(AT22:AT26,"v")=1),ABS($C27-$E27),0)) -> 0 | AU27: =IF(AT27="v",1+AU28,IF(AT27="d",0,AU28)) -> 1 | AV27: =IF((COUNTIF(AV22:AV26,"d")=1),-ABS($C27-$E27),IF((COUNTIF(AV22:AV26,"v")=1),ABS($C27-$E27),0)) -> 0 | AW27: =IF(AV27="v",1+AW28,IF(AV27="d",0,AW28)) -> 0
O28: =IF(N28="v",1+O29,IF(N28="d",0,O29)) -> 0 | Q28: =IF(P28="v",1+Q29,IF(P28="d",0,Q29)) -> 0 | S28: =IF(R28="v",1+S29,IF(R28="d",0,S29)) -> 3 | U28: =IF(T28="v",1+U29,IF(T28="d",0,U29)) -> 0 | W28: =IF(V28="v",1+W29,IF(V28="d",0,W29)) -> 0 | Y28: =IF(X28="v",1+Y29,IF(X28="d",0,Y29)) -> 0 | AA28: =IF(Z28="v",1+AA29,IF(Z28="d",0,AA29)) -> 3 | AC28: =IF(AB28="v",1+AC29,IF(AB28="d",0,AC29)) -> 3 | AE28: =IF(AD28="v",1+AE29,IF(AD28="d",0,AE29)) -> 1 | AG28: =IF(AF28="v",1+AG29,IF(AF28="d",0,AG29)) -> 0 | AI28: =IF(AH28="v",1+AI29,IF(AH28="d",0,AI29)) -> 4 | AK28: =IF(AJ28="v",1+AK29,IF(AJ28="d",0,AK29)) -> 2 | AM28: =IF(AL28="v",1+AM29,IF(AL28="d",0,AM29)) -> 1 | AO28: =IF(AN28="v",1+AO29,IF(AN28="d",0,AO29)) -> 1 | AQ28: =IF(AP28="v",1+AQ29,IF(AP28="d",0,AQ29)) -> 2 | AS28: =IF(AR28="v",1+AS29,IF(AR28="d",0,AS29)) -> 1 | AU28: =IF(AT28="v",1+AU29,IF(AT28="d",0,AU29)) -> 1 | AW28: =IF(AV28="v",1+AW29,IF(AV28="d",0,AW29)) -> 0
B29: 42099 | O29: =IF(N29="v",1+O30,IF(N29="d",0,O30)) -> 0 | Q29: =IF(P29="v",1+Q30,IF(P29="d",0,Q30)) -> 0 | S29: =IF(R29="v",1+S30,IF(R29="d",0,S30)) -> 3 | U29: =IF(T29="v",1+U30,IF(T29="d",0,U30)) -> 0 | W29: =IF(V29="v",1+W30,IF(V29="d",0,W30)) -> 0 | Y29: =IF(X29="v",1+Y30,IF(X29="d",0,Y30)) -> 0 | AA29: =IF(Z29="v",1+AA30,IF(Z29="d",0,AA30)) -> 3 | AC29: =IF(AB29="v",1+AC30,IF(AB29="d",0,AC30)) -> 3 | AE29: =IF(AD29="v",1+AE30,IF(AD29="d",0,AE30)) -> 1 | AG29: =IF(AF29="v",1+AG30,IF(AF29="d",0,AG30)) -> 0 | AI29: =IF(AH29="v",1+AI30,IF(AH29="d",0,AI30)) -> 4 | AK29: =IF(AJ29="v",1+AK30,IF(AJ29="d",0,AK30)) -> 2 | AM29: =IF(AL29="v",1+AM30,IF(AL29="d",0,AM30)) -> 1 | AO29: =IF(AN29="v",1+AO30,IF(AN29="d",0,AO30)) -> 1 | AQ29: =IF(AP29="v",1+AQ30,IF(AP29="d",0,AQ30)) -> 2 | AS29: =IF(AR29="v",1+AS30,IF(AR29="d",0,AS30)) -> 1 | AU29: =IF(AT29="v",1+AU30,IF(AT29="d",0,AU30)) -> 1 | AW29: =IF(AV29="v",1+AW30,IF(AV29="d",0,AW30)) -> 0
C30: T1 | E30: T2 | O30: =IF(N30="v",1+O31,IF(N30="d",0,O31)) -> 0 | Q30: =IF(P30="v",1+Q31,IF(P30="d",0,Q31)) -> 0 | S30: =IF(R30="v",1+S31,IF(R30="d",0,S31)) -> 3 | U30: =IF(T30="v",1+U31,IF(T30="d",0,U31)) -> 0 | W30: =IF(V30="v",1+W31,IF(V30="d",0,W31)) -> 0 | Y30: =IF(X30="v",1+Y31,IF(X30="d",0,Y31)) -> 0 | AA30: =IF(Z30="v",1+AA31,IF(Z30="d",0,AA31)) -> 3 | AC30: =IF(AB30="v",1+AC31,IF(AB30="d",0,AC31)) -> 3 | AE30: =IF(AD30="v",1+AE31,IF(AD30="d",0,AE31)) -> 1 | AG30: =IF(AF30="v",1+AG31,IF(AF30="d",0,AG31)) -> 0 | AI30: =IF(AH30="v",1+AI31,IF(AH30="d",0,AI31)) -> 4 | AK30: =IF(AJ30="v",1+AK31,IF(AJ30="d",0,AK31)) -> 2 | AM30: =IF(AL30="v",1+AM31,IF(AL30="d",0,AM31)) -> 1 | AO30: =IF(AN30="v",1+AO31,IF(AN30="d",0,AO31)) -> 1 | AQ30: =IF(AP30="v",1+AQ31,IF(AP30="d",0,AQ31)) -> 2 | AS30: =IF(AR30="v",1+AS31,IF(AR30="d",0,AS31)) -> 1 | AU30: =IF(AT30="v",1+AU31,IF(AT30="d",0,AU31)) -> 1 | AW30: =IF(AV30="v",1+AW31,IF(AV30="d",0,AW31)) -> 0
C31: Olivier | D31: =IF(C36=E36,"n",IF(C36>E36,"v","d")) -> v | E31: =IF(C36=E36,"n",IF(C36<E36,"v","d")) -> d | F31: Rios | N31: =IF(C31=$N$1,D31,IF(F31=$N$1,E31,"-")) -> - | O31: =IF(N31="v",1+O32,IF(N31="d",0,O32)) -> 0 | P31: =IF($C31=$P$1,$D31,IF($F31=$P$1,$E31,"-")) -> d | Q31: =IF(P31="v",1+Q32,IF(P31="d",0,Q32)) -> 0 | R31: =IF($C31=R$1,$D31,IF($F31=R$1,$E31,"-")) -> - | S31: =IF(R31="v",1+S32,IF(R31="d",0,S32)) -> 3 | T31: =IF($C31=T$1,$D31,IF($F31=T$1,$E31,"-")) -> - | U31: =IF(T31="v",1+U32,IF(T31="d",0,U32)) -> 0 | V31: =IF($C31=V$1,$D31,IF($F31=V$1,$E31,"-")) -> - | W31: =IF(V31="v",1+W32,IF(V31="d",0,W32)) -> 0 | X31: =IF($C31=X$1,$D31,IF($F31=X$1,$E31,"-")) -> - | Y31: =IF(X31="v",1+Y32,IF(X31="d",0,Y32)) -> 0 | Z31: =IF($C31=Z$1,$D31,IF($F31=Z$1,$E31,"-")) -> - | AA31: =IF(Z31="v",1+AA32,IF(Z31="d",0,AA32)) -> 3 | AB31: =IF($C31=AB$1,$D31,IF($F31=AB$1,$E31,"-")) -> - | AC31: =IF(AB31="v",1+AC32,IF(AB31="d",0,AC32)) -> 3 | AD31: =IF($C31=AD$1,$D31,IF($F31=AD$1,$E31,"-")) -> - | AE31: =IF(AD31="v",1+AE32,IF(AD31="d",0,AE32)) -> 1 | AF31: =IF($C31=AF$1,$D31,IF($F31=AF$1,$E31,"-")) -> - | AG31: =IF(AF31="v",1+AG32,IF(AF31="d",0,AG32)) -> 0 | AH31: =IF($C31=AH$1,$D31,IF($F31=AH$1,$E31,"-")) -> v | AI31: =IF(AH31="v",1+AI32,IF(AH31="d",0,AI32)) -> 4 | AJ31: =IF($C31=AJ$1,$D31,IF($F31=AJ$1,$E31,"-")) -> - | AK31: =IF(AJ31="v",1+AK32,IF(AJ31="d",0,AK32)) -> 2 | AL31: =IF($C31=AL$1,$D31,IF($F31=AL$1,$E31,"-")) -> - | AM31: =IF(AL31="v",1+AM32,IF(AL31="d",0,AM32)) -> 1 | AN31: =IF($C31=AN$1,$D31,IF($F31=AN$1,$E31,"-")) -> - | AO31: =IF(AN31="v",1+AO32,IF(AN31="d",0,AO32)) -> 1 | AP31: =IF($C31=AP$1,$D31,IF($F31=AP$1,$E31,"-")) -> - | AQ31: =IF(AP31="v",1+AQ32,IF(AP31="d",0,AQ32)) -> 2 | AR31: =IF($C31=AR$1,$D31,IF($F31=AR$1,$E31,"-")) -> - | AS31: =IF(AR31="v",1+AS32,IF(AR31="d",0,AS32)) -> 1 | AT31: =IF($C31=AT$1,$D31,IF($F31=AT$1,$E31,"-")) -> - | AU31: =IF(AT31="v",1+AU32,IF(AT31="d",0,AU32)) -> 1 | AV31: =IF($C31=AV$1,$D31,IF($F31=AV$1,$E31,"-")) -> - | AW31: =IF(AV31="v",1+AW32,IF(AV31="d",0,AW32)) -> 0
