Workbook
Name JF: Tableau1[]
Name JF: Tableau1[]
Name JF: Tableau1[]
Name JF: Tableau1[]
Name JF: Tableau1[]
Name JF: Tableau1[]

Sheet JF
A1: RAISON | B1: JOUR | D1: ABS SUPPLEMENTAIRE - REGIME | H1: Attention, les jours fériés de 2019 ne sont pas implémentés !
A2: Jour de l'An | B2: 41640 | D2: Début | E2: Fin | F2: Nb semaine
A3: Lundi de Pâques | B3: 41750 | D3: 41640 | E3: 42004 | F3: 2
A4: Fête du Travail | B4: 41760 | D4: Jour(s) de non-prestation - semaine 1 | H4: Attention, les absences supplémentaires ne comptabilisent pas les demi-jours !
A5: Jeudi de l'Ascension | B5: 41788 | D5: 41649
A6: Lundi de la Pentecôte | B6: 41799 | D6: Jour(s) de non-prestation - semaine 2
A7: Fête Nationale | B7: 41841 | D7: 41652
A8: Assomption | B8: 41866 | D8: Jour(s) de non-prestation - semaine 3
A9: Toussaint | B9: 41944
A10: Fête de l'Armistice | B10: 41954
A11: Fête du Roi | B11: 41958 | D11: ABS SUPPLEMENTAIRE - REGIME
A12: Noël | B12: 41998 | D12: Début | E12: Fin | F12: Nb semaine
A13: Jour de l'An | B13: 42005 | F13: 1
A14: Lundi de Pâques | B14: 42100 | D14: Jour(s) de non-prestation - semaine 1
A15: Fête du Travail | B15: 42125
A16: Jeudi de l'Ascension | B16: 42138 | D16: Jour(s) de non-prestation - semaine 2
A17: Lundi de la Pentecôte | B17: 42149
A18: Fête Nationale | B18: 42206 | D18: Jour(s) de non-prestation - semaine 3
A19: Assomption | B19: 42231
A20: Toussaint | B20: 42309
A21: Fête de l'Armistice | B21: 42319 | D21: ABS SUPPLEMENTAIRE - REGIME
A22: Fête du Roi | B22: 42323 | D22: Début | E22: Fin | F22: Nb semaine
A23: Noël | B23: 42363 | F23: 1
A24: Jour de l'An | B24: 42370 | D24: Jour(s) de non-prestation - semaine 1
A25: Lundi de Pâques | B25: 42457
A26: Fête du Travail | B26: 42491 | D26: Jour(s) de non-prestation - semaine 2
A27: Jeudi de l'Ascension | B27: 42495
A28: Lundi de la Pentecôte | B28: 42506 | D28: Jour(s) de non-prestation - semaine 3
A29: Fête Nationale | B29: 42572
A30: Assomption | B30: 42597
A31: Toussaint | B31: 42675 | D31: ABS SUPPLEMENTAIRE - REGIME
A32: Fête de l'Armistice | B32: 42685 | D32: Début | E32: Fin | F32: Nb semaine
A33: Fête du Roi | B33: 42689 | F33: 1
A34: Noël | B34: 42729 | D34: Jour(s) de non-prestation - semaine 1
A35: Jour de l'An | B35: 42736
A36: Lundi de Pâques | B36: 42842 | D36: Jour(s) de non-prestation - semaine 2
A37: Fête du Travail | B37: 42856
A38: Jeudi de l'Ascension | B38: 42880 | D38: Jour(s) de non-prestation - semaine 3
A39: Lundi de la Pentecôte | B39: 42891
A40: Fête Nationale | B40: 42937
...

Sheet AVANT 2014
A1: Total précédent | B1: 0 | D1: Implémentez ici le résultat de votre calcul manuel pour la période précédent la date d'octroi de 2014.
A3: Total précédent | B3: 0 | D3: Autres

Sheet 2014
A1: Début période | B1: Fin période | C1: J. cal. | D1: J. ouvr. | E1: J. ouvr. prestés | F1: Total | H1: Total précédent | I1: Total actuel
A2: 41652 | B2: 41670 | C2: =_xlfn.DAYS(B2,A2)+1 -> 19 | D2: =NETWORKDAYS(A2,B2) -> 15 | E2: =NETWORKDAYS(A2,B2,Tableau1[JOUR]) -> 15 | F2: =H2+E2 -> 15 | H2: ='AVANT 2014'!B1 -> 0 | I2: =LOOKUP(9^9,ABS_2014[Total]) -> 36
A3: 41730 | B3: 41759 | C3: =_xlfn.DAYS(B3,A3)+1 -> 30 | D3: =NETWORKDAYS(A3,B3) -> 22 | E3: =NETWORKDAYS(A3,B3,Tableau1[JOUR]) -> 21 | F3: =F2+E3 -> 36

Sheet 2015
A1: Début période | B1: Fin période | C1: J. cal. | D1: J. ouvr. | E1: J. ouvr. prestés | F1: Total | H1: Total précédent | I1: Total actuel
C2: =_xlfn.DAYS(B2,A2)+1 -> 1 | D2: =NETWORKDAYS(A2,B2) -> 0 | E2: =NETWORKDAYS(A2,B2,Tableau1[JOUR]) -> 0 | F2: =H2+E2 -> 36 | H2: ='2014'!$I$2 -> 36 | I2: =LOOKUP(9^9,ABS_2015[Total]) -> 36

Sheet 2016
A1: Début période | B1: Fin période | C1: J. cal. | D1: J. ouvr. | E1: J. ouvr. prestés | F1: Total | H1: Total précédent | I1: Total actuel
C2: =_xlfn.DAYS(B2,A2)+1 -> 1 | D2: =NETWORKDAYS(A2,B2) -> 0 | E2: =NETWORKDAYS(A2,B2,Tableau1[JOUR]) -> 0 | F2: =H2+E2 -> 36 | H2: ='2015'!$I$2 -> 36 | I2: =LOOKUP(9^9,ABS_2016[Total]) -> 36

Sheet 2017
A1: Début période | B1: Fin période | C1: J. cal. | D1: J. ouvr. | E1: J. ouvr. prestés | F1: Total | H1: Total précédent | I1: Total actuel
C2: =_xlfn.DAYS(B2,A2)+1 -> 1 | D2: =NETWORKDAYS(A2,B2) -> 0 | E2: =NETWORKDAYS(A2,B2,Tableau1[JOUR]) -> 0 | F2: =H2+E2 -> 36 | H2: ='2016'!$I$2 -> 36 | I2: =LOOKUP(9^9,ABS_2017[Total]) -> 36

Sheet 2018
A1: Début période | B1: Fin période | C1: J. cal. | D1: J. ouvr. | E1: J. ouvr. prestés | F1: Total | H1: Total précédent | I1: Total actuel
C2: =_xlfn.DAYS(B2,A2)+1 -> 1 | D2: =NETWORKDAYS(A2,B2) -> 0 | E2: =NETWORKDAYS(A2,B2,Tableau1[JOUR]) -> 0 | F2: =H2+E2 -> 36 | H2: ='2017'!$I$2 -> 36 | I2: =LOOKUP(9^9,ABS_2018[Total]) -> 36

Sheet 2019
A1: Début période | B1: Fin période | C1: J. cal. | D1: J. ouvr. | E1: J. ouvr. prestés | F1: Total | H1: Total précédent | I1: Total actuel | K1: Attention, les jours fériés de cette année ne sont pas implémentés !
C2: =_xlfn.DAYS(B2,A2)+1 -> 1 | D2: =NETWORKDAYS(A2,B2) -> 0 | E2: =NETWORKDAYS(A2,B2,Tableau1[JOUR]) -> 0 | F2: =H2+E2 -> 36 | H2: ='2018'!$I$2 -> 36 | I2: =LOOKUP(9^9,ABS_2019[Total]) -> 36

Sheet CALCUL
A1: 2009 aucun jour | C1: jo | D1: jo+jf | E1: 140 | F1: Octroi
A2: 2010 | B2: 43435 | E2: =E1+C2 -> 140 | F2: 310
A3: 40218 | B3: 40218 | C3: =NETWORKDAYS(A3,B3) -> 1 | D3: =NETWORKDAYS(A3,B3,Tableau1[JOUR]) -> 1 | E3: =E2+C3 -> 141
A4: 40219 | B4: 40219 | C4: =NETWORKDAYS(A4,B4) -> 1 | D4: =NETWORKDAYS(A4,B4,Tableau1[JOUR]) -> 1 | E4: =E3+C4 -> 142
A5: 40301 | B5: 40303 | C5: =NETWORKDAYS(A5,B5) -> 3 | D5: =NETWORKDAYS(A5,B5,Tableau1[JOUR]) -> 3 | E5: =E4+C5 -> 145
A6: 40304 | B6: 40312 | C6: =NETWORKDAYS(A6,B6) -> 7 | D6: =NETWORKDAYS(A6,B6,Tableau1[JOUR]) -> 7 | E6: =E5+C6 -> 152 | F6: =SUM(C3:C6) -> 12 | G6: =SUM(D3:D6) -> 12
A7: 40525 | B7: 40525 | C7: =NETWORKDAYS(A7,B7) -> 1 | D7: =NETWORKDAYS(A7,B7,Tableau1[JOUR]) -> 1 | E7: =E6+C7 -> 153
A8: 40526 | B8: 40529 | C8: =NETWORKDAYS(A8,B8) -> 4 | D8: =NETWORKDAYS(A8,B8,Tableau1[JOUR]) -> 4 | E8: =E7+C8 -> 157
A9: 40530 | B9: 40543 | C9: =NETWORKDAYS(A9,B9) -> 10 | D9: =NETWORKDAYS(A9,B9,Tableau1[JOUR]) -> 10 | E9: =E8+C9 -> 167
A10: 2011 | B10: 43435 | E10: =E9+C10 -> 167 | F10: 329
A11: 40544 | B11: 40545 | C11: =NETWORKDAYS(A11,B11) -> 0 | D11: =NETWORKDAYS(A11,B11,Tableau1[JOUR]) -> 0 | E11: =E10+C11 -> 167
A12: 40591 | B12: 40592 | C12: =NETWORKDAYS(A12,B12) -> 2 | D12: =NETWORKDAYS(A12,B12,Tableau1[JOUR]) -> 2 | E12: =E11+C12 -> 169
A13: 40780 | B13: 40788 | C13: =NETWORKDAYS(A13,B13) -> 7 | D13: =NETWORKDAYS(A13,B13,Tableau1[JOUR]) -> 7 | E13: =E12+C13 -> 176 | F13: =SUM(C7:C13) -> 24 | G13: =SUM(D7:D13) -> 24
A14: 2012 | B14: 43435 | E14: =E13+C14 -> 176 | F14: 345
A15: 40989 | B15: 40996 | C15: =NETWORKDAYS(A15,B15) -> 6 | D15: =NETWORKDAYS(A15,B15,Tableau1[JOUR]) -> 6 | E15: =E14+C15 -> 182
A16: 41158 | B16: 41169 | C16: =NETWORKDAYS(A16,B16) -> 8 | D16: =NETWORKDAYS(A16,B16,Tableau1[JOUR]) -> 8 | E16: =E15+C16 -> 190
A17: 41170 | B17: 41173 | C17: =NETWORKDAYS(A17,B17) -> 4 | D17: =NETWORKDAYS(A17,B17,Tableau1[JOUR]) -> 4 | E17: =E16+C17 -> 194
A18: 41242 | B18: 41242 | C18: =NETWORKDAYS(A18,B18) -> 1 | D18: =NETWORKDAYS(A18,B18,Tableau1[JOUR]) -> 1 | E18: =E17+C18 -> 195
A19: 41243 | B19: 41243 | C19: =NETWORKDAYS(A19,B19) -> 1 | D19: =NETWORKDAYS(A19,B19,Tableau1[JOUR]) -> 1 | E19: =E18+C19 -> 196 | F19: =SUM(C14:C19) -> 20 | G19: =SUM(D14:D19) -> 20
A20: 41244 | B20: 41255 | C20: =NETWORKDAYS(A20,B20) -> 8 | D20: =NETWORKDAYS(A20,B20,Tableau1[JOUR]) -> 8 | E20: =E19+C20 -> 204
A21: 41256 | B21: 41262 | C21: =NETWORKDAYS(A21,B21) -> 5 | D21: =NETWORKDAYS(A21,B21,Tableau1[JOUR]) -> 5 | E21: =E20+C21 -> 209
A22: 41263 | B22: 41274 | C22: =NETWORKDAYS(A22,B22) -> 8 | D22: =NETWORKDAYS(A22,B22,Tableau1[JOUR]) -> 8 | E22: =E21+C22 -> 217
A23: 2013 | B23: 43435 | E23: =E22+C23 -> 217 | F23: 367
A24: 41304 | B24: 41306 | C24: =NETWORKDAYS(A24,B24) -> 3 | D24: =NETWORKDAYS(A24,B24,Tableau1[JOUR]) -> 3 | E24: =E23+C24 -> 220
A25: 41324 | B25: 41327 | C25: =NETWORKDAYS(A25,B25) -> 4 | D25: =NETWORKDAYS(A25,B25,Tableau1[JOUR]) -> 4 | E25: =E24+C25 -> 224
A26: 41328 | B26: 41334 | C26: =NETWORKDAYS(A26,B26) -> 5 | D26: =NETWORKDAYS(A26,B26,Tableau1[JOUR]) -> 5 | E26: =E25+C26 -> 229
A27: 41359 | B27: 41362 | C27: =NETWORKDAYS(A27,B27) -> 4 | D27: =NETWORKDAYS(A27,B27,Tableau1[JOUR]) -> 4 | E27: =E26+C27 -> 233
A28: 41437 | B28: 41439 | C28: =NETWORKDAYS(A28,B28) -> 3 | D28: =NETWORKDAYS(A28,B28,Tableau1[JOUR]) -> 3 | E28: =E27+C28 -> 236
A29: 41443 | B29: 41449 | C29: =NETWORKDAYS(A29,B29) -> 5 | D29: =NETWORKDAYS(A29,B29,Tableau1[JOUR]) -> 5 | E29: =E28+C29 -> 241
A30: 41555 | B30: 41558 | C30: =NETWORKDAYS(A30,B30) -> 4 | D30: =NETWORKDAYS(A30,B30,Tableau1[JOUR]) -> 4 | E30: =E29+C30 -> 245
A31: 41561 | B31: 41565 | C31: =NETWORKDAYS(A31,B31) -> 5 | D31: =NETWORKDAYS(A31,B31,Tableau1[JOUR]) -> 5 | E31: =E30+C31 -> 250
A32: 41568 | B32: 41572 | C32: =NETWORKDAYS(A32,B32) -> 5 | D32: =NETWORKDAYS(A32,B32,Tableau1[JOUR]) -> 5 | E32: =E31+C32 -> 255
A33: 41575 | B33: 41582 | C33: =NETWORKDAYS(A33,B33) -> 6 | D33: =NETWORKDAYS(A33,B33,Tableau1[JOUR]) -> 6 | E33: =E32+C33 -> 261
A34: 41583 | B34: 41586 | C34: =NETWORKDAYS(A34,B34) -> 4 | D34: =NETWORKDAYS(A34,B34,Tableau1[JOUR]) -> 4 | E34: =E33+C34 -> 265 | F34: =SUM(C20:C34) -> 69 | G34: =SUM(D20:D34) -> 69
A35: 2014 | B35: 43160 | E35: =E34+C35 -> 265 | F35: 387
A36: 41681 | B36: 41684 | C36: =NETWORKDAYS(A36,B36) -> 4 | D36: =NETWORKDAYS(A36,B36,Tableau1[JOUR]) -> 4 | E36: =E35+C36 -> 269
A37: 41685 | B37: 41691 | C37: =NETWORKDAYS(A37,B37) -> 5 | D37: =NETWORKDAYS(A37,B37,Tableau1[JOUR]) -> 5 | E37: =E36+C37 -> 274 | F37: =SUM(C36:C37) -> 9 | G37: =SUM(D36:D37) -> 9
A38: 41765 | B38: 41774 | C38: =NETWORKDAYS(A38,B38) -> 8 | D38: =NETWORKDAYS(A38,B38,Tableau1[JOUR]) -> 8 | E38: =E37+C38 -> 282
A39: 2015 | B39: 43160 | E39: =E38+C39 -> 282 | F39: 404
A40: 42045 | B40: 42048 | C40: =NETWORKDAYS(A40,B40) -> 4 | D40: =NETWORKDAYS(A40,B40,Tableau1[JOUR]) -> 4 | E40: =E39+C40 -> 286
...
