Workbook
Name JF: Tableau1[]
Name JF: Tableau1[]
Name JF: Tableau1[]
Name JF: Tableau1[]
Name JF: Tableau1[]
Name JF: Tableau1[]

Sheet JF
A1: RAISON | B1: JOUR | D1: ABS SUPPLEMENTAIRE - REGIME | H1: Attention, les jours fériés de 2019 ne sont pas implémentés !
A2: Jour de l'An | B2: 41640 | D2: Début | E2: Fin | F2: Nb semaine
A3: Lundi de Pâques | B3: 41750 | D3: 41640 | E3: 42004 | F3: 2
A4: Fête du Travail | B4: 41760 | D4: Jour(s) de non-prestation - semaine 1 | H4: Attention, les absences supplémentaires ne comptabilisent pas les demi-jours !
A5: Jeudi de l'Ascension | B5: 41788 | D5: 41649
A6: Lundi de la Pentecôte | B6: 41799 | D6: Jour(s) de non-prestation - semaine 2
A7: Fête Nationale | B7: 41841 | D7: 41652
A8: Assomption | B8: 41866 | D8: Jour(s) de non-prestation - semaine 3
A9: Toussaint | B9: 41944
A10: Fête de l'Armistice | B10: 41954
A11: Fête du Roi | B11: 41958 | D11: ABS SUPPLEMENTAIRE - REGIME
A12: Noël | B12: 41998 | D12: Début | E12: Fin | F12: Nb semaine
A13: Jour de l'An | B13: 42005 | F13: 1
A14: Lundi de Pâques | B14: 42100 | D14: Jour(s) de non-prestation - semaine 1
A15: Fête du Travail | B15: 42125
A16: Jeudi de l'Ascension | B16: 42138 | D16: Jour(s) de non-prestation - semaine 2
A17: Lundi de la Pentecôte | B17: 42149
A18: Fête Nationale | B18: 42206 | D18: Jour(s) de non-prestation - semaine 3
A19: Assomption | B19: 42231
A20: Toussaint | B20: 42309
A21: Fête de l'Armistice | B21: 42319 | D21: ABS SUPPLEMENTAIRE - REGIME
A22: Fête du Roi | B22: 42323 | D22: Début | E22: Fin | F22: Nb semaine
A23: Noël | B23: 42363 | F23: 1
A24: Jour de l'An | B24: 42370 | D24: Jour(s) de non-prestation - semaine 1
A25: Lundi de Pâques | B25: 42457
A26: Fête du Travail | B26: 42491 | D26: Jour(s) de non-prestation - semaine 2
A27: Jeudi de l'Ascension | B27: 42495
A28: Lundi de la Pentecôte | B28: 42506 | D28: Jour(s) de non-prestation - semaine 3
A29: Fête Nationale | B29: 42572
A30: Assomption | B30: 42597
A31: Toussaint | B31: 42675 | D31: ABS SUPPLEMENTAIRE - REGIME
A32: Fête de l'Armistice | B32: 42685 | D32: Début | E32: Fin | F32: Nb semaine
A33: Fête du Roi | B33: 42689 | F33: 1
A34: Noël | B34: 42729 | D34: Jour(s) de non-prestation - semaine 1
A35: Jour de l'An | B35: 42736
A36: Lundi de Pâques | B36: 42842 | D36: Jour(s) de non-prestation - semaine 2
A37: Fête du Travail | B37: 42856
A38: Jeudi de l'Ascension | B38: 42880 | D38: Jour(s) de non-prestation - semaine 3
A39: Lundi de la Pentecôte | B39: 42891
A40: Fête Nationale | B40: 42937
A41: Assomption | B41: 42962 | D41: ABS SUPPLEMENTAIRE - REGIME
A42: Toussaint | B42: 43040 | D42: Début | E42: Fin | F42: Nb semaine
A43: Fête de l'Armistice | B43: 43050 | F43: 1
A44: Fête du Roi | B44: 43054 | D44: Jour(s) de non-prestation - semaine 1
A45: Noël | B45: 43094
A46: Jour de l'An | B46: 43101 | D46: Jour(s) de non-prestation - semaine 2
A47: Lundi de Pâques | B47: 43192
A48: Fête du Travail | B48: 43221 | D48: Jour(s) de non-prestation - semaine 3
A49: Jeudi de l'Ascension | B49: 43230
A50: Lundi de la Pentecôte | B50: 43241
A51: Fête Nationale | B51: 43302
A52: Assomption | B52: 43327
A53: Toussaint | B53: 43405
A54: Fête de l'Armistice | B54: 43415
A55: Fête du Roi | B55: 43419
A56: Noël | B56: 43459

Sheet AVANT 2014
A1: Total précédent | B1: 0 | D1: Implémentez ici le résultat de votre calcul manuel pour la période précédent la date d'octroi de 2014.
A3: Total précédent | B3: 0 | D3: Autres

Sheet 2014
A1: Début période | B1: Fin période | C1: J. cal. | D1: J. ouvr. | E1: J. ouvr. prestés | F1: Total | H1: Total précédent | I1: Total actuel
A2: 41652 | B2: 41670 | C2: =_xlfn.DAYS(B2,A2)+1 -> 19 | D2: =NETWORKDAYS(A2,B2) -> 15 | E2: =NETWORKDAYS(A2,B2,Tableau1[JOUR]) -> 15 | F2: =H2+E2 -> 15 | H2: ='AVANT 2014'!B1 -> 0 | I2: =LOOKUP(9^9,ABS_2014[Total]) -> 36
A3: 41730 | B3: 41759 | C3: =_xlfn.DAYS(B3,A3)+1 -> 30 | D3: =NETWORKDAYS(A3,B3) -> 22 | E3: =NETWORKDAYS(A3,B3,Tableau1[JOUR]) -> 21 | F3: =F2+E3 -> 36

Sheet 2015
A1: Début période | B1: Fin période | C1: J. cal. | D1: J. ouvr. | E1: J. ouvr. prestés | F1: Total | H1: Total précédent | I1: Total actuel
C2: =_xlfn.DAYS(B2,A2)+1 -> 1 | D2: =NETWORKDAYS(A2,B2) -> 0 | E2: =NETWORKDAYS(A2,B2,Tableau1[JOUR]) -> 0 | F2: =H2+E2 -> 36 | H2: ='2014'!$I$2 -> 36 | I2: =LOOKUP(9^9,ABS_2015[Total]) -> 36

Sheet 2016
A1: Début période | B1: Fin période | C1: J. cal. | D1: J. ouvr. | E1: J. ouvr. prestés | F1: Total | H1: Total précédent | I1: Total actuel
C2: =_xlfn.DAYS(B2,A2)+1 -> 1 | D2: =NETWORKDAYS(A2,B2) -> 0 | E2: =NETWORKDAYS(A2,B2,Tableau1[JOUR]) -> 0 | F2: =H2+E2 -> 36 | H2: ='2015'!$I$2 -> 36 | I2: =LOOKUP(9^9,ABS_2016[Total]) -> 36

Sheet 2017
A1: Début période | B1: Fin période | C1: J. cal. | D1: J. ouvr. | E1: J. ouvr. prestés | F1: Total | H1: Total précédent | I1: Total actuel
C2: =_xlfn.DAYS(B2,A2)+1 -> 1 | D2: =NETWORKDAYS(A2,B2) -> 0 | E2: =NETWORKDAYS(A2,B2,Tableau1[JOUR]) -> 0 | F2: =H2+E2 -> 36 | H2: ='2016'!$I$2 -> 36 | I2: =LOOKUP(9^9,ABS_2017[Total]) -> 36

Sheet 2018
A1: Début période | B1: Fin période | C1: J. cal. | D1: J. ouvr. | E1: J. ouvr. prestés | F1: Total | H1: Total précédent | I1: Total actuel
C2: =_xlfn.DAYS(B2,A2)+1 -> 1 | D2: =NETWORKDAYS(A2,B2) -> 0 | E2: =NETWORKDAYS(A2,B2,Tableau1[JOUR]) -> 0 | F2: =H2+E2 -> 36 | H2: ='2017'!$I$2 -> 36 | I2: =LOOKUP(9^9,ABS_2018[Total]) -> 36

Sheet 2019
A1: Début période | B1: Fin période | C1: J. cal. | D1: J. ouvr. | E1: J. ouvr. prestés | F1: Total | H1: Total précédent | I1: Total actuel | K1: Attention, les jours fériés de cette année ne sont pas implémentés !
C2: =_xlfn.DAYS(B2,A2)+1 -> 1 | D2: =NETWORKDAYS(A2,B2) -> 0 | E2: =NETWORKDAYS(A2,B2,Tableau1[JOUR]) -> 0 | F2: =H2+E2 -> 36 | H2: ='2018'!$I$2 -> 36 | I2: =LOOKUP(9^9,ABS_2019[Total]) -> 36

Sheet CALCUL
A1: 2009 aucun jour | C1: jo | D1: jo+jf | E1: 140 | F1: Octroi
A2: 2010 | B2: 43435 | E2: =E1+C2 -> 140 | F2: 310
A3: 40218 | B3: 40218 | C3: =NETWORKDAYS(A3,B3) -> 1 | D3: =NETWORKDAYS(A3,B3,Tableau1[JOUR]) -> 1 | E3: =E2+C3 -> 141
A4: 40219 | B4: 40219 | C4: =NETWORKDAYS(A4,B4) -> 1 | D4: =NETWORKDAYS(A4,B4,Tableau1[JOUR]) -> 1 | E4: =E3+C4 -> 142
A5: 40301 | B5: 40303 | C5: =NETWORKDAYS(A5,B5) -> 3 | D5: =NETWORKDAYS(A5,B5,Tableau1[JOUR]) -> 3 | E5: =E4+C5 -> 145
A6: 40304 | B6: 40312 | C6: =NETWORKDAYS(A6,B6) -> 7 | D6: =NETWORKDAYS(A6,B6,Tableau1[JOUR]) -> 7 | E6: =E5+C6 -> 152 | F6: =SUM(C3:C6) -> 12 | G6: =SUM(D3:D6) -> 12
A7: 40525 | B7: 40525 | C7: =NETWORKDAYS(A7,B7) -> 1 | D7: =NETWORKDAYS(A7,B7,Tableau1[JOUR]) -> 1 | E7: =E6+C7 -> 153
A8: 40526 | B8: 40529 | C8: =NETWORKDAYS(A8,B8) -> 4 | D8: =NETWORKDAYS(A8,B8,Tableau1[JOUR]) -> 4 | E8: =E7+C8 -> 157
A9: 40530 | B9: 40543 | C9: =NETWORKDAYS(A9,B9) -> 10 | D9: =NETWORKDAYS(A9,B9,Tableau1[JOUR]) -> 10 | E9: =E8+C9 -> 167
A10: 2011 | B10: 43435 | E10: =E9+C10 -> 167 | F10: 329
A11: 40544 | B11: 40545 | C11: =NETWORKDAYS(A11,B11) -> 0 | D11: =NETWORKDAYS(A11,B11,Tableau1[JOUR]) -> 0 | E11: =E10+C11 -> 167
A12: 40591 | B12: 40592 | C12: =NETWORKDAYS(A12,B12) -> 2 | D12: =NETWORKDAYS(A12,B12,Tableau1[JOUR]) -> 2 | E12: =E11+C12 -> 169
A13: 40780 | B13: 40788 | C13: =NETWORKDAYS(A13,B13) -> 7 | D13: =NETWORKDAYS(A13,B13,Tableau1[JOUR]) -> 7 | E13: =E12+C13 -> 176 | F13: =SUM(C7:C13) -> 24 | G13: =SUM(D7:D13) -> 24
A14: 2012 | B14: 43435 | E14: =E13+C14 -> 176 | F14: 345
A15: 40989 | B15: 40996 | C15: =NETWORKDAYS(A15,B15) -> 6 | D15: =NETWORKDAYS(A15,B15,Tableau1[JOUR]) -> 6 | E15: =E14+C15 -> 182
A16: 41158 | B16: 41169 | C16: =NETWORKDAYS(A16,B16) -> 8 | D16: =NETWORKDAYS(A16,B16,Tableau1[JOUR]) -> 8 | E16: =E15+C16 -> 190
A17: 41170 | B17: 41173 | C17: =NETWORKDAYS(A17,B17) -> 4 | D17: =NETWORKDAYS(A17,B17,Tableau1[JOUR]) -> 4 | E17: =E16+C17 -> 194
A18: 41242 | B18: 41242 | C18: =NETWORKDAYS(A18,B18) -> 1 | D18: =NETWORKDAYS(A18,B18,Tableau1[JOUR]) -> 1 | E18: =E17+C18 -> 195
A19: 41243 | B19: 41243 | C19: =NETWORKDAYS(A19,B19) -> 1 | D19: =NETWORKDAYS(A19,B19,Tableau1[JOUR]) -> 1 | E19: =E18+C19 -> 196 | F19: =SUM(C14:C19) -> 20 | G19: =SUM(D14:D19) -> 20
A20: 41244 | B20: 41255 | C20: =NETWORKDAYS(A20,B20) -> 8 | D20: =NETWORKDAYS(A20,B20,Tableau1[JOUR]) -> 8 | E20: =E19+C20 -> 204
A21: 41256 | B21: 41262 | C21: =NETWORKDAYS(A21,B21) -> 5 | D21: =NETWORKDAYS(A21,B21,Tableau1[JOUR]) -> 5 | E21: =E20+C21 -> 209
A22: 41263 | B22: 41274 | C22: =NETWORKDAYS(A22,B22) -> 8 | D22: =NETWORKDAYS(A22,B22,Tableau1[JOUR]) -> 8 | E22: =E21+C22 -> 217
A23: 2013 | B23: 43435 | E23: =E22+C23 -> 217 | F23: 367
A24: 41304 | B24: 41306 | C24: =NETWORKDAYS(A24,B24) -> 3 | D24: =NETWORKDAYS(A24,B24,Tableau1[JOUR]) -> 3 | E24: =E23+C24 -> 220
A25: 41324 | B25: 41327 | C25: =NETWORKDAYS(A25,B25) -> 4 | D25: =NETWORKDAYS(A25,B25,Tableau1[JOUR]) -> 4 | E25: =E24+C25 -> 224
A26: 41328 | B26: 41334 | C26: =NETWORKDAYS(A26,B26) -> 5 | D26: =NETWORKDAYS(A26,B26,Tableau1[JOUR]) -> 5 | E26: =E25+C26 -> 229
A27: 41359 | B27: 41362 | C27: =NETWORKDAYS(A27,B27) -> 4 | D27: =NETWORKDAYS(A27,B27,Tableau1[JOUR]) -> 4 | E27: =E26+C27 -> 233
A28: 41437 | B28: 41439 | C28: =NETWORKDAYS(A28,B28) -> 3 | D28: =NETWORKDAYS(A28,B28,Tableau1[JOUR]) -> 3 | E28: =E27+C28 -> 236
A29: 41443 | B29: 41449 | C29: =NETWORKDAYS(A29,B29) -> 5 | D29: =NETWORKDAYS(A29,B29,Tableau1[JOUR]) -> 5 | E29: =E28+C29 -> 241
A30: 41555 | B30: 41558 | C30: =NETWORKDAYS(A30,B30) -> 4 | D30: =NETWORKDAYS(A30,B30,Tableau1[JOUR]) -> 4 | E30: =E29+C30 -> 245
A31: 41561 | B31: 41565 | C31: =NETWORKDAYS(A31,B31) -> 5 | D31: =NETWORKDAYS(A31,B31,Tableau1[JOUR]) -> 5 | E31: =E30+C31 -> 250
A32: 41568 | B32: 41572 | C32: =NETWORKDAYS(A32,B32) -> 5 | D32: =NETWORKDAYS(A32,B32,Tableau1[JOUR]) -> 5 | E32: =E31+C32 -> 255
A33: 41575 | B33: 41582 | C33: =NETWORKDAYS(A33,B33) -> 6 | D33: =NETWORKDAYS(A33,B33,Tableau1[JOUR]) -> 6 | E33: =E32+C33 -> 261
A34: 41583 | B34: 41586 | C34: =NETWORKDAYS(A34,B34) -> 4 | D34: =NETWORKDAYS(A34,B34,Tableau1[JOUR]) -> 4 | E34: =E33+C34 -> 265 | F34: =SUM(C20:C34) -> 69 | G34: =SUM(D20:D34) -> 69
A35: 2014 | B35: 43160 | E35: =E34+C35 -> 265 | F35: 387
A36: 41681 | B36: 41684 | C36: =NETWORKDAYS(A36,B36) -> 4 | D36: =NETWORKDAYS(A36,B36,Tableau1[JOUR]) -> 4 | E36: =E35+C36 -> 269
A37: 41685 | B37: 41691 | C37: =NETWORKDAYS(A37,B37) -> 5 | D37: =NETWORKDAYS(A37,B37,Tableau1[JOUR]) -> 5 | E37: =E36+C37 -> 274 | F37: =SUM(C36:C37) -> 9 | G37: =SUM(D36:D37) -> 9
A38: 41765 | B38: 41774 | C38: =NETWORKDAYS(A38,B38) -> 8 | D38: =NETWORKDAYS(A38,B38,Tableau1[JOUR]) -> 8 | E38: =E37+C38 -> 282
A39: 2015 | B39: 43160 | E39: =E38+C39 -> 282 | F39: 404
A40: 42045 | B40: 42048 | C40: =NETWORKDAYS(A40,B40) -> 4 | D40: =NETWORKDAYS(A40,B40,Tableau1[JOUR]) -> 4 | E40: =E39+C40 -> 286
A41: 42052 | B41: 42052 | C41: =NETWORKDAYS(A41,B41) -> 1 | D41: =NETWORKDAYS(A41,B41,Tableau1[JOUR]) -> 1 | E41: =E40+C41 -> 287 | F41: =SUM(C40:C41) -> 5 | G41: =SUM(D40:D41) -> 5
A42: 42144 | B42: 42153 | C42: =NETWORKDAYS(A42,B42) -> 8 | D42: =NETWORKDAYS(A42,B42,Tableau1[JOUR]) -> 7 | E42: =E41+C42 -> 295
A43: 42255 | B43: 42258 | C43: =NETWORKDAYS(A43,B43) -> 4 | D43: =NETWORKDAYS(A43,B43,Tableau1[JOUR]) -> 4 | E43: =E42+C43 -> 299
A44: 2016 | B44: 43160 | E44: =E43+C44 -> 299 | F44: 425
A45: 42374 | B45: 42376 | C45: =NETWORKDAYS(A45,B45) -> 3 | D45: =NETWORKDAYS(A45,B45,Tableau1[JOUR]) -> 3 | E45: =E44+C45 -> 302
A46: 42377 | B46: 42421 | C46: =NETWORKDAYS(A46,B46) -> 31 | D46: =NETWORKDAYS(A46,B46,Tableau1[JOUR]) -> 31 | E46: =E45+C46 -> 333
A47: 42422 | B47: 42429 | C47: =NETWORKDAYS(A47,B47) -> 6 | D47: =NETWORKDAYS(A47,B47,Tableau1[JOUR]) -> 6 | E47: =E46+C47 -> 339 | F47: =SUM(C42:C47) -> 52 | G47: =SUM(D42:D47) -> 51
A48: 42430 | B48: 42460 | C48: =NETWORKDAYS(A48,B48) -> 23 | D48: =NETWORKDAYS(A48,B48,Tableau1[JOUR]) -> 22 | E48: =E46+C48 -> 356
A49: 42461 | B49: 42490 | C49: =NETWORKDAYS(A49,B49) -> 21 | D49: =NETWORKDAYS(A49,B49,Tableau1[JOUR]) -> 21 | E49: =E47+C49 -> 360
A50: 42491 | B50: 42503 | C50: =NETWORKDAYS(A50,B50) -> 10 | D50: =NETWORKDAYS(A50,B50,Tableau1[JOUR]) -> 9 | E50: =E49+C50 -> 370
A51: 42703 | B51: 42706 | C51: =NETWORKDAYS(A51,B51) -> 4 | D51: =NETWORKDAYS(A51,B51,Tableau1[JOUR]) -> 4 | E51: =E50+C51 -> 374
A52: 42709 | B52: 42713 | C52: =NETWORKDAYS(A52,B52) -> 5 | D52: =NETWORKDAYS(A52,B52,Tableau1[JOUR]) -> 5 | E52: =E51+C52 -> 379
A53: 42727 | B53: 42731 | C53: =NETWORKDAYS(A53,B53) -> 3 | D53: =NETWORKDAYS(A53,B53,Tableau1[JOUR]) -> 3 | E53: =E52+C53 -> 382 | F53: =SUM(C48:C53) -> 66 | G53: =SUM(D48:D53) -> 64
A54: 2017 | B54: 43160 | E54: =E53+C54 -> 382 | F54: 446
A55: 42808 | B55: 42811 | C55: =NETWORKDAYS(A55,B55) -> 4 | D55: =NETWORKDAYS(A55,B55,Tableau1[JOUR]) -> 4 | E55: =E54+C55 -> 386
A56: 42812 | B56: 42818 | C56: =NETWORKDAYS(A56,B56) -> 5 | D56: =NETWORKDAYS(A56,B56,Tableau1[JOUR]) -> 5 | E56: =E55+C56 -> 391
A57: 42857 | B57: 42860 | C57: =NETWORKDAYS(A57,B57) -> 4 | D57: =NETWORKDAYS(A57,B57,Tableau1[JOUR]) -> 4 | E57: =E56+C57 -> 395
A58: 42898 | B58: 42909 | C58: =NETWORKDAYS(A58,B58) -> 10 | D58: =NETWORKDAYS(A58,B58,Tableau1[JOUR]) -> 10 | E58: =E57+C58 -> 405
A59: 42912 | B59: 42930 | C59: =NETWORKDAYS(A59,B59) -> 15 | D59: =NETWORKDAYS(A59,B59,Tableau1[JOUR]) -> 15 | E59: =E58+C59 -> 420
A60: 42933 | B60: 42940 | C60: =NETWORKDAYS(A60,B60) -> 6 | D60: =NETWORKDAYS(A60,B60,Tableau1[JOUR]) -> 5 | E60: =E59+C60 -> 426
A61: 42941 | B61: 42965 | C61: =NETWORKDAYS(A61,B61) -> 19 | D61: =NETWORKDAYS(A61,B61,Tableau1[JOUR]) -> 18 | E61: =E60+C61 -> 445
A62: 43033 | B62: 43042 | C62: =NETWORKDAYS(A62,B62) -> 8 | D62: =NETWORKDAYS(A62,B62,Tableau1[JOUR]) -> 7 | E62: =E61+C62 -> 453
A63: 43045 | B63: 43048 | C63: =NETWORKDAYS(A63,B63) -> 4 | D63: =NETWORKDAYS(A63,B63,Tableau1[JOUR]) -> 4 | E63: =E62+C63 -> 457 | F63: =SUM(C55:C63) -> 75 | G63: =SUM(D55:D63) -> 72
A64: 2018 | B64: 43160 | E64: =E63+C64 -> 457 | F64: ?
