Workbook

Sheet Import
A1: Nom Hôtel | B1: TO YTD N-1 (Indicateurs Topline) | C1: TO YTD N (Indicateurs Topline) | D1: TO YTD Var N/N-1 (Indicateurs Topline) | E1: Prix Moyen YTD N-1 (Indicateurs Topline) | F1: Prix Moyen YTD N (Indicateurs Topline) | G1: Prix Moyen YTD Var N/N-1 (Indicateurs Topline) | H1: RevPar YTD N-1 (Indicateurs Topline) | I1: RevPar YTD N (Indicateurs Topline) | J1: RevPar YTD Var N/N-1 (Indicateurs Topline) | K1: CA Total TTC YTD N-1 (K) (Indicateurs Topline) | L1: CA Total TTC YTD N (K) (Indicateurs Topline) | M1: CA Heb TTC (K) YTD Var N/N-1 (Indicateurs Topline) | N1: CA Heb TTC YTD N-1 (K) (Indicateurs Topline) | O1: CA Heb TTC YTD N (K) (Indicateurs Topline) | P1: CA Total TTC (K) YTD Var N/N-1 (Indicateurs Topline) | Q1: CA Booking YTD N-1 (Indicateurs Distribution) | R1: CA Booking YTD N (Indicateurs Distribution) | S1: Nb Ch. Booking YTD N-1 (Indicateurs Distribution) | T1: Nb Ch. Booking YTD N (Indicateurs Distribution) | U1: CA Web Accor YTD N-1 (Indicateurs Distribution) | V1: CA Web Accor YTD N (Indicateurs Distribution) | W1: Nb Ch. Web Accor YTD N-1 (Indicateurs Distribution) | X1: Nb Ch. Web Accor YTD N (Indicateurs Distribution) | Y1: Taux de Conformité Global Total N-1 (Indicateurs Qualité) | Z1: Taux de Conformité Global Total N (Indicateurs Qualité) | AA1: NPS Hôtel YTD (Indicateurs Qualité) | AB1: NPS Hôtel YTD Var N/N-1 (Indicateurs Qualité) | AC1: NPS Marque YTD (Indicateurs Qualité) | AD1: NPS Marque YTD Var N/N-1 (Indicateurs Qualité) | AE1: Trip advisor Score YTD N (Indicateurs Qualité) | AF1: Trip advisor Score YTD Var N/N-1 (Indicateurs Qualité) | AG1: TrustScore YTD N (Indicateurs Qualité) | AH1: TrustScore YTD Var N/N-1 (Indicateurs Qualité) | AI1: Nb Reviews YTD N (Indicateurs Qualité) | AJ1: Nb Reviews YTD Var N/N-1 (Indicateurs Qualité) | AK1: Marque | AL1: Devise (Indicateurs Topline) | AM1: Devise (Indicateurs Distribution) | AO1: Marque_2
A2: Hôtel Mercure 1 | B2: 52.84 | C2: 58.77 | D2: 5.93 | E2: 82.9 | F2: 84.32 | G2: 1.71 | H2: 43.8 | I2: 49.56 | J2: 13.15 | K2: 1077167.6 | L2: 1222895.8 | M2: 13.8 | N2: 906064.32 | O2: 1031056.7 | P2: 13.53 | Q2: 41412.8 | R2: 45426.25 | S2: 372 | T2: 369 | U2: 126902.65 | V2: 151455.85 | W2: 1200 | X2: 1275 | Y2: 84.62 | Z2: 82.69 | AA2: 30.2 | AB2: 2.11 | AC2: 33.06 | AD2: 1.6 | AE2: 70 | AF2: 0 | AG2: 75.08 | AH2: 3.54 | AI2: 53 | AJ2: -5 | AK2: MERCURE | AL2: euro | AM2: euro | AO2: =IF(AK2="MERCURE","MERCURE",IF(OR(AK2="NOVOTEL",AK2="SUITE NOVOTEL"),"NOVOTEL","")) -> MERCURE
A3: Hôtel Mercure 2 | B3: 52.7 | C3: 53.33 | D3: 0.63 | E3: 104.23 | F3: 109.15 | G3: 4.72 | H3: 54.93 | I3: 58.22 | J3: 5.99 | K3: 1565466.7 | L3: 1645788.5 | M3: 5.99 | N3: 1343287.2 | O3: 1423698.2 | P3: 5.13 | Q3: 121864 | R3: 93533.4 | S3: 1049 | T3: 783 | U3: 203067.6 | V3: 204470.82 | W3: 1778 | X3: 1716 | Y3: 97.77 | Z3: 93.74 | AA3: 50.47 | AB3: -3.25 | AC3: 46.28 | AD3: -2.58 | AE3: 90 | AF3: 0 | AG3: 85.58 | AH3: -1 | AI3: 274 | AJ3: -14 | AK3: MERCURE | AL3: euro | AM3: euro | AO3: =IF(AK3="MERCURE","MERCURE",IF(OR(AK3="NOVOTEL",AK3="SUITE NOVOTEL"),"NOVOTEL","")) -> MERCURE
A4: Novotel 1 | B4: 46.94 | C4: 57.07 | D4: 10.13 | E4: 73.29 | F4: 92.98 | G4: 26.87 | H4: 34.4 | I4: 53.07 | J4: 54.27 | K4: 214829.52 | L4: 4017080.3 | M4: 1841.81 | N4: 138659.58 | O4: 2692505.4 | P4: 1769.89 | Q4: 284734.04 | R4: 398520.29 | S4: 2600 | T4: 3778 | U4: 410644.88 | V4: 368183.99 | W4: 3867 | X4: 3222 | Y4: 93.2 | Z4: 92.54 | AA4: 1.01 | AB4: 10.24 | AC4: 24.18 | AD4: 7.94 | AE4: 60 | AF4: 0 | AG4: 68.42 | AH4: 0.83 | AI4: 433 | AJ4: 69 | AK4: NOVOTEL | AL4: euro | AM4: euro | AO4: =IF(AK4="MERCURE","MERCURE",IF(OR(AK4="NOVOTEL",AK4="SUITE NOVOTEL"),"NOVOTEL","")) -> NOVOTEL
A5: Novotel 2 | B5: 45.23 | C5: 53.1 | D5: 7.87 | E5: 91.06 | F5: 86.24 | G5: -5.29 | H5: 41.19 | I5: 45.79 | J5: 11.17 | K5: 2887493.4 | L5: 3152666.6 | M5: 11.17 | N5: 1683896.1 | O5: 1871929.3 | P5: 9.18 | Q5: 65813 | R5: 101677.29 | S5: 672 | T5: 1071 | U5: 308992.85 | V5: 374363.28 | W5: 3100 | X5: 4046 | Y5: 92.17 | Z5: 97.51 | AA5: 31.97 | AB5: 13.4 | AC5: 41.54 | AD5: 12.87 | AE5: 70 | AF5: 0 | AG5: 78.75 | AH5: 1.67 | AI5: 283 | AJ5: 104 | AK5: NOVOTEL | AL5: euro | AM5: euro | AO5: =IF(AK5="MERCURE","MERCURE",IF(OR(AK5="NOVOTEL",AK5="SUITE NOVOTEL"),"NOVOTEL","")) -> NOVOTEL
A6: Novotel 3 | B6: 72.39 | C6: 76.49 | D6: 4.1 | E6: 141.56 | F6: 146.42 | G6: 3.43 | H6: 102.48 | I6: 112 | J6: 9.29 | K6: 7636648.5 | L6: 8166135.9 | M6: 9.29 | N6: 5610557 | O6: 6131820.3 | P6: 6.93 | Q6: 554583 | R6: 683369.26 | S6: 3619 | T6: 4685 | U6: 892240.57 | V6: 899941.01 | W6: 5993 | X6: 5813 | Y6: 93.36 | Z6: 87.56 | AA6: 29.32 | AB6: 3.6 | AC6: 36.71 | AD6: 1.73 | AE6: 80 | AF6: 0 | AG6: 79.67 | AH6: 0.25 | AI6: 904 | AJ6: 144 | AK6: NOVOTEL | AL6: euro | AM6: euro | AO6: =IF(AK6="MERCURE","MERCURE",IF(OR(AK6="NOVOTEL",AK6="SUITE NOVOTEL"),"NOVOTEL","")) -> NOVOTEL
A7: Novotel 4 | B7: 67.44 | C7: 73.72 | D7: 6.28 | E7: 139.99 | F7: 138.36 | G7: -1.16 | H7: 94.42 | I7: 101.99 | J7: 8.02 | K7: 5135870.9 | L7: 5426639.3 | M7: 8.02 | N7: 3859762 | O7: 4169421.9 | P7: 5.66 | Q7: 125793.5 | R7: 144558.69 | S7: 906 | T7: 1208 | U7: 377777.28 | V7: 471161.44 | W7: 2788 | X7: 3516 | Y7: 94.03 | Z7: 89.69 | AA7: 9.52 | AB7: -7.3 | AC7: 23.43 | AD7: -13.95 | AE7: 70 | AF7: 0 | AG7: 73.83 | AH7: -1 | AI7: 253 | AJ7: 68 | AK7: NOVOTEL | AL7: euro | AM7: euro | AO7: =IF(AK7="MERCURE","MERCURE",IF(OR(AK7="NOVOTEL",AK7="SUITE NOVOTEL"),"NOVOTEL","")) -> NOVOTEL
A8: Novotel 5 | B8: 60.97 | C8: 64 | D8: 3.03 | E8: 92.84 | F8: 94.69 | G8: 1.99 | H8: 56.61 | I8: 60.6 | J8: 7.05 | K8: 4743321.4 | L8: 5014187.4 | M8: 7.05 | N8: 2624130 | O8: 2809256.6 | P8: 5.71 | Q8: 98101 | R8: 163945.7 | S8: 913 | T8: 1532 | U8: 553798.34 | V8: 620354.46 | W8: 5320 | X8: 5787 | Y8: 93.87 | Z8: 90.98 | AA8: 29.02 | AB8: 2.79 | AC8: 36.2 | AD8: 1.62 | AE8: 80 | AF8: 0 | AG8: 80 | AH8: 0.58 | AI8: 478 | AJ8: 46 | AK8: NOVOTEL | AL8: euro | AM8: euro | AO8: =IF(AK8="MERCURE","MERCURE",IF(OR(AK8="NOVOTEL",AK8="SUITE NOVOTEL"),"NOVOTEL","")) -> NOVOTEL
A9: Novotel 6 | B9: 66.3 | C9: 66.84 | D9: 0.54 | E9: 90.75 | F9: 97.2 | G9: 7.11 | H9: 60.17 | I9: 64.96 | J9: 7.96 | K9: 2738242.5 | L9: 2909124.5 | M9: 7.97 | N9: 1713001 | O9: 1849521.6 | P9: 6.24 | Q9: 59501.04 | R9: 115223.4 | S9: 535 | T9: 1163 | U9: 262104.97 | V9: 278311.21 | W9: 2546 | X9: 2810 | Y9: 96.08 | Z9: 86.38 | AA9: 13.32 | AB9: -1.11 | AC9: 24.13 | AD9: -4.07 | AE9: 70 | AF9: 0 | AG9: 74.25 | AH9: -1 | AI9: 187 | AJ9: 33 | AK9: NOVOTEL | AL9: euro | AM9: euro | AO9: =IF(AK9="MERCURE","MERCURE",IF(OR(AK9="NOVOTEL",AK9="SUITE NOVOTEL"),"NOVOTEL","")) -> NOVOTEL
A10: Novotel 7 | B10: 55.86 | C10: 61.53 | D10: 5.67 | E10: 108.77 | F10: 107.53 | G10: -1.14 | H10: 60.76 | I10: 66.16 | J10: 8.89 | K10: 2707217.6 | L10: 2884762.8 | M10: 8.89 | N10: 1751914.9 | O10: 1907733 | P10: 6.56 | Q10: 119606.68 | R10: 113672.85 | S10: 914 | T10: 862 | U10: 313869.54 | V10: 330506.94 | W10: 2625 | X10: 2647 | Y10: 97.9 | Z10: 92.48 | AA10: 12.72 | AB10: 20.3 | AC10: 28.35 | AD10: 9.41 | AE10: 70 | AF10: 0 | AG10: 75.33 | AH10: -0.92 | AI10: 198 | AJ10: -33 | AK10: NOVOTEL | AL10: euro | AM10: euro | AO10: =IF(AK10="MERCURE","MERCURE",IF(OR(AK10="NOVOTEL",AK10="SUITE NOVOTEL"),"NOVOTEL","")) -> NOVOTEL
A11: Suite Novotel 1 | B11: 62.91 | C11: 66.88 | D11: 3.97 | E11: 104.64 | F11: 101.63 | G11: -2.88 | H11: 65.83 | I11: 67.97 | J11: 3.25 | K11: 2295405.2 | L11: 2408167.1 | M11: 3.25 | N11: 1922175 | O11: 1984644 | P11: 4.91 | Q11: 413384.84 | R11: 442276.01 | S11: 3607 | T11: 4013 | U11: 510548.16 | V11: 519698.56 | W11: 4860 | X11: 4894 | Y11: 92.74 | Z11: 94.88 | AA11: 49.24 | AB11: -2.3 | AC11: 48.61 | AD11: -3.65 | AE11: 80 | AF11: 0 | AG11: 85.42 | AH11: 0.33 | AI11: 983 | AJ11: 99 | AK11: SUITE NOVOTEL | AL11: euro | AM11: euro | AO11: =IF(AK11="MERCURE","MERCURE",IF(OR(AK11="NOVOTEL",AK11="SUITE NOVOTEL"),"NOVOTEL","")) -> NOVOTEL
AO12: =IF(AK12="MERCURE","MERCURE",IF(OR(AK12="NOVOTEL",AK12="SUITE NOVOTEL"),"NOVOTEL",""))
AO13: =IF(AK13="MERCURE","MERCURE",IF(OR(AK13="NOVOTEL",AK13="SUITE NOVOTEL"),"NOVOTEL",""))
AO14: =IF(AK14="MERCURE","MERCURE",IF(OR(AK14="NOVOTEL",AK14="SUITE NOVOTEL"),"NOVOTEL",""))
AO15: =IF(AK15="MERCURE","MERCURE",IF(OR(AK15="NOVOTEL",AK15="SUITE NOVOTEL"),"NOVOTEL",""))
AO16: =IF(AK16="MERCURE","MERCURE",IF(OR(AK16="NOVOTEL",AK16="SUITE NOVOTEL"),"NOVOTEL",""))
AO17: =IF(AK17="MERCURE","MERCURE",IF(OR(AK17="NOVOTEL",AK17="SUITE NOVOTEL"),"NOVOTEL",""))
AO18: =IF(AK18="MERCURE","MERCURE",IF(OR(AK18="NOVOTEL",AK18="SUITE NOVOTEL"),"NOVOTEL",""))
AO19: =IF(AK19="MERCURE","MERCURE",IF(OR(AK19="NOVOTEL",AK19="SUITE NOVOTEL"),"NOVOTEL",""))
AO20: =IF(AK20="MERCURE","MERCURE",IF(OR(AK20="NOVOTEL",AK20="SUITE NOVOTEL"),"NOVOTEL",""))
AO21: =IF(AK21="MERCURE","MERCURE",IF(OR(AK21="NOVOTEL",AK21="SUITE NOVOTEL"),"NOVOTEL",""))
AO22: =IF(AK22="MERCURE","MERCURE",IF(OR(AK22="NOVOTEL",AK22="SUITE NOVOTEL"),"NOVOTEL",""))
AO23: =IF(AK23="MERCURE","MERCURE",IF(OR(AK23="NOVOTEL",AK23="SUITE NOVOTEL"),"NOVOTEL",""))
... AO337: =IF(AK337="MERCURE","MERCURE",IF(OR(AK337="NOVOTEL",AK337="SUITE NOVOTEL"),"NOVOTEL",""))

Sheet MERCURE
B1: TOPLINE | Q1: DISTRIBUTION | Y1: QUALITE
B2: TO | E2: PM | H2: Rev Par | K2: CA Hébergement TTC | N2: CA Total TTC | Q2: CA Booking | S2: Nb. Ch. Booking | U2: CA Web Accor | W2: Nb. Ch. Web Accor | Y2: Taux de conformité Global | AA2: NPS Hôtel | AC2: NPS Marque | AE2: Trip advisor Score | AG2: TrustScore | AI2: Nb Reviews
A3: Nom de l'Hôtel | B3: YTD N-1 | C3: YTD N | D3: YTD Var N/N-1 | E3: YTD N-1 | F3: YTD N | G3: YTD Var N/N-1 | H3: YTD N-1 | I3: YTD N | J3: YTD Var N/N-1 | K3: YTD N-1 | L3: YTD N | M3: YTD Var N/N-1 | N3: YTD N-1 | O3: YTD N | P3: YTD Var N/N-1 | Q3: YTD N-1 | R3: YTD N | S3: YTD N-1 | T3: YTD N | U3: YTD N-1 | V3: YTD N | W3: YTD N-1 | X3: YTD N | Y3: Avant-dernier rapport (%) | Z3: Dernier rapport (%) | AA3: YTD N | AB3: YTD Var N/N-1 | AC3: YTD N | AD3: YTD Var N/N-1 | AE3: YTD N | AF3: YTD Var N/N-1 | AG3: YTD N | AH3: YTD Var N/N-1 | AI3: YTD N | AJ3: YTD Var N/N-1
A4: {=IF(ROWS($3:3)<=COUNTIF(Import!$AO:$AO,"MERCURE"),INDEX(Import!A:A,SMALL(IF(Import!$AO:$AO="MERCURE",ROW(INDIRECT("1:"&ROWS(Import!$AO:$AO)))),ROWS($3:3))),"")} -> Hôtel Mercure 1 | B4: =IF(ISNA(INDEX(Import!B:B,MATCH($A4,Import!$A:$A,0))),"",INDEX(Import!B:B,MATCH($A4,Import!$A:$A,0))) -> 52.84 | C4: =IF(ISNA(INDEX(Import!C:C,MATCH($A4,Import!$A:$A,0))),"",INDEX(Import!C:C,MATCH($A4,Import!$A:$A,0))) -> 58.77 | D4: =IF(ISNA(INDEX(Import!D:D,MATCH($A4,Import!$A:$A,0))),"",INDEX(Import!D:D,MATCH($A4,Import!$A:$A,0))) -> 5.93 | E4: =IF(ISNA(INDEX(Import!E:E,MATCH($A4,Import!$A:$A,0))),"",INDEX(Import!E:E,MATCH($A4,Import!$A:$A,0))) -> 82.9 | F4: =IF(ISNA(INDEX(Import!F:F,MATCH($A4,Import!$A:$A,0))),"",INDEX(Import!F:F,MATCH($A4,Import!$A:$A,0))) -> 84.32 | G4: =IF(ISNA(INDEX(Import!G:G,MATCH($A4,Import!$A:$A,0))),"",INDEX(Import!G:G,MATCH($A4,Import!$A:$A,0))) -> 1.71 | H4: =IF(ISNA(INDEX(Import!H:H,MATCH($A4,Import!$A:$A,0))),"",INDEX(Import!H:H,MATCH($A4,Import!$A:$A,0))) -> 43.8 | I4: =IF(ISNA(INDEX(Import!I:I,MATCH($A4,Import!$A:$A,0))),"",INDEX(Import!I:I,MATCH($A4,Import!$A:$A,0))) -> 49.56 | J4: =IF(ISNA(INDEX(Import!J:J,MATCH($A4,Import!$A:$A,0))),"",INDEX(Import!J:J,MATCH($A4,Import!$A:$A,0))) -> 13.15 | K4: =IF(ISNA(INDEX(Import!K:K,MATCH($A4,Import!$A:$A,0))),"",INDEX(Import!K:K,MATCH($A4,Import!$A:$A,0))) -> 1077167.6 | L4: =IF(ISNA(INDEX(Import!L:L,MATCH($A4,Import!$A:$A,0))),"",INDEX(Import!L:L,MATCH($A4,Import!$A:$A,0))) -> 1222895.8 | M4: =IF(ISNA(INDEX(Import!M:M,MATCH($A4,Import!$A:$A,0))),"",INDEX(Import!M:M,MATCH($A4,Import!$A:$A,0))) -> 13.8 | N4: =IF(ISNA(INDEX(Import!N:N,MATCH($A4,Import!$A:$A,0))),"",INDEX(Import!N:N,MATCH($A4,Import!$A:$A,0))) -> 906064.32 | O4: =IF(ISNA(INDEX(Import!O:O,MATCH($A4,Import!$A:$A,0))),"",INDEX(Import!O:O,MATCH($A4,Import!$A:$A,0))) -> 1031056.7 | P4: =IF(ISNA(INDEX(Import!P:P,MATCH($A4,Import!$A:$A,0))),"",INDEX(Import!P:P,MATCH($A4,Import!$A:$A,0))) -> 13.53 | Q4: =IF(ISNA(INDEX(Import!Q:Q,MATCH($A4,Import!$A:$A,0))),"",INDEX(Import!Q:Q,MATCH($A4,Import!$A:$A,0))) -> 41412.8 | R4: =IF(ISNA(INDEX(Import!R:R,MATCH($A4,Import!$A:$A,0))),"",INDEX(Import!R:R,MATCH($A4,Import!$A:$A,0))) -> 45426.25 | S4: =IF(ISNA(INDEX(Import!S:S,MATCH($A4,Import!$A:$A,0))),"",INDEX(Import!S:S,MATCH($A4,Import!$A:$A,0))) -> 372 | T4: =IF(ISNA(INDEX(Import!T:T,MATCH($A4,Import!$A:$A,0))),"",INDEX(Import!T:T,MATCH($A4,Import!$A:$A,0))) -> 369 | U4: =IF(ISNA(INDEX(Import!U:U,MATCH($A4,Import!$A:$A,0))),"",INDEX(Import!U:U,MATCH($A4,Import!$A:$A,0))) -> 126902.65 | V4: =IF(ISNA(INDEX(Import!V:V,MATCH($A4,Import!$A:$A,0))),"",INDEX(Import!V:V,MATCH($A4,Import!$A:$A,0))) -> 151455.85 | W4: =IF(ISNA(INDEX(Import!W:W,MATCH($A4,Import!$A:$A,0))),"",INDEX(Import!W:W,MATCH($A4,Import!$A:$A,0))) -> 1200 | X4: =IF(ISNA(INDEX(Import!X:X,MATCH($A4,Import!$A:$A,0))),"",INDEX(Import!X:X,MATCH($A4,Import!$A:$A,0))) -> 1275 | Y4: =IF(ISNA(INDEX(Import!Y:Y,MATCH($A4,Import!$A:$A,0))),"",INDEX(Import!Y:Y,MATCH($A4,Import!$A:$A,0))) -> 84.62 | Z4: =IF(ISNA(INDEX(Import!Z:Z,MATCH($A4,Import!$A:$A,0))),"",INDEX(Import!Z:Z,MATCH($A4,Import!$A:$A,0))) -> 82.69 | AA4: =IF(ISNA(INDEX(Import!AA:AA,MATCH($A4,Import!$A:$A,0))),"",INDEX(Import!AA:AA,MATCH($A4,Import!$A:$A,0))) -> 30.2 | AB4: =IF(ISNA(INDEX(Import!AB:AB,MATCH($A4,Import!$A:$A,0))),"",INDEX(Import!AB:AB,MATCH($A4,Import!$A:$A,0))) -> 2.11 | AC4: =IF(ISNA(INDEX(Import!AC:AC,MATCH($A4,Import!$A:$A,0))),"",INDEX(Import!AC:AC,MATCH($A4,Import!$A:$A,0))) -> 33.06 | AD4: =IF(ISNA(INDEX(Import!AD:AD,MATCH($A4,Import!$A:$A,0))),"",INDEX(Import!AD:AD,MATCH($A4,Import!$A:$A,0))) -> 1.6 | AE4: =IF(ISNA(INDEX(Import!AE:AE,MATCH($A4,Import!$A:$A,0))),"",INDEX(Import!AE:AE,MATCH($A4,Import!$A:$A,0))) -> 70 | AF4: =IF(ISNA(INDEX(Import!AF:AF,MATCH($A4,Import!$A:$A,0))),"",INDEX(Import!AF:AF,MATCH($A4,Import!$A:$A,0))) -> 0 | AG4: =IF(ISNA(INDEX(Import!AG:AG,MATCH($A4,Import!$A:$A,0))),"",INDEX(Import!AG:AG,MATCH($A4,Import!$A:$A,0))) -> 75.08 | AH4: =IF(ISNA(INDEX(Import!AH:AH,MATCH($A4,Import!$A:$A,0))),"",INDEX(Import!AH:AH,MATCH($A4,Import!$A:$A,0))) -> 3.54 | AI4: =IF(ISNA(INDEX(Import!AI:AI,MATCH($A4,Import!$A:$A,0))),"",INDEX(Import!AI:AI,MATCH($A4,Import!$A:$A,0))) -> 53 | AJ4: =IF(ISNA(INDEX(Import!AJ:AJ,MATCH($A4,Import!$A:$A,0))),"",INDEX(Import!AJ:AJ,MATCH($A4,Import!$A:$A,0))) -> -5
A5: {=IF(ROWS($3:4)<=COUNTIF(Import!$AO:$AO,"MERCURE"),INDEX(Import!A:A,SMALL(IF(Import!$AO:$AO="MERCURE",ROW(INDIRECT("1:"&ROWS(Import!$AO:$AO)))),ROWS($3:4))),"")} -> Hôtel Mercure 2 | B5: =IF(ISNA(INDEX(Import!B:B,MATCH($A5,Import!$A:$A,0))),"",INDEX(Import!B:B,MATCH($A5,Import!$A:$A,0))) -> 52.7 | C5: =IF(ISNA(INDEX(Import!C:C,MATCH($A5,Import!$A:$A,0))),"",INDEX(Import!C:C,MATCH($A5,Import!$A:$A,0))) -> 53.33 | D5: =IF(ISNA(INDEX(Import!D:D,MATCH($A5,Import!$A:$A,0))),"",INDEX(Import!D:D,MATCH($A5,Import!$A:$A,0))) -> 0.63 | E5: =IF(ISNA(INDEX(Import!E:E,MATCH($A5,Import!$A:$A,0))),"",INDEX(Import!E:E,MATCH($A5,Import!$A:$A,0))) -> 104.23 | F5: =IF(ISNA(INDEX(Import!F:F,MATCH($A5,Import!$A:$A,0))),"",INDEX(Import!F:F,MATCH($A5,Import!$A:$A,0))) -> 109.15 | G5: =IF(ISNA(INDEX(Import!G:G,MATCH($A5,Import!$A:$A,0))),"",INDEX(Import!G:G,MATCH($A5,Import!$A:$A,0))) -> 4.72 | H5: =IF(ISNA(INDEX(Import!H:H,MATCH($A5,Import!$A:$A,0))),"",INDEX(Import!H:H,MATCH($A5,Import!$A:$A,0))) -> 54.93 | I5: =IF(ISNA(INDEX(Import!I:I,MATCH($A5,Import!$A:$A,0))),"",INDEX(Import!I:I,MATCH($A5,Import!$A:$A,0))) -> 58.22 | J5: =IF(ISNA(INDEX(Import!J:J,MATCH($A5,Import!$A:$A,0))),"",INDEX(Import!J:J,MATCH($A5,Import!$A:$A,0))) -> 5.99 | K5: =IF(ISNA(INDEX(Import!K:K,MATCH($A5,Import!$A:$A,0))),"",INDEX(Import!K:K,MATCH($A5,Import!$A:$A,0))) -> 1565466.7 | L5: =IF(ISNA(INDEX(Import!L:L,MATCH($A5,Import!$A:$A,0))),"",INDEX(Import!L:L,MATCH($A5,Import!$A:$A,0))) -> 1645788.5 | M5: =IF(ISNA(INDEX(Import!M:M,MATCH($A5,Import!$A:$A,0))),"",INDEX(Import!M:M,MATCH($A5,Import!$A:$A,0))) -> 5.99 | N5: =IF(ISNA(INDEX(Import!N:N,MATCH($A5,Import!$A:$A,0))),"",INDEX(Import!N:N,MATCH($A5,Import!$A:$A,0))) -> 1343287.2 | O5: =IF(ISNA(INDEX(Import!O:O,MATCH($A5,Import!$A:$A,0))),"",INDEX(Import!O:O,MATCH($A5,Import!$A:$A,0))) -> 1423698.2 | P5: =IF(ISNA(INDEX(Import!P:P,MATCH($A5,Import!$A:$A,0))),"",INDEX(Import!P:P,MATCH($A5,Import!$A:$A,0))) -> 5.13 | Q5: =IF(ISNA(INDEX(Import!Q:Q,MATCH($A5,Import!$A:$A,0))),"",INDEX(Import!Q:Q,MATCH($A5,Import!$A:$A,0))) -> 121864 | R5: =IF(ISNA(INDEX(Import!R:R,MATCH($A5,Import!$A:$A,0))),"",INDEX(Import!R:R,MATCH($A5,Import!$A:$A,0))) -> 93533.4 | S5: =IF(ISNA(INDEX(Import!S:S,MATCH($A5,Import!$A:$A,0))),"",INDEX(Import!S:S,MATCH($A5,Import!$A:$A,0))) -> 1049 | T5: =IF(ISNA(INDEX(Import!T:T,MATCH($A5,Import!$A:$A,0))),"",INDEX(Import!T:T,MATCH($A5,Import!$A:$A,0))) -> 783 | U5: =IF(ISNA(INDEX(Import!U:U,MATCH($A5,Import!$A:$A,0))),"",INDEX(Import!U:U,MATCH($A5,Import!$A:$A,0))) -> 203067.6 | V5: =IF(ISNA(INDEX(Import!V:V,MATCH($A5,Import!$A:$A,0))),"",INDEX(Import!V:V,MATCH($A5,Import!$A:$A,0))) -> 204470.82 | W5: =IF(ISNA(INDEX(Import!W:W,MATCH($A5,Import!$A:$A,0))),"",INDEX(Import!W:W,MATCH($A5,Import!$A:$A,0))) -> 1778 | X5: =IF(ISNA(INDEX(Import!X:X,MATCH($A5,Import!$A:$A,0))),"",INDEX(Import!X:X,MATCH($A5,Import!$A:$A,0))) -> 1716 | Y5: =IF(ISNA(INDEX(Import!Y:Y,MATCH($A5,Import!$A:$A,0))),"",INDEX(Import!Y:Y,MATCH($A5,Import!$A:$A,0))) -> 97.77 | Z5: =IF(ISNA(INDEX(Import!Z:Z,MATCH($A5,Import!$A:$A,0))),"",INDEX(Import!Z:Z,MATCH($A5,Import!$A:$A,0))) -> 93.74 | AA5: =IF(ISNA(INDEX(Import!AA:AA,MATCH($A5,Import!$A:$A,0))),"",INDEX(Import!AA:AA,MATCH($A5,Import!$A:$A,0))) -> 50.47 | AB5: =IF(ISNA(INDEX(Import!AB:AB,MATCH($A5,Import!$A:$A,0))),"",INDEX(Import!AB:AB,MATCH($A5,Import!$A:$A,0))) -> -3.25 | AC5: =IF(ISNA(INDEX(Import!AC:AC,MATCH($A5,Import!$A:$A,0))),"",INDEX(Import!AC:AC,MATCH($A5,Import!$A:$A,0))) -> 46.28 | AD5: =IF(ISNA(INDEX(Import!AD:AD,MATCH($A5,Import!$A:$A,0))),"",INDEX(Import!AD:AD,MATCH($A5,Import!$A:$A,0))) -> -2.58 | AE5: =IF(ISNA(INDEX(Import!AE:AE,MATCH($A5,Import!$A:$A,0))),"",INDEX(Import!AE:AE,MATCH($A5,Import!$A:$A,0))) -> 90 | AF5: =IF(ISNA(INDEX(Import!AF:AF,MATCH($A5,Import!$A:$A,0))),"",INDEX(Import!AF:AF,MATCH($A5,Import!$A:$A,0))) -> 0 | AG5: =IF(ISNA(INDEX(Import!AG:AG,MATCH($A5,Import!$A:$A,0))),"",INDEX(Import!AG:AG,MATCH($A5,Import!$A:$A,0))) -> 85.58 | AH5: =IF(ISNA(INDEX(Import!AH:AH,MATCH($A5,Import!$A:$A,0))),"",INDEX(Import!AH:AH,MATCH($A5,Import!$A:$A,0))) -> -1 | AI5: =IF(ISNA(INDEX(Import!AI:AI,MATCH($A5,Import!$A:$A,0))),"",INDEX(Import!AI:AI,MATCH($A5,Import!$A:$A,0))) -> 274 | AJ5: =IF(ISNA(INDEX(Import!AJ:AJ,MATCH($A5,Import!$A:$A,0))),"",INDEX(Import!AJ:AJ,MATCH($A5,Import!$A:$A,0))) -> -14
A6: {=IF(ROWS($3:5)<=COUNTIF(Import!$AO:$AO,"MERCURE"),INDEX(Import!A:A,SMALL(IF(Import!$AO:$AO="MERCURE",ROW(INDIRECT("1:"&ROWS(Import!$AO:$AO)))),ROWS($3:5))),"")} | B6: =IF(ISNA(INDEX(Import!B:B,MATCH($A6,Import!$A:$A,0))),"",INDEX(Import!B:B,MATCH($A6,Import!$A:$A,0))) | C6: =IF(ISNA(INDEX(Import!C:C,MATCH($A6,Import!$A:$A,0))),"",INDEX(Import!C:C,MATCH($A6,Import!$A:$A,0))) | D6: =IF(ISNA(INDEX(Import!D:D,MATCH($A6,Import!$A:$A,0))),"",INDEX(Import!D:D,MATCH($A6,Import!$A:$A,0))) | E6: =IF(ISNA(INDEX(Import!E:E,MATCH($A6,Import!$A:$A,0))),"",INDEX(Import!E:E,MATCH($A6,Import!$A:$A,0))) | F6: =IF(ISNA(INDEX(Import!F:F,MATCH($A6,Import!$A:$A,0))),"",INDEX(Import!F:F,MATCH($A6,Import!$A:$A,0))) | G6: =IF(ISNA(INDEX(Import!G:G,MATCH($A6,Import!$A:$A,0))),"",INDEX(Import!G:G,MATCH($A6,Import!$A:$A,0))) | H6: =IF(ISNA(INDEX(Import!H:H,MATCH($A6,Import!$A:$A,0))),"",INDEX(Import!H:H,MATCH($A6,Import!$A:$A,0))) | I6: =IF(ISNA(INDEX(Import!I:I,MATCH($A6,Import!$A:$A,0))),"",INDEX(Import!I:I,MATCH($A6,Import!$A:$A,0))) | J6: =IF(ISNA(INDEX(Import!J:J,MATCH($A6,Import!$A:$A,0))),"",INDEX(Import!J:J,MATCH($A6,Import!$A:$A,0))) | K6: =IF(ISNA(INDEX(Import!K:K,MATCH($A6,Import!$A:$A,0))),"",INDEX(Import!K:K,MATCH($A6,Import!$A:$A,0))) | L6: =IF(ISNA(INDEX(Import!L:L,MATCH($A6,Import!$A:$A,0))),"",INDEX(Import!L:L,MATCH($A6,Import!$A:$A,0))) | M6: =IF(ISNA(INDEX(Import!M:M,MATCH($A6,Import!$A:$A,0))),"",INDEX(Import!M:M,MATCH($A6,Import!$A:$A,0))) | N6: =IF(ISNA(INDEX(Import!N:N,MATCH($A6,Import!$A:$A,0))),"",INDEX(Import!N:N,MATCH($A6,Import!$A:$A,0))) | O6: =IF(ISNA(INDEX(Import!O:O,MATCH($A6,Import!$A:$A,0))),"",INDEX(Import!O:O,MATCH($A6,Import!$A:$A,0))) | P6: =IF(ISNA(INDEX(Import!P:P,MATCH($A6,Import!$A:$A,0))),"",INDEX(Import!P:P,MATCH($A6,Import!$A:$A,0))) | Q6: =IF(ISNA(INDEX(Import!Q:Q,MATCH($A6,Import!$A:$A,0))),"",INDEX(Import!Q:Q,MATCH($A6,Import!$A:$A,0))) | R6: =IF(ISNA(INDEX(Import!R:R,MATCH($A6,Import!$A:$A,0))),"",INDEX(Import!R:R,MATCH($A6,Import!$A:$A,0))) | S6: =IF(ISNA(INDEX(Import!S:S,MATCH($A6,Import!$A:$A,0))),"",INDEX(Import!S:S,MATCH($A6,Import!$A:$A,0))) | T6: =IF(ISNA(INDEX(Import!T:T,MATCH($A6,Import!$A:$A,0))),"",INDEX(Import!T:T,MATCH($A6,Import!$A:$A,0))) | U6: =IF(ISNA(INDEX(Import!U:U,MATCH($A6,Import!$A:$A,0))),"",INDEX(Import!U:U,MATCH($A6,Import!$A:$A,0))) | V6: =IF(ISNA(INDEX(Import!V:V,MATCH($A6,Import!$A:$A,0))),"",INDEX(Import!V:V,MATCH($A6,Import!$A:$A,0))) | W6: =IF(ISNA(INDEX(Import!W:W,MATCH($A6,Import!$A:$A,0))),"",INDEX(Import!W:W,MATCH($A6,Import!$A:$A,0))) | X6: =IF(ISNA(INDEX(Import!X:X,MATCH($A6,Import!$A:$A,0))),"",INDEX(Import!X:X,MATCH($A6,Import!$A:$A,0))) | Y6: =IF(ISNA(INDEX(Import!Y:Y,MATCH($A6,Import!$A:$A,0))),"",INDEX(Import!Y:Y,MATCH($A6,Import!$A:$A,0))) | Z6: =IF(ISNA(INDEX(Import!Z:Z,MATCH($A6,Import!$A:$A,0))),"",INDEX(Import!Z:Z,MATCH($A6,Import!$A:$A,0))) | AA6: =IF(ISNA(INDEX(Import!AA:AA,MATCH($A6,Import!$A:$A,0))),"",INDEX(Import!AA:AA,MATCH($A6,Import!$A:$A,0))) | AB6: =IF(ISNA(INDEX(Import!AB:AB,MATCH($A6,Import!$A:$A,0))),"",INDEX(Import!AB:AB,MATCH($A6,Import!$A:$A,0))) | AC6: =IF(ISNA(INDEX(Import!AC:AC,MATCH($A6,Import!$A:$A,0))),"",INDEX(Import!AC:AC,MATCH($A6,Import!$A:$A,0))) | AD6: =IF(ISNA(INDEX(Import!AD:AD,MATCH($A6,Import!$A:$A,0))),"",INDEX(Import!AD:AD,MATCH($A6,Import!$A:$A,0))) | AE6: =IF(ISNA(INDEX(Import!AE:AE,MATCH($A6,Import!$A:$A,0))),"",INDEX(Import!AE:AE,MATCH($A6,Import!$A:$A,0))) | AF6: =IF(ISNA(INDEX(Import!AF:AF,MATCH($A6,Import!$A:$A,0))),"",INDEX(Import!AF:AF,MATCH($A6,Import!$A:$A,0))) | AG6: =IF(ISNA(INDEX(Import!AG:AG,MATCH($A6,Import!$A:$A,0))),"",INDEX(Import!AG:AG,MATCH($A6,Import!$A:$A,0))) | AH6: =IF(ISNA(INDEX(Import!AH:AH,MATCH($A6,Import!$A:$A,0))),"",INDEX(Import!AH:AH,MATCH($A6,Import!$A:$A,0))) | AI6: =IF(ISNA(INDEX(Import!AI:AI,MATCH($A6,Import!$A:$A,0))),"",INDEX(Import!AI:AI,MATCH($A6,Import!$A:$A,0))) | AJ6: =IF(ISNA(INDEX(Import!AJ:AJ,MATCH($A6,Import!$A:$A,0))),"",INDEX(Import!AJ:AJ,MATCH($A6,Import!$A:$A,0)))
A7: {=IF(ROWS($3:6)<=COUNTIF(Import!$AO:$AO,"MERCURE"),INDEX(Import!A:A,SMALL(IF(Import!$AO:$AO="MERCURE",ROW(INDIRECT("1:"&ROWS(Import!$AO:$AO)))),ROWS($3:6))),"")} | B7: =IF(ISNA(INDEX(Import!B:B,MATCH($A7,Import!$A:$A,0))),"",INDEX(Import!B:B,MATCH($A7,Import!$A:$A,0))) | C7: =IF(ISNA(INDEX(Import!C:C,MATCH($A7,Import!$A:$A,0))),"",INDEX(Import!C:C,MATCH($A7,Import!$A:$A,0))) | D7: =IF(ISNA(INDEX(Import!D:D,MATCH($A7,Import!$A:$A,0))),"",INDEX(Import!D:D,MATCH($A7,Import!$A:$A,0))) | E7: =IF(ISNA(INDEX(Import!E:E,MATCH($A7,Import!$A:$A,0))),"",INDEX(Import!E:E,MATCH($A7,Import!$A:$A,0))) | F7: =IF(ISNA(INDEX(Import!F:F,MATCH($A7,Import!$A:$A,0))),"",INDEX(Import!F:F,MATCH($A7,Import!$A:$A,0))) | G7: =IF(ISNA(INDEX(Import!G:G,MATCH($A7,Import!$A:$A,0))),"",INDEX(Import!G:G,MATCH($A7,Import!$A:$A,0))) | H7: =IF(ISNA(INDEX(Import!H:H,MATCH($A7,Import!$A:$A,0))),"",INDEX(Import!H:H,MATCH($A7,Import!$A:$A,0))) | I7: =IF(ISNA(INDEX(Import!I:I,MATCH($A7,Import!$A:$A,0))),"",INDEX(Import!I:I,MATCH($A7,Import!$A:$A,0))) | J7: =IF(ISNA(INDEX(Import!J:J,MATCH($A7,Import!$A:$A,0))),"",INDEX(Import!J:J,MATCH($A7,Import!$A:$A,0))) | K7: =IF(ISNA(INDEX(Import!K:K,MATCH($A7,Import!$A:$A,0))),"",INDEX(Import!K:K,MATCH($A7,Import!$A:$A,0))) | L7: =IF(ISNA(INDEX(Import!L:L,MATCH($A7,Import!$A:$A,0))),"",INDEX(Import!L:L,MATCH($A7,Import!$A:$A,0))) | M7: =IF(ISNA(INDEX(Import!M:M,MATCH($A7,Import!$A:$A,0))),"",INDEX(Import!M:M,MATCH($A7,Import!$A:$A,0))) | N7: =IF(ISNA(INDEX(Import!N:N,MATCH($A7,Import!$A:$A,0))),"",INDEX(Import!N:N,MATCH($A7,Import!$A:$A,0))) | O7: =IF(ISNA(INDEX(Import!O:O,MATCH($A7,Import!$A:$A,0))),"",INDEX(Import!O:O,MATCH($A7,Import!$A:$A,0))) | P7: =IF(ISNA(INDEX(Import!P:P,MATCH($A7,Import!$A:$A,0))),"",INDEX(Import!P:P,MATCH($A7,Import!$A:$A,0))) | Q7: =IF(ISNA(INDEX(Import!Q:Q,MATCH($A7,Import!$A:$A,0))),"",INDEX(Import!Q:Q,MATCH($A7,Import!$A:$A,0))) | R7: =IF(ISNA(INDEX(Import!R:R,MATCH($A7,Import!$A:$A,0))),"",INDEX(Import!R:R,MATCH($A7,Import!$A:$A,0))) | S7: =IF(ISNA(INDEX(Import!S:S,MATCH($A7,Import!$A:$A,0))),"",INDEX(Import!S:S,MATCH($A7,Import!$A:$A,0))) | T7: =IF(ISNA(INDEX(Import!T:T,MATCH($A7,Import!$A:$A,0))),"",INDEX(Import!T:T,MATCH($A7,Import!$A:$A,0))) | U7: =IF(ISNA(INDEX(Import!U:U,MATCH($A7,Import!$A:$A,0))),"",INDEX(Import!U:U,MATCH($A7,Import!$A:$A,0))) | V7: =IF(ISNA(INDEX(Import!V:V,MATCH($A7,Import!$A:$A,0))),"",INDEX(Import!V:V,MATCH($A7,Import!$A:$A,0))) | W7: =IF(ISNA(INDEX(Import!W:W,MATCH($A7,Import!$A:$A,0))),"",INDEX(Import!W:W,MATCH($A7,Import!$A:$A,0))) | X7: =IF(ISNA(INDEX(Import!X:X,MATCH($A7,Import!$A:$A,0))),"",INDEX(Import!X:X,MATCH($A7,Import!$A:$A,0))) | Y7: =IF(ISNA(INDEX(Import!Y:Y,MATCH($A7,Import!$A:$A,0))),"",INDEX(Import!Y:Y,MATCH($A7,Import!$A:$A,0))) | Z7: =IF(ISNA(INDEX(Import!Z:Z,MATCH($A7,Import!$A:$A,0))),"",INDEX(Import!Z:Z,MATCH($A7,Import!$A:$A,0))) | AA7: =IF(ISNA(INDEX(Import!AA:AA,MATCH($A7,Import!$A:$A,0))),"",INDEX(Import!AA:AA,MATCH($A7,Import!$A:$A,0))) | AB7: =IF(ISNA(INDEX(Import!AB:AB,MATCH($A7,Import!$A:$A,0))),"",INDEX(Import!AB:AB,MATCH($A7,Import!$A:$A,0))) | AC7: =IF(ISNA(INDEX(Import!AC:AC,MATCH($A7,Import!$A:$A,0))),"",INDEX(Import!AC:AC,MATCH($A7,Import!$A:$A,0))) | AD7: =IF(ISNA(INDEX(Import!AD:AD,MATCH($A7,Import!$A:$A,0))),"",INDEX(Import!AD:AD,MATCH($A7,Import!$A:$A,0))) | AE7: =IF(ISNA(INDEX(Import!AE:AE,MATCH($A7,Import!$A:$A,0))),"",INDEX(Import!AE:AE,MATCH($A7,Import!$A:$A,0))) | AF7: =IF(ISNA(INDEX(Import!AF:AF,MATCH($A7,Import!$A:$A,0))),"",INDEX(Import!AF:AF,MATCH($A7,Import!$A:$A,0))) | AG7: =IF(ISNA(INDEX(Import!AG:AG,MATCH($A7,Import!$A:$A,0))),"",INDEX(Import!AG:AG,MATCH($A7,Import!$A:$A,0))) | AH7: =IF(ISNA(INDEX(Import!AH:AH,MATCH($A7,Import!$A:$A,0))),"",INDEX(Import!AH:AH,MATCH($A7,Import!$A:$A,0))) | AI7: =IF(ISNA(INDEX(Import!AI:AI,MATCH($A7,Import!$A:$A,0))),"",INDEX(Import!AI:AI,MATCH($A7,Import!$A:$A,0))) | AJ7: =IF(ISNA(INDEX(Import!AJ:AJ,MATCH($A7,Import!$A:$A,0))),"",INDEX(Import!AJ:AJ,MATCH($A7,Import!$A:$A,0)))
A8: {=IF(ROWS($3:7)<=COUNTIF(Import!$AO:$AO,"MERCURE"),INDEX(Import!A:A,SMALL(IF(Import!$AO:$AO="MERCURE",ROW(INDIRECT("1:"&ROWS(Import!$AO:$AO)))),ROWS($3:7))),"")} | B8: =IF(ISNA(INDEX(Import!B:B,MATCH($A8,Import!$A:$A,0))),"",INDEX(Import!B:B,MATCH($A8,Import!$A:$A,0))) | C8: =IF(ISNA(INDEX(Import!C:C,MATCH($A8,Import!$A:$A,0))),"",INDEX(Import!C:C,MATCH($A8,Import!$A:$A,0))) | D8: =IF(ISNA(INDEX(Import!D:D,MATCH($A8,Import!$A:$A,0))),"",INDEX(Import!D:D,MATCH($A8,Import!$A:$A,0))) | E8: =IF(ISNA(INDEX(Import!E:E,MATCH($A8,Import!$A:$A,0))),"",INDEX(Import!E:E,MATCH($A8,Import!$A:$A,0))) | F8: =IF(ISNA(INDEX(Import!F:F,MATCH($A8,Import!$A:$A,0))),"",INDEX(Import!F:F,MATCH($A8,Import!$A:$A,0))) | G8: =IF(ISNA(INDEX(Import!G:G,MATCH($A8,Import!$A:$A,0))),"",INDEX(Import!G:G,MATCH($A8,Import!$A:$A,0))) | H8: =IF(ISNA(INDEX(Import!H:H,MATCH($A8,Import!$A:$A,0))),"",INDEX(Import!H:H,MATCH($A8,Import!$A:$A,0))) | I8: =IF(ISNA(INDEX(Import!I:I,MATCH($A8,Import!$A:$A,0))),"",INDEX(Import!I:I,MATCH($A8,Import!$A:$A,0))) | J8: =IF(ISNA(INDEX(Import!J:J,MATCH($A8,Import!$A:$A,0))),"",INDEX(Import!J:J,MATCH($A8,Import!$A:$A,0))) | K8: =IF(ISNA(INDEX(Import!K:K,MATCH($A8,Import!$A:$A,0))),"",INDEX(Import!K:K,MATCH($A8,Import!$A:$A,0))) | L8: =IF(ISNA(INDEX(Import!L:L,MATCH($A8,Import!$A:$A,0))),"",INDEX(Import!L:L,MATCH($A8,Import!$A:$A,0))) | M8: =IF(ISNA(INDEX(Import!M:M,MATCH($A8,Import!$A:$A,0))),"",INDEX(Import!M:M,MATCH($A8,Import!$A:$A,0))) | N8: =IF(ISNA(INDEX(Import!N:N,MATCH($A8,Import!$A:$A,0))),"",INDEX(Import!N:N,MATCH($A8,Import!$A:$A,0))) | O8: =IF(ISNA(INDEX(Import!O:O,MATCH($A8,Import!$A:$A,0))),"",INDEX(Import!O:O,MATCH($A8,Import!$A:$A,0))) | P8: =IF(ISNA(INDEX(Import!P:P,MATCH($A8,Import!$A:$A,0))),"",INDEX(Import!P:P,MATCH($A8,Import!$A:$A,0))) | Q8: =IF(ISNA(INDEX(Import!Q:Q,MATCH($A8,Import!$A:$A,0))),"",INDEX(Import!Q:Q,MATCH($A8,Import!$A:$A,0))) | R8: =IF(ISNA(INDEX(Import!R:R,MATCH($A8,Import!$A:$A,0))),"",INDEX(Import!R:R,MATCH($A8,Import!$A:$A,0))) | S8: =IF(ISNA(INDEX(Import!S:S,MATCH($A8,Import!$A:$A,0))),"",INDEX(Import!S:S,MATCH($A8,Import!$A:$A,0))) | T8: =IF(ISNA(INDEX(Import!T:T,MATCH($A8,Import!$A:$A,0))),"",INDEX(Import!T:T,MATCH($A8,Import!$A:$A,0))) | U8: =IF(ISNA(INDEX(Import!U:U,MATCH($A8,Import!$A:$A,0))),"",INDEX(Import!U:U,MATCH($A8,Import!$A:$A,0))) | V8: =IF(ISNA(INDEX(Import!V:V,MATCH($A8,Import!$A:$A,0))),"",INDEX(Import!V:V,MATCH($A8,Import!$A:$A,0))) | W8: =IF(ISNA(INDEX(Import!W:W,MATCH($A8,Import!$A:$A,0))),"",INDEX(Import!W:W,MATCH($A8,Import!$A:$A,0))) | X8: =IF(ISNA(INDEX(Import!X:X,MATCH($A8,Import!$A:$A,0))),"",INDEX(Import!X:X,MATCH($A8,Import!$A:$A,0))) | Y8: =IF(ISNA(INDEX(Import!Y:Y,MATCH($A8,Import!$A:$A,0))),"",INDEX(Import!Y:Y,MATCH($A8,Import!$A:$A,0))) | Z8: =IF(ISNA(INDEX(Import!Z:Z,MATCH($A8,Import!$A:$A,0))),"",INDEX(Import!Z:Z,MATCH($A8,Import!$A:$A,0))) | AA8: =IF(ISNA(INDEX(Import!AA:AA,MATCH($A8,Import!$A:$A,0))),"",INDEX(Import!AA:AA,MATCH($A8,Import!$A:$A,0))) | AB8: =IF(ISNA(INDEX(Import!AB:AB,MATCH($A8,Import!$A:$A,0))),"",INDEX(Import!AB:AB,MATCH($A8,Import!$A:$A,0))) | AC8: =IF(ISNA(INDEX(Import!AC:AC,MATCH($A8,Import!$A:$A,0))),"",INDEX(Import!AC:AC,MATCH($A8,Import!$A:$A,0))) | AD8: =IF(ISNA(INDEX(Import!AD:AD,MATCH($A8,Import!$A:$A,0))),"",INDEX(Import!AD:AD,MATCH($A8,Import!$A:$A,0))) | AE8: =IF(ISNA(INDEX(Import!AE:AE,MATCH($A8,Import!$A:$A,0))),"",INDEX(Import!AE:AE,MATCH($A8,Import!$A:$A,0))) | AF8: =IF(ISNA(INDEX(Import!AF:AF,MATCH($A8,Import!$A:$A,0))),"",INDEX(Import!AF:AF,MATCH($A8,Import!$A:$A,0))) | AG8: =IF(ISNA(INDEX(Import!AG:AG,MATCH($A8,Import!$A:$A,0))),"",INDEX(Import!AG:AG,MATCH($A8,Import!$A:$A,0))) | AH8: =IF(ISNA(INDEX(Import!AH:AH,MATCH($A8,Import!$A:$A,0))),"",INDEX(Import!AH:AH,MATCH($A8,Import!$A:$A,0))) | AI8: =IF(ISNA(INDEX(Import!AI:AI,MATCH($A8,Import!$A:$A,0))),"",INDEX(Import!AI:AI,MATCH($A8,Import!$A:$A,0))) | AJ8: =IF(ISNA(INDEX(Import!AJ:AJ,MATCH($A8,Import!$A:$A,0))),"",INDEX(Import!AJ:AJ,MATCH($A8,Import!$A:$A,0)))
A9: {=IF(ROWS($3:8)<=COUNTIF(Import!$AO:$AO,"MERCURE"),INDEX(Import!A:A,SMALL(IF(Import!$AO:$AO="MERCURE",ROW(INDIRECT("1:"&ROWS(Import!$AO:$AO)))),ROWS($3:8))),"")} | B9: =IF(ISNA(INDEX(Import!B:B,MATCH($A9,Import!$A:$A,0))),"",INDEX(Import!B:B,MATCH($A9,Import!$A:$A,0))) | C9: =IF(ISNA(INDEX(Import!C:C,MATCH($A9,Import!$A:$A,0))),"",INDEX(Import!C:C,MATCH($A9,Import!$A:$A,0))) | D9: =IF(ISNA(INDEX(Import!D:D,MATCH($A9,Import!$A:$A,0))),"",INDEX(Import!D:D,MATCH($A9,Import!$A:$A,0))) | E9: =IF(ISNA(INDEX(Import!E:E,MATCH($A9,Import!$A:$A,0))),"",INDEX(Import!E:E,MATCH($A9,Import!$A:$A,0))) | F9: =IF(ISNA(INDEX(Import!F:F,MATCH($A9,Import!$A:$A,0))),"",INDEX(Import!F:F,MATCH($A9,Import!$A:$A,0))) | G9: =IF(ISNA(INDEX(Import!G:G,MATCH($A9,Import!$A:$A,0))),"",INDEX(Import!G:G,MATCH($A9,Import!$A:$A,0))) | H9: =IF(ISNA(INDEX(Import!H:H,MATCH($A9,Import!$A:$A,0))),"",INDEX(Import!H:H,MATCH($A9,Import!$A:$A,0))) | I9: =IF(ISNA(INDEX(Import!I:I,MATCH($A9,Import!$A:$A,0))),"",INDEX(Import!I:I,MATCH($A9,Import!$A:$A,0))) | J9: =IF(ISNA(INDEX(Import!J:J,MATCH($A9,Import!$A:$A,0))),"",INDEX(Import!J:J,MATCH($A9,Import!$A:$A,0))) | K9: =IF(ISNA(INDEX(Import!K:K,MATCH($A9,Import!$A:$A,0))),"",INDEX(Import!K:K,MATCH($A9,Import!$A:$A,0))) | L9: =IF(ISNA(INDEX(Import!L:L,MATCH($A9,Import!$A:$A,0))),"",INDEX(Import!L:L,MATCH($A9,Import!$A:$A,0))) | M9: =IF(ISNA(INDEX(Import!M:M,MATCH($A9,Import!$A:$A,0))),"",INDEX(Import!M:M,MATCH($A9,Import!$A:$A,0))) | N9: =IF(ISNA(INDEX(Import!N:N,MATCH($A9,Import!$A:$A,0))),"",INDEX(Import!N:N,MATCH($A9,Import!$A:$A,0))) | O9: =IF(ISNA(INDEX(Import!O:O,MATCH($A9,Import!$A:$A,0))),"",INDEX(Import!O:O,MATCH($A9,Import!$A:$A,0))) | P9: =IF(ISNA(INDEX(Import!P:P,MATCH($A9,Import!$A:$A,0))),"",INDEX(Import!P:P,MATCH($A9,Import!$A:$A,0))) | Q9: =IF(ISNA(INDEX(Import!Q:Q,MATCH($A9,Import!$A:$A,0))),"",INDEX(Import!Q:Q,MATCH($A9,Import!$A:$A,0))) | R9: =IF(ISNA(INDEX(Import!R:R,MATCH($A9,Import!$A:$A,0))),"",INDEX(Import!R:R,MATCH($A9,Import!$A:$A,0))) | S9: =IF(ISNA(INDEX(Import!S:S,MATCH($A9,Import!$A:$A,0))),"",INDEX(Import!S:S,MATCH($A9,Import!$A:$A,0))) | T9: =IF(ISNA(INDEX(Import!T:T,MATCH($A9,Import!$A:$A,0))),"",INDEX(Import!T:T,MATCH($A9,Import!$A:$A,0))) | U9: =IF(ISNA(INDEX(Import!U:U,MATCH($A9,Import!$A:$A,0))),"",INDEX(Import!U:U,MATCH($A9,Import!$A:$A,0))) | V9: =IF(ISNA(INDEX(Import!V:V,MATCH($A9,Import!$A:$A,0))),"",INDEX(Import!V:V,MATCH($A9,Import!$A:$A,0))) | W9: =IF(ISNA(INDEX(Import!W:W,MATCH($A9,Import!$A:$A,0))),"",INDEX(Import!W:W,MATCH($A9,Import!$A:$A,0))) | X9: =IF(ISNA(INDEX(Import!X:X,MATCH($A9,Import!$A:$A,0))),"",INDEX(Import!X:X,MATCH($A9,Import!$A:$A,0))) | Y9: =IF(ISNA(INDEX(Import!Y:Y,MATCH($A9,Import!$A:$A,0))),"",INDEX(Import!Y:Y,MATCH($A9,Import!$A:$A,0))) | Z9: =IF(ISNA(INDEX(Import!Z:Z,MATCH($A9,Import!$A:$A,0))),"",INDEX(Import!Z:Z,MATCH($A9,Import!$A:$A,0))) | AA9: =IF(ISNA(INDEX(Import!AA:AA,MATCH($A9,Import!$A:$A,0))),"",INDEX(Import!AA:AA,MATCH($A9,Import!$A:$A,0))) | AB9: =IF(ISNA(INDEX(Import!AB:AB,MATCH($A9,Import!$A:$A,0))),"",INDEX(Import!AB:AB,MATCH($A9,Import!$A:$A,0))) | AC9: =IF(ISNA(INDEX(Import!AC:AC,MATCH($A9,Import!$A:$A,0))),"",INDEX(Import!AC:AC,MATCH($A9,Import!$A:$A,0))) | AD9: =IF(ISNA(INDEX(Import!AD:AD,MATCH($A9,Import!$A:$A,0))),"",INDEX(Import!AD:AD,MATCH($A9,Import!$A:$A,0))) | AE9: =IF(ISNA(INDEX(Import!AE:AE,MATCH($A9,Import!$A:$A,0))),"",INDEX(Import!AE:AE,MATCH($A9,Import!$A:$A,0))) | AF9: =IF(ISNA(INDEX(Import!AF:AF,MATCH($A9,Import!$A:$A,0))),"",INDEX(Import!AF:AF,MATCH($A9,Import!$A:$A,0))) | AG9: =IF(ISNA(INDEX(Import!AG:AG,MATCH($A9,Import!$A:$A,0))),"",INDEX(Import!AG:AG,MATCH($A9,Import!$A:$A,0))) | AH9: =IF(ISNA(INDEX(Import!AH:AH,MATCH($A9,Import!$A:$A,0))),"",INDEX(Import!AH:AH,MATCH($A9,Import!$A:$A,0))) | AI9: =IF(ISNA(INDEX(Import!AI:AI,MATCH($A9,Import!$A:$A,0))),"",INDEX(Import!AI:AI,MATCH($A9,Import!$A:$A,0))) | AJ9: =IF(ISNA(INDEX(Import!AJ:AJ,MATCH($A9,Import!$A:$A,0))),"",INDEX(Import!AJ:AJ,MATCH($A9,Import!$A:$A,0)))
A10: {=IF(ROWS($3:9)<=COUNTIF(Import!$AO:$AO,"MERCURE"),INDEX(Import!A:A,SMALL(IF(Import!$AO:$AO="MERCURE",ROW(INDIRECT("1:"&ROWS(Import!$AO:$AO)))),ROWS($3:9))),"")} | B10: =IF(ISNA(INDEX(Import!B:B,MATCH($A10,Import!$A:$A,0))),"",INDEX(Import!B:B,MATCH($A10,Import!$A:$A,0))) | C10: =IF(ISNA(INDEX(Import!C:C,MATCH($A10,Import!$A:$A,0))),"",INDEX(Import!C:C,MATCH($A10,Import!$A:$A,0))) | D10: =IF(ISNA(INDEX(Import!D:D,MATCH($A10,Import!$A:$A,0))),"",INDEX(Import!D:D,MATCH($A10,Import!$A:$A,0))) | E10: =IF(ISNA(INDEX(Import!E:E,MATCH($A10,Import!$A:$A,0))),"",INDEX(Import!E:E,MATCH($A10,Import!$A:$A,0))) | F10: =IF(ISNA(INDEX(Import!F:F,MATCH($A10,Import!$A:$A,0))),"",INDEX(Import!F:F,MATCH($A10,Import!$A:$A,0))) | G10: =IF(ISNA(INDEX(Import!G:G,MATCH($A10,Import!$A:$A,0))),"",INDEX(Import!G:G,MATCH($A10,Import!$A:$A,0))) | H10: =IF(ISNA(INDEX(Import!H:H,MATCH($A10,Import!$A:$A,0))),"",INDEX(Import!H:H,MATCH($A10,Import!$A:$A,0))) | I10: =IF(ISNA(INDEX(Import!I:I,MATCH($A10,Import!$A:$A,0))),"",INDEX(Import!I:I,MATCH($A10,Import!$A:$A,0))) | J10: =IF(ISNA(INDEX(Import!J:J,MATCH($A10,Import!$A:$A,0))),"",INDEX(Import!J:J,MATCH($A10,Import!$A:$A,0))) | K10: =IF(ISNA(INDEX(Import!K:K,MATCH($A10,Import!$A:$A,0))),"",INDEX(Import!K:K,MATCH($A10,Import!$A:$A,0))) | L10: =IF(ISNA(INDEX(Import!L:L,MATCH($A10,Import!$A:$A,0))),"",INDEX(Import!L:L,MATCH($A10,Import!$A:$A,0))) | M10: =IF(ISNA(INDEX(Import!M:M,MATCH($A10,Import!$A:$A,0))),"",INDEX(Import!M:M,MATCH($A10,Import!$A:$A,0))) | N10: =IF(ISNA(INDEX(Import!N:N,MATCH($A10,Import!$A:$A,0))),"",INDEX(Import!N:N,MATCH($A10,Import!$A:$A,0))) | O10: =IF(ISNA(INDEX(Import!O:O,MATCH($A10,Import!$A:$A,0))),"",INDEX(Import!O:O,MATCH($A10,Import!$A:$A,0))) | P10: =IF(ISNA(INDEX(Import!P:P,MATCH($A10,Import!$A:$A,0))),"",INDEX(Import!P:P,MATCH($A10,Import!$A:$A,0))) | Q10: =IF(ISNA(INDEX(Import!Q:Q,MATCH($A10,Import!$A:$A,0))),"",INDEX(Import!Q:Q,MATCH($A10,Import!$A:$A,0))) | R10: =IF(ISNA(INDEX(Import!R:R,MATCH($A10,Import!$A:$A,0))),"",INDEX(Import!R:R,MATCH($A10,Import!$A:$A,0))) | S10: =IF(ISNA(INDEX(Import!S:S,MATCH($A10,Import!$A:$A,0))),"",INDEX(Import!S:S,MATCH($A10,Import!$A:$A,0))) | T10: =IF(ISNA(INDEX(Import!T:T,MATCH($A10,Import!$A:$A,0))),"",INDEX(Import!T:T,MATCH($A10,Import!$A:$A,0))) | U10: =IF(ISNA(INDEX(Import!U:U,MATCH($A10,Import!$A:$A,0))),"",INDEX(Import!U:U,MATCH($A10,Import!$A:$A,0))) | V10: =IF(ISNA(INDEX(Import!V:V,MATCH($A10,Import!$A:$A,0))),"",INDEX(Import!V:V,MATCH($A10,Import!$A:$A,0))) | W10: =IF(ISNA(INDEX(Import!W:W,MATCH($A10,Import!$A:$A,0))),"",INDEX(Import!W:W,MATCH($A10,Import!$A:$A,0))) | X10: =IF(ISNA(INDEX(Import!X:X,MATCH($A10,Import!$A:$A,0))),"",INDEX(Import!X:X,MATCH($A10,Import!$A:$A,0))) | Y10: =IF(ISNA(INDEX(Import!Y:Y,MATCH($A10,Import!$A:$A,0))),"",INDEX(Import!Y:Y,MATCH($A10,Import!$A:$A,0))) | Z10: =IF(ISNA(INDEX(Import!Z:Z,MATCH($A10,Import!$A:$A,0))),"",INDEX(Import!Z:Z,MATCH($A10,Import!$A:$A,0))) | AA10: =IF(ISNA(INDEX(Import!AA:AA,MATCH($A10,Import!$A:$A,0))),"",INDEX(Import!AA:AA,MATCH($A10,Import!$A:$A,0))) | AB10: =IF(ISNA(INDEX(Import!AB:AB,MATCH($A10,Import!$A:$A,0))),"",INDEX(Import!AB:AB,MATCH($A10,Import!$A:$A,0))) | AC10: =IF(ISNA(INDEX(Import!AC:AC,MATCH($A10,Import!$A:$A,0))),"",INDEX(Import!AC:AC,MATCH($A10,Import!$A:$A,0))) | AD10: =IF(ISNA(INDEX(Import!AD:AD,MATCH($A10,Import!$A:$A,0))),"",INDEX(Import!AD:AD,MATCH($A10,Import!$A:$A,0))) | AE10: =IF(ISNA(INDEX(Import!AE:AE,MATCH($A10,Import!$A:$A,0))),"",INDEX(Import!AE:AE,MATCH($A10,Import!$A:$A,0))) | AF10: =IF(ISNA(INDEX(Import!AF:AF,MATCH($A10,Import!$A:$A,0))),"",INDEX(Import!AF:AF,MATCH($A10,Import!$A:$A,0))) | AG10: =IF(ISNA(INDEX(Import!AG:AG,MATCH($A10,Import!$A:$A,0))),"",INDEX(Import!AG:AG,MATCH($A10,Import!$A:$A,0))) | AH10: =IF(ISNA(INDEX(Import!AH:AH,MATCH($A10,Import!$A:$A,0))),"",INDEX(Import!AH:AH,MATCH($A10,Import!$A:$A,0))) | AI10: =IF(ISNA(INDEX(Import!AI:AI,MATCH($A10,Import!$A:$A,0))),"",INDEX(Import!AI:AI,MATCH($A10,Import!$A:$A,0))) | AJ10: =IF(ISNA(INDEX(Import!AJ:AJ,MATCH($A10,Import!$A:$A,0))),"",INDEX(Import!AJ:AJ,MATCH($A10,Import!$A:$A,0)))
A11: {=IF(ROWS($3:10)<=COUNTIF(Import!$AO:$AO,"MERCURE"),INDEX(Import!A:A,SMALL(IF(Import!$AO:$AO="MERCURE",ROW(INDIRECT("1:"&ROWS(Import!$AO:$AO)))),ROWS($3:10))),"")} | B11: =IF(ISNA(INDEX(Import!B:B,MATCH($A11,Import!$A:$A,0))),"",INDEX(Import!B:B,MATCH($A11,Import!$A:$A,0))) | C11: =IF(ISNA(INDEX(Import!C:C,MATCH($A11,Import!$A:$A,0))),"",INDEX(Import!C:C,MATCH($A11,Import!$A:$A,0))) | D11: =IF(ISNA(INDEX(Import!D:D,MATCH($A11,Import!$A:$A,0))),"",INDEX(Import!D:D,MATCH($A11,Import!$A:$A,0))) | E11: =IF(ISNA(INDEX(Import!E:E,MATCH($A11,Import!$A:$A,0))),"",INDEX(Import!E:E,MATCH($A11,Import!$A:$A,0))) | F11: =IF(ISNA(INDEX(Import!F:F,MATCH($A11,Import!$A:$A,0))),"",INDEX(Import!F:F,MATCH($A11,Import!$A:$A,0))) | G11: =IF(ISNA(INDEX(Import!G:G,MATCH($A11,Import!$A:$A,0))),"",INDEX(Import!G:G,MATCH($A11,Import!$A:$A,0))) | H11: =IF(ISNA(INDEX(Import!H:H,MATCH($A11,Import!$A:$A,0))),"",INDEX(Import!H:H,MATCH($A11,Import!$A:$A,0))) | I11: =IF(ISNA(INDEX(Import!I:I,MATCH($A11,Import!$A:$A,0))),"",INDEX(Import!I:I,MATCH($A11,Import!$A:$A,0))) | J11: =IF(ISNA(INDEX(Import!J:J,MATCH($A11,Import!$A:$A,0))),"",INDEX(Import!J:J,MATCH($A11,Import!$A:$A,0))) | K11: =IF(ISNA(INDEX(Import!K:K,MATCH($A11,Import!$A:$A,0))),"",INDEX(Import!K:K,MATCH($A11,Import!$A:$A,0))) | L11: =IF(ISNA(INDEX(Import!L:L,MATCH($A11,Import!$A:$A,0))),"",INDEX(Import!L:L,MATCH($A11,Import!$A:$A,0))) | M11: =IF(ISNA(INDEX(Import!M:M,MATCH($A11,Import!$A:$A,0))),"",INDEX(Import!M:M,MATCH($A11,Import!$A:$A,0))) | N11: =IF(ISNA(INDEX(Import!N:N,MATCH($A11,Import!$A:$A,0))),"",INDEX(Import!N:N,MATCH($A11,Import!$A:$A,0))) | O11: =IF(ISNA(INDEX(Import!O:O,MATCH($A11,Import!$A:$A,0))),"",INDEX(Import!O:O,MATCH($A11,Import!$A:$A,0))) | P11: =IF(ISNA(INDEX(Import!P:P,MATCH($A11,Import!$A:$A,0))),"",INDEX(Import!P:P,MATCH($A11,Import!$A:$A,0))) | Q11: =IF(ISNA(INDEX(Import!Q:Q,MATCH($A11,Import!$A:$A,0))),"",INDEX(Import!Q:Q,MATCH($A11,Import!$A:$A,0))) | R11: =IF(ISNA(INDEX(Import!R:R,MATCH($A11,Import!$A:$A,0))),"",INDEX(Import!R:R,MATCH($A11,Import!$A:$A,0))) | S11: =IF(ISNA(INDEX(Import!S:S,MATCH($A11,Import!$A:$A,0))),"",INDEX(Import!S:S,MATCH($A11,Import!$A:$A,0))) | T11: =IF(ISNA(INDEX(Import!T:T,MATCH($A11,Import!$A:$A,0))),"",INDEX(Import!T:T,MATCH($A11,Import!$A:$A,0))) | U11: =IF(ISNA(INDEX(Import!U:U,MATCH($A11,Import!$A:$A,0))),"",INDEX(Import!U:U,MATCH($A11,Import!$A:$A,0))) | V11: =IF(ISNA(INDEX(Import!V:V,MATCH($A11,Import!$A:$A,0))),"",INDEX(Import!V:V,MATCH($A11,Import!$A:$A,0))) | W11: =IF(ISNA(INDEX(Import!W:W,MATCH($A11,Import!$A:$A,0))),"",INDEX(Import!W:W,MATCH($A11,Import!$A:$A,0))) | X11: =IF(ISNA(INDEX(Import!X:X,MATCH($A11,Import!$A:$A,0))),"",INDEX(Import!X:X,MATCH($A11,Import!$A:$A,0))) | Y11: =IF(ISNA(INDEX(Import!Y:Y,MATCH($A11,Import!$A:$A,0))),"",INDEX(Import!Y:Y,MATCH($A11,Import!$A:$A,0))) | Z11: =IF(ISNA(INDEX(Import!Z:Z,MATCH($A11,Import!$A:$A,0))),"",INDEX(Import!Z:Z,MATCH($A11,Import!$A:$A,0))) | AA11: =IF(ISNA(INDEX(Import!AA:AA,MATCH($A11,Import!$A:$A,0))),"",INDEX(Import!AA:AA,MATCH($A11,Import!$A:$A,0))) | AB11: =IF(ISNA(INDEX(Import!AB:AB,MATCH($A11,Import!$A:$A,0))),"",INDEX(Import!AB:AB,MATCH($A11,Import!$A:$A,0))) | AC11: =IF(ISNA(INDEX(Import!AC:AC,MATCH($A11,Import!$A:$A,0))),"",INDEX(Import!AC:AC,MATCH($A11,Import!$A:$A,0))) | AD11: =IF(ISNA(INDEX(Import!AD:AD,MATCH($A11,Import!$A:$A,0))),"",INDEX(Import!AD:AD,MATCH($A11,Import!$A:$A,0))) | AE11: =IF(ISNA(INDEX(Import!AE:AE,MATCH($A11,Import!$A:$A,0))),"",INDEX(Import!AE:AE,MATCH($A11,Import!$A:$A,0))) | AF11: =IF(ISNA(INDEX(Import!AF:AF,MATCH($A11,Import!$A:$A,0))),"",INDEX(Import!AF:AF,MATCH($A11,Import!$A:$A,0))) | AG11: =IF(ISNA(INDEX(Import!AG:AG,MATCH($A11,Import!$A:$A,0))),"",INDEX(Import!AG:AG,MATCH($A11,Import!$A:$A,0))) | AH11: =IF(ISNA(INDEX(Import!AH:AH,MATCH($A11,Import!$A:$A,0))),"",INDEX(Import!AH:AH,MATCH($A11,Import!$A:$A,0))) | AI11: =IF(ISNA(INDEX(Import!AI:AI,MATCH($A11,Import!$A:$A,0))),"",INDEX(Import!AI:AI,MATCH($A11,Import!$A:$A,0))) | AJ11: =IF(ISNA(INDEX(Import!AJ:AJ,MATCH($A11,Import!$A:$A,0))),"",INDEX(Import!AJ:AJ,MATCH($A11,Import!$A:$A,0)))
A12: {=IF(ROWS($3:11)<=COUNTIF(Import!$AO:$AO,"MERCURE"),INDEX(Import!A:A,SMALL(IF(Import!$AO:$AO="MERCURE",ROW(INDIRECT("1:"&ROWS(Import!$AO:$AO)))),ROWS($3:11))),"")} | B12: =IF(ISNA(INDEX(Import!B:B,MATCH($A12,Import!$A:$A,0))),"",INDEX(Import!B:B,MATCH($A12,Import!$A:$A,0))) | C12: =IF(ISNA(INDEX(Import!C:C,MATCH($A12,Import!$A:$A,0))),"",INDEX(Import!C:C,MATCH($A12,Import!$A:$A,0))) | D12: =IF(ISNA(INDEX(Import!D:D,MATCH($A12,Import!$A:$A,0))),"",INDEX(Import!D:D,MATCH($A12,Import!$A:$A,0))) | E12: =IF(ISNA(INDEX(Import!E:E,MATCH($A12,Import!$A:$A,0))),"",INDEX(Import!E:E,MATCH($A12,Import!$A:$A,0))) | F12: =IF(ISNA(INDEX(Import!F:F,MATCH($A12,Import!$A:$A,0))),"",INDEX(Import!F:F,MATCH($A12,Import!$A:$A,0))) | G12: =IF(ISNA(INDEX(Import!G:G,MATCH($A12,Import!$A:$A,0))),"",INDEX(Import!G:G,MATCH($A12,Import!$A:$A,0))) | H12: =IF(ISNA(INDEX(Import!H:H,MATCH($A12,Import!$A:$A,0))),"",INDEX(Import!H:H,MATCH($A12,Import!$A:$A,0))) | I12: =IF(ISNA(INDEX(Import!I:I,MATCH($A12,Import!$A:$A,0))),"",INDEX(Import!I:I,MATCH($A12,Import!$A:$A,0))) | J12: =IF(ISNA(INDEX(Import!J:J,MATCH($A12,Import!$A:$A,0))),"",INDEX(Import!J:J,MATCH($A12,Import!$A:$A,0))) | K12: =IF(ISNA(INDEX(Import!K:K,MATCH($A12,Import!$A:$A,0))),"",INDEX(Import!K:K,MATCH($A12,Import!$A:$A,0))) | L12: =IF(ISNA(INDEX(Import!L:L,MATCH($A12,Import!$A:$A,0))),"",INDEX(Import!L:L,MATCH($A12,Import!$A:$A,0))) | M12: =IF(ISNA(INDEX(Import!M:M,MATCH($A12,Import!$A:$A,0))),"",INDEX(Import!M:M,MATCH($A12,Import!$A:$A,0))) | N12: =IF(ISNA(INDEX(Import!N:N,MATCH($A12,Import!$A:$A,0))),"",INDEX(Import!N:N,MATCH($A12,Import!$A:$A,0))) | O12: =IF(ISNA(INDEX(Import!O:O,MATCH($A12,Import!$A:$A,0))),"",INDEX(Import!O:O,MATCH($A12,Import!$A:$A,0))) | P12: =IF(ISNA(INDEX(Import!P:P,MATCH($A12,Import!$A:$A,0))),"",INDEX(Import!P:P,MATCH($A12,Import!$A:$A,0))) | Q12: =IF(ISNA(INDEX(Import!Q:Q,MATCH($A12,Import!$A:$A,0))),"",INDEX(Import!Q:Q,MATCH($A12,Import!$A:$A,0))) | R12: =IF(ISNA(INDEX(Import!R:R,MATCH($A12,Import!$A:$A,0))),"",INDEX(Import!R:R,MATCH($A12,Import!$A:$A,0))) | S12: =IF(ISNA(INDEX(Import!S:S,MATCH($A12,Import!$A:$A,0))),"",INDEX(Import!S:S,MATCH($A12,Import!$A:$A,0))) | T12: =IF(ISNA(INDEX(Import!T:T,MATCH($A12,Import!$A:$A,0))),"",INDEX(Import!T:T,MATCH($A12,Import!$A:$A,0))) | U12: =IF(ISNA(INDEX(Import!U:U,MATCH($A12,Import!$A:$A,0))),"",INDEX(Import!U:U,MATCH($A12,Import!$A:$A,0))) | V12: =IF(ISNA(INDEX(Import!V:V,MATCH($A12,Import!$A:$A,0))),"",INDEX(Import!V:V,MATCH($A12,Import!$A:$A,0))) | W12: =IF(ISNA(INDEX(Import!W:W,MATCH($A12,Import!$A:$A,0))),"",INDEX(Import!W:W,MATCH($A12,Import!$A:$A,0))) | X12: =IF(ISNA(INDEX(Import!X:X,MATCH($A12,Import!$A:$A,0))),"",INDEX(Import!X:X,MATCH($A12,Import!$A:$A,0))) | Y12: =IF(ISNA(INDEX(Import!Y:Y,MATCH($A12,Import!$A:$A,0))),"",INDEX(Import!Y:Y,MATCH($A12,Import!$A:$A,0))) | Z12: =IF(ISNA(INDEX(Import!Z:Z,MATCH($A12,Import!$A:$A,0))),"",INDEX(Import!Z:Z,MATCH($A12,Import!$A:$A,0))) | AA12: =IF(ISNA(INDEX(Import!AA:AA,MATCH($A12,Import!$A:$A,0))),"",INDEX(Import!AA:AA,MATCH($A12,Import!$A:$A,0))) | AB12: =IF(ISNA(INDEX(Import!AB:AB,MATCH($A12,Import!$A:$A,0))),"",INDEX(Import!AB:AB,MATCH($A12,Import!$A:$A,0))) | AC12: =IF(ISNA(INDEX(Import!AC:AC,MATCH($A12,Import!$A:$A,0))),"",INDEX(Import!AC:AC,MATCH($A12,Import!$A:$A,0))) | AD12: =IF(ISNA(INDEX(Import!AD:AD,MATCH($A12,Import!$A:$A,0))),"",INDEX(Import!AD:AD,MATCH($A12,Import!$A:$A,0))) | AE12: =IF(ISNA(INDEX(Import!AE:AE,MATCH($A12,Import!$A:$A,0))),"",INDEX(Import!AE:AE,MATCH($A12,Import!$A:$A,0))) | AF12: =IF(ISNA(INDEX(Import!AF:AF,MATCH($A12,Import!$A:$A,0))),"",INDEX(Import!AF:AF,MATCH($A12,Import!$A:$A,0))) | AG12: =IF(ISNA(INDEX(Import!AG:AG,MATCH($A12,Import!$A:$A,0))),"",INDEX(Import!AG:AG,MATCH($A12,Import!$A:$A,0))) | AH12: =IF(ISNA(INDEX(Import!AH:AH,MATCH($A12,Import!$A:$A,0))),"",INDEX(Import!AH:AH,MATCH($A12,Import!$A:$A,0))) | AI12: =IF(ISNA(INDEX(Import!AI:AI,MATCH($A12,Import!$A:$A,0))),"",INDEX(Import!AI:AI,MATCH($A12,Import!$A:$A,0))) | AJ12: =IF(ISNA(INDEX(Import!AJ:AJ,MATCH($A12,Import!$A:$A,0))),"",INDEX(Import!AJ:AJ,MATCH($A12,Import!$A:$A,0)))
A13: {=IF(ROWS($3:12)<=COUNTIF(Import!$AO:$AO,"MERCURE"),INDEX(Import!A:A,SMALL(IF(Import!$AO:$AO="MERCURE",ROW(INDIRECT("1:"&ROWS(Import!$AO:$AO)))),ROWS($3:12))),"")} | B13: =IF(ISNA(INDEX(Import!B:B,MATCH($A13,Import!$A:$A,0))),"",INDEX(Import!B:B,MATCH($A13,Import!$A:$A,0))) | C13: =IF(ISNA(INDEX(Import!C:C,MATCH($A13,Import!$A:$A,0))),"",INDEX(Import!C:C,MATCH($A13,Import!$A:$A,0))) | D13: =IF(ISNA(INDEX(Import!D:D,MATCH($A13,Import!$A:$A,0))),"",INDEX(Import!D:D,MATCH($A13,Import!$A:$A,0))) | E13: =IF(ISNA(INDEX(Import!E:E,MATCH($A13,Import!$A:$A,0))),"",INDEX(Import!E:E,MATCH($A13,Import!$A:$A,0))) | F13: =IF(ISNA(INDEX(Import!F:F,MATCH($A13,Import!$A:$A,0))),"",INDEX(Import!F:F,MATCH($A13,Import!$A:$A,0))) | G13: =IF(ISNA(INDEX(Import!G:G,MATCH($A13,Import!$A:$A,0))),"",INDEX(Import!G:G,MATCH($A13,Import!$A:$A,0))) | H13: =IF(ISNA(INDEX(Import!H:H,MATCH($A13,Import!$A:$A,0))),"",INDEX(Import!H:H,MATCH($A13,Import!$A:$A,0))) | I13: =IF(ISNA(INDEX(Import!I:I,MATCH($A13,Import!$A:$A,0))),"",INDEX(Import!I:I,MATCH($A13,Import!$A:$A,0))) | J13: =IF(ISNA(INDEX(Import!J:J,MATCH($A13,Import!$A:$A,0))),"",INDEX(Import!J:J,MATCH($A13,Import!$A:$A,0))) | K13: =IF(ISNA(INDEX(Import!K:K,MATCH($A13,Import!$A:$A,0))),"",INDEX(Import!K:K,MATCH($A13,Import!$A:$A,0))) | L13: =IF(ISNA(INDEX(Import!L:L,MATCH($A13,Import!$A:$A,0))),"",INDEX(Import!L:L,MATCH($A13,Import!$A:$A,0))) | M13: =IF(ISNA(INDEX(Import!M:M,MATCH($A13,Import!$A:$A,0))),"",INDEX(Import!M:M,MATCH($A13,Import!$A:$A,0))) | N13: =IF(ISNA(INDEX(Import!N:N,MATCH($A13,Import!$A:$A,0))),"",INDEX(Import!N:N,MATCH($A13,Import!$A:$A,0))) | O13: =IF(ISNA(INDEX(Import!O:O,MATCH($A13,Import!$A:$A,0))),"",INDEX(Import!O:O,MATCH($A13,Import!$A:$A,0))) | P13: =IF(ISNA(INDEX(Import!P:P,MATCH($A13,Import!$A:$A,0))),"",INDEX(Import!P:P,MATCH($A13,Import!$A:$A,0))) | Q13: =IF(ISNA(INDEX(Import!Q:Q,MATCH($A13,Import!$A:$A,0))),"",INDEX(Import!Q:Q,MATCH($A13,Import!$A:$A,0))) | R13: =IF(ISNA(INDEX(Import!R:R,MATCH($A13,Import!$A:$A,0))),"",INDEX(Import!R:R,MATCH($A13,Import!$A:$A,0))) | S13: =IF(ISNA(INDEX(Import!S:S,MATCH($A13,Import!$A:$A,0))),"",INDEX(Import!S:S,MATCH($A13,Import!$A:$A,0))) | T13: =IF(ISNA(INDEX(Import!T:T,MATCH($A13,Import!$A:$A,0))),"",INDEX(Import!T:T,MATCH($A13,Import!$A:$A,0))) | U13: =IF(ISNA(INDEX(Import!U:U,MATCH($A13,Import!$A:$A,0))),"",INDEX(Import!U:U,MATCH($A13,Import!$A:$A,0))) | V13: =IF(ISNA(INDEX(Import!V:V,MATCH($A13,Import!$A:$A,0))),"",INDEX(Import!V:V,MATCH($A13,Import!$A:$A,0))) | W13: =IF(ISNA(INDEX(Import!W:W,MATCH($A13,Import!$A:$A,0))),"",INDEX(Import!W:W,MATCH($A13,Import!$A:$A,0))) | X13: =IF(ISNA(INDEX(Import!X:X,MATCH($A13,Import!$A:$A,0))),"",INDEX(Import!X:X,MATCH($A13,Import!$A:$A,0))) | Y13: =IF(ISNA(INDEX(Import!Y:Y,MATCH($A13,Import!$A:$A,0))),"",INDEX(Import!Y:Y,MATCH($A13,Import!$A:$A,0))) | Z13: =IF(ISNA(INDEX(Import!Z:Z,MATCH($A13,Import!$A:$A,0))),"",INDEX(Import!Z:Z,MATCH($A13,Import!$A:$A,0))) | AA13: =IF(ISNA(INDEX(Import!AA:AA,MATCH($A13,Import!$A:$A,0))),"",INDEX(Import!AA:AA,MATCH($A13,Import!$A:$A,0))) | AB13: =IF(ISNA(INDEX(Import!AB:AB,MATCH($A13,Import!$A:$A,0))),"",INDEX(Import!AB:AB,MATCH($A13,Import!$A:$A,0))) | AC13: =IF(ISNA(INDEX(Import!AC:AC,MATCH($A13,Import!$A:$A,0))),"",INDEX(Import!AC:AC,MATCH($A13,Import!$A:$A,0))) | AD13: =IF(ISNA(INDEX(Import!AD:AD,MATCH($A13,Import!$A:$A,0))),"",INDEX(Import!AD:AD,MATCH($A13,Import!$A:$A,0))) | AE13: =IF(ISNA(INDEX(Import!AE:AE,MATCH($A13,Import!$A:$A,0))),"",INDEX(Import!AE:AE,MATCH($A13,Import!$A:$A,0))) | AF13: =IF(ISNA(INDEX(Import!AF:AF,MATCH($A13,Import!$A:$A,0))),"",INDEX(Import!AF:AF,MATCH($A13,Import!$A:$A,0))) | AG13: =IF(ISNA(INDEX(Import!AG:AG,MATCH($A13,Import!$A:$A,0))),"",INDEX(Import!AG:AG,MATCH($A13,Import!$A:$A,0))) | AH13: =IF(ISNA(INDEX(Import!AH:AH,MATCH($A13,Import!$A:$A,0))),"",INDEX(Import!AH:AH,MATCH($A13,Import!$A:$A,0))) | AI13: =IF(ISNA(INDEX(Import!AI:AI,MATCH($A13,Import!$A:$A,0))),"",INDEX(Import!AI:AI,MATCH($A13,Import!$A:$A,0))) | AJ13: =IF(ISNA(INDEX(Import!AJ:AJ,MATCH($A13,Import!$A:$A,0))),"",INDEX(Import!AJ:AJ,MATCH($A13,Import!$A:$A,0)))
A14: {=IF(ROWS($3:13)<=COUNTIF(Import!$AO:$AO,"MERCURE"),INDEX(Import!A:A,SMALL(IF(Import!$AO:$AO="MERCURE",ROW(INDIRECT("1:"&ROWS(Import!$AO:$AO)))),ROWS($3:13))),"")} | B14: =IF(ISNA(INDEX(Import!B:B,MATCH($A14,Import!$A:$A,0))),"",INDEX(Import!B:B,MATCH($A14,Import!$A:$A,0))) | C14: =IF(ISNA(INDEX(Import!C:C,MATCH($A14,Import!$A:$A,0))),"",INDEX(Import!C:C,MATCH($A14,Import!$A:$A,0))) | D14: =IF(ISNA(INDEX(Import!D:D,MATCH($A14,Import!$A:$A,0))),"",INDEX(Import!D:D,MATCH($A14,Import!$A:$A,0))) | E14: =IF(ISNA(INDEX(Import!E:E,MATCH($A14,Import!$A:$A,0))),"",INDEX(Import!E:E,MATCH($A14,Import!$A:$A,0))) | F14: =IF(ISNA(INDEX(Import!F:F,MATCH($A14,Import!$A:$A,0))),"",INDEX(Import!F:F,MATCH($A14,Import!$A:$A,0))) | G14: =IF(ISNA(INDEX(Import!G:G,MATCH($A14,Import!$A:$A,0))),"",INDEX(Import!G:G,MATCH($A14,Import!$A:$A,0))) | H14: =IF(ISNA(INDEX(Import!H:H,MATCH($A14,Import!$A:$A,0))),"",INDEX(Import!H:H,MATCH($A14,Import!$A:$A,0))) | I14: =IF(ISNA(INDEX(Import!I:I,MATCH($A14,Import!$A:$A,0))),"",INDEX(Import!I:I,MATCH($A14,Import!$A:$A,0))) | J14: =IF(ISNA(INDEX(Import!J:J,MATCH($A14,Import!$A:$A,0))),"",INDEX(Import!J:J,MATCH($A14,Import!$A:$A,0))) | K14: =IF(ISNA(INDEX(Import!K:K,MATCH($A14,Import!$A:$A,0))),"",INDEX(Import!K:K,MATCH($A14,Import!$A:$A,0))) | L14: =IF(ISNA(INDEX(Import!L:L,MATCH($A14,Import!$A:$A,0))),"",INDEX(Import!L:L,MATCH($A14,Import!$A:$A,0))) | M14: =IF(ISNA(INDEX(Import!M:M,MATCH($A14,Import!$A:$A,0))),"",INDEX(Import!M:M,MATCH($A14,Import!$A:$A,0))) | N14: =IF(ISNA(INDEX(Import!N:N,MATCH($A14,Import!$A:$A,0))),"",INDEX(Import!N:N,MATCH($A14,Import!$A:$A,0))) | O14: =IF(ISNA(INDEX(Import!O:O,MATCH($A14,Import!$A:$A,0))),"",INDEX(Import!O:O,MATCH($A14,Import!$A:$A,0))) | P14: =IF(ISNA(INDEX(Import!P:P,MATCH($A14,Import!$A:$A,0))),"",INDEX(Import!P:P,MATCH($A14,Import!$A:$A,0))) | Q14: =IF(ISNA(INDEX(Import!Q:Q,MATCH($A14,Import!$A:$A,0))),"",INDEX(Import!Q:Q,MATCH($A14,Import!$A:$A,0))) | R14: =IF(ISNA(INDEX(Import!R:R,MATCH($A14,Import!$A:$A,0))),"",INDEX(Import!R:R,MATCH($A14,Import!$A:$A,0))) | S14: =IF(ISNA(INDEX(Import!S:S,MATCH($A14,Import!$A:$A,0))),"",INDEX(Import!S:S,MATCH($A14,Import!$A:$A,0))) | T14: =IF(ISNA(INDEX(Import!T:T,MATCH($A14,Import!$A:$A,0))),"",INDEX(Import!T:T,MATCH($A14,Import!$A:$A,0))) | U14: =IF(ISNA(INDEX(Import!U:U,MATCH($A14,Import!$A:$A,0))),"",INDEX(Import!U:U,MATCH($A14,Import!$A:$A,0))) | V14: =IF(ISNA(INDEX(Import!V:V,MATCH($A14,Import!$A:$A,0))),"",INDEX(Import!V:V,MATCH($A14,Import!$A:$A,0))) | W14: =IF(ISNA(INDEX(Import!W:W,MATCH($A14,Import!$A:$A,0))),"",INDEX(Import!W:W,MATCH($A14,Import!$A:$A,0))) | X14: =IF(ISNA(INDEX(Import!X:X,MATCH($A14,Import!$A:$A,0))),"",INDEX(Import!X:X,MATCH($A14,Import!$A:$A,0))) | Y14: =IF(ISNA(INDEX(Import!Y:Y,MATCH($A14,Import!$A:$A,0))),"",INDEX(Import!Y:Y,MATCH($A14,Import!$A:$A,0))) | Z14: =IF(ISNA(INDEX(Import!Z:Z,MATCH($A14,Import!$A:$A,0))),"",INDEX(Import!Z:Z,MATCH($A14,Import!$A:$A,0))) | AA14: =IF(ISNA(INDEX(Import!AA:AA,MATCH($A14,Import!$A:$A,0))),"",INDEX(Import!AA:AA,MATCH($A14,Import!$A:$A,0))) | AB14: =IF(ISNA(INDEX(Import!AB:AB,MATCH($A14,Import!$A:$A,0))),"",INDEX(Import!AB:AB,MATCH($A14,Import!$A:$A,0))) | AC14: =IF(ISNA(INDEX(Import!AC:AC,MATCH($A14,Import!$A:$A,0))),"",INDEX(Import!AC:AC,MATCH($A14,Import!$A:$A,0))) | AD14: =IF(ISNA(INDEX(Import!AD:AD,MATCH($A14,Import!$A:$A,0))),"",INDEX(Import!AD:AD,MATCH($A14,Import!$A:$A,0))) | AE14: =IF(ISNA(INDEX(Import!AE:AE,MATCH($A14,Import!$A:$A,0))),"",INDEX(Import!AE:AE,MATCH($A14,Import!$A:$A,0))) | AF14: =IF(ISNA(INDEX(Import!AF:AF,MATCH($A14,Import!$A:$A,0))),"",INDEX(Import!AF:AF,MATCH($A14,Import!$A:$A,0))) | AG14: =IF(ISNA(INDEX(Import!AG:AG,MATCH($A14,Import!$A:$A,0))),"",INDEX(Import!AG:AG,MATCH($A14,Import!$A:$A,0))) | AH14: =IF(ISNA(INDEX(Import!AH:AH,MATCH($A14,Import!$A:$A,0))),"",INDEX(Import!AH:AH,MATCH($A14,Import!$A:$A,0))) | AI14: =IF(ISNA(INDEX(Import!AI:AI,MATCH($A14,Import!$A:$A,0))),"",INDEX(Import!AI:AI,MATCH($A14,Import!$A:$A,0))) | AJ14: =IF(ISNA(INDEX(Import!AJ:AJ,MATCH($A14,Import!$A:$A,0))),"",INDEX(Import!AJ:AJ,MATCH($A14,Import!$A:$A,0)))
A15: {=IF(ROWS($3:14)<=COUNTIF(Import!$AO:$AO,"MERCURE"),INDEX(Import!A:A,SMALL(IF(Import!$AO:$AO="MERCURE",ROW(INDIRECT("1:"&ROWS(Import!$AO:$AO)))),ROWS($3:14))),"")} | B15: =IF(ISNA(INDEX(Import!B:B,MATCH($A15,Import!$A:$A,0))),"",INDEX(Import!B:B,MATCH($A15,Import!$A:$A,0))) | C15: =IF(ISNA(INDEX(Import!C:C,MATCH($A15,Import!$A:$A,0))),"",INDEX(Import!C:C,MATCH($A15,Import!$A:$A,0))) | D15: =IF(ISNA(INDEX(Import!D:D,MATCH($A15,Import!$A:$A,0))),"",INDEX(Import!D:D,MATCH($A15,Import!$A:$A,0))) | E15: =IF(ISNA(INDEX(Import!E:E,MATCH($A15,Import!$A:$A,0))),"",INDEX(Import!E:E,MATCH($A15,Import!$A:$A,0))) | F15: =IF(ISNA(INDEX(Import!F:F,MATCH($A15,Import!$A:$A,0))),"",INDEX(Import!F:F,MATCH($A15,Import!$A:$A,0))) | G15: =IF(ISNA(INDEX(Import!G:G,MATCH($A15,Import!$A:$A,0))),"",INDEX(Import!G:G,MATCH($A15,Import!$A:$A,0))) | H15: =IF(ISNA(INDEX(Import!H:H,MATCH($A15,Import!$A:$A,0))),"",INDEX(Import!H:H,MATCH($A15,Import!$A:$A,0))) | I15: =IF(ISNA(INDEX(Import!I:I,MATCH($A15,Import!$A:$A,0))),"",INDEX(Import!I:I,MATCH($A15,Import!$A:$A,0))) | J15: =IF(ISNA(INDEX(Import!J:J,MATCH($A15,Import!$A:$A,0))),"",INDEX(Import!J:J,MATCH($A15,Import!$A:$A,0))) | K15: =IF(ISNA(INDEX(Import!K:K,MATCH($A15,Import!$A:$A,0))),"",INDEX(Import!K:K,MATCH($A15,Import!$A:$A,0))) | L15: =IF(ISNA(INDEX(Import!L:L,MATCH($A15,Import!$A:$A,0))),"",INDEX(Import!L:L,MATCH($A15,Import!$A:$A,0))) | M15: =IF(ISNA(INDEX(Import!M:M,MATCH($A15,Import!$A:$A,0))),"",INDEX(Import!M:M,MATCH($A15,Import!$A:$A,0))) | N15: =IF(ISNA(INDEX(Import!N:N,MATCH($A15,Import!$A:$A,0))),"",INDEX(Import!N:N,MATCH($A15,Import!$A:$A,0))) | O15: =IF(ISNA(INDEX(Import!O:O,MATCH($A15,Import!$A:$A,0))),"",INDEX(Import!O:O,MATCH($A15,Import!$A:$A,0))) | P15: =IF(ISNA(INDEX(Import!P:P,MATCH($A15,Import!$A:$A,0))),"",INDEX(Import!P:P,MATCH($A15,Import!$A:$A,0))) | Q15: =IF(ISNA(INDEX(Import!Q:Q,MATCH($A15,Import!$A:$A,0))),"",INDEX(Import!Q:Q,MATCH($A15,Import!$A:$A,0))) | R15: =IF(ISNA(INDEX(Import!R:R,MATCH($A15,Import!$A:$A,0))),"",INDEX(Import!R:R,MATCH($A15,Import!$A:$A,0))) | S15: =IF(ISNA(INDEX(Import!S:S,MATCH($A15,Import!$A:$A,0))),"",INDEX(Import!S:S,MATCH($A15,Import!$A:$A,0))) | T15: =IF(ISNA(INDEX(Import!T:T,MATCH($A15,Import!$A:$A,0))),"",INDEX(Import!T:T,MATCH($A15,Import!$A:$A,0))) | U15: =IF(ISNA(INDEX(Import!U:U,MATCH($A15,Import!$A:$A,0))),"",INDEX(Import!U:U,MATCH($A15,Import!$A:$A,0))) | V15: =IF(ISNA(INDEX(Import!V:V,MATCH($A15,Import!$A:$A,0))),"",INDEX(Import!V:V,MATCH($A15,Import!$A:$A,0))) | W15: =IF(ISNA(INDEX(Import!W:W,MATCH($A15,Import!$A:$A,0))),"",INDEX(Import!W:W,MATCH($A15,Import!$A:$A,0))) | X15: =IF(ISNA(INDEX(Import!X:X,MATCH($A15,Import!$A:$A,0))),"",INDEX(Import!X:X,MATCH($A15,Import!$A:$A,0))) | Y15: =IF(ISNA(INDEX(Import!Y:Y,MATCH($A15,Import!$A:$A,0))),"",INDEX(Import!Y:Y,MATCH($A15,Import!$A:$A,0))) | Z15: =IF(ISNA(INDEX(Import!Z:Z,MATCH($A15,Import!$A:$A,0))),"",INDEX(Import!Z:Z,MATCH($A15,Import!$A:$A,0))) | AA15: =IF(ISNA(INDEX(Import!AA:AA,MATCH($A15,Import!$A:$A,0))),"",INDEX(Import!AA:AA,MATCH($A15,Import!$A:$A,0))) | AB15: =IF(ISNA(INDEX(Import!AB:AB,MATCH($A15,Import!$A:$A,0))),"",INDEX(Import!AB:AB,MATCH($A15,Import!$A:$A,0))) | AC15: =IF(ISNA(INDEX(Import!AC:AC,MATCH($A15,Import!$A:$A,0))),"",INDEX(Import!AC:AC,MATCH($A15,Import!$A:$A,0))) | AD15: =IF(ISNA(INDEX(Import!AD:AD,MATCH($A15,Import!$A:$A,0))),"",INDEX(Import!AD:AD,MATCH($A15,Import!$A:$A,0))) | AE15: =IF(ISNA(INDEX(Import!AE:AE,MATCH($A15,Import!$A:$A,0))),"",INDEX(Import!AE:AE,MATCH($A15,Import!$A:$A,0))) | AF15: =IF(ISNA(INDEX(Import!AF:AF,MATCH($A15,Import!$A:$A,0))),"",INDEX(Import!AF:AF,MATCH($A15,Import!$A:$A,0))) | AG15: =IF(ISNA(INDEX(Import!AG:AG,MATCH($A15,Import!$A:$A,0))),"",INDEX(Import!AG:AG,MATCH($A15,Import!$A:$A,0))) | AH15: =IF(ISNA(INDEX(Import!AH:AH,MATCH($A15,Import!$A:$A,0))),"",INDEX(Import!AH:AH,MATCH($A15,Import!$A:$A,0))) | AI15: =IF(ISNA(INDEX(Import!AI:AI,MATCH($A15,Import!$A:$A,0))),"",INDEX(Import!AI:AI,MATCH($A15,Import!$A:$A,0))) | AJ15: =IF(ISNA(INDEX(Import!AJ:AJ,MATCH($A15,Import!$A:$A,0))),"",INDEX(Import!AJ:AJ,MATCH($A15,Import!$A:$A,0)))
A16: {=IF(ROWS($3:15)<=COUNTIF(Import!$AO:$AO,"MERCURE"),INDEX(Import!A:A,SMALL(IF(Import!$AO:$AO="MERCURE",ROW(INDIRECT("1:"&ROWS(Import!$AO:$AO)))),ROWS($3:15))),"")} | B16: =IF(ISNA(INDEX(Import!B:B,MATCH($A16,Import!$A:$A,0))),"",INDEX(Import!B:B,MATCH($A16,Import!$A:$A,0))) | C16: =IF(ISNA(INDEX(Import!C:C,MATCH($A16,Import!$A:$A,0))),"",INDEX(Import!C:C,MATCH($A16,Import!$A:$A,0))) | D16: =IF(ISNA(INDEX(Import!D:D,MATCH($A16,Import!$A:$A,0))),"",INDEX(Import!D:D,MATCH($A16,Import!$A:$A,0))) | E16: =IF(ISNA(INDEX(Import!E:E,MATCH($A16,Import!$A:$A,0))),"",INDEX(Import!E:E,MATCH($A16,Import!$A:$A,0))) | F16: =IF(ISNA(INDEX(Import!F:F,MATCH($A16,Import!$A:$A,0))),"",INDEX(Import!F:F,MATCH($A16,Import!$A:$A,0))) | G16: =IF(ISNA(INDEX(Import!G:G,MATCH($A16,Import!$A:$A,0))),"",INDEX(Import!G:G,MATCH($A16,Import!$A:$A,0))) | H16: =IF(ISNA(INDEX(Import!H:H,MATCH($A16,Import!$A:$A,0))),"",INDEX(Import!H:H,MATCH($A16,Import!$A:$A,0))) | I16: =IF(ISNA(INDEX(Import!I:I,MATCH($A16,Import!$A:$A,0))),"",INDEX(Import!I:I,MATCH($A16,Import!$A:$A,0))) | J16: =IF(ISNA(INDEX(Import!J:J,MATCH($A16,Import!$A:$A,0))),"",INDEX(Import!J:J,MATCH($A16,Import!$A:$A,0))) | K16: =IF(ISNA(INDEX(Import!K:K,MATCH($A16,Import!$A:$A,0))),"",INDEX(Import!K:K,MATCH($A16,Import!$A:$A,0))) | L16: =IF(ISNA(INDEX(Import!L:L,MATCH($A16,Import!$A:$A,0))),"",INDEX(Import!L:L,MATCH($A16,Import!$A:$A,0))) | M16: =IF(ISNA(INDEX(Import!M:M,MATCH($A16,Import!$A:$A,0))),"",INDEX(Import!M:M,MATCH($A16,Import!$A:$A,0))) | N16: =IF(ISNA(INDEX(Import!N:N,MATCH($A16,Import!$A:$A,0))),"",INDEX(Import!N:N,MATCH($A16,Import!$A:$A,0))) | O16: =IF(ISNA(INDEX(Import!O:O,MATCH($A16,Import!$A:$A,0))),"",INDEX(Import!O:O,MATCH($A16,Import!$A:$A,0))) | P16: =IF(ISNA(INDEX(Import!P:P,MATCH($A16,Import!$A:$A,0))),"",INDEX(Import!P:P,MATCH($A16,Import!$A:$A,0))) | Q16: =IF(ISNA(INDEX(Import!Q:Q,MATCH($A16,Import!$A:$A,0))),"",INDEX(Import!Q:Q,MATCH($A16,Import!$A:$A,0))) | R16: =IF(ISNA(INDEX(Import!R:R,MATCH($A16,Import!$A:$A,0))),"",INDEX(Import!R:R,MATCH($A16,Import!$A:$A,0))) | S16: =IF(ISNA(INDEX(Import!S:S,MATCH($A16,Import!$A:$A,0))),"",INDEX(Import!S:S,MATCH($A16,Import!$A:$A,0))) | T16: =IF(ISNA(INDEX(Import!T:T,MATCH($A16,Import!$A:$A,0))),"",INDEX(Import!T:T,MATCH($A16,Import!$A:$A,0))) | U16: =IF(ISNA(INDEX(Import!U:U,MATCH($A16,Import!$A:$A,0))),"",INDEX(Import!U:U,MATCH($A16,Import!$A:$A,0))) | V16: =IF(ISNA(INDEX(Import!V:V,MATCH($A16,Import!$A:$A,0))),"",INDEX(Import!V:V,MATCH($A16,Import!$A:$A,0))) | W16: =IF(ISNA(INDEX(Import!W:W,MATCH($A16,Import!$A:$A,0))),"",INDEX(Import!W:W,MATCH($A16,Import!$A:$A,0))) | X16: =IF(ISNA(INDEX(Import!X:X,MATCH($A16,Import!$A:$A,0))),"",INDEX(Import!X:X,MATCH($A16,Import!$A:$A,0))) | Y16: =IF(ISNA(INDEX(Import!Y:Y,MATCH($A16,Import!$A:$A,0))),"",INDEX(Import!Y:Y,MATCH($A16,Import!$A:$A,0))) | Z16: =IF(ISNA(INDEX(Import!Z:Z,MATCH($A16,Import!$A:$A,0))),"",INDEX(Import!Z:Z,MATCH($A16,Import!$A:$A,0))) | AA16: =IF(ISNA(INDEX(Import!AA:AA,MATCH($A16,Import!$A:$A,0))),"",INDEX(Import!AA:AA,MATCH($A16,Import!$A:$A,0))) | AB16: =IF(ISNA(INDEX(Import!AB:AB,MATCH($A16,Import!$A:$A,0))),"",INDEX(Import!AB:AB,MATCH($A16,Import!$A:$A,0))) | AC16: =IF(ISNA(INDEX(Import!AC:AC,MATCH($A16,Import!$A:$A,0))),"",INDEX(Import!AC:AC,MATCH($A16,Import!$A:$A,0))) | AD16: =IF(ISNA(INDEX(Import!AD:AD,MATCH($A16,Import!$A:$A,0))),"",INDEX(Import!AD:AD,MATCH($A16,Import!$A:$A,0))) | AE16: =IF(ISNA(INDEX(Import!AE:AE,MATCH($A16,Import!$A:$A,0))),"",INDEX(Import!AE:AE,MATCH($A16,Import!$A:$A,0))) | AF16: =IF(ISNA(INDEX(Import!AF:AF,MATCH($A16,Import!$A:$A,0))),"",INDEX(Import!AF:AF,MATCH($A16,Import!$A:$A,0))) | AG16: =IF(ISNA(INDEX(Import!AG:AG,MATCH($A16,Import!$A:$A,0))),"",INDEX(Import!AG:AG,MATCH($A16,Import!$A:$A,0))) | AH16: =IF(ISNA(INDEX(Import!AH:AH,MATCH($A16,Import!$A:$A,0))),"",INDEX(Import!AH:AH,MATCH($A16,Import!$A:$A,0))) | AI16: =IF(ISNA(INDEX(Import!AI:AI,MATCH($A16,Import!$A:$A,0))),"",INDEX(Import!AI:AI,MATCH($A16,Import!$A:$A,0))) | AJ16: =IF(ISNA(INDEX(Import!AJ:AJ,MATCH($A16,Import!$A:$A,0))),"",INDEX(Import!AJ:AJ,MATCH($A16,Import!$A:$A,0)))
A17: {=IF(ROWS($3:16)<=COUNTIF(Import!$AO:$AO,"MERCURE"),INDEX(Import!A:A,SMALL(IF(Import!$AO:$AO="MERCURE",ROW(INDIRECT("1:"&ROWS(Import!$AO:$AO)))),ROWS($3:16))),"")} | B17: =IF(ISNA(INDEX(Import!B:B,MATCH($A17,Import!$A:$A,0))),"",INDEX(Import!B:B,MATCH($A17,Import!$A:$A,0))) | C17: =IF(ISNA(INDEX(Import!C:C,MATCH($A17,Import!$A:$A,0))),"",INDEX(Import!C:C,MATCH($A17,Import!$A:$A,0))) | D17: =IF(ISNA(INDEX(Import!D:D,MATCH($A17,Import!$A:$A,0))),"",INDEX(Import!D:D,MATCH($A17,Import!$A:$A,0))) | E17: =IF(ISNA(INDEX(Import!E:E,MATCH($A17,Import!$A:$A,0))),"",INDEX(Import!E:E,MATCH($A17,Import!$A:$A,0))) | F17: =IF(ISNA(INDEX(Import!F:F,MATCH($A17,Import!$A:$A,0))),"",INDEX(Import!F:F,MATCH($A17,Import!$A:$A,0))) | G17: =IF(ISNA(INDEX(Import!G:G,MATCH($A17,Import!$A:$A,0))),"",INDEX(Import!G:G,MATCH($A17,Import!$A:$A,0))) | H17: =IF(ISNA(INDEX(Import!H:H,MATCH($A17,Import!$A:$A,0))),"",INDEX(Import!H:H,MATCH($A17,Import!$A:$A,0))) | I17: =IF(ISNA(INDEX(Import!I:I,MATCH($A17,Import!$A:$A,0))),"",INDEX(Import!I:I,MATCH($A17,Import!$A:$A,0))) | J17: =IF(ISNA(INDEX(Import!J:J,MATCH($A17,Import!$A:$A,0))),"",INDEX(Import!J:J,MATCH($A17,Import!$A:$A,0))) | K17: =IF(ISNA(INDEX(Import!K:K,MATCH($A17,Import!$A:$A,0))),"",INDEX(Import!K:K,MATCH($A17,Import!$A:$A,0))) | L17: =IF(ISNA(INDEX(Import!L:L,MATCH($A17,Import!$A:$A,0))),"",INDEX(Import!L:L,MATCH($A17,Import!$A:$A,0))) | M17: =IF(ISNA(INDEX(Import!M:M,MATCH($A17,Import!$A:$A,0))),"",INDEX(Import!M:M,MATCH($A17,Import!$A:$A,0))) | N17: =IF(ISNA(INDEX(Import!N:N,MATCH($A17,Import!$A:$A,0))),"",INDEX(Import!N:N,MATCH($A17,Import!$A:$A,0))) | O17: =IF(ISNA(INDEX(Import!O:O,MATCH($A17,Import!$A:$A,0))),"",INDEX(Import!O:O,MATCH($A17,Import!$A:$A,0))) | P17: =IF(ISNA(INDEX(Import!P:P,MATCH($A17,Import!$A:$A,0))),"",INDEX(Import!P:P,MATCH($A17,Import!$A:$A,0))) | Q17: =IF(ISNA(INDEX(Import!Q:Q,MATCH($A17,Import!$A:$A,0))),"",INDEX(Import!Q:Q,MATCH($A17,Import!$A:$A,0))) | R17: =IF(ISNA(INDEX(Import!R:R,MATCH($A17,Import!$A:$A,0))),"",INDEX(Import!R:R,MATCH($A17,Import!$A:$A,0))) | S17: =IF(ISNA(INDEX(Import!S:S,MATCH($A17,Import!$A:$A,0))),"",INDEX(Import!S:S,MATCH($A17,Import!$A:$A,0))) | T17: =IF(ISNA(INDEX(Import!T:T,MATCH($A17,Import!$A:$A,0))),"",INDEX(Import!T:T,MATCH($A17,Import!$A:$A,0))) | U17: =IF(ISNA(INDEX(Import!U:U,MATCH($A17,Import!$A:$A,0))),"",INDEX(Import!U:U,MATCH($A17,Import!$A:$A,0))) | V17: =IF(ISNA(INDEX(Import!V:V,MATCH($A17,Import!$A:$A,0))),"",INDEX(Import!V:V,MATCH($A17,Import!$A:$A,0))) | W17: =IF(ISNA(INDEX(Import!W:W,MATCH($A17,Import!$A:$A,0))),"",INDEX(Import!W:W,MATCH($A17,Import!$A:$A,0))) | X17: =IF(ISNA(INDEX(Import!X:X,MATCH($A17,Import!$A:$A,0))),"",INDEX(Import!X:X,MATCH($A17,Import!$A:$A,0))) | Y17: =IF(ISNA(INDEX(Import!Y:Y,MATCH($A17,Import!$A:$A,0))),"",INDEX(Import!Y:Y,MATCH($A17,Import!$A:$A,0))) | Z17: =IF(ISNA(INDEX(Import!Z:Z,MATCH($A17,Import!$A:$A,0))),"",INDEX(Import!Z:Z,MATCH($A17,Import!$A:$A,0))) | AA17: =IF(ISNA(INDEX(Import!AA:AA,MATCH($A17,Import!$A:$A,0))),"",INDEX(Import!AA:AA,MATCH($A17,Import!$A:$A,0))) | AB17: =IF(ISNA(INDEX(Import!AB:AB,MATCH($A17,Import!$A:$A,0))),"",INDEX(Import!AB:AB,MATCH($A17,Import!$A:$A,0))) | AC17: =IF(ISNA(INDEX(Import!AC:AC,MATCH($A17,Import!$A:$A,0))),"",INDEX(Import!AC:AC,MATCH($A17,Import!$A:$A,0))) | AD17: =IF(ISNA(INDEX(Import!AD:AD,MATCH($A17,Import!$A:$A,0))),"",INDEX(Import!AD:AD,MATCH($A17,Import!$A:$A,0))) | AE17: =IF(ISNA(INDEX(Import!AE:AE,MATCH($A17,Import!$A:$A,0))),"",INDEX(Import!AE:AE,MATCH($A17,Import!$A:$A,0))) | AF17: =IF(ISNA(INDEX(Import!AF:AF,MATCH($A17,Import!$A:$A,0))),"",INDEX(Import!AF:AF,MATCH($A17,Import!$A:$A,0))) | AG17: =IF(ISNA(INDEX(Import!AG:AG,MATCH($A17,Import!$A:$A,0))),"",INDEX(Import!AG:AG,MATCH($A17,Import!$A:$A,0))) | AH17: =IF(ISNA(INDEX(Import!AH:AH,MATCH($A17,Import!$A:$A,0))),"",INDEX(Import!AH:AH,MATCH($A17,Import!$A:$A,0))) | AI17: =IF(ISNA(INDEX(Import!AI:AI,MATCH($A17,Import!$A:$A,0))),"",INDEX(Import!AI:AI,MATCH($A17,Import!$A:$A,0))) | AJ17: =IF(ISNA(INDEX(Import!AJ:AJ,MATCH($A17,Import!$A:$A,0))),"",INDEX(Import!AJ:AJ,MATCH($A17,Import!$A:$A,0)))
A18: {=IF(ROWS($3:17)<=COUNTIF(Import!$AO:$AO,"MERCURE"),INDEX(Import!A:A,SMALL(IF(Import!$AO:$AO="MERCURE",ROW(INDIRECT("1:"&ROWS(Import!$AO:$AO)))),ROWS($3:17))),"")} | B18: =IF(ISNA(INDEX(Import!B:B,MATCH($A18,Import!$A:$A,0))),"",INDEX(Import!B:B,MATCH($A18,Import!$A:$A,0))) | C18: =IF(ISNA(INDEX(Import!C:C,MATCH($A18,Import!$A:$A,0))),"",INDEX(Import!C:C,MATCH($A18,Import!$A:$A,0))) | D18: =IF(ISNA(INDEX(Import!D:D,MATCH($A18,Import!$A:$A,0))),"",INDEX(Import!D:D,MATCH($A18,Import!$A:$A,0))) | E18: =IF(ISNA(INDEX(Import!E:E,MATCH($A18,Import!$A:$A,0))),"",INDEX(Import!E:E,MATCH($A18,Import!$A:$A,0))) | F18: =IF(ISNA(INDEX(Import!F:F,MATCH($A18,Import!$A:$A,0))),"",INDEX(Import!F:F,MATCH($A18,Import!$A:$A,0))) | G18: =IF(ISNA(INDEX(Import!G:G,MATCH($A18,Import!$A:$A,0))),"",INDEX(Import!G:G,MATCH($A18,Import!$A:$A,0))) | H18: =IF(ISNA(INDEX(Import!H:H,MATCH($A18,Import!$A:$A,0))),"",INDEX(Import!H:H,MATCH($A18,Import!$A:$A,0))) | I18: =IF(ISNA(INDEX(Import!I:I,MATCH($A18,Import!$A:$A,0))),"",INDEX(Import!I:I,MATCH($A18,Import!$A:$A,0))) | J18: =IF(ISNA(INDEX(Import!J:J,MATCH($A18,Import!$A:$A,0))),"",INDEX(Import!J:J,MATCH($A18,Import!$A:$A,0))) | K18: =IF(ISNA(INDEX(Import!K:K,MATCH($A18,Import!$A:$A,0))),"",INDEX(Import!K:K,MATCH($A18,Import!$A:$A,0))) | L18: =IF(ISNA(INDEX(Import!L:L,MATCH($A18,Import!$A:$A,0))),"",INDEX(Import!L:L,MATCH($A18,Import!$A:$A,0))) | M18: =IF(ISNA(INDEX(Import!M:M,MATCH($A18,Import!$A:$A,0))),"",INDEX(Import!M:M,MATCH($A18,Import!$A:$A,0))) | N18: =IF(ISNA(INDEX(Import!N:N,MATCH($A18,Import!$A:$A,0))),"",INDEX(Import!N:N,MATCH($A18,Import!$A:$A,0))) | O18: =IF(ISNA(INDEX(Import!O:O,MATCH($A18,Import!$A:$A,0))),"",INDEX(Import!O:O,MATCH($A18,Import!$A:$A,0))) | P18: =IF(ISNA(INDEX(Import!P:P,MATCH($A18,Import!$A:$A,0))),"",INDEX(Import!P:P,MATCH($A18,Import!$A:$A,0))) | Q18: =IF(ISNA(INDEX(Import!Q:Q,MATCH($A18,Import!$A:$A,0))),"",INDEX(Import!Q:Q,MATCH($A18,Import!$A:$A,0))) | R18: =IF(ISNA(INDEX(Import!R:R,MATCH($A18,Import!$A:$A,0))),"",INDEX(Import!R:R,MATCH($A18,Import!$A:$A,0))) | S18: =IF(ISNA(INDEX(Import!S:S,MATCH($A18,Import!$A:$A,0))),"",INDEX(Import!S:S,MATCH($A18,Import!$A:$A,0))) | T18: =IF(ISNA(INDEX(Import!T:T,MATCH($A18,Import!$A:$A,0))),"",INDEX(Import!T:T,MATCH($A18,Import!$A:$A,0))) | U18: =IF(ISNA(INDEX(Import!U:U,MATCH($A18,Import!$A:$A,0))),"",INDEX(Import!U:U,MATCH($A18,Import!$A:$A,0))) | V18: =IF(ISNA(INDEX(Import!V:V,MATCH($A18,Import!$A:$A,0))),"",INDEX(Import!V:V,MATCH($A18,Import!$A:$A,0))) | W18: =IF(ISNA(INDEX(Import!W:W,MATCH($A18,Import!$A:$A,0))),"",INDEX(Import!W:W,MATCH($A18,Import!$A:$A,0))) | X18: =IF(ISNA(INDEX(Import!X:X,MATCH($A18,Import!$A:$A,0))),"",INDEX(Import!X:X,MATCH($A18,Import!$A:$A,0))) | Y18: =IF(ISNA(INDEX(Import!Y:Y,MATCH($A18,Import!$A:$A,0))),"",INDEX(Import!Y:Y,MATCH($A18,Import!$A:$A,0))) | Z18: =IF(ISNA(INDEX(Import!Z:Z,MATCH($A18,Import!$A:$A,0))),"",INDEX(Import!Z:Z,MATCH($A18,Import!$A:$A,0))) | AA18: =IF(ISNA(INDEX(Import!AA:AA,MATCH($A18,Import!$A:$A,0))),"",INDEX(Import!AA:AA,MATCH($A18,Import!$A:$A,0))) | AB18: =IF(ISNA(INDEX(Import!AB:AB,MATCH($A18,Import!$A:$A,0))),"",INDEX(Import!AB:AB,MATCH($A18,Import!$A:$A,0))) | AC18: =IF(ISNA(INDEX(Import!AC:AC,MATCH($A18,Import!$A:$A,0))),"",INDEX(Import!AC:AC,MATCH($A18,Import!$A:$A,0))) | AD18: =IF(ISNA(INDEX(Import!AD:AD,MATCH($A18,Import!$A:$A,0))),"",INDEX(Import!AD:AD,MATCH($A18,Import!$A:$A,0))) | AE18: =IF(ISNA(INDEX(Import!AE:AE,MATCH($A18,Import!$A:$A,0))),"",INDEX(Import!AE:AE,MATCH($A18,Import!$A:$A,0))) | AF18: =IF(ISNA(INDEX(Import!AF:AF,MATCH($A18,Import!$A:$A,0))),"",INDEX(Import!AF:AF,MATCH($A18,Import!$A:$A,0))) | AG18: =IF(ISNA(INDEX(Import!AG:AG,MATCH($A18,Import!$A:$A,0))),"",INDEX(Import!AG:AG,MATCH($A18,Import!$A:$A,0))) | AH18: =IF(ISNA(INDEX(Import!AH:AH,MATCH($A18,Import!$A:$A,0))),"",INDEX(Import!AH:AH,MATCH($A18,Import!$A:$A,0))) | AI18: =IF(ISNA(INDEX(Import!AI:AI,MATCH($A18,Import!$A:$A,0))),"",INDEX(Import!AI:AI,MATCH($A18,Import!$A:$A,0))) | AJ18: =IF(ISNA(INDEX(Import!AJ:AJ,MATCH($A18,Import!$A:$A,0))),"",INDEX(Import!AJ:AJ,MATCH($A18,Import!$A:$A,0)))
A19: {=IF(ROWS($3:18)<=COUNTIF(Import!$AO:$AO,"MERCURE"),INDEX(Import!A:A,SMALL(IF(Import!$AO:$AO="MERCURE",ROW(INDIRECT("1:"&ROWS(Import!$AO:$AO)))),ROWS($3:18))),"")} | B19: =IF(ISNA(INDEX(Import!B:B,MATCH($A19,Import!$A:$A,0))),"",INDEX(Import!B:B,MATCH($A19,Import!$A:$A,0))) | C19: =IF(ISNA(INDEX(Import!C:C,MATCH($A19,Import!$A:$A,0))),"",INDEX(Import!C:C,MATCH($A19,Import!$A:$A,0))) | D19: =IF(ISNA(INDEX(Import!D:D,MATCH($A19,Import!$A:$A,0))),"",INDEX(Import!D:D,MATCH($A19,Import!$A:$A,0))) | E19: =IF(ISNA(INDEX(Import!E:E,MATCH($A19,Import!$A:$A,0))),"",INDEX(Import!E:E,MATCH($A19,Import!$A:$A,0))) | F19: =IF(ISNA(INDEX(Import!F:F,MATCH($A19,Import!$A:$A,0))),"",INDEX(Import!F:F,MATCH($A19,Import!$A:$A,0))) | G19: =IF(ISNA(INDEX(Import!G:G,MATCH($A19,Import!$A:$A,0))),"",INDEX(Import!G:G,MATCH($A19,Import!$A:$A,0))) | H19: =IF(ISNA(INDEX(Import!H:H,MATCH($A19,Import!$A:$A,0))),"",INDEX(Import!H:H,MATCH($A19,Import!$A:$A,0))) | I19: =IF(ISNA(INDEX(Import!I:I,MATCH($A19,Import!$A:$A,0))),"",INDEX(Import!I:I,MATCH($A19,Import!$A:$A,0))) | J19: =IF(ISNA(INDEX(Import!J:J,MATCH($A19,Import!$A:$A,0))),"",INDEX(Import!J:J,MATCH($A19,Import!$A:$A,0))) | K19: =IF(ISNA(INDEX(Import!K:K,MATCH($A19,Import!$A:$A,0))),"",INDEX(Import!K:K,MATCH($A19,Import!$A:$A,0))) | L19: =IF(ISNA(INDEX(Import!L:L,MATCH($A19,Import!$A:$A,0))),"",INDEX(Import!L:L,MATCH($A19,Import!$A:$A,0))) | M19: =IF(ISNA(INDEX(Import!M:M,MATCH($A19,Import!$A:$A,0))),"",INDEX(Import!M:M,MATCH($A19,Import!$A:$A,0))) | N19: =IF(ISNA(INDEX(Import!N:N,MATCH($A19,Import!$A:$A,0))),"",INDEX(Import!N:N,MATCH($A19,Import!$A:$A,0))) | O19: =IF(ISNA(INDEX(Import!O:O,MATCH($A19,Import!$A:$A,0))),"",INDEX(Import!O:O,MATCH($A19,Import!$A:$A,0))) | P19: =IF(ISNA(INDEX(Import!P:P,MATCH($A19,Import!$A:$A,0))),"",INDEX(Import!P:P,MATCH($A19,Import!$A:$A,0))) | Q19: =IF(ISNA(INDEX(Import!Q:Q,MATCH($A19,Import!$A:$A,0))),"",INDEX(Import!Q:Q,MATCH($A19,Import!$A:$A,0))) | R19: =IF(ISNA(INDEX(Import!R:R,MATCH($A19,Import!$A:$A,0))),"",INDEX(Import!R:R,MATCH($A19,Import!$A:$A,0))) | S19: =IF(ISNA(INDEX(Import!S:S,MATCH($A19,Import!$A:$A,0))),"",INDEX(Import!S:S,MATCH($A19,Import!$A:$A,0))) | T19: =IF(ISNA(INDEX(Import!T:T,MATCH($A19,Import!$A:$A,0))),"",INDEX(Import!T:T,MATCH($A19,Import!$A:$A,0))) | U19: =IF(ISNA(INDEX(Import!U:U,MATCH($A19,Import!$A:$A,0))),"",INDEX(Import!U:U,MATCH($A19,Import!$A:$A,0))) | V19: =IF(ISNA(INDEX(Import!V:V,MATCH($A19,Import!$A:$A,0))),"",INDEX(Import!V:V,MATCH($A19,Import!$A:$A,0))) | W19: =IF(ISNA(INDEX(Import!W:W,MATCH($A19,Import!$A:$A,0))),"",INDEX(Import!W:W,MATCH($A19,Import!$A:$A,0))) | X19: =IF(ISNA(INDEX(Import!X:X,MATCH($A19,Import!$A:$A,0))),"",INDEX(Import!X:X,MATCH($A19,Import!$A:$A,0))) | Y19: =IF(ISNA(INDEX(Import!Y:Y,MATCH($A19,Import!$A:$A,0))),"",INDEX(Import!Y:Y,MATCH($A19,Import!$A:$A,0))) | Z19: =IF(ISNA(INDEX(Import!Z:Z,MATCH($A19,Import!$A:$A,0))),"",INDEX(Import!Z:Z,MATCH($A19,Import!$A:$A,0))) | AA19: =IF(ISNA(INDEX(Import!AA:AA,MATCH($A19,Import!$A:$A,0))),"",INDEX(Import!AA:AA,MATCH($A19,Import!$A:$A,0))) | AB19: =IF(ISNA(INDEX(Import!AB:AB,MATCH($A19,Import!$A:$A,0))),"",INDEX(Import!AB:AB,MATCH($A19,Import!$A:$A,0))) | AC19: =IF(ISNA(INDEX(Import!AC:AC,MATCH($A19,Import!$A:$A,0))),"",INDEX(Import!AC:AC,MATCH($A19,Import!$A:$A,0))) | AD19: =IF(ISNA(INDEX(Import!AD:AD,MATCH($A19,Import!$A:$A,0))),"",INDEX(Import!AD:AD,MATCH($A19,Import!$A:$A,0))) | AE19: =IF(ISNA(INDEX(Import!AE:AE,MATCH($A19,Import!$A:$A,0))),"",INDEX(Import!AE:AE,MATCH($A19,Import!$A:$A,0))) | AF19: =IF(ISNA(INDEX(Import!AF:AF,MATCH($A19,Import!$A:$A,0))),"",INDEX(Import!AF:AF,MATCH($A19,Import!$A:$A,0))) | AG19: =IF(ISNA(INDEX(Import!AG:AG,MATCH($A19,Import!$A:$A,0))),"",INDEX(Import!AG:AG,MATCH($A19,Import!$A:$A,0))) | AH19: =IF(ISNA(INDEX(Import!AH:AH,MATCH($A19,Import!$A:$A,0))),"",INDEX(Import!AH:AH,MATCH($A19,Import!$A:$A,0))) | AI19: =IF(ISNA(INDEX(Import!AI:AI,MATCH($A19,Import!$A:$A,0))),"",INDEX(Import!AI:AI,MATCH($A19,Import!$A:$A,0))) | AJ19: =IF(ISNA(INDEX(Import!AJ:AJ,MATCH($A19,Import!$A:$A,0))),"",INDEX(Import!AJ:AJ,MATCH($A19,Import!$A:$A,0)))
A20: {=IF(ROWS($3:19)<=COUNTIF(Import!$AO:$AO,"MERCURE"),INDEX(Import!A:A,SMALL(IF(Import!$AO:$AO="MERCURE",ROW(INDIRECT("1:"&ROWS(Import!$AO:$AO)))),ROWS($3:19))),"")} | B20: =IF(ISNA(INDEX(Import!B:B,MATCH($A20,Import!$A:$A,0))),"",INDEX(Import!B:B,MATCH($A20,Import!$A:$A,0))) | C20: =IF(ISNA(INDEX(Import!C:C,MATCH($A20,Import!$A:$A,0))),"",INDEX(Import!C:C,MATCH($A20,Import!$A:$A,0))) | D20: =IF(ISNA(INDEX(Import!D:D,MATCH($A20,Import!$A:$A,0))),"",INDEX(Import!D:D,MATCH($A20,Import!$A:$A,0))) | E20: =IF(ISNA(INDEX(Import!E:E,MATCH($A20,Import!$A:$A,0))),"",INDEX(Import!E:E,MATCH($A20,Import!$A:$A,0))) | F20: =IF(ISNA(INDEX(Import!F:F,MATCH($A20,Import!$A:$A,0))),"",INDEX(Import!F:F,MATCH($A20,Import!$A:$A,0))) | G20: =IF(ISNA(INDEX(Import!G:G,MATCH($A20,Import!$A:$A,0))),"",INDEX(Import!G:G,MATCH($A20,Import!$A:$A,0))) | H20: =IF(ISNA(INDEX(Import!H:H,MATCH($A20,Import!$A:$A,0))),"",INDEX(Import!H:H,MATCH($A20,Import!$A:$A,0))) | I20: =IF(ISNA(INDEX(Import!I:I,MATCH($A20,Import!$A:$A,0))),"",INDEX(Import!I:I,MATCH($A20,Import!$A:$A,0))) | J20: =IF(ISNA(INDEX(Import!J:J,MATCH($A20,Import!$A:$A,0))),"",INDEX(Import!J:J,MATCH($A20,Import!$A:$A,0))) | K20: =IF(ISNA(INDEX(Import!K:K,MATCH($A20,Import!$A:$A,0))),"",INDEX(Import!K:K,MATCH($A20,Import!$A:$A,0))) | L20: =IF(ISNA(INDEX(Import!L:L,MATCH($A20,Import!$A:$A,0))),"",INDEX(Import!L:L,MATCH($A20,Import!$A:$A,0))) | M20: =IF(ISNA(INDEX(Import!M:M,MATCH($A20,Import!$A:$A,0))),"",INDEX(Import!M:M,MATCH($A20,Import!$A:$A,0))) | N20: =IF(ISNA(INDEX(Import!N:N,MATCH($A20,Import!$A:$A,0))),"",INDEX(Import!N:N,MATCH($A20,Import!$A:$A,0))) | O20: =IF(ISNA(INDEX(Import!O:O,MATCH($A20,Import!$A:$A,0))),"",INDEX(Import!O:O,MATCH($A20,Import!$A:$A,0))) | P20: =IF(ISNA(INDEX(Import!P:P,MATCH($A20,Import!$A:$A,0))),"",INDEX(Import!P:P,MATCH($A20,Import!$A:$A,0))) | Q20: =IF(ISNA(INDEX(Import!Q:Q,MATCH($A20,Import!$A:$A,0))),"",INDEX(Import!Q:Q,MATCH($A20,Import!$A:$A,0))) | R20: =IF(ISNA(INDEX(Import!R:R,MATCH($A20,Import!$A:$A,0))),"",INDEX(Import!R:R,MATCH($A20,Import!$A:$A,0))) | S20: =IF(ISNA(INDEX(Import!S:S,MATCH($A20,Import!$A:$A,0))),"",INDEX(Import!S:S,MATCH($A20,Import!$A:$A,0))) | T20: =IF(ISNA(INDEX(Import!T:T,MATCH($A20,Import!$A:$A,0))),"",INDEX(Import!T:T,MATCH($A20,Import!$A:$A,0))) | U20: =IF(ISNA(INDEX(Import!U:U,MATCH($A20,Import!$A:$A,0))),"",INDEX(Import!U:U,MATCH($A20,Import!$A:$A,0))) | V20: =IF(ISNA(INDEX(Import!V:V,MATCH($A20,Import!$A:$A,0))),"",INDEX(Import!V:V,MATCH($A20,Import!$A:$A,0))) | W20: =IF(ISNA(INDEX(Import!W:W,MATCH($A20,Import!$A:$A,0))),"",INDEX(Import!W:W,MATCH($A20,Import!$A:$A,0))) | X20: =IF(ISNA(INDEX(Import!X:X,MATCH($A20,Import!$A:$A,0))),"",INDEX(Import!X:X,MATCH($A20,Import!$A:$A,0))) | Y20: =IF(ISNA(INDEX(Import!Y:Y,MATCH($A20,Import!$A:$A,0))),"",INDEX(Import!Y:Y,MATCH($A20,Import!$A:$A,0))) | Z20: =IF(ISNA(INDEX(Import!Z:Z,MATCH($A20,Import!$A:$A,0))),"",INDEX(Import!Z:Z,MATCH($A20,Import!$A:$A,0))) | AA20: =IF(ISNA(INDEX(Import!AA:AA,MATCH($A20,Import!$A:$A,0))),"",INDEX(Import!AA:AA,MATCH($A20,Import!$A:$A,0))) | AB20: =IF(ISNA(INDEX(Import!AB:AB,MATCH($A20,Import!$A:$A,0))),"",INDEX(Import!AB:AB,MATCH($A20,Import!$A:$A,0))) | AC20: =IF(ISNA(INDEX(Import!AC:AC,MATCH($A20,Import!$A:$A,0))),"",INDEX(Import!AC:AC,MATCH($A20,Import!$A:$A,0))) | AD20: =IF(ISNA(INDEX(Import!AD:AD,MATCH($A20,Import!$A:$A,0))),"",INDEX(Import!AD:AD,MATCH($A20,Import!$A:$A,0))) | AE20: =IF(ISNA(INDEX(Import!AE:AE,MATCH($A20,Import!$A:$A,0))),"",INDEX(Import!AE:AE,MATCH($A20,Import!$A:$A,0))) | AF20: =IF(ISNA(INDEX(Import!AF:AF,MATCH($A20,Import!$A:$A,0))),"",INDEX(Import!AF:AF,MATCH($A20,Import!$A:$A,0))) | AG20: =IF(ISNA(INDEX(Import!AG:AG,MATCH($A20,Import!$A:$A,0))),"",INDEX(Import!AG:AG,MATCH($A20,Import!$A:$A,0))) | AH20: =IF(ISNA(INDEX(Import!AH:AH,MATCH($A20,Import!$A:$A,0))),"",INDEX(Import!AH:AH,MATCH($A20,Import!$A:$A,0))) | AI20: =IF(ISNA(INDEX(Import!AI:AI,MATCH($A20,Import!$A:$A,0))),"",INDEX(Import!AI:AI,MATCH($A20,Import!$A:$A,0))) | AJ20: =IF(ISNA(INDEX(Import!AJ:AJ,MATCH($A20,Import!$A:$A,0))),"",INDEX(Import!AJ:AJ,MATCH($A20,Import!$A:$A,0)))
A21: {=IF(ROWS($3:20)<=COUNTIF(Import!$AO:$AO,"MERCURE"),INDEX(Import!A:A,SMALL(IF(Import!$AO:$AO="MERCURE",ROW(INDIRECT("1:"&ROWS(Import!$AO:$AO)))),ROWS($3:20))),"")} | B21: =IF(ISNA(INDEX(Import!B:B,MATCH($A21,Import!$A:$A,0))),"",INDEX(Import!B:B,MATCH($A21,Import!$A:$A,0))) | C21: =IF(ISNA(INDEX(Import!C:C,MATCH($A21,Import!$A:$A,0))),"",INDEX(Import!C:C,MATCH($A21,Import!$A:$A,0))) | D21: =IF(ISNA(INDEX(Import!D:D,MATCH($A21,Import!$A:$A,0))),"",INDEX(Import!D:D,MATCH($A21,Import!$A:$A,0))) | E21: =IF(ISNA(INDEX(Import!E:E,MATCH($A21,Import!$A:$A,0))),"",INDEX(Import!E:E,MATCH($A21,Import!$A:$A,0))) | F21: =IF(ISNA(INDEX(Import!F:F,MATCH($A21,Import!$A:$A,0))),"",INDEX(Import!F:F,MATCH($A21,Import!$A:$A,0))) | G21: =IF(ISNA(INDEX(Import!G:G,MATCH($A21,Import!$A:$A,0))),"",INDEX(Import!G:G,MATCH($A21,Import!$A:$A,0))) | H21: =IF(ISNA(INDEX(Import!H:H,MATCH($A21,Import!$A:$A,0))),"",INDEX(Import!H:H,MATCH($A21,Import!$A:$A,0))) | I21: =IF(ISNA(INDEX(Import!I:I,MATCH($A21,Import!$A:$A,0))),"",INDEX(Import!I:I,MATCH($A21,Import!$A:$A,0))) | J21: =IF(ISNA(INDEX(Import!J:J,MATCH($A21,Import!$A:$A,0))),"",INDEX(Import!J:J,MATCH($A21,Import!$A:$A,0))) | K21: =IF(ISNA(INDEX(Import!K:K,MATCH($A21,Import!$A:$A,0))),"",INDEX(Import!K:K,MATCH($A21,Import!$A:$A,0))) | L21: =IF(ISNA(INDEX(Import!L:L,MATCH($A21,Import!$A:$A,0))),"",INDEX(Import!L:L,MATCH($A21,Import!$A:$A,0))) | M21: =IF(ISNA(INDEX(Import!M:M,MATCH($A21,Import!$A:$A,0))),"",INDEX(Import!M:M,MATCH($A21,Import!$A:$A,0))) | N21: =IF(ISNA(INDEX(Import!N:N,MATCH($A21,Import!$A:$A,0))),"",INDEX(Import!N:N,MATCH($A21,Import!$A:$A,0))) | O21: =IF(ISNA(INDEX(Import!O:O,MATCH($A21,Import!$A:$A,0))),"",INDEX(Import!O:O,MATCH($A21,Import!$A:$A,0))) | P21: =IF(ISNA(INDEX(Import!P:P,MATCH($A21,Import!$A:$A,0))),"",INDEX(Import!P:P,MATCH($A21,Import!$A:$A,0))) | Q21: =IF(ISNA(INDEX(Import!Q:Q,MATCH($A21,Import!$A:$A,0))),"",INDEX(Import!Q:Q,MATCH($A21,Import!$A:$A,0))) | R21: =IF(ISNA(INDEX(Import!R:R,MATCH($A21,Import!$A:$A,0))),"",INDEX(Import!R:R,MATCH($A21,Import!$A:$A,0))) | S21: =IF(ISNA(INDEX(Import!S:S,MATCH($A21,Import!$A:$A,0))),"",INDEX(Import!S:S,MATCH($A21,Import!$A:$A,0))) | T21: =IF(ISNA(INDEX(Import!T:T,MATCH($A21,Import!$A:$A,0))),"",INDEX(Import!T:T,MATCH($A21,Import!$A:$A,0))) | U21: =IF(ISNA(INDEX(Import!U:U,MATCH($A21,Import!$A:$A,0))),"",INDEX(Import!U:U,MATCH($A21,Import!$A:$A,0))) | V21: =IF(ISNA(INDEX(Import!V:V,MATCH($A21,Import!$A:$A,0))),"",INDEX(Import!V:V,MATCH($A21,Import!$A:$A,0))) | W21: =IF(ISNA(INDEX(Import!W:W,MATCH($A21,Import!$A:$A,0))),"",INDEX(Import!W:W,MATCH($A21,Import!$A:$A,0))) | X21: =IF(ISNA(INDEX(Import!X:X,MATCH($A21,Import!$A:$A,0))),"",INDEX(Import!X:X,MATCH($A21,Import!$A:$A,0))) | Y21: =IF(ISNA(INDEX(Import!Y:Y,MATCH($A21,Import!$A:$A,0))),"",INDEX(Import!Y:Y,MATCH($A21,Import!$A:$A,0))) | Z21: =IF(ISNA(INDEX(Import!Z:Z,MATCH($A21,Import!$A:$A,0))),"",INDEX(Import!Z:Z,MATCH($A21,Import!$A:$A,0))) | AA21: =IF(ISNA(INDEX(Import!AA:AA,MATCH($A21,Import!$A:$A,0))),"",INDEX(Import!AA:AA,MATCH($A21,Import!$A:$A,0))) | AB21: =IF(ISNA(INDEX(Import!AB:AB,MATCH($A21,Import!$A:$A,0))),"",INDEX(Import!AB:AB,MATCH($A21,Import!$A:$A,0))) | AC21: =IF(ISNA(INDEX(Import!AC:AC,MATCH($A21,Import!$A:$A,0))),"",INDEX(Import!AC:AC,MATCH($A21,Import!$A:$A,0))) | AD21: =IF(ISNA(INDEX(Import!AD:AD,MATCH($A21,Import!$A:$A,0))),"",INDEX(Import!AD:AD,MATCH($A21,Import!$A:$A,0))) | AE21: =IF(ISNA(INDEX(Import!AE:AE,MATCH($A21,Import!$A:$A,0))),"",INDEX(Import!AE:AE,MATCH($A21,Import!$A:$A,0))) | AF21: =IF(ISNA(INDEX(Import!AF:AF,MATCH($A21,Import!$A:$A,0))),"",INDEX(Import!AF:AF,MATCH($A21,Import!$A:$A,0))) | AG21: =IF(ISNA(INDEX(Import!AG:AG,MATCH($A21,Import!$A:$A,0))),"",INDEX(Import!AG:AG,MATCH($A21,Import!$A:$A,0))) | AH21: =IF(ISNA(INDEX(Import!AH:AH,MATCH($A21,Import!$A:$A,0))),"",INDEX(Import!AH:AH,MATCH($A21,Import!$A:$A,0))) | AI21: =IF(ISNA(INDEX(Import!AI:AI,MATCH($A21,Import!$A:$A,0))),"",INDEX(Import!AI:AI,MATCH($A21,Import!$A:$A,0))) | AJ21: =IF(ISNA(INDEX(Import!AJ:AJ,MATCH($A21,Import!$A:$A,0))),"",INDEX(Import!AJ:AJ,MATCH($A21,Import!$A:$A,0)))
A22: {=IF(ROWS($3:21)<=COUNTIF(Import!$AO:$AO,"MERCURE"),INDEX(Import!A:A,SMALL(IF(Import!$AO:$AO="MERCURE",ROW(INDIRECT("1:"&ROWS(Import!$AO:$AO)))),ROWS($3:21))),"")} | B22: =IF(ISNA(INDEX(Import!B:B,MATCH($A22,Import!$A:$A,0))),"",INDEX(Import!B:B,MATCH($A22,Import!$A:$A,0))) | C22: =IF(ISNA(INDEX(Import!C:C,MATCH($A22,Import!$A:$A,0))),"",INDEX(Import!C:C,MATCH($A22,Import!$A:$A,0))) | D22: =IF(ISNA(INDEX(Import!D:D,MATCH($A22,Import!$A:$A,0))),"",INDEX(Import!D:D,MATCH($A22,Import!$A:$A,0))) | E22: =IF(ISNA(INDEX(Import!E:E,MATCH($A22,Import!$A:$A,0))),"",INDEX(Import!E:E,MATCH($A22,Import!$A:$A,0))) | F22: =IF(ISNA(INDEX(Import!F:F,MATCH($A22,Import!$A:$A,0))),"",INDEX(Import!F:F,MATCH($A22,Import!$A:$A,0))) | G22: =IF(ISNA(INDEX(Import!G:G,MATCH($A22,Import!$A:$A,0))),"",INDEX(Import!G:G,MATCH($A22,Import!$A:$A,0))) | H22: =IF(ISNA(INDEX(Import!H:H,MATCH($A22,Import!$A:$A,0))),"",INDEX(Import!H:H,MATCH($A22,Import!$A:$A,0))) | I22: =IF(ISNA(INDEX(Import!I:I,MATCH($A22,Import!$A:$A,0))),"",INDEX(Import!I:I,MATCH($A22,Import!$A:$A,0))) | J22: =IF(ISNA(INDEX(Import!J:J,MATCH($A22,Import!$A:$A,0))),"",INDEX(Import!J:J,MATCH($A22,Import!$A:$A,0))) | K22: =IF(ISNA(INDEX(Import!K:K,MATCH($A22,Import!$A:$A,0))),"",INDEX(Import!K:K,MATCH($A22,Import!$A:$A,0))) | L22: =IF(ISNA(INDEX(Import!L:L,MATCH($A22,Import!$A:$A,0))),"",INDEX(Import!L:L,MATCH($A22,Import!$A:$A,0))) | M22: =IF(ISNA(INDEX(Import!M:M,MATCH($A22,Import!$A:$A,0))),"",INDEX(Import!M:M,MATCH($A22,Import!$A:$A,0))) | N22: =IF(ISNA(INDEX(Import!N:N,MATCH($A22,Import!$A:$A,0))),"",INDEX(Import!N:N,MATCH($A22,Import!$A:$A,0))) | O22: =IF(ISNA(INDEX(Import!O:O,MATCH($A22,Import!$A:$A,0))),"",INDEX(Import!O:O,MATCH($A22,Import!$A:$A,0))) | P22: =IF(ISNA(INDEX(Import!P:P,MATCH($A22,Import!$A:$A,0))),"",INDEX(Import!P:P,MATCH($A22,Import!$A:$A,0))) | Q22: =IF(ISNA(INDEX(Import!Q:Q,MATCH($A22,Import!$A:$A,0))),"",INDEX(Import!Q:Q,MATCH($A22,Import!$A:$A,0))) | R22: =IF(ISNA(INDEX(Import!R:R,MATCH($A22,Import!$A:$A,0))),"",INDEX(Import!R:R,MATCH($A22,Import!$A:$A,0))) | S22: =IF(ISNA(INDEX(Import!S:S,MATCH($A22,Import!$A:$A,0))),"",INDEX(Import!S:S,MATCH($A22,Import!$A:$A,0))) | T22: =IF(ISNA(INDEX(Import!T:T,MATCH($A22,Import!$A:$A,0))),"",INDEX(Import!T:T,MATCH($A22,Import!$A:$A,0))) | U22: =IF(ISNA(INDEX(Import!U:U,MATCH($A22,Import!$A:$A,0))),"",INDEX(Import!U:U,MATCH($A22,Import!$A:$A,0))) | V22: =IF(ISNA(INDEX(Import!V:V,MATCH($A22,Import!$A:$A,0))),"",INDEX(Import!V:V,MATCH($A22,Import!$A:$A,0))) | W22: =IF(ISNA(INDEX(Import!W:W,MATCH($A22,Import!$A:$A,0))),"",INDEX(Import!W:W,MATCH($A22,Import!$A:$A,0))) | X22: =IF(ISNA(INDEX(Import!X:X,MATCH($A22,Import!$A:$A,0))),"",INDEX(Import!X:X,MATCH($A22,Import!$A:$A,0))) | Y22: =IF(ISNA(INDEX(Import!Y:Y,MATCH($A22,Import!$A:$A,0))),"",INDEX(Import!Y:Y,MATCH($A22,Import!$A:$A,0))) | Z22: =IF(ISNA(INDEX(Import!Z:Z,MATCH($A22,Import!$A:$A,0))),"",INDEX(Import!Z:Z,MATCH($A22,Import!$A:$A,0))) | AA22: =IF(ISNA(INDEX(Import!AA:AA,MATCH($A22,Import!$A:$A,0))),"",INDEX(Import!AA:AA,MATCH($A22,Import!$A:$A,0))) | AB22: =IF(ISNA(INDEX(Import!AB:AB,MATCH($A22,Import!$A:$A,0))),"",INDEX(Import!AB:AB,MATCH($A22,Import!$A:$A,0))) | AC22: =IF(ISNA(INDEX(Import!AC:AC,MATCH($A22,Import!$A:$A,0))),"",INDEX(Import!AC:AC,MATCH($A22,Import!$A:$A,0))) | AD22: =IF(ISNA(INDEX(Import!AD:AD,MATCH($A22,Import!$A:$A,0))),"",INDEX(Import!AD:AD,MATCH($A22,Import!$A:$A,0))) | AE22: =IF(ISNA(INDEX(Import!AE:AE,MATCH($A22,Import!$A:$A,0))),"",INDEX(Import!AE:AE,MATCH($A22,Import!$A:$A,0))) | AF22: =IF(ISNA(INDEX(Import!AF:AF,MATCH($A22,Import!$A:$A,0))),"",INDEX(Import!AF:AF,MATCH($A22,Import!$A:$A,0))) | AG22: =IF(ISNA(INDEX(Import!AG:AG,MATCH($A22,Import!$A:$A,0))),"",INDEX(Import!AG:AG,MATCH($A22,Import!$A:$A,0))) | AH22: =IF(ISNA(INDEX(Import!AH:AH,MATCH($A22,Import!$A:$A,0))),"",INDEX(Import!AH:AH,MATCH($A22,Import!$A:$A,0))) | AI22: =IF(ISNA(INDEX(Import!AI:AI,MATCH($A22,Import!$A:$A,0))),"",INDEX(Import!AI:AI,MATCH($A22,Import!$A:$A,0))) | AJ22: =IF(ISNA(INDEX(Import!AJ:AJ,MATCH($A22,Import!$A:$A,0))),"",INDEX(Import!AJ:AJ,MATCH($A22,Import!$A:$A,0)))
A23: {=IF(ROWS($3:22)<=COUNTIF(Import!$AO:$AO,"MERCURE"),INDEX(Import!A:A,SMALL(IF(Import!$AO:$AO="MERCURE",ROW(INDIRECT("1:"&ROWS(Import!$AO:$AO)))),ROWS($3:22))),"")} | B23: =IF(ISNA(INDEX(Import!B:B,MATCH($A23,Import!$A:$A,0))),"",INDEX(Import!B:B,MATCH($A23,Import!$A:$A,0))) | C23: =IF(ISNA(INDEX(Import!C:C,MATCH($A23,Import!$A:$A,0))),"",INDEX(Import!C:C,MATCH($A23,Import!$A:$A,0))) | D23: =IF(ISNA(INDEX(Import!D:D,MATCH($A23,Import!$A:$A,0))),"",INDEX(Import!D:D,MATCH($A23,Import!$A:$A,0))) | E23: =IF(ISNA(INDEX(Import!E:E,MATCH($A23,Import!$A:$A,0))),"",INDEX(Import!E:E,MATCH($A23,Import!$A:$A,0))) | F23: =IF(ISNA(INDEX(Import!F:F,MATCH($A23,Import!$A:$A,0))),"",INDEX(Import!F:F,MATCH($A23,Import!$A:$A,0))) | G23: =IF(ISNA(INDEX(Import!G:G,MATCH($A23,Import!$A:$A,0))),"",INDEX(Import!G:G,MATCH($A23,Import!$A:$A,0))) | H23: =IF(ISNA(INDEX(Import!H:H,MATCH($A23,Import!$A:$A,0))),"",INDEX(Import!H:H,MATCH($A23,Import!$A:$A,0))) | I23: =IF(ISNA(INDEX(Import!I:I,MATCH($A23,Import!$A:$A,0))),"",INDEX(Import!I:I,MATCH($A23,Import!$A:$A,0))) | J23: =IF(ISNA(INDEX(Import!J:J,MATCH($A23,Import!$A:$A,0))),"",INDEX(Import!J:J,MATCH($A23,Import!$A:$A,0))) | K23: =IF(ISNA(INDEX(Import!K:K,MATCH($A23,Import!$A:$A,0))),"",INDEX(Import!K:K,MATCH($A23,Import!$A:$A,0))) | L23: =IF(ISNA(INDEX(Import!L:L,MATCH($A23,Import!$A:$A,0))),"",INDEX(Import!L:L,MATCH($A23,Import!$A:$A,0))) | M23: =IF(ISNA(INDEX(Import!M:M,MATCH($A23,Import!$A:$A,0))),"",INDEX(Import!M:M,MATCH($A23,Import!$A:$A,0))) | N23: =IF(ISNA(INDEX(Import!N:N,MATCH($A23,Import!$A:$A,0))),"",INDEX(Import!N:N,MATCH($A23,Import!$A:$A,0))) | O23: =IF(ISNA(INDEX(Import!O:O,MATCH($A23,Import!$A:$A,0))),"",INDEX(Import!O:O,MATCH($A23,Import!$A:$A,0))) | P23: =IF(ISNA(INDEX(Import!P:P,MATCH($A23,Import!$A:$A,0))),"",INDEX(Import!P:P,MATCH($A23,Import!$A:$A,0))) | Q23: =IF(ISNA(INDEX(Import!Q:Q,MATCH($A23,Import!$A:$A,0))),"",INDEX(Import!Q:Q,MATCH($A23,Import!$A:$A,0))) | R23: =IF(ISNA(INDEX(Import!R:R,MATCH($A23,Import!$A:$A,0))),"",INDEX(Import!R:R,MATCH($A23,Import!$A:$A,0))) | S23: =IF(ISNA(INDEX(Import!S:S,MATCH($A23,Import!$A:$A,0))),"",INDEX(Import!S:S,MATCH($A23,Import!$A:$A,0))) | T23: =IF(ISNA(INDEX(Import!T:T,MATCH($A23,Import!$A:$A,0))),"",INDEX(Import!T:T,MATCH($A23,Import!$A:$A,0))) | U23: =IF(ISNA(INDEX(Import!U:U,MATCH($A23,Import!$A:$A,0))),"",INDEX(Import!U:U,MATCH($A23,Import!$A:$A,0))) | V23: =IF(ISNA(INDEX(Import!V:V,MATCH($A23,Import!$A:$A,0))),"",INDEX(Import!V:V,MATCH($A23,Import!$A:$A,0))) | W23: =IF(ISNA(INDEX(Import!W:W,MATCH($A23,Import!$A:$A,0))),"",INDEX(Import!W:W,MATCH($A23,Import!$A:$A,0))) | X23: =IF(ISNA(INDEX(Import!X:X,MATCH($A23,Import!$A:$A,0))),"",INDEX(Import!X:X,MATCH($A23,Import!$A:$A,0))) | Y23: =IF(ISNA(INDEX(Import!Y:Y,MATCH($A23,Import!$A:$A,0))),"",INDEX(Import!Y:Y,MATCH($A23,Import!$A:$A,0))) | Z23: =IF(ISNA(INDEX(Import!Z:Z,MATCH($A23,Import!$A:$A,0))),"",INDEX(Import!Z:Z,MATCH($A23,Import!$A:$A,0))) | AA23: =IF(ISNA(INDEX(Import!AA:AA,MATCH($A23,Import!$A:$A,0))),"",INDEX(Import!AA:AA,MATCH($A23,Import!$A:$A,0))) | AB23: =IF(ISNA(INDEX(Import!AB:AB,MATCH($A23,Import!$A:$A,0))),"",INDEX(Import!AB:AB,MATCH($A23,Import!$A:$A,0))) | AC23: =IF(ISNA(INDEX(Import!AC:AC,MATCH($A23,Import!$A:$A,0))),"",INDEX(Import!AC:AC,MATCH($A23,Import!$A:$A,0))) | AD23: =IF(ISNA(INDEX(Import!AD:AD,MATCH($A23,Import!$A:$A,0))),"",INDEX(Import!AD:AD,MATCH($A23,Import!$A:$A,0))) | AE23: =IF(ISNA(INDEX(Import!AE:AE,MATCH($A23,Import!$A:$A,0))),"",INDEX(Import!AE:AE,MATCH($A23,Import!$A:$A,0))) | AF23: =IF(ISNA(INDEX(Import!AF:AF,MATCH($A23,Import!$A:$A,0))),"",INDEX(Import!AF:AF,MATCH($A23,Import!$A:$A,0))) | AG23: =IF(ISNA(INDEX(Import!AG:AG,MATCH($A23,Import!$A:$A,0))),"",INDEX(Import!AG:AG,MATCH($A23,Import!$A:$A,0))) | AH23: =IF(ISNA(INDEX(Import!AH:AH,MATCH($A23,Import!$A:$A,0))),"",INDEX(Import!AH:AH,MATCH($A23,Import!$A:$A,0))) | AI23: =IF(ISNA(INDEX(Import!AI:AI,MATCH($A23,Import!$A:$A,0))),"",INDEX(Import!AI:AI,MATCH($A23,Import!$A:$A,0))) | AJ23: =IF(ISNA(INDEX(Import!AJ:AJ,MATCH($A23,Import!$A:$A,0))),"",INDEX(Import!AJ:AJ,MATCH($A23,Import!$A:$A,0)))
A24: {=IF(ROWS($3:23)<=COUNTIF(Import!$AO:$AO,"MERCURE"),INDEX(Import!A:A,SMALL(IF(Import!$AO:$AO="MERCURE",ROW(INDIRECT("1:"&ROWS(Import!$AO:$AO)))),ROWS($3:23))),"")} | B24: =IF(ISNA(INDEX(Import!B:B,MATCH($A24,Import!$A:$A,0))),"",INDEX(Import!B:B,MATCH($A24,Import!$A:$A,0))) | C24: =IF(ISNA(INDEX(Import!C:C,MATCH($A24,Import!$A:$A,0))),"",INDEX(Import!C:C,MATCH($A24,Import!$A:$A,0))) | D24: =IF(ISNA(INDEX(Import!D:D,MATCH($A24,Import!$A:$A,0))),"",INDEX(Import!D:D,MATCH($A24,Import!$A:$A,0))) | E24: =IF(ISNA(INDEX(Import!E:E,MATCH($A24,Import!$A:$A,0))),"",INDEX(Import!E:E,MATCH($A24,Import!$A:$A,0))) | F24: =IF(ISNA(INDEX(Import!F:F,MATCH($A24,Import!$A:$A,0))),"",INDEX(Import!F:F,MATCH($A24,Import!$A:$A,0))) | G24: =IF(ISNA(INDEX(Import!G:G,MATCH($A24,Import!$A:$A,0))),"",INDEX(Import!G:G,MATCH($A24,Import!$A:$A,0))) | H24: =IF(ISNA(INDEX(Import!H:H,MATCH($A24,Import!$A:$A,0))),"",INDEX(Import!H:H,MATCH($A24,Import!$A:$A,0))) | I24: =IF(ISNA(INDEX(Import!I:I,MATCH($A24,Import!$A:$A,0))),"",INDEX(Import!I:I,MATCH($A24,Import!$A:$A,0))) | J24: =IF(ISNA(INDEX(Import!J:J,MATCH($A24,Import!$A:$A,0))),"",INDEX(Import!J:J,MATCH($A24,Import!$A:$A,0))) | K24: =IF(ISNA(INDEX(Import!K:K,MATCH($A24,Import!$A:$A,0))),"",INDEX(Import!K:K,MATCH($A24,Import!$A:$A,0))) | L24: =IF(ISNA(INDEX(Import!L:L,MATCH($A24,Import!$A:$A,0))),"",INDEX(Import!L:L,MATCH($A24,Import!$A:$A,0))) | M24: =IF(ISNA(INDEX(Import!M:M,MATCH($A24,Import!$A:$A,0))),"",INDEX(Import!M:M,MATCH($A24,Import!$A:$A,0))) | N24: =IF(ISNA(INDEX(Import!N:N,MATCH($A24,Import!$A:$A,0))),"",INDEX(Import!N:N,MATCH($A24,Import!$A:$A,0))) | O24: =IF(ISNA(INDEX(Import!O:O,MATCH($A24,Import!$A:$A,0))),"",INDEX(Import!O:O,MATCH($A24,Import!$A:$A,0))) | P24: =IF(ISNA(INDEX(Import!P:P,MATCH($A24,Import!$A:$A,0))),"",INDEX(Import!P:P,MATCH($A24,Import!$A:$A,0))) | Q24: =IF(ISNA(INDEX(Import!Q:Q,MATCH($A24,Import!$A:$A,0))),"",INDEX(Import!Q:Q,MATCH($A24,Import!$A:$A,0))) | R24: =IF(ISNA(INDEX(Import!R:R,MATCH($A24,Import!$A:$A,0))),"",INDEX(Import!R:R,MATCH($A24,Import!$A:$A,0))) | S24: =IF(ISNA(INDEX(Import!S:S,MATCH($A24,Import!$A:$A,0))),"",INDEX(Import!S:S,MATCH($A24,Import!$A:$A,0))) | T24: =IF(ISNA(INDEX(Import!T:T,MATCH($A24,Import!$A:$A,0))),"",INDEX(Import!T:T,MATCH($A24,Import!$A:$A,0))) | U24: =IF(ISNA(INDEX(Import!U:U,MATCH($A24,Import!$A:$A,0))),"",INDEX(Import!U:U,MATCH($A24,Import!$A:$A,0))) | V24: =IF(ISNA(INDEX(Import!V:V,MATCH($A24,Import!$A:$A,0))),"",INDEX(Import!V:V,MATCH($A24,Import!$A:$A,0))) | W24: =IF(ISNA(INDEX(Import!W:W,MATCH($A24,Import!$A:$A,0))),"",INDEX(Import!W:W,MATCH($A24,Import!$A:$A,0))) | X24: =IF(ISNA(INDEX(Import!X:X,MATCH($A24,Import!$A:$A,0))),"",INDEX(Import!X:X,MATCH($A24,Import!$A:$A,0))) | Y24: =IF(ISNA(INDEX(Import!Y:Y,MATCH($A24,Import!$A:$A,0))),"",INDEX(Import!Y:Y,MATCH($A24,Import!$A:$A,0))) | Z24: =IF(ISNA(INDEX(Import!Z:Z,MATCH($A24,Import!$A:$A,0))),"",INDEX(Import!Z:Z,MATCH($A24,Import!$A:$A,0))) | AA24: =IF(ISNA(INDEX(Import!AA:AA,MATCH($A24,Import!$A:$A,0))),"",INDEX(Import!AA:AA,MATCH($A24,Import!$A:$A,0))) | AB24: =IF(ISNA(INDEX(Import!AB:AB,MATCH($A24,Import!$A:$A,0))),"",INDEX(Import!AB:AB,MATCH($A24,Import!$A:$A,0))) | AC24: =IF(ISNA(INDEX(Import!AC:AC,MATCH($A24,Import!$A:$A,0))),"",INDEX(Import!AC:AC,MATCH($A24,Import!$A:$A,0))) | AD24: =IF(ISNA(INDEX(Import!AD:AD,MATCH($A24,Import!$A:$A,0))),"",INDEX(Import!AD:AD,MATCH($A24,Import!$A:$A,0))) | AE24: =IF(ISNA(INDEX(Import!AE:AE,MATCH($A24,Import!$A:$A,0))),"",INDEX(Import!AE:AE,MATCH($A24,Import!$A:$A,0))) | AF24: =IF(ISNA(INDEX(Import!AF:AF,MATCH($A24,Import!$A:$A,0))),"",INDEX(Import!AF:AF,MATCH($A24,Import!$A:$A,0))) | AG24: =IF(ISNA(INDEX(Import!AG:AG,MATCH($A24,Import!$A:$A,0))),"",INDEX(Import!AG:AG,MATCH($A24,Import!$A:$A,0))) | AH24: =IF(ISNA(INDEX(Import!AH:AH,MATCH($A24,Import!$A:$A,0))),"",INDEX(Import!AH:AH,MATCH($A24,Import!$A:$A,0))) | AI24: =IF(ISNA(INDEX(Import!AI:AI,MATCH($A24,Import!$A:$A,0))),"",INDEX(Import!AI:AI,MATCH($A24,Import!$A:$A,0))) | AJ24: =IF(ISNA(INDEX(Import!AJ:AJ,MATCH($A24,Import!$A:$A,0))),"",INDEX(Import!AJ:AJ,MATCH($A24,Import!$A:$A,0)))
A25: {=IF(ROWS($3:24)<=COUNTIF(Import!$AO:$AO,"MERCURE"),INDEX(Import!A:A,SMALL(IF(Import!$AO:$AO="MERCURE",ROW(INDIRECT("1:"&ROWS(Import!$AO:$AO)))),ROWS($3:24))),"")} | B25: =IF(ISNA(INDEX(Import!B:B,MATCH($A25,Import!$A:$A,0))),"",INDEX(Import!B:B,MATCH($A25,Import!$A:$A,0))) | C25: =IF(ISNA(INDEX(Import!C:C,MATCH($A25,Import!$A:$A,0))),"",INDEX(Import!C:C,MATCH($A25,Import!$A:$A,0))) | D25: =IF(ISNA(INDEX(Import!D:D,MATCH($A25,Import!$A:$A,0))),"",INDEX(Import!D:D,MATCH($A25,Import!$A:$A,0))) | E25: =IF(ISNA(INDEX(Import!E:E,MATCH($A25,Import!$A:$A,0))),"",INDEX(Import!E:E,MATCH($A25,Import!$A:$A,0))) | F25: =IF(ISNA(INDEX(Import!F:F,MATCH($A25,Import!$A:$A,0))),"",INDEX(Import!F:F,MATCH($A25,Import!$A:$A,0))) | G25: =IF(ISNA(INDEX(Import!G:G,MATCH($A25,Import!$A:$A,0))),"",INDEX(Import!G:G,MATCH($A25,Import!$A:$A,0))) | H25: =IF(ISNA(INDEX(Import!H:H,MATCH($A25,Import!$A:$A,0))),"",INDEX(Import!H:H,MATCH($A25,Import!$A:$A,0))) | I25: =IF(ISNA(INDEX(Import!I:I,MATCH($A25,Import!$A:$A,0))),"",INDEX(Import!I:I,MATCH($A25,Import!$A:$A,0))) | J25: =IF(ISNA(INDEX(Import!J:J,MATCH($A25,Import!$A:$A,0))),"",INDEX(Import!J:J,MATCH($A25,Import!$A:$A,0))) | K25: =IF(ISNA(INDEX(Import!K:K,MATCH($A25,Import!$A:$A,0))),"",INDEX(Import!K:K,MATCH($A25,Import!$A:$A,0))) | L25: =IF(ISNA(INDEX(Import!L:L,MATCH($A25,Import!$A:$A,0))),"",INDEX(Import!L:L,MATCH($A25,Import!$A:$A,0))) | M25: =IF(ISNA(INDEX(Import!M:M,MATCH($A25,Import!$A:$A,0))),"",INDEX(Import!M:M,MATCH($A25,Import!$A:$A,0))) | N25: =IF(ISNA(INDEX(Import!N:N,MATCH($A25,Import!$A:$A,0))),"",INDEX(Import!N:N,MATCH($A25,Import!$A:$A,0))) | O25: =IF(ISNA(INDEX(Import!O:O,MATCH($A25,Import!$A:$A,0))),"",INDEX(Import!O:O,MATCH($A25,Import!$A:$A,0))) | P25: =IF(ISNA(INDEX(Import!P:P,MATCH($A25,Import!$A:$A,0))),"",INDEX(Import!P:P,MATCH($A25,Import!$A:$A,0))) | Q25: =IF(ISNA(INDEX(Import!Q:Q,MATCH($A25,Import!$A:$A,0))),"",INDEX(Import!Q:Q,MATCH($A25,Import!$A:$A,0))) | R25: =IF(ISNA(INDEX(Import!R:R,MATCH($A25,Import!$A:$A,0))),"",INDEX(Import!R:R,MATCH($A25,Import!$A:$A,0))) | S25: =IF(ISNA(INDEX(Import!S:S,MATCH($A25,Import!$A:$A,0))),"",INDEX(Import!S:S,MATCH($A25,Import!$A:$A,0))) | T25: =IF(ISNA(INDEX(Import!T:T,MATCH($A25,Import!$A:$A,0))),"",INDEX(Import!T:T,MATCH($A25,Import!$A:$A,0))) | U25: =IF(ISNA(INDEX(Import!U:U,MATCH($A25,Import!$A:$A,0))),"",INDEX(Import!U:U,MATCH($A25,Import!$A:$A,0))) | V25: =IF(ISNA(INDEX(Import!V:V,MATCH($A25,Import!$A:$A,0))),"",INDEX(Import!V:V,MATCH($A25,Import!$A:$A,0))) | W25: =IF(ISNA(INDEX(Import!W:W,MATCH($A25,Import!$A:$A,0))),"",INDEX(Import!W:W,MATCH($A25,Import!$A:$A,0))) | X25: =IF(ISNA(INDEX(Import!X:X,MATCH($A25,Import!$A:$A,0))),"",INDEX(Import!X:X,MATCH($A25,Import!$A:$A,0))) | Y25: =IF(ISNA(INDEX(Import!Y:Y,MATCH($A25,Import!$A:$A,0))),"",INDEX(Import!Y:Y,MATCH($A25,Import!$A:$A,0))) | Z25: =IF(ISNA(INDEX(Import!Z:Z,MATCH($A25,Import!$A:$A,0))),"",INDEX(Import!Z:Z,MATCH($A25,Import!$A:$A,0))) | AA25: =IF(ISNA(INDEX(Import!AA:AA,MATCH($A25,Import!$A:$A,0))),"",INDEX(Import!AA:AA,MATCH($A25,Import!$A:$A,0))) | AB25: =IF(ISNA(INDEX(Import!AB:AB,MATCH($A25,Import!$A:$A,0))),"",INDEX(Import!AB:AB,MATCH($A25,Import!$A:$A,0))) | AC25: =IF(ISNA(INDEX(Import!AC:AC,MATCH($A25,Import!$A:$A,0))),"",INDEX(Import!AC:AC,MATCH($A25,Import!$A:$A,0))) | AD25: =IF(ISNA(INDEX(Import!AD:AD,MATCH($A25,Import!$A:$A,0))),"",INDEX(Import!AD:AD,MATCH($A25,Import!$A:$A,0))) | AE25: =IF(ISNA(INDEX(Import!AE:AE,MATCH($A25,Import!$A:$A,0))),"",INDEX(Import!AE:AE,MATCH($A25,Import!$A:$A,0))) | AF25: =IF(ISNA(INDEX(Import!AF:AF,MATCH($A25,Import!$A:$A,0))),"",INDEX(Import!AF:AF,MATCH($A25,Import!$A:$A,0))) | AG25: =IF(ISNA(INDEX(Import!AG:AG,MATCH($A25,Import!$A:$A,0))),"",INDEX(Import!AG:AG,MATCH($A25,Import!$A:$A,0))) | AH25: =IF(ISNA(INDEX(Import!AH:AH,MATCH($A25,Import!$A:$A,0))),"",INDEX(Import!AH:AH,MATCH($A25,Import!$A:$A,0))) | AI25: =IF(ISNA(INDEX(Import!AI:AI,MATCH($A25,Import!$A:$A,0))),"",INDEX(Import!AI:AI,MATCH($A25,Import!$A:$A,0))) | AJ25: =IF(ISNA(INDEX(Import!AJ:AJ,MATCH($A25,Import!$A:$A,0))),"",INDEX(Import!AJ:AJ,MATCH($A25,Import!$A:$A,0)))
A26: {=IF(ROWS($3:25)<=COUNTIF(Import!$AO:$AO,"MERCURE"),INDEX(Import!A:A,SMALL(IF(Import!$AO:$AO="MERCURE",ROW(INDIRECT("1:"&ROWS(Import!$AO:$AO)))),ROWS($3:25))),"")} | B26: =IF(ISNA(INDEX(Import!B:B,MATCH($A26,Import!$A:$A,0))),"",INDEX(Import!B:B,MATCH($A26,Import!$A:$A,0))) | C26: =IF(ISNA(INDEX(Import!C:C,MATCH($A26,Import!$A:$A,0))),"",INDEX(Import!C:C,MATCH($A26,Import!$A:$A,0))) | D26: =IF(ISNA(INDEX(Import!D:D,MATCH($A26,Import!$A:$A,0))),"",INDEX(Import!D:D,MATCH($A26,Import!$A:$A,0))) | E26: =IF(ISNA(INDEX(Import!E:E,MATCH($A26,Import!$A:$A,0))),"",INDEX(Import!E:E,MATCH($A26,Import!$A:$A,0))) | F26: =IF(ISNA(INDEX(Import!F:F,MATCH($A26,Import!$A:$A,0))),"",INDEX(Import!F:F,MATCH($A26,Import!$A:$A,0))) | G26: =IF(ISNA(INDEX(Import!G:G,MATCH($A26,Import!$A:$A,0))),"",INDEX(Import!G:G,MATCH($A26,Import!$A:$A,0))) | H26: =IF(ISNA(INDEX(Import!H:H,MATCH($A26,Import!$A:$A,0))),"",INDEX(Import!H:H,MATCH($A26,Import!$A:$A,0))) | I26: =IF(ISNA(INDEX(Import!I:I,MATCH($A26,Import!$A:$A,0))),"",INDEX(Import!I:I,MATCH($A26,Import!$A:$A,0))) | J26: =IF(ISNA(INDEX(Import!J:J,MATCH($A26,Import!$A:$A,0))),"",INDEX(Import!J:J,MATCH($A26,Import!$A:$A,0))) | K26: =IF(ISNA(INDEX(Import!K:K,MATCH($A26,Import!$A:$A,0))),"",INDEX(Import!K:K,MATCH($A26,Import!$A:$A,0))) | L26: =IF(ISNA(INDEX(Import!L:L,MATCH($A26,Import!$A:$A,0))),"",INDEX(Import!L:L,MATCH($A26,Import!$A:$A,0))) | M26: =IF(ISNA(INDEX(Import!M:M,MATCH($A26,Import!$A:$A,0))),"",INDEX(Import!M:M,MATCH($A26,Import!$A:$A,0))) | N26: =IF(ISNA(INDEX(Import!N:N,MATCH($A26,Import!$A:$A,0))),"",INDEX(Import!N:N,MATCH($A26,Import!$A:$A,0))) | O26: =IF(ISNA(INDEX(Import!O:O,MATCH($A26,Import!$A:$A,0))),"",INDEX(Import!O:O,MATCH($A26,Import!$A:$A,0))) | P26: =IF(ISNA(INDEX(Import!P:P,MATCH($A26,Import!$A:$A,0))),"",INDEX(Import!P:P,MATCH($A26,Import!$A:$A,0))) | Q26: =IF(ISNA(INDEX(Import!Q:Q,MATCH($A26,Import!$A:$A,0))),"",INDEX(Import!Q:Q,MATCH($A26,Import!$A:$A,0))) | R26: =IF(ISNA(INDEX(Import!R:R,MATCH($A26,Import!$A:$A,0))),"",INDEX(Import!R:R,MATCH($A26,Import!$A:$A,0))) | S26: =IF(ISNA(INDEX(Import!S:S,MATCH($A26,Import!$A:$A,0))),"",INDEX(Import!S:S,MATCH($A26,Import!$A:$A,0))) | T26: =IF(ISNA(INDEX(Import!T:T,MATCH($A26,Import!$A:$A,0))),"",INDEX(Import!T:T,MATCH($A26,Import!$A:$A,0))) | U26: =IF(ISNA(INDEX(Import!U:U,MATCH($A26,Import!$A:$A,0))),"",INDEX(Import!U:U,MATCH($A26,Import!$A:$A,0))) | V26: =IF(ISNA(INDEX(Import!V:V,MATCH($A26,Import!$A:$A,0))),"",INDEX(Import!V:V,MATCH($A26,Import!$A:$A,0))) | W26: =IF(ISNA(INDEX(Import!W:W,MATCH($A26,Import!$A:$A,0))),"",INDEX(Import!W:W,MATCH($A26,Import!$A:$A,0))) | X26: =IF(ISNA(INDEX(Import!X:X,MATCH($A26,Import!$A:$A,0))),"",INDEX(Import!X:X,MATCH($A26,Import!$A:$A,0))) | Y26: =IF(ISNA(INDEX(Import!Y:Y,MATCH($A26,Import!$A:$A,0))),"",INDEX(Import!Y:Y,MATCH($A26,Import!$A:$A,0))) | Z26: =IF(ISNA(INDEX(Import!Z:Z,MATCH($A26,Import!$A:$A,0))),"",INDEX(Import!Z:Z,MATCH($A26,Import!$A:$A,0))) | AA26: =IF(ISNA(INDEX(Import!AA:AA,MATCH($A26,Import!$A:$A,0))),"",INDEX(Import!AA:AA,MATCH($A26,Import!$A:$A,0))) | AB26: =IF(ISNA(INDEX(Import!AB:AB,MATCH($A26,Import!$A:$A,0))),"",INDEX(Import!AB:AB,MATCH($A26,Import!$A:$A,0))) | AC26: =IF(ISNA(INDEX(Import!AC:AC,MATCH($A26,Import!$A:$A,0))),"",INDEX(Import!AC:AC,MATCH($A26,Import!$A:$A,0))) | AD26: =IF(ISNA(INDEX(Import!AD:AD,MATCH($A26,Import!$A:$A,0))),"",INDEX(Import!AD:AD,MATCH($A26,Import!$A:$A,0))) | AE26: =IF(ISNA(INDEX(Import!AE:AE,MATCH($A26,Import!$A:$A,0))),"",INDEX(Import!AE:AE,MATCH($A26,Import!$A:$A,0))) | AF26: =IF(ISNA(INDEX(Import!AF:AF,MATCH($A26,Import!$A:$A,0))),"",INDEX(Import!AF:AF,MATCH($A26,Import!$A:$A,0))) | AG26: =IF(ISNA(INDEX(Import!AG:AG,MATCH($A26,Import!$A:$A,0))),"",INDEX(Import!AG:AG,MATCH($A26,Import!$A:$A,0))) | AH26: =IF(ISNA(INDEX(Import!AH:AH,MATCH($A26,Import!$A:$A,0))),"",INDEX(Import!AH:AH,MATCH($A26,Import!$A:$A,0))) | AI26: =IF(ISNA(INDEX(Import!AI:AI,MATCH($A26,Import!$A:$A,0))),"",INDEX(Import!AI:AI,MATCH($A26,Import!$A:$A,0))) | AJ26: =IF(ISNA(INDEX(Import!AJ:AJ,MATCH($A26,Import!$A:$A,0))),"",INDEX(Import!AJ:AJ,MATCH($A26,Import!$A:$A,0)))
A27: {=IF(ROWS($3:26)<=COUNTIF(Import!$AO:$AO,"MERCURE"),INDEX(Import!A:A,SMALL(IF(Import!$AO:$AO="MERCURE",ROW(INDIRECT("1:"&ROWS(Import!$AO:$AO)))),ROWS($3:26))),"")} | B27: =IF(ISNA(INDEX(Import!B:B,MATCH($A27,Import!$A:$A,0))),"",INDEX(Import!B:B,MATCH($A27,Import!$A:$A,0))) | C27: =IF(ISNA(INDEX(Import!C:C,MATCH($A27,Import!$A:$A,0))),"",INDEX(Import!C:C,MATCH($A27,Import!$A:$A,0))) | D27: =IF(ISNA(INDEX(Import!D:D,MATCH($A27,Import!$A:$A,0))),"",INDEX(Import!D:D,MATCH($A27,Import!$A:$A,0))) | E27: =IF(ISNA(INDEX(Import!E:E,MATCH($A27,Import!$A:$A,0))),"",INDEX(Import!E:E,MATCH($A27,Import!$A:$A,0))) | F27: =IF(ISNA(INDEX(Import!F:F,MATCH($A27,Import!$A:$A,0))),"",INDEX(Import!F:F,MATCH($A27,Import!$A:$A,0))) | G27: =IF(ISNA(INDEX(Import!G:G,MATCH($A27,Import!$A:$A,0))),"",INDEX(Import!G:G,MATCH($A27,Import!$A:$A,0))) | H27: =IF(ISNA(INDEX(Import!H:H,MATCH($A27,Import!$A:$A,0))),"",INDEX(Import!H:H,MATCH($A27,Import!$A:$A,0))) | I27: =IF(ISNA(INDEX(Import!I:I,MATCH($A27,Import!$A:$A,0))),"",INDEX(Import!I:I,MATCH($A27,Import!$A:$A,0))) | J27: =IF(ISNA(INDEX(Import!J:J,MATCH($A27,Import!$A:$A,0))),"",INDEX(Import!J:J,MATCH($A27,Import!$A:$A,0))) | K27: =IF(ISNA(INDEX(Import!K:K,MATCH($A27,Import!$A:$A,0))),"",INDEX(Import!K:K,MATCH($A27,Import!$A:$A,0))) | L27: =IF(ISNA(INDEX(Import!L:L,MATCH($A27,Import!$A:$A,0))),"",INDEX(Import!L:L,MATCH($A27,Import!$A:$A,0))) | M27: =IF(ISNA(INDEX(Import!M:M,MATCH($A27,Import!$A:$A,0))),"",INDEX(Import!M:M,MATCH($A27,Import!$A:$A,0))) | N27: =IF(ISNA(INDEX(Import!N:N,MATCH($A27,Import!$A:$A,0))),"",INDEX(Import!N:N,MATCH($A27,Import!$A:$A,0))) | O27: =IF(ISNA(INDEX(Import!O:O,MATCH($A27,Import!$A:$A,0))),"",INDEX(Import!O:O,MATCH($A27,Import!$A:$A,0))) | P27: =IF(ISNA(INDEX(Import!P:P,MATCH($A27,Import!$A:$A,0))),"",INDEX(Import!P:P,MATCH($A27,Import!$A:$A,0))) | Q27: =IF(ISNA(INDEX(Import!Q:Q,MATCH($A27,Import!$A:$A,0))),"",INDEX(Import!Q:Q,MATCH($A27,Import!$A:$A,0))) | R27: =IF(ISNA(INDEX(Import!R:R,MATCH($A27,Import!$A:$A,0))),"",INDEX(Import!R:R,MATCH($A27,Import!$A:$A,0))) | S27: =IF(ISNA(INDEX(Import!S:S,MATCH($A27,Import!$A:$A,0))),"",INDEX(Import!S:S,MATCH($A27,Import!$A:$A,0))) | T27: =IF(ISNA(INDEX(Import!T:T,MATCH($A27,Import!$A:$A,0))),"",INDEX(Import!T:T,MATCH($A27,Import!$A:$A,0))) | U27: =IF(ISNA(INDEX(Import!U:U,MATCH($A27,Import!$A:$A,0))),"",INDEX(Import!U:U,MATCH($A27,Import!$A:$A,0))) | V27: =IF(ISNA(INDEX(Import!V:V,MATCH($A27,Import!$A:$A,0))),"",INDEX(Import!V:V,MATCH($A27,Import!$A:$A,0))) | W27: =IF(ISNA(INDEX(Import!W:W,MATCH($A27,Import!$A:$A,0))),"",INDEX(Import!W:W,MATCH($A27,Import!$A:$A,0))) | X27: =IF(ISNA(INDEX(Import!X:X,MATCH($A27,Import!$A:$A,0))),"",INDEX(Import!X:X,MATCH($A27,Import!$A:$A,0))) | Y27: =IF(ISNA(INDEX(Import!Y:Y,MATCH($A27,Import!$A:$A,0))),"",INDEX(Import!Y:Y,MATCH($A27,Import!$A:$A,0))) | Z27: =IF(ISNA(INDEX(Import!Z:Z,MATCH($A27,Import!$A:$A,0))),"",INDEX(Import!Z:Z,MATCH($A27,Import!$A:$A,0))) | AA27: =IF(ISNA(INDEX(Import!AA:AA,MATCH($A27,Import!$A:$A,0))),"",INDEX(Import!AA:AA,MATCH($A27,Import!$A:$A,0))) | AB27: =IF(ISNA(INDEX(Import!AB:AB,MATCH($A27,Import!$A:$A,0))),"",INDEX(Import!AB:AB,MATCH($A27,Import!$A:$A,0))) | AC27: =IF(ISNA(INDEX(Import!AC:AC,MATCH($A27,Import!$A:$A,0))),"",INDEX(Import!AC:AC,MATCH($A27,Import!$A:$A,0))) | AD27: =IF(ISNA(INDEX(Import!AD:AD,MATCH($A27,Import!$A:$A,0))),"",INDEX(Import!AD:AD,MATCH($A27,Import!$A:$A,0))) | AE27: =IF(ISNA(INDEX(Import!AE:AE,MATCH($A27,Import!$A:$A,0))),"",INDEX(Import!AE:AE,MATCH($A27,Import!$A:$A,0))) | AF27: =IF(ISNA(INDEX(Import!AF:AF,MATCH($A27,Import!$A:$A,0))),"",INDEX(Import!AF:AF,MATCH($A27,Import!$A:$A,0))) | AG27: =IF(ISNA(INDEX(Import!AG:AG,MATCH($A27,Import!$A:$A,0))),"",INDEX(Import!AG:AG,MATCH($A27,Import!$A:$A,0))) | AH27: =IF(ISNA(INDEX(Import!AH:AH,MATCH($A27,Import!$A:$A,0))),"",INDEX(Import!AH:AH,MATCH($A27,Import!$A:$A,0))) | AI27: =IF(ISNA(INDEX(Import!AI:AI,MATCH($A27,Import!$A:$A,0))),"",INDEX(Import!AI:AI,MATCH($A27,Import!$A:$A,0))) | AJ27: =IF(ISNA(INDEX(Import!AJ:AJ,MATCH($A27,Import!$A:$A,0))),"",INDEX(Import!AJ:AJ,MATCH($A27,Import!$A:$A,0)))
A28: {=IF(ROWS($3:27)<=COUNTIF(Import!$AO:$AO,"MERCURE"),INDEX(Import!A:A,SMALL(IF(Import!$AO:$AO="MERCURE",ROW(INDIRECT("1:"&ROWS(Import!$AO:$AO)))),ROWS($3:27))),"")} | B28: =IF(ISNA(INDEX(Import!B:B,MATCH($A28,Import!$A:$A,0))),"",INDEX(Import!B:B,MATCH($A28,Import!$A:$A,0))) | C28: =IF(ISNA(INDEX(Import!C:C,MATCH($A28,Import!$A:$A,0))),"",INDEX(Import!C:C,MATCH($A28,Import!$A:$A,0))) | D28: =IF(ISNA(INDEX(Import!D:D,MATCH($A28,Import!$A:$A,0))),"",INDEX(Import!D:D,MATCH($A28,Import!$A:$A,0))) | E28: =IF(ISNA(INDEX(Import!E:E,MATCH($A28,Import!$A:$A,0))),"",INDEX(Import!E:E,MATCH($A28,Import!$A:$A,0))) | F28: =IF(ISNA(INDEX(Import!F:F,MATCH($A28,Import!$A:$A,0))),"",INDEX(Import!F:F,MATCH($A28,Import!$A:$A,0))) | G28: =IF(ISNA(INDEX(Import!G:G,MATCH($A28,Import!$A:$A,0))),"",INDEX(Import!G:G,MATCH($A28,Import!$A:$A,0))) | H28: =IF(ISNA(INDEX(Import!H:H,MATCH($A28,Import!$A:$A,0))),"",INDEX(Import!H:H,MATCH($A28,Import!$A:$A,0))) | I28: =IF(ISNA(INDEX(Import!I:I,MATCH($A28,Import!$A:$A,0))),"",INDEX(Import!I:I,MATCH($A28,Import!$A:$A,0))) | J28: =IF(ISNA(INDEX(Import!J:J,MATCH($A28,Import!$A:$A,0))),"",INDEX(Import!J:J,MATCH($A28,Import!$A:$A,0))) | K28: =IF(ISNA(INDEX(Import!K:K,MATCH($A28,Import!$A:$A,0))),"",INDEX(Import!K:K,MATCH($A28,Import!$A:$A,0))) | L28: =IF(ISNA(INDEX(Import!L:L,MATCH($A28,Import!$A:$A,0))),"",INDEX(Import!L:L,MATCH($A28,Import!$A:$A,0))) | M28: =IF(ISNA(INDEX(Import!M:M,MATCH($A28,Import!$A:$A,0))),"",INDEX(Import!M:M,MATCH($A28,Import!$A:$A,0))) | N28: =IF(ISNA(INDEX(Import!N:N,MATCH($A28,Import!$A:$A,0))),"",INDEX(Import!N:N,MATCH($A28,Import!$A:$A,0))) | O28: =IF(ISNA(INDEX(Import!O:O,MATCH($A28,Import!$A:$A,0))),"",INDEX(Import!O:O,MATCH($A28,Import!$A:$A,0))) | P28: =IF(ISNA(INDEX(Import!P:P,MATCH($A28,Import!$A:$A,0))),"",INDEX(Import!P:P,MATCH($A28,Import!$A:$A,0))) | Q28: =IF(ISNA(INDEX(Import!Q:Q,MATCH($A28,Import!$A:$A,0))),"",INDEX(Import!Q:Q,MATCH($A28,Import!$A:$A,0))) | R28: =IF(ISNA(INDEX(Import!R:R,MATCH($A28,Import!$A:$A,0))),"",INDEX(Import!R:R,MATCH($A28,Import!$A:$A,0))) | S28: =IF(ISNA(INDEX(Import!S:S,MATCH($A28,Import!$A:$A,0))),"",INDEX(Import!S:S,MATCH($A28,Import!$A:$A,0))) | T28: =IF(ISNA(INDEX(Import!T:T,MATCH($A28,Import!$A:$A,0))),"",INDEX(Import!T:T,MATCH($A28,Import!$A:$A,0))) | U28: =IF(ISNA(INDEX(Import!U:U,MATCH($A28,Import!$A:$A,0))),"",INDEX(Import!U:U,MATCH($A28,Import!$A:$A,0))) | V28: =IF(ISNA(INDEX(Import!V:V,MATCH($A28,Import!$A:$A,0))),"",INDEX(Import!V:V,MATCH($A28,Import!$A:$A,0))) | W28: =IF(ISNA(INDEX(Import!W:W,MATCH($A28,Import!$A:$A,0))),"",INDEX(Import!W:W,MATCH($A28,Import!$A:$A,0))) | X28: =IF(ISNA(INDEX(Import!X:X,MATCH($A28,Import!$A:$A,0))),"",INDEX(Import!X:X,MATCH($A28,Import!$A:$A,0))) | Y28: =IF(ISNA(INDEX(Import!Y:Y,MATCH($A28,Import!$A:$A,0))),"",INDEX(Import!Y:Y,MATCH($A28,Import!$A:$A,0))) | Z28: =IF(ISNA(INDEX(Import!Z:Z,MATCH($A28,Import!$A:$A,0))),"",INDEX(Import!Z:Z,MATCH($A28,Import!$A:$A,0))) | AA28: =IF(ISNA(INDEX(Import!AA:AA,MATCH($A28,Import!$A:$A,0))),"",INDEX(Import!AA:AA,MATCH($A28,Import!$A:$A,0))) | AB28: =IF(ISNA(INDEX(Import!AB:AB,MATCH($A28,Import!$A:$A,0))),"",INDEX(Import!AB:AB,MATCH($A28,Import!$A:$A,0))) | AC28: =IF(ISNA(INDEX(Import!AC:AC,MATCH($A28,Import!$A:$A,0))),"",INDEX(Import!AC:AC,MATCH($A28,Import!$A:$A,0))) | AD28: =IF(ISNA(INDEX(Import!AD:AD,MATCH($A28,Import!$A:$A,0))),"",INDEX(Import!AD:AD,MATCH($A28,Import!$A:$A,0))) | AE28: =IF(ISNA(INDEX(Import!AE:AE,MATCH($A28,Import!$A:$A,0))),"",INDEX(Import!AE:AE,MATCH($A28,Import!$A:$A,0))) | AF28: =IF(ISNA(INDEX(Import!AF:AF,MATCH($A28,Import!$A:$A,0))),"",INDEX(Import!AF:AF,MATCH($A28,Import!$A:$A,0))) | AG28: =IF(ISNA(INDEX(Import!AG:AG,MATCH($A28,Import!$A:$A,0))),"",INDEX(Import!AG:AG,MATCH($A28,Import!$A:$A,0))) | AH28: =IF(ISNA(INDEX(Import!AH:AH,MATCH($A28,Import!$A:$A,0))),"",INDEX(Import!AH:AH,MATCH($A28,Import!$A:$A,0))) | AI28: =IF(ISNA(INDEX(Import!AI:AI,MATCH($A28,Import!$A:$A,0))),"",INDEX(Import!AI:AI,MATCH($A28,Import!$A:$A,0))) | AJ28: =IF(ISNA(INDEX(Import!AJ:AJ,MATCH($A28,Import!$A:$A,0))),"",INDEX(Import!AJ:AJ,MATCH($A28,Import!$A:$A,0)))
A29: {=IF(ROWS($3:28)<=COUNTIF(Import!$AO:$AO,"MERCURE"),INDEX(Import!A:A,SMALL(IF(Import!$AO:$AO="MERCURE",ROW(INDIRECT("1:"&ROWS(Import!$AO:$AO)))),ROWS($3:28))),"")} | B29: =IF(ISNA(INDEX(Import!B:B,MATCH($A29,Import!$A:$A,0))),"",INDEX(Import!B:B,MATCH($A29,Import!$A:$A,0))) | C29: =IF(ISNA(INDEX(Import!C:C,MATCH($A29,Import!$A:$A,0))),"",INDEX(Import!C:C,MATCH($A29,Import!$A:$A,0))) | D29: =IF(ISNA(INDEX(Import!D:D,MATCH($A29,Import!$A:$A,0))),"",INDEX(Import!D:D,MATCH($A29,Import!$A:$A,0))) | E29: =IF(ISNA(INDEX(Import!E:E,MATCH($A29,Import!$A:$A,0))),"",INDEX(Import!E:E,MATCH($A29,Import!$A:$A,0))) | F29: =IF(ISNA(INDEX(Import!F:F,MATCH($A29,Import!$A:$A,0))),"",INDEX(Import!F:F,MATCH($A29,Import!$A:$A,0))) | G29: =IF(ISNA(INDEX(Import!G:G,MATCH($A29,Import!$A:$A,0))),"",INDEX(Import!G:G,MATCH($A29,Import!$A:$A,0))) | H29: =IF(ISNA(INDEX(Import!H:H,MATCH($A29,Import!$A:$A,0))),"",INDEX(Import!H:H,MATCH($A29,Import!$A:$A,0))) | I29: =IF(ISNA(INDEX(Import!I:I,MATCH($A29,Import!$A:$A,0))),"",INDEX(Import!I:I,MATCH($A29,Import!$A:$A,0))) | J29: =IF(ISNA(INDEX(Import!J:J,MATCH($A29,Import!$A:$A,0))),"",INDEX(Import!J:J,MATCH($A29,Import!$A:$A,0))) | K29: =IF(ISNA(INDEX(Import!K:K,MATCH($A29,Import!$A:$A,0))),"",INDEX(Import!K:K,MATCH($A29,Import!$A:$A,0))) | L29: =IF(ISNA(INDEX(Import!L:L,MATCH($A29,Import!$A:$A,0))),"",INDEX(Import!L:L,MATCH($A29,Import!$A:$A,0))) | M29: =IF(ISNA(INDEX(Import!M:M,MATCH($A29,Import!$A:$A,0))),"",INDEX(Import!M:M,MATCH($A29,Import!$A:$A,0))) | N29: =IF(ISNA(INDEX(Import!N:N,MATCH($A29,Import!$A:$A,0))),"",INDEX(Import!N:N,MATCH($A29,Import!$A:$A,0))) | O29: =IF(ISNA(INDEX(Import!O:O,MATCH($A29,Import!$A:$A,0))),"",INDEX(Import!O:O,MATCH($A29,Import!$A:$A,0))) | P29: =IF(ISNA(INDEX(Import!P:P,MATCH($A29,Import!$A:$A,0))),"",INDEX(Import!P:P,MATCH($A29,Import!$A:$A,0))) | Q29: =IF(ISNA(INDEX(Import!Q:Q,MATCH($A29,Import!$A:$A,0))),"",INDEX(Import!Q:Q,MATCH($A29,Import!$A:$A,0))) | R29: =IF(ISNA(INDEX(Import!R:R,MATCH($A29,Import!$A:$A,0))),"",INDEX(Import!R:R,MATCH($A29,Import!$A:$A,0))) | S29: =IF(ISNA(INDEX(Import!S:S,MATCH($A29,Import!$A:$A,0))),"",INDEX(Import!S:S,MATCH($A29,Import!$A:$A,0))) | T29: =IF(ISNA(INDEX(Import!T:T,MATCH($A29,Import!$A:$A,0))),"",INDEX(Import!T:T,MATCH($A29,Import!$A:$A,0))) | U29: =IF(ISNA(INDEX(Import!U:U,MATCH($A29,Import!$A:$A,0))),"",INDEX(Import!U:U,MATCH($A29,Import!$A:$A,0))) | V29: =IF(ISNA(INDEX(Import!V:V,MATCH($A29,Import!$A:$A,0))),"",INDEX(Import!V:V,MATCH($A29,Import!$A:$A,0))) | W29: =IF(ISNA(INDEX(Import!W:W,MATCH($A29,Import!$A:$A,0))),"",INDEX(Import!W:W,MATCH($A29,Import!$A:$A,0))) | X29: =IF(ISNA(INDEX(Import!X:X,MATCH($A29,Import!$A:$A,0))),"",INDEX(Import!X:X,MATCH($A29,Import!$A:$A,0))) | Y29: =IF(ISNA(INDEX(Import!Y:Y,MATCH($A29,Import!$A:$A,0))),"",INDEX(Import!Y:Y,MATCH($A29,Import!$A:$A,0))) | Z29: =IF(ISNA(INDEX(Import!Z:Z,MATCH($A29,Import!$A:$A,0))),"",INDEX(Import!Z:Z,MATCH($A29,Import!$A:$A,0))) | AA29: =IF(ISNA(INDEX(Import!AA:AA,MATCH($A29,Import!$A:$A,0))),"",INDEX(Import!AA:AA,MATCH($A29,Import!$A:$A,0))) | AB29: =IF(ISNA(INDEX(Import!AB:AB,MATCH($A29,Import!$A:$A,0))),"",INDEX(Import!AB:AB,MATCH($A29,Import!$A:$A,0))) | AC29: =IF(ISNA(INDEX(Import!AC:AC,MATCH($A29,Import!$A:$A,0))),"",INDEX(Import!AC:AC,MATCH($A29,Import!$A:$A,0))) | AD29: =IF(ISNA(INDEX(Import!AD:AD,MATCH($A29,Import!$A:$A,0))),"",INDEX(Import!AD:AD,MATCH($A29,Import!$A:$A,0))) | AE29: =IF(ISNA(INDEX(Import!AE:AE,MATCH($A29,Import!$A:$A,0))),"",INDEX(Import!AE:AE,MATCH($A29,Import!$A:$A,0))) | AF29: =IF(ISNA(INDEX(Import!AF:AF,MATCH($A29,Import!$A:$A,0))),"",INDEX(Import!AF:AF,MATCH($A29,Import!$A:$A,0))) | AG29: =IF(ISNA(INDEX(Import!AG:AG,MATCH($A29,Import!$A:$A,0))),"",INDEX(Import!AG:AG,MATCH($A29,Import!$A:$A,0))) | AH29: =IF(ISNA(INDEX(Import!AH:AH,MATCH($A29,Import!$A:$A,0))),"",INDEX(Import!AH:AH,MATCH($A29,Import!$A:$A,0))) | AI29: =IF(ISNA(INDEX(Import!AI:AI,MATCH($A29,Import!$A:$A,0))),"",INDEX(Import!AI:AI,MATCH($A29,Import!$A:$A,0))) | AJ29: =IF(ISNA(INDEX(Import!AJ:AJ,MATCH($A29,Import!$A:$A,0))),"",INDEX(Import!AJ:AJ,MATCH($A29,Import!$A:$A,0)))
A30: {=IF(ROWS($3:29)<=COUNTIF(Import!$AO:$AO,"MERCURE"),INDEX(Import!A:A,SMALL(IF(Import!$AO:$AO="MERCURE",ROW(INDIRECT("1:"&ROWS(Import!$AO:$AO)))),ROWS($3:29))),"")} | B30: =IF(ISNA(INDEX(Import!B:B,MATCH($A30,Import!$A:$A,0))),"",INDEX(Import!B:B,MATCH($A30,Import!$A:$A,0))) | C30: =IF(ISNA(INDEX(Import!C:C,MATCH($A30,Import!$A:$A,0))),"",INDEX(Import!C:C,MATCH($A30,Import!$A:$A,0))) | D30: =IF(ISNA(INDEX(Import!D:D,MATCH($A30,Import!$A:$A,0))),"",INDEX(Import!D:D,MATCH($A30,Import!$A:$A,0))) | E30: =IF(ISNA(INDEX(Import!E:E,MATCH($A30,Import!$A:$A,0))),"",INDEX(Import!E:E,MATCH($A30,Import!$A:$A,0))) | F30: =IF(ISNA(INDEX(Import!F:F,MATCH($A30,Import!$A:$A,0))),"",INDEX(Import!F:F,MATCH($A30,Import!$A:$A,0))) | G30: =IF(ISNA(INDEX(Import!G:G,MATCH($A30,Import!$A:$A,0))),"",INDEX(Import!G:G,MATCH($A30,Import!$A:$A,0))) | H30: =IF(ISNA(INDEX(Import!H:H,MATCH($A30,Import!$A:$A,0))),"",INDEX(Import!H:H,MATCH($A30,Import!$A:$A,0))) | I30: =IF(ISNA(INDEX(Import!I:I,MATCH($A30,Import!$A:$A,0))),"",INDEX(Import!I:I,MATCH($A30,Import!$A:$A,0))) | J30: =IF(ISNA(INDEX(Import!J:J,MATCH($A30,Import!$A:$A,0))),"",INDEX(Import!J:J,MATCH($A30,Import!$A:$A,0))) | K30: =IF(ISNA(INDEX(Import!K:K,MATCH($A30,Import!$A:$A,0))),"",INDEX(Import!K:K,MATCH($A30,Import!$A:$A,0))) | L30: =IF(ISNA(INDEX(Import!L:L,MATCH($A30,Import!$A:$A,0))),"",INDEX(Import!L:L,MATCH($A30,Import!$A:$A,0))) | M30: =IF(ISNA(INDEX(Import!M:M,MATCH($A30,Import!$A:$A,0))),"",INDEX(Import!M:M,MATCH($A30,Import!$A:$A,0))) | N30: =IF(ISNA(INDEX(Import!N:N,MATCH($A30,Import!$A:$A,0))),"",INDEX(Import!N:N,MATCH($A30,Import!$A:$A,0))) | O30: =IF(ISNA(INDEX(Import!O:O,MATCH($A30,Import!$A:$A,0))),"",INDEX(Import!O:O,MATCH($A30,Import!$A:$A,0))) | P30: =IF(ISNA(INDEX(Import!P:P,MATCH($A30,Import!$A:$A,0))),"",INDEX(Import!P:P,MATCH($A30,Import!$A:$A,0))) | Q30: =IF(ISNA(INDEX(Import!Q:Q,MATCH($A30,Import!$A:$A,0))),"",INDEX(Import!Q:Q,MATCH($A30,Import!$A:$A,0))) | R30: =IF(ISNA(INDEX(Import!R:R,MATCH($A30,Import!$A:$A,0))),"",INDEX(Import!R:R,MATCH($A30,Import!$A:$A,0))) | S30: =IF(ISNA(INDEX(Import!S:S,MATCH($A30,Import!$A:$A,0))),"",INDEX(Import!S:S,MATCH($A30,Import!$A:$A,0))) | T30: =IF(ISNA(INDEX(Import!T:T,MATCH($A30,Import!$A:$A,0))),"",INDEX(Import!T:T,MATCH($A30,Import!$A:$A,0))) | U30: =IF(ISNA(INDEX(Import!U:U,MATCH($A30,Import!$A:$A,0))),"",INDEX(Import!U:U,MATCH($A30,Import!$A:$A,0))) | V30: =IF(ISNA(INDEX(Import!V:V,MATCH($A30,Import!$A:$A,0))),"",INDEX(Import!V:V,MATCH($A30,Import!$A:$A,0))) | W30: =IF(ISNA(INDEX(Import!W:W,MATCH($A30,Import!$A:$A,0))),"",INDEX(Import!W:W,MATCH($A30,Import!$A:$A,0))) | X30: =IF(ISNA(INDEX(Import!X:X,MATCH($A30,Import!$A:$A,0))),"",INDEX(Import!X:X,MATCH($A30,Import!$A:$A,0))) | Y30: =IF(ISNA(INDEX(Import!Y:Y,MATCH($A30,Import!$A:$A,0))),"",INDEX(Import!Y:Y,MATCH($A30,Import!$A:$A,0))) | Z30: =IF(ISNA(INDEX(Import!Z:Z,MATCH($A30,Import!$A:$A,0))),"",INDEX(Import!Z:Z,MATCH($A30,Import!$A:$A,0))) | AA30: =IF(ISNA(INDEX(Import!AA:AA,MATCH($A30,Import!$A:$A,0))),"",INDEX(Import!AA:AA,MATCH($A30,Import!$A:$A,0))) | AB30: =IF(ISNA(INDEX(Import!AB:AB,MATCH($A30,Import!$A:$A,0))),"",INDEX(Import!AB:AB,MATCH($A30,Import!$A:$A,0))) | AC30: =IF(ISNA(INDEX(Import!AC:AC,MATCH($A30,Import!$A:$A,0))),"",INDEX(Import!AC:AC,MATCH($A30,Import!$A:$A,0))) | AD30: =IF(ISNA(INDEX(Import!AD:AD,MATCH($A30,Import!$A:$A,0))),"",INDEX(Import!AD:AD,MATCH($A30,Import!$A:$A,0))) | AE30: =IF(ISNA(INDEX(Import!AE:AE,MATCH($A30,Import!$A:$A,0))),"",INDEX(Import!AE:AE,MATCH($A30,Import!$A:$A,0))) | AF30: =IF(ISNA(INDEX(Import!AF:AF,MATCH($A30,Import!$A:$A,0))),"",INDEX(Import!AF:AF,MATCH($A30,Import!$A:$A,0))) | AG30: =IF(ISNA(INDEX(Import!AG:AG,MATCH($A30,Import!$A:$A,0))),"",INDEX(Import!AG:AG,MATCH($A30,Import!$A:$A,0))) | AH30: =IF(ISNA(INDEX(Import!AH:AH,MATCH($A30,Import!$A:$A,0))),"",INDEX(Import!AH:AH,MATCH($A30,Import!$A:$A,0))) | AI30: =IF(ISNA(INDEX(Import!AI:AI,MATCH($A30,Import!$A:$A,0))),"",INDEX(Import!AI:AI,MATCH($A30,Import!$A:$A,0))) | AJ30: =IF(ISNA(INDEX(Import!AJ:AJ,MATCH($A30,Import!$A:$A,0))),"",INDEX(Import!AJ:AJ,MATCH($A30,Import!$A:$A,0)))
A31: {=IF(ROWS($3:30)<=COUNTIF(Import!$AO:$AO,"MERCURE"),INDEX(Import!A:A,SMALL(IF(Import!$AO:$AO="MERCURE",ROW(INDIRECT("1:"&ROWS(Import!$AO:$AO)))),ROWS($3:30))),"")} | B31: =IF(ISNA(INDEX(Import!B:B,MATCH($A31,Import!$A:$A,0))),"",INDEX(Import!B:B,MATCH($A31,Import!$A:$A,0))) | C31: =IF(ISNA(INDEX(Import!C:C,MATCH($A31,Import!$A:$A,0))),"",INDEX(Import!C:C,MATCH($A31,Import!$A:$A,0))) | D31: =IF(ISNA(INDEX(Import!D:D,MATCH($A31,Import!$A:$A,0))),"",INDEX(Import!D:D,MATCH($A31,Import!$A:$A,0))) | E31: =IF(ISNA(INDEX(Import!E:E,MATCH($A31,Import!$A:$A,0))),"",INDEX(Import!E:E,MATCH($A31,Import!$A:$A,0))) | F31: =IF(ISNA(INDEX(Import!F:F,MATCH($A31,Import!$A:$A,0))),"",INDEX(Import!F:F,MATCH($A31,Import!$A:$A,0))) | G31: =IF(ISNA(INDEX(Import!G:G,MATCH($A31,Import!$A:$A,0))),"",INDEX(Import!G:G,MATCH($A31,Import!$A:$A,0))) | H31: =IF(ISNA(INDEX(Import!H:H,MATCH($A31,Import!$A:$A,0))),"",INDEX(Import!H:H,MATCH($A31,Import!$A:$A,0))) | I31: =IF(ISNA(INDEX(Import!I:I,MATCH($A31,Import!$A:$A,0))),"",INDEX(Import!I:I,MATCH($A31,Import!$A:$A,0))) | J31: =IF(ISNA(INDEX(Import!J:J,MATCH($A31,Import!$A:$A,0))),"",INDEX(Import!J:J,MATCH($A31,Import!$A:$A,0))) | K31: =IF(ISNA(INDEX(Import!K:K,MATCH($A31,Import!$A:$A,0))),"",INDEX(Import!K:K,MATCH($A31,Import!$A:$A,0))) | L31: =IF(ISNA(INDEX(Import!L:L,MATCH($A31,Import!$A:$A,0))),"",INDEX(Import!L:L,MATCH($A31,Import!$A:$A,0))) | M31: =IF(ISNA(INDEX(Import!M:M,MATCH($A31,Import!$A:$A,0))),"",INDEX(Import!M:M,MATCH($A31,Import!$A:$A,0))) | N31: =IF(ISNA(INDEX(Import!N:N,MATCH($A31,Import!$A:$A,0))),"",INDEX(Import!N:N,MATCH($A31,Import!$A:$A,0))) | O31: =IF(ISNA(INDEX(Import!O:O,MATCH($A31,Import!$A:$A,0))),"",INDEX(Import!O:O,MATCH($A31,Import!$A:$A,0))) | P31: =IF(ISNA(INDEX(Import!P:P,MATCH($A31,Import!$A:$A,0))),"",INDEX(Import!P:P,MATCH($A31,Import!$A:$A,0))) | Q31: =IF(ISNA(INDEX(Import!Q:Q,MATCH($A31,Import!$A:$A,0))),"",INDEX(Import!Q:Q,MATCH($A31,Import!$A:$A,0))) | R31: =IF(ISNA(INDEX(Import!R:R,MATCH($A31,Import!$A:$A,0))),"",INDEX(Import!R:R,MATCH($A31,Import!$A:$A,0))) | S31: =IF(ISNA(INDEX(Import!S:S,MATCH($A31,Import!$A:$A,0))),"",INDEX(Import!S:S,MATCH($A31,Import!$A:$A,0))) | T31: =IF(ISNA(INDEX(Import!T:T,MATCH($A31,Import!$A:$A,0))),"",INDEX(Import!T:T,MATCH($A31,Import!$A:$A,0))) | U31: =IF(ISNA(INDEX(Import!U:U,MATCH($A31,Import!$A:$A,0))),"",INDEX(Import!U:U,MATCH($A31,Import!$A:$A,0))) | V31: =IF(ISNA(INDEX(Import!V:V,MATCH($A31,Import!$A:$A,0))),"",INDEX(Import!V:V,MATCH($A31,Import!$A:$A,0))) | W31: =IF(ISNA(INDEX(Import!W:W,MATCH($A31,Import!$A:$A,0))),"",INDEX(Import!W:W,MATCH($A31,Import!$A:$A,0))) | X31: =IF(ISNA(INDEX(Import!X:X,MATCH($A31,Import!$A:$A,0))),"",INDEX(Import!X:X,MATCH($A31,Import!$A:$A,0))) | Y31: =IF(ISNA(INDEX(Import!Y:Y,MATCH($A31,Import!$A:$A,0))),"",INDEX(Import!Y:Y,MATCH($A31,Import!$A:$A,0))) | Z31: =IF(ISNA(INDEX(Import!Z:Z,MATCH($A31,Import!$A:$A,0))),"",INDEX(Import!Z:Z,MATCH($A31,Import!$A:$A,0))) | AA31: =IF(ISNA(INDEX(Import!AA:AA,MATCH($A31,Import!$A:$A,0))),"",INDEX(Import!AA:AA,MATCH($A31,Import!$A:$A,0))) | AB31: =IF(ISNA(INDEX(Import!AB:AB,MATCH($A31,Import!$A:$A,0))),"",INDEX(Import!AB:AB,MATCH($A31,Import!$A:$A,0))) | AC31: =IF(ISNA(INDEX(Import!AC:AC,MATCH($A31,Import!$A:$A,0))),"",INDEX(Import!AC:AC,MATCH($A31,Import!$A:$A,0))) | AD31: =IF(ISNA(INDEX(Import!AD:AD,MATCH($A31,Import!$A:$A,0))),"",INDEX(Import!AD:AD,MATCH($A31,Import!$A:$A,0))) | AE31: =IF(ISNA(INDEX(Import!AE:AE,MATCH($A31,Import!$A:$A,0))),"",INDEX(Import!AE:AE,MATCH($A31,Import!$A:$A,0))) | AF31: =IF(ISNA(INDEX(Import!AF:AF,MATCH($A31,Import!$A:$A,0))),"",INDEX(Import!AF:AF,MATCH($A31,Import!$A:$A,0))) | AG31: =IF(ISNA(INDEX(Import!AG:AG,MATCH($A31,Import!$A:$A,0))),"",INDEX(Import!AG:AG,MATCH($A31,Import!$A:$A,0))) | AH31: =IF(ISNA(INDEX(Import!AH:AH,MATCH($A31,Import!$A:$A,0))),"",INDEX(Import!AH:AH,MATCH($A31,Import!$A:$A,0))) | AI31: =IF(ISNA(INDEX(Import!AI:AI,MATCH($A31,Import!$A:$A,0))),"",INDEX(Import!AI:AI,MATCH($A31,Import!$A:$A,0))) | AJ31: =IF(ISNA(INDEX(Import!AJ:AJ,MATCH($A31,Import!$A:$A,0))),"",INDEX(Import!AJ:AJ,MATCH($A31,Import!$A:$A,0)))
A32: {=IF(ROWS($3:31)<=COUNTIF(Import!$AO:$AO,"MERCURE"),INDEX(Import!A:A,SMALL(IF(Import!$AO:$AO="MERCURE",ROW(INDIRECT("1:"&ROWS(Import!$AO:$AO)))),ROWS($3:31))),"")} | B32: =IF(ISNA(INDEX(Import!B:B,MATCH($A32,Import!$A:$A,0))),"",INDEX(Import!B:B,MATCH($A32,Import!$A:$A,0))) | C32: =IF(ISNA(INDEX(Import!C:C,MATCH($A32,Import!$A:$A,0))),"",INDEX(Import!C:C,MATCH($A32,Import!$A:$A,0))) | D32: =IF(ISNA(INDEX(Import!D:D,MATCH($A32,Import!$A:$A,0))),"",INDEX(Import!D:D,MATCH($A32,Import!$A:$A,0))) | E32: =IF(ISNA(INDEX(Import!E:E,MATCH($A32,Import!$A:$A,0))),"",INDEX(Import!E:E,MATCH($A32,Import!$A:$A,0))) | F32: =IF(ISNA(INDEX(Import!F:F,MATCH($A32,Import!$A:$A,0))),"",INDEX(Import!F:F,MATCH($A32,Import!$A:$A,0))) | G32: =IF(ISNA(INDEX(Import!G:G,MATCH($A32,Import!$A:$A,0))),"",INDEX(Import!G:G,MATCH($A32,Import!$A:$A,0))) | H32: =IF(ISNA(INDEX(Import!H:H,MATCH($A32,Import!$A:$A,0))),"",INDEX(Import!H:H,MATCH($A32,Import!$A:$A,0))) | I32: =IF(ISNA(INDEX(Import!I:I,MATCH($A32,Import!$A:$A,0))),"",INDEX(Import!I:I,MATCH($A32,Import!$A:$A,0))) | J32: =IF(ISNA(INDEX(Import!J:J,MATCH($A32,Import!$A:$A,0))),"",INDEX(Import!J:J,MATCH($A32,Import!$A:$A,0))) | K32: =IF(ISNA(INDEX(Import!K:K,MATCH($A32,Import!$A:$A,0))),"",INDEX(Import!K:K,MATCH($A32,Import!$A:$A,0))) | L32: =IF(ISNA(INDEX(Import!L:L,MATCH($A32,Import!$A:$A,0))),"",INDEX(Import!L:L,MATCH($A32,Import!$A:$A,0))) | M32: =IF(ISNA(INDEX(Import!M:M,MATCH($A32,Import!$A:$A,0))),"",INDEX(Import!M:M,MATCH($A32,Import!$A:$A,0))) | N32: =IF(ISNA(INDEX(Import!N:N,MATCH($A32,Import!$A:$A,0))),"",INDEX(Import!N:N,MATCH($A32,Import!$A:$A,0))) | O32: =IF(ISNA(INDEX(Import!O:O,MATCH($A32,Import!$A:$A,0))),"",INDEX(Import!O:O,MATCH($A32,Import!$A:$A,0))) | P32: =IF(ISNA(INDEX(Import!P:P,MATCH($A32,Import!$A:$A,0))),"",INDEX(Import!P:P,MATCH($A32,Import!$A:$A,0))) | Q32: =IF(ISNA(INDEX(Import!Q:Q,MATCH($A32,Import!$A:$A,0))),"",INDEX(Import!Q:Q,MATCH($A32,Import!$A:$A,0))) | R32: =IF(ISNA(INDEX(Import!R:R,MATCH($A32,Import!$A:$A,0))),"",INDEX(Import!R:R,MATCH($A32,Import!$A:$A,0))) | S32: =IF(ISNA(INDEX(Import!S:S,MATCH($A32,Import!$A:$A,0))),"",INDEX(Import!S:S,MATCH($A32,Import!$A:$A,0))) | T32: =IF(ISNA(INDEX(Import!T:T,MATCH($A32,Import!$A:$A,0))),"",INDEX(Import!T:T,MATCH($A32,Import!$A:$A,0))) | U32: =IF(ISNA(INDEX(Import!U:U,MATCH($A32,Import!$A:$A,0))),"",INDEX(Import!U:U,MATCH($A32,Import!$A:$A,0))) | V32: =IF(ISNA(INDEX(Import!V:V,MATCH($A32,Import!$A:$A,0))),"",INDEX(Import!V:V,MATCH($A32,Import!$A:$A,0))) | W32: =IF(ISNA(INDEX(Import!W:W,MATCH($A32,Import!$A:$A,0))),"",INDEX(Import!W:W,MATCH($A32,Import!$A:$A,0))) | X32: =IF(ISNA(INDEX(Import!X:X,MATCH($A32,Import!$A:$A,0))),"",INDEX(Import!X:X,MATCH($A32,Import!$A:$A,0))) | Y32: =IF(ISNA(INDEX(Import!Y:Y,MATCH($A32,Import!$A:$A,0))),"",INDEX(Import!Y:Y,MATCH($A32,Import!$A:$A,0))) | Z32: =IF(ISNA(INDEX(Import!Z:Z,MATCH($A32,Import!$A:$A,0))),"",INDEX(Import!Z:Z,MATCH($A32,Import!$A:$A,0))) | AA32: =IF(ISNA(INDEX(Import!AA:AA,MATCH($A32,Import!$A:$A,0))),"",INDEX(Import!AA:AA,MATCH($A32,Import!$A:$A,0))) | AB32: =IF(ISNA(INDEX(Import!AB:AB,MATCH($A32,Import!$A:$A,0))),"",INDEX(Import!AB:AB,MATCH($A32,Import!$A:$A,0))) | AC32: =IF(ISNA(INDEX(Import!AC:AC,MATCH($A32,Import!$A:$A,0))),"",INDEX(Import!AC:AC,MATCH($A32,Import!$A:$A,0))) | AD32: =IF(ISNA(INDEX(Import!AD:AD,MATCH($A32,Import!$A:$A,0))),"",INDEX(Import!AD:AD,MATCH($A32,Import!$A:$A,0))) | AE32: =IF(ISNA(INDEX(Import!AE:AE,MATCH($A32,Import!$A:$A,0))),"",INDEX(Import!AE:AE,MATCH($A32,Import!$A:$A,0))) | AF32: =IF(ISNA(INDEX(Import!AF:AF,MATCH($A32,Import!$A:$A,0))),"",INDEX(Import!AF:AF,MATCH($A32,Import!$A:$A,0))) | AG32: =IF(ISNA(INDEX(Import!AG:AG,MATCH($A32,Import!$A:$A,0))),"",INDEX(Import!AG:AG,MATCH($A32,Import!$A:$A,0))) | AH32: =IF(ISNA(INDEX(Import!AH:AH,MATCH($A32,Import!$A:$A,0))),"",INDEX(Import!AH:AH,MATCH($A32,Import!$A:$A,0))) | AI32: =IF(ISNA(INDEX(Import!AI:AI,MATCH($A32,Import!$A:$A,0))),"",INDEX(Import!AI:AI,MATCH($A32,Import!$A:$A,0))) | AJ32: =IF(ISNA(INDEX(Import!AJ:AJ,MATCH($A32,Import!$A:$A,0))),"",INDEX(Import!AJ:AJ,MATCH($A32,Import!$A:$A,0)))
A33: {=IF(ROWS($3:32)<=COUNTIF(Import!$AO:$AO,"MERCURE"),INDEX(Import!A:A,SMALL(IF(Import!$AO:$AO="MERCURE",ROW(INDIRECT("1:"&ROWS(Import!$AO:$AO)))),ROWS($3:32))),"")} | B33: =IF(ISNA(INDEX(Import!B:B,MATCH($A33,Import!$A:$A,0))),"",INDEX(Import!B:B,MATCH($A33,Import!$A:$A,0))) | C33: =IF(ISNA(INDEX(Import!C:C,MATCH($A33,Import!$A:$A,0))),"",INDEX(Import!C:C,MATCH($A33,Import!$A:$A,0))) | D33: =IF(ISNA(INDEX(Import!D:D,MATCH($A33,Import!$A:$A,0))),"",INDEX(Import!D:D,MATCH($A33,Import!$A:$A,0))) | E33: =IF(ISNA(INDEX(Import!E:E,MATCH($A33,Import!$A:$A,0))),"",INDEX(Import!E:E,MATCH($A33,Import!$A:$A,0))) | F33: =IF(ISNA(INDEX(Import!F:F,MATCH($A33,Import!$A:$A,0))),"",INDEX(Import!F:F,MATCH($A33,Import!$A:$A,0))) | G33: =IF(ISNA(INDEX(Import!G:G,MATCH($A33,Import!$A:$A,0))),"",INDEX(Import!G:G,MATCH($A33,Import!$A:$A,0))) | H33: =IF(ISNA(INDEX(Import!H:H,MATCH($A33,Import!$A:$A,0))),"",INDEX(Import!H:H,MATCH($A33,Import!$A:$A,0))) | I33: =IF(ISNA(INDEX(Import!I:I,MATCH($A33,Import!$A:$A,0))),"",INDEX(Import!I:I,MATCH($A33,Import!$A:$A,0))) | J33: =IF(ISNA(INDEX(Import!J:J,MATCH($A33,Import!$A:$A,0))),"",INDEX(Import!J:J,MATCH($A33,Import!$A:$A,0))) | K33: =IF(ISNA(INDEX(Import!K:K,MATCH($A33,Import!$A:$A,0))),"",INDEX(Import!K:K,MATCH($A33,Import!$A:$A,0))) | L33: =IF(ISNA(INDEX(Import!L:L,MATCH($A33,Import!$A:$A,0))),"",INDEX(Import!L:L,MATCH($A33,Import!$A:$A,0))) | M33: =IF(ISNA(INDEX(Import!M:M,MATCH($A33,Import!$A:$A,0))),"",INDEX(Import!M:M,MATCH($A33,Import!$A:$A,0))) | N33: =IF(ISNA(INDEX(Import!N:N,MATCH($A33,Import!$A:$A,0))),"",INDEX(Import!N:N,MATCH($A33,Import!$A:$A,0))) | O33: =IF(ISNA(INDEX(Import!O:O,MATCH($A33,Import!$A:$A,0))),"",INDEX(Import!O:O,MATCH($A33,Import!$A:$A,0))) | P33: =IF(ISNA(INDEX(Import!P:P,MATCH($A33,Import!$A:$A,0))),"",INDEX(Import!P:P,MATCH($A33,Import!$A:$A,0))) | Q33: =IF(ISNA(INDEX(Import!Q:Q,MATCH($A33,Import!$A:$A,0))),"",INDEX(Import!Q:Q,MATCH($A33,Import!$A:$A,0))) | R33: =IF(ISNA(INDEX(Import!R:R,MATCH($A33,Import!$A:$A,0))),"",INDEX(Import!R:R,MATCH($A33,Import!$A:$A,0))) | S33: =IF(ISNA(INDEX(Import!S:S,MATCH($A33,Import!$A:$A,0))),"",INDEX(Import!S:S,MATCH($A33,Import!$A:$A,0))) | T33: =IF(ISNA(INDEX(Import!T:T,MATCH($A33,Import!$A:$A,0))),"",INDEX(Import!T:T,MATCH($A33,Import!$A:$A,0))) | U33: =IF(ISNA(INDEX(Import!U:U,MATCH($A33,Import!$A:$A,0))),"",INDEX(Import!U:U,MATCH($A33,Import!$A:$A,0))) | V33: =IF(ISNA(INDEX(Import!V:V,MATCH($A33,Import!$A:$A,0))),"",INDEX(Import!V:V,MATCH($A33,Import!$A:$A,0))) | W33: =IF(ISNA(INDEX(Import!W:W,MATCH($A33,Import!$A:$A,0))),"",INDEX(Import!W:W,MATCH($A33,Import!$A:$A,0))) | X33: =IF(ISNA(INDEX(Import!X:X,MATCH($A33,Import!$A:$A,0))),"",INDEX(Import!X:X,MATCH($A33,Import!$A:$A,0))) | Y33: =IF(ISNA(INDEX(Import!Y:Y,MATCH($A33,Import!$A:$A,0))),"",INDEX(Import!Y:Y,MATCH($A33,Import!$A:$A,0))) | Z33: =IF(ISNA(INDEX(Import!Z:Z,MATCH($A33,Import!$A:$A,0))),"",INDEX(Import!Z:Z,MATCH($A33,Import!$A:$A,0))) | AA33: =IF(ISNA(INDEX(Import!AA:AA,MATCH($A33,Import!$A:$A,0))),"",INDEX(Import!AA:AA,MATCH($A33,Import!$A:$A,0))) | AB33: =IF(ISNA(INDEX(Import!AB:AB,MATCH($A33,Import!$A:$A,0))),"",INDEX(Import!AB:AB,MATCH($A33,Import!$A:$A,0))) | AC33: =IF(ISNA(INDEX(Import!AC:AC,MATCH($A33,Import!$A:$A,0))),"",INDEX(Import!AC:AC,MATCH($A33,Import!$A:$A,0))) | AD33: =IF(ISNA(INDEX(Import!AD:AD,MATCH($A33,Import!$A:$A,0))),"",INDEX(Import!AD:AD,MATCH($A33,Import!$A:$A,0))) | AE33: =IF(ISNA(INDEX(Import!AE:AE,MATCH($A33,Import!$A:$A,0))),"",INDEX(Import!AE:AE,MATCH($A33,Import!$A:$A,0))) | AF33: =IF(ISNA(INDEX(Import!AF:AF,MATCH($A33,Import!$A:$A,0))),"",INDEX(Import!AF:AF,MATCH($A33,Import!$A:$A,0))) | AG33: =IF(ISNA(INDEX(Import!AG:AG,MATCH($A33,Import!$A:$A,0))),"",INDEX(Import!AG:AG,MATCH($A33,Import!$A:$A,0))) | AH33: =IF(ISNA(INDEX(Import!AH:AH,MATCH($A33,Import!$A:$A,0))),"",INDEX(Import!AH:AH,MATCH($A33,Import!$A:$A,0))) | AI33: =IF(ISNA(INDEX(Import!AI:AI,MATCH($A33,Import!$A:$A,0))),"",INDEX(Import!AI:AI,MATCH($A33,Import!$A:$A,0))) | AJ33: =IF(ISNA(INDEX(Import!AJ:AJ,MATCH($A33,Import!$A:$A,0))),"",INDEX(Import!AJ:AJ,MATCH($A33,Import!$A:$A,0)))
A34: {=IF(ROWS($3:33)<=COUNTIF(Import!$AO:$AO,"MERCURE"),INDEX(Import!A:A,SMALL(IF(Import!$AO:$AO="MERCURE",ROW(INDIRECT("1:"&ROWS(Import!$AO:$AO)))),ROWS($3:33))),"")} | B34: =IF(ISNA(INDEX(Import!B:B,MATCH($A34,Import!$A:$A,0))),"",INDEX(Import!B:B,MATCH($A34,Import!$A:$A,0))) | C34: =IF(ISNA(INDEX(Import!C:C,MATCH($A34,Import!$A:$A,0))),"",INDEX(Import!C:C,MATCH($A34,Import!$A:$A,0))) | D34: =IF(ISNA(INDEX(Import!D:D,MATCH($A34,Import!$A:$A,0))),"",INDEX(Import!D:D,MATCH($A34,Import!$A:$A,0))) | E34: =IF(ISNA(INDEX(Import!E:E,MATCH($A34,Import!$A:$A,0))),"",INDEX(Import!E:E,MATCH($A34,Import!$A:$A,0))) | F34: =IF(ISNA(INDEX(Import!F:F,MATCH($A34,Import!$A:$A,0))),"",INDEX(Import!F:F,MATCH($A34,Import!$A:$A,0))) | G34: =IF(ISNA(INDEX(Import!G:G,MATCH($A34,Import!$A:$A,0))),"",INDEX(Import!G:G,MATCH($A34,Import!$A:$A,0))) | H34: =IF(ISNA(INDEX(Import!H:H,MATCH($A34,Import!$A:$A,0))),"",INDEX(Import!H:H,MATCH($A34,Import!$A:$A,0))) | I34: =IF(ISNA(INDEX(Import!I:I,MATCH($A34,Import!$A:$A,0))),"",INDEX(Import!I:I,MATCH($A34,Import!$A:$A,0))) | J34: =IF(ISNA(INDEX(Import!J:J,MATCH($A34,Import!$A:$A,0))),"",INDEX(Import!J:J,MATCH($A34,Import!$A:$A,0))) | K34: =IF(ISNA(INDEX(Import!K:K,MATCH($A34,Import!$A:$A,0))),"",INDEX(Import!K:K,MATCH($A34,Import!$A:$A,0))) | L34: =IF(ISNA(INDEX(Import!L:L,MATCH($A34,Import!$A:$A,0))),"",INDEX(Import!L:L,MATCH($A34,Import!$A:$A,0))) | M34: =IF(ISNA(INDEX(Import!M:M,MATCH($A34,Import!$A:$A,0))),"",INDEX(Import!M:M,MATCH($A34,Import!$A:$A,0))) | N34: =IF(ISNA(INDEX(Import!N:N,MATCH($A34,Import!$A:$A,0))),"",INDEX(Import!N:N,MATCH($A34,Import!$A:$A,0))) | O34: =IF(ISNA(INDEX(Import!O:O,MATCH($A34,Import!$A:$A,0))),"",INDEX(Import!O:O,MATCH($A34,Import!$A:$A,0))) | P34: =IF(ISNA(INDEX(Import!P:P,MATCH($A34,Import!$A:$A,0))),"",INDEX(Import!P:P,MATCH($A34,Import!$A:$A,0))) | Q34: =IF(ISNA(INDEX(Import!Q:Q,MATCH($A34,Import!$A:$A,0))),"",INDEX(Import!Q:Q,MATCH($A34,Import!$A:$A,0))) | R34: =IF(ISNA(INDEX(Import!R:R,MATCH($A34,Import!$A:$A,0))),"",INDEX(Import!R:R,MATCH($A34,Import!$A:$A,0))) | S34: =IF(ISNA(INDEX(Import!S:S,MATCH($A34,Import!$A:$A,0))),"",INDEX(Import!S:S,MATCH($A34,Import!$A:$A,0))) | T34: =IF(ISNA(INDEX(Import!T:T,MATCH($A34,Import!$A:$A,0))),"",INDEX(Import!T:T,MATCH($A34,Import!$A:$A,0))) | U34: =IF(ISNA(INDEX(Import!U:U,MATCH($A34,Import!$A:$A,0))),"",INDEX(Import!U:U,MATCH($A34,Import!$A:$A,0))) | V34: =IF(ISNA(INDEX(Import!V:V,MATCH($A34,Import!$A:$A,0))),"",INDEX(Import!V:V,MATCH($A34,Import!$A:$A,0))) | W34: =IF(ISNA(INDEX(Import!W:W,MATCH($A34,Import!$A:$A,0))),"",INDEX(Import!W:W,MATCH($A34,Import!$A:$A,0))) | X34: =IF(ISNA(INDEX(Import!X:X,MATCH($A34,Import!$A:$A,0))),"",INDEX(Import!X:X,MATCH($A34,Import!$A:$A,0))) | Y34: =IF(ISNA(INDEX(Import!Y:Y,MATCH($A34,Import!$A:$A,0))),"",INDEX(Import!Y:Y,MATCH($A34,Import!$A:$A,0))) | Z34: =IF(ISNA(INDEX(Import!Z:Z,MATCH($A34,Import!$A:$A,0))),"",INDEX(Import!Z:Z,MATCH($A34,Import!$A:$A,0))) | AA34: =IF(ISNA(INDEX(Import!AA:AA,MATCH($A34,Import!$A:$A,0))),"",INDEX(Import!AA:AA,MATCH($A34,Import!$A:$A,0))) | AB34: =IF(ISNA(INDEX(Import!AB:AB,MATCH($A34,Import!$A:$A,0))),"",INDEX(Import!AB:AB,MATCH($A34,Import!$A:$A,0))) | AC34: =IF(ISNA(INDEX(Import!AC:AC,MATCH($A34,Import!$A:$A,0))),"",INDEX(Import!AC:AC,MATCH($A34,Import!$A:$A,0))) | AD34: =IF(ISNA(INDEX(Import!AD:AD,MATCH($A34,Import!$A:$A,0))),"",INDEX(Import!AD:AD,MATCH($A34,Import!$A:$A,0))) | AE34: =IF(ISNA(INDEX(Import!AE:AE,MATCH($A34,Import!$A:$A,0))),"",INDEX(Import!AE:AE,MATCH($A34,Import!$A:$A,0))) | AF34: =IF(ISNA(INDEX(Import!AF:AF,MATCH($A34,Import!$A:$A,0))),"",INDEX(Import!AF:AF,MATCH($A34,Import!$A:$A,0))) | AG34: =IF(ISNA(INDEX(Import!AG:AG,MATCH($A34,Import!$A:$A,0))),"",INDEX(Import!AG:AG,MATCH($A34,Import!$A:$A,0))) | AH34: =IF(ISNA(INDEX(Import!AH:AH,MATCH($A34,Import!$A:$A,0))),"",INDEX(Import!AH:AH,MATCH($A34,Import!$A:$A,0))) | AI34: =IF(ISNA(INDEX(Import!AI:AI,MATCH($A34,Import!$A:$A,0))),"",INDEX(Import!AI:AI,MATCH($A34,Import!$A:$A,0))) | AJ34: =IF(ISNA(INDEX(Import!AJ:AJ,MATCH($A34,Import!$A:$A,0))),"",INDEX(Import!AJ:AJ,MATCH($A34,Import!$A:$A,0)))
A35: {=IF(ROWS($3:34)<=COUNTIF(Import!$AO:$AO,"MERCURE"),INDEX(Import!A:A,SMALL(IF(Import!$AO:$AO="MERCURE",ROW(INDIRECT("1:"&ROWS(Import!$AO:$AO)))),ROWS($3:34))),"")} | B35: =IF(ISNA(INDEX(Import!B:B,MATCH($A35,Import!$A:$A,0))),"",INDEX(Import!B:B,MATCH($A35,Import!$A:$A,0))) | C35: =IF(ISNA(INDEX(Import!C:C,MATCH($A35,Import!$A:$A,0))),"",INDEX(Import!C:C,MATCH($A35,Import!$A:$A,0))) | D35: =IF(ISNA(INDEX(Import!D:D,MATCH($A35,Import!$A:$A,0))),"",INDEX(Import!D:D,MATCH($A35,Import!$A:$A,0))) | E35: =IF(ISNA(INDEX(Import!E:E,MATCH($A35,Import!$A:$A,0))),"",INDEX(Import!E:E,MATCH($A35,Import!$A:$A,0))) | F35: =IF(ISNA(INDEX(Import!F:F,MATCH($A35,Import!$A:$A,0))),"",INDEX(Import!F:F,MATCH($A35,Import!$A:$A,0))) | G35: =IF(ISNA(INDEX(Import!G:G,MATCH($A35,Import!$A:$A,0))),"",INDEX(Import!G:G,MATCH($A35,Import!$A:$A,0))) | H35: =IF(ISNA(INDEX(Import!H:H,MATCH($A35,Import!$A:$A,0))),"",INDEX(Import!H:H,MATCH($A35,Import!$A:$A,0))) | I35: =IF(ISNA(INDEX(Import!I:I,MATCH($A35,Import!$A:$A,0))),"",INDEX(Import!I:I,MATCH($A35,Import!$A:$A,0))) | J35: =IF(ISNA(INDEX(Import!J:J,MATCH($A35,Import!$A:$A,0))),"",INDEX(Import!J:J,MATCH($A35,Import!$A:$A,0))) | K35: =IF(ISNA(INDEX(Import!K:K,MATCH($A35,Import!$A:$A,0))),"",INDEX(Import!K:K,MATCH($A35,Import!$A:$A,0))) | L35: =IF(ISNA(INDEX(Import!L:L,MATCH($A35,Import!$A:$A,0))),"",INDEX(Import!L:L,MATCH($A35,Import!$A:$A,0))) | M35: =IF(ISNA(INDEX(Import!M:M,MATCH($A35,Import!$A:$A,0))),"",INDEX(Import!M:M,MATCH($A35,Import!$A:$A,0))) | N35: =IF(ISNA(INDEX(Import!N:N,MATCH($A35,Import!$A:$A,0))),"",INDEX(Import!N:N,MATCH($A35,Import!$A:$A,0))) | O35: =IF(ISNA(INDEX(Import!O:O,MATCH($A35,Import!$A:$A,0))),"",INDEX(Import!O:O,MATCH($A35,Import!$A:$A,0))) | P35: =IF(ISNA(INDEX(Import!P:P,MATCH($A35,Import!$A:$A,0))),"",INDEX(Import!P:P,MATCH($A35,Import!$A:$A,0))) | Q35: =IF(ISNA(INDEX(Import!Q:Q,MATCH($A35,Import!$A:$A,0))),"",INDEX(Import!Q:Q,MATCH($A35,Import!$A:$A,0))) | R35: =IF(ISNA(INDEX(Import!R:R,MATCH($A35,Import!$A:$A,0))),"",INDEX(Import!R:R,MATCH($A35,Import!$A:$A,0))) | S35: =IF(ISNA(INDEX(Import!S:S,MATCH($A35,Import!$A:$A,0))),"",INDEX(Import!S:S,MATCH($A35,Import!$A:$A,0))) | T35: =IF(ISNA(INDEX(Import!T:T,MATCH($A35,Import!$A:$A,0))),"",INDEX(Import!T:T,MATCH($A35,Import!$A:$A,0))) | U35: =IF(ISNA(INDEX(Import!U:U,MATCH($A35,Import!$A:$A,0))),"",INDEX(Import!U:U,MATCH($A35,Import!$A:$A,0))) | V35: =IF(ISNA(INDEX(Import!V:V,MATCH($A35,Import!$A:$A,0))),"",INDEX(Import!V:V,MATCH($A35,Import!$A:$A,0))) | W35: =IF(ISNA(INDEX(Import!W:W,MATCH($A35,Import!$A:$A,0))),"",INDEX(Import!W:W,MATCH($A35,Import!$A:$A,0))) | X35: =IF(ISNA(INDEX(Import!X:X,MATCH($A35,Import!$A:$A,0))),"",INDEX(Import!X:X,MATCH($A35,Import!$A:$A,0))) | Y35: =IF(ISNA(INDEX(Import!Y:Y,MATCH($A35,Import!$A:$A,0))),"",INDEX(Import!Y:Y,MATCH($A35,Import!$A:$A,0))) | Z35: =IF(ISNA(INDEX(Import!Z:Z,MATCH($A35,Import!$A:$A,0))),"",INDEX(Import!Z:Z,MATCH($A35,Import!$A:$A,0))) | AA35: =IF(ISNA(INDEX(Import!AA:AA,MATCH($A35,Import!$A:$A,0))),"",INDEX(Import!AA:AA,MATCH($A35,Import!$A:$A,0))) | AB35: =IF(ISNA(INDEX(Import!AB:AB,MATCH($A35,Import!$A:$A,0))),"",INDEX(Import!AB:AB,MATCH($A35,Import!$A:$A,0))) | AC35: =IF(ISNA(INDEX(Import!AC:AC,MATCH($A35,Import!$A:$A,0))),"",INDEX(Import!AC:AC,MATCH($A35,Import!$A:$A,0))) | AD35: =IF(ISNA(INDEX(Import!AD:AD,MATCH($A35,Import!$A:$A,0))),"",INDEX(Import!AD:AD,MATCH($A35,Import!$A:$A,0))) | AE35: =IF(ISNA(INDEX(Import!AE:AE,MATCH($A35,Import!$A:$A,0))),"",INDEX(Import!AE:AE,MATCH($A35,Import!$A:$A,0))) | AF35: =IF(ISNA(INDEX(Import!AF:AF,MATCH($A35,Import!$A:$A,0))),"",INDEX(Import!AF:AF,MATCH($A35,Import!$A:$A,0))) | AG35: =IF(ISNA(INDEX(Import!AG:AG,MATCH($A35,Import!$A:$A,0))),"",INDEX(Import!AG:AG,MATCH($A35,Import!$A:$A,0))) | AH35: =IF(ISNA(INDEX(Import!AH:AH,MATCH($A35,Import!$A:$A,0))),"",INDEX(Import!AH:AH,MATCH($A35,Import!$A:$A,0))) | AI35: =IF(ISNA(INDEX(Import!AI:AI,MATCH($A35,Import!$A:$A,0))),"",INDEX(Import!AI:AI,MATCH($A35,Import!$A:$A,0))) | AJ35: =IF(ISNA(INDEX(Import!AJ:AJ,MATCH($A35,Import!$A:$A,0))),"",INDEX(Import!AJ:AJ,MATCH($A35,Import!$A:$A,0)))
A36: {=IF(ROWS($3:35)<=COUNTIF(Import!$AO:$AO,"MERCURE"),INDEX(Import!A:A,SMALL(IF(Import!$AO:$AO="MERCURE",ROW(INDIRECT("1:"&ROWS(Import!$AO:$AO)))),ROWS($3:35))),"")} | B36: =IF(ISNA(INDEX(Import!B:B,MATCH($A36,Import!$A:$A,0))),"",INDEX(Import!B:B,MATCH($A36,Import!$A:$A,0))) | C36: =IF(ISNA(INDEX(Import!C:C,MATCH($A36,Import!$A:$A,0))),"",INDEX(Import!C:C,MATCH($A36,Import!$A:$A,0))) | D36: =IF(ISNA(INDEX(Import!D:D,MATCH($A36,Import!$A:$A,0))),"",INDEX(Import!D:D,MATCH($A36,Import!$A:$A,0))) | E36: =IF(ISNA(INDEX(Import!E:E,MATCH($A36,Import!$A:$A,0))),"",INDEX(Import!E:E,MATCH($A36,Import!$A:$A,0))) | F36: =IF(ISNA(INDEX(Import!F:F,MATCH($A36,Import!$A:$A,0))),"",INDEX(Import!F:F,MATCH($A36,Import!$A:$A,0))) | G36: =IF(ISNA(INDEX(Import!G:G,MATCH($A36,Import!$A:$A,0))),"",INDEX(Import!G:G,MATCH($A36,Import!$A:$A,0))) | H36: =IF(ISNA(INDEX(Import!H:H,MATCH($A36,Import!$A:$A,0))),"",INDEX(Import!H:H,MATCH($A36,Import!$A:$A,0))) | I36: =IF(ISNA(INDEX(Import!I:I,MATCH($A36,Import!$A:$A,0))),"",INDEX(Import!I:I,MATCH($A36,Import!$A:$A,0))) | J36: =IF(ISNA(INDEX(Import!J:J,MATCH($A36,Import!$A:$A,0))),"",INDEX(Import!J:J,MATCH($A36,Import!$A:$A,0))) | K36: =IF(ISNA(INDEX(Import!K:K,MATCH($A36,Import!$A:$A,0))),"",INDEX(Import!K:K,MATCH($A36,Import!$A:$A,0))) | L36: =IF(ISNA(INDEX(Import!L:L,MATCH($A36,Import!$A:$A,0))),"",INDEX(Import!L:L,MATCH($A36,Import!$A:$A,0))) | M36: =IF(ISNA(INDEX(Import!M:M,MATCH($A36,Import!$A:$A,0))),"",INDEX(Import!M:M,MATCH($A36,Import!$A:$A,0))) | N36: =IF(ISNA(INDEX(Import!N:N,MATCH($A36,Import!$A:$A,0))),"",INDEX(Import!N:N,MATCH($A36,Import!$A:$A,0))) | O36: =IF(ISNA(INDEX(Import!O:O,MATCH($A36,Import!$A:$A,0))),"",INDEX(Import!O:O,MATCH($A36,Import!$A:$A,0))) | P36: =IF(ISNA(INDEX(Import!P:P,MATCH($A36,Import!$A:$A,0))),"",INDEX(Import!P:P,MATCH($A36,Import!$A:$A,0))) | Q36: =IF(ISNA(INDEX(Import!Q:Q,MATCH($A36,Import!$A:$A,0))),"",INDEX(Import!Q:Q,MATCH($A36,Import!$A:$A,0))) | R36: =IF(ISNA(INDEX(Import!R:R,MATCH($A36,Import!$A:$A,0))),"",INDEX(Import!R:R,MATCH($A36,Import!$A:$A,0))) | S36: =IF(ISNA(INDEX(Import!S:S,MATCH($A36,Import!$A:$A,0))),"",INDEX(Import!S:S,MATCH($A36,Import!$A:$A,0))) | T36: =IF(ISNA(INDEX(Import!T:T,MATCH($A36,Import!$A:$A,0))),"",INDEX(Import!T:T,MATCH($A36,Import!$A:$A,0))) | U36: =IF(ISNA(INDEX(Import!U:U,MATCH($A36,Import!$A:$A,0))),"",INDEX(Import!U:U,MATCH($A36,Import!$A:$A,0))) | V36: =IF(ISNA(INDEX(Import!V:V,MATCH($A36,Import!$A:$A,0))),"",INDEX(Import!V:V,MATCH($A36,Import!$A:$A,0))) | W36: =IF(ISNA(INDEX(Import!W:W,MATCH($A36,Import!$A:$A,0))),"",INDEX(Import!W:W,MATCH($A36,Import!$A:$A,0))) | X36: =IF(ISNA(INDEX(Import!X:X,MATCH($A36,Import!$A:$A,0))),"",INDEX(Import!X:X,MATCH($A36,Import!$A:$A,0))) | Y36: =IF(ISNA(INDEX(Import!Y:Y,MATCH($A36,Import!$A:$A,0))),"",INDEX(Import!Y:Y,MATCH($A36,Import!$A:$A,0))) | Z36: =IF(ISNA(INDEX(Import!Z:Z,MATCH($A36,Import!$A:$A,0))),"",INDEX(Import!Z:Z,MATCH($A36,Import!$A:$A,0))) | AA36: =IF(ISNA(INDEX(Import!AA:AA,MATCH($A36,Import!$A:$A,0))),"",INDEX(Import!AA:AA,MATCH($A36,Import!$A:$A,0))) | AB36: =IF(ISNA(INDEX(Import!AB:AB,MATCH($A36,Import!$A:$A,0))),"",INDEX(Import!AB:AB,MATCH($A36,Import!$A:$A,0))) | AC36: =IF(ISNA(INDEX(Import!AC:AC,MATCH($A36,Import!$A:$A,0))),"",INDEX(Import!AC:AC,MATCH($A36,Import!$A:$A,0))) | AD36: =IF(ISNA(INDEX(Import!AD:AD,MATCH($A36,Import!$A:$A,0))),"",INDEX(Import!AD:AD,MATCH($A36,Import!$A:$A,0))) | AE36: =IF(ISNA(INDEX(Import!AE:AE,MATCH($A36,Import!$A:$A,0))),"",INDEX(Import!AE:AE,MATCH($A36,Import!$A:$A,0))) | AF36: =IF(ISNA(INDEX(Import!AF:AF,MATCH($A36,Import!$A:$A,0))),"",INDEX(Import!AF:AF,MATCH($A36,Import!$A:$A,0))) | AG36: =IF(ISNA(INDEX(Import!AG:AG,MATCH($A36,Import!$A:$A,0))),"",INDEX(Import!AG:AG,MATCH($A36,Import!$A:$A,0))) | AH36: =IF(ISNA(INDEX(Import!AH:AH,MATCH($A36,Import!$A:$A,0))),"",INDEX(Import!AH:AH,MATCH($A36,Import!$A:$A,0))) | AI36: =IF(ISNA(INDEX(Import!AI:AI,MATCH($A36,Import!$A:$A,0))),"",INDEX(Import!AI:AI,MATCH($A36,Import!$A:$A,0))) | AJ36: =IF(ISNA(INDEX(Import!AJ:AJ,MATCH($A36,Import!$A:$A,0))),"",INDEX(Import!AJ:AJ,MATCH($A36,Import!$A:$A,0)))
A37: {=IF(ROWS($3:36)<=COUNTIF(Import!$AO:$AO,"MERCURE"),INDEX(Import!A:A,SMALL(IF(Import!$AO:$AO="MERCURE",ROW(INDIRECT("1:"&ROWS(Import!$AO:$AO)))),ROWS($3:36))),"")} | B37: =IF(ISNA(INDEX(Import!B:B,MATCH($A37,Import!$A:$A,0))),"",INDEX(Import!B:B,MATCH($A37,Import!$A:$A,0))) | C37: =IF(ISNA(INDEX(Import!C:C,MATCH($A37,Import!$A:$A,0))),"",INDEX(Import!C:C,MATCH($A37,Import!$A:$A,0))) | D37: =IF(ISNA(INDEX(Import!D:D,MATCH($A37,Import!$A:$A,0))),"",INDEX(Import!D:D,MATCH($A37,Import!$A:$A,0))) | E37: =IF(ISNA(INDEX(Import!E:E,MATCH($A37,Import!$A:$A,0))),"",INDEX(Import!E:E,MATCH($A37,Import!$A:$A,0))) | F37: =IF(ISNA(INDEX(Import!F:F,MATCH($A37,Import!$A:$A,0))),"",INDEX(Import!F:F,MATCH($A37,Import!$A:$A,0))) | G37: =IF(ISNA(INDEX(Import!G:G,MATCH($A37,Import!$A:$A,0))),"",INDEX(Import!G:G,MATCH($A37,Import!$A:$A,0))) | H37: =IF(ISNA(INDEX(Import!H:H,MATCH($A37,Import!$A:$A,0))),"",INDEX(Import!H:H,MATCH($A37,Import!$A:$A,0))) | I37: =IF(ISNA(INDEX(Import!I:I,MATCH($A37,Import!$A:$A,0))),"",INDEX(Import!I:I,MATCH($A37,Import!$A:$A,0))) | J37: =IF(ISNA(INDEX(Import!J:J,MATCH($A37,Import!$A:$A,0))),"",INDEX(Import!J:J,MATCH($A37,Import!$A:$A,0))) | K37: =IF(ISNA(INDEX(Import!K:K,MATCH($A37,Import!$A:$A,0))),"",INDEX(Import!K:K,MATCH($A37,Import!$A:$A,0))) | L37: =IF(ISNA(INDEX(Import!L:L,MATCH($A37,Import!$A:$A,0))),"",INDEX(Import!L:L,MATCH($A37,Import!$A:$A,0))) | M37: =IF(ISNA(INDEX(Import!M:M,MATCH($A37,Import!$A:$A,0))),"",INDEX(Import!M:M,MATCH($A37,Import!$A:$A,0))) | N37: =IF(ISNA(INDEX(Import!N:N,MATCH($A37,Import!$A:$A,0))),"",INDEX(Import!N:N,MATCH($A37,Import!$A:$A,0))) | O37: =IF(ISNA(INDEX(Import!O:O,MATCH($A37,Import!$A:$A,0))),"",INDEX(Import!O:O,MATCH($A37,Import!$A:$A,0))) | P37: =IF(ISNA(INDEX(Import!P:P,MATCH($A37,Import!$A:$A,0))),"",INDEX(Import!P:P,MATCH($A37,Import!$A:$A,0))) | Q37: =IF(ISNA(INDEX(Import!Q:Q,MATCH($A37,Import!$A:$A,0))),"",INDEX(Import!Q:Q,MATCH($A37,Import!$A:$A,0))) | R37: =IF(ISNA(INDEX(Import!R:R,MATCH($A37,Import!$A:$A,0))),"",INDEX(Import!R:R,MATCH($A37,Import!$A:$A,0))) | S37: =IF(ISNA(INDEX(Import!S:S,MATCH($A37,Import!$A:$A,0))),"",INDEX(Import!S:S,MATCH($A37,Import!$A:$A,0))) | T37: =IF(ISNA(INDEX(Import!T:T,MATCH($A37,Import!$A:$A,0))),"",INDEX(Import!T:T,MATCH($A37,Import!$A:$A,0))) | U37: =IF(ISNA(INDEX(Import!U:U,MATCH($A37,Import!$A:$A,0))),"",INDEX(Import!U:U,MATCH($A37,Import!$A:$A,0))) | V37: =IF(ISNA(INDEX(Import!V:V,MATCH($A37,Import!$A:$A,0))),"",INDEX(Import!V:V,MATCH($A37,Import!$A:$A,0))) | W37: =IF(ISNA(INDEX(Import!W:W,MATCH($A37,Import!$A:$A,0))),"",INDEX(Import!W:W,MATCH($A37,Import!$A:$A,0))) | X37: =IF(ISNA(INDEX(Import!X:X,MATCH($A37,Import!$A:$A,0))),"",INDEX(Import!X:X,MATCH($A37,Import!$A:$A,0))) | Y37: =IF(ISNA(INDEX(Import!Y:Y,MATCH($A37,Import!$A:$A,0))),"",INDEX(Import!Y:Y,MATCH($A37,Import!$A:$A,0))) | Z37: =IF(ISNA(INDEX(Import!Z:Z,MATCH($A37,Import!$A:$A,0))),"",INDEX(Import!Z:Z,MATCH($A37,Import!$A:$A,0))) | AA37: =IF(ISNA(INDEX(Import!AA:AA,MATCH($A37,Import!$A:$A,0))),"",INDEX(Import!AA:AA,MATCH($A37,Import!$A:$A,0))) | AB37: =IF(ISNA(INDEX(Import!AB:AB,MATCH($A37,Import!$A:$A,0))),"",INDEX(Import!AB:AB,MATCH($A37,Import!$A:$A,0))) | AC37: =IF(ISNA(INDEX(Import!AC:AC,MATCH($A37,Import!$A:$A,0))),"",INDEX(Import!AC:AC,MATCH($A37,Import!$A:$A,0))) | AD37: =IF(ISNA(INDEX(Import!AD:AD,MATCH($A37,Import!$A:$A,0))),"",INDEX(Import!AD:AD,MATCH($A37,Import!$A:$A,0))) | AE37: =IF(ISNA(INDEX(Import!AE:AE,MATCH($A37,Import!$A:$A,0))),"",INDEX(Import!AE:AE,MATCH($A37,Import!$A:$A,0))) | AF37: =IF(ISNA(INDEX(Import!AF:AF,MATCH($A37,Import!$A:$A,0))),"",INDEX(Import!AF:AF,MATCH($A37,Import!$A:$A,0))) | AG37: =IF(ISNA(INDEX(Import!AG:AG,MATCH($A37,Import!$A:$A,0))),"",INDEX(Import!AG:AG,MATCH($A37,Import!$A:$A,0))) | AH37: =IF(ISNA(INDEX(Import!AH:AH,MATCH($A37,Import!$A:$A,0))),"",INDEX(Import!AH:AH,MATCH($A37,Import!$A:$A,0))) | AI37: =IF(ISNA(INDEX(Import!AI:AI,MATCH($A37,Import!$A:$A,0))),"",INDEX(Import!AI:AI,MATCH($A37,Import!$A:$A,0))) | AJ37: =IF(ISNA(INDEX(Import!AJ:AJ,MATCH($A37,Import!$A:$A,0))),"",INDEX(Import!AJ:AJ,MATCH($A37,Import!$A:$A,0)))
A38: {=IF(ROWS($3:37)<=COUNTIF(Import!$AO:$AO,"MERCURE"),INDEX(Import!A:A,SMALL(IF(Import!$AO:$AO="MERCURE",ROW(INDIRECT("1:"&ROWS(Import!$AO:$AO)))),ROWS($3:37))),"")} | B38: =IF(ISNA(INDEX(Import!B:B,MATCH($A38,Import!$A:$A,0))),"",INDEX(Import!B:B,MATCH($A38,Import!$A:$A,0))) | C38: =IF(ISNA(INDEX(Import!C:C,MATCH($A38,Import!$A:$A,0))),"",INDEX(Import!C:C,MATCH($A38,Import!$A:$A,0))) | D38: =IF(ISNA(INDEX(Import!D:D,MATCH($A38,Import!$A:$A,0))),"",INDEX(Import!D:D,MATCH($A38,Import!$A:$A,0))) | E38: =IF(ISNA(INDEX(Import!E:E,MATCH($A38,Import!$A:$A,0))),"",INDEX(Import!E:E,MATCH($A38,Import!$A:$A,0))) | F38: =IF(ISNA(INDEX(Import!F:F,MATCH($A38,Import!$A:$A,0))),"",INDEX(Import!F:F,MATCH($A38,Import!$A:$A,0))) | G38: =IF(ISNA(INDEX(Import!G:G,MATCH($A38,Import!$A:$A,0))),"",INDEX(Import!G:G,MATCH($A38,Import!$A:$A,0))) | H38: =IF(ISNA(INDEX(Import!H:H,MATCH($A38,Import!$A:$A,0))),"",INDEX(Import!H:H,MATCH($A38,Import!$A:$A,0))) | I38: =IF(ISNA(INDEX(Import!I:I,MATCH($A38,Import!$A:$A,0))),"",INDEX(Import!I:I,MATCH($A38,Import!$A:$A,0))) | J38: =IF(ISNA(INDEX(Import!J:J,MATCH($A38,Import!$A:$A,0))),"",INDEX(Import!J:J,MATCH($A38,Import!$A:$A,0))) | K38: =IF(ISNA(INDEX(Import!K:K,MATCH($A38,Import!$A:$A,0))),"",INDEX(Import!K:K,MATCH($A38,Import!$A:$A,0))) | L38: =IF(ISNA(INDEX(Import!L:L,MATCH($A38,Import!$A:$A,0))),"",INDEX(Import!L:L,MATCH($A38,Import!$A:$A,0))) | M38: =IF(ISNA(INDEX(Import!M:M,MATCH($A38,Import!$A:$A,0))),"",INDEX(Import!M:M,MATCH($A38,Import!$A:$A,0))) | N38: =IF(ISNA(INDEX(Import!N:N,MATCH($A38,Import!$A:$A,0))),"",INDEX(Import!N:N,MATCH($A38,Import!$A:$A,0))) | O38: =IF(ISNA(INDEX(Import!O:O,MATCH($A38,Import!$A:$A,0))),"",INDEX(Import!O:O,MATCH($A38,Import!$A:$A,0))) | P38: =IF(ISNA(INDEX(Import!P:P,MATCH($A38,Import!$A:$A,0))),"",INDEX(Import!P:P,MATCH($A38,Import!$A:$A,0))) | Q38: =IF(ISNA(INDEX(Import!Q:Q,MATCH($A38,Import!$A:$A,0))),"",INDEX(Import!Q:Q,MATCH($A38,Import!$A:$A,0))) | R38: =IF(ISNA(INDEX(Import!R:R,MATCH($A38,Import!$A:$A,0))),"",INDEX(Import!R:R,MATCH($A38,Import!$A:$A,0))) | S38: =IF(ISNA(INDEX(Import!S:S,MATCH($A38,Import!$A:$A,0))),"",INDEX(Import!S:S,MATCH($A38,Import!$A:$A,0))) | T38: =IF(ISNA(INDEX(Import!T:T,MATCH($A38,Import!$A:$A,0))),"",INDEX(Import!T:T,MATCH($A38,Import!$A:$A,0))) | U38: =IF(ISNA(INDEX(Import!U:U,MATCH($A38,Import!$A:$A,0))),"",INDEX(Import!U:U,MATCH($A38,Import!$A:$A,0))) | V38: =IF(ISNA(INDEX(Import!V:V,MATCH($A38,Import!$A:$A,0))),"",INDEX(Import!V:V,MATCH($A38,Import!$A:$A,0))) | W38: =IF(ISNA(INDEX(Import!W:W,MATCH($A38,Import!$A:$A,0))),"",INDEX(Import!W:W,MATCH($A38,Import!$A:$A,0))) | X38: =IF(ISNA(INDEX(Import!X:X,MATCH($A38,Import!$A:$A,0))),"",INDEX(Import!X:X,MATCH($A38,Import!$A:$A,0))) | Y38: =IF(ISNA(INDEX(Import!Y:Y,MATCH($A38,Import!$A:$A,0))),"",INDEX(Import!Y:Y,MATCH($A38,Import!$A:$A,0))) | Z38: =IF(ISNA(INDEX(Import!Z:Z,MATCH($A38,Import!$A:$A,0))),"",INDEX(Import!Z:Z,MATCH($A38,Import!$A:$A,0))) | AA38: =IF(ISNA(INDEX(Import!AA:AA,MATCH($A38,Import!$A:$A,0))),"",INDEX(Import!AA:AA,MATCH($A38,Import!$A:$A,0))) | AB38: =IF(ISNA(INDEX(Import!AB:AB,MATCH($A38,Import!$A:$A,0))),"",INDEX(Import!AB:AB,MATCH($A38,Import!$A:$A,0))) | AC38: =IF(ISNA(INDEX(Import!AC:AC,MATCH($A38,Import!$A:$A,0))),"",INDEX(Import!AC:AC,MATCH($A38,Import!$A:$A,0))) | AD38: =IF(ISNA(INDEX(Import!AD:AD,MATCH($A38,Import!$A:$A,0))),"",INDEX(Import!AD:AD,MATCH($A38,Import!$A:$A,0))) | AE38: =IF(ISNA(INDEX(Import!AE:AE,MATCH($A38,Import!$A:$A,0))),"",INDEX(Import!AE:AE,MATCH($A38,Import!$A:$A,0))) | AF38: =IF(ISNA(INDEX(Import!AF:AF,MATCH($A38,Import!$A:$A,0))),"",INDEX(Import!AF:AF,MATCH($A38,Import!$A:$A,0))) | AG38: =IF(ISNA(INDEX(Import!AG:AG,MATCH($A38,Import!$A:$A,0))),"",INDEX(Import!AG:AG,MATCH($A38,Import!$A:$A,0))) | AH38: =IF(ISNA(INDEX(Import!AH:AH,MATCH($A38,Import!$A:$A,0))),"",INDEX(Import!AH:AH,MATCH($A38,Import!$A:$A,0))) | AI38: =IF(ISNA(INDEX(Import!AI:AI,MATCH($A38,Import!$A:$A,0))),"",INDEX(Import!AI:AI,MATCH($A38,Import!$A:$A,0))) | AJ38: =IF(ISNA(INDEX(Import!AJ:AJ,MATCH($A38,Import!$A:$A,0))),"",INDEX(Import!AJ:AJ,MATCH($A38,Import!$A:$A,0)))
A39: {=IF(ROWS($3:38)<=COUNTIF(Import!$AO:$AO,"MERCURE"),INDEX(Import!A:A,SMALL(IF(Import!$AO:$AO="MERCURE",ROW(INDIRECT("1:"&ROWS(Import!$AO:$AO)))),ROWS($3:38))),"")} | B39: =IF(ISNA(INDEX(Import!B:B,MATCH($A39,Import!$A:$A,0))),"",INDEX(Import!B:B,MATCH($A39,Import!$A:$A,0))) | C39: =IF(ISNA(INDEX(Import!C:C,MATCH($A39,Import!$A:$A,0))),"",INDEX(Import!C:C,MATCH($A39,Import!$A:$A,0))) | D39: =IF(ISNA(INDEX(Import!D:D,MATCH($A39,Import!$A:$A,0))),"",INDEX(Import!D:D,MATCH($A39,Import!$A:$A,0))) | E39: =IF(ISNA(INDEX(Import!E:E,MATCH($A39,Import!$A:$A,0))),"",INDEX(Import!E:E,MATCH($A39,Import!$A:$A,0))) | F39: =IF(ISNA(INDEX(Import!F:F,MATCH($A39,Import!$A:$A,0))),"",INDEX(Import!F:F,MATCH($A39,Import!$A:$A,0))) | G39: =IF(ISNA(INDEX(Import!G:G,MATCH($A39,Import!$A:$A,0))),"",INDEX(Import!G:G,MATCH($A39,Import!$A:$A,0))) | H39: =IF(ISNA(INDEX(Import!H:H,MATCH($A39,Import!$A:$A,0))),"",INDEX(Import!H:H,MATCH($A39,Import!$A:$A,0))) | I39: =IF(ISNA(INDEX(Import!I:I,MATCH($A39,Import!$A:$A,0))),"",INDEX(Import!I:I,MATCH($A39,Import!$A:$A,0))) | J39: =IF(ISNA(INDEX(Import!J:J,MATCH($A39,Import!$A:$A,0))),"",INDEX(Import!J:J,MATCH($A39,Import!$A:$A,0))) | K39: =IF(ISNA(INDEX(Import!K:K,MATCH($A39,Import!$A:$A,0))),"",INDEX(Import!K:K,MATCH($A39,Import!$A:$A,0))) | L39: =IF(ISNA(INDEX(Import!L:L,MATCH($A39,Import!$A:$A,0))),"",INDEX(Import!L:L,MATCH($A39,Import!$A:$A,0))) | M39: =IF(ISNA(INDEX(Import!M:M,MATCH($A39,Import!$A:$A,0))),"",INDEX(Import!M:M,MATCH($A39,Import!$A:$A,0))) | N39: =IF(ISNA(INDEX(Import!N:N,MATCH($A39,Import!$A:$A,0))),"",INDEX(Import!N:N,MATCH($A39,Import!$A:$A,0))) | O39: =IF(ISNA(INDEX(Import!O:O,MATCH($A39,Import!$A:$A,0))),"",INDEX(Import!O:O,MATCH($A39,Import!$A:$A,0))) | P39: =IF(ISNA(INDEX(Import!P:P,MATCH($A39,Import!$A:$A,0))),"",INDEX(Import!P:P,MATCH($A39,Import!$A:$A,0))) | Q39: =IF(ISNA(INDEX(Import!Q:Q,MATCH($A39,Import!$A:$A,0))),"",INDEX(Import!Q:Q,MATCH($A39,Import!$A:$A,0))) | R39: =IF(ISNA(INDEX(Import!R:R,MATCH($A39,Import!$A:$A,0))),"",INDEX(Import!R:R,MATCH($A39,Import!$A:$A,0))) | S39: =IF(ISNA(INDEX(Import!S:S,MATCH($A39,Import!$A:$A,0))),"",INDEX(Import!S:S,MATCH($A39,Import!$A:$A,0))) | T39: =IF(ISNA(INDEX(Import!T:T,MATCH($A39,Import!$A:$A,0))),"",INDEX(Import!T:T,MATCH($A39,Import!$A:$A,0))) | U39: =IF(ISNA(INDEX(Import!U:U,MATCH($A39,Import!$A:$A,0))),"",INDEX(Import!U:U,MATCH($A39,Import!$A:$A,0))) | V39: =IF(ISNA(INDEX(Import!V:V,MATCH($A39,Import!$A:$A,0))),"",INDEX(Import!V:V,MATCH($A39,Import!$A:$A,0))) | W39: =IF(ISNA(INDEX(Import!W:W,MATCH($A39,Import!$A:$A,0))),"",INDEX(Import!W:W,MATCH($A39,Import!$A:$A,0))) | X39: =IF(ISNA(INDEX(Import!X:X,MATCH($A39,Import!$A:$A,0))),"",INDEX(Import!X:X,MATCH($A39,Import!$A:$A,0))) | Y39: =IF(ISNA(INDEX(Import!Y:Y,MATCH($A39,Import!$A:$A,0))),"",INDEX(Import!Y:Y,MATCH($A39,Import!$A:$A,0))) | Z39: =IF(ISNA(INDEX(Import!Z:Z,MATCH($A39,Import!$A:$A,0))),"",INDEX(Import!Z:Z,MATCH($A39,Import!$A:$A,0))) | AA39: =IF(ISNA(INDEX(Import!AA:AA,MATCH($A39,Import!$A:$A,0))),"",INDEX(Import!AA:AA,MATCH($A39,Import!$A:$A,0))) | AB39: =IF(ISNA(INDEX(Import!AB:AB,MATCH($A39,Import!$A:$A,0))),"",INDEX(Import!AB:AB,MATCH($A39,Import!$A:$A,0))) | AC39: =IF(ISNA(INDEX(Import!AC:AC,MATCH($A39,Import!$A:$A,0))),"",INDEX(Import!AC:AC,MATCH($A39,Import!$A:$A,0))) | AD39: =IF(ISNA(INDEX(Import!AD:AD,MATCH($A39,Import!$A:$A,0))),"",INDEX(Import!AD:AD,MATCH($A39,Import!$A:$A,0))) | AE39: =IF(ISNA(INDEX(Import!AE:AE,MATCH($A39,Import!$A:$A,0))),"",INDEX(Import!AE:AE,MATCH($A39,Import!$A:$A,0))) | AF39: =IF(ISNA(INDEX(Import!AF:AF,MATCH($A39,Import!$A:$A,0))),"",INDEX(Import!AF:AF,MATCH($A39,Import!$A:$A,0))) | AG39: =IF(ISNA(INDEX(Import!AG:AG,MATCH($A39,Import!$A:$A,0))),"",INDEX(Import!AG:AG,MATCH($A39,Import!$A:$A,0))) | AH39: =IF(ISNA(INDEX(Import!AH:AH,MATCH($A39,Import!$A:$A,0))),"",INDEX(Import!AH:AH,MATCH($A39,Import!$A:$A,0))) | AI39: =IF(ISNA(INDEX(Import!AI:AI,MATCH($A39,Import!$A:$A,0))),"",INDEX(Import!AI:AI,MATCH($A39,Import!$A:$A,0))) | AJ39: =IF(ISNA(INDEX(Import!AJ:AJ,MATCH($A39,Import!$A:$A,0))),"",INDEX(Import!AJ:AJ,MATCH($A39,Import!$A:$A,0)))
A40: {=IF(ROWS($3:39)<=COUNTIF(Import!$AO:$AO,"MERCURE"),INDEX(Import!A:A,SMALL(IF(Import!$AO:$AO="MERCURE",ROW(INDIRECT("1:"&ROWS(Import!$AO:$AO)))),ROWS($3:39))),"")} | B40: =IF(ISNA(INDEX(Import!B:B,MATCH($A40,Import!$A:$A,0))),"",INDEX(Import!B:B,MATCH($A40,Import!$A:$A,0))) | C40: =IF(ISNA(INDEX(Import!C:C,MATCH($A40,Import!$A:$A,0))),"",INDEX(Import!C:C,MATCH($A40,Import!$A:$A,0))) | D40: =IF(ISNA(INDEX(Import!D:D,MATCH($A40,Import!$A:$A,0))),"",INDEX(Import!D:D,MATCH($A40,Import!$A:$A,0))) | E40: =IF(ISNA(INDEX(Import!E:E,MATCH($A40,Import!$A:$A,0))),"",INDEX(Import!E:E,MATCH($A40,Import!$A:$A,0))) | F40: =IF(ISNA(INDEX(Import!F:F,MATCH($A40,Import!$A:$A,0))),"",INDEX(Import!F:F,MATCH($A40,Import!$A:$A,0))) | G40: =IF(ISNA(INDEX(Import!G:G,MATCH($A40,Import!$A:$A,0))),"",INDEX(Import!G:G,MATCH($A40,Import!$A:$A,0))) | H40: =IF(ISNA(INDEX(Import!H:H,MATCH($A40,Import!$A:$A,0))),"",INDEX(Import!H:H,MATCH($A40,Import!$A:$A,0))) | I40: =IF(ISNA(INDEX(Import!I:I,MATCH($A40,Import!$A:$A,0))),"",INDEX(Import!I:I,MATCH($A40,Import!$A:$A,0))) | J40: =IF(ISNA(INDEX(Import!J:J,MATCH($A40,Import!$A:$A,0))),"",INDEX(Import!J:J,MATCH($A40,Import!$A:$A,0))) | K40: =IF(ISNA(INDEX(Import!K:K,MATCH($A40,Import!$A:$A,0))),"",INDEX(Import!K:K,MATCH($A40,Import!$A:$A,0))) | L40: =IF(ISNA(INDEX(Import!L:L,MATCH($A40,Import!$A:$A,0))),"",INDEX(Import!L:L,MATCH($A40,Import!$A:$A,0))) | M40: =IF(ISNA(INDEX(Import!M:M,MATCH($A40,Import!$A:$A,0))),"",INDEX(Import!M:M,MATCH($A40,Import!$A:$A,0))) | N40: =IF(ISNA(INDEX(Import!N:N,MATCH($A40,Import!$A:$A,0))),"",INDEX(Import!N:N,MATCH($A40,Import!$A:$A,0))) | O40: =IF(ISNA(INDEX(Import!O:O,MATCH($A40,Import!$A:$A,0))),"",INDEX(Import!O:O,MATCH($A40,Import!$A:$A,0))) | P40: =IF(ISNA(INDEX(Import!P:P,MATCH($A40,Import!$A:$A,0))),"",INDEX(Import!P:P,MATCH($A40,Import!$A:$A,0))) | Q40: =IF(ISNA(INDEX(Import!Q:Q,MATCH($A40,Import!$A:$A,0))),"",INDEX(Import!Q:Q,MATCH($A40,Import!$A:$A,0))) | R40: =IF(ISNA(INDEX(Import!R:R,MATCH($A40,Import!$A:$A,0))),"",INDEX(Import!R:R,MATCH($A40,Import!$A:$A,0))) | S40: =IF(ISNA(INDEX(Import!S:S,MATCH($A40,Import!$A:$A,0))),"",INDEX(Import!S:S,MATCH($A40,Import!$A:$A,0))) | T40: =IF(ISNA(INDEX(Import!T:T,MATCH($A40,Import!$A:$A,0))),"",INDEX(Import!T:T,MATCH($A40,Import!$A:$A,0))) | U40: =IF(ISNA(INDEX(Import!U:U,MATCH($A40,Import!$A:$A,0))),"",INDEX(Import!U:U,MATCH($A40,Import!$A:$A,0))) | V40: =IF(ISNA(INDEX(Import!V:V,MATCH($A40,Import!$A:$A,0))),"",INDEX(Import!V:V,MATCH($A40,Import!$A:$A,0))) | W40: =IF(ISNA(INDEX(Import!W:W,MATCH($A40,Import!$A:$A,0))),"",INDEX(Import!W:W,MATCH($A40,Import!$A:$A,0))) | X40: =IF(ISNA(INDEX(Import!X:X,MATCH($A40,Import!$A:$A,0))),"",INDEX(Import!X:X,MATCH($A40,Import!$A:$A,0))) | Y40: =IF(ISNA(INDEX(Import!Y:Y,MATCH($A40,Import!$A:$A,0))),"",INDEX(Import!Y:Y,MATCH($A40,Import!$A:$A,0))) | Z40: =IF(ISNA(INDEX(Import!Z:Z,MATCH($A40,Import!$A:$A,0))),"",INDEX(Import!Z:Z,MATCH($A40,Import!$A:$A,0))) | AA40: =IF(ISNA(INDEX(Import!AA:AA,MATCH($A40,Import!$A:$A,0))),"",INDEX(Import!AA:AA,MATCH($A40,Import!$A:$A,0))) | AB40: =IF(ISNA(INDEX(Import!AB:AB,MATCH($A40,Import!$A:$A,0))),"",INDEX(Import!AB:AB,MATCH($A40,Import!$A:$A,0))) | AC40: =IF(ISNA(INDEX(Import!AC:AC,MATCH($A40,Import!$A:$A,0))),"",INDEX(Import!AC:AC,MATCH($A40,Import!$A:$A,0))) | AD40: =IF(ISNA(INDEX(Import!AD:AD,MATCH($A40,Import!$A:$A,0))),"",INDEX(Import!AD:AD,MATCH($A40,Import!$A:$A,0))) | AE40: =IF(ISNA(INDEX(Import!AE:AE,MATCH($A40,Import!$A:$A,0))),"",INDEX(Import!AE:AE,MATCH($A40,Import!$A:$A,0))) | AF40: =IF(ISNA(INDEX(Import!AF:AF,MATCH($A40,Import!$A:$A,0))),"",INDEX(Import!AF:AF,MATCH($A40,Import!$A:$A,0))) | AG40: =IF(ISNA(INDEX(Import!AG:AG,MATCH($A40,Import!$A:$A,0))),"",INDEX(Import!AG:AG,MATCH($A40,Import!$A:$A,0))) | AH40: =IF(ISNA(INDEX(Import!AH:AH,MATCH($A40,Import!$A:$A,0))),"",INDEX(Import!AH:AH,MATCH($A40,Import!$A:$A,0))) | AI40: =IF(ISNA(INDEX(Import!AI:AI,MATCH($A40,Import!$A:$A,0))),"",INDEX(Import!AI:AI,MATCH($A40,Import!$A:$A,0))) | AJ40: =IF(ISNA(INDEX(Import!AJ:AJ,MATCH($A40,Import!$A:$A,0))),"",INDEX(Import!AJ:AJ,MATCH($A40,Import!$A:$A,0)))
A41: {=IF(ROWS($3:40)<=COUNTIF(Import!$AO:$AO,"MERCURE"),INDEX(Import!A:A,SMALL(IF(Import!$AO:$AO="MERCURE",ROW(INDIRECT("1:"&ROWS(Import!$AO:$AO)))),ROWS($3:40))),"")} | B41: =IF(ISNA(INDEX(Import!B:B,MATCH($A41,Import!$A:$A,0))),"",INDEX(Import!B:B,MATCH($A41,Import!$A:$A,0))) | C41: =IF(ISNA(INDEX(Import!C:C,MATCH($A41,Import!$A:$A,0))),"",INDEX(Import!C:C,MATCH($A41,Import!$A:$A,0))) | D41: =IF(ISNA(INDEX(Import!D:D,MATCH($A41,Import!$A:$A,0))),"",INDEX(Import!D:D,MATCH($A41,Import!$A:$A,0))) | E41: =IF(ISNA(INDEX(Import!E:E,MATCH($A41,Import!$A:$A,0))),"",INDEX(Import!E:E,MATCH($A41,Import!$A:$A,0))) | F41: =IF(ISNA(INDEX(Import!F:F,MATCH($A41,Import!$A:$A,0))),"",INDEX(Import!F:F,MATCH($A41,Import!$A:$A,0))) | G41: =IF(ISNA(INDEX(Import!G:G,MATCH($A41,Import!$A:$A,0))),"",INDEX(Import!G:G,MATCH($A41,Import!$A:$A,0))) | H41: =IF(ISNA(INDEX(Import!H:H,MATCH($A41,Import!$A:$A,0))),"",INDEX(Import!H:H,MATCH($A41,Import!$A:$A,0))) | I41: =IF(ISNA(INDEX(Import!I:I,MATCH($A41,Import!$A:$A,0))),"",INDEX(Import!I:I,MATCH($A41,Import!$A:$A,0))) | J41: =IF(ISNA(INDEX(Import!J:J,MATCH($A41,Import!$A:$A,0))),"",INDEX(Import!J:J,MATCH($A41,Import!$A:$A,0))) | K41: =IF(ISNA(INDEX(Import!K:K,MATCH($A41,Import!$A:$A,0))),"",INDEX(Import!K:K,MATCH($A41,Import!$A:$A,0))) | L41: =IF(ISNA(INDEX(Import!L:L,MATCH($A41,Import!$A:$A,0))),"",INDEX(Import!L:L,MATCH($A41,Import!$A:$A,0))) | M41: =IF(ISNA(INDEX(Import!M:M,MATCH($A41,Import!$A:$A,0))),"",INDEX(Import!M:M,MATCH($A41,Import!$A:$A,0))) | N41: =IF(ISNA(INDEX(Import!N:N,MATCH($A41,Import!$A:$A,0))),"",INDEX(Import!N:N,MATCH($A41,Import!$A:$A,0))) | O41: =IF(ISNA(INDEX(Import!O:O,MATCH($A41,Import!$A:$A,0))),"",INDEX(Import!O:O,MATCH($A41,Import!$A:$A,0))) | P41: =IF(ISNA(INDEX(Import!P:P,MATCH($A41,Import!$A:$A,0))),"",INDEX(Import!P:P,MATCH($A41,Import!$A:$A,0))) | Q41: =IF(ISNA(INDEX(Import!Q:Q,MATCH($A41,Import!$A:$A,0))),"",INDEX(Import!Q:Q,MATCH($A41,Import!$A:$A,0))) | R41: =IF(ISNA(INDEX(Import!R:R,MATCH($A41,Import!$A:$A,0))),"",INDEX(Import!R:R,MATCH($A41,Import!$A:$A,0))) | S41: =IF(ISNA(INDEX(Import!S:S,MATCH($A41,Import!$A:$A,0))),"",INDEX(Import!S:S,MATCH($A41,Import!$A:$A,0))) | T41: =IF(ISNA(INDEX(Import!T:T,MATCH($A41,Import!$A:$A,0))),"",INDEX(Import!T:T,MATCH($A41,Import!$A:$A,0))) | U41: =IF(ISNA(INDEX(Import!U:U,MATCH($A41,Import!$A:$A,0))),"",INDEX(Import!U:U,MATCH($A41,Import!$A:$A,0))) | V41: =IF(ISNA(INDEX(Import!V:V,MATCH($A41,Import!$A:$A,0))),"",INDEX(Import!V:V,MATCH($A41,Import!$A:$A,0))) | W41: =IF(ISNA(INDEX(Import!W:W,MATCH($A41,Import!$A:$A,0))),"",INDEX(Import!W:W,MATCH($A41,Import!$A:$A,0))) | X41: =IF(ISNA(INDEX(Import!X:X,MATCH($A41,Import!$A:$A,0))),"",INDEX(Import!X:X,MATCH($A41,Import!$A:$A,0))) | Y41: =IF(ISNA(INDEX(Import!Y:Y,MATCH($A41,Import!$A:$A,0))),"",INDEX(Import!Y:Y,MATCH($A41,Import!$A:$A,0))) | Z41: =IF(ISNA(INDEX(Import!Z:Z,MATCH($A41,Import!$A:$A,0))),"",INDEX(Import!Z:Z,MATCH($A41,Import!$A:$A,0))) | AA41: =IF(ISNA(INDEX(Import!AA:AA,MATCH($A41,Import!$A:$A,0))),"",INDEX(Import!AA:AA,MATCH($A41,Import!$A:$A,0))) | AB41: =IF(ISNA(INDEX(Import!AB:AB,MATCH($A41,Import!$A:$A,0))),"",INDEX(Import!AB:AB,MATCH($A41,Import!$A:$A,0))) | AC41: =IF(ISNA(INDEX(Import!AC:AC,MATCH($A41,Import!$A:$A,0))),"",INDEX(Import!AC:AC,MATCH($A41,Import!$A:$A,0))) | AD41: =IF(ISNA(INDEX(Import!AD:AD,MATCH($A41,Import!$A:$A,0))),"",INDEX(Import!AD:AD,MATCH($A41,Import!$A:$A,0))) | AE41: =IF(ISNA(INDEX(Import!AE:AE,MATCH($A41,Import!$A:$A,0))),"",INDEX(Import!AE:AE,MATCH($A41,Import!$A:$A,0))) | AF41: =IF(ISNA(INDEX(Import!AF:AF,MATCH($A41,Import!$A:$A,0))),"",INDEX(Import!AF:AF,MATCH($A41,Import!$A:$A,0))) | AG41: =IF(ISNA(INDEX(Import!AG:AG,MATCH($A41,Import!$A:$A,0))),"",INDEX(Import!AG:AG,MATCH($A41,Import!$A:$A,0))) | AH41: =IF(ISNA(INDEX(Import!AH:AH,MATCH($A41,Import!$A:$A,0))),"",INDEX(Import!AH:AH,MATCH($A41,Import!$A:$A,0))) | AI41: =IF(ISNA(INDEX(Import!AI:AI,MATCH($A41,Import!$A:$A,0))),"",INDEX(Import!AI:AI,MATCH($A41,Import!$A:$A,0))) | AJ41: =IF(ISNA(INDEX(Import!AJ:AJ,MATCH($A41,Import!$A:$A,0))),"",INDEX(Import!AJ:AJ,MATCH($A41,Import!$A:$A,0)))
A42: {=IF(ROWS($3:41)<=COUNTIF(Import!$AO:$AO,"MERCURE"),INDEX(Import!A:A,SMALL(IF(Import!$AO:$AO="MERCURE",ROW(INDIRECT("1:"&ROWS(Import!$AO:$AO)))),ROWS($3:41))),"")} | B42: =IF(ISNA(INDEX(Import!B:B,MATCH($A42,Import!$A:$A,0))),"",INDEX(Import!B:B,MATCH($A42,Import!$A:$A,0))) | C42: =IF(ISNA(INDEX(Import!C:C,MATCH($A42,Import!$A:$A,0))),"",INDEX(Import!C:C,MATCH($A42,Import!$A:$A,0))) | D42: =IF(ISNA(INDEX(Import!D:D,MATCH($A42,Import!$A:$A,0))),"",INDEX(Import!D:D,MATCH($A42,Import!$A:$A,0))) | E42: =IF(ISNA(INDEX(Import!E:E,MATCH($A42,Import!$A:$A,0))),"",INDEX(Import!E:E,MATCH($A42,Import!$A:$A,0))) | F42: =IF(ISNA(INDEX(Import!F:F,MATCH($A42,Import!$A:$A,0))),"",INDEX(Import!F:F,MATCH($A42,Import!$A:$A,0))) | G42: =IF(ISNA(INDEX(Import!G:G,MATCH($A42,Import!$A:$A,0))),"",INDEX(Import!G:G,MATCH($A42,Import!$A:$A,0))) | H42: =IF(ISNA(INDEX(Import!H:H,MATCH($A42,Import!$A:$A,0))),"",INDEX(Import!H:H,MATCH($A42,Import!$A:$A,0))) | I42: =IF(ISNA(INDEX(Import!I:I,MATCH($A42,Import!$A:$A,0))),"",INDEX(Import!I:I,MATCH($A42,Import!$A:$A,0))) | J42: =IF(ISNA(INDEX(Import!J:J,MATCH($A42,Import!$A:$A,0))),"",INDEX(Import!J:J,MATCH($A42,Import!$A:$A,0))) | K42: =IF(ISNA(INDEX(Import!K:K,MATCH($A42,Import!$A:$A,0))),"",INDEX(Import!K:K,MATCH($A42,Import!$A:$A,0))) | L42: =IF(ISNA(INDEX(Import!L:L,MATCH($A42,Import!$A:$A,0))),"",INDEX(Import!L:L,MATCH($A42,Import!$A:$A,0))) | M42: =IF(ISNA(INDEX(Import!M:M,MATCH($A42,Import!$A:$A,0))),"",INDEX(Import!M:M,MATCH($A42,Import!$A:$A,0))) | N42: =IF(ISNA(INDEX(Import!N:N,MATCH($A42,Import!$A:$A,0))),"",INDEX(Import!N:N,MATCH($A42,Import!$A:$A,0))) | O42: =IF(ISNA(INDEX(Import!O:O,MATCH($A42,Import!$A:$A,0))),"",INDEX(Import!O:O,MATCH($A42,Import!$A:$A,0))) | P42: =IF(ISNA(INDEX(Import!P:P,MATCH($A42,Import!$A:$A,0))),"",INDEX(Import!P:P,MATCH($A42,Import!$A:$A,0))) | Q42: =IF(ISNA(INDEX(Import!Q:Q,MATCH($A42,Import!$A:$A,0))),"",INDEX(Import!Q:Q,MATCH($A42,Import!$A:$A,0))) | R42: =IF(ISNA(INDEX(Import!R:R,MATCH($A42,Import!$A:$A,0))),"",INDEX(Import!R:R,MATCH($A42,Import!$A:$A,0))) | S42: =IF(ISNA(INDEX(Import!S:S,MATCH($A42,Import!$A:$A,0))),"",INDEX(Import!S:S,MATCH($A42,Import!$A:$A,0))) | T42: =IF(ISNA(INDEX(Import!T:T,MATCH($A42,Import!$A:$A,0))),"",INDEX(Import!T:T,MATCH($A42,Import!$A:$A,0))) | U42: =IF(ISNA(INDEX(Import!U:U,MATCH($A42,Import!$A:$A,0))),"",INDEX(Import!U:U,MATCH($A42,Import!$A:$A,0))) | V42: =IF(ISNA(INDEX(Import!V:V,MATCH($A42,Import!$A:$A,0))),"",INDEX(Import!V:V,MATCH($A42,Import!$A:$A,0))) | W42: =IF(ISNA(INDEX(Import!W:W,MATCH($A42,Import!$A:$A,0))),"",INDEX(Import!W:W,MATCH($A42,Import!$A:$A,0))) | X42: =IF(ISNA(INDEX(Import!X:X,MATCH($A42,Import!$A:$A,0))),"",INDEX(Import!X:X,MATCH($A42,Import!$A:$A,0))) | Y42: =IF(ISNA(INDEX(Import!Y:Y,MATCH($A42,Import!$A:$A,0))),"",INDEX(Import!Y:Y,MATCH($A42,Import!$A:$A,0))) | Z42: =IF(ISNA(INDEX(Import!Z:Z,MATCH($A42,Import!$A:$A,0))),"",INDEX(Import!Z:Z,MATCH($A42,Import!$A:$A,0))) | AA42: =IF(ISNA(INDEX(Import!AA:AA,MATCH($A42,Import!$A:$A,0))),"",INDEX(Import!AA:AA,MATCH($A42,Import!$A:$A,0))) | AB42: =IF(ISNA(INDEX(Import!AB:AB,MATCH($A42,Import!$A:$A,0))),"",INDEX(Import!AB:AB,MATCH($A42,Import!$A:$A,0))) | AC42: =IF(ISNA(INDEX(Import!AC:AC,MATCH($A42,Import!$A:$A,0))),"",INDEX(Import!AC:AC,MATCH($A42,Import!$A:$A,0))) | AD42: =IF(ISNA(INDEX(Import!AD:AD,MATCH($A42,Import!$A:$A,0))),"",INDEX(Import!AD:AD,MATCH($A42,Import!$A:$A,0))) | AE42: =IF(ISNA(INDEX(Import!AE:AE,MATCH($A42,Import!$A:$A,0))),"",INDEX(Import!AE:AE,MATCH($A42,Import!$A:$A,0))) | AF42: =IF(ISNA(INDEX(Import!AF:AF,MATCH($A42,Import!$A:$A,0))),"",INDEX(Import!AF:AF,MATCH($A42,Import!$A:$A,0))) | AG42: =IF(ISNA(INDEX(Import!AG:AG,MATCH($A42,Import!$A:$A,0))),"",INDEX(Import!AG:AG,MATCH($A42,Import!$A:$A,0))) | AH42: =IF(ISNA(INDEX(Import!AH:AH,MATCH($A42,Import!$A:$A,0))),"",INDEX(Import!AH:AH,MATCH($A42,Import!$A:$A,0))) | AI42: =IF(ISNA(INDEX(Import!AI:AI,MATCH($A42,Import!$A:$A,0))),"",INDEX(Import!AI:AI,MATCH($A42,Import!$A:$A,0))) | AJ42: =IF(ISNA(INDEX(Import!AJ:AJ,MATCH($A42,Import!$A:$A,0))),"",INDEX(Import!AJ:AJ,MATCH($A42,Import!$A:$A,0)))
A43: {=IF(ROWS($3:42)<=COUNTIF(Import!$AO:$AO,"MERCURE"),INDEX(Import!A:A,SMALL(IF(Import!$AO:$AO="MERCURE",ROW(INDIRECT("1:"&ROWS(Import!$AO:$AO)))),ROWS($3:42))),"")} | B43: =IF(ISNA(INDEX(Import!B:B,MATCH($A43,Import!$A:$A,0))),"",INDEX(Import!B:B,MATCH($A43,Import!$A:$A,0))) | C43: =IF(ISNA(INDEX(Import!C:C,MATCH($A43,Import!$A:$A,0))),"",INDEX(Import!C:C,MATCH($A43,Import!$A:$A,0))) | D43: =IF(ISNA(INDEX(Import!D:D,MATCH($A43,Import!$A:$A,0))),"",INDEX(Import!D:D,MATCH($A43,Import!$A:$A,0))) | E43: =IF(ISNA(INDEX(Import!E:E,MATCH($A43,Import!$A:$A,0))),"",INDEX(Import!E:E,MATCH($A43,Import!$A:$A,0))) | F43: =IF(ISNA(INDEX(Import!F:F,MATCH($A43,Import!$A:$A,0))),"",INDEX(Import!F:F,MATCH($A43,Import!$A:$A,0))) | G43: =IF(ISNA(INDEX(Import!G:G,MATCH($A43,Import!$A:$A,0))),"",INDEX(Import!G:G,MATCH($A43,Import!$A:$A,0))) | H43: =IF(ISNA(INDEX(Import!H:H,MATCH($A43,Import!$A:$A,0))),"",INDEX(Import!H:H,MATCH($A43,Import!$A:$A,0))) | I43: =IF(ISNA(INDEX(Import!I:I,MATCH($A43,Import!$A:$A,0))),"",INDEX(Import!I:I,MATCH($A43,Import!$A:$A,0))) | J43: =IF(ISNA(INDEX(Import!J:J,MATCH($A43,Import!$A:$A,0))),"",INDEX(Import!J:J,MATCH($A43,Import!$A:$A,0))) | K43: =IF(ISNA(INDEX(Import!K:K,MATCH($A43,Import!$A:$A,0))),"",INDEX(Import!K:K,MATCH($A43,Import!$A:$A,0))) | L43: =IF(ISNA(INDEX(Import!L:L,MATCH($A43,Import!$A:$A,0))),"",INDEX(Import!L:L,MATCH($A43,Import!$A:$A,0))) | M43: =IF(ISNA(INDEX(Import!M:M,MATCH($A43,Import!$A:$A,0))),"",INDEX(Import!M:M,MATCH($A43,Import!$A:$A,0))) | N43: =IF(ISNA(INDEX(Import!N:N,MATCH($A43,Import!$A:$A,0))),"",INDEX(Import!N:N,MATCH($A43,Import!$A:$A,0))) | O43: =IF(ISNA(INDEX(Import!O:O,MATCH($A43,Import!$A:$A,0))),"",INDEX(Import!O:O,MATCH($A43,Import!$A:$A,0))) | P43: =IF(ISNA(INDEX(Import!P:P,MATCH($A43,Import!$A:$A,0))),"",INDEX(Import!P:P,MATCH($A43,Import!$A:$A,0))) | Q43: =IF(ISNA(INDEX(Import!Q:Q,MATCH($A43,Import!$A:$A,0))),"",INDEX(Import!Q:Q,MATCH($A43,Import!$A:$A,0))) | R43: =IF(ISNA(INDEX(Import!R:R,MATCH($A43,Import!$A:$A,0))),"",INDEX(Import!R:R,MATCH($A43,Import!$A:$A,0))) | S43: =IF(ISNA(INDEX(Import!S:S,MATCH($A43,Import!$A:$A,0))),"",INDEX(Import!S:S,MATCH($A43,Import!$A:$A,0))) | T43: =IF(ISNA(INDEX(Import!T:T,MATCH($A43,Import!$A:$A,0))),"",INDEX(Import!T:T,MATCH($A43,Import!$A:$A,0))) | U43: =IF(ISNA(INDEX(Import!U:U,MATCH($A43,Import!$A:$A,0))),"",INDEX(Import!U:U,MATCH($A43,Import!$A:$A,0))) | V43: =IF(ISNA(INDEX(Import!V:V,MATCH($A43,Import!$A:$A,0))),"",INDEX(Import!V:V,MATCH($A43,Import!$A:$A,0))) | W43: =IF(ISNA(INDEX(Import!W:W,MATCH($A43,Import!$A:$A,0))),"",INDEX(Import!W:W,MATCH($A43,Import!$A:$A,0))) | X43: =IF(ISNA(INDEX(Import!X:X,MATCH($A43,Import!$A:$A,0))),"",INDEX(Import!X:X,MATCH($A43,Import!$A:$A,0))) | Y43: =IF(ISNA(INDEX(Import!Y:Y,MATCH($A43,Import!$A:$A,0))),"",INDEX(Import!Y:Y,MATCH($A43,Import!$A:$A,0))) | Z43: =IF(ISNA(INDEX(Import!Z:Z,MATCH($A43,Import!$A:$A,0))),"",INDEX(Import!Z:Z,MATCH($A43,Import!$A:$A,0))) | AA43: =IF(ISNA(INDEX(Import!AA:AA,MATCH($A43,Import!$A:$A,0))),"",INDEX(Import!AA:AA,MATCH($A43,Import!$A:$A,0))) | AB43: =IF(ISNA(INDEX(Import!AB:AB,MATCH($A43,Import!$A:$A,0))),"",INDEX(Import!AB:AB,MATCH($A43,Import!$A:$A,0))) | AC43: =IF(ISNA(INDEX(Import!AC:AC,MATCH($A43,Import!$A:$A,0))),"",INDEX(Import!AC:AC,MATCH($A43,Import!$A:$A,0))) | AD43: =IF(ISNA(INDEX(Import!AD:AD,MATCH($A43,Import!$A:$A,0))),"",INDEX(Import!AD:AD,MATCH($A43,Import!$A:$A,0))) | AE43: =IF(ISNA(INDEX(Import!AE:AE,MATCH($A43,Import!$A:$A,0))),"",INDEX(Import!AE:AE,MATCH($A43,Import!$A:$A,0))) | AF43: =IF(ISNA(INDEX(Import!AF:AF,MATCH($A43,Import!$A:$A,0))),"",INDEX(Import!AF:AF,MATCH($A43,Import!$A:$A,0))) | AG43: =IF(ISNA(INDEX(Import!AG:AG,MATCH($A43,Import!$A:$A,0))),"",INDEX(Import!AG:AG,MATCH($A43,Import!$A:$A,0))) | AH43: =IF(ISNA(INDEX(Import!AH:AH,MATCH($A43,Import!$A:$A,0))),"",INDEX(Import!AH:AH,MATCH($A43,Import!$A:$A,0))) | AI43: =IF(ISNA(INDEX(Import!AI:AI,MATCH($A43,Import!$A:$A,0))),"",INDEX(Import!AI:AI,MATCH($A43,Import!$A:$A,0))) | AJ43: =IF(ISNA(INDEX(Import!AJ:AJ,MATCH($A43,Import!$A:$A,0))),"",INDEX(Import!AJ:AJ,MATCH($A43,Import!$A:$A,0)))
A44: {=IF(ROWS($3:43)<=COUNTIF(Import!$AO:$AO,"MERCURE"),INDEX(Import!A:A,SMALL(IF(Import!$AO:$AO="MERCURE",ROW(INDIRECT("1:"&ROWS(Import!$AO:$AO)))),ROWS($3:43))),"")} | B44: =IF(ISNA(INDEX(Import!B:B,MATCH($A44,Import!$A:$A,0))),"",INDEX(Import!B:B,MATCH($A44,Import!$A:$A,0))) | C44: =IF(ISNA(INDEX(Import!C:C,MATCH($A44,Import!$A:$A,0))),"",INDEX(Import!C:C,MATCH($A44,Import!$A:$A,0))) | D44: =IF(ISNA(INDEX(Import!D:D,MATCH($A44,Import!$A:$A,0))),"",INDEX(Import!D:D,MATCH($A44,Import!$A:$A,0))) | E44: =IF(ISNA(INDEX(Import!E:E,MATCH($A44,Import!$A:$A,0))),"",INDEX(Import!E:E,MATCH($A44,Import!$A:$A,0))) | F44: =IF(ISNA(INDEX(Import!F:F,MATCH($A44,Import!$A:$A,0))),"",INDEX(Import!F:F,MATCH($A44,Import!$A:$A,0))) | G44: =IF(ISNA(INDEX(Import!G:G,MATCH($A44,Import!$A:$A,0))),"",INDEX(Import!G:G,MATCH($A44,Import!$A:$A,0))) | H44: =IF(ISNA(INDEX(Import!H:H,MATCH($A44,Import!$A:$A,0))),"",INDEX(Import!H:H,MATCH($A44,Import!$A:$A,0))) | I44: =IF(ISNA(INDEX(Import!I:I,MATCH($A44,Import!$A:$A,0))),"",INDEX(Import!I:I,MATCH($A44,Import!$A:$A,0))) | J44: =IF(ISNA(INDEX(Import!J:J,MATCH($A44,Import!$A:$A,0))),"",INDEX(Import!J:J,MATCH($A44,Import!$A:$A,0))) | K44: =IF(ISNA(INDEX(Import!K:K,MATCH($A44,Import!$A:$A,0))),"",INDEX(Import!K:K,MATCH($A44,Import!$A:$A,0))) | L44: =IF(ISNA(INDEX(Import!L:L,MATCH($A44,Import!$A:$A,0))),"",INDEX(Import!L:L,MATCH($A44,Import!$A:$A,0))) | M44: =IF(ISNA(INDEX(Import!M:M,MATCH($A44,Import!$A:$A,0))),"",INDEX(Import!M:M,MATCH($A44,Import!$A:$A,0))) | N44: =IF(ISNA(INDEX(Import!N:N,MATCH($A44,Import!$A:$A,0))),"",INDEX(Import!N:N,MATCH($A44,Import!$A:$A,0))) | O44: =IF(ISNA(INDEX(Import!O:O,MATCH($A44,Import!$A:$A,0))),"",INDEX(Import!O:O,MATCH($A44,Import!$A:$A,0))) | P44: =IF(ISNA(INDEX(Import!P:P,MATCH($A44,Import!$A:$A,0))),"",INDEX(Import!P:P,MATCH($A44,Import!$A:$A,0))) | Q44: =IF(ISNA(INDEX(Import!Q:Q,MATCH($A44,Import!$A:$A,0))),"",INDEX(Import!Q:Q,MATCH($A44,Import!$A:$A,0))) | R44: =IF(ISNA(INDEX(Import!R:R,MATCH($A44,Import!$A:$A,0))),"",INDEX(Import!R:R,MATCH($A44,Import!$A:$A,0))) | S44: =IF(ISNA(INDEX(Import!S:S,MATCH($A44,Import!$A:$A,0))),"",INDEX(Import!S:S,MATCH($A44,Import!$A:$A,0))) | T44: =IF(ISNA(INDEX(Import!T:T,MATCH($A44,Import!$A:$A,0))),"",INDEX(Import!T:T,MATCH($A44,Import!$A:$A,0))) | U44: =IF(ISNA(INDEX(Import!U:U,MATCH($A44,Import!$A:$A,0))),"",INDEX(Import!U:U,MATCH($A44,Import!$A:$A,0))) | V44: =IF(ISNA(INDEX(Import!V:V,MATCH($A44,Import!$A:$A,0))),"",INDEX(Import!V:V,MATCH($A44,Import!$A:$A,0))) | W44: =IF(ISNA(INDEX(Import!W:W,MATCH($A44,Import!$A:$A,0))),"",INDEX(Import!W:W,MATCH($A44,Import!$A:$A,0))) | X44: =IF(ISNA(INDEX(Import!X:X,MATCH($A44,Import!$A:$A,0))),"",INDEX(Import!X:X,MATCH($A44,Import!$A:$A,0))) | Y44: =IF(ISNA(INDEX(Import!Y:Y,MATCH($A44,Import!$A:$A,0))),"",INDEX(Import!Y:Y,MATCH($A44,Import!$A:$A,0))) | Z44: =IF(ISNA(INDEX(Import!Z:Z,MATCH($A44,Import!$A:$A,0))),"",INDEX(Import!Z:Z,MATCH($A44,Import!$A:$A,0))) | AA44: =IF(ISNA(INDEX(Import!AA:AA,MATCH($A44,Import!$A:$A,0))),"",INDEX(Import!AA:AA,MATCH($A44,Import!$A:$A,0))) | AB44: =IF(ISNA(INDEX(Import!AB:AB,MATCH($A44,Import!$A:$A,0))),"",INDEX(Import!AB:AB,MATCH($A44,Import!$A:$A,0))) | AC44: =IF(ISNA(INDEX(Import!AC:AC,MATCH($A44,Import!$A:$A,0))),"",INDEX(Import!AC:AC,MATCH($A44,Import!$A:$A,0))) | AD44: =IF(ISNA(INDEX(Import!AD:AD,MATCH($A44,Import!$A:$A,0))),"",INDEX(Import!AD:AD,MATCH($A44,Import!$A:$A,0))) | AE44: =IF(ISNA(INDEX(Import!AE:AE,MATCH($A44,Import!$A:$A,0))),"",INDEX(Import!AE:AE,MATCH($A44,Import!$A:$A,0))) | AF44: =IF(ISNA(INDEX(Import!AF:AF,MATCH($A44,Import!$A:$A,0))),"",INDEX(Import!AF:AF,MATCH($A44,Import!$A:$A,0))) | AG44: =IF(ISNA(INDEX(Import!AG:AG,MATCH($A44,Import!$A:$A,0))),"",INDEX(Import!AG:AG,MATCH($A44,Import!$A:$A,0))) | AH44: =IF(ISNA(INDEX(Import!AH:AH,MATCH($A44,Import!$A:$A,0))),"",INDEX(Import!AH:AH,MATCH($A44,Import!$A:$A,0))) | AI44: =IF(ISNA(INDEX(Import!AI:AI,MATCH($A44,Import!$A:$A,0))),"",INDEX(Import!AI:AI,MATCH($A44,Import!$A:$A,0))) | AJ44: =IF(ISNA(INDEX(Import!AJ:AJ,MATCH($A44,Import!$A:$A,0))),"",INDEX(Import!AJ:AJ,MATCH($A44,Import!$A:$A,0)))
A45: {=IF(ROWS($3:44)<=COUNTIF(Import!$AO:$AO,"MERCURE"),INDEX(Import!A:A,SMALL(IF(Import!$AO:$AO="MERCURE",ROW(INDIRECT("1:"&ROWS(Import!$AO:$AO)))),ROWS($3:44))),"")} | B45: =IF(ISNA(INDEX(Import!B:B,MATCH($A45,Import!$A:$A,0))),"",INDEX(Import!B:B,MATCH($A45,Import!$A:$A,0))) | C45: =IF(ISNA(INDEX(Import!C:C,MATCH($A45,Import!$A:$A,0))),"",INDEX(Import!C:C,MATCH($A45,Import!$A:$A,0))) | D45: =IF(ISNA(INDEX(Import!D:D,MATCH($A45,Import!$A:$A,0))),"",INDEX(Import!D:D,MATCH($A45,Import!$A:$A,0))) | E45: =IF(ISNA(INDEX(Import!E:E,MATCH($A45,Import!$A:$A,0))),"",INDEX(Import!E:E,MATCH($A45,Import!$A:$A,0))) | F45: =IF(ISNA(INDEX(Import!F:F,MATCH($A45,Import!$A:$A,0))),"",INDEX(Import!F:F,MATCH($A45,Import!$A:$A,0))) | G45: =IF(ISNA(INDEX(Import!G:G,MATCH($A45,Import!$A:$A,0))),"",INDEX(Import!G:G,MATCH($A45,Import!$A:$A,0))) | H45: =IF(ISNA(INDEX(Import!H:H,MATCH($A45,Import!$A:$A,0))),"",INDEX(Import!H:H,MATCH($A45,Import!$A:$A,0))) | I45: =IF(ISNA(INDEX(Import!I:I,MATCH($A45,Import!$A:$A,0))),"",INDEX(Import!I:I,MATCH($A45,Import!$A:$A,0))) | J45: =IF(ISNA(INDEX(Import!J:J,MATCH($A45,Import!$A:$A,0))),"",INDEX(Import!J:J,MATCH($A45,Import!$A:$A,0))) | K45: =IF(ISNA(INDEX(Import!K:K,MATCH($A45,Import!$A:$A,0))),"",INDEX(Import!K:K,MATCH($A45,Import!$A:$A,0))) | L45: =IF(ISNA(INDEX(Import!L:L,MATCH($A45,Import!$A:$A,0))),"",INDEX(Import!L:L,MATCH($A45,Import!$A:$A,0))) | M45: =IF(ISNA(INDEX(Import!M:M,MATCH($A45,Import!$A:$A,0))),"",INDEX(Import!M:M,MATCH($A45,Import!$A:$A,0))) | N45: =IF(ISNA(INDEX(Import!N:N,MATCH($A45,Import!$A:$A,0))),"",INDEX(Import!N:N,MATCH($A45,Import!$A:$A,0))) | O45: =IF(ISNA(INDEX(Import!O:O,MATCH($A45,Import!$A:$A,0))),"",INDEX(Import!O:O,MATCH($A45,Import!$A:$A,0))) | P45: =IF(ISNA(INDEX(Import!P:P,MATCH($A45,Import!$A:$A,0))),"",INDEX(Import!P:P,MATCH($A45,Import!$A:$A,0))) | Q45: =IF(ISNA(INDEX(Import!Q:Q,MATCH($A45,Import!$A:$A,0))),"",INDEX(Import!Q:Q,MATCH($A45,Import!$A:$A,0))) | R45: =IF(ISNA(INDEX(Import!R:R,MATCH($A45,Import!$A:$A,0))),"",INDEX(Import!R:R,MATCH($A45,Import!$A:$A,0))) | S45: =IF(ISNA(INDEX(Import!S:S,MATCH($A45,Import!$A:$A,0))),"",INDEX(Import!S:S,MATCH($A45,Import!$A:$A,0))) | T45: =IF(ISNA(INDEX(Import!T:T,MATCH($A45,Import!$A:$A,0))),"",INDEX(Import!T:T,MATCH($A45,Import!$A:$A,0))) | U45: =IF(ISNA(INDEX(Import!U:U,MATCH($A45,Import!$A:$A,0))),"",INDEX(Import!U:U,MATCH($A45,Import!$A:$A,0))) | V45: =IF(ISNA(INDEX(Import!V:V,MATCH($A45,Import!$A:$A,0))),"",INDEX(Import!V:V,MATCH($A45,Import!$A:$A,0))) | W45: =IF(ISNA(INDEX(Import!W:W,MATCH($A45,Import!$A:$A,0))),"",INDEX(Import!W:W,MATCH($A45,Import!$A:$A,0))) | X45: =IF(ISNA(INDEX(Import!X:X,MATCH($A45,Import!$A:$A,0))),"",INDEX(Import!X:X,MATCH($A45,Import!$A:$A,0))) | Y45: =IF(ISNA(INDEX(Import!Y:Y,MATCH($A45,Import!$A:$A,0))),"",INDEX(Import!Y:Y,MATCH($A45,Import!$A:$A,0))) | Z45: =IF(ISNA(INDEX(Import!Z:Z,MATCH($A45,Import!$A:$A,0))),"",INDEX(Import!Z:Z,MATCH($A45,Import!$A:$A,0))) | AA45: =IF(ISNA(INDEX(Import!AA:AA,MATCH($A45,Import!$A:$A,0))),"",INDEX(Import!AA:AA,MATCH($A45,Import!$A:$A,0))) | AB45: =IF(ISNA(INDEX(Import!AB:AB,MATCH($A45,Import!$A:$A,0))),"",INDEX(Import!AB:AB,MATCH($A45,Import!$A:$A,0))) | AC45: =IF(ISNA(INDEX(Import!AC:AC,MATCH($A45,Import!$A:$A,0))),"",INDEX(Import!AC:AC,MATCH($A45,Import!$A:$A,0))) | AD45: =IF(ISNA(INDEX(Import!AD:AD,MATCH($A45,Import!$A:$A,0))),"",INDEX(Import!AD:AD,MATCH($A45,Import!$A:$A,0))) | AE45: =IF(ISNA(INDEX(Import!AE:AE,MATCH($A45,Import!$A:$A,0))),"",INDEX(Import!AE:AE,MATCH($A45,Import!$A:$A,0))) | AF45: =IF(ISNA(INDEX(Import!AF:AF,MATCH($A45,Import!$A:$A,0))),"",INDEX(Import!AF:AF,MATCH($A45,Import!$A:$A,0))) | AG45: =IF(ISNA(INDEX(Import!AG:AG,MATCH($A45,Import!$A:$A,0))),"",INDEX(Import!AG:AG,MATCH($A45,Import!$A:$A,0))) | AH45: =IF(ISNA(INDEX(Import!AH:AH,MATCH($A45,Import!$A:$A,0))),"",INDEX(Import!AH:AH,MATCH($A45,Import!$A:$A,0))) | AI45: =IF(ISNA(INDEX(Import!AI:AI,MATCH($A45,Import!$A:$A,0))),"",INDEX(Import!AI:AI,MATCH($A45,Import!$A:$A,0))) | AJ45: =IF(ISNA(INDEX(Import!AJ:AJ,MATCH($A45,Import!$A:$A,0))),"",INDEX(Import!AJ:AJ,MATCH($A45,Import!$A:$A,0)))
A46: {=IF(ROWS($3:45)<=COUNTIF(Import!$AO:$AO,"MERCURE"),INDEX(Import!A:A,SMALL(IF(Import!$AO:$AO="MERCURE",ROW(INDIRECT("1:"&ROWS(Import!$AO:$AO)))),ROWS($3:45))),"")} | B46: =IF(ISNA(INDEX(Import!B:B,MATCH($A46,Import!$A:$A,0))),"",INDEX(Import!B:B,MATCH($A46,Import!$A:$A,0))) | C46: =IF(ISNA(INDEX(Import!C:C,MATCH($A46,Import!$A:$A,0))),"",INDEX(Import!C:C,MATCH($A46,Import!$A:$A,0))) | D46: =IF(ISNA(INDEX(Import!D:D,MATCH($A46,Import!$A:$A,0))),"",INDEX(Import!D:D,MATCH($A46,Import!$A:$A,0))) | E46: =IF(ISNA(INDEX(Import!E:E,MATCH($A46,Import!$A:$A,0))),"",INDEX(Import!E:E,MATCH($A46,Import!$A:$A,0))) | F46: =IF(ISNA(INDEX(Import!F:F,MATCH($A46,Import!$A:$A,0))),"",INDEX(Import!F:F,MATCH($A46,Import!$A:$A,0))) | G46: =IF(ISNA(INDEX(Import!G:G,MATCH($A46,Import!$A:$A,0))),"",INDEX(Import!G:G,MATCH($A46,Import!$A:$A,0))) | H46: =IF(ISNA(INDEX(Import!H:H,MATCH($A46,Import!$A:$A,0))),"",INDEX(Import!H:H,MATCH($A46,Import!$A:$A,0))) | I46: =IF(ISNA(INDEX(Import!I:I,MATCH($A46,Import!$A:$A,0))),"",INDEX(Import!I:I,MATCH($A46,Import!$A:$A,0))) | J46: =IF(ISNA(INDEX(Import!J:J,MATCH($A46,Import!$A:$A,0))),"",INDEX(Import!J:J,MATCH($A46,Import!$A:$A,0))) | K46: =IF(ISNA(INDEX(Import!K:K,MATCH($A46,Import!$A:$A,0))),"",INDEX(Import!K:K,MATCH($A46,Import!$A:$A,0))) | L46: =IF(ISNA(INDEX(Import!L:L,MATCH($A46,Import!$A:$A,0))),"",INDEX(Import!L:L,MATCH($A46,Import!$A:$A,0))) | M46: =IF(ISNA(INDEX(Import!M:M,MATCH($A46,Import!$A:$A,0))),"",INDEX(Import!M:M,MATCH($A46,Import!$A:$A,0))) | N46: =IF(ISNA(INDEX(Import!N:N,MATCH($A46,Import!$A:$A,0))),"",INDEX(Import!N:N,MATCH($A46,Import!$A:$A,0))) | O46: =IF(ISNA(INDEX(Import!O:O,MATCH($A46,Import!$A:$A,0))),"",INDEX(Import!O:O,MATCH($A46,Import!$A:$A,0))) | P46: =IF(ISNA(INDEX(Import!P:P,MATCH($A46,Import!$A:$A,0))),"",INDEX(Import!P:P,MATCH($A46,Import!$A:$A,0))) | Q46: =IF(ISNA(INDEX(Import!Q:Q,MATCH($A46,Import!$A:$A,0))),"",INDEX(Import!Q:Q,MATCH($A46,Import!$A:$A,0))) | R46: =IF(ISNA(INDEX(Import!R:R,MATCH($A46,Import!$A:$A,0))),"",INDEX(Import!R:R,MATCH($A46,Import!$A:$A,0))) | S46: =IF(ISNA(INDEX(Import!S:S,MATCH($A46,Import!$A:$A,0))),"",INDEX(Import!S:S,MATCH($A46,Import!$A:$A,0))) | T46: =IF(ISNA(INDEX(Import!T:T,MATCH($A46,Import!$A:$A,0))),"",INDEX(Import!T:T,MATCH($A46,Import!$A:$A,0))) | U46: =IF(ISNA(INDEX(Import!U:U,MATCH($A46,Import!$A:$A,0))),"",INDEX(Import!U:U,MATCH($A46,Import!$A:$A,0))) | V46: =IF(ISNA(INDEX(Import!V:V,MATCH($A46,Import!$A:$A,0))),"",INDEX(Import!V:V,MATCH($A46,Import!$A:$A,0))) | W46: =IF(ISNA(INDEX(Import!W:W,MATCH($A46,Import!$A:$A,0))),"",INDEX(Import!W:W,MATCH($A46,Import!$A:$A,0))) | X46: =IF(ISNA(INDEX(Import!X:X,MATCH($A46,Import!$A:$A,0))),"",INDEX(Import!X:X,MATCH($A46,Import!$A:$A,0))) | Y46: =IF(ISNA(INDEX(Import!Y:Y,MATCH($A46,Import!$A:$A,0))),"",INDEX(Import!Y:Y,MATCH($A46,Import!$A:$A,0))) | Z46: =IF(ISNA(INDEX(Import!Z:Z,MATCH($A46,Import!$A:$A,0))),"",INDEX(Import!Z:Z,MATCH($A46,Import!$A:$A,0))) | AA46: =IF(ISNA(INDEX(Import!AA:AA,MATCH($A46,Import!$A:$A,0))),"",INDEX(Import!AA:AA,MATCH($A46,Import!$A:$A,0))) | AB46: =IF(ISNA(INDEX(Import!AB:AB,MATCH($A46,Import!$A:$A,0))),"",INDEX(Import!AB:AB,MATCH($A46,Import!$A:$A,0))) | AC46: =IF(ISNA(INDEX(Import!AC:AC,MATCH($A46,Import!$A:$A,0))),"",INDEX(Import!AC:AC,MATCH($A46,Import!$A:$A,0))) | AD46: =IF(ISNA(INDEX(Import!AD:AD,MATCH($A46,Import!$A:$A,0))),"",INDEX(Import!AD:AD,MATCH($A46,Import!$A:$A,0))) | AE46: =IF(ISNA(INDEX(Import!AE:AE,MATCH($A46,Import!$A:$A,0))),"",INDEX(Import!AE:AE,MATCH($A46,Import!$A:$A,0))) | AF46: =IF(ISNA(INDEX(Import!AF:AF,MATCH($A46,Import!$A:$A,0))),"",INDEX(Import!AF:AF,MATCH($A46,Import!$A:$A,0))) | AG46: =IF(ISNA(INDEX(Import!AG:AG,MATCH($A46,Import!$A:$A,0))),"",INDEX(Import!AG:AG,MATCH($A46,Import!$A:$A,0))) | AH46: =IF(ISNA(INDEX(Import!AH:AH,MATCH($A46,Import!$A:$A,0))),"",INDEX(Import!AH:AH,MATCH($A46,Import!$A:$A,0))) | AI46: =IF(ISNA(INDEX(Import!AI:AI,MATCH($A46,Import!$A:$A,0))),"",INDEX(Import!AI:AI,MATCH($A46,Import!$A:$A,0))) | AJ46: =IF(ISNA(INDEX(Import!AJ:AJ,MATCH($A46,Import!$A:$A,0))),"",INDEX(Import!AJ:AJ,MATCH($A46,Import!$A:$A,0)))
A47: {=IF(ROWS($3:46)<=COUNTIF(Import!$AO:$AO,"MERCURE"),INDEX(Import!A:A,SMALL(IF(Import!$AO:$AO="MERCURE",ROW(INDIRECT("1:"&ROWS(Import!$AO:$AO)))),ROWS($3:46))),"")} | B47: =IF(ISNA(INDEX(Import!B:B,MATCH($A47,Import!$A:$A,0))),"",INDEX(Import!B:B,MATCH($A47,Import!$A:$A,0))) | C47: =IF(ISNA(INDEX(Import!C:C,MATCH($A47,Import!$A:$A,0))),"",INDEX(Import!C:C,MATCH($A47,Import!$A:$A,0))) | D47: =IF(ISNA(INDEX(Import!D:D,MATCH($A47,Import!$A:$A,0))),"",INDEX(Import!D:D,MATCH($A47,Import!$A:$A,0))) | E47: =IF(ISNA(INDEX(Import!E:E,MATCH($A47,Import!$A:$A,0))),"",INDEX(Import!E:E,MATCH($A47,Import!$A:$A,0))) | F47: =IF(ISNA(INDEX(Import!F:F,MATCH($A47,Import!$A:$A,0))),"",INDEX(Import!F:F,MATCH($A47,Import!$A:$A,0))) | G47: =IF(ISNA(INDEX(Import!G:G,MATCH($A47,Import!$A:$A,0))),"",INDEX(Import!G:G,MATCH($A47,Import!$A:$A,0))) | H47: =IF(ISNA(INDEX(Import!H:H,MATCH($A47,Import!$A:$A,0))),"",INDEX(Import!H:H,MATCH($A47,Import!$A:$A,0))) | I47: =IF(ISNA(INDEX(Import!I:I,MATCH($A47,Import!$A:$A,0))),"",INDEX(Import!I:I,MATCH($A47,Import!$A:$A,0))) | J47: =IF(ISNA(INDEX(Import!J:J,MATCH($A47,Import!$A:$A,0))),"",INDEX(Import!J:J,MATCH($A47,Import!$A:$A,0))) | K47: =IF(ISNA(INDEX(Import!K:K,MATCH($A47,Import!$A:$A,0))),"",INDEX(Import!K:K,MATCH($A47,Import!$A:$A,0))) | L47: =IF(ISNA(INDEX(Import!L:L,MATCH($A47,Import!$A:$A,0))),"",INDEX(Import!L:L,MATCH($A47,Import!$A:$A,0))) | M47: =IF(ISNA(INDEX(Import!M:M,MATCH($A47,Import!$A:$A,0))),"",INDEX(Import!M:M,MATCH($A47,Import!$A:$A,0))) | N47: =IF(ISNA(INDEX(Import!N:N,MATCH($A47,Import!$A:$A,0))),"",INDEX(Import!N:N,MATCH($A47,Import!$A:$A,0))) | O47: =IF(ISNA(INDEX(Import!O:O,MATCH($A47,Import!$A:$A,0))),"",INDEX(Import!O:O,MATCH($A47,Import!$A:$A,0))) | P47: =IF(ISNA(INDEX(Import!P:P,MATCH($A47,Import!$A:$A,0))),"",INDEX(Import!P:P,MATCH($A47,Import!$A:$A,0))) | Q47: =IF(ISNA(INDEX(Import!Q:Q,MATCH($A47,Import!$A:$A,0))),"",INDEX(Import!Q:Q,MATCH($A47,Import!$A:$A,0))) | R47: =IF(ISNA(INDEX(Import!R:R,MATCH($A47,Import!$A:$A,0))),"",INDEX(Import!R:R,MATCH($A47,Import!$A:$A,0))) | S47: =IF(ISNA(INDEX(Import!S:S,MATCH($A47,Import!$A:$A,0))),"",INDEX(Import!S:S,MATCH($A47,Import!$A:$A,0))) | T47: =IF(ISNA(INDEX(Import!T:T,MATCH($A47,Import!$A:$A,0))),"",INDEX(Import!T:T,MATCH($A47,Import!$A:$A,0))) | U47: =IF(ISNA(INDEX(Import!U:U,MATCH($A47,Import!$A:$A,0))),"",INDEX(Import!U:U,MATCH($A47,Import!$A:$A,0))) | V47: =IF(ISNA(INDEX(Import!V:V,MATCH($A47,Import!$A:$A,0))),"",INDEX(Import!V:V,MATCH($A47,Import!$A:$A,0))) | W47: =IF(ISNA(INDEX(Import!W:W,MATCH($A47,Import!$A:$A,0))),"",INDEX(Import!W:W,MATCH($A47,Import!$A:$A,0))) | X47: =IF(ISNA(INDEX(Import!X:X,MATCH($A47,Import!$A:$A,0))),"",INDEX(Import!X:X,MATCH($A47,Import!$A:$A,0))) | Y47: =IF(ISNA(INDEX(Import!Y:Y,MATCH($A47,Import!$A:$A,0))),"",INDEX(Import!Y:Y,MATCH($A47,Import!$A:$A,0))) | Z47: =IF(ISNA(INDEX(Import!Z:Z,MATCH($A47,Import!$A:$A,0))),"",INDEX(Import!Z:Z,MATCH($A47,Import!$A:$A,0))) | AA47: =IF(ISNA(INDEX(Import!AA:AA,MATCH($A47,Import!$A:$A,0))),"",INDEX(Import!AA:AA,MATCH($A47,Import!$A:$A,0))) | AB47: =IF(ISNA(INDEX(Import!AB:AB,MATCH($A47,Import!$A:$A,0))),"",INDEX(Import!AB:AB,MATCH($A47,Import!$A:$A,0))) | AC47: =IF(ISNA(INDEX(Import!AC:AC,MATCH($A47,Import!$A:$A,0))),"",INDEX(Import!AC:AC,MATCH($A47,Import!$A:$A,0))) | AD47: =IF(ISNA(INDEX(Import!AD:AD,MATCH($A47,Import!$A:$A,0))),"",INDEX(Import!AD:AD,MATCH($A47,Import!$A:$A,0))) | AE47: =IF(ISNA(INDEX(Import!AE:AE,MATCH($A47,Import!$A:$A,0))),"",INDEX(Import!AE:AE,MATCH($A47,Import!$A:$A,0))) | AF47: =IF(ISNA(INDEX(Import!AF:AF,MATCH($A47,Import!$A:$A,0))),"",INDEX(Import!AF:AF,MATCH($A47,Import!$A:$A,0))) | AG47: =IF(ISNA(INDEX(Import!AG:AG,MATCH($A47,Import!$A:$A,0))),"",INDEX(Import!AG:AG,MATCH($A47,Import!$A:$A,0))) | AH47: =IF(ISNA(INDEX(Import!AH:AH,MATCH($A47,Import!$A:$A,0))),"",INDEX(Import!AH:AH,MATCH($A47,Import!$A:$A,0))) | AI47: =IF(ISNA(INDEX(Import!AI:AI,MATCH($A47,Import!$A:$A,0))),"",INDEX(Import!AI:AI,MATCH($A47,Import!$A:$A,0))) | AJ47: =IF(ISNA(INDEX(Import!AJ:AJ,MATCH($A47,Import!$A:$A,0))),"",INDEX(Import!AJ:AJ,MATCH($A47,Import!$A:$A,0)))
A48: {=IF(ROWS($3:47)<=COUNTIF(Import!$AO:$AO,"MERCURE"),INDEX(Import!A:A,SMALL(IF(Import!$AO:$AO="MERCURE",ROW(INDIRECT("1:"&ROWS(Import!$AO:$AO)))),ROWS($3:47))),"")} | B48: =IF(ISNA(INDEX(Import!B:B,MATCH($A48,Import!$A:$A,0))),"",INDEX(Import!B:B,MATCH($A48,Import!$A:$A,0))) | C48: =IF(ISNA(INDEX(Import!C:C,MATCH($A48,Import!$A:$A,0))),"",INDEX(Import!C:C,MATCH($A48,Import!$A:$A,0))) | D48: =IF(ISNA(INDEX(Import!D:D,MATCH($A48,Import!$A:$A,0))),"",INDEX(Import!D:D,MATCH($A48,Import!$A:$A,0))) | E48: =IF(ISNA(INDEX(Import!E:E,MATCH($A48,Import!$A:$A,0))),"",INDEX(Import!E:E,MATCH($A48,Import!$A:$A,0))) | F48: =IF(ISNA(INDEX(Import!F:F,MATCH($A48,Import!$A:$A,0))),"",INDEX(Import!F:F,MATCH($A48,Import!$A:$A,0))) | G48: =IF(ISNA(INDEX(Import!G:G,MATCH($A48,Import!$A:$A,0))),"",INDEX(Import!G:G,MATCH($A48,Import!$A:$A,0))) | H48: =IF(ISNA(INDEX(Import!H:H,MATCH($A48,Import!$A:$A,0))),"",INDEX(Import!H:H,MATCH($A48,Import!$A:$A,0))) | I48: =IF(ISNA(INDEX(Import!I:I,MATCH($A48,Import!$A:$A,0))),"",INDEX(Import!I:I,MATCH($A48,Import!$A:$A,0))) | J48: =IF(ISNA(INDEX(Import!J:J,MATCH($A48,Import!$A:$A,0))),"",INDEX(Import!J:J,MATCH($A48,Import!$A:$A,0))) | K48: =IF(ISNA(INDEX(Import!K:K,MATCH($A48,Import!$A:$A,0))),"",INDEX(Import!K:K,MATCH($A48,Import!$A:$A,0))) | L48: =IF(ISNA(INDEX(Import!L:L,MATCH($A48,Import!$A:$A,0))),"",INDEX(Import!L:L,MATCH($A48,Import!$A:$A,0))) | M48: =IF(ISNA(INDEX(Import!M:M,MATCH($A48,Import!$A:$A,0))),"",INDEX(Import!M:M,MATCH($A48,Import!$A:$A,0))) | N48: =IF(ISNA(INDEX(Import!N:N,MATCH($A48,Import!$A:$A,0))),"",INDEX(Import!N:N,MATCH($A48,Import!$A:$A,0))) | O48: =IF(ISNA(INDEX(Import!O:O,MATCH($A48,Import!$A:$A,0))),"",INDEX(Import!O:O,MATCH($A48,Import!$A:$A,0))) | P48: =IF(ISNA(INDEX(Import!P:P,MATCH($A48,Import!$A:$A,0))),"",INDEX(Import!P:P,MATCH($A48,Import!$A:$A,0))) | Q48: =IF(ISNA(INDEX(Import!Q:Q,MATCH($A48,Import!$A:$A,0))),"",INDEX(Import!Q:Q,MATCH($A48,Import!$A:$A,0))) | R48: =IF(ISNA(INDEX(Import!R:R,MATCH($A48,Import!$A:$A,0))),"",INDEX(Import!R:R,MATCH($A48,Import!$A:$A,0))) | S48: =IF(ISNA(INDEX(Import!S:S,MATCH($A48,Import!$A:$A,0))),"",INDEX(Import!S:S,MATCH($A48,Import!$A:$A,0))) | T48: =IF(ISNA(INDEX(Import!T:T,MATCH($A48,Import!$A:$A,0))),"",INDEX(Import!T:T,MATCH($A48,Import!$A:$A,0))) | U48: =IF(ISNA(INDEX(Import!U:U,MATCH($A48,Import!$A:$A,0))),"",INDEX(Import!U:U,MATCH($A48,Import!$A:$A,0))) | V48: =IF(ISNA(INDEX(Import!V:V,MATCH($A48,Import!$A:$A,0))),"",INDEX(Import!V:V,MATCH($A48,Import!$A:$A,0))) | W48: =IF(ISNA(INDEX(Import!W:W,MATCH($A48,Import!$A:$A,0))),"",INDEX(Import!W:W,MATCH($A48,Import!$A:$A,0))) | X48: =IF(ISNA(INDEX(Import!X:X,MATCH($A48,Import!$A:$A,0))),"",INDEX(Import!X:X,MATCH($A48,Import!$A:$A,0))) | Y48: =IF(ISNA(INDEX(Import!Y:Y,MATCH($A48,Import!$A:$A,0))),"",INDEX(Import!Y:Y,MATCH($A48,Import!$A:$A,0))) | Z48: =IF(ISNA(INDEX(Import!Z:Z,MATCH($A48,Import!$A:$A,0))),"",INDEX(Import!Z:Z,MATCH($A48,Import!$A:$A,0))) | AA48: =IF(ISNA(INDEX(Import!AA:AA,MATCH($A48,Import!$A:$A,0))),"",INDEX(Import!AA:AA,MATCH($A48,Import!$A:$A,0))) | AB48: =IF(ISNA(INDEX(Import!AB:AB,MATCH($A48,Import!$A:$A,0))),"",INDEX(Import!AB:AB,MATCH($A48,Import!$A:$A,0))) | AC48: =IF(ISNA(INDEX(Import!AC:AC,MATCH($A48,Import!$A:$A,0))),"",INDEX(Import!AC:AC,MATCH($A48,Import!$A:$A,0))) | AD48: =IF(ISNA(INDEX(Import!AD:AD,MATCH($A48,Import!$A:$A,0))),"",INDEX(Import!AD:AD,MATCH($A48,Import!$A:$A,0))) | AE48: =IF(ISNA(INDEX(Import!AE:AE,MATCH($A48,Import!$A:$A,0))),"",INDEX(Import!AE:AE,MATCH($A48,Import!$A:$A,0))) | AF48: =IF(ISNA(INDEX(Import!AF:AF,MATCH($A48,Import!$A:$A,0))),"",INDEX(Import!AF:AF,MATCH($A48,Import!$A:$A,0))) | AG48: =IF(ISNA(INDEX(Import!AG:AG,MATCH($A48,Import!$A:$A,0))),"",INDEX(Import!AG:AG,MATCH($A48,Import!$A:$A,0))) | AH48: =IF(ISNA(INDEX(Import!AH:AH,MATCH($A48,Import!$A:$A,0))),"",INDEX(Import!AH:AH,MATCH($A48,Import!$A:$A,0))) | AI48: =IF(ISNA(INDEX(Import!AI:AI,MATCH($A48,Import!$A:$A,0))),"",INDEX(Import!AI:AI,MATCH($A48,Import!$A:$A,0))) | AJ48: =IF(ISNA(INDEX(Import!AJ:AJ,MATCH($A48,Import!$A:$A,0))),"",INDEX(Import!AJ:AJ,MATCH($A48,Import!$A:$A,0)))
A49: {=IF(ROWS($3:48)<=COUNTIF(Import!$AO:$AO,"MERCURE"),INDEX(Import!A:A,SMALL(IF(Import!$AO:$AO="MERCURE",ROW(INDIRECT("1:"&ROWS(Import!$AO:$AO)))),ROWS($3:48))),"")} | B49: =IF(ISNA(INDEX(Import!B:B,MATCH($A49,Import!$A:$A,0))),"",INDEX(Import!B:B,MATCH($A49,Import!$A:$A,0))) | C49: =IF(ISNA(INDEX(Import!C:C,MATCH($A49,Import!$A:$A,0))),"",INDEX(Import!C:C,MATCH($A49,Import!$A:$A,0))) | D49: =IF(ISNA(INDEX(Import!D:D,MATCH($A49,Import!$A:$A,0))),"",INDEX(Import!D:D,MATCH($A49,Import!$A:$A,0))) | E49: =IF(ISNA(INDEX(Import!E:E,MATCH($A49,Import!$A:$A,0))),"",INDEX(Import!E:E,MATCH($A49,Import!$A:$A,0))) | F49: =IF(ISNA(INDEX(Import!F:F,MATCH($A49,Import!$A:$A,0))),"",INDEX(Import!F:F,MATCH($A49,Import!$A:$A,0))) | G49: =IF(ISNA(INDEX(Import!G:G,MATCH($A49,Import!$A:$A,0))),"",INDEX(Import!G:G,MATCH($A49,Import!$A:$A,0))) | H49: =IF(ISNA(INDEX(Import!H:H,MATCH($A49,Import!$A:$A,0))),"",INDEX(Import!H:H,MATCH($A49,Import!$A:$A,0))) | I49: =IF(ISNA(INDEX(Import!I:I,MATCH($A49,Import!$A:$A,0))),"",INDEX(Import!I:I,MATCH($A49,Import!$A:$A,0))) | J49: =IF(ISNA(INDEX(Import!J:J,MATCH($A49,Import!$A:$A,0))),"",INDEX(Import!J:J,MATCH($A49,Import!$A:$A,0))) | K49: =IF(ISNA(INDEX(Import!K:K,MATCH($A49,Import!$A:$A,0))),"",INDEX(Import!K:K,MATCH($A49,Import!$A:$A,0))) | L49: =IF(ISNA(INDEX(Import!L:L,MATCH($A49,Import!$A:$A,0))),"",INDEX(Import!L:L,MATCH($A49,Import!$A:$A,0))) | M49: =IF(ISNA(INDEX(Import!M:M,MATCH($A49,Import!$A:$A,0))),"",INDEX(Import!M:M,MATCH($A49,Import!$A:$A,0))) | N49: =IF(ISNA(INDEX(Import!N:N,MATCH($A49,Import!$A:$A,0))),"",INDEX(Import!N:N,MATCH($A49,Import!$A:$A,0))) | O49: =IF(ISNA(INDEX(Import!O:O,MATCH($A49,Import!$A:$A,0))),"",INDEX(Import!O:O,MATCH($A49,Import!$A:$A,0))) | P49: =IF(ISNA(INDEX(Import!P:P,MATCH($A49,Import!$A:$A,0))),"",INDEX(Import!P:P,MATCH($A49,Import!$A:$A,0))) | Q49: =IF(ISNA(INDEX(Import!Q:Q,MATCH($A49,Import!$A:$A,0))),"",INDEX(Import!Q:Q,MATCH($A49,Import!$A:$A,0))) | R49: =IF(ISNA(INDEX(Import!R:R,MATCH($A49,Import!$A:$A,0))),"",INDEX(Import!R:R,MATCH($A49,Import!$A:$A,0))) | S49: =IF(ISNA(INDEX(Import!S:S,MATCH($A49,Import!$A:$A,0))),"",INDEX(Import!S:S,MATCH($A49,Import!$A:$A,0))) | T49: =IF(ISNA(INDEX(Import!T:T,MATCH($A49,Import!$A:$A,0))),"",INDEX(Import!T:T,MATCH($A49,Import!$A:$A,0))) | U49: =IF(ISNA(INDEX(Import!U:U,MATCH($A49,Import!$A:$A,0))),"",INDEX(Import!U:U,MATCH($A49,Import!$A:$A,0))) | V49: =IF(ISNA(INDEX(Import!V:V,MATCH($A49,Import!$A:$A,0))),"",INDEX(Import!V:V,MATCH($A49,Import!$A:$A,0))) | W49: =IF(ISNA(INDEX(Import!W:W,MATCH($A49,Import!$A:$A,0))),"",INDEX(Import!W:W,MATCH($A49,Import!$A:$A,0))) | X49: =IF(ISNA(INDEX(Import!X:X,MATCH($A49,Import!$A:$A,0))),"",INDEX(Import!X:X,MATCH($A49,Import!$A:$A,0))) | Y49: =IF(ISNA(INDEX(Import!Y:Y,MATCH($A49,Import!$A:$A,0))),"",INDEX(Import!Y:Y,MATCH($A49,Import!$A:$A,0))) | Z49: =IF(ISNA(INDEX(Import!Z:Z,MATCH($A49,Import!$A:$A,0))),"",INDEX(Import!Z:Z,MATCH($A49,Import!$A:$A,0))) | AA49: =IF(ISNA(INDEX(Import!AA:AA,MATCH($A49,Import!$A:$A,0))),"",INDEX(Import!AA:AA,MATCH($A49,Import!$A:$A,0))) | AB49: =IF(ISNA(INDEX(Import!AB:AB,MATCH($A49,Import!$A:$A,0))),"",INDEX(Import!AB:AB,MATCH($A49,Import!$A:$A,0))) | AC49: =IF(ISNA(INDEX(Import!AC:AC,MATCH($A49,Import!$A:$A,0))),"",INDEX(Import!AC:AC,MATCH($A49,Import!$A:$A,0))) | AD49: =IF(ISNA(INDEX(Import!AD:AD,MATCH($A49,Import!$A:$A,0))),"",INDEX(Import!AD:AD,MATCH($A49,Import!$A:$A,0))) | AE49: =IF(ISNA(INDEX(Import!AE:AE,MATCH($A49,Import!$A:$A,0))),"",INDEX(Import!AE:AE,MATCH($A49,Import!$A:$A,0))) | AF49: =IF(ISNA(INDEX(Import!AF:AF,MATCH($A49,Import!$A:$A,0))),"",INDEX(Import!AF:AF,MATCH($A49,Import!$A:$A,0))) | AG49: =IF(ISNA(INDEX(Import!AG:AG,MATCH($A49,Import!$A:$A,0))),"",INDEX(Import!AG:AG,MATCH($A49,Import!$A:$A,0))) | AH49: =IF(ISNA(INDEX(Import!AH:AH,MATCH($A49,Import!$A:$A,0))),"",INDEX(Import!AH:AH,MATCH($A49,Import!$A:$A,0))) | AI49: =IF(ISNA(INDEX(Import!AI:AI,MATCH($A49,Import!$A:$A,0))),"",INDEX(Import!AI:AI,MATCH($A49,Import!$A:$A,0))) | AJ49: =IF(ISNA(INDEX(Import!AJ:AJ,MATCH($A49,Import!$A:$A,0))),"",INDEX(Import!AJ:AJ,MATCH($A49,Import!$A:$A,0)))
