Workbook

Sheet Import
A1: Nom Hôtel | B1: TO YTD N-1 (Indicateurs Topline) | C1: TO YTD N (Indicateurs Topline) | D1: TO YTD Var N/N-1 (Indicateurs Topline) | E1: Prix Moyen YTD N-1 (Indicateurs Topline) | F1: Prix Moyen YTD N (Indicateurs Topline) | G1: Prix Moyen YTD Var N/N-1 (Indicateurs Topline) | H1: RevPar YTD N-1 (Indicateurs Topline) | I1: RevPar YTD N (Indicateurs Topline) | J1: RevPar YTD Var N/N-1 (Indicateurs Topline) | K1: CA Total TTC YTD N-1 (K) (Indicateurs Topline) | L1: CA Total TTC YTD N (K) (Indicateurs Topline) | M1: CA Heb TTC (K) YTD Var N/N-1 (Indicateurs Topline) | N1: CA Heb TTC YTD N-1 (K) (Indicateurs Topline) | O1: CA Heb TTC YTD N (K) (Indicateurs Topline) | P1: CA Total TTC (K) YTD Var N/N-1 (Indicateurs Topline) | Q1: CA Booking YTD N-1 (Indicateurs Distribution) | R1: CA Booking YTD N (Indicateurs Distribution) | S1: Nb Ch. Booking YTD N-1 (Indicateurs Distribution) | T1: Nb Ch. Booking YTD N (Indicateurs Distribution) | U1: CA Web Accor YTD N-1 (Indicateurs Distribution) | V1: CA Web Accor YTD N (Indicateurs Distribution) | W1: Nb Ch. Web Accor YTD N-1 (Indicateurs Distribution) | X1: Nb Ch. Web Accor YTD N (Indicateurs Distribution) | Y1: Taux de Conformité Global Total N-1 (Indicateurs Qualité) | Z1: Taux de Conformité Global Total N (Indicateurs Qualité) | AA1: NPS Hôtel YTD (Indicateurs Qualité) | AB1: NPS Hôtel YTD Var N/N-1 (Indicateurs Qualité) | AC1: NPS Marque YTD (Indicateurs Qualité) | AD1: NPS Marque YTD Var N/N-1 (Indicateurs Qualité) | AE1: Trip advisor Score YTD N (Indicateurs Qualité) | AF1: Trip advisor Score YTD Var N/N-1 (Indicateurs Qualité) | AG1: TrustScore YTD N (Indicateurs Qualité) | AH1: TrustScore YTD Var N/N-1 (Indicateurs Qualité) | AI1: Nb Reviews YTD N (Indicateurs Qualité) | AJ1: Nb Reviews YTD Var N/N-1 (Indicateurs Qualité) | AK1: Marque | AL1: Devise (Indicateurs Topline) | AM1: Devise (Indicateurs Distribution) | AO1: Marque_2
A2: Hôtel Mercure 1 | B2: 52.84 | C2: 58.77 | D2: 5.93 | E2: 82.9 | F2: 84.32 | G2: 1.71 | H2: 43.8 | I2: 49.56 | J2: 13.15 | K2: 1077167.6 | L2: 1222895.8 | M2: 13.8 | N2: 906064.32 | O2: 1031056.7 | P2: 13.53 | Q2: 41412.8 | R2: 45426.25 | S2: 372 | T2: 369 | U2: 126902.65 | V2: 151455.85 | W2: 1200 | X2: 1275 | Y2: 84.62 | Z2: 82.69 | AA2: 30.2 | AB2: 2.11 | AC2: 33.06 | AD2: 1.6 | AE2: 70 | AF2: 0 | AG2: 75.08 | AH2: 3.54 | AI2: 53 | AJ2: -5 | AK2: MERCURE | AL2: euro | AM2: euro | AO2: =IF(AK2="MERCURE","MERCURE",IF(OR(AK2="NOVOTEL",AK2="SUITE NOVOTEL"),"NOVOTEL","")) -> MERCURE
A3: Hôtel Mercure 2 | B3: 52.7 | C3: 53.33 | D3: 0.63 | E3: 104.23 | F3: 109.15 | G3: 4.72 | H3: 54.93 | I3: 58.22 | J3: 5.99 | K3: 1565466.7 | L3: 1645788.5 | M3: 5.99 | N3: 1343287.2 | O3: 1423698.2 | P3: 5.13 | Q3: 121864 | R3: 93533.4 | S3: 1049 | T3: 783 | U3: 203067.6 | V3: 204470.82 | W3: 1778 | X3: 1716 | Y3: 97.77 | Z3: 93.74 | AA3: 50.47 | AB3: -3.25 | AC3: 46.28 | AD3: -2.58 | AE3: 90 | AF3: 0 | AG3: 85.58 | AH3: -1 | AI3: 274 | AJ3: -14 | AK3: MERCURE | AL3: euro | AM3: euro | AO3: =IF(AK3="MERCURE","MERCURE",IF(OR(AK3="NOVOTEL",AK3="SUITE NOVOTEL"),"NOVOTEL","")) -> MERCURE
A4: Novotel 1 | B4: 46.94 | C4: 57.07 | D4: 10.13 | E4: 73.29 | F4: 92.98 | G4: 26.87 | H4: 34.4 | I4: 53.07 | J4: 54.27 | K4: 214829.52 | L4: 4017080.3 | M4: 1841.81 | N4: 138659.58 | O4: 2692505.4 | P4: 1769.89 | Q4: 284734.04 | R4: 398520.29 | S4: 2600 | T4: 3778 | U4: 410644.88 | V4: 368183.99 | W4: 3867 | X4: 3222 | Y4: 93.2 | Z4: 92.54 | AA4: 1.01 | AB4: 10.24 | AC4: 24.18 | AD4: 7.94 | AE4: 60 | AF4: 0 | AG4: 68.42 | AH4: 0.83 | AI4: 433 | AJ4: 69 | AK4: NOVOTEL | AL4: euro | AM4: euro | AO4: =IF(AK4="MERCURE","MERCURE",IF(OR(AK4="NOVOTEL",AK4="SUITE NOVOTEL"),"NOVOTEL","")) -> NOVOTEL
A5: Novotel 2 | B5: 45.23 | C5: 53.1 | D5: 7.87 | E5: 91.06 | F5: 86.24 | G5: -5.29 | H5: 41.19 | I5: 45.79 | J5: 11.17 | K5: 2887493.4 | L5: 3152666.6 | M5: 11.17 | N5: 1683896.1 | O5: 1871929.3 | P5: 9.18 | Q5: 65813 | R5: 101677.29 | S5: 672 | T5: 1071 | U5: 308992.85 | V5: 374363.28 | W5: 3100 | X5: 4046 | Y5: 92.17 | Z5: 97.51 | AA5: 31.97 | AB5: 13.4 | AC5: 41.54 | AD5: 12.87 | AE5: 70 | AF5: 0 | AG5: 78.75 | AH5: 1.67 | AI5: 283 | AJ5: 104 | AK5: NOVOTEL | AL5: euro | AM5: euro | AO5: =IF(AK5="MERCURE","MERCURE",IF(OR(AK5="NOVOTEL",AK5="SUITE NOVOTEL"),"NOVOTEL","")) -> NOVOTEL
A6: Novotel 3 | B6: 72.39 | C6: 76.49 | D6: 4.1 | E6: 141.56 | F6: 146.42 | G6: 3.43 | H6: 102.48 | I6: 112 | J6: 9.29 | K6: 7636648.5 | L6: 8166135.9 | M6: 9.29 | N6: 5610557 | O6: 6131820.3 | P6: 6.93 | Q6: 554583 | R6: 683369.26 | S6: 3619 | T6: 4685 | U6: 892240.57 | V6: 899941.01 | W6: 5993 | X6: 5813 | Y6: 93.36 | Z6: 87.56 | AA6: 29.32 | AB6: 3.6 | AC6: 36.71 | AD6: 1.73 | AE6: 80 | AF6: 0 | AG6: 79.67 | AH6: 0.25 | AI6: 904 | AJ6: 144 | AK6: NOVOTEL | AL6: euro | AM6: euro | AO6: =IF(AK6="MERCURE","MERCURE",IF(OR(AK6="NOVOTEL",AK6="SUITE NOVOTEL"),"NOVOTEL","")) -> NOVOTEL
A7: Novotel 4 | B7: 67.44 | C7: 73.72 | D7: 6.28 | E7: 139.99 | F7: 138.36 | G7: -1.16 | H7: 94.42 | I7: 101.99 | J7: 8.02 | K7: 5135870.9 | L7: 5426639.3 | M7: 8.02 | N7: 3859762 | O7: 4169421.9 | P7: 5.66 | Q7: 125793.5 | R7: 144558.69 | S7: 906 | T7: 1208 | U7: 377777.28 | V7: 471161.44 | W7: 2788 | X7: 3516 | Y7: 94.03 | Z7: 89.69 | AA7: 9.52 | AB7: -7.3 | AC7: 23.43 | AD7: -13.95 | AE7: 70 | AF7: 0 | AG7: 73.83 | AH7: -1 | AI7: 253 | AJ7: 68 | AK7: NOVOTEL | AL7: euro | AM7: euro | AO7: =IF(AK7="MERCURE","MERCURE",IF(OR(AK7="NOVOTEL",AK7="SUITE NOVOTEL"),"NOVOTEL","")) -> NOVOTEL
A8: Novotel 5 | B8: 60.97 | C8: 64 | D8: 3.03 | E8: 92.84 | F8: 94.69 | G8: 1.99 | H8: 56.61 | I8: 60.6 | J8: 7.05 | K8: 4743321.4 | L8: 5014187.4 | M8: 7.05 | N8: 2624130 | O8: 2809256.6 | P8: 5.71 | Q8: 98101 | R8: 163945.7 | S8: 913 | T8: 1532 | U8: 553798.34 | V8: 620354.46 | W8: 5320 | X8: 5787 | Y8: 93.87 | Z8: 90.98 | AA8: 29.02 | AB8: 2.79 | AC8: 36.2 | AD8: 1.62 | AE8: 80 | AF8: 0 | AG8: 80 | AH8: 0.58 | AI8: 478 | AJ8: 46 | AK8: NOVOTEL | AL8: euro | AM8: euro | AO8: =IF(AK8="MERCURE","MERCURE",IF(OR(AK8="NOVOTEL",AK8="SUITE NOVOTEL"),"NOVOTEL","")) -> NOVOTEL
A9: Novotel 6 | B9: 66.3 | C9: 66.84 | D9: 0.54 | E9: 90.75 | F9: 97.2 | G9: 7.11 | H9: 60.17 | I9: 64.96 | J9: 7.96 | K9: 2738242.5 | L9: 2909124.5 | M9: 7.97 | N9: 1713001 | O9: 1849521.6 | P9: 6.24 | Q9: 59501.04 | R9: 115223.4 | S9: 535 | T9: 1163 | U9: 262104.97 | V9: 278311.21 | W9: 2546 | X9: 2810 | Y9: 96.08 | Z9: 86.38 | AA9: 13.32 | AB9: -1.11 | AC9: 24.13 | AD9: -4.07 | AE9: 70 | AF9: 0 | AG9: 74.25 | AH9: -1 | AI9: 187 | AJ9: 33 | AK9: NOVOTEL | AL9: euro | AM9: euro | AO9: =IF(AK9="MERCURE","MERCURE",IF(OR(AK9="NOVOTEL",AK9="SUITE NOVOTEL"),"NOVOTEL","")) -> NOVOTEL
A10: Novotel 7 | B10: 55.86 | C10: 61.53 | D10: 5.67 | E10: 108.77 | F10: 107.53 | G10: -1.14 | H10: 60.76 | I10: 66.16 | J10: 8.89 | K10: 2707217.6 | L10: 2884762.8 | M10: 8.89 | N10: 1751914.9 | O10: 1907733 | P10: 6.56 | Q10: 119606.68 | R10: 113672.85 | S10: 914 | T10: 862 | U10: 313869.54 | V10: 330506.94 | W10: 2625 | X10: 2647 | Y10: 97.9 | Z10: 92.48 | AA10: 12.72 | AB10: 20.3 | AC10: 28.35 | AD10: 9.41 | AE10: 70 | AF10: 0 | AG10: 75.33 | AH10: -0.92 | AI10: 198 | AJ10: -33 | AK10: NOVOTEL | AL10: euro | AM10: euro | AO10: =IF(AK10="MERCURE","MERCURE",IF(OR(AK10="NOVOTEL",AK10="SUITE NOVOTEL"),"NOVOTEL","")) -> NOVOTEL
A11: Suite Novotel 1 | B11: 62.91 | C11: 66.88 | D11: 3.97 | E11: 104.64 | F11: 101.63 | G11: -2.88 | H11: 65.83 | I11: 67.97 | J11: 3.25 | K11: 2295405.2 | L11: 2408167.1 | M11: 3.25 | N11: 1922175 | O11: 1984644 | P11: 4.91 | Q11: 413384.84 | R11: 442276.01 | S11: 3607 | T11: 4013 | U11: 510548.16 | V11: 519698.56 | W11: 4860 | X11: 4894 | Y11: 92.74 | Z11: 94.88 | AA11: 49.24 | AB11: -2.3 | AC11: 48.61 | AD11: -3.65 | AE11: 80 | AF11: 0 | AG11: 85.42 | AH11: 0.33 | AI11: 983 | AJ11: 99 | AK11: SUITE NOVOTEL | AL11: euro | AM11: euro | AO11: =IF(AK11="MERCURE","MERCURE",IF(OR(AK11="NOVOTEL",AK11="SUITE NOVOTEL"),"NOVOTEL","")) -> NOVOTEL
AO12: =IF(AK12="MERCURE","MERCURE",IF(OR(AK12="NOVOTEL",AK12="SUITE NOVOTEL"),"NOVOTEL",""))
AO13: =IF(AK13="MERCURE","MERCURE",IF(OR(AK13="NOVOTEL",AK13="SUITE NOVOTEL"),"NOVOTEL",""))
AO14: =IF(AK14="MERCURE","MERCURE",IF(OR(AK14="NOVOTEL",AK14="SUITE NOVOTEL"),"NOVOTEL",""))
AO15: =IF(AK15="MERCURE","MERCURE",IF(OR(AK15="NOVOTEL",AK15="SUITE NOVOTEL"),"NOVOTEL",""))
AO16: =IF(AK16="MERCURE","MERCURE",IF(OR(AK16="NOVOTEL",AK16="SUITE NOVOTEL"),"NOVOTEL",""))
AO17: =IF(AK17="MERCURE","MERCURE",IF(OR(AK17="NOVOTEL",AK17="SUITE NOVOTEL"),"NOVOTEL",""))
AO18: =IF(AK18="MERCURE","MERCURE",IF(OR(AK18="NOVOTEL",AK18="SUITE NOVOTEL"),"NOVOTEL",""))
AO19: =IF(AK19="MERCURE","MERCURE",IF(OR(AK19="NOVOTEL",AK19="SUITE NOVOTEL"),"NOVOTEL",""))
AO20: =IF(AK20="MERCURE","MERCURE",IF(OR(AK20="NOVOTEL",AK20="SUITE NOVOTEL"),"NOVOTEL",""))
AO21: =IF(AK21="MERCURE","MERCURE",IF(OR(AK21="NOVOTEL",AK21="SUITE NOVOTEL"),"NOVOTEL",""))
AO22: =IF(AK22="MERCURE","MERCURE",IF(OR(AK22="NOVOTEL",AK22="SUITE NOVOTEL"),"NOVOTEL",""))
AO23: =IF(AK23="MERCURE","MERCURE",IF(OR(AK23="NOVOTEL",AK23="SUITE NOVOTEL"),"NOVOTEL",""))
... AO337: =IF(AK337="MERCURE","MERCURE",IF(OR(AK337="NOVOTEL",AK337="SUITE NOVOTEL"),"NOVOTEL",""))

Sheet MERCURE
B1: TOPLINE | Q1: DISTRIBUTION | Y1: QUALITE
B2: TO | E2: PM | H2: Rev Par | K2: CA Hébergement TTC | N2: CA Total TTC | Q2: CA Booking | S2: Nb. Ch. Booking | U2: CA Web Accor | W2: Nb. Ch. Web Accor | Y2: Taux de conformité Global | AA2: NPS Hôtel | AC2: NPS Marque | AE2: Trip advisor Score | AG2: TrustScore | AI2: Nb Reviews
A3: Nom de l'Hôtel | B3: YTD N-1 | C3: YTD N | D3: YTD Var N/N-1 | E3: YTD N-1 | F3: YTD N | G3: YTD Var N/N-1 | H3: YTD N-1 | I3: YTD N | J3: YTD Var N/N-1 | K3: YTD N-1 | L3: YTD N | M3: YTD Var N/N-1 | N3: YTD N-1 | O3: YTD N | P3: YTD Var N/N-1 | Q3: YTD N-1 | R3: YTD N | S3: YTD N-1 | T3: YTD N | U3: YTD N-1 | V3: YTD N | W3: YTD N-1 | X3: YTD N | Y3: Avant-dernier rapport (%) | Z3: Dernier rapport (%) | AA3: YTD N | AB3: YTD Var N/N-1 | AC3: YTD N | AD3: YTD Var N/N-1 | AE3: YTD N | AF3: YTD Var N/N-1 | AG3: YTD N | AH3: YTD Var N/N-1 | AI3: YTD N | AJ3: YTD Var N/N-1
A4: {=IF(ROWS($3:3)<=COUNTIF(Import!$AO:$AO,"MERCURE"),INDEX(Import!A:A,SMALL(IF(Import!$AO:$AO="MERCURE",ROW(INDIRECT("1:"&ROWS(Import!$AO:$AO)))),ROWS($3:3))),"")} -> Hôtel Mercure 1 | B4: =IF(ISNA(INDEX(Import!B:B,MATCH($A4,Import!$A:$A,0))),"",INDEX(Import!B:B,MATCH($A4,Import!$A:$A,0))) -> 52.84 | C4: =IF(ISNA(INDEX(Import!C:C,MATCH($A4,Import!$A:$A,0))),"",INDEX(Import!C:C,MATCH($A4,Import!$A:$A,0))) -> 58.77 | D4: =IF(ISNA(INDEX(Import!D:D,MATCH($A4,Import!$A:$A,0))),"",INDEX(Import!D:D,MATCH($A4,Import!$A:$A,0))) -> 5.93 | E4: =IF(ISNA(INDEX(Import!E:E,MATCH($A4,Import!$A:$A,0))),"",INDEX(Import!E:E,MATCH($A4,Import!$A:$A,0))) -> 82.9 | F4: =IF(ISNA(INDEX(Import!F:F,MATCH($A4,Import!$A:$A,0))),"",INDEX(Import!F:F,MATCH($A4,Import!$A:$A,0))) -> 84.32 | G4: =IF(ISNA(INDEX(Import!G:G,MATCH($A4,Import!$A:$A,0))),"",INDEX(Import!G:G,MATCH($A4,Import!$A:$A,0))) -> 1.71 | H4: =IF(ISNA(INDEX(Import!H:H,MATCH($A4,Import!$A:$A,0))),"",INDEX(Import!H:H,MATCH($A4,Import!$A:$A,0))) -> 43.8 | I4: =IF(ISNA(INDEX(Import!I:I,MATCH($A4,Import!$A:$A,0))),"",INDEX(Import!I:I,MATCH($A4,Import!$A:$A,0))) -> 49.56 | J4: =IF(ISNA(INDEX(Import!J:J,MATCH($A4,Import!$A:$A,0))),"",INDEX(Import!J:J,MATCH($A4,Import!$A:$A,0))) -> 13.15 | K4: =IF(ISNA(INDEX(Import!K:K,MATCH($A4,Import!$A:$A,0))),"",INDEX(Import!K:K,MATCH($A4,Import!$A:$A,0))) -> 1077167.6 | L4: =IF(ISNA(INDEX(Import!L:L,MATCH($A4,Import!$A:$A,0))),"",INDEX(Import!L:L,MATCH($A4,Import!$A:$A,0))) -> 1222895.8 | M4: =IF(ISNA(INDEX(Import!M:M,MATCH($A4,Import!$A:$A,0))),"",INDEX(Import!M:M,MATCH($A4,Import!$A:$A,0))) -> 13.8 | N4: =IF(ISNA(INDEX(Import!N:N,MATCH($A4,Import!$A:$A,0))),"",INDEX(Import!N:N,MATCH($A4,Import!$A:$A,0))) -> 906064.32 | O4: =IF(ISNA(INDEX(Import!O:O,MATCH($A4,Import!$A:$A,0))),"",INDEX(Import!O:O,MATCH($A4,Import!$A:$A,0))) -> 1031056.7 | P4: =IF(ISNA(INDEX(Import!P:P,MATCH($A4,Import!$A:$A,0))),"",INDEX(Import!P:P,MATCH($A4,Import!$A:$A,0))) -> 13.53 | Q4: =IF(ISNA(INDEX(Import!Q:Q,MATCH($A4,Import!$A:$A,0))),"",INDEX(Import!Q:Q,MATCH($A4,Import!$A:$A,0))) -> 41412.8 | R4: =IF(ISNA(INDEX(Import!R:R,MATCH($A4,Import!$A:$A,0))),"",INDEX(Import!R:R,MATCH($A4,Import!$A:$A,0))) -> 45426.25 | S4: =IF(ISNA(INDEX(Import!S:S,MATCH($A4,Import!$A:$A,0))),"",INDEX(Import!S:S,MATCH($A4,Import!$A:$A,0))) -> 372 | T4: =IF(ISNA(INDEX(Import!T:T,MATCH($A4,Import!$A:$A,0))),"",INDEX(Import!T:T,MATCH($A4,Import!$A:$A,0))) -> 369 | U4: =IF(ISNA(INDEX(Import!U:U,MATCH($A4,Import!$A:$A,0))),"",INDEX(Import!U:U,MATCH($A4,Import!$A:$A,0))) -> 126902.65 | V4: =IF(ISNA(INDEX(Import!V:V,MATCH($A4,Import!$A:$A,0))),"",INDEX(Import!V:V,MATCH($A4,Import!$A:$A,0))) -> 151455.85 | W4: =IF(ISNA(INDEX(Import!W:W,MATCH($A4,Import!$A:$A,0))),"",INDEX(Import!W:W,MATCH($A4,Import!$A:$A,0))) -> 1200 | X4: =IF(ISNA(INDEX(Import!X:X,MATCH($A4,Import!$A:$A,0))),"",INDEX(Import!X:X,MATCH($A4,Import!$A:$A,0))) -> 1275 | Y4: =IF(ISNA(INDEX(Import!Y:Y,MATCH($A4,Import!$A:$A,0))),"",INDEX(Import!Y:Y,MATCH($A4,Import!$A:$A,0))) -> 84.62 | Z4: =IF(ISNA(INDEX(Import!Z:Z,MATCH($A4,Import!$A:$A,0))),"",INDEX(Import!Z:Z,MATCH($A4,Import!$A:$A,0))) -> 82.69 | AA4: =IF(ISNA(INDEX(Import!AA:AA,MATCH($A4,Import!$A:$A,0))),"",INDEX(Import!AA:AA,MATCH($A4,Import!$A:$A,0))) -> 30.2 | AB4: =IF(ISNA(INDEX(Import!AB:AB,MATCH($A4,Import!$A:$A,0))),"",INDEX(Import!AB:AB,MATCH($A4,Import!$A:$A,0))) -> 2.11 | AC4: =IF(ISNA(INDEX(Import!AC:AC,MATCH($A4,Import!$A:$A,0))),"",INDEX(Import!AC:AC,MATCH($A4,Import!$A:$A,0))) -> 33.06 | AD4: =IF(ISNA(INDEX(Import!AD:AD,MATCH($A4,Import!$A:$A,0))),"",INDEX(Import!AD:AD,MATCH($A4,Import!$A:$A,0))) -> 1.6 | AE4: =IF(ISNA(INDEX(Import!AE:AE,MATCH($A4,Import!$A:$A,0))),"",INDEX(Import!AE:AE,MATCH($A4,Import!$A:$A,0))) -> 70 | AF4: =IF(ISNA(INDEX(Import!AF:AF,MATCH($A4,Import!$A:$A,0))),"",INDEX(Import!AF:AF,MATCH($A4,Import!$A:$A,0))) -> 0 | AG4: =IF(ISNA(INDEX(Import!AG:AG,MATCH($A4,Import!$A:$A,0))),"",INDEX(Import!AG:AG,MATCH($A4,Import!$A:$A,0))) -> 75.08 | AH4: =IF(ISNA(INDEX(Import!AH:AH,MATCH($A4,Import!$A:$A,0))),"",INDEX(Import!AH:AH,MATCH($A4,Import!$A:$A,0))) -> 3.54 | AI4: =IF(ISNA(INDEX(Import!AI:AI,MATCH($A4,Import!$A:$A,0))),"",INDEX(Import!AI:AI,MATCH($A4,Import!$A:$A,0))) -> 53 | AJ4: =IF(ISNA(INDEX(Import!AJ:AJ,MATCH($A4,Import!$A:$A,0))),"",INDEX(Import!AJ:AJ,MATCH($A4,Import!$A:$A,0))) -> -5
A5: {=IF(ROWS($3:4)<=COUNTIF(Import!$AO:$AO,"MERCURE"),INDEX(Import!A:A,SMALL(IF(Import!$AO:$AO="MERCURE",ROW(INDIRECT("1:"&ROWS(Import!$AO:$AO)))),ROWS($3:4))),"")} -> Hôtel Mercure 2 | B5: =IF(ISNA(INDEX(Import!B:B,MATCH($A5,Import!$A:$A,0))),"",INDEX(Import!B:B,MATCH($A5,Import!$A:$A,0))) -> 52.7 | C5: =IF(ISNA(INDEX(Import!C:C,MATCH($A5,Import!$A:$A,0))),"",INDEX(Import!C:C,MATCH($A5,Import!$A:$A,0))) -> 53.33 | D5: =IF(ISNA(INDEX(Import!D:D,MATCH($A5,Import!$A:$A,0))),"",INDEX(Import!D:D,MATCH($A5,Import!$A:$A,0))) -> 0.63 | E5: =IF(ISNA(INDEX(Import!E:E,MATCH($A5,Import!$A:$A,0))),"",INDEX(Import!E:E,MATCH($A5,Import!$A:$A,0))) -> 104.23 | F5: =IF(ISNA(INDEX(Import!F:F,MATCH($A5,Import!$A:$A,0))),"",INDEX(Import!F:F,MATCH($A5,Import!$A:$A,0))) -> 109.15 | G5: =IF(ISNA(INDEX(Import!G:G,MATCH($A5,Import!$A:$A,0))),"",INDEX(Import!G:G,MATCH($A5,Import!$A:$A,0))) -> 4.72 | H5: =IF(ISNA(INDEX(Import!H:H,MATCH($A5,Import!$A:$A,0))),"",INDEX(Import!H:H,MATCH($A5,Import!$A:$A,0))) -> 54.93 | I5: =IF(ISNA(INDEX(Import!I:I,MATCH($A5,Import!$A:$A,0))),"",INDEX(Import!I:I,MATCH($A5,Import!$A:$A,0))) -> 58.22 | J5: =IF(ISNA(INDEX(Import!J:J,MATCH($A5,Import!$A:$A,0))),"",INDEX(Import!J:J,MATCH($A5,Import!$A:$A,0))) -> 5.99 | K5: =IF(ISNA(INDEX(Import!K:K,MATCH($A5,Import!$A:$A,0))),"",INDEX(Import!K:K,MATCH($A5,Import!$A:$A,0))) -> 1565466.7 | L5: =IF(ISNA(INDEX(Import!L:L,MATCH($A5,Import!$A:$A,0))),"",INDEX(Import!L:L,MATCH($A5,Import!$A:$A,0))) -> 1645788.5 | M5: =IF(ISNA(INDEX(Import!M:M,MATCH($A5,Import!$A:$A,0))),"",INDEX(Import!M:M,MATCH($A5,Import!$A:$A,0))) -> 5.99 | N5: =IF(ISNA(INDEX(Import!N:N,MATCH($A5,Import!$A:$A,0))),"",INDEX(Import!N:N,MATCH($A5,Import!$A:$A,0))) -> 1343287.2 | O5: =IF(ISNA(INDEX(Import!O:O,MATCH($A5,Import!$A:$A,0))),"",INDEX(Import!O:O,MATCH($A5,Import!$A:$A,0))) -> 1423698.2 | P5: =IF(ISNA(INDEX(Import!P:P,MATCH($A5,Import!$A:$A,0))),"",INDEX(Import!P:P,MATCH($A5,Import!$A:$A,0))) -> 5.13 | Q5: =IF(ISNA(INDEX(Import!Q:Q,MATCH($A5,Import!$A:$A,0))),"",INDEX(Import!Q:Q,MATCH($A5,Import!$A:$A,0))) -> 121864 | R5: =IF(ISNA(INDEX(Import!R:R,MATCH($A5,Import!$A:$A,0))),"",INDEX(Import!R:R,MATCH($A5,Import!$A:$A,0))) -> 93533.4 | S5: =IF(ISNA(INDEX(Import!S:S,MATCH($A5,Import!$A:$A,0))),"",INDEX(Import!S:S,MATCH($A5,Import!$A:$A,0))) -> 1049 | T5: =IF(ISNA(INDEX(Import!T:T,MATCH($A5,Import!$A:$A,0))),"",INDEX(Import!T:T,MATCH($A5,Import!$A:$A,0))) -> 783 | U5: =IF(ISNA(INDEX(Import!U:U,MATCH($A5,Import!$A:$A,0))),"",INDEX(Import!U:U,MATCH($A5,Import!$A:$A,0))) -> 203067.6 | V5: =IF(ISNA(INDEX(Import!V:V,MATCH($A5,Import!$A:$A,0))),"",INDEX(Import!V:V,MATCH($A5,Import!$A:$A,0))) -> 204470.82 | W5: =IF(ISNA(INDEX(Import!W:W,MATCH($A5,Import!$A:$A,0))),"",INDEX(Import!W:W,MATCH($A5,Import!$A:$A,0))) -> 1778 | X5: =IF(ISNA(INDEX(Import!X:X,MATCH($A5,Import!$A:$A,0))),"",INDEX(Import!X:X,MATCH($A5,Import!$A:$A,0))) -> 1716 | Y5: =IF(ISNA(INDEX(Import!Y:Y,MATCH($A5,Import!$A:$A,0))),"",INDEX(Import!Y:Y,MATCH($A5,Import!$A:$A,0))) -> 97.77 | Z5: =IF(ISNA(INDEX(Import!Z:Z,MATCH($A5,Import!$A:$A,0))),"",INDEX(Import!Z:Z,MATCH($A5,Import!$A:$A,0))) -> 93.74 | AA5: =IF(ISNA(INDEX(Import!AA:AA,MATCH($A5,Import!$A:$A,0))),"",INDEX(Import!AA:AA,MATCH($A5,Import!$A:$A,0))) -> 50.47 | AB5: =IF(ISNA(INDEX(Import!AB:AB,MATCH($A5,Import!$A:$A,0))),"",INDEX(Import!AB:AB,MATCH($A5,Import!$A:$A,0))) -> -3.25 | AC5: =IF(ISNA(INDEX(Import!AC:AC,MATCH($A5,Import!$A:$A,0))),"",INDEX(Import!AC:AC,MATCH($A5,Import!$A:$A,0))) -> 46.28 | AD5: =IF(ISNA(INDEX(Import!AD:AD,MATCH($A5,Import!$A:$A,0))),"",INDEX(Import!AD:AD,MATCH($A5,Import!$A:$A,0))) -> -2.58 | AE5: =IF(ISNA(INDEX(Import!AE:AE,MATCH($A5,Import!$A:$A,0))),"",INDEX(Import!AE:AE,MATCH($A5,Import!$A:$A,0))) -> 90 | AF5: =IF(ISNA(INDEX(Import!AF:AF,MATCH($A5,Import!$A:$A,0))),"",INDEX(Import!AF:AF,MATCH($A5,Import!$A:$A,0))) -> 0 | AG5: =IF(ISNA(INDEX(Import!AG:AG,MATCH($A5,Import!$A:$A,0))),"",INDEX(Import!AG:AG,MATCH($A5,Import!$A:$A,0))) -> 85.58 | AH5: =IF(ISNA(INDEX(Import!AH:AH,MATCH($A5,Import!$A:$A,0))),"",INDEX(Import!AH:AH,MATCH($A5,Import!$A:$A,0))) -> -1 | AI5: =IF(ISNA(INDEX(Import!AI:AI,MATCH($A5,Import!$A:$A,0))),"",INDEX(Import!AI:AI,MATCH($A5,Import!$A:$A,0))) -> 274 | AJ5: =IF(ISNA(INDEX(Import!AJ:AJ,MATCH($A5,Import!$A:$A,0))),"",INDEX(Import!AJ:AJ,MATCH($A5,Import!$A:$A,0))) -> -14
A6: {=IF(ROWS($3:5)<=COUNTIF(Import!$AO:$AO,"MERCURE"),INDEX(Import!A:A,SMALL(IF(Import!$AO:$AO="MERCURE",ROW(INDIRECT("1:"&ROWS(Import!$AO:$AO)))),ROWS($3:5))),"")} | B6: =IF(ISNA(INDEX(Import!B:B,MATCH($A6,Import!$A:$A,0))),"",INDEX(Import!B:B,MATCH($A6,Import!$A:$A,0))) | C6: =IF(ISNA(INDEX(Import!C:C,MATCH($A6,Import!$A:$A,0))),"",INDEX(Import!C:C,MATCH($A6,Import!$A:$A,0))) | D6: =IF(ISNA(INDEX(Import!D:D,MATCH($A6,Import!$A:$A,0))),"",INDEX(Import!D:D,MATCH($A6,Import!$A:$A,0))) | E6: =IF(ISNA(INDEX(Import!E:E,MATCH($A6,Import!$A:$A,0))),"",INDEX(Import!E:E,MATCH($A6,Import!$A:$A,0))) | F6: =IF(ISNA(INDEX(Import!F:F,MATCH($A6,Import!$A:$A,0))),"",INDEX(Import!F:F,MATCH($A6,Import!$A:$A,0))) | G6: =IF(ISNA(INDEX(Import!G:G,MATCH($A6,Import!$A:$A,0))),"",INDEX(Import!G:G,MATCH($A6,Import!$A:$A,0))) | H6: =IF(ISNA(INDEX(Import!H:H,MATCH($A6,Import!$A:$A,0))),"",INDEX(Import!H:H,MATCH($A6,Import!$A:$A,0))) | I6: =IF(ISNA(INDEX(Import!I:I,MATCH($A6,Import!$A:$A,0))),"",INDEX(Import!I:I,MATCH($A6,Import!$A:$A,0))) | J6: =IF(ISNA(INDEX(Import!J:J,MATCH($A6,Import!$A:$A,0))),"",INDEX(Import!J:J,MATCH($A6,Import!$A:$A,0))) | K6: =IF(ISNA(INDEX(Import!K:K,MATCH($A6,Import!$A:$A,0))),"",INDEX(Import!K:K,MATCH($A6,Import!$A:$A,0))) | L6: =IF(ISNA(INDEX(Import!L:L,MATCH($A6,Import!$A:$A,0))),"",INDEX(Import!L:L,MATCH($A6,Import!$A:$A,0))) | M6: =IF(ISNA(INDEX(Import!M:M,MATCH($A6,Import!$A:$A,0))),"",INDEX(Import!M:M,MATCH($A6,Import!$A:$A,0))) | N6: =IF(ISNA(INDEX(Import!N:N,MATCH($A6,Import!$A:$A,0))),"",INDEX(Import!N:N,MATCH($A6,Import!$A:$A,0))) | O6: =IF(ISNA(INDEX(Import!O:O,MATCH($A6,Import!$A:$A,0))),"",INDEX(Import!O:O,MATCH($A6,Import!$A:$A,0))) | P6: =IF(ISNA(INDEX(Import!P:P,MATCH($A6,Import!$A:$A,0))),"",INDEX(Import!P:P,MATCH($A6,Import!$A:$A,0))) | Q6: =IF(ISNA(INDEX(Import!Q:Q,MATCH($A6,Import!$A:$A,0))),"",INDEX(Import!Q:Q,MATCH($A6,Import!$A:$A,0))) | R6: =IF(ISNA(INDEX(Import!R:R,MATCH($A6,Import!$A:$A,0))),"",INDEX(Import!R:R,MATCH($A6,Import!$A:$A,0))) | S6: =IF(ISNA(INDEX(Import!S:S,MATCH($A6,Import!$A:$A,0))),"",INDEX(Import!S:S,MATCH($A6,Import!$A:$A,0))) | T6: =IF(ISNA(INDEX(Import!T:T,MATCH($A6,Import!$A:$A,0))),"",INDEX(Import!T:T,MATCH($A6,Import!$A:$A,0))) | U6: =IF(ISNA(INDEX(Import!U:U,MATCH($A6,Import!$A:$A,0))),"",INDEX(Import!U:U,MATCH($A6,Import!$A:$A,0))) | V6: =IF(ISNA(INDEX(Import!V:V,MATCH($A6,Import!$A:$A,0))),"",INDEX(Import!V:V,MATCH($A6,Import!$A:$A,0))) | W6: =IF(ISNA(INDEX(Import!W:W,MATCH($A6,Import!$A:$A,0))),"",INDEX(Import!W:W,MATCH($A6,Import!$A:$A,0))) | X6: =IF(ISNA(INDEX(Import!X:X,MATCH($A6,Import!$A:$A,0))),"",INDEX(Import!X:X,MATCH($A6,Import!$A:$A,0))) | Y6: =IF(ISNA(INDEX(Import!Y:Y,MATCH($A6,Import!$A:$A,0))),"",INDEX(Import!Y:Y,MATCH($A6,Import!$A:$A,0))) | Z6: =IF(ISNA(INDEX(Import!Z:Z,MATCH($A6,Import!$A:$A,0))),"",INDEX(Import!Z:Z,MATCH($A6,Import!$A:$A,0))) | AA6: =IF(ISNA(INDEX(Import!AA:AA,MATCH($A6,Import!$A:$A,0))),"",INDEX(Import!AA:AA,MATCH($A6,Import!$A:$A,0))) | AB6: =IF(ISNA(INDEX(Import!AB:AB,MATCH($A6,Import!$A:$A,0))),"",INDEX(Import!AB:AB,MATCH($A6,Import!$A:$A,0))) | AC6: =IF(ISNA(INDEX(Import!AC:AC,MATCH($A6,Import!$A:$A,0))),"",INDEX(Import!AC:AC,MATCH($A6,Import!$A:$A,0))) | AD6: =IF(ISNA(INDEX(Import!AD:AD,MATCH($A6,Import!$A:$A,0))),"",INDEX(Import!AD:AD,MATCH($A6,Import!$A:$A,0))) | AE6: =IF(ISNA(INDEX(Import!AE:AE,MATCH($A6,Import!$A:$A,0))),"",INDEX(Import!AE:AE,MATCH($A6,Import!$A:$A,0))) | AF6: =IF(ISNA(INDEX(Import!AF:AF,MATCH($A6,Import!$A:$A,0))),"",INDEX(Import!AF:AF,MATCH($A6,Import!$A:$A,0))) | AG6: =IF(ISNA(INDEX(Import!AG:AG,MATCH($A6,Import!$A:$A,0))),"",INDEX(Import!AG:AG,MATCH($A6,Import!$A:$A,0))) | AH6: =IF(ISNA(INDEX(Import!AH:AH,MATCH($A6,Import!$A:$A,0))),"",INDEX(Import!AH:AH,MATCH($A6,Import!$A:$A,0))) | AI6: =IF(ISNA(INDEX(Import!AI:AI,MATCH($A6,Import!$A:$A,0))),"",INDEX(Import!AI:AI,MATCH($A6,Import!$A:$A,0))) | AJ6: =IF(ISNA(INDEX(Import!AJ:AJ,MATCH($A6,Import!$A:$A,0))),"",INDEX(Import!AJ:AJ,MATCH($A6,Import!$A:$A,0)))
A7: {=IF(ROWS($3:6)<=COUNTIF(Import!$AO:$AO,"MERCURE"),INDEX(Import!A:A,SMALL(IF(Import!$AO:$AO="MERCURE",ROW(INDIRECT("1:"&ROWS(Import!$AO:$AO)))),ROWS($3:6))),"")} | B7: =IF(ISNA(INDEX(Import!B:B,MATCH($A7,Import!$A:$A,0))),"",INDEX(Import!B:B,MATCH($A7,Import!$A:$A,0))) | C7: =IF(ISNA(INDEX(Import!C:C,MATCH($A7,Import!$A:$A,0))),"",INDEX(Import!C:C,MATCH($A7,Import!$A:$A,0))) | D7: =IF(ISNA(INDEX(Import!D:D,MATCH($A7,Import!$A:$A,0))),"",INDEX(Import!D:D,MATCH($A7,Import!$A:$A,0))) | E7: =IF(ISNA(INDEX(Import!E:E,MATCH($A7,Import!$A:$A,0))),"",INDEX(Import!E:E,MATCH($A7,Import!$A:$A,0))) | F7: =IF(ISNA(INDEX(Import!F:F,MATCH($A7,Import!$A:$A,0))),"",INDEX(Import!F:F,MATCH($A7,Import!$A:$A,0))) | G7: =IF(ISNA(INDEX(Import!G:G,MATCH($A7,Import!$A:$A,0))),"",INDEX(Import!G:G,MATCH($A7,Import!$A:$A,0))) | H7: =IF(ISNA(INDEX(Import!H:H,MATCH($A7,Import!$A:$A,0))),"",INDEX(Import!H:H,MATCH($A7,Import!$A:$A,0))) | I7: =IF(ISNA(INDEX(Import!I:I,MATCH($A7,Import!$A:$A,0))),"",INDEX(Import!I:I,MATCH($A7,Import!$A:$A,0))) | J7: =IF(ISNA(INDEX(Import!J:J,MATCH($A7,Import!$A:$A,0))),"",INDEX(Import!J:J,MATCH($A7,Import!$A:$A,0))) | K7: =IF(ISNA(INDEX(Import!K:K,MATCH($A7,Import!$A:$A,0))),"",INDEX(Import!K:K,MATCH($A7,Import!$A:$A,0))) | L7: =IF(ISNA(INDEX(Import!L:L,MATCH($A7,Import!$A:$A,0))),"",INDEX(Import!L:L,MATCH($A7,Import!$A:$A,0))) | M7: =IF(ISNA(INDEX(Import!M:M,MATCH($A7,Import!$A:$A,0))),"",INDEX(Import!M:M,MATCH($A7,Import!$A:$A,0))) | N7: =IF(ISNA(INDEX(Import!N:N,MATCH($A7,Import!$A:$A,0))),"",INDEX(Import!N:N,MATCH($A7,Import!$A:$A,0))) | O7: =IF(ISNA(INDEX(Import!O:O,MATCH($A7,Import!$A:$A,0))),"",INDEX(Import!O:O,MATCH($A7,Import!$A:$A,0))) | P7: =IF(ISNA(INDEX(Import!P:P,MATCH($A7,Import!$A:$A,0))),"",INDEX(Import!P:P,MATCH($A7,Import!$A:$A,0))) | Q7: =IF(ISNA(INDEX(Import!Q:Q,MATCH($A7,Import!$A:$A,0))),"",INDEX(Import!Q:Q,MATCH($A7,Import!$A:$A,0))) | R7: =IF(ISNA(INDEX(Import!R:R,MATCH($A7,Import!$A:$A,0))),"",INDEX(Import!R:R,MATCH($A7,Import!$A:$A,0))) | S7: =IF(ISNA(INDEX(Import!S:S,MATCH($A7,Import!$A:$A,0))),"",INDEX(Import!S:S,MATCH($A7,Import!$A:$A,0))) | T7: =IF(ISNA(INDEX(Import!T:T,MATCH($A7,Import!$A:$A,0))),"",INDEX(Import!T:T,MATCH($A7,Import!$A:$A,0))) | U7: =IF(ISNA(INDEX(Import!U:U,MATCH($A7,Import!$A:$A,0))),"",INDEX(Import!U:U,MATCH($A7,Import!$A:$A,0))) | V7: =IF(ISNA(INDEX(Import!V:V,MATCH($A7,Import!$A:$A,0))),"",INDEX(Import!V:V,MATCH($A7,Import!$A:$A,0))) | W7: =IF(ISNA(INDEX(Import!W:W,MATCH($A7,Import!$A:$A,0))),"",INDEX(Import!W:W,MATCH($A7,Import!$A:$A,0))) | X7: =IF(ISNA(INDEX(Import!X:X,MATCH($A7,Import!$A:$A,0))),"",INDEX(Import!X:X,MATCH($A7,Import!$A:$A,0))) | Y7: =IF(ISNA(INDEX(Import!Y:Y,MATCH($A7,Import!$A:$A,0))),"",INDEX(Import!Y:Y,MATCH($A7,Import!$A:$A,0))) | Z7: =IF(ISNA(INDEX(Import!Z:Z,MATCH($A7,Import!$A:$A,0))),"",INDEX(Import!Z:Z,MATCH($A7,Import!$A:$A,0))) | AA7: =IF(ISNA(INDEX(Import!AA:AA,MATCH($A7,Import!$A:$A,0))),"",INDEX(Import!AA:AA,MATCH($A7,Import!$A:$A,0))) | AB7: =IF(ISNA(INDEX(Import!AB:AB,MATCH($A7,Import!$A:$A,0))),"",INDEX(Import!AB:AB,MATCH($A7,Import!$A:$A,0))) | AC7: =IF(ISNA(INDEX(Import!AC:AC,MATCH($A7,Import!$A:$A,0))),"",INDEX(Import!AC:AC,MATCH($A7,Import!$A:$A,0))) | AD7: =IF(ISNA(INDEX(Import!AD:AD,MATCH($A7,Import!$A:$A,0))),"",INDEX(Import!AD:AD,MATCH($A7,Import!$A:$A,0))) | AE7: =IF(ISNA(INDEX(Import!AE:AE,MATCH($A7,Import!$A:$A,0))),"",INDEX(Import!AE:AE,MATCH($A7,Import!$A:$A,0))) | AF7: =IF(ISNA(INDEX(Import!AF:AF,MATCH($A7,Import!$A:$A,0))),"",INDEX(Import!AF:AF,MATCH($A7,Import!$A:$A,0))) | AG7: =IF(ISNA(INDEX(Import!AG:AG,MATCH($A7,Import!$A:$A,0))),"",INDEX(Import!AG:AG,MATCH($A7,Import!$A:$A,0))) | AH7: =IF(ISNA(INDEX(Import!AH:AH,MATCH($A7,Import!$A:$A,0))),"",INDEX(Import!AH:AH,MATCH($A7,Import!$A:$A,0))) | AI7: =IF(ISNA(INDEX(Import!AI:AI,MATCH($A7,Import!$A:$A,0))),"",INDEX(Import!AI:AI,MATCH($A7,Import!$A:$A,0))) | AJ7: =IF(ISNA(INDEX(Import!AJ:AJ,MATCH($A7,Import!$A:$A,0))),"",INDEX(Import!AJ:AJ,MATCH($A7,Import!$A:$A,0)))
A8: {=IF(ROWS($3:7)<=COUNTIF(Import!$AO:$AO,"MERCURE"),INDEX(Import!A:A,SMALL(IF(Import!$AO:$AO="MERCURE",ROW(INDIRECT("1:"&ROWS(Import!$AO:$AO)))),ROWS($3:7))),"")} | B8: =IF(ISNA(INDEX(Import!B:B,MATCH($A8,Import!$A:$A,0))),"",INDEX(Import!B:B,MATCH($A8,Import!$A:$A,0))) | C8: =IF(ISNA(INDEX(Import!C:C,MATCH($A8,Import!$A:$A,0))),"",INDEX(Import!C:C,MATCH($A8,Import!$A:$A,0))) | D8: =IF(ISNA(INDEX(Import!D:D,MATCH($A8,Import!$A:$A,0))),"",INDEX(Import!D:D,MATCH($A8,Import!$A:$A,0))) | E8: =IF(ISNA(INDEX(Import!E:E,MATCH($A8,Import!$A:$A,0))),"",INDEX(Import!E:E,MATCH($A8,Import!$A:$A,0))) | F8: =IF(ISNA(INDEX(Import!F:F,MATCH($A8,Import!$A:$A,0))),"",INDEX(Import!F:F,MATCH($A8,Import!$A:$A,0))) | G8: =IF(ISNA(INDEX(Import!G:G,MATCH($A8,Import!$A:$A,0))),"",INDEX(Import!G:G,MATCH($A8,Import!$A:$A,0))) | H8: =IF(ISNA(INDEX(Import!H:H,MATCH($A8,Import!$A:$A,0))),"",INDEX(Import!H:H,MATCH($A8,Import!$A:$A,0))) | I8: =IF(ISNA(INDEX(Import!I:I,MATCH($A8,Import!$A:$A,0))),"",INDEX(Import!I:I,MATCH($A8,Import!$A:$A,0))) | J8: =IF(ISNA(INDEX(Import!J:J,MATCH($A8,Import!$A:$A,0))),"",INDEX(Import!J:J,MATCH($A8,Import!$A:$A,0))) | K8: =IF(ISNA(INDEX(Import!K:K,MATCH($A8,Import!$A:$A,0))),"",INDEX(Import!K:K,MATCH($A8,Import!$A:$A,0))) | L8: =IF(ISNA(INDEX(Import!L:L,MATCH($A8,Import!$A:$A,0))),"",INDEX(Import!L:L,MATCH($A8,Import!$A:$A,0))) | M8: =IF(ISNA(INDEX(Import!M:M,MATCH($A8,Import!$A:$A,0))),"",INDEX(Import!M:M,MATCH($A8,Import!$A:$A,0))) | N8: =IF(ISNA(INDEX(Import!N:N,MATCH($A8,Import!$A:$A,0))),"",INDEX(Import!N:N,MATCH($A8,Import!$A:$A,0))) | O8: =IF(ISNA(INDEX(Import!O:O,MATCH($A8,Import!$A:$A,0))),"",INDEX(Import!O:O,MATCH($A8,Import!$A:$A,0))) | P8: =IF(ISNA(INDEX(Import!P:P,MATCH($A8,Import!$A:$A,0))),"",INDEX(Import!P:P,MATCH($A8,Import!$A:$A,0))) | Q8: =IF(ISNA(INDEX(Import!Q:Q,MATCH($A8,Import!$A:$A,0))),"",INDEX(Import!Q:Q,MATCH($A8,Import!$A:$A,0))) | R8: =IF(ISNA(INDEX(Import!R:R,MATCH($A8,Import!$A:$A,0))),"",INDEX(Import!R:R,MATCH($A8,Import!$A:$A,0))) | S8: =IF(ISNA(INDEX(Import!S:S,MATCH($A8,Import!$A:$A,0))),"",INDEX(Import!S:S,MATCH($A8,Import!$A:$A,0))) | T8: =IF(ISNA(INDEX(Import!T:T,MATCH($A8,Import!$A:$A,0))),"",INDEX(Import!T:T,MATCH($A8,Import!$A:$A,0))) | U8: =IF(ISNA(INDEX(Import!U:U,MATCH($A8,Import!$A:$A,0))),"",INDEX(Import!U:U,MATCH($A8,Import!$A:$A,0))) | V8: =IF(ISNA(INDEX(Import!V:V,MATCH($A8,Import!$A:$A,0))),"",INDEX(Import!V:V,MATCH($A8,Import!$A:$A,0))) | W8: =IF(ISNA(INDEX(Import!W:W,MATCH($A8,Import!$A:$A,0))),"",INDEX(Import!W:W,MATCH($A8,Import!$A:$A,0))) | X8: =IF(ISNA(INDEX(Import!X:X,MATCH($A8,Import!$A:$A,0))),"",INDEX(Import!X:X,MATCH($A8,Import!$A:$A,0))) | Y8: =IF(ISNA(INDEX(Import!Y:Y,MATCH($A8,Import!$A:$A,0))),"",INDEX(Import!Y:Y,MATCH($A8,Import!$A:$A,0))) | Z8: =IF(ISNA(INDEX(Import!Z:Z,MATCH($A8,Import!$A:$A,0))),"",INDEX(Import!Z:Z,MATCH($A8,Import!$A:$A,0))) | AA8: =IF(ISNA(INDEX(Import!AA:AA,MATCH($A8,Import!$A:$A,0))),"",INDEX(Import!AA:AA,MATCH($A8,Import!$A:$A,0))) | AB8: =IF(ISNA(INDEX(Import!AB:AB,MATCH($A8,Import!$A:$A,0))),"",INDEX(Import!AB:AB,MATCH($A8,Import!$A:$A,0))) | AC8: =IF(ISNA(INDEX(Import!AC:AC,MATCH($A8,Import!$A:$A,0))),"",INDEX(Import!AC:AC,MATCH($A8,Import!$A:$A,0))) | AD8: =IF(ISNA(INDEX(Import!AD:AD,MATCH($A8,Import!$A:$A,0))),"",INDEX(Import!AD:AD,MATCH($A8,Import!$A:$A,0))) | AE8: =IF(ISNA(INDEX(Import!AE:AE,MATCH($A8,Import!$A:$A,0))),"",INDEX(Import!AE:AE,MATCH($A8,Import!$A:$A,0))) | AF8: =IF(ISNA(INDEX(Import!AF:AF,MATCH($A8,Import!$A:$A,0))),"",INDEX(Import!AF:AF,MATCH($A8,Import!$A:$A,0))) | AG8: =IF(ISNA(INDEX(Import!AG:AG,MATCH($A8,Import!$A:$A,0))),"",INDEX(Import!AG:AG,MATCH($A8,Import!$A:$A,0))) | AH8: =IF(ISNA(INDEX(Import!AH:AH,MATCH($A8,Import!$A:$A,0))),"",INDEX(Import!AH:AH,MATCH($A8,Import!$A:$A,0))) | AI8: =IF(ISNA(INDEX(Import!AI:AI,MATCH($A8,Import!$A:$A,0))),"",INDEX(Import!AI:AI,MATCH($A8,Import!$A:$A,0))) | AJ8: =IF(ISNA(INDEX(Import!AJ:AJ,MATCH($A8,Import!$A:$A,0))),"",INDEX(Import!AJ:AJ,MATCH($A8,Import!$A:$A,0)))
A9: {=IF(ROWS($3:8)<=COUNTIF(Import!$AO:$AO,"MERCURE"),INDEX(Import!A:A,SMALL(IF(Import!$AO:$AO="MERCURE",ROW(INDIRECT("1:"&ROWS(Import!$AO:$AO)))),ROWS($3:8))),"")} | B9: =IF(ISNA(INDEX(Import!B:B,MATCH($A9,Import!$A:$A,0))),"",INDEX(Import!B:B,MATCH($A9,Import!$A:$A,0))) | C9: =IF(ISNA(INDEX(Import!C:C,MATCH($A9,Import!$A:$A,0))),"",INDEX(Import!C:C,MATCH($A9,Import!$A:$A,0))) | D9: =IF(ISNA(INDEX(Import!D:D,MATCH($A9,Import!$A:$A,0))),"",INDEX(Import!D:D,MATCH($A9,Import!$A:$A,0))) | E9: =IF(ISNA(INDEX(Import!E:E,MATCH($A9,Import!$A:$A,0))),"",INDEX(Import!E:E,MATCH($A9,Import!$A:$A,0))) | F9: =IF(ISNA(INDEX(Import!F:F,MATCH($A9,Import!$A:$A,0))),"",INDEX(Import!F:F,MATCH($A9,Import!$A:$A,0))) | G9: =IF(ISNA(INDEX(Import!G:G,MATCH($A9,Import!$A:$A,0))),"",INDEX(Import!G:G,MATCH($A9,Import!$A:$A,0))) | H9: =IF(ISNA(INDEX(Import!H:H,MATCH($A9,Import!$A:$A,0))),"",INDEX(Import!H:H,MATCH($A9,Import!$A:$A,0))) | I9: =IF(ISNA(INDEX(Import!I:I,MATCH($A9,Import!$A:$A,0))),"",INDEX(Import!I:I,MATCH($A9,Import!$A:$A,0))) | J9: =IF(ISNA(INDEX(Import!J:J,MATCH($A9,Import!$A:$A,0))),"",INDEX(Import!J:J,MATCH($A9,Import!$A:$A,0))) | K9: =IF(ISNA(INDEX(Import!K:K,MATCH($A9,Import!$A:$A,0))),"",INDEX(Import!K:K,MATCH($A9,Import!$A:$A,0))) | L9: =IF(ISNA(INDEX(Import!L:L,MATCH($A9,Import!$A:$A,0))),"",INDEX(Import!L:L,MATCH($A9,Import!$A:$A,0))) | M9: =IF(ISNA(INDEX(Import!M:M,MATCH($A9,Import!$A:$A,0))),"",INDEX(Import!M:M,MATCH($A9,Import!$A:$A,0))) | N9: =IF(ISNA(INDEX(Import!N:N,MATCH($A9,Import!$A:$A,0))),"",INDEX(Import!N:N,MATCH($A9,Import!$A:$A,0))) | O9: =IF(ISNA(INDEX(Import!O:O,MATCH($A9,Import!$A:$A,0))),"",INDEX(Import!O:O,MATCH($A9,Import!$A:$A,0))) | P9: =IF(ISNA(INDEX(Import!P:P,MATCH($A9,Import!$A:$A,0))),"",INDEX(Import!P:P,MATCH($A9,Import!$A:$A,0))) | Q9: =IF(ISNA(INDEX(Import!Q:Q,MATCH($A9,Import!$A:$A,0))),"",INDEX(Import!Q:Q,MATCH($A9,Import!$A:$A,0))) | R9: =IF(ISNA(INDEX(Import!R:R,MATCH($A9,Import!$A:$A,0))),"",INDEX(Import!R:R,MATCH($A9,Import!$A:$A,0))) | S9: =IF(ISNA(INDEX(Import!S:S,MATCH($A9,Import!$A:$A,0))),"",INDEX(Import!S:S,MATCH($A9,Import!$A:$A,0))) | T9: =IF(ISNA(INDEX(Import!T:T,MATCH($A9,Import!$A:$A,0))),"",INDEX(Import!T:T,MATCH($A9,Import!$A:$A,0))) | U9: =IF(ISNA(INDEX(Import!U:U,MATCH($A9,Import!$A:$A,0))),"",INDEX(Import!U:U,MATCH($A9,Import!$A:$A,0))) | V9: =IF(ISNA(INDEX(Import!V:V,MATCH($A9,Import!$A:$A,0))),"",INDEX(Import!V:V,MATCH($A9,Import!$A:$A,0))) | W9: =IF(ISNA(INDEX(Import!W:W,MATCH($A9,Import!$A:$A,0))),"",INDEX(Import!W:W,MATCH($A9,Import!$A:$A,0))) | X9: =IF(ISNA(INDEX(Import!X:X,MATCH($A9,Import!$A:$A,0))),"",INDEX(Import!X:X,MATCH($A9,Import!$A:$A,0))) | Y9: =IF(ISNA(INDEX(Import!Y:Y,MATCH($A9,Import!$A:$A,0))),"",INDEX(Import!Y:Y,MATCH($A9,Import!$A:$A,0))) | Z9: =IF(ISNA(INDEX(Import!Z:Z,MATCH($A9,Import!$A:$A,0))),"",INDEX(Import!Z:Z,MATCH($A9,Import!$A:$A,0))) | AA9: =IF(ISNA(INDEX(Import!AA:AA,MATCH($A9,Import!$A:$A,0))),"",INDEX(Import!AA:AA,MATCH($A9,Import!$A:$A,0))) | AB9: =IF(ISNA(INDEX(Import!AB:AB,MATCH($A9,Import!$A:$A,0))),"",INDEX(Import!AB:AB,MATCH($A9,Import!$A:$A,0))) | AC9: =IF(ISNA(INDEX(Import!AC:AC,MATCH($A9,Import!$A:$A,0))),"",INDEX(Import!AC:AC,MATCH($A9,Import!$A:$A,0))) | AD9: =IF(ISNA(INDEX(Import!AD:AD,MATCH($A9,Import!$A:$A,0))),"",INDEX(Import!AD:AD,MATCH($A9,Import!$A:$A,0))) | AE9: =IF(ISNA(INDEX(Import!AE:AE,MATCH($A9,Import!$A:$A,0))),"",INDEX(Import!AE:AE,MATCH($A9,Import!$A:$A,0))) | AF9: =IF(ISNA(INDEX(Import!AF:AF,MATCH($A9,Import!$A:$A,0))),"",INDEX(Import!AF:AF,MATCH($A9,Import!$A:$A,0))) | AG9: =IF(ISNA(INDEX(Import!AG:AG,MATCH($A9,Import!$A:$A,0))),"",INDEX(Import!AG:AG,MATCH($A9,Import!$A:$A,0))) | AH9: =IF(ISNA(INDEX(Import!AH:AH,MATCH($A9,Import!$A:$A,0))),"",INDEX(Import!AH:AH,MATCH($A9,Import!$A:$A,0))) | AI9: =IF(ISNA(INDEX(Import!AI:AI,MATCH($A9,Import!$A:$A,0))),"",INDEX(Import!AI:AI,MATCH($A9,Import!$A:$A,0))) | AJ9: =IF(ISNA(INDEX(Import!AJ:AJ,MATCH($A9,Import!$A:$A,0))),"",INDEX(Import!AJ:AJ,MATCH($A9,Import!$A:$A,0)))
A10: {=IF(ROWS($3:9)<=COUNTIF(Import!$AO:$AO,"MERCURE"),INDEX(Import!A:A,SMALL(IF(Import!$AO:$AO="MERCURE",ROW(INDIRECT("1:"&ROWS(Import!$AO:$AO)))),ROWS($3:9))),"")} | B10: =IF(ISNA(INDEX(Import!B:B,MATCH($A10,Import!$A:$A,0))),"",INDEX(Import!B:B,MATCH($A10,Import!$A:$A,0))) | C10: =IF(ISNA(INDEX(Import!C:C,MATCH($A10,Import!$A:$A,0))),"",INDEX(Import!C:C,MATCH($A10,Import!$A:$A,0))) | D10: =IF(ISNA(INDEX(Import!D:D,MATCH($A10,Import!$A:$A,0))),"",INDEX(Import!D:D,MATCH($A10,Import!$A:$A,0))) | E10: =IF(ISNA(INDEX(Import!E:E,MATCH($A10,Import!$A:$A,0))),"",INDEX(Import!E:E,MATCH($A10,Import!$A:$A,0))) | F10: =IF(ISNA(INDEX(Import!F:F,MATCH($A10,Import!$A:$A,0))),"",INDEX(Import!F:F,MATCH($A10,Import!$A:$A,0))) | G10: =IF(ISNA(INDEX(Import!G:G,MATCH($A10,Import!$A:$A,0))),"",INDEX(Import!G:G,MATCH($A10,Import!$A:$A,0))) | H10: =IF(ISNA(INDEX(Import!H:H,MATCH($A10,Import!$A:$A,0))),"",INDEX(Import!H:H,MATCH($A10,Import!$A:$A,0))) | I10: =IF(ISNA(INDEX(Import!I:I,MATCH($A10,Import!$A:$A,0))),"",INDEX(Import!I:I,MATCH($A10,Import!$A:$A,0))) | J10: =IF(ISNA(INDEX(Import!J:J,MATCH($A10,Import!$A:$A,0))),"",INDEX(Import!J:J,MATCH($A10,Import!$A:$A,0))) | K10: =IF(ISNA(INDEX(Import!K:K,MATCH($A10,Import!$A:$A,0))),"",INDEX(Import!K:K,MATCH($A10,Import!$A:$A,0))) | L10: =IF(ISNA(INDEX(Import!L:L,MATCH($A10,Import!$A:$A,0))),"",INDEX(Import!L:L,MATCH($A10,Import!$A:$A,0))) | M10: =IF(ISNA(INDEX(Import!M:M,MATCH($A10,Import!$A:$A,0))),"",INDEX(Import!M:M,MATCH($A10,Import!$A:$A,0))) | N10: =IF(ISNA(INDEX(Import!N:N,MATCH($A10,Import!$A:$A,0))),"",INDEX(Import!N:N,MATCH($A10,Import!$A:$A,0))) | O10: =IF(ISNA(INDEX(Import!O:O,MATCH($A10,Import!$A:$A,0))),"",INDEX(Import!O:O,MATCH($A10,Import!$A:$A,0))) | P10: =IF(ISNA(INDEX(Import!P:P,MATCH($A10,Import!$A:$A,0))),"",INDEX(Import!P:P,MATCH($A10,Import!$A:$A,0))) | Q10: =IF(ISNA(INDEX(Import!Q:Q,MATCH($A10,Import!$A:$A,0))),"",INDEX(Import!Q:Q,MATCH($A10,Import!$A:$A,0))) | R10: =IF(ISNA(INDEX(Import!R:R,MATCH($A10,Import!$A:$A,0))),"",INDEX(Import!R:R,MATCH($A10,Import!$A:$A,0))) | S10: =IF(ISNA(INDEX(Import!S:S,MATCH($A10,Import!$A:$A,0))),"",INDEX(Import!S:S,MATCH($A10,Import!$A:$A,0))) | T10: =IF(ISNA(INDEX(Import!T:T,MATCH($A10,Import!$A:$A,0))),"",INDEX(Import!T:T,MATCH($A10,Import!$A:$A,0))) | U10: =IF(ISNA(INDEX(Import!U:U,MATCH($A10,Import!$A:$A,0))),"",INDEX(Import!U:U,MATCH($A10,Import!$A:$A,0))) | V10: =IF(ISNA(INDEX(Import!V:V,MATCH($A10,Import!$A:$A,0))),"",INDEX(Import!V:V,MATCH($A10,Import!$A:$A,0))) | W10: =IF(ISNA(INDEX(Import!W:W,MATCH($A10,Import!$A:$A,0))),"",INDEX(Import!W:W,MATCH($A10,Import!$A:$A,0))) | X10: =IF(ISNA(INDEX(Import!X:X,MATCH($A10,Import!$A:$A,0))),"",INDEX(Import!X:X,MATCH($A10,Import!$A:$A,0))) | Y10: =IF(ISNA(INDEX(Import!Y:Y,MATCH($A10,Import!$A:$A,0))),"",INDEX(Import!Y:Y,MATCH($A10,Import!$A:$A,0))) | Z10: =IF(ISNA(INDEX(Import!Z:Z,MATCH($A10,Import!$A:$A,0))),"",INDEX(Import!Z:Z,MATCH($A10,Import!$A:$A,0))) | AA10: =IF(ISNA(INDEX(Import!AA:AA,MATCH($A10,Import!$A:$A,0))),"",INDEX(Import!AA:AA,MATCH($A10,Import!$A:$A,0))) | AB10: =IF(ISNA(INDEX(Import!AB:AB,MATCH($A10,Import!$A:$A,0))),"",INDEX(Import!AB:AB,MATCH($A10,Import!$A:$A,0))) | AC10: =IF(ISNA(INDEX(Import!AC:AC,MATCH($A10,Import!$A:$A,0))),"",INDEX(Import!AC:AC,MATCH($A10,Import!$A:$A,0))) | AD10: =IF(ISNA(INDEX(Import!AD:AD,MATCH($A10,Import!$A:$A,0))),"",INDEX(Import!AD:AD,MATCH($A10,Import!$A:$A,0))) | AE10: =IF(ISNA(INDEX(Import!AE:AE,MATCH($A10,Import!$A:$A,0))),"",INDEX(Import!AE:AE,MATCH($A10,Import!$A:$A,0))) | AF10: =IF(ISNA(INDEX(Import!AF:AF,MATCH($A10,Import!$A:$A,0))),"",INDEX(Import!AF:AF,MATCH($A10,Import!$A:$A,0))) | AG10: =IF(ISNA(INDEX(Import!AG:AG,MATCH($A10,Import!$A:$A,0))),"",INDEX(Import!AG:AG,MATCH($A10,Import!$A:$A,0))) | AH10: =IF(ISNA(INDEX(Import!AH:AH,MATCH($A10,Import!$A:$A,0))),"",INDEX(Import!AH:AH,MATCH($A10,Import!$A:$A,0))) | AI10: =IF(ISNA(INDEX(Import!AI:AI,MATCH($A10,Import!$A:$A,0))),"",INDEX(Import!AI:AI,MATCH($A10,Import!$A:$A,0))) | AJ10: =IF(ISNA(INDEX(Import!AJ:AJ,MATCH($A10,Import!$A:$A,0))),"",INDEX(Import!AJ:AJ,MATCH($A10,Import!$A:$A,0)))
A11: {=IF(ROWS($3:10)<=COUNTIF(Import!$AO:$AO,"MERCURE"),INDEX(Import!A:A,SMALL(IF(Import!$AO:$AO="MERCURE",ROW(INDIRECT("1:"&ROWS(Import!$AO:$AO)))),ROWS($3:10))),"")} | B11: =IF(ISNA(INDEX(Import!B:B,MATCH($A11,Import!$A:$A,0))),"",INDEX(Import!B:B,MATCH($A11,Import!$A:$A,0))) | C11: =IF(ISNA(INDEX(Import!C:C,MATCH($A11,Import!$A:$A,0))),"",INDEX(Import!C:C,MATCH($A11,Import!$A:$A,0))) | D11: =IF(ISNA(INDEX(Import!D:D,MATCH($A11,Import!$A:$A,0))),"",INDEX(Import!D:D,MATCH($A11,Import!$A:$A,0))) | E11: =IF(ISNA(INDEX(Import!E:E,MATCH($A11,Import!$A:$A,0))),"",INDEX(Import!E:E,MATCH($A11,Import!$A:$A,0))) | F11: =IF(ISNA(INDEX(Import!F:F,MATCH($A11,Import!$A:$A,0))),"",INDEX(Import!F:F,MATCH($A11,Import!$A:$A,0))) | G11: =IF(ISNA(INDEX(Import!G:G,MATCH($A11,Import!$A:$A,0))),"",INDEX(Import!G:G,MATCH($A11,Import!$A:$A,0))) | H11: =IF(ISNA(INDEX(Import!H:H,MATCH($A11,Import!$A:$A,0))),"",INDEX(Import!H:H,MATCH($A11,Import!$A:$A,0))) | I11: =IF(ISNA(INDEX(Import!I:I,MATCH($A11,Import!$A:$A,0))),"",INDEX(Import!I:I,MATCH($A11,Import!$A:$A,0))) | J11: =IF(ISNA(INDEX(Import!J:J,MATCH($A11,Import!$A:$A,0))),"",INDEX(Import!J:J,MATCH($A11,Import!$A:$A,0))) | K11: =IF(ISNA(INDEX(Import!K:K,MATCH($A11,Import!$A:$A,0))),"",INDEX(Import!K:K,MATCH($A11,Import!$A:$A,0))) | L11: =IF(ISNA(INDEX(Import!L:L,MATCH($A11,Import!$A:$A,0))),"",INDEX(Import!L:L,MATCH($A11,Import!$A:$A,0))) | M11: =IF(ISNA(INDEX(Import!M:M,MATCH($A11,Import!$A:$A,0))),"",INDEX(Import!M:M,MATCH($A11,Import!$A:$A,0))) | N11: =IF(ISNA(INDEX(Import!N:N,MATCH($A11,Import!$A:$A,0))),"",INDEX(Import!N:N,MATCH($A11,Import!$A:$A,0))) | O11: =IF(ISNA(INDEX(Import!O:O,MATCH($A11,Import!$A:$A,0))),"",INDEX(Import!O:O,MATCH($A11,Import!$A:$A,0))) | P11: =IF(ISNA(INDEX(Import!P:P,MATCH($A11,Import!$A:$A,0))),"",INDEX(Import!P:P,MATCH($A11,Import!$A:$A,0))) | Q11: =IF(ISNA(INDEX(Import!Q:Q,MATCH($A11,Import!$A:$A,0))),"",INDEX(Import!Q:Q,MATCH($A11,Import!$A:$A,0))) | R11: =IF(ISNA(INDEX(Import!R:R,MATCH($A11,Import!$A:$A,0))),"",INDEX(Import!R:R,MATCH($A11,Import!$A:$A,0))) | S11: =IF(ISNA(INDEX(Import!S:S,MATCH($A11,Import!$A:$A,0))),"",INDEX(Import!S:S,MATCH($A11,Import!$A:$A,0))) | T11: =IF(ISNA(INDEX(Import!T:T,MATCH($A11,Import!$A:$A,0))),"",INDEX(Import!T:T,MATCH($A11,Import!$A:$A,0))) | U11: =IF(ISNA(INDEX(Import!U:U,MATCH($A11,Import!$A:$A,0))),"",INDEX(Import!U:U,MATCH($A11,Import!$A:$A,0))) | V11: =IF(ISNA(INDEX(Import!V:V,MATCH($A11,Import!$A:$A,0))),"",INDEX(Import!V:V,MATCH($A11,Import!$A:$A,0))) | W11: =IF(ISNA(INDEX(Import!W:W,MATCH($A11,Import!$A:$A,0))),"",INDEX(Import!W:W,MATCH($A11,Import!$A:$A,0))) | X11: =IF(ISNA(INDEX(Import!X:X,MATCH($A11,Import!$A:$A,0))),"",INDEX(Import!X:X,MATCH($A11,Import!$A:$A,0))) | Y11: =IF(ISNA(INDEX(Import!Y:Y,MATCH($A11,Import!$A:$A,0))),"",INDEX(Import!Y:Y,MATCH($A11,Import!$A:$A,0))) | Z11: =IF(ISNA(INDEX(Import!Z:Z,MATCH($A11,Import!$A:$A,0))),"",INDEX(Import!Z:Z,MATCH($A11,Import!$A:$A,0))) | AA11: =IF(ISNA(INDEX(Import!AA:AA,MATCH($A11,Import!$A:$A,0))),"",INDEX(Import!AA:AA,MATCH($A11,Import!$A:$A,0))) | AB11: =IF(ISNA(INDEX(Import!AB:AB,MATCH($A11,Import!$A:$A,0))),"",INDEX(Import!AB:AB,MATCH($A11,Import!$A:$A,0))) | AC11: =IF(ISNA(INDEX(Import!AC:AC,MATCH($A11,Import!$A:$A,0))),"",INDEX(Import!AC:AC,MATCH($A11,Import!$A:$A,0))) | AD11: =IF(ISNA(INDEX(Import!AD:AD,MATCH($A11,Import!$A:$A,0))),"",INDEX(Import!AD:AD,MATCH($A11,Import!$A:$A,0))) | AE11: =IF(ISNA(INDEX(Import!AE:AE,MATCH($A11,Import!$A:$A,0))),"",INDEX(Import!AE:AE,MATCH($A11,Import!$A:$A,0))) | AF11: =IF(ISNA(INDEX(Import!AF:AF,MATCH($A11,Import!$A:$A,0))),"",INDEX(Import!AF:AF,MATCH($A11,Import!$A:$A,0))) | AG11: =IF(ISNA(INDEX(Import!AG:AG,MATCH($A11,Import!$A:$A,0))),"",INDEX(Import!AG:AG,MATCH($A11,Import!$A:$A,0))) | AH11: =IF(ISNA(INDEX(Import!AH:AH,MATCH($A11,Import!$A:$A,0))),"",INDEX(Import!AH:AH,MATCH($A11,Import!$A:$A,0))) | AI11: =IF(ISNA(INDEX(Import!AI:AI,MATCH($A11,Import!$A:$A,0))),"",INDEX(Import!AI:AI,MATCH($A11,Import!$A:$A,0))) | AJ11: =IF(ISNA(INDEX(Import!AJ:AJ,MATCH($A11,Import!$A:$A,0))),"",INDEX(Import!AJ:AJ,MATCH($A11,Import!$A:$A,0)))
A12: {=IF(ROWS($3:11)<=COUNTIF(Import!$AO:$AO,"MERCURE"),INDEX(Import!A:A,SMALL(IF(Import!$AO:$AO="MERCURE",ROW(INDIRECT("1:"&ROWS(Import!$AO:$AO)))),ROWS($3:11))),"")} | B12: =IF(ISNA(INDEX(Import!B:B,MATCH($A12,Import!$A:$A,0))),"",INDEX(Import!B:B,MATCH($A12,Import!$A:$A,0))) | C12: =IF(ISNA(INDEX(Import!C:C,MATCH($A12,Import!$A:$A,0))),"",INDEX(Import!C:C,MATCH($A12,Import!$A:$A,0))) | D12: =IF(ISNA(INDEX(Import!D:D,MATCH($A12,Import!$A:$A,0))),"",INDEX(Import!D:D,MATCH($A12,Import!$A:$A,0))) | E12: =IF(ISNA(INDEX(Import!E:E,MATCH($A12,Import!$A:$A,0))),"",INDEX(Import!E:E,MATCH($A12,Import!$A:$A,0))) | F12: =IF(ISNA(INDEX(Import!F:F,MATCH($A12,Import!$A:$A,0))),"",INDEX(Import!F:F,MATCH($A12,Import!$A:$A,0))) | G12: =IF(ISNA(INDEX(Import!G:G,MATCH($A12,Import!$A:$A,0))),"",INDEX(Import!G:G,MATCH($A12,Import!$A:$A,0))) | H12: =IF(ISNA(INDEX(Import!H:H,MATCH($A12,Import!$A:$A,0))),"",INDEX(Import!H:H,MATCH($A12,Import!$A:$A,0))) | I12: =IF(ISNA(INDEX(Import!I:I,MATCH($A12,Import!$A:$A,0))),"",INDEX(Import!I:I,MATCH($A12,Import!$A:$A,0))) | J12: =IF(ISNA(INDEX(Import!J:J,MATCH($A12,Import!$A:$A,0))),"",INDEX(Import!J:J,MATCH($A12,Import!$A:$A,0))) | K12: =IF(ISNA(INDEX(Import!K:K,MATCH($A12,Import!$A:$A,0))),"",INDEX(Import!K:K,MATCH($A12,Import!$A:$A,0))) | L12: =IF(ISNA(INDEX(Import!L:L,MATCH($A12,Import!$A:$A,0))),"",INDEX(Import!L:L,MATCH($A12,Import!$A:$A,0))) | M12: =IF(ISNA(INDEX(Import!M:M,MATCH($A12,Import!$A:$A,0))),"",INDEX(Import!M:M,MATCH($A12,Import!$A:$A,0))) | N12: =IF(ISNA(INDEX(Import!N:N,MATCH($A12,Import!$A:$A,0))),"",INDEX(Import!N:N,MATCH($A12,Import!$A:$A,0))) | O12: =IF(ISNA(INDEX(Import!O:O,MATCH($A12,Import!$A:$A,0))),"",INDEX(Import!O:O,MATCH($A12,Import!$A:$A,0))) | P12: =IF(ISNA(INDEX(Import!P:P,MATCH($A12,Import!$A:$A,0))),"",INDEX(Import!P:P,MATCH($A12,Import!$A:$A,0))) | Q12: =IF(ISNA(INDEX(Import!Q:Q,MATCH($A12,Import!$A:$A,0))),"",INDEX(Import!Q:Q,MATCH($A12,Import!$A:$A,0))) | R12: =IF(ISNA(INDEX(Import!R:R,MATCH($A12,Import!$A:$A,0))),"",INDEX(Import!R:R,MATCH($A12,Import!$A:$A,0))) | S12: =IF(ISNA(INDEX(Import!S:S,MATCH($A12,Import!$A:$A,0))),"",INDEX(Import!S:S,MATCH($A12,Import!$A:$A,0))) | T12: =IF(ISNA(INDEX(Import!T:T,MATCH($A12,Import!$A:$A,0))),"",INDEX(Import!T:T,MATCH($A12,Import!$A:$A,0))) | U12: =IF(ISNA(INDEX(Import!U:U,MATCH($A12,Import!$A:$A,0))),"",INDEX(Import!U:U,MATCH($A12,Import!$A:$A,0))) | V12: =IF(ISNA(INDEX(Import!V:V,MATCH($A12,Import!$A:$A,0))),"",INDEX(Import!V:V,MATCH($A12,Import!$A:$A,0))) | W12: =IF(ISNA(INDEX(Import!W:W,MATCH($A12,Import!$A:$A,0))),"",INDEX(Import!W:W,MATCH($A12,Import!$A:$A,0))) | X12: =IF(ISNA(INDEX(Import!X:X,MATCH($A12,Import!$A:$A,0))),"",INDEX(Import!X:X,MATCH($A12,Import!$A:$A,0))) | Y12: =IF(ISNA(INDEX(Import!Y:Y,MATCH($A12,Import!$A:$A,0))),"",INDEX(Import!Y:Y,MATCH($A12,Import!$A:$A,0))) | Z12: =IF(ISNA(INDEX(Import!Z:Z,MATCH($A12,Import!$A:$A,0))),"",INDEX(Import!Z:Z,MATCH($A12,Import!$A:$A,0))) | AA12: =IF(ISNA(INDEX(Import!AA:AA,MATCH($A12,Import!$A:$A,0))),"",INDEX(Import!AA:AA,MATCH($A12,Import!$A:$A,0))) | AB12: =IF(ISNA(INDEX(Import!AB:AB,MATCH($A12,Import!$A:$A,0))),"",INDEX(Import!AB:AB,MATCH($A12,Import!$A:$A,0))) | AC12: =IF(ISNA(INDEX(Import!AC:AC,MATCH($A12,Import!$A:$A,0))),"",INDEX(Import!AC:AC,MATCH($A12,Import!$A:$A,0))) | AD12: =IF(ISNA(INDEX(Import!AD:AD,MATCH($A12,Import!$A:$A,0))),"",INDEX(Import!AD:AD,MATCH($A12,Import!$A:$A,0))) | AE12: =IF(ISNA(INDEX(Import!AE:AE,MATCH($A12,Import!$A:$A,0))),"",INDEX(Import!AE:AE,MATCH($A12,Import!$A:$A,0))) | AF12: =IF(ISNA(INDEX(Import!AF:AF,MATCH($A12,Import!$A:$A,0))),"",INDEX(Import!AF:AF,MATCH($A12,Import!$A:$A,0))) | AG12: =IF(ISNA(INDEX(Import!AG:AG,MATCH($A12,Import!$A:$A,0))),"",INDEX(Import!AG:AG,MATCH($A12,Import!$A:$A,0))) | AH12: =IF(ISNA(INDEX(Import!AH:AH,MATCH($A12,Import!$A:$A,0))),"",INDEX(Import!AH:AH,MATCH($A12,Import!$A:$A,0))) | AI12: =IF(ISNA(INDEX(Import!AI:AI,MATCH($A12,Import!$A:$A,0))),"",INDEX(Import!AI:AI,MATCH($A12,Import!$A:$A,0))) | AJ12: =IF(ISNA(INDEX(Import!AJ:AJ,MATCH($A12,Import!$A:$A,0))),"",INDEX(Import!AJ:AJ,MATCH($A12,Import!$A:$A,0)))
A13: {=IF(ROWS($3:12)<=COUNTIF(Import!$AO:$AO,"MERCURE"),INDEX(Import!A:A,SMALL(IF(Import!$AO:$AO="MERCURE",ROW(INDIRECT("1:"&ROWS(Import!$AO:$AO)))),ROWS($3:12))),"")} | B13: =IF(ISNA(INDEX(Import!B:B,MATCH($A13,Import!$A:$A,0))),"",INDEX(Import!B:B,MATCH($A13,Import!$A:$A,0))) | C13: =IF(ISNA(INDEX(Import!C:C,MATCH($A13,Import!$A:$A,0))),"",INDEX(Import!C:C,MATCH($A13,Import!$A:$A,0))) | D13: =IF(ISNA(INDEX(Import!D:D,MATCH($A13,Import!$A:$A,0))),"",INDEX(Import!D:D,MATCH($A13,Import!$A:$A,0))) | E13: =IF(ISNA(INDEX(Import!E:E,MATCH($A13,Import!$A:$A,0))),"",INDEX(Import!E:E,MATCH($A13,Import!$A:$A,0))) | F13: =IF(ISNA(INDEX(Import!F:F,MATCH($A13,Import!$A:$A,0))),"",INDEX(Import!F:F,MATCH($A13,Import!$A:$A,0))) | G13: =IF(ISNA(INDEX(Import!G:G,MATCH($A13,Import!$A:$A,0))),"",INDEX(Import!G:G,MATCH($A13,Import!$A:$A,0))) | H13: =IF(ISNA(INDEX(Import!H:H,MATCH($A13,Import!$A:$A,0))),"",INDEX(Import!H:H,MATCH($A13,Import!$A:$A,0))) | I13: =IF(ISNA(INDEX(Import!I:I,MATCH($A13,Import!$A:$A,0))),"",INDEX(Import!I:I,MATCH($A13,Import!$A:$A,0))) | J13: =IF(ISNA(INDEX(Import!J:J,MATCH($A13,Import!$A:$A,0))),"",INDEX(Import!J:J,MATCH($A13,Import!$A:$A,0))) | K13: =IF(ISNA(INDEX(Import!K:K,MATCH($A13,Import!$A:$A,0))),"",INDEX(Import!K:K,MATCH($A13,Import!$A:$A,0))) | L13: =IF(ISNA(INDEX(Import!L:L,MATCH($A13,Import!$A:$A,0))),"",INDEX(Import!L:L,MATCH($A13,Import!$A:$A,0))) | M13: =IF(ISNA(INDEX(Import!M:M,MATCH($A13,Import!$A:$A,0))),"",INDEX(Import!M:M,MATCH($A13,Import!$A:$A,0))) | N13: =IF(ISNA(INDEX(Import!N:N,MATCH($A13,Import!$A:$A,0))),"",INDEX(Import!N:N,MATCH($A13,Import!$A:$A,0))) | O13: =IF(ISNA(INDEX(Import!O:O,MATCH($A13,Import!$A:$A,0))),"",INDEX(Import!O:O,MATCH($A13,Import!$A:$A,0))) | P13: =IF(ISNA(INDEX(Import!P:P,MATCH($A13,Import!$A:$A,0))),"",INDEX(Import!P:P,MATCH($A13,Import!$A:$A,0))) | Q13: =IF(ISNA(INDEX(Import!Q:Q,MATCH($A13,Import!$A:$A,0))),"",INDEX(Import!Q:Q,MATCH($A13,Import!$A:$A,0))) | R13: =IF(ISNA(INDEX(Import!R:R,MATCH($A13,Import!$A:$A,0))),"",INDEX(Import!R:R,MATCH($A13,Import!$A:$A,0))) | S13: =IF(ISNA(INDEX(Import!S:S,MATCH($A13,Import!$A:$A,0))),"",INDEX(Import!S:S,MATCH($A13,Import!$A:$A,0))) | T13: =IF(ISNA(INDEX(Import!T:T,MATCH($A13,Import!$A:$A,0))),"",INDEX(Import!T:T,MATCH($A13,Import!$A:$A,0))) | U13: =IF(ISNA(INDEX(Import!U:U,MATCH($A13,Import!$A:$A,0))),"",INDEX(Import!U:U,MATCH($A13,Import!$A:$A,0))) | V13: =IF(ISNA(INDEX(Import!V:V,MATCH($A13,Import!$A:$A,0))),"",INDEX(Import!V:V,MATCH($A13,Import!$A:$A,0))) | W13: =IF(ISNA(INDEX(Import!W:W,MATCH($A13,Import!$A:$A,0))),"",INDEX(Import!W:W,MATCH($A13,Import!$A:$A,0))) | X13: =IF(ISNA(INDEX(Import!X:X,MATCH($A13,Import!$A:$A,0))),"",INDEX(Import!X:X,MATCH($A13,Import!$A:$A,0))) | Y13: =IF(ISNA(INDEX(Import!Y:Y,MATCH($A13,Import!$A:$A,0))),"",INDEX(Import!Y:Y,MATCH($A13,Import!$A:$A,0))) | Z13: =IF(ISNA(INDEX(Import!Z:Z,MATCH($A13,Import!$A:$A,0))),"",INDEX(Import!Z:Z,MATCH($A13,Import!$A:$A,0))) | AA13: =IF(ISNA(INDEX(Import!AA:AA,MATCH($A13,Import!$A:$A,0))),"",INDEX(Import!AA:AA,MATCH($A13,Import!$A:$A,0))) | AB13: =IF(ISNA(INDEX(Import!AB:AB,MATCH($A13,Import!$A:$A,0))),"",INDEX(Import!AB:AB,MATCH($A13,Import!$A:$A,0))) | AC13: =IF(ISNA(INDEX(Import!AC:AC,MATCH($A13,Import!$A:$A,0))),"",INDEX(Import!AC:AC,MATCH($A13,Import!$A:$A,0))) | AD13: =IF(ISNA(INDEX(Import!AD:AD,MATCH($A13,Import!$A:$A,0))),"",INDEX(Import!AD:AD,MATCH($A13,Import!$A:$A,0))) | AE13: =IF(ISNA(INDEX(Import!AE:AE,MATCH($A13,Import!$A:$A,0))),"",INDEX(Import!AE:AE,MATCH($A13,Import!$A:$A,0))) | AF13: =IF(ISNA(INDEX(Import!AF:AF,MATCH($A13,Import!$A:$A,0))),"",INDEX(Import!AF:AF,MATCH($A13,Import!$A:$A,0))) | AG13: =IF(ISNA(INDEX(Import!AG:AG,MATCH($A13,Import!$A:$A,0))),"",INDEX(Import!AG:AG,MATCH($A13,Import!$A:$A,0))) | AH13: =IF(ISNA(INDEX(Import!AH:AH,MATCH($A13,Import!$A:$A,0))),"",INDEX(Import!AH:AH,MATCH($A13,Import!$A:$A,0))) | AI13: =IF(ISNA(INDEX(Import!AI:AI,MATCH($A13,Import!$A:$A,0))),"",INDEX(Import!AI:AI,MATCH($A13,Import!$A:$A,0))) | AJ13: =IF(ISNA(INDEX(Import!AJ:AJ,MATCH($A13,Import!$A:$A,0))),"",INDEX(Import!AJ:AJ,MATCH($A13,Import!$A:$A,0)))
A14: {=IF(ROWS($3:13)<=COUNTIF(Import!$AO:$AO,"MERCURE"),INDEX(Import!A:A,SMALL(IF(Import!$AO:$AO="MERCURE",ROW(INDIRECT("1:"&ROWS(Import!$AO:$AO)))),ROWS($3:13))),"")} | B14: =IF(ISNA(INDEX(Import!B:B,MATCH($A14,Import!$A:$A,0))),"",INDEX(Import!B:B,MATCH($A14,Import!$A:$A,0))) | C14: =IF(ISNA(INDEX(Import!C:C,MATCH($A14,Import!$A:$A,0))),"",INDEX(Import!C:C,MATCH($A14,Import!$A:$A,0))) | D14: =IF(ISNA(INDEX(Import!D:D,MATCH($A14,Import!$A:$A,0))),"",INDEX(Import!D:D,MATCH($A14,Import!$A:$A,0))) | E14: =IF(ISNA(INDEX(Import!E:E,MATCH($A14,Import!$A:$A,0))),"",INDEX(Import!E:E,MATCH($A14,Import!$A:$A,0))) | F14: =IF(ISNA(INDEX(Import!F:F,MATCH($A14,Import!$A:$A,0))),"",INDEX(Import!F:F,MATCH($A14,Import!$A:$A,0))) | G14: =IF(ISNA(INDEX(Import!G:G,MATCH($A14,Import!$A:$A,0))),"",INDEX(Import!G:G,MATCH($A14,Import!$A:$A,0))) | H14: =IF(ISNA(INDEX(Import!H:H,MATCH($A14,Import!$A:$A,0))),"",INDEX(Import!H:H,MATCH($A14,Import!$A:$A,0))) | I14: =IF(ISNA(INDEX(Import!I:I,MATCH($A14,Import!$A:$A,0))),"",INDEX(Import!I:I,MATCH($A14,Import!$A:$A,0))) | J14: =IF(ISNA(INDEX(Import!J:J,MATCH($A14,Import!$A:$A,0))),"",INDEX(Import!J:J,MATCH($A14,Import!$A:$A,0))) | K14: =IF(ISNA(INDEX(Import!K:K,MATCH($A14,Import!$A:$A,0))),"",INDEX(Import!K:K,MATCH($A14,Import!$A:$A,0))) | L14: =IF(ISNA(INDEX(Import!L:L,MATCH($A14,Import!$A:$A,0))),"",INDEX(Import!L:L,MATCH($A14,Import!$A:$A,0))) | M14: =IF(ISNA(INDEX(Import!M:M,MATCH($A14,Import!$A:$A,0))),"",INDEX(Import!M:M,MATCH($A14,Import!$A:$A,0))) | N14: =IF(ISNA(INDEX(Import!N:N,MATCH($A14,Import!$A:$A,0))),"",INDEX(Import!N:N,MATCH($A14,Import!$A:$A,0))) | O14: =IF(ISNA(INDEX(Import!O:O,MATCH($A14,Import!$A:$A,0))),"",INDEX(Import!O:O,MATCH($A14,Import!$A:$A,0))) | P14: =IF(ISNA(INDEX(Import!P:P,MATCH($A14,Import!$A:$A,0))),"",INDEX(Import!P:P,MATCH($A14,Import!$A:$A,0))) | Q14: =IF(ISNA(INDEX(Import!Q:Q,MATCH($A14,Import!$A:$A,0))),"",INDEX(Import!Q:Q,MATCH($A14,Import!$A:$A,0))) | R14: =IF(ISNA(INDEX(Import!R:R,MATCH($A14,Import!$A:$A,0))),"",INDEX(Import!R:R,MATCH($A14,Import!$A:$A,0))) | S14: =IF(ISNA(INDEX(Import!S:S,MATCH($A14,Import!$A:$A,0))),"",INDEX(Import!S:S,MATCH($A14,Import!$A:$A,0))) | T14: =IF(ISNA(INDEX(Import!T:T,MATCH($A14,Import!$A:$A,0))),"",INDEX(Import!T:T,MATCH($A14,Import!$A:$A,0))) | U14: =IF(ISNA(INDEX(Import!U:U,MATCH($A14,Import!$A:$A,0))),"",INDEX(Import!U:U,MATCH($A14,Import!$A:$A,0))) | V14: =IF(ISNA(INDEX(Import!V:V,MATCH($A14,Import!$A:$A,0))),"",INDEX(Import!V:V,MATCH($A14,Import!$A:$A,0))) | W14: =IF(ISNA(INDEX(Import!W:W,MATCH($A14,Import!$A:$A,0))),"",INDEX(Import!W:W,MATCH($A14,Import!$A:$A,0))) | X14: =IF(ISNA(INDEX(Import!X:X,MATCH($A14,Import!$A:$A,0))),"",INDEX(Import!X:X,MATCH($A14,Import!$A:$A,0))) | Y14: =IF(ISNA(INDEX(Import!Y:Y,MATCH($A14,Import!$A:$A,0))),"",INDEX(Import!Y:Y,MATCH($A14,Import!$A:$A,0))) | Z14: =IF(ISNA(INDEX(Import!Z:Z,MATCH($A14,Import!$A:$A,0))),"",INDEX(Import!Z:Z,MATCH($A14,Import!$A:$A,0))) | AA14: =IF(ISNA(INDEX(Import!AA:AA,MATCH($A14,Import!$A:$A,0))),"",INDEX(Import!AA:AA,MATCH($A14,Import!$A:$A,0))) | AB14: =IF(ISNA(INDEX(Import!AB:AB,MATCH($A14,Import!$A:$A,0))),"",INDEX(Import!AB:AB,MATCH($A14,Import!$A:$A,0))) | AC14: =IF(ISNA(INDEX(Import!AC:AC,MATCH($A14,Import!$A:$A,0))),"",INDEX(Import!AC:AC,MATCH($A14,Import!$A:$A,0))) | AD14: =IF(ISNA(INDEX(Import!AD:AD,MATCH($A14,Import!$A:$A,0))),"",INDEX(Import!AD:AD,MATCH($A14,Import!$A:$A,0))) | AE14: =IF(ISNA(INDEX(Import!AE:AE,MATCH($A14,Import!$A:$A,0))),"",INDEX(Import!AE:AE,MATCH($A14,Import!$A:$A,0))) | AF14: =IF(ISNA(INDEX(Import!AF:AF,MATCH($A14,Import!$A:$A,0))),"",INDEX(Import!AF:AF,MATCH($A14,Import!$A:$A,0))) | AG14: =IF(ISNA(INDEX(Import!AG:AG,MATCH($A14,Import!$A:$A,0))),"",INDEX(Import!AG:AG,MATCH($A14,Import!$A:$A,0))) | AH14: =IF(ISNA(INDEX(Import!AH:AH,MATCH($A14,Import!$A:$A,0))),"",INDEX(Import!AH:AH,MATCH($A14,Import!$A:$A,0))) | AI14: =IF(ISNA(INDEX(Import!AI:AI,MATCH($A14,Import!$A:$A,0))),"",INDEX(Import!AI:AI,MATCH($A14,Import!$A:$A,0))) | AJ14: =IF(ISNA(INDEX(Import!AJ:AJ,MATCH($A14,Import!$A:$A,0))),"",INDEX(Import!AJ:AJ,MATCH($A14,Import!$A:$A,0)))
A15: {=IF(ROWS($3:14)<=COUNTIF(Import!$AO:$AO,"MERCURE"),INDEX(Import!A:A,SMALL(IF(Import!$AO:$AO="MERCURE",ROW(INDIRECT("1:"&ROWS(Import!$AO:$AO)))),ROWS($3:14))),"")} | B15: =IF(ISNA(INDEX(Import!B:B,MATCH($A15,Import!$A:$A,0))),"",INDEX(Import!B:B,MATCH($A15,Import!$A:$A,0))) | C15: =IF(ISNA(INDEX(Import!C:C,MATCH($A15,Import!$A:$A,0))),"",INDEX(Import!C:C,MATCH($A15,Import!$A:$A,0))) | D15: =IF(ISNA(INDEX(Import!D:D,MATCH($A15,Import!$A:$A,0))),"",INDEX(Import!D:D,MATCH($A15,Import!$A:$A,0))) | E15: =IF(ISNA(INDEX(Import!E:E,MATCH($A15,Import!$A:$A,0))),"",INDEX(Import!E:E,MATCH($A15,Import!$A:$A,0))) | F15: =IF(ISNA(INDEX(Import!F:F,MATCH($A15,Import!$A:$A,0))),"",INDEX(Import!F:F,MATCH($A15,Import!$A:$A,0))) | G15: =IF(ISNA(INDEX(Import!G:G,MATCH($A15,Import!$A:$A,0))),"",INDEX(Import!G:G,MATCH($A15,Import!$A:$A,0))) | H15: =IF(ISNA(INDEX(Import!H:H,MATCH($A15,Import!$A:$A,0))),"",INDEX(Import!H:H,MATCH($A15,Import!$A:$A,0))) | I15: =IF(ISNA(INDEX(Import!I:I,MATCH($A15,Import!$A:$A,0))),"",INDEX(Import!I:I,MATCH($A15,Import!$A:$A,0))) | J15: =IF(ISNA(INDEX(Import!J:J,MATCH($A15,Import!$A:$A,0))),"",INDEX(Import!J:J,MATCH($A15,Import!$A:$A,0))) | K15: =IF(ISNA(INDEX(Import!K:K,MATCH($A15,Import!$A:$A,0))),"",INDEX(Import!K:K,MATCH($A15,Import!$A:$A,0))) | L15: =IF(ISNA(INDEX(Import!L:L,MATCH($A15,Import!$A:$A,0))),"",INDEX(Import!L:L,MATCH($A15,Import!$A:$A,0))) | M15: =IF(ISNA(INDEX(Import!M:M,MATCH($A15,Import!$A:$A,0))),"",INDEX(Import!M:M,MATCH($A15,Import!$A:$A,0))) | N15: =IF(ISNA(INDEX(Import!N:N,MATCH($A15,Import!$A:$A,0))),"",INDEX(Import!N:N,MATCH($A15,Import!$A:$A,0))) | O15: =IF(ISNA(INDEX(Import!O:O,MATCH($A15,Import!$A:$A,0))),"",INDEX(Import!O:O,MATCH($A15,Import!$A:$A,0))) | P15: =IF(ISNA(INDEX(Import!P:P,MATCH($A15,Import!$A:$A,0))),"",INDEX(Import!P:P,MATCH($A15,Import!$A:$A,0))) | Q15: =IF(ISNA(INDEX(Import!Q:Q,MATCH($A15,Import!$A:$A,0))),"",INDEX(Import!Q:Q,MATCH($A15,Import!$A:$A,0))) | R15: =IF(ISNA(INDEX(Import!R:R,MATCH($A15,Import!$A:$A,0))),"",INDEX(Import!R:R,MATCH($A15,Import!$A:$A,0))) | S15: =IF(ISNA(INDEX(Import!S:S,MATCH($A15,Import!$A:$A,0))),"",INDEX(Import!S:S,MATCH($A15,Import!$A:$A,0))) | T15: =IF(ISNA(INDEX(Import!T:T,MATCH($A15,Import!$A:$A,0))),"",INDEX(Import!T:T,MATCH($A15,Import!$A:$A,0))) | U15: =IF(ISNA(INDEX(Import!U:U,MATCH($A15,Import!$A:$A,0))),"",INDEX(Import!U:U,MATCH($A15,Import!$A:$A,0))) | V15: =IF(ISNA(INDEX(Import!V:V,MATCH($A15,Import!$A:$A,0))),"",INDEX(Import!V:V,MATCH($A15,Import!$A:$A,0))) | W15: =IF(ISNA(INDEX(Import!W:W,MATCH($A15,Import!$A:$A,0))),"",INDEX(Import!W:W,MATCH($A15,Import!$A:$A,0))) | X15: =IF(ISNA(INDEX(Import!X:X,MATCH($A15,Import!$A:$A,0))),"",INDEX(Import!X:X,MATCH($A15,Import!$A:$A,0))) | Y15: =IF(ISNA(INDEX(Import!Y:Y,MATCH($A15,Import!$A:$A,0))),"",INDEX(Import!Y:Y,MATCH($A15,Import!$A:$A,0))) | Z15: =IF(ISNA(INDEX(Import!Z:Z,MATCH($A15,Import!$A:$A,0))),"",INDEX(Import!Z:Z,MATCH($A15,Import!$A:$A,0))) | AA15: =IF(ISNA(INDEX(Import!AA:AA,MATCH($A15,Import!$A:$A,0))),"",INDEX(Import!AA:AA,MATCH($A15,Import!$A:$A,0))) | AB15: =IF(ISNA(INDEX(Import!AB:AB,MATCH($A15,Import!$A:$A,0))),"",INDEX(Import!AB:AB,MATCH($A15,Import!$A:$A,0))) | AC15: =IF(ISNA(INDEX(Import!AC:AC,MATCH($A15,Import!$A:$A,0))),"",INDEX(Import!AC:AC,MATCH($A15,Import!$A:$A,0))) | AD15: =IF(ISNA(INDEX(Import!AD:AD,MATCH($A15,Import!$A:$A,0))),"",INDEX(Import!AD:AD,MATCH($A15,Import!$A:$A,0))) | AE15: =IF(ISNA(INDEX(Import!AE:AE,MATCH($A15,Import!$A:$A,0))),"",INDEX(Import!AE:AE,MATCH($A15,Import!$A:$A,0))) | AF15: =IF(ISNA(INDEX(Import!AF:AF,MATCH($A15,Import!$A:$A,0))),"",INDEX(Import!AF:AF,MATCH($A15,Import!$A:$A,0))) | AG15: =IF(ISNA(INDEX(Import!AG:AG,MATCH($A15,Import!$A:$A,0))),"",INDEX(Import!AG:AG,MATCH($A15,Import!$A:$A,0))) | AH15: =IF(ISNA(INDEX(Import!AH:AH,MATCH($A15,Import!$A:$A,0))),"",INDEX(Import!AH:AH,MATCH($A15,Import!$A:$A,0))) | AI15: =IF(ISNA(INDEX(Import!AI:AI,MATCH($A15,Import!$A:$A,0))),"",INDEX(Import!AI:AI,MATCH($A15,Import!$A:$A,0))) | AJ15: =IF(ISNA(INDEX(Import!AJ:AJ,MATCH($A15,Import!$A:$A,0))),"",INDEX(Import!AJ:AJ,MATCH($A15,Import!$A:$A,0)))
