Workbook

Sheet Macro1

Sheet Feuil1
A1: DERNIERE MISE A JOUR | F1: =[1]BDD!$D$1 -> 42037 | K1: Nouvelle indice
A3: Num/Version | B3: Client | C3: Désignation | D3: Montant HT EUR | E3: Statut | F3: Auteur Devis/Eval | G3: Créé le | H3: Remis le | I3: Devis à relancer | J3: Date relance | K3: Remis le | L3: Devis à relancer | M3: Date relance | P3: 0 | Q3: /
A4: =[1]BDD!A4 -> 1950977/1 | B4: =[1]BDD!K4 -> SBM | C4: =[1]BDD!L4 -> Vestiaire jardinier Boulingrins | D4: =[1]BDD!M4 -> 24815.05 | E4: =[1]BDD!C4 -> T | F4: =[1]BDD!D4 -> LEHALALI | G4: =[1]BDD!E4 -> 42010 | H4: =[1]BDD!F4 -> 42010 | I4: =IF(E4=Feuil2!$C$5(H4+14>AUJOURDHUI),P3,"/"+Q3) -> #REF! | J4: 42036 | L4: =IF(J4+30>TODAY(),$P$3,$Q$3) -> 0
A5: =[1]BDD!A5 -> 1951297/1 | B5: =[1]BDD!K5 -> SBM | C5: =[1]BDD!L5 -> Remplacement ventilo-convecteur au SS4 | D5: =[1]BDD!M5 -> 1203.6 | E5: =[1]BDD!C5 -> T | F5: =[1]BDD!D5 -> LEHALALI | G5: =[1]BDD!E5 -> 42010 | H5: =[1]BDD!F5 -> 42010 | I5: =IF(E5=Feuil2!$C$5,"ALORS",0) -> ALORS | L5: =IF(J5+30>TODAY(),$P$3,$Q$3) -> /
A6: =[1]BDD!A6 -> 1951333/1 | B6: =[1]BDD!K6 -> SBM | C6: =[1]BDD!L6 -> Remplacement de 2 ventilo-convecteurs dans le salon de coiffure niveau 1 | D6: =[1]BDD!M6 -> 4612.8 | E6: =[1]BDD!C6 -> T | F6: =[1]BDD!D6 -> LEHALALI | G6: =[1]BDD!E6 -> 42010 | H6: =[1]BDD!F6 -> 42010 | I6: =IF(E6=Feuil2!$C$5,"ALORS",0) -> ALORS | L6: =IF(J6+30>TODAY(),$P$3,$Q$3) -> /
A7: =[1]BDD!A7 -> 1952489/1 | B7: =[1]BDD!K7 -> SBM | C7: =[1]BDD!L7 -> Remplacement de 5 piquages acier dans local coupole | D7: =[1]BDD!M7 -> 2262.84 | E7: =[1]BDD!C7 -> T | F7: =[1]BDD!D7 -> LEHALALI | G7: =[1]BDD!E7 -> 42012 | H7: =[1]BDD!F7 -> 42012 | I7: =IF(E7=Feuil2!$C$5,"ALORS",0) -> ALORS | L7: =IF(J7+30>TODAY(),$P$3,$Q$3) -> /
A8: =[1]BDD!A8 -> 1954603/1 | B8: =[1]BDD!K8 -> SBM | C8: =[1]BDD!L8 -> zone habillement travaux aérauliques hors marché | D8: =[1]BDD!M8 -> 5534.4 | E8: =[1]BDD!C8 -> T | F8: =[1]BDD!D8 -> LEHALALI | G8: =[1]BDD!E8 -> 42016 | H8: =[1]BDD!F8 -> 42016 | I8: =IF(E8=Feuil2!$C$5,"ALORS",0) -> ALORS | L8: =IF(J8+30>TODAY(),$P$3,$Q$3) -> /
A9: =[1]BDD!A9 -> 1954588/1 | B9: =[1]BDD!K9 -> HUB BUSINESS 3 | C9: =[1]BDD!L9 -> Zac st antoine locaux OP & CO | D9: =[1]BDD!M9 -> 15000 | E9: =[1]BDD!C9 -> A | F9: =[1]BDD!D9 -> DAVER | G9: =[1]BDD!E9 -> 42016 | H9: =[1]BDD!F9 -> 42016 | I9: =IF(E9=Feuil2!$C$5,"ALORS",0) -> 0 | L9: =IF(J9+30>TODAY(),$P$3,$Q$3) -> /
A10: =[1]BDD!A10 -> 1954724/1 | B10: =[1]BDD!K10 -> VINCI | C10: =[1]BDD!L10 -> Tour Odéon Récupéraion gaz des unités de clim des bungalows | D10: =[1]BDD!M10 -> 677.6 | E10: =[1]BDD!C10 -> A | F10: =[1]BDD!D10 -> BAILLY | G10: =[1]BDD!E10 -> 42017 | H10: =[1]BDD!F10 -> 42017 | I10: =IF(E10=Feuil2!$C$5,"ALORS",0) -> 0 | L10: =IF(J10+30>TODAY(),$P$3,$Q$3) -> /
A11: =[1]BDD!A11 -> 1912630/2 | B11: =[1]BDD!K11 -> CABINET VIVALDA | C11: =[1]BDD!L11 -> Install. D'une clim; reversible indépendante dans loge gardien | D11: =[1]BDD!M11 -> 2833.45 | E11: =[1]BDD!C11 -> T | F11: =[1]BDD!D11 -> BAILLY | G11: =[1]BDD!E11 -> 42017 | H11: =[1]BDD!F11 -> 42017 | I11: =IF(E11=Feuil2!$C$5,"ALORS",0) -> ALORS | L11: =IF(J11+30>TODAY(),$P$3,$Q$3) -> /
A12: =[1]BDD!A12 -> 1956221/1 | B12: =[1]BDD!K12 -> CHPG | C12: =[1]BDD!L12 -> Remplacement calorifuge sur tuyauteries eau chaude | D12: =[1]BDD!M12 -> 1139.6 | E12: =[1]BDD!C12 -> T | F12: =[1]BDD!D12 -> DEPUY | G12: =[1]BDD!E12 -> 42018 | H12: =[1]BDD!F12 -> 42018 | I12: =IF(H12+14>TODAY(),$P$3,$Q$3) -> / | L12: =IF(J12+30>TODAY(),$P$3,$Q$3) -> /
A13: =[1]BDD!A13 -> 1953304/1 | B13: =[1]BDD!K13 -> NEXITY | C13: =[1]BDD!L13 -> Remplacement des colonnes d'eaux usées 957 appts | D13: =[1]BDD!M13 -> 1475832.6 | E13: =[1]BDD!C13 -> T | F13: =[1]BDD!D13 -> DAVER | G13: =[1]BDD!E13 -> 42019 | H13: =[1]BDD!F13 -> 42019 | I13: =IF(H13+14>TODAY(),$P$3,$Q$3) -> / | L13: =IF(J13+30>TODAY(),$P$3,$Q$3) -> /
A14: =[1]BDD!A14 -> 1957689/1 | B14: =[1]BDD!K14 -> CABINET WOLZOK | C14: =[1]BDD!L14 -> Remplacement de l'évent de décompression situé dans le parking N° 988 | D14: =[1]BDD!M14 -> 2016.88 | E14: =[1]BDD!C14 -> T | F14: =[1]BDD!D14 -> BAILLY | G14: =[1]BDD!E14 -> 42020 | H14: =[1]BDD!F14 -> 42020 | I14: =IF(H14+14>TODAY(),$P$3,$Q$3) -> / | L14: =IF(J14+30>TODAY(),$P$3,$Q$3) -> /
A15: =[1]BDD!A15 -> 1922111/2 | B15: =[1]BDD!K15 -> BARCLAYS | C15: =[1]BDD!L15 -> DV - Réaménagement du 2ème et aménagement du 3ème étage | D15: =[1]BDD!M15 -> 188747.36 | E15: =[1]BDD!C15 -> T | F15: =[1]BDD!D15 -> RIQUER | G15: =[1]BDD!E15 -> 42023 | H15: =[1]BDD!F15 -> 42023 | I15: =IF(H15+14>TODAY(),$P$3,$Q$3) -> / | L15: =IF(J15+30>TODAY(),$P$3,$Q$3) -> /
A16: =[1]BDD!A16 -> 1956105/1 | B16: =[1]BDD!K16 -> SBM | C16: =[1]BDD!L16 -> Nouvel agencement des installations et des chauffages radiants au gaz | D16: =[1]BDD!M16 -> 26650 | E16: =[1]BDD!C16 -> T | F16: =[1]BDD!D16 -> DAVER | G16: =[1]BDD!E16 -> 42023 | H16: =[1]BDD!F16 -> 42023 | I16: =IF(H16+14>TODAY(),$P$3,$Q$3) -> / | L16: =IF(J16+30>TODAY(),$P$3,$Q$3) -> /
A17: =[1]BDD!A17 -> 1959422/1 | B17: =[1]BDD!K17 -> SMEG | C17: =[1]BDD!L17 -> Remplacement du calorifuge sur 4 ballons d'eau glacée | D17: =[1]BDD!M17 -> 6504.13 | E17: =[1]BDD!C17 -> T | F17: =[1]BDD!D17 -> DEPUY | G17: =[1]BDD!E17 -> 42024 | H17: =[1]BDD!F17 -> 42024 | I17: =IF(H17+14>TODAY(),$P$3,$Q$3) -> / | L17: =IF(J17+30>TODAY(),$P$3,$Q$3) -> /
A18: =[1]BDD!A18 -> 1960129/1 | B18: =[1]BDD!K18 -> SBM | C18: =[1]BDD!L18 -> Climatisation du poste électrique | D18: =[1]BDD!M18 -> 6987.5 | E18: =[1]BDD!C18 -> T | F18: =[1]BDD!D18 -> DAVER | G18: =[1]BDD!E18 -> 42025 | H18: =[1]BDD!F18 -> 42025 | I18: =IF(H18+14>TODAY(),$P$3,$Q$3) -> 0 | L18: =IF(J18+30>TODAY(),$P$3,$Q$3) -> /
A19: =[1]BDD!A19 -> 1961712/1 | B19: =[1]BDD!K19 -> SBM | C19: =[1]BDD!L19 -> BEACH HOTEL : Remplacement d'un coude fuyant sur le réseau chauffage piscine, mise en place d'une manchette et démontage du réseau provisoire | D19: =[1]BDD!M19 -> 2246.21 | E19: =[1]BDD!C19 -> A | F19: =[1]BDD!D19 -> BAILLY | G19: =[1]BDD!E19 -> 42026 | H19: =[1]BDD!F19 -> 42026 | I19: =IF(H19+14>TODAY(),$P$3,$Q$3) -> 0 | L19: =IF(J19+30>TODAY(),$P$3,$Q$3) -> /
A20: =[1]BDD!A20 -> 1961944/2 | B20: =[1]BDD!K20 -> DIETSMANN | C20: =[1]BDD!L20 -> GPC DIESTMAN 614/615 - Modification de l'emplacement des grilles | D20: =[1]BDD!M20 -> 736.04 | E20: =[1]BDD!C20 -> T | F20: =[1]BDD!D20 -> BAILLY | G20: =[1]BDD!E20 -> 42026 | H20: =[1]BDD!F20 -> 42026 | I20: =IF(H20+14>TODAY(),$P$3,$Q$3) -> 0 | L20: =IF(J20+30>TODAY(),$P$3,$Q$3) -> /
A21: =[1]BDD!A21 -> 1962065/2 | B21: =[1]BDD!K21 -> DIETSMANN | C21: =[1]BDD!L21 -> GPC DIESTMAN 617- Modification des plénums de diffusion de climatisation | D21: =[1]BDD!M21 -> 614.24 | E21: =[1]BDD!C21 -> T | F21: =[1]BDD!D21 -> BAILLY | G21: =[1]BDD!E21 -> 42026 | H21: =[1]BDD!F21 -> 42026 | I21: =IF(H21+14>TODAY(),$P$3,$Q$3) -> 0 | L21: =IF(J21+30>TODAY(),$P$3,$Q$3) -> /
A22: =[1]BDD!A22 -> 1962082/1 | B22: =[1]BDD!K22 -> DIETSMANN | C22: =[1]BDD!L22 -> GPC DIESTMAN 914- Modification de l'emplacement de la diffusion dans les bureaux | D22: =[1]BDD!M22 -> 1280.3 | E22: =[1]BDD!C22 -> T | F22: =[1]BDD!D22 -> BAILLY | G22: =[1]BDD!E22 -> 42026 | H22: =[1]BDD!F22 -> 42026 | I22: =IF(H22+14>TODAY(),$P$3,$Q$3) -> 0 | L22: =IF(J22+30>TODAY(),$P$3,$Q$3) -> /
A23: =[1]BDD!A23 -> 1962899/2 | B23: =[1]BDD!K23 -> CMTG | C23: =[1]BDD!L23 -> Dévoiement des évacuation pluviales situées e façade | D23: =[1]BDD!M23 -> 2220.47 | E23: =[1]BDD!C23 -> T | F23: =[1]BDD!D23 -> BAILLY | G23: =[1]BDD!E23 -> 42027 | H23: =[1]BDD!F23 -> 42027 | I23: =IF(H23+14>TODAY(),$P$3,$Q$3) -> 0 | L23: =IF(J23+30>TODAY(),$P$3,$Q$3) -> /
... A85: =[1]BDD!A85 -> 0 | B85: =[1]BDD!K85 -> 0 | C85: =[1]BDD!L85 -> 0 | D85: =[1]BDD!M85 -> 0 | E85: =[1]BDD!C85 -> 0 | F85: =[1]BDD!D85 -> 0 | G85: =[1]BDD!E85 -> 0 | H85: =[1]BDD!F85 -> 0 | I85: =IF(H85+14>TODAY(),$P$3,$Q$3) -> / | L85: =IF(J85+30>TODAY(),$P$3,$Q$3) -> /

Sheet Feuil2
C4: statut
C5: T
C6: A
C7: R

Sheet Feuil3
