Workbook
Name a: [1]Feuil5!$A$1:$A$14
Name aa: [1]Feuil5!$A$1:$A$14
Name amidiIN: #REF!
Name amidiOUT: #REF!
Name ANent: [1]Feuil5!$B$1:$B$12
Name APent: [1]Feuil5!$E$1:$E$15
Name APsor: [1]Feuil5!$F$1:$F$14
Name AVsor: [1]Feuil5!$D$1:$D$17
Name journées: #REF!
Name matinIN: #REF!
Name matinOUT: #REF!

Sheet JANVIER-19
C2: sam | D2: Matin | F2: Après-midi | H2: Info. | I2: fonction | J2: HEU | K2: heures+ | L2: HEURES | M2: Heures + | N2: HEURES | P2: HEURES | R2: TOTAL | S2: TOTAL | T2: Jours
C3: dim | D3: de | E3: à | F3: de | G3: à | H3: Importants | I3: 3:30/5:00 | J3: MATIN | K3: heures- | L3: AP-M | M3: Heures - | N3: MATIN - | O3: MATIN + | P3: AP-MIDI - | Q3: AP-MIDI + | R3: Heures - | S3: Heures +- | T3: congés
C4: lun | H4: pas date | I4: =IF(OR(H4="Jours fériés", H4="Jours de congés", H4="certificat", H4="sans certificat", H4="pas date", H4="Circonstance"),"0:00"*1,-"3:30"*1) -> 0 | J4: =(E4-D4) -> 0 | K4: =IF(OR(H4="Jours fériés", H4="Jours de congés", H4="certificat", H4="sans certificat", H4="pas date", H4="Circonstance"),"0:00",(-"1:00"+J4)) -> 0:00 | L4: =(G4-F4) -> 0 | M4: =IF(OR(H4="Jours fériés", H4="Jours de congés", H4="certificat", H4="sans certificat", H4="pas date", H4="Circonstance"),"0:00",(-"2:30"+L4)) -> 0:00 | N4: =IF(K4<0,K4,0) -> 0 | O4: =IF(K4<0,0,K4) -> 0:00 | P4: =IF(M4<0,M4,0) -> 0 | Q4: =IF(M4<0,0,M4) -> 0:00 | R4: =IF(OR(N4<0,P4<0),N4+P4,"-") -> - | S4: =IF(OR(O4>0,Q4>0),O4+Q4,0) -> 0 | T4: =IF(H4="jours de congés",-"3:48","0:00") -> 0:00
B5: 1 | C5: 4 | H5: Jours fériés | I5: =IF(OR(H5="Jours fériés", H5="Jours de congés", H5="certificat", H5="sans certificat", H5="pas date", H5="Circonstance"),"0:00"*1,-"3:30"*1) -> 0 | J5: =(E5-D5) -> 0 | K5: =IF(OR(H5="Jours fériés", H5="Jours de congés", H5="certificat", H5="sans certificat", H5="pas date", H5="Circonstance"),"0:00",(-"1:00"+J5)) -> 0:00 | L5: =(G5-F5) -> 0 | M5: =IF(OR(H5="Jours fériés", H5="Jours de congés", H5="certificat", H5="sans certificat", H5="pas date", H5="Circonstance"),"0:00",(-"2:30"+L5)) -> 0:00 | N5: =IF(K5<0,K5,0) -> 0 | O5: =IF(K5<0,0,K5) -> 0:00 | P5: =IF(M5<0,M5,0) -> 0 | Q5: =IF(M5<0,0,M5) -> 0:00 | R5: =IF(OR(N5<0,P5<0),N5+P5,"-") -> - | S5: =IF(OR(O5>0,Q5>0),O5+Q5,0) -> 0 | T5: =IF(H5="jours de congés",-"3:48","0:00") -> 0:00
B6: 2 | C6: mer | H6: Jours de congés | I6: =IF(OR(H6="Jours fériés", H6="Jours de congés", H6="certificat", H6="sans certificat", H6="pas date", H6="Circonstance"),"0:00"*1,-"5:00"*1) -> 0 | J6: =(E6-D6) -> 0 | K6: =IF(OR(H6="Jours fériés", H6="Jours de congés", H6="certificat", H6="sans certificat", H6="pas date", H6="Circonstance"),"0:00",(-"1:00"+J6)) -> 0:00 | L6: =(G6-F6) -> 0 | M6: =IF(OR(H6="Jours fériés", H6="Jours de congés", H6="certificat", H6="sans certificat", H6="pas date", H6="Circonstance"),"0:00",(-"2:30"+L6)) -> 0:00 | N6: =IF(K6<0,K6,0) -> 0 | O6: =IF(K6<0,0,K6) -> 0:00 | P6: =IF(M6<0,M6,0) -> 0 | Q6: =IF(M6<0,0,M6) -> 0:00 | R6: =IF(OR(N6<0,P6<0),N6+P6,"-") -> - | S6: =IF(OR(O6>0,Q6>0),O6+Q6,0) -> 0 | T6: =IF(H6="jours de congés",-"3:48","0:00") -> -0.15833333
B7: 3 | C7: jeu | H7: Jours de congés | I7: =IF(OR(H7="Jours fériés", H7="Jours de congés", H7="certificat", H7="sans certificat", H7="pas date", H7="Circonstance"),"0:00"*1,-"3:30"*1) -> 0 | J7: =(E7-D7) -> 0 | K7: =IF(OR(H7="Jours fériés", H7="Jours de congés", H7="certificat", H7="sans certificat", H7="pas date", H7="Circonstance"),"0:00",(-"1:00"+J7)) -> 0:00 | L7: =(G7-F7) -> 0 | M7: =IF(OR(H7="Jours fériés", H7="Jours de congés", H7="certificat", H7="sans certificat", H7="pas date", H7="Circonstance"),"0:00",(-"2:30"+L7)) -> 0:00 | N7: =IF(K7<0,K7,0) -> 0 | O7: =IF(K7<0,0,K7) -> 0:00 | P7: =IF(M7<0,M7,0) -> 0 | Q7: =IF(M7<0,0,M7) -> 0:00 | R7: =IF(OR(N7<0,P7<0),N7+P7,"-") -> - | S7: =IF(OR(O7>0,Q7>0),O7+Q7,0) -> 0 | T7: =IF(H7="jours de congés",-"3:48","0:00") -> -0.15833333
B8: 4 | C8: ven | H8: Jours de congés | I8: =IF(OR(H8="Jours fériés", H8="Jours de congés", H8="certificat", H8="sans certificat", H8="pas date", H8="Circonstance"),"0:00"*1,-"3:30"*1) -> 0 | J8: =(E8-D8) -> 0 | K8: =IF(OR(H8="Jours fériés", H8="Jours de congés", H8="certificat", H8="sans certificat", H8="pas date", H8="Circonstance"),"0:00",(-"1:00"+J8)) -> 0:00 | L8: =(G8-F8) -> 0 | M8: =IF(OR(H8="Jours fériés", H8="Jours de congés", H8="certificat", H8="sans certificat", H8="pas date", H8="Circonstance"),"0:00",(-"2:30"+L8)) -> 0:00 | N8: =IF(K8<0,K8,0) -> 0 | O8: =IF(K8<0,0,K8) -> 0:00 | P8: =IF(M8<0,M8,0) -> 0 | Q8: =IF(M8<0,0,M8) -> 0:00 | R8: =IF(OR(N8<0,P8<0),N8+P8,"-") -> - | S8: =IF(OR(O8>0,Q8>0),O8+Q8,0) -> 0 | T8: =IF(H8="jours de congés",-"3:48","0:00") -> -0.15833333
D9: sous total senaine 1 | I9: =SUM(I4:I8) -> 0 | J9: =SUM(J4:J8) -> 0 | K9: =SUM(K4:K8) -> 0 | L9: =SUM(L4:L8) -> 0 | M9: =SUM(M4:M8) -> 0 | R9: =IF(OR(N9<0,P9<0),N9+P9,"-") -> - | S9: =IF(OR(O9>0,Q9>0),O9+Q9,0) -> 0 | T9: =SUM(T4:T8) -> -0.475
B10: 5 | C10: sam | D10: Matin | F10: Après-midi | H10: Info. | I10: fonction | J10: HEU | K10: heures+ | R10: =IF(OR(N10<0,P10<0),N10+P10,"-") -> - | S10: =IF(OR(O10>0,Q10>0),O10+Q10,0) -> 0 | T10: Jours
B11: 6 | C11: dim | D11: de | E11: à | F11: de | G11: à | H11: Importants | I11: 3:30/5:00 | J11: MATIN | K11: heures- | R11: =IF(OR(N11<0,P11<0),N11+P11,"-") -> - | S11: =IF(OR(O11>0,Q11>0),O11+Q11,0) -> 0 | T11: congés
B12: 7 | C12: lun | D12: 0.29166667 | E12: 0.33333333 | F12: 0.625 | G12: 0.72916667 | H12: - | I12: =IF(OR(H12="Jours fériés", H12="Jours de congés", H12="certificat", H12="sans certificat", H12="pas date", H12="Circonstance"),"0:00"*1,-"3:30"*1) -> -0.14583333 | J12: =(E12-D12) -> 0.041666667 | K12: =IF(OR(H12="Jours fériés", H12="Jours de congés", H12="certificat", H12="sans certificat", H12="pas date", H12="Circonstance"),"0:00",(-"1:00"+J12)) -> -3.469447e-17 | L12: =(G12-F12) -> 0.10416667 | M12: =IF(OR(H12="Jours fériés", H12="Jours de congés", H12="certificat", H12="sans certificat", H12="pas date", H12="Circonstance"),"0:00",(-"2:30"+L12)) -> -4.1633363e-17 | N12: =IF(K12<0,K12,0) -> -3.469447e-17 | O12: =IF(K12<0,0,K12) -> 0 | P12: =IF(M12<0,M12,0) -> -4.1633363e-17 | Q12: =IF(M12<0,0,M12) -> 0 | R12: =IF(OR(N12<0,P12<0),N12+P12,"-") -> -7.6327833e-17 | S12: =IF(OR(O12>0,Q12>0),O12+Q12,0) -> 0 | T12: =IF(H12="jours de congés",-"3:48","0:00") -> 0:00
B13: 8 | C13: mar | D13: 0.29166667 | E13: 0.33333333 | F13: 0.625 | G13: 0.72916667 | H13: - | I13: =IF(OR(H13="Jours fériés", H13="Jours de congés", H13="certificat", H13="sans certificat", H13="pas date", H13="Circonstance"),"0:00"*1,-"3:30"*1) -> -0.14583333 | J13: =(E13-D13) -> 0.041666667 | K13: =IF(OR(H13="Jours fériés", H13="Jours de congés", H13="certificat", H13="sans certificat", H13="pas date", H13="Circonstance"),"0:00",(-"1:00"+J13)) -> -3.469447e-17 | L13: =(G13-F13) -> 0.10416667 | M13: =IF(OR(H13="Jours fériés", H13="Jours de congés", H13="certificat", H13="sans certificat", H13="pas date", H13="Circonstance"),"0:00",(-"2:30"+L13)) -> -4.1633363e-17 | N13: =IF(K13<0,K13,0) -> -3.469447e-17 | O13: =IF(K13<0,0,K13) -> 0 | P13: =IF(M13<0,M13,0) -> -4.1633363e-17 | Q13: =IF(M13<0,0,M13) -> 0 | R13: =IF(OR(N13<0,P13<0),N13+P13,"-") -> -7.6327833e-17 | S13: =IF(OR(O13>0,Q13>0),O13+Q13,0) -> 0 | T13: =IF(H13="jours de congés",-"3:48","0:00") -> 0:00
B14: 9 | C14: mer | D14: 0.29166667 | E14: 0.33333333 | F14: 0.49305556 | G14: 0.66666667 | H14: - | I14: =IF(OR(H14="Jours fériés", H14="Jours de congés", H14="certificat", H14="sans certificat", H14="pas date", H14="Circonstance"),"0:00"*1,-"5:00"*1) -> -0.20833333 | J14: =(E14-D14) -> 0.041666667 | K14: =IF(OR(H14="Jours fériés", H14="Jours de congés", H14="certificat", H14="sans certificat", H14="pas date", H14="Circonstance"),"0:00",(-"1:00"+J14)) -> -3.469447e-17 | L14: =(G14-F14) -> 0.17361111 | M14: =IF(OR(H14="Jours fériés", H14="Jours de congés", H14="certificat", H14="sans certificat", H14="pas date", H14="Circonstance"),"0:00",(-"4:00"+L14)) -> 0.0069444444 | N14: =IF(K14<0,K14,0) -> -3.469447e-17 | O14: =IF(K14<0,0,K14) -> 0 | P14: =IF(M14<0,M14,0) -> 0 | Q14: =IF(M14<0,0,M14) -> 0.0069444444 | R14: =IF(OR(N14<0,P14<0),N14+P14,"-") -> -3.469447e-17 | S14: =IF(OR(O14>0,Q14>0),O14+Q14,0) -> 0.0069444444 | T14: =IF(H14="jours de congés",-"3:48","0:00") -> 0:00
B15: 10 | C15: jeu | H15: récup. TOT | I15: =IF(OR(H15="Jours fériés", H15="Jours de congés", H15="certificat", H15="sans certificat", H15="pas date", H15="Circonstance"),"0:00"*1,-"3:30"*1) -> -0.14583333 | J15: =(E15-D15) -> 0 | K15: =IF(OR(H15="Jours fériés", H15="Jours de congés", H15="certificat", H15="sans certificat", H15="pas date", H15="Circonstance"),"0:00",(-"1:00"+J15)) -> -0.041666667 | L15: =(G15-F15) -> 0 | M15: =IF(OR(H15="Jours fériés", H15="Jours de congés", H15="certificat", H15="sans certificat", H15="pas date", H15="Circonstance"),"0:00",(-"2:30"+L15)) -> -0.10416667 | N15: =IF(K15<0,K15,0) -> -0.041666667 | O15: =IF(K15<0,0,K15) -> 0 | P15: =IF(M15<0,M15,0) -> -0.10416667 | Q15: =IF(M15<0,0,M15) -> 0 | R15: =IF(OR(N15<0,P15<0),N15+P15,"-") -> -0.14583333 | S15: =IF(OR(O15>0,Q15>0),O15+Q15,0) -> 0 | T15: =IF(H15="jours de congés",-"3:48","0:00") -> 0:00
B16: 11 | C16: ven | H16: sans certificat | I16: =IF(OR(H16="Jours fériés", H16="Jours de congés", H16="certificat", H16="sans certificat", H16="pas date", H16="Circonstance"),"0:00"*1,-"3:30"*1) -> 0 | J16: =(E16-D16) -> 0 | K16: =IF(OR(H16="Jours fériés", H16="Jours de congés", H16="certificat", H16="sans certificat", H16="pas date", H16="Circonstance"),"0:00",(-"1:00"+J16)) -> 0:00 | L16: =(G16-F16) -> 0 | M16: =IF(OR(H16="Jours fériés", H16="Jours de congés", H16="certificat", H16="sans certificat", H16="pas date", H16="Circonstance"),"0:00",(-"2:30"+L16)) -> 0:00 | N16: =IF(K16<0,K16,0) -> 0 | O16: =IF(K16<0,0,K16) -> 0:00 | P16: =IF(M16<0,M16,0) -> 0 | Q16: =IF(M16<0,0,M16) -> 0:00 | R16: =IF(OR(N16<0,P16<0),N16+P16,"-") -> - | S16: =IF(OR(O16>0,Q16>0),O16+Q16,0) -> 0 | T16: =IF(H16="jours de congés",-"3:48","0:00") -> 0:00
D17: sous total senaine 2 | I17: =SUM(I12:I16) -> -0.64583333 | J17: =SUM(J12:J16) -> 0.125 | K17: =SUM(K12:K16) -> -0.041666667 | L17: =SUM(L12:L16) -> 0.38194444 | M17: =SUM(M12:M16) -> -0.097222222 | R17: =IF(OR(N17<0,P17<0),N17+P17,"-") -> - | T17: =SUM(T12:T16) -> 0
B18: 12 | C18: sam | D18: Matin | F18: Après-midi | H18: Info. | I18: fonction | J18: HEU | R18: =IF(OR(N18<0,P18<0),N18+P18,"-") -> - | S18: =IF(OR(O18>0,Q18>0),O18+Q18,0) -> 0 | T18: Jours
B19: 13 | C19: dim | D19: de | E19: à | F19: de | G19: à | H19: Importants | I19: 3:30/5:00 | J19: MATIN | R19: =IF(OR(N19<0,P19<0),N19+P19,"-") -> - | S19: =IF(OR(O19>0,Q19>0),O19+Q19,0) -> 0 | T19: congés
B20: 14 | C20: lun | H20: certificat | I20: =IF(OR(H20="Jours fériés", H20="Jours de congés", H20="certificat", H20="sans certificat", H20="pas date", H20="Circonstance"),"0:00"*1,-"3:30"*1) -> 0 | J20: =(E20-D20) -> 0 | K20: =IF(OR(H20="Jours fériés", H20="Jours de congés", H20="certificat", H20="sans certificat", H20="pas date", H20="Circonstance"),"0:00",(-"1:00"+J20)) -> 0:00 | L20: =(G20-F20) -> 0 | M20: =IF(OR(H20="Jours fériés", H20="Jours de congés", H20="certificat", H20="sans certificat", H20="pas date", H20="Circonstance"),"0:00",(-"2:30"+L20)) -> 0:00 | N20: =IF(K20<0,K20,0) -> 0 | O20: =IF(K20<0,0,K20) -> 0:00 | P20: =IF(M20<0,M20,0) -> 0 | Q20: =IF(M20<0,0,M20) -> 0:00 | R20: =IF(OR(N20<0,P20<0),N20+P20,"-") -> - | S20: =IF(OR(O20>0,Q20>0),O20+Q20,0) -> 0 | T20: =IF(H20="jours de congés",-"3:48","0:00") -> 0:00
B21: 15 | C21: mar | H21: certificat | I21: =IF(OR(H21="Jours fériés", H21="Jours de congés", H21="certificat", H21="sans certificat", H21="pas date", H21="Circonstance"),"0:00"*1,-"3:30"*1) -> 0 | J21: =(E21-D21) -> 0 | K21: =IF(OR(H21="Jours fériés", H21="Jours de congés", H21="certificat", H21="sans certificat", H21="pas date", H21="Circonstance"),"0:00",(-"1:00"+J21)) -> 0:00 | L21: =(G21-F21) -> 0 | M21: =IF(OR(H21="Jours fériés", H21="Jours de congés", H21="certificat", H21="sans certificat", H21="pas date", H21="Circonstance"),"0:00",(-"2:30"+L21)) -> 0:00 | N21: =IF(K21<0,K21,0) -> 0 | O21: =IF(K21<0,0,K21) -> 0:00 | P21: =IF(M21<0,M21,0) -> 0 | Q21: =IF(M21<0,0,M21) -> 0:00 | R21: =IF(OR(N21<0,P21<0),N21+P21,"-") -> - | S21: =IF(OR(O21>0,Q21>0),O21+Q21,0) -> 0 | T21: =IF(H21="jours de congés",-"3:48","0:00") -> 0:00
B22: 16 | C22: mer | H22: certificat | I22: =IF(OR(H22="Jours fériés", H22="Jours de congés", H22="certificat", H22="sans certificat", H22="pas date", H22="Circonstance"),"0:00"*1,-"5:00"*1) -> 0 | J22: =(E22-D22) -> 0 | K22: =IF(OR(H22="Jours fériés", H22="Jours de congés", H22="certificat", H22="sans certificat", H22="pas date", H22="Circonstance"),"0:00",(-"1:00"+J22)) -> 0:00 | L22: =(G22-F22) -> 0 | M22: =IF(OR(H22="Jours fériés", H22="Jours de congés", H22="certificat", H22="sans certificat", H22="pas date", H22="Circonstance"),"0:00",(-"4:00"+L22)) -> 0:00 | N22: =IF(K22<0,K22,0) -> 0 | O22: =IF(K22<0,0,K22) -> 0:00 | P22: =IF(M22<0,M22,0) -> 0 | Q22: =IF(M22<0,0,M22) -> 0:00 | R22: =IF(OR(N22<0,P22<0),N22+P22,"-") -> - | S22: =IF(OR(O22>0,Q22>0),O22+Q22,0) -> 0 | T22: =IF(H22="jours de congés",-"3:48","0:00") -> 0:00
B23: 17 | C23: jeu | H23: certificat | I23: =IF(OR(H23="Jours fériés", H23="Jours de congés", H23="certificat", H23="sans certificat", H23="pas date", H23="Circonstance"),"0:00"*1,-"3:30"*1) -> 0 | J23: =(E23-D23) -> 0 | K23: =IF(OR(H23="Jours fériés", H23="Jours de congés", H23="certificat", H23="sans certificat", H23="pas date", H23="Circonstance"),"0:00",(-"1:00"+J23)) -> 0:00 | L23: =(G23-F23) -> 0 | M23: =IF(OR(H23="Jours fériés", H23="Jours de congés", H23="certificat", H23="sans certificat", H23="pas date", H23="Circonstance"),"0:00",(-"2:30"+L23)) -> 0:00 | N23: =IF(K23<0,K23,0) -> 0 | O23: =IF(K23<0,0,K23) -> 0:00 | P23: =IF(M23<0,M23,0) -> 0 | Q23: =IF(M23<0,0,M23) -> 0:00 | R23: =IF(OR(N23<0,P23<0),N23+P23,"-") -> - | S23: =IF(OR(O23>0,Q23>0),O23+Q23,0) -> 0 | T23: =IF(H23="jours de congés",-"3:48","0:00") -> 0:00
B24: 18 | C24: ven | H24: certificat | I24: =IF(OR(H24="Jours fériés", H24="Jours de congés", H24="certificat", H24="sans certificat", H24="pas date", H24="Circonstance"),"0:00"*1,-"3:30"*1) -> 0 | J24: =(E24-D24) -> 0 | K24: =IF(OR(H24="Jours fériés", H24="Jours de congés", H24="certificat", H24="sans certificat", H24="pas date", H24="Circonstance"),"0:00",(-"1:00"+J24)) -> 0:00 | L24: =(G24-F24) -> 0 | M24: =IF(OR(H24="Jours fériés", H24="Jours de congés", H24="certificat", H24="sans certificat", H24="pas date", H24="Circonstance"),"0:00",(-"2:30"+L24)) -> 0:00 | N24: =IF(K24<0,K24,0) -> 0 | O24: =IF(K24<0,0,K24) -> 0:00 | P24: =IF(M24<0,M24,0) -> 0 | Q24: =IF(M24<0,0,M24) -> 0:00 | R24: =IF(OR(N24<0,P24<0),N24+P24,"-") -> - | S24: =IF(OR(O24>0,Q24>0),O24+Q24,0) -> 0 | T24: =IF(H24="jours de congés",-"3:48","0:00") -> 0:00
D25: sous total senaine 3 | I25: =SUM(I20:I24) -> 0 | J25: =SUM(J20:J24) -> 0 | K25: =SUM(K20:K24) -> 0 | L25: =SUM(L20:L24) -> 0 | M25: =SUM(M20:M24) -> 0 | N25: =IF(K25<0,K25,0) -> 0 | O25: =IF(K25<0,0,K25) -> 0 | P25: =IF(M25<0,M25,0) -> 0 | Q25: =IF(M25<0,0,M25) -> 0 | R25: =IF(OR(N25<0,P25<0),N25+P25,"-") -> - | T25: =SUM(T20:T24) -> 0
B26: 19 | C26: sam | D26: Matin | F26: Après-midi | H26: Info. | I26: fonction | J26: HEU | R26: =IF(OR(N26<0,P26<0),N26+P26,"-") -> - | S26: =IF(OR(O26>0,Q26>0),O26+Q26,0) -> 0 | T26: Jours
B27: 20 | C27: dim | D27: de | E27: à | F27: de | G27: à | H27: Importants | I27: 3:30/5:00 | J27: MATIN | R27: =IF(OR(N27<0,P27<0),N27+P27,"-") -> - | S27: =IF(OR(O27>0,Q27>0),O27+Q27,0) -> 0 | T27: congés
B28: 21 | C28: lun | H28: certificat | I28: =IF(OR(H28="Jours fériés", H28="Jours de congés", H28="certificat", H28="sans certificat", H28="pas date", H28="Circonstance"),"0:00"*1,-"3:30"*1) -> 0 | J28: =(E28-D28) -> 0 | K28: =IF(OR(H28="Jours fériés", H28="Jours de congés", H28="certificat", H28="sans certificat", H28="pas date", H28="Circonstance"),"0:00",(-"1:00"+J28)) -> 0:00 | L28: =(G28-F28) -> 0 | M28: =IF(OR(H28="Jours fériés", H28="Jours de congés", H28="certificat", H28="sans certificat", H28="pas date", H28="Circonstance"),"0:00",(-"2:30"+L28)) -> 0:00 | N28: =IF(K28<0,K28,0) -> 0 | O28: =IF(K28<0,0,K28) -> 0:00 | P28: =IF(M28<0,M28,0) -> 0 | Q28: =IF(M28<0,0,M28) -> 0:00 | R28: =IF(OR(N28<0,P28<0),N28+P28,"-") -> - | S28: =IF(OR(O28>0,Q28>0),O28+Q28,0) -> 0 | T28: =IF(A28="jours de congés",-"3:48","0:00") -> 0:00
B29: 22 | C29: mar | H29: certificat | I29: =IF(OR(H29="Jours fériés", H29="Jours de congés", H29="certificat", H29="sans certificat", H29="pas date", H29="Circonstance"),"0:00"*1,-"3:30"*1) -> 0 | J29: =(E29-D29) -> 0 | K29: =IF(OR(H29="Jours fériés", H29="Jours de congés", H29="certificat", H29="sans certificat", H29="pas date", H29="Circonstance"),"0:00",(-"1:00"+J29)) -> 0:00 | L29: =(G29-F29) -> 0 | M29: =IF(OR(H29="Jours fériés", H29="Jours de congés", H29="certificat", H29="sans certificat", H29="pas date", H29="Circonstance"),"0:00",(-"2:30"+L29)) -> 0:00 | N29: =IF(K29<0,K29,0) -> 0 | O29: =IF(K29<0,0,K29) -> 0:00 | P29: =IF(M29<0,M29,0) -> 0 | Q29: =IF(M29<0,0,M29) -> 0:00 | R29: =IF(OR(N29<0,P29<0),N29+P29,"-") -> - | S29: =IF(OR(O29>0,Q29>0),O29+Q29,0) -> 0 | T29: =IF(A29="jours de congés",-"3:48","0:00") -> 0:00
B30: 23 | C30: mer | H30: certificat | I30: =IF(OR(H30="Jours fériés", H30="Jours de congés", H30="certificat", H30="sans certificat", H30="pas date", H30="Circonstance"),"0:00"*1,-"5:00"*1) -> 0 | J30: =(E30-D30) -> 0 | K30: =IF(OR(H30="Jours fériés", H30="Jours de congés", H30="certificat", H30="sans certificat", H30="pas date", H30="Circonstance"),"0:00",(-"1:00"+J30)) -> 0:00 | L30: =(G30-F30) -> 0 | M30: =IF(OR(H30="Jours fériés", H30="Jours de congés", H30="certificat", H30="sans certificat", H30="pas date", H30="Circonstance"),"0:00",(-"4:00"+L30)) -> 0:00 | N30: =IF(K30<0,K30,0) -> 0 | O30: =IF(K30<0,0,K30) -> 0:00 | P30: =IF(M30<0,M30,0) -> 0 | Q30: =IF(M30<0,0,M30) -> 0:00 | R30: =IF(OR(N30<0,P30<0),N30+P30,"-") -> - | S30: =IF(OR(O30>0,Q30>0),O30+Q30,0) -> 0 | T30: =IF(A30="jours de congés",-"3:48","0:00") -> 0:00
B31: 24 | C31: jeu | H31: certificat | I31: =IF(OR(H31="Jours fériés", H31="Jours de congés", H31="certificat", H31="sans certificat", H31="pas date", H31="Circonstance"),"0:00"*1,-"3:30"*1) -> 0 | J31: =(E31-D31) -> 0 | K31: =IF(OR(H31="Jours fériés", H31="Jours de congés", H31="certificat", H31="sans certificat", H31="pas date", H31="Circonstance"),"0:00",(-"1:00"+J31)) -> 0:00 | L31: =(G31-F31) -> 0 | M31: =IF(OR(H31="Jours fériés", H31="Jours de congés", H31="certificat", H31="sans certificat", H31="pas date", H31="Circonstance"),"0:00",(-"2:30"+L31)) -> 0:00 | N31: =IF(K31<0,K31,0) -> 0 | O31: =IF(K31<0,0,K31) -> 0:00 | P31: =IF(M31<0,M31,0) -> 0 | Q31: =IF(M31<0,0,M31) -> 0:00 | R31: =IF(OR(N31<0,P31<0),N31+P31,"-") -> - | S31: =IF(OR(O31>0,Q31>0),O31+Q31,0) -> 0 | T31: =IF(A31="jours de congés",-"3:48","0:00") -> 0:00
B32: 25 | C32: ven | H32: certificat | I32: =IF(OR(H32="Jours fériés", H32="Jours de congés", H32="certificat", H32="sans certificat", H32="pas date", H32="Circonstance"),"0:00"*1,-"3:30"*1) -> 0 | J32: =(E32-D32) -> 0 | K32: =IF(OR(H32="Jours fériés", H32="Jours de congés", H32="certificat", H32="sans certificat", H32="pas date", H32="Circonstance"),"0:00",(-"1:00"+J32)) -> 0:00 | L32: =(G32-F32) -> 0 | M32: =IF(OR(H32="Jours fériés", H32="Jours de congés", H32="certificat", H32="sans certificat", H32="pas date", H32="Circonstance"),"0:00",(-"2:30"+L32)) -> 0:00 | N32: =IF(K32<0,K32,0) -> 0 | O32: =IF(K32<0,0,K32) -> 0:00 | P32: =IF(M32<0,M32,0) -> 0 | Q32: =IF(M32<0,0,M32) -> 0:00 | R32: =IF(OR(N32<0,P32<0),N32+P32,"-") -> - | S32: =IF(OR(O32>0,Q32>0),O32+Q32,0) -> 0 | T32: =IF(A32="jours de congés",-"3:48","0:00") -> 0:00
D33: sous total senaine 4 | I33: =SUM(I28:I32) -> 0 | J33: =SUM(J28:J32) -> 0 | K33: =SUM(K28:K32) -> 0 | L33: =SUM(L28:L32) -> 0 | M33: =SUM(M28:M32) -> 0 | N33: =IF(K33<0,K33,0) -> 0 | O33: =IF(K33<0,0,K33) -> 0 | P33: =IF(M33<0,M33,0) -> 0 | Q33: =IF(M33<0,0,M33) -> 0 | R33: =IF(OR(N33<0,P33<0),N33+P33,"-") -> - | T33: =SUM(T28:T32) -> 0
B34: 26 | C34: sam | D34: Matin | F34: Après-midi | H34: Info. | I34: fonction | J34: HEU | R34: =IF(OR(N34<0,P34<0),N34+P34,"-") -> - | S34: =IF(OR(O34>0,Q34>0),O34+Q34,0) -> 0 | T34: Jours
B35: 27 | C35: dim | D35: de | E35: à | F35: de | G35: à | H35: Importants | I35: 3:30/5:00 | J35: MATIN | R35: =IF(OR(N35<0,P35<0),N35+P35,"-") -> - | S35: =IF(OR(O35>0,Q35>0),O35+Q35,0) -> 0 | T35: congés
B36: 28 | C36: lun | D36: 0.29166667 | E36: 0.33333333 | F36: 0.625 | G36: 0.72916667 | H36: - | I36: =IF(OR(H36="Jours fériés", H36="Jours de congés", H36="certificat", H36="sans certificat", H36="pas date", H36="Circonstance"),"0:00"*1,-"3:30"*1) -> -0.14583333 | J36: =(E36-D36) -> 0.041666667 | K36: =IF(OR(H36="Jours fériés", H36="Jours de congés", H36="certificat", H36="sans certificat", H36="pas date", H36="Circonstance"),"0:00",(-"1:00"+J36)) -> -3.469447e-17 | L36: =(G36-F36) -> 0.10416667 | M36: =IF(OR(H36="Jours fériés", H36="Jours de congés", H36="certificat", H36="sans certificat", H36="pas date", H36="Circonstance"),"0:00",(-"2:30"+L36)) -> -4.1633363e-17 | N36: =IF(K36<0,K36,"-") -> -3.469447e-17 | O36: =IF(K36<0,0,K36) -> 0 | P36: =IF(M36<0,M36,0) -> -4.1633363e-17 | Q36: =IF(M36<0,0,M36) -> 0 | R36: =IF(OR(N36<0,P36<0),N36+P36,"-") -> -7.6327833e-17 | S36: =IF(OR(O36>0,Q36>0),O36+Q36,0) -> 0 | T36: =IF(A36="jours de congés",-"3:48","0:00") -> 0:00
B37: 29 | C37: mar | D37: 0.29166667 | E37: 0.33333333 | F37: 0.625 | G37: 0.72916667 | H37: - | I37: =IF(OR(H37="Jours fériés", H37="Jours de congés", H37="certificat", H37="sans certificat", H37="pas date", H37="Circonstance"),"0:00"*1,-"3:30"*1) -> -0.14583333 | J37: =(E37-D37) -> 0.041666667 | K37: =IF(OR(H37="Jours fériés", H37="Jours de congés", H37="certificat", H37="sans certificat", H37="pas date", H37="Circonstance"),"0:00",(-"1:00"+J37)) -> -3.469447e-17 | L37: =(G37-F37) -> 0.10416667 | M37: =IF(OR(H37="Jours fériés", H37="Jours de congés", H37="certificat", H37="sans certificat", H37="pas date", H37="Circonstance"),"0:00",(-"2:30"+L37)) -> -4.1633363e-17 | N37: =IF(K37<0,K37," - ") -> -3.469447e-17 | O37: =IF(K37<0,0,K37) -> 0 | P37: =IF(M37<0,M37,0) -> -4.1633363e-17 | Q37: =IF(M37<0,0,M37) -> 0 | R37: =IF(OR(N37<0,P37<0),N37+P37,"-") -> -7.6327833e-17 | S37: =IF(OR(O37>0,Q37>0),O37+Q37,0) -> 0 | T37: =IF(A37="jours de congés",-"3:48","0:00") -> 0:00
B38: 30 | C38: mer | D38: 0.29166667 | E38: 0.33333333 | F38: 0.49305556 | G38: 0.625 | H38: récup. Partielle | I38: =IF(OR(H38="Jours fériés", H38="Jours de congés", H38="certificat", H38="sans certificat", H38="pas date", H38="Circonstance"),"0:00"*1,-"5:00"*1) -> -0.20833333 | J38: =(E38-D38) -> 0.041666667 | K38: =IF(OR(H38="Jours fériés", H38="Jours de congés", H38="certificat", H38="sans certificat", H38="pas date", H38="Circonstance"),"0:00",(-"1:00"+J38)) -> -3.469447e-17 | L38: =(G38-F38) -> 0.13194444 | M38: =IF(OR(H38="Jours fériés", H38="Jours de congés", H38="certificat", H38="sans certificat", H38="pas date", H38="Circonstance"),"0:00",(-"4:00"+L38)) -> -0.034722222 | N38: =IF(K38<0,K38," - ") -> -3.469447e-17 | O38: =IF(K38<0,0,K38) -> 0 | P38: =IF(M38<0,M38,0) -> -0.034722222 | Q38: =IF(M38<0,0,M38) -> 0 | R38: =IF(OR(N38<0,P38<0),N38+P38,"-") -> -0.034722222 | S38: =IF(OR(O38>0,Q38>0),O38+Q38,0) -> 0 | T38: =IF(A38="jours de congés",-"3:48","0:00") -> 0:00
B39: 31 | C39: jeu | H39: récup. TOT | I39: =IF(OR(H39="Jours fériés", H39="Jours de congés", H39="certificat", H39="sans certificat", H39="pas date", H39="Circonstance"),"0:00"*1,-"3:30"*1) -> -0.14583333 | J39: =(E39-D39) -> 0 | K39: =IF(OR(H39="Jours fériés", H39="Jours de congés", H39="certificat", H39="sans certificat", H39="pas date", H39="Circonstance"),"0:00",(-"1:00"+J39)) -> -0.041666667 | L39: =(G39-F39) -> 0 | M39: =IF(OR(H39="Jours fériés", H39="Jours de congés", H39="certificat", H39="sans certificat", H39="pas date", H39="Circonstance"),"0:00",(-"2:30"+L39)) -> -0.10416667 | N39: =IF(K39<0,K39," - ") -> -0.041666667 | O39: =IF(K39<0,0,K39) -> 0 | P39: =IF(M39<0,M39,0) -> -0.10416667 | Q39: =IF(M39<0,0,M39) -> 0 | R39: =IF(OR(N39<0,P39<0),N39+P39,"-") -> -0.14583333 | S39: =IF(OR(O39>0,Q39>0),O39+Q39,0) -> 0 | T39: =IF(A39="jours de congés",-"3:48","0:00") -> 0:00
H40: pas date | I40: =IF(OR(H40="Jours fériés", H40="Jours de congés", H40="certificat", H40="sans certificat", H40="pas date", H40="Circonstance"),"0:00"*1,-"3:30"*1) -> 0 | J40: =(E40-D40) -> 0 | K40: =IF(OR(H40="Jours fériés", H40="Jours de congés", H40="certificat", H40="sans certificat", H40="pas date", H40="Circonstance"),"0:00",(-"1:00"+J40)) -> 0:00 | L40: =(G40-F40) -> 0 | M40: =IF(OR(H40="Jours fériés", H40="Jours de congés", H40="certificat", H40="sans certificat", H40="pas date", H40="Circonstance"),"0:00",(-"2:30"+L40)) -> 0:00 | N40: =IF(K40<0,K40," - ") -> - | O40: =IF(K40<0,0,K40) -> 0:00 | P40: =IF(M40<0,M40,0) -> 0 | Q40: =IF(M40<0,0,M40) -> 0:00 | R40: =IF(OR(N40<0,P40<0),N40+P40,"-") -> - | S40: =IF(OR(O40>0,Q40>0),O40+Q40,0) -> 0 | T40: =IF(A40="jours de congés",-"3:48","0:00") -> 0:00
D41: sous total senaine 5 | I41: =SUM(I36:I40) -> -0.64583333 | J41: =SUM(J36:J40) -> 0.125 | K41: =SUM(K36:K40) -> -0.041666667 | L41: =SUM(L36:L40) -> 0.34027778 | M41: =SUM(M36:M40) -> -0.13888889 | T41: =SUM(T36:T40) -> 0
...

Sheet 1trimjan19
D1: Heures - | E1: Heures +
B2: pas de date | D2: =IF('JANVIER-19'!R4<0,'JANVIER-19'!R4," 0 ") -> 0 | F2: =IF('JANVIER-19'!S4>0,'JANVIER-19'!S4," 0 ") -> 0
B3: 42004 | D3: =IF('JANVIER-19'!R5<0,'JANVIER-19'!R5," 0 ") -> 0 | F3: =IF('JANVIER-19'!S5>0,'JANVIER-19'!S5," 0 ") -> 0
B4: 42005 | D4: =IF('JANVIER-19'!R6<0,'JANVIER-19'!R6," 0 ") -> 0 | F4: =IF('JANVIER-19'!S6>0,'JANVIER-19'!S6," 0 ") -> 0
B5: 42006 | D5: =IF('JANVIER-19'!R7<0,'JANVIER-19'!R7," 0 ") -> 0 | F5: =IF('JANVIER-19'!S7>0,'JANVIER-19'!S7," 0 ") -> 0
B6: 42007 | D6: =IF('JANVIER-19'!R8<0,'JANVIER-19'!R8," 0 ") -> 0 | F6: =IF('JANVIER-19'!S8>0,'JANVIER-19'!S8," 0 ") -> 0
D7: =IF('JANVIER-19'!R9<0,'JANVIER-19'!R9," 0 ") -> 0 | F7: =IF('JANVIER-19'!S9>0,'JANVIER-19'!S9," 0 ") -> 0
B8: 42008 | D8: =IF('JANVIER-19'!R10<0,'JANVIER-19'!R10," 0 ") -> 0 | F8: =IF('JANVIER-19'!S10>0,'JANVIER-19'!S10," 0 ") -> 0
B9: 42009 | D9: =IF('JANVIER-19'!R11<0,'JANVIER-19'!R11," 0 ") -> 0 | F9: =IF('JANVIER-19'!S11>0,'JANVIER-19'!S11," 0 ") -> 0
B10: 42010 | D10: =IF('JANVIER-19'!R12<0,'JANVIER-19'!R12,"0:00") -> -7.6327833e-17 | F10: =IF('JANVIER-19'!S12>0,'JANVIER-19'!S12," 0 ") -> 0
B11: 42011 | D11: =IF('JANVIER-19'!R13<0,'JANVIER-19'!R13,"0:00") -> -7.6327833e-17 | F11: =IF('JANVIER-19'!S13>0,'JANVIER-19'!S13," 0 ") -> 0
B12: 42012 | D12: =IF('JANVIER-19'!R14<0,'JANVIER-19'!R14,"0:00") -> -3.469447e-17 | F12: =IF('JANVIER-19'!S14>0,'JANVIER-19'!S14," 0 ") -> 0.0069444444
B13: 42013 | D13: =IF('JANVIER-19'!R15<0,'JANVIER-19'!R15,"0:00") -> -0.14583333 | F13: =IF('JANVIER-19'!S15>0,'JANVIER-19'!S15," 0 ") -> 0
B14: 42014 | D14: =IF('JANVIER-19'!R16<0,'JANVIER-19'!R16," 0 ") -> 0 | F14: =IF('JANVIER-19'!S16>0,'JANVIER-19'!S16," 0 ") -> 0
F15: =IF('JANVIER-19'!S17>0,'JANVIER-19'!S17," 0 ") -> 0
B16: 42015 | D16: =IF('JANVIER-19'!R18<0,'JANVIER-19'!R18," 0 ") -> 0 | F16: =IF('JANVIER-19'!S18>0,'JANVIER-19'!S18," 0 ") -> 0
B17: 42016 | D17: =IF('JANVIER-19'!R19<0,'JANVIER-19'!R19," 0 ") -> 0 | F17: =IF('JANVIER-19'!S19>0,'JANVIER-19'!S19," 0 ") -> 0
B18: 42017 | D18: =IF('JANVIER-19'!R20<0,'JANVIER-19'!R20," 0 ") -> 0 | F18: =IF('JANVIER-19'!S20>0,'JANVIER-19'!S20," 0 ") -> 0
B19: 42018 | D19: =IF('JANVIER-19'!R21<0,'JANVIER-19'!R21," 0 ") -> 0 | F19: =IF('JANVIER-19'!S21>0,'JANVIER-19'!S21," 0 ") -> 0
B20: 42019 | D20: =IF('JANVIER-19'!R22<0,'JANVIER-19'!R22," 0 ") -> 0 | F20: =IF('JANVIER-19'!S22>0,'JANVIER-19'!S22," 0 ") -> 0
B21: 42020 | D21: =IF('JANVIER-19'!R23<0,'JANVIER-19'!R23," 0 ") -> 0 | F21: =IF('JANVIER-19'!S23>0,'JANVIER-19'!S23," 0 ") -> 0
B22: 42021 | D22: =IF('JANVIER-19'!R24<0,'JANVIER-19'!R24," 0 ") -> 0 | F22: =IF('JANVIER-19'!S24>0,'JANVIER-19'!S24," 0 ") -> 0
D23: =IF('JANVIER-19'!R25<0,'JANVIER-19'!R25," 0 ") -> 0 | F23: =IF('JANVIER-19'!S25>0,'JANVIER-19'!S25," 0 ") -> 0
B24: 42022 | D24: =IF('JANVIER-19'!R26<0,'JANVIER-19'!R26," 0 ") -> 0 | F24: =IF('JANVIER-19'!S26>0,'JANVIER-19'!S26," 0 ") -> 0
B25: 42023 | D25: =IF('JANVIER-19'!R27<0,'JANVIER-19'!R27," 0 ") -> 0 | F25: =IF('JANVIER-19'!S27>0,'JANVIER-19'!S27," 0 ") -> 0
B26: 42024 | D26: =IF('JANVIER-19'!R28<0,'JANVIER-19'!R28," 0 ") -> 0 | F26: =IF('JANVIER-19'!S28>0,'JANVIER-19'!S28," 0 ") -> 0
B27: 42025 | D27: =IF('JANVIER-19'!R29<0,'JANVIER-19'!R29," 0 ") -> 0 | F27: =IF('JANVIER-19'!S29>0,'JANVIER-19'!S29," 0 ") -> 0
B28: 42026 | D28: =IF('JANVIER-19'!R30<0,'JANVIER-19'!R30," 0 ") -> 0 | F28: =IF('JANVIER-19'!S30>0,'JANVIER-19'!S30," 0 ") -> 0
B29: 42027 | D29: =IF('JANVIER-19'!R31<0,'JANVIER-19'!R31," 0 ") -> 0 | F29: =IF('JANVIER-19'!S31>0,'JANVIER-19'!S31," 0 ") -> 0
B30: 42028 | D30: =IF('JANVIER-19'!R32<0,'JANVIER-19'!R32," 0 ") -> 0 | F30: =IF('JANVIER-19'!S32>0,'JANVIER-19'!S32," 0 ") -> 0
D31: =IF('JANVIER-19'!R33<0,'JANVIER-19'!R33," 0 ") -> 0 | F31: =IF('JANVIER-19'!S33>0,'JANVIER-19'!S33," 0 ") -> 0
B32: 42029 | D32: =IF('JANVIER-19'!R34<0,'JANVIER-19'!R34," 0 ") -> 0 | F32: =IF('JANVIER-19'!S34>0,'JANVIER-19'!S34," 0 ") -> 0
B33: 42030 | D33: =IF('JANVIER-19'!R35<0,'JANVIER-19'!R35," 0 ") -> 0 | F33: =IF('JANVIER-19'!S35>0,'JANVIER-19'!S35," 0 ") -> 0
B34: 42031 | D34: =IF('JANVIER-19'!R36<0,'JANVIER-19'!R36," 0 ") -> -7.6327833e-17 | F34: =IF('JANVIER-19'!S36>0,'JANVIER-19'!S36," 0 ") -> 0
B35: 42032 | D35: =IF('JANVIER-19'!R37<0,'JANVIER-19'!R37," 0 ") -> -7.6327833e-17 | F35: =IF('JANVIER-19'!S37>0,'JANVIER-19'!S37," 0 ") -> 0
B36: 42033 | D36: =IF('JANVIER-19'!R38<0,'JANVIER-19'!R38," 0 ") -> -0.034722222 | F36: =IF('JANVIER-19'!S38>0,'JANVIER-19'!S38," 0 ") -> 0
B37: 42034 | D37: =IF('JANVIER-19'!R39<0,'JANVIER-19'!R39," 0 ") -> -0.14583333 | F37: =IF('JANVIER-19'!S39>0,'JANVIER-19'!S39," 0 ") -> 0
B38: Malis | C38: =SUM(D2:D37) -> -0.32638889 | E38: Bonis | F38: =SUM(F2:F37) -> 0.0069444444
D39: =C38 -> -0.32638889
D40: =F38 -> 0.0069444444
...
