Workbook
Name appelation: [1]Feuil2!$E$2:$E$22
Name AVANCETVA: [1]Feuil2!$F$2:$F$10
Name fournisseurs: 'Val-Dép'!$A$35:$AB$43
Name Modepaie: [1]Feuil2!$H$2:$H$5
Name Plan1: [1]PCMN1!$A$1:$A$261
Name Plan1: #REF!
Name Plan10: [1]PCMN!$A$1:$A$13
Name Plan2: [1]PCMN1!$A$1:$G$1
Name Plan2: #REF!
Name Plan20: [1]PCMN!$A$1:$G$1
Name TVA: [1]Feuil2!$C$2:$C$9
Name TVAréduit: [1]Feuil2!$D$2:$D$13

Sheet Val-Dép
I1: FICHIER INITIAL à placer dans Le fichier BILAN AC-PA
O2: V.I. | W2: V.I.
H3: 231 | J3: machine | R3: 100 | T3: capital | AA3: "=SI(ARRONDI(H4;2)=ARRONDI(A4+E4;2);H4;AC5)
H4: 237 | J4: outillage | R4: 200 | T4: Emprunt in
H5: 231 | J5: Artésia (emprunt 3 ans) | R5: 240 | T5: mobilier | Y5: "=SI(ARRONDI(H4;2)=ARRONDI(A4+E4;2);H4;"0")
H6: 360 | J6: Bq post | K6: 1 | L6: 2 | M6: 3 | N6: 4 | R6: 440 | T6: fournisseur | AB6: 7557.78
H7: 400 | J7: client | R7: 550 | T7: Banque
H8: 560 | J8: Stocks | R8: 570 | T8: Caisse
A9: valeur initiale du client | G9: Inscrire ici les factures CLIENTS | O9: PAS EFFACER | R9: Pas effac | T9: Extrait Banq CLIENTS
B10: Tjrs mettre dans l'ordre | G10: 1 | H10: 2 | I10: 3 | J10: 4 | K10: 5 | L10: 6 | M10: 7 | N10: 8 | O10: 9 | P10: 10 | Q10: 11 | R10: 12 | S10: 13 | T10: 14 | U10: 15 | V10: 16 | W10: 17 | X10: 18 | Y10: 19 | Z10: 20 | AA10: 21 | AB10: 22 | AC10: 23 | AD10: 24 | AE10: 25 | AI10: 29 | AJ10: 30 | AK10: 31
A11: 7***** | C11: VENTES | H11: FACTURES -aux -CLIENTS | Q11: 4110 | S11: 4114 | U11: TVAC | V11: 4110 | W11: TVAC | Y11: Pas effac | Z11: Extrait - BANQUE Clients | AE11: Clients BQ
A12: N-Cl | B12: Num cli | C12: Clients | D12: V.I. | E12: CODE PCMN | F12: PMCN | H12: dénomination | I12: Fact-N° | J12: HTVA | K12: escompte | L12: Transport | M12: RRR | N12: embalage | O12: Base impot | P12: TVA% | Q12: tva non marchan | R12: TVA marchand | S12: TVA/NC | T12: emballage | U12: Embal/ap/tva | V12: TVA DUE | W12: note de crédit | X12: TVAC | Z12: Num cli | AA12: Nom client | AB12: extrait | AC12: date | AD12: PMCN | AE12: montant(+)
A13: 1 | B13: C0036 | C13: Vienneau | D13: 758.12 | E13: =IF(F13="","",LEFT(F13,SEARCH(" ",F13)-1)) -> 700 | F13: 700 - ventes de marchandises | G13: Banque | H13: Marchandise | I13: F72 | J13: 921.92 | K13: 0 | L13: 0 | M13: 0 | N13: 0 | O13: =SUM(J13,-K13,L13,-M13,N13) -> 921.92 | P13: 0.21 | Q13: =IF(OR('Val-Dép'!H13="note de crédit", 'Val-Dép'!H13="Marchandise"), "0",PRODUCT(O13,P13)) -> 0 | R13: =IF(('Val-Dép'!H13="Marchandise"), PRODUCT(O13,P13),"0") -> 193.6032 | S13: =IF(('Val-Dép'!H13="note de crédit"),PRODUCT(O13,P13),"") | U13: =IF(('Val-Dép'!H13<>"note de crédit"),SUM(O13,Q13,R13,S13,-K13),"") -> 1115.5232 | V13: =SUM(Q13:R13) -> 193.6032 | W13: =IF(('Val-Dép'!H13="note de crédit"),(O13+S13),"") | X13: =U13 -> 1115.5232 | Y13: =IF(AE13=ROUND(D13,2),AE13,IF(AE13=ROUND(D13+U13,2),AE13,IF(AE13= ROUND(U13,2),AE13,IF(AE13="",AE13,"")))) -> 1115.52 | Z13: =B13 -> C0036 | AA13: =C13 -> Vienneau | AB13: 28/1 | AC13: 42325 | AD13: 550 | AE13: 1115.52
A14: 2 | B14: C0045 | C14: Jacques | D14: 2142.03 | E14: =IF(F14="","",LEFT(F14,SEARCH(" ",F14)-1)) -> CLASSE | F14: CLASSE 1 : COMPTES DE CAPITAUX | G14: Banque | H14: 0 | O14: =SUM(J14,-K14,L14,-M14,N14) -> 0 | P14: 0.06 | Q14: =IF(OR('Val-Dép'!H14="note de crédit", 'Val-Dép'!H14="Marchandise"), "0",PRODUCT(O14,P14)) -> 0 | R14: =IF(('Val-Dép'!H14="Marchandise"), PRODUCT(O14,P14),"0") -> 0 | S14: =IF(('Val-Dép'!H14="note de crédit"),PRODUCT(O14,P14),"0") -> 0 | U14: =IF(('Val-Dép'!H14<>"note de crédit"),SUM(O14,Q14,R14,S14,-K14),"") -> 0 | V14: =SUM(Q14:R14) -> 0 | W14: =IF(('Val-Dép'!H14="note de crédit"),(O14+S14),"") | X14: =U14 -> 0 | Y14: =IF(AE14=ROUND(D14,2),AE14,IF(AE14=ROUND(D14+U14,2),AE14,IF(AE14= ROUND(U14,2),AE14,IF(AE14="",AE14,"")))) -> 0 | Z14: =B14 -> C0045 | AA14: =C14 -> Jacques | AD14: 550
A15: 3 | B15: C0088 | C15: Nicolas | D15: 1066.15 | E15: =IF(F15="","",LEFT(F15,SEARCH(" ",F15)-1)) -> 700 | F15: 700 - ventes de marchandises | G15: Banque | H15: Marchandise | I15: F71 | J15: 1239.47 | K15: 0 | L15: 0 | M15: 0 | N15: 0 | O15: =SUM(J15,-K15,L15,-M15,N15) -> 1239.47 | P15: 0.21 | Q15: =IF(OR('Val-Dép'!H15="note de crédit", 'Val-Dép'!H15="Marchandise"), "0",PRODUCT(O15,P15)) -> 0 | R15: =IF(('Val-Dép'!H15="Marchandise"), PRODUCT(O15,P15),"0") -> 260.2887 | S15: =IF(('Val-Dép'!H15="note de crédit"),PRODUCT(O15,P15),"0") -> 0 | U15: =IF(('Val-Dép'!H15<>"note de crédit"),SUM(O15,Q15,R15,S15,-K15),"") -> 1499.7587 | V15: =SUM(Q15:R15) -> 260.2887 | W15: =IF(('Val-Dép'!H15="note de crédit"),(O15+S15),"") | X15: =U15 -> 1499.7587 | Y15: =IF(AE15=ROUND(D15,2),AE15,IF(AE15=ROUND(D15+U15,2),AE15,IF(AE15= ROUND(U15,2),AE15,IF(AE15="",AE15,"")))) -> 2565.91 | Z15: =B15 -> C0088 | AA15: =C15 -> Nicolas | AB15: 29/1 | AC15: 42328 | AD15: 550 | AE15: 2565.91
A16: 4 | E16: =IF(F16="","",LEFT(F16,SEARCH(" ",F16)-1)) -> CLASSE | F16: CLASSE 2 : COMPTES D’IMMOBILISATIONS | G16: 0 | H16: 0 | O16: =SUM(J16,-K16,L16,-M16,N16) -> 0 | P16: 0.21 | Q16: =IF(OR('Val-Dép'!H16="note de crédit", 'Val-Dép'!H16="Marchandise"), "0",PRODUCT(O16,P16)) -> 0 | R16: =IF(('Val-Dép'!H16="Marchandise"), PRODUCT(O16,P16),"0") -> 0 | S16: =IF(('Val-Dép'!H16="note de crédit"),PRODUCT(O16,P16),"0") -> 0 | U16: =IF(('Val-Dép'!H16<>"note de crédit"),SUM(O16,Q16,R16,S16,-K16),"") -> 0 | V16: =SUM(Q16:R16) -> 0 | W16: =IF(('Val-Dép'!H16="note de crédit"),(O16+S16),"") | X16: =U16 -> 0 | Y16: =IF(AE16=ROUND(D16,2),AE16,IF(AE16=ROUND(D16+U16,2),AE16,IF(AE16= ROUND(U16,2),AE16,IF(AE16="",AE16,"")))) -> 0 | Z16: =B16 -> 0 | AA16: =C16 -> 0 | AD16: 550
A17: 5 | E17: =IF(F17="","",LEFT(F17,SEARCH(" ",F17)-1)) -> CLASSE | F17: CLASSE 7 : COMPTES DE PRODUITS | G17: 0 | H17: 0 | O17: =SUM(J17,-K17,L17,-M17,N17) -> 0 | P17: 0.21 | Q17: =IF(OR('Val-Dép'!H17="note de crédit", 'Val-Dép'!H17="Marchandise"), "0",PRODUCT(O17,P17)) -> 0 | R17: =IF(('Val-Dép'!H17="Marchandise"), PRODUCT(O17,P17),"0") -> 0 | S17: =IF(('Val-Dép'!H17="note de crédit"),PRODUCT(O17,P17),"0") -> 0 | U17: =IF(('Val-Dép'!H17<>"note de crédit"),SUM(O17,Q17,R17,S17,-K17),"") -> 0 | V17: =SUM(Q17:R17) -> 0 | W17: =IF(('Val-Dép'!H17="note de crédit"),(O17+S17),"") | X17: =U17 -> 0 | Y17: =IF(AE17=ROUND(D17,2),AE17,IF(AE17=ROUND(D17+U17,2),AE17,IF(AE17= ROUND(U17,2),AE17,IF(AE17="",AE17,"")))) -> 0 | Z17: =B17 -> 0 | AA17: =C17 -> 0 | AD17: 550
A18: 6 | E18: =IF(F18="","",LEFT(F18,SEARCH(" ",F18)-1)) -> 700 | F18: 700 - ventes de marchandises | G18: Bq post | H18: 0 | O18: =SUM(J18,-K18,L18,-M18,N18) -> 0 | P18: 0.21 | Q18: =IF(OR('Val-Dép'!H18="note de crédit", 'Val-Dép'!H18="Marchandise"), "0",PRODUCT(O18,P18)) -> 0 | R18: =IF(('Val-Dép'!H18="Marchandise"), PRODUCT(O18,P18),"0") -> 0 | S18: =IF(('Val-Dép'!H18="note de crédit"),PRODUCT(O18,P18),"0") -> 0 | U18: =IF(('Val-Dép'!H18<>"note de crédit"),SUM(O18,Q18,R18,S18,-K18),"") -> 0 | V18: =SUM(Q18:R18) -> 0 | W18: =IF(('Val-Dép'!H18="note de crédit"),(O18+S18),"") | X18: =U18 -> 0 | Y18: =IF(AE18=ROUND(D18,2),AE18,IF(AE18=ROUND(D18+U18,2),AE18,IF(AE18= ROUND(U18,2),AE18,IF(AE18="",AE18,"")))) -> 0 | Z18: =B18 -> 0 | AA18: =C18 -> 0 | AD18: 550
A19: 7 | E19: =IF(F19="","",LEFT(F19,SEARCH(" ",F19)-1)) -> 7050 | F19: 7050 - prestation de service BE | G19: Bq post | H19: 0 | O19: =SUM(J19,-K19,L19,-M19,N19) -> 0 | P19: 0.21 | Q19: =IF(OR('Val-Dép'!H19="note de crédit", 'Val-Dép'!H19="Marchandise"), "0",PRODUCT(O19,P19)) -> 0 | R19: =IF(('Val-Dép'!H19="Marchandise"), PRODUCT(O19,P19),"0") -> 0 | S19: =IF(('Val-Dép'!H19="note de crédit"),PRODUCT(O19,P19),"0") -> 0 | U19: =IF(('Val-Dép'!H19<>"note de crédit"),SUM(O19,Q19,R19,S19,-K19),"") -> 0 | V19: =SUM(Q19:R19) -> 0 | W19: =IF(('Val-Dép'!H19="note de crédit"),(O19+S19),"") | X19: =IF(T19=0,U19,U19-T19) -> 0 | Y19: =IF(AE19=ROUND(D19,2),AE19,IF(AE19=ROUND(D19+U19,2),AE19,IF(AE19= ROUND(U19,2),AE19,IF(AE19="",AE19,"")))) -> 0 | Z19: =B19 -> 0 | AA19: =C19 -> 0 | AD19: 550
A20: 8 | E20: =IF(F20="","",LEFT(F20,SEARCH(" ",F20)-1)) -> 7050 | F20: 7050 - prestation de service BE | G20: Bq post | H20: 0 | O20: =SUM(J20,-K20,L20,-M20,N20) -> 0 | P20: 0.06 | Q20: =IF(OR('Val-Dép'!H20="note de crédit", 'Val-Dép'!H20="Marchandise"), "0",PRODUCT(O20,P20)) -> 0 | R20: =IF(('Val-Dép'!H20="Marchandise"), PRODUCT(O20,P20),"0") -> 0 | S20: =IF(('Val-Dép'!H20="note de crédit"),PRODUCT(O20,P20),"0") -> 0 | U20: =IF(('Val-Dép'!H20<>"note de crédit"),SUM(O20,Q20,R20,S20,-K20),"") -> 0 | V20: =SUM(Q20:R20) -> 0 | W20: =IF(('Val-Dép'!H20="note de crédit"),(O20+S20),"") | X20: =IF(T20=0,U20,U20-T20) -> 0 | Y20: =IF(AE20=ROUND(D20,2),AE20,IF(AE20=ROUND(D20+U20,2),AE20,IF(AE20= ROUND(U20,2),AE20,IF(AE20="",AE20,"")))) -> 0 | Z20: =B20 -> 0 | AA20: =C20 -> 0 | AD20: 550
A21: 9 | E21: =IF(F21="","",LEFT(F21,SEARCH(" ",F21)-1)) -> 700 | F21: 700 - ventes de marchandises | G21: Bq post | H21: 0 | O21: =SUM(J21,-K21,L21,-M21,N21) -> 0 | P21: 0 | Q21: =IF(OR('Val-Dép'!H21="note de crédit", 'Val-Dép'!H21="Marchandise"), "0",PRODUCT(O21,P21)) -> 0 | R21: =IF(('Val-Dép'!H21="Marchandise"), PRODUCT(O21,P21),"0") -> 0 | S21: =IF(('Val-Dép'!H21="note de crédit"),PRODUCT(O21,P21),"0") -> 0 | U21: =IF(('Val-Dép'!H21<>"note de crédit"),SUM(O21,Q21,R21,S21,-K21),"") -> 0 | V21: =SUM(Q21:R21) -> 0 | W21: =IF(('Val-Dép'!H21="note de crédit"),(O21+S21),"") | X21: =IF(T21=0,U21,U21-T21) -> 0 | Y21: =IF(AE21=ROUND(D21,2),AE21,IF(AE21=ROUND(D21+U21,2),AE21,IF(AE21= ROUND(U21,2),AE21,IF(AE21="",AE21,"")))) -> 0 | Z21: =B21 -> 0 | AA21: =C21 -> 0 | AD21: 550
A22: 10 | E22: =IF(F22="","",LEFT(F22,SEARCH(" ",F22)-1)) -> 7050 | F22: 7050 - prestation de service BE | G22: Bq post | H22: 0 | O22: =SUM(J22,-K22,L22,-M22,N22) -> 0 | P22: 0 | Q22: =IF(OR('Val-Dép'!H22="note de crédit", 'Val-Dép'!H22="Marchandise"), "0",PRODUCT(O22,P22)) -> 0 | R22: =IF(('Val-Dép'!H22="Marchandise"), PRODUCT(O22,P22),"0") -> 0 | S22: =IF(('Val-Dép'!H22="note de crédit"),PRODUCT(O22,P22),"0") -> 0 | U22: =IF(('Val-Dép'!H22<>"note de crédit"),SUM(O22,Q22,R22,S22,-K22),"") -> 0 | V22: =SUM(Q22:R22) -> 0 | W22: =IF(('Val-Dép'!H22="note de crédit"),(O22+S22),"") | X22: =IF(T22=0,U22,U22-T22) -> 0 | Y22: =IF(AE22=ROUND(D22,2),AE22,IF(AE22=ROUND(D22+U22,2),AE22,IF(AE22= ROUND(U22,2),AE22,IF(AE22="",AE22,"")))) -> 0 | Z22: =B22 -> 0 | AA22: =C22 -> 0 | AD22: 550
A23: 11 | E23: =IF(F23="","",LEFT(F23,SEARCH(" ",F23)-1)) -> 7002 | F23: 7002 - vente à l'exportation | G23: Bq post | H23: 0 | O23: =SUM(J23,-K23,L23,-M23,N23) -> 0 | P23: 0 | Q23: =IF(OR('Val-Dép'!H23="note de crédit", 'Val-Dép'!H23="Marchandise"), "0",PRODUCT(O23,P23)) -> 0 | R23: =IF(('Val-Dép'!H23="Marchandise"), PRODUCT(O23,P23),"0") -> 0 | S23: =IF(('Val-Dép'!H23="note de crédit"),PRODUCT(O23,P23),"0") -> 0 | U23: =IF(('Val-Dép'!H23<>"note de crédit"),SUM(O23,Q23,R23,S23,-K23),"") -> 0 | V23: =SUM(Q23:R23) -> 0 | W23: =IF(('Val-Dép'!H23="note de crédit"),(O23+S23),"") | X23: =IF(T23=0,U23,U23-T23) -> 0 | Y23: =IF(AE23=ROUND(D23,2),AE23,IF(AE23=ROUND(D23+U23,2),AE23,IF(AE23= ROUND(U23,2),AE23,IF(AE23="",AE23,"")))) -> 0 | Z23: =B23 -> 0 | AA23: =C23 -> 0 | AD23: 550
A24: 12 | G24: Bq post | O24: =SUM(J24,-K24,L24,-M24,N24) -> 0 | P24: 0 | Q24: =IF(OR('Val-Dép'!H24="note de crédit", 'Val-Dép'!H24="Marchandise"), "0",PRODUCT(O24,P24)) -> 0 | R24: =IF(('Val-Dép'!H24="Marchandise"), PRODUCT(O24,P24),"0") -> 0 | S24: =IF(('Val-Dép'!H24="note de crédit"),PRODUCT(O24,P24),"0") -> 0 | U24: =IF(('Val-Dép'!H24<>"note de crédit"),SUM(O24,Q24,R24,S24,-K24),"") -> 0 | V24: =SUM(Q24:R24) -> 0 | W24: =IF(('Val-Dép'!H24="note de crédit"),(O24+S24),"") | X24: =IF(T24=0,U24,U24-T24) -> 0 | Y24: =IF(AE24=ROUND(D24,2),AE24,IF(AE24=ROUND(D24+U24,2),AE24,IF(AE24= ROUND(U24,2),AE24,IF(AE24="",AE24,"")))) -> 0 | Z24: =B24 -> 0 | AD24: 550
A25: 13 | G25: Bq post | O25: =SUM(J25,-K25,L25,-M25,N25) -> 0 | P25: 0 | Q25: =IF(OR('Val-Dép'!H25="note de crédit", 'Val-Dép'!H25="Marchandise"), "0",PRODUCT(O25,P25)) -> 0 | R25: =IF(('Val-Dép'!H25="Marchandise"), PRODUCT(O25,P25),"0") -> 0 | S25: =IF(('Val-Dép'!H25="note de crédit"),PRODUCT(O25,P25),"0") -> 0 | U25: =IF(('Val-Dép'!H25<>"note de crédit"),SUM(O25,Q25,R25,S25,-K25),"") -> 0 | V25: =SUM(Q25:R25) -> 0 | W25: =IF(('Val-Dép'!H25="note de crédit"),(O25+S25),"") | X25: =IF(T25=0,U25,U25-T25) -> 0 | Y25: =IF(AE25=ROUND(D25,2),AE25,IF(AE25=ROUND(D25+U25,2),AE25,IF(AE25= ROUND(U25,2),AE25,IF(AE25="",AE25,"")))) -> 0 | Z25: =B25 -> 0
A26: 14 | D26: =SUM(D13:D25) -> 3966.3 | G26: Total | J26: =SUM(J13:J25) -> 2161.39 | O26: =SUM(O13:O25) -> 2161.39 | Q26: =SUM(Q13:Q25) -> 0 | R26: =SUM(R13:R25) -> 453.8919 | S26: =IF(('Val-Dép'!H26="note de crédit"),PRODUCT(O26,P26),"0") -> 0 | U26: =SUM(U13:U25) -> 2615.2819 | V26: =SUM(V13:V23) -> 453.8919 | W26: =SUM(W13:W25) -> 0 | X26: =SUM(X13:X25) -> 2615.2819 | Y26: =SUM(Y13:Y25) -> 3681.43 | Z26: =B26 -> 0 | AE26: =SUM(AE13:AE25) -> 3681.43
P27: non marchand | R27: nc | U27: Idem | AE27: Effacer ici
B28: effacer ICI seulement | N28: TOTAL TVA | P28: =SUM(Q26:S26) -> 453.8919 | Q28: NC/tva | R28: -103.07 | U28: Jour Ach-Ven | AB28: différence entre Bq clients et Bq fournisseurs
N29: LIV sortie | O29: total | P29: =SUM(P28,R28) -> 350.8219 | Q29: ok
A30: Tjrs mettre dans l'ordre
B31: 1 | C31: 2 | D31: 3 | E31: 4 | F31: 5 | G31: 6 | H31: 7 | I31: 8 | J31: 9 | K31: 10 | L31: 11 | M31: 12 | N31: 13 | O31: 14 | P31: 15 | Q31: 16 | R31: 17 | S31: 18 | T31: 19 | U31: 20 | V31: 21 | W31: 22 | X31: 23 | Y31: 24 | Z31: 25 | AA31: 26 | AB31: 27 | AC31: 28 | AD31: 29 | AE31: 30 | AF31: 31 | AG31: 32 | AH31: 33 | AI31: 34 | AJ31: 35 | AK31: 36 | AL31: 37
A32: valeur initiale du fournisseur | G32: 0 | I32: Inscrire ici les factures FOURNISSEURS | Q32: si rien à réduire = 0% | U32: TVA | AC32: Entret.immo. | AD32: Entret. Immo.
B33: ACHATS 6***** | I33: FACTURES -des- FOURNISSEURS | Q33: TVA | R33: Nouvelle | U33: 4510 | W33: 4514 | X33: Emballage | Z33: 4514 | AC33: TVA due | AD33: TVA due | AE33: Pas effac | AG33: Extrait : Banque - Bq post - Caisse ( Fournisseurs) | AL33: Fourn. Bq
A34: N-Fo | B34: Num Four | C34: fournisseurs | D34: V.I. | E34: CODE PCMN | F34: PCMN | H34: dénomination | I34: Fact-N° | J34: HTVA | K34: Escompte | L34: Transport | M34: RRR | N34: Embal Av tva | O34: Base-impot | P34: TVA% | Q34: tva % à déduit | R34: Base impot | S34: TVA % | U34: tva non marchand | V34: tva marchand | W34: TVA (NC) | X34: après tva | Y34: TVA Récup. | Z34: TVA (NC) | AA34: Tot TVAC | AB34: TVAC(NC) | AC34: (59)451020 | AD34: (59)451030 | AE34: Vérification | AG34: Num Fourn | AH34: Nom Fourn | AI34: extrait | AJ34: date | AK34: PMCN | AL34: montant(-)
A35: 1 | B35: F0012 | C35: Pierre | D35: 1859.2 | E35: =IF(F35="","",LEFT(F35,SEARCH(" ",F35)-1)) -> 4117 | F35: 4117 - Accompte versée | G35: Banque | H35: 0 | O35: =SUM(J35,-K35,L35,-M35,N35) -> 0 | P35: 1 | Q35: 0 | R35: =(IF(Q35=0,O35*P35,(O35*P35*Q35)+O35)) -> 0 | S35: 0.06 | T35: =(1-Q35) -> 1 | U35: =IF(OR('Val-Dép'!H35="note de crédit", 'Val-Dép'!H35="Marchandise"),"0",PRODUCT(O35,S35,T35)) -> 0 | V35: =IF(( 'Val-Dép'!H35="Marchandise"),PRODUCT(O35,S35,T35),"0") -> 0 | W35: =IF(OR('Val-Dép'!H35="note de crédit"), PRODUCT(O35,S35,T35),"0") -> 0 | X35: 0 | Y35: =(U35+V35) -> 0 | Z35: =IF((H35="note de crédit"),(O35*S35*T35),"0") -> 0 | AA35: =IF((H35<>"note de crédit"),SUM(R35,U35,V35,W35,-AC35,-AD35),"0") -> 0 | AB35: =IF((H35="note de crédit"),SUM(R35,W35),"0") -> 0 | AE35: =IF(AL35=ROUND(D35,2),AL35,IF(AL35=ROUND(D35+AA35,2),AL35,IF(AL35=ROUND(AA35,2),AL35,IF(AL35="",AL35,"0")))) -> 0 | AG35: =B13 -> C0036 | AH35: =C35 -> Pierre | AK35: 550
A36: 2 | B36: F0030 | C36: Durand | D36: 1115.52 | E36: =IF(F36="","",LEFT(F36,SEARCH(" ",F36)-1)) -> 4111 | F36: 4111 -T.V.A. à payer: sur opérations intracommunautaires | G36: Banque | H36: Marchandise | I36: F441 | J36: 1395.67 | L36: 0 | M36: 0 | N36: 0 | O36: =SUM(J36,-K36,L36,-M36,N36) -> 1395.67 | P36: 1 | Q36: 0 | R36: =(IF(Q36=0,O36*P36,(O36*P36*Q36)+O36)) -> 1395.67 | S36: 0.21 | T36: =(1-Q36) -> 1 | U36: =IF(OR('Val-Dép'!H36="note de crédit", 'Val-Dép'!H36="Marchandise"),"0",PRODUCT(O36,S36,T36)) -> 0 | V36: =IF(( 'Val-Dép'!H36="Marchandise"),PRODUCT(O36,S36,T36),"0") -> 293.0907 | W36: =IF(OR('Val-Dép'!H36="note de crédit"), PRODUCT(O36,S36,T36),"0") -> 0 | X36: 0 | Y36: =(U36+V36) -> 293.0907 | Z36: =IF((H36="note de crédit"),(O36*S36*T36),"0") -> 0 | AA36: =IF((H36<>"note de crédit"),SUM(R36,U36,V36,W36,-AC36,-AD36),"0") -> 1688.7607 | AB36: =IF((H36="note de crédit"),SUM(R36,W36),"0") -> 0 | AE36: =IF(AL36=ROUND(D36,2),AL36,IF(AL36=ROUND(D36+AA36,2),AL36,IF(AL36=ROUND(AA36,2),AL36,IF(AL36="",AL36,"0")))) -> 1688.76 | AG36: =B36 -> F0030 | AH36: =C36 -> Durand | AI36: 27/1 | AJ36: 42324 | AK36: 550 | AL36: 1688.76
A37: 3 | B37: F0074 | C37: Feromat | D37: 0 | E37: =IF(F37="","",LEFT(F37,SEARCH(" ",F37)-1)) -> 237 | F37: 237 - Outillages | G37: Banque | H37: outillage | I37: F812 | J37: 743.68 | K37: 0 | L37: 0 | M37: 0 | N37: 0 | O37: =SUM(J37,-K37,L37,-M37,N37) -> 743.68 | P37: 1 | Q37: 0 | R37: =(IF(Q37=0,O37*P37,(O37*P37*Q37)+O37)) -> 743.68 | S37: 0.21 | T37: =(1-Q37) -> 1 | U37: =IF(OR('Val-Dép'!H37="note de crédit", 'Val-Dép'!H37="Marchandise"),"0",PRODUCT(O37,S37,T37)) -> 156.1728 | V37: =IF(( 'Val-Dép'!H37="Marchandise"),PRODUCT(O37,S37,T37),"0") -> 0 | W37: =IF(OR('Val-Dép'!H37="note de crédit"), PRODUCT(O37,S37,T37),"0") -> 0 | X37: 0 | Y37: =(U37+V37) -> 156.1728 | Z37: =IF((H37="note de crédit"),(O37*S37*T37),"0") -> 0 | AA37: =IF((H37<>"note de crédit"),SUM(R37,U37,V37,W37,-AC37,-AD37),"0") -> 899.8528 | AB37: =IF((H37="note de crédit"),SUM(R37,W37),"0") -> 0 | AE37: =IF(AL37=ROUND(D37,2),AL37,IF(AL37=ROUND(D37+AA37,2),AL37,IF(AL37=ROUND(AA37,2),AL37,IF(AL37="",AL37,"0")))) -> 899.85 | AG37: =B37 -> F0074 | AH37: =C37 -> Feromat | AI37: 26/1 | AJ37: 42317 | AK37: 550 | AL37: 899.85
A38: 4 | E38: =IF(F38="","",LEFT(F38,SEARCH(" ",F38)-1)) -> 61210 | F38: 61210 - Belgacom | G38: 0 | H38: 0 | O38: =SUM(J38,-K38,L38,-M38,N38) -> 0 | P38: 1 | Q38: 0 | R38: =(IF(Q38=0,O38*P38,(O38*P38*Q38)+O38)) -> 0 | S38: 0 | T38: =(1-Q38) -> 1 | U38: =IF(OR('Val-Dép'!H38="note de crédit", 'Val-Dép'!H38="Marchandise"),"0",PRODUCT(O38,S38,T38)) -> 0 | V38: =IF(( 'Val-Dép'!H38="Marchandise"),PRODUCT(O38,S38,T38),"0") -> 0 | W38: =IF(OR('Val-Dép'!H38="note de crédit"), PRODUCT(O38,S38,T38),"0") -> 0 | X38: 0 | Y38: =(U38+V38) -> 0 | Z38: =IF((H38="note de crédit"),(O38*S38*T38),"0") -> 0 | AA38: =IF((H38<>"note de crédit"),SUM(R38,U38,V38,W38,-AC38,-AD38),"0") -> 0 | AB38: =IF((H38="note de crédit"),SUM(R38,W38),"0") -> 0 | AE38: =IF(AL38=ROUND(D38,2),AL38,IF(AL38=ROUND(D38+AA38,2),AL38,IF(AL38=ROUND(AA38,2),AL38,IF(AL38="",AL38,"0")))) -> 0 | AG38: =B38 -> 0 | AH38: =C38 -> 0 | AK38: 550
A39: 5 | E39: =IF(F39="","",LEFT(F39,SEARCH(" ",F39)-1)) -> 6110 | F39: 6110 - Entretien -réparation | G39: 0 | H39: 0 | O39: =SUM(J39,-K39,L39,-M39,N39) -> 0 | P39: 1 | Q39: 0 | R39: =(IF(Q39=0,O39*P39,(O39*P39*Q39)+O39)) -> 0 | S39: 0 | T39: =(1-Q39) -> 1 | U39: =IF(OR('Val-Dép'!H39="note de crédit", 'Val-Dép'!H39="Marchandise"),"0",PRODUCT(O39,S39,T39)) -> 0 | V39: =IF(( 'Val-Dép'!H39="Marchandise"),PRODUCT(O39,S39,T39),"0") -> 0 | W39: =IF(OR('Val-Dép'!H39="note de crédit"), PRODUCT(O39,S39,T39),"0") -> 0 | X39: 0 | Y39: =(U39+V39) -> 0 | Z39: =IF((H39="note de crédit"),(O39*S39*T39),"0") -> 0 | AA39: =IF((H39<>"note de crédit"),SUM(R39,U39,V39,W39,-AC39,-AD39),"0") -> 0 | AB39: =IF((H39="note de crédit"),SUM(R39,W39),"0") -> 0 | AE39: =IF(AL39=ROUND(D39,2),AL39,IF(AL39=ROUND(D39+AA39,2),AL39,IF(AL39=ROUND(AA39,2),AL39,IF(AL39="",AL39,"0")))) -> 0 | AG39: =B39 -> 0 | AH39: =C39 -> 0 | AK39: 550
A40: 6 | E40: =IF(F40="","",LEFT(F40,SEARCH(" ",F40)-1)) -> CLASSE | F40: CLASSE 6 : COMPTES DE CHARGES | G40: 0 | H40: 0 | O40: =SUM(J40,-K40,L40,-M40,N40) -> 0 | P40: 1 | Q40: 0 | R40: =(IF(Q40=0,O40*P40,(O40*P40*Q40)+O40)) -> 0 | S40: 0 | T40: =(1-Q40) -> 1 | U40: =IF(OR('Val-Dép'!H40="note de crédit", 'Val-Dép'!H40="Marchandise"),"0",PRODUCT(O40,S40,T40)) -> 0 | V40: =IF(( 'Val-Dép'!H40="Marchandise"),PRODUCT(O40,S40,T40),"0") -> 0 | W40: =IF(OR('Val-Dép'!H40="note de crédit"), PRODUCT(O40,S40,T40),"0") -> 0 | X40: 0 | Y40: =(U40+V40) -> 0 | Z40: =IF((H40="note de crédit"),(O40*S40*T40),"0") -> 0 | AA40: =IF((H40<>"note de crédit"),SUM(R40,U40,V40,W40,-AC40,-AD40),"0") -> 0 | AB40: =IF((H40="note de crédit"),SUM(R40,W40),"0") -> 0 | AE40: =IF(AL40=ROUND(D40,2),AL40,IF(AL40=ROUND(D40+AA40,2),AL40,IF(AL40=ROUND(AA40,2),AL40,IF(AL40="",AL40,"0")))) -> 0 | AG40: =B40 -> 0 | AH40: =C40 -> 0 | AK40: 550
...

Sheet Jour. Achats-ventes
I5: case R
I6: case Y
I7: HTVA | J7: case AA
B8: Tous les Achats du mois SANS V.I.
B9: JOURNAL DES ACHATS DU MOIS DE : | I9: TVA | J9: TVAC
B11: journal des ACHATS du mois (sans V.I.) | G11: FOURNISSEURS | I11: Valeur de départ
B12: Journal des VENTES du MOIS de : | I12: MARS
I13: TVAC | J13: HTVA case(O)
C14: N° PCMN | E14: FOURNISSEURS 7***** | J14: TVA
B15: N° de l'article | C15: N° du compte débité | D15: N° du compte crédité | E15: Tous les ACHATS du MOIS uniquement | I15: montant débité | J15: montant crédité
A16: 35 | E16: Achats | F16: =IF(('Val-Dép'!H35=""),"",VLOOKUP('Val-Dép'!H35,'Val-Dép'!H35:N35,1,FALSE)) -> 0 | I16: =IF(AND('Val-Dép'!E36>=4000,'Val-Dép'!E36<=5000 ),VLOOKUP('Val-Dép'!E36,'Val-Dép'!E36:Z36,11,FALSE),"0") -> 0 | K16: 35
C17: 4110 | E17: TVA | F17: à récup | K17: 36
D18: 440 | E18: fournisseur | F18: =IF(('Val-Dép'!B35=""),"",VLOOKUP('Val-Dép'!B35,'Val-Dép'!B35:D35,2,FALSE)) -> Pierre | K18: 37
B19: ='Val-Dép'!B35 -> F0012 | E19: libellé | F19: =IF(('Val-Dép'!B35=""),"",VLOOKUP('Val-Dép'!B35,'Val-Dép'!B35:D35,2,FALSE)) -> Pierre | G19: Fact N° | H19: =IF(('Val-Dép'!B35=""),"",VLOOKUP('Val-Dép'!B35,'Val-Dép'!B35:I35,8,FALSE)) -> 0 | J19: =IF(OR('Val-Dép'!H35="", 'Val-Dép'!H35="note de crédit" ),"0",VLOOKUP('Val-Dép'!H35,'Val-Dép'!H35:AC35,20,FALSE)) -> 0 | K19: 38
A20: 36 | C20: 240 | E20: Achats | F20: =IF(('Val-Dép'!H36=""),"",VLOOKUP('Val-Dép'!H36,'Val-Dép'!H36:N36,1,FALSE)) -> Marchandise | I20: =IF(OR('Val-Dép'!H36="", 'Val-Dép'!H36="note de crédit" ),"0",VLOOKUP('Val-Dép'!H36,'Val-Dép'!H36:AC36,8,FALSE)) -> 1395.67 | K20: 39
C21: 4110 | E21: TVA | F21: à récup | I21: =IF(OR('Val-Dép'!H36="", 'Val-Dép'!H36="prest.serv.", 'Val-Dép'!H36="Intracomm.", 'Val-Dép'!H36="note de crédit" ),"0",VLOOKUP('Val-Dép'!H36,'Val-Dép'!H36:AC36,18,FALSE)) -> 293.0907 | K21: 40
D22: 440 | E22: fournisseur | F22: =IF(('Val-Dép'!B36=""),"",VLOOKUP('Val-Dép'!B36,'Val-Dép'!B36:N36,2,FALSE)) -> Durand | K22: 41
B23: ='Val-Dép'!B36 -> F0030 | E23: libellé | F23: =IF(('Val-Dép'!B36=""),"",VLOOKUP('Val-Dép'!B36,'Val-Dép'!B36:N36,2,FALSE)) -> Durand | G23: Fact N° | H23: =IF(('Val-Dép'!B36=""),"",VLOOKUP('Val-Dép'!B36,'Val-Dép'!B36:I36,8,FALSE)) -> F441 | J23: =IF(OR('Val-Dép'!H36="", 'Val-Dép'!H36="note de crédit" ),"0",VLOOKUP('Val-Dép'!H36,'Val-Dép'!H36:AC36,20,FALSE)) -> 1688.7607 | K23: 42

Sheet Feuil2
