Workbook
Name appelation: Feuil2!$E$2:$E$23
Name appelation2: Feuil2!$F$2:$F$19
Name AVANCETVA: Feuil2!$F$2:$F$10
Name Banque: Feuil2!$I$2:$I$22
Name BQCLIENTS: 'Val-Dép'!$AA$13:$AF$26
Name BQFOURNISSEURS: 'Val-Dép'!$AH$35:$AM$46
Name Caisse: 'Val-Dép'!$H$35
Name CLASSEFOURNISSEUR: Feuil2!$I$2:$I$22
Name CLIENTS: 'Val-Dép'!$B$13:$AF$26
Name dénomination: Feuil2!$B$2:$B$19
Name FOURNISSEURS: 'Val-Dép'!$B$35:$AF$46
Name LIV.ENT.: Feuil2!$G$2:$G$13
Name Modepaie: Feuil2!$I$5:$I$20
Name PAIEFOURNISS.: 'Val-Dép'!$H$35
Name PAIEFOURNISSEUR: Feuil2!$I$2:$I$22
Name paiement: Feuil2!$I$3:$I$20
Name paiementnouv: Feuil2!$I$2:$I$20
Name payefournisseur: Feuil2!$I$2:$I$22
Name payer: Feuil2!$I$2:$I$20
Name Plan1: PCMN1!$A$1:$A$261
Name Plan1: PCMN1!$A$1:$A$261
Name Plan1: PCMN1!$A$1:$A$261
Name Plan10: PCMN!$A$1:$A$14
Name Plan2: PCMN1!$A$1:$G$1
Name Plan2: PCMN1!$A$1:$G$1
Name Plan2: PCMN1!$A$1:$G$1
Name Plan20: PCMN!$A$1:$G$1
Name TRANSFERT: Feuil2!$K$1:$K$30
Name TransfertBQ: Feuil2!$M$2:$M$7
Name TransfertCAISSE: Feuil2!$O$2:$O$7
Name TransfertCREDIT: Feuil2!$P$2:$P$7
Name TransfertPOSTE: Feuil2!$N$2:$N$7
Name TransfertREMBOURSE: Feuil2!$P$2:$P$7
Name TRANSFERTVERS: Feuil2!$K$1:$L$25
Name TVA: Feuil2!$C$2:$C$9
Name TVAréduit: Feuil2!$D$2:$D$13
Name vide: Feuil2!$H$2:$H$21

Sheet Feuil4
I3: "=SI(ESTNOM(C23=G23;OK;ERREUR)) | M3: "=SI(A4=B4;C4;0)
B4: "=SI(ARRONDI(H4;2)=ARRONDI(A4+E4;2);H4;AC5)
B6: "=SI(ARRONDI(H4;2)=ARRONDI(A4+E4;2);H4;"0") | I6: permet de choisir les valeurs du PCMN car le compte résultat n'admet que 6*** et 7***
I7: "=SI(ET('Val-Dép'!E36>=4000;'Val-Dép'!E36<=5000 );'Val-Dép'!O36;"0")
B10: la fonction RECHERCHEV permet de placer | I10: =SI( 'Val-Dép'!H55="550"; 'Val-Dép'!H55="560" RECHERCHEV('Val-Dép'!H55;'Val-Dép'!H55:I55;2;FAUX);"0")
B11: directement dans les bonnes cases
B12: Mobilier - outillage - Machine | J12: =SI(ESTNA(RECHERCHEV($C$126;'VAL-INIT'!$D$4:$F$90;3;FAUX));;RECHERCHEV($C$126;'VAL-INIT'!$D$4:$F$90;3;FAUX))
B13: VOIR case dans Gr li ACT-PAS | J13: =SI(ET( 'Val-Dép'!AE14="290/550"; 'Val-Dép'!I14<>"note de crédit");RECHERCHEV('Val-Dép'!AE14;'Val-Dép'!AE14:AF14;2;FAUX );"0")
B15: "=SI(ESTERREUR(RECHERCHEV(E2;B2:C50;2;0));"";RECHERCHEV(E2;B2:C50;2;0))
B18: Fourmule utilisée pour Achats fournisseurs (les "" au début et à la fin veut dire formule en mode texte)
B19: "=SI(OU('Val-Départ'!$E$26="mobilier";'Val-Départ'!$E$26="outillage";'Val-Départ'!$E$26="machine";'Val-Départ'!$E$26="");" ";RECHERCHEV('Val-Départ'!$E$26;'Val-Départ'!$E$26:$H$26;3;FAUX))"
C22: Formules utilisées pour TVA achats les "" au début et à la fin veut dire formule en modeTEXTE
C23: "=SI(('Val-Départ'!$E$27="");"";RECHERCHEV('Val-Départ'!$E$27;'Val-Départ'!$E$27:$H$27;4;FAUX))"
B25: RECHERCHEV('Val-Départ'!F13;'Val-Départ'!F13:V13;14;FAUX )
B27: "(RECHERCHEV(E19;'Val-Départ'!E26:H26;2;FAUX)" | L27: 42006 | M27: détermine le type d'achat (Gr Liv ACT-PAS) et le mode de payement
L28: 42006 | M28: Achat à crédit doit être enregistré dans CREDIT (C+) et dans BANQUE (D+)
B29: "=SI(P15=D15;P15;SI(P15=D15+I5;P5;SI(P15=I15;P5;SI(P15="";P15;""))))" | L29: 42007 | M29: doit être enregistré dans COMPTE TRANSFERT
L30: 42008 | M30: détermine le type d'achat (Gr Liv ACT-PAS) et le mode de payement
L31: 42009 | M31: paye via compte BQPOST
B32: "=SI(ESTNA(RECHERCHEV($E$19;'Val-Départ'!$E$26:$H$26;2;FAUX));";RECHERCHEV($E$19;'Val-Départ'!$E$26:$H$26;2;FAUX))" | L32: 42010 | M32: Voir transfert Banq vers caisse
L33: 42012 | M33: Compte transfert : Rembourse le crédit via la Banque
B34: le " devant et à la fin de la formule, éviter que la formule soit active | L34: 42013 | M34: Paie Fournisseur par BQPOST
B35: "(RECHERCHEV(E19;'Val-Départ'!E26:H26;2;FAUX)" | L35: 42014 | M35: ACHAT et PAYEMENT ( 2 actions en même temps)
L36: 42022 | M36: Compte transfert : Rembourse le crédit via la Banque
B37: 1- recherche dans fichier Gr livACT-PAS dans la case E19 (mobilier) | L37: 42023 | M37: Achat de matériel roulant
B38: 2- dans fichier Val-départ la case de (E26 à H33) le mot (mobilier) | L38: 42029 | M38: paie le matériel roulant du 19/01 par BQPOST
B39: 3- la 2eme colonne
B40: 4- faux désigne si une erreur est possible
B42: Si on a une erreur du type #N/A, on ajoute alors
B43: =SI(ESTNA
B44: Pour éviter l'inscription #N/A
B45: ;""; indique de laisser la case vide
B46: et on ajoute l'instruction RECHERCHEV(E19;'Val-Départ'!E26:H26;2;FAUX)"
B49: $E$19 le signe $ indique de garder la case et ainsi d'éviter des erreurs
B52: "=SI(OU('Val-Départ'!$E$26="mobilier";'Val-Départ'!$E$26="outillage";'Val-Départ'!$E$26="machine";'Val-Départ'!$E$26="");" ";RECHERCHEV('Val-Départ'!$E$26;'Val-Départ'!$E$26:$H$26;3;FAUX))"
B54: Cette formule permet d'éviter d'écrire le résultat de "mobilier" - "machine" - "outillage" et "valeur vide" dans (600 ACHATS MARCHANDISES)
B55: =SI(OU('Val-Départ'!$E$26=mobilier";'Val-Départ'!$E$26="outillage";'Val-Départ'!$E$26="machine";'Val-Départ'!$E$26="")
B57: ;" ";RECHERCHEV('Val-Départ'!$E$26;'Val-Départ'!$E$26:$H$26;3;FAUX))"
... B75: C'est assez lourd mais ca marche bien

Sheet VAL-INIT
B2: 1er année Exercice N° | E2: 10 | J2: Entreprise
D3: ACTIF (Emplois) | F3: V.I. | J3: PASSIF (Ressources) | L3: V.I.
C4: PCMN | H4: PCMN | I4: Capital propre (c'est à moi, pris sur compte personel) pour l'entreprise
C5: 20-28 | D5: ACTIFS IMMOBILISES (I+II+III+IV) | F5: =SUM(F6,F8,F10,F36) -> 92500 | I5: CAPITAUX PROPRES
B6: I | C6: 20 | D6: Frais d'établisement (ann.1) | E6: I | F6: =SUM(F7) -> 0 | H6: I | I6: 10 | J6: Capital | K6: I | L6: =SUM(F88,-L26) -> 138600
D7: Frais d'établisement | E7: 0
B8: II | C8: 21 | D8: Immobilisations incorporelles (Ann. 2) | E8: II | F8: =SUM(F9) -> 0 | H8: A | I8: 100 | J8: Capital souscrit | K8: A
D9: Immobilisations incorporelles | E9: 0 | H9: B | I9: 101 | J9: Capital non appelé | K9: B | L9: 0
B10: III | C10: 22-27 | D10: Imobilisations corporelles (Ann. 3) (A+B+C) | E10: III | F10: =SUM(F11,F15,F21,F27,F30,F33) -> 92500 | K10: 0
B11: A | C11: 22 | D11: Terrains et constructions | E11: A | F11: =SUM(F12,F13,F14) -> 75000 | H11: II | I11: 11 | J11: Prime d'émission | K11: II | L11: =SUM(L12) -> 0
C12: 2210 | D12: Immeubles | E12: 0 | F12: 75000 | K12: 0
C13: 2200 | D13: Terrain et construction | E13: 0 | H13: III | I13: 12 | J13: Plus-value de réévaluation | K13: III | L13: =SUM(L14) -> 0
K14: 0
B15: B | C15: 23 | D15: Installations, machines et outillage | E15: B | F15: =SUM(F16:F19) -> 12500 | H15: IV | I15: 13 | J15: Réserves | K15: IV | L15: =SUM(L16,L18,L21,L22) -> 0
C16: 2300 | D16: Immob.Mat.Outil. | E16: 0 | H16: A | I16: 131 | J16: Réserves légals | K16: A
C17: 231 | D17: machine | E17: 0 | F17: 12500 | K17: 0
H18: B | J18: Réserves indisponibles | K18: B | L18: =SUM(L19:L20) -> 0
C19: 237 | D19: outillage | E19: 0 | I19: 1310 | J19: Pour actions propres | K19: 0
I20: 1311 | J20: Autres | K20: 0
B21: C | C21: 24 | D21: Mobilier et mat. Roulant | E21: C | F21: =SUM(F22:F26) -> 5000 | H21: C | I21: 132 | J21: Réserves immunisées | K21: C
C22: 240 | D22: matériel de bureau | E22: 0 | H22: D | I22: 133 | J22: Réserves disponibles
D23: mobilier | E23: 0 | F23: 5000 | H23: V | I23: 140 | J23: Bénéfice reporté | K23: VI | L23: =SUM(L24) -> 0
D24: Matériel roulant | E24: 0 | I24: 141 | J24: Perte reportée | K24: 0
C25: 241 | D25: Matériel roulant 1 | E25: 0 | H25: VI | I25: 15 | J25: Subsides en capital | K25: VI
D26: Matéreil roulant 2 | E26: 0 | J26: CAPITAUX ETRANGES (des dettes de banque) | L26: =SUM(L29,L43) -> 5750
B27: D | C27: 25 | D27: Location-Financement & droits similaires | E27: D | F27: =SUM(F28:F29) -> 0 | I27: Capitaux étrangés (c'est à des autres personne) Bq ou autres
E28: 0
E29: 0 | H29: VIII | I29: 17 | J29: DETTES ≥ d'1 an | K29: VIII | L29: =SUM(L30,L36,L39,L41) -> 0
B30: E | C30: 26 | D30: Autres immobilisations corporelles versées | E30: E | F30: =SUM(F31:F32) -> 0 | H30: A | J30: Dettes financières | K30: A | L30: =SUM(L31:L35) -> 0
E31: 0 | H31: 1 | I31: 170 | J31: Emprunts subordonnés | K31: 0
E32: 0 | H32: 2 | I32: 171 | K32: 0
B33: F | C33: 27 | D33: Immobilisations en cours & accomptes versées | E33: F | F33: =SUM(F34:F35) -> 0 | H33: 3 | I33: 172 | K33: 0
E34: 0 | H34: 4 | I34: 173 | J34: crédit+1an | K34: 0 | L34: 0
E35: 0 | H35: 5 | I35: 174 | J35: emprunts+1an | K35: 0 | L35: 0
B36: IV | D36: Immobilisations financières (Ann. 4&5) | E36: IV | F36: =SUM(F37,F41,F45) -> 0 | H36: B | J36: Dettes commerciales | K36: B | L36: =SUM(L37:L38) -> 0
B37: A | D37: Entreprises liées | E37: A | F37: =SUM(F38:F40) -> 0 | H37: 1 | I37: 1750 | J37: Fournisseurs(+1an) | K37: 0
C38: 280 | D38: Participations | E38: 0 | H38: 2 | I38: 1751 | J38: effet à payer | K38: 0
C39: 281 | D39: créances | E39: 0 | H39: C | I39: 176 | J39: Acomptes reçus sur commandes | K39: C | L39: =SUM(L40) -> 0
E40: 0 | K40: 0
B41: B | C41: Autres entreprises ou il existe 1 lien de participation | E41: B | F41: =SUM(F42:F44) -> 0 | H41: D | I41: 178-179 | J41: Autres dettes | K41: D | L41: =SUM(L42) -> 0
...

Sheet Val-Dép
F4: FAIRE LE BON CHOIX est de toute importance
I5: Détermine
F6: PCMN | G6: Permet de | H6: détermine | I6: le type d'achats | AF6: on doit l'écrire
F7: Pour définir | G7: choisir | H7: Choix de la | I7: Utile dans | Z7: Dans le fichier : Journ-Finan-Banq
E8: Le | H8: Banque (550) | I8: Permet de choisir | P8: Client : | Q8: Dans le fichier : Journal. Achats-ventes | W8: Clients | AE8: Banque | AF8: Reçu du client
A9: valeur initiale du client | E9: PCMN | F9: Les ventes ( 7****) | G9: Avec TVA | H9: Bq post (560) | I9: le type de fichier dans | P9: HTVA | T9: TVA | V9: TVAC | W9: TVA | Y9: Facture | Z9: Au client : | AA9: BANQUE à RECU du Client pour le mois de : | AE9: Bq post | AF9: Banque
A10: Tjrs mettre dans l'ordre Nul Cli | E10: est util | F10: Est utilisé dans compte résultat | G10: Sans TVA | H10: Caisse (570) | I10: Gr liv ACT-PAS | J10: Inscrire ici les factures CLIENTS | P10: Mont. Débt. | R10: TVA DUE (à verser) | T10: à récup. | V10: Mont. Crédt | Y10: envoyée | Z10: montant crédt. | AA10: Mars | AE10: Caisse | AF10: montant débt.
A11: 70*** VENTES | C11: CLIENTS | E11: Si PCMN correcte = BILAN Tjrs OK | H11: Quelle Banque ? | I11: dénomination | J11: FACTURES -aux -CLIENTS | R11: 4510 | T11: 4114 | W11: 4510 | X11: TVAC | Y11: au client | Z11: CLIENT C- | AA11: Factures reçues des clients | AD11: Mois de : | AF11: CLIENT D+ | AG11: Il faut avoir Bq ACTIF
A12: Date | B12: Num cli | C12: Clients | D12: V.I. | E12: PCMN | F12: PMCN est obligatoire | G12: avec/sans TVA | H12: Mode de Payement | I12: dénomination | J12: Fact-N° | K12: HTVA | L12: escompte | M12: Transport | N12: RRR | O12: embalage | P12: Base impot | Q12: TVA% | R12: tva non marchan | S12: TVA marchand | T12: TVA/NC | U12: emballage | V12: Embal/ap/tva | W12: TVA DUE | X12: note de crédit | Y12: TVAC | AA12: Num cli | AB12: Nom client | AC12: extrait | AD12: date | AE12: PMCN | AF12: montant(+)
A13: 1 | B13: C00011 | C13: client01 | E13: =IF(F13="","",LEFT(F13,SEARCH("-",F13)-2))*1 -> #VALUE! | F13: 10000 : COMPTES DE CAPITAUX | G13: ** | H13: Bq client-1an | P13: =SUM(K13,-L13,M13,-N13,O13) -> 0 | Q13: 0 | R13: =IF(OR('Val-Dép'!I13="note de crédit", 'Val-Dép'!I13="Marchand-amball"), "0",PRODUCT(P13,Q13)) -> 0 | S13: =IF(('Val-Dép'!I13="Marchand-amball"), PRODUCT(P13,Q13),"0") -> 0 | T13: =IF(('Val-Dép'!I13="note de crédit"),PRODUCT(P13,Q13),"") | V13: =IF(('Val-Dép'!I13<>"note de crédit"),SUM(P13,R13,S13,T13),"") -> 0 | W13: =SUM(R13:S13) -> 0 | X13: =IF(('Val-Dép'!I13="note de crédit"),(P13+T13),"") | Y13: =V13 -> 0 | Z13: =IF(AF13=ROUND(D13,2),AF13,IF(AF13=ROUND(D13+V13,2),AF13,IF(AF13= ROUND(V13,2),AF13,IF(AF13="",AF13,"")))) -> 0 | AA13: =$B$13 -> C00011 | AB13: =$C$13 -> client01 | AE13: =IF(H13="Bq client-1an","400/550",IF(H13="banque",550,IF(H13="Bq client+1an","290/550",IF(H13="Bq post client-1an","400/560",IF(H13="Bq post client+1an","290/560",IF(H13="Caisse client-1an","400/570",IF(H13="Caisse client+1an","290/570",IF(H13="**",0)))))))) -> 400/550 | AG13: =IF((H13<>"**"), "Bq ACTIF", " Banque pas ACTIF") -> Bq ACTIF
A14: 2 | B14: C00022 | C14: client02 | E14: =IF(F14="","",LEFT(F14,SEARCH("-",F14)-2))+0 -> 70000 | F14: 70000 - ventes de marchandises | G14: ** | H14: Bq client+1an | I14: Marchand-amball | P14: =SUM(K14,-L14,M14,-N14,O14) -> 0 | Q14: 0 | R14: =IF(OR('Val-Dép'!I14="note de crédit", 'Val-Dép'!I14="Marchand-amball"), "0",PRODUCT(P14,Q14)) -> 0 | S14: =IF(('Val-Dép'!I14="Marchand-amball"), PRODUCT(P14,Q14),"0") -> 0 | T14: =IF(('Val-Dép'!I14="note de crédit"),PRODUCT(P14,Q14),"0") -> 0 | V14: =IF(('Val-Dép'!I14<>"note de crédit"),SUM(P14,R14,S14,T14),"") -> 0 | W14: =SUM(R14:S14) -> 0 | X14: =IF(('Val-Dép'!I14="note de crédit"),(P14+T14),"") | Y14: =V14 -> 0 | Z14: =IF(AF14=ROUND(D14,2),AF14,IF(AF14=ROUND(D14+V14,2),AF14,IF(AF14= ROUND(V14,2),AF14,IF(AF14="",AF14,"")))) -> 0 | AA14: =$B$14 -> C00022 | AB14: =$C$14 -> client02 | AE14: =IF(H14="Bq client-1an","400/550",IF(H14="Bq client+1an","290/550",IF(H14="Bq post client-1an","400/560",IF(H14="Bq post client+1an","290/560",IF(H14="Caisse client-1an","400/570",IF(H14="Caisse client+1an","290/570",IF(H14="**",0))))))) -> 290/550 | AG14: =IF((H14<>"**"), "Bq ACTIF", " Banque pas ACTIF") -> Bq ACTIF
A15: 3 | B15: C00033 | E15: =IF(F15="","",LEFT(F15,SEARCH("-",F15)-2))*1 -> 70000 | F15: 70000 - ventes de marchandises | G15: ** | I15: NUL | P15: =SUM(K15,-L15,M15,-N15,O15) -> 0 | Q15: 0 | R15: =IF(OR('Val-Dép'!I15="note de crédit", 'Val-Dép'!I15="Marchand-amball"), "0",PRODUCT(P15,Q15)) -> 0 | S15: =IF(('Val-Dép'!I15="Marchand-amball"), PRODUCT(P15,Q15),"0") -> 0 | T15: =IF(('Val-Dép'!I15="note de crédit"),PRODUCT(P15,Q15),"0") -> 0 | V15: =IF(('Val-Dép'!I15<>"note de crédit"),SUM(P15,R15,S15,T15),"") -> 0 | W15: =SUM(R15:S15) -> 0 | X15: =IF(('Val-Dép'!I15="note de crédit"),(P15+T15),"") | Y15: =V15 -> 0 | Z15: =IF(AF15=ROUND(D15,2),AF15,IF(AF15=ROUND(D15+V15,2),AF15,IF(AF15= ROUND(V15,2),AF15,IF(AF15="",AF15,"")))) -> 0 | AA15: =$B$15 -> C00033 | AB15: =$C$15 -> 0 | AE15: =IF(H15="Bq client-1an","400/550",IF(H15="Bq client+1an","290/550",IF(H15="Bq post client-1an","400/560",IF(H15="Bq post client+1an","290/560",IF(H15="Caisse client-1an","400/570",IF(H15="Caisse client+1an","290/570",IF(H15="**",0))))))) -> FALSE | AG15: =IF((H15<>"**"), "Bq ACTIF", " Banque pas ACTIF") -> Bq ACTIF
A16: 4 | B16: C00044 | E16: =IF(F16="","",LEFT(F16,SEARCH("-",F16)-2))*1 -> 17003 | F16: 17003 - emprunt | G16: ** | I16: NUL | P16: =SUM(K16,-L16,M16,-N16,O16) -> 0 | Q16: 0 | R16: =IF(OR('Val-Dép'!I16="note de crédit", 'Val-Dép'!I16="Marchand-amball"), "0",PRODUCT(P16,Q16)) -> 0 | S16: =IF(('Val-Dép'!I16="Marchand-amball"), PRODUCT(P16,Q16),"0") -> 0 | T16: =IF(('Val-Dép'!I16="note de crédit"),PRODUCT(P16,Q16),"0") -> 0 | V16: =IF(('Val-Dép'!I16<>"note de crédit"),SUM(P16,R16,S16,T16),"") -> 0 | W16: =SUM(R16:S16) -> 0 | X16: =IF(('Val-Dép'!I16="note de crédit"),(P16+T16),"") | Y16: =V16 -> 0 | Z16: =IF(AF16=ROUND(D16,2),AF16,IF(AF16=ROUND(D16+V16,2),AF16,IF(AF16= ROUND(V16,2),AF16,IF(AF16="",AF16,"")))) -> 0 | AA16: =$B$16 -> C00044 | AB16: =$C$16 -> 0 | AE16: =IF(H16="Bq client-1an","400/550",IF(H16="Bq client+1an","290/550",IF(H16="Bq post client-1an","400/560",IF(H16="Bq post client+1an","290/560",IF(H16="Caisse client-1an","400/570",IF(H16="Caisse client+1an","290/570",IF(H16="**",0))))))) -> FALSE | AG16: =IF((H16<>"**"), "Bq ACTIF", " Banque pas ACTIF") -> Bq ACTIF
A17: 5 | B17: C00055 | E17: =IF(F17="","",LEFT(F17,SEARCH("-",F17)-2))*1 -> 17004 | F17: 17004 - emprunt | G17: ** | I17: NUL | P17: =SUM(K17,-L17,M17,-N17,O17) -> 0 | Q17: 0 | R17: =IF(OR('Val-Dép'!I17="note de crédit", 'Val-Dép'!I17="Marchand-amball"), "0",PRODUCT(P17,Q17)) -> 0 | S17: =IF(('Val-Dép'!I17="Marchand-amball"), PRODUCT(P17,Q17),"0") -> 0 | T17: =IF(('Val-Dép'!I17="note de crédit"),PRODUCT(P17,Q17),"0") -> 0 | V17: =IF(('Val-Dép'!I17<>"note de crédit"),SUM(P17,R17,S17,T17),"") -> 0 | W17: =SUM(R17:S17) -> 0 | X17: =IF(('Val-Dép'!I17="note de crédit"),(P17+T17),"") | Y17: =V17 -> 0 | Z17: =IF(AF17=ROUND(D17,2),AF17,IF(AF17=ROUND(D17+V17,2),AF17,IF(AF17= ROUND(V17,2),AF17,IF(AF17="",AF17,"")))) -> 0 | AA17: =$B$17 -> C00055 | AB17: =$C$17 -> 0 | AE17: =IF(H17="Bq client-1an","400/550",IF(H17="Bq client+1an","290/550",IF(H17="Bq post client-1an","400/560",IF(H17="Bq post client+1an","290/560",IF(H17="Caisse client-1an","400/570",IF(H17="Caisse client+1an","290/570",IF(H17="**",0))))))) -> FALSE | AG17: =IF((H17<>"**"), "Bq ACTIF", " Banque pas ACTIF") -> Bq ACTIF
A18: 6 | B18: C0006 | E18: =IF(F18="","",LEFT(F18,SEARCH("-",F18)-2))*1 -> 17005 | F18: 17005 - emprunt | G18: ** | I18: NUL | P18: =SUM(K18,-L18,M18,-N18,O18) -> 0 | Q18: 0 | R18: =IF(OR('Val-Dép'!I18="note de crédit", 'Val-Dép'!I18="Marchand-amball"), "0",PRODUCT(P18,Q18)) -> 0 | S18: =IF(('Val-Dép'!I18="Marchand-amball"), PRODUCT(P18,Q18),"0") -> 0 | T18: =IF(('Val-Dép'!I18="note de crédit"),PRODUCT(P18,Q18),"0") -> 0 | V18: =IF(('Val-Dép'!I18<>"note de crédit"),SUM(P18,R18,S18,T18),"") -> 0 | W18: =SUM(R18:S18) -> 0 | X18: =IF(('Val-Dép'!I18="note de crédit"),(P18+T18),"") | Y18: =V18 -> 0 | Z18: =IF(AF18=ROUND(D18,2),AF18,IF(AF18=ROUND(D18+V18,2),AF18,IF(AF18= ROUND(V18,2),AF18,IF(AF18="",AF18,"")))) -> 0 | AA18: =$B$18 -> C0006 | AB18: =$C$18 -> 0 | AE18: =IF(H18="Bq client-1an","400/550",IF(H18="Bq client+1an","290/550",IF(H18="Bq post client-1an","400/560",IF(H18="Bq post client+1an","290/560",IF(H18="Caisse client-1an","400/570",IF(H18="Caisse client+1an","290/570",IF(H18="**",0))))))) -> FALSE | AG18: =IF((H18<>"**"), "Bq ACTIF", " Banque pas ACTIF") -> Bq ACTIF
A19: 7 | B19: C0007 | E19: =IF(F19="","",LEFT(F19,SEARCH("-",F19)-2))*1 -> 17006 | F19: 17006 - emprunt | G19: ** | I19: NUL | P19: =SUM(K19,-L19,M19,-N19,O19) -> 0 | Q19: 0 | R19: =IF(OR('Val-Dép'!I19="note de crédit", 'Val-Dép'!I19="Marchand-amball"), "0",PRODUCT(P19,Q19)) -> 0 | S19: =IF(('Val-Dép'!I19="Marchand-amball"), PRODUCT(P19,Q19),"0") -> 0 | T19: =IF(('Val-Dép'!I19="note de crédit"),PRODUCT(P19,Q19),"0") -> 0 | V19: =IF(('Val-Dép'!I19<>"note de crédit"),SUM(P19,R19,S19,T19),"") -> 0 | W19: =SUM(R19:S19) -> 0 | X19: =IF(('Val-Dép'!I19="note de crédit"),(P19+T19),"") | Y19: =V19 -> 0 | Z19: =IF(AF19=ROUND(D19,2),AF19,IF(AF19=ROUND(D19+V19,2),AF19,IF(AF19= ROUND(V19,2),AF19,IF(AF19="",AF19,"")))) -> 0 | AA19: =$B$19 -> C0007 | AB19: =$C$19 -> 0 | AE19: =IF(H19="Bq client-1an","400/550",IF(H19="Bq client+1an","290/550",IF(H19="Bq post client-1an","400/560",IF(H19="Bq post client+1an","290/560",IF(H19="Caisse client-1an","400/570",IF(H19="Caisse client+1an","290/570",IF(H19="**",0))))))) -> FALSE | AG19: =IF((H19<>"**"), "Bq ACTIF", " Banque pas ACTIF") -> Bq ACTIF
A20: 8 | B20: C0008 | E20: =IF(F20="","",LEFT(F20,SEARCH("-",F20)-2))*1 -> 17007 | F20: 17007 - emprunt | G20: ** | I20: NUL | P20: =SUM(K20,-L20,M20,-N20,O20) -> 0 | Q20: 0 | R20: =IF(OR('Val-Dép'!I20="note de crédit", 'Val-Dép'!I20="Marchand-amball"), "0",PRODUCT(P20,Q20)) -> 0 | S20: =IF(('Val-Dép'!I20="Marchand-amball"), PRODUCT(P20,Q20),"0") -> 0 | T20: =IF(('Val-Dép'!I20="note de crédit"),PRODUCT(P20,Q20),"0") -> 0 | V20: =IF(('Val-Dép'!I20<>"note de crédit"),SUM(P20,R20,S20,T20),"") -> 0 | W20: =SUM(R20:S20) -> 0 | X20: =IF(('Val-Dép'!I20="note de crédit"),(P20+T20),"") | Y20: =V20 -> 0 | Z20: =IF(AF20=ROUND(D20,2),AF20,IF(AF20=ROUND(D20+V20,2),AF20,IF(AF20= ROUND(V20,2),AF20,IF(AF20="",AF20,"")))) -> 0 | AA20: =$B$20 -> C0008 | AB20: =$C$20 -> 0 | AE20: =IF(H20="Bq client-1an","400/550",IF(H20="Bq client+1an","290/550",IF(H20="Bq post client-1an","400/560",IF(H20="Bq post client+1an","290/560",IF(H20="Caisse client-1an","400/570",IF(H20="Caisse client+1an","290/570",IF(H20="**",0))))))) -> FALSE | AG20: =IF((H20<>"**"), "Bq ACTIF", " Banque pas ACTIF") -> Bq ACTIF
A21: 9 | B21: C0009 | E21: =IF(F21="","",LEFT(F21,SEARCH("-",F21)-2))*1 -> 17008 | F21: 17008 - emprunt | G21: ** | I21: NUL | P21: =SUM(K21,-L21,M21,-N21,O21) -> 0 | Q21: 0 | R21: =IF(OR('Val-Dép'!I21="note de crédit", 'Val-Dép'!I21="Marchand-amball"), "0",PRODUCT(P21,Q21)) -> 0 | S21: =IF(('Val-Dép'!I21="Marchand-amball"), PRODUCT(P21,Q21),"0") -> 0 | T21: =IF(('Val-Dép'!I21="note de crédit"),PRODUCT(P21,Q21),"0") -> 0 | V21: =IF(('Val-Dép'!I21<>"note de crédit"),SUM(P21,R21,S21,T21),"") -> 0 | W21: =SUM(R21:S21) -> 0 | X21: =IF(('Val-Dép'!I21="note de crédit"),(P21+T21),"") | Y21: =V21 -> 0 | Z21: =IF(AF21=ROUND(D21,2),AF21,IF(AF21=ROUND(D21+V21,2),AF21,IF(AF21= ROUND(V21,2),AF21,IF(AF21="",AF21,"")))) -> 0 | AA21: =$B$21 -> C0009 | AB21: =$C$21 -> 0 | AE21: =IF(H21="Bq client-1an","400/550",IF(H21="Bq client+1an","290/550",IF(H21="Bq post client-1an","400/560",IF(H21="Bq post client+1an","290/560",IF(H21="Caisse client-1an","400/570",IF(H21="Caisse client+1an","290/570",IF(H21="**",0))))))) -> FALSE | AG21: =IF((H21<>"**"), "Bq ACTIF", " Banque pas ACTIF") -> Bq ACTIF
A22: 10 | B22: C00010 | E22: =IF(F22="","",LEFT(F22,SEARCH("-",F22)-2))*1 -> 17009 | F22: 17009 - emprunt | G22: ** | I22: NUL | P22: =SUM(K22,-L22,M22,-N22,O22) -> 0 | Q22: 0 | R22: =IF(OR('Val-Dép'!I22="note de crédit", 'Val-Dép'!I22="Marchand-amball"), "0",PRODUCT(P22,Q22)) -> 0 | S22: =IF(('Val-Dép'!I22="Marchand-amball"), PRODUCT(P22,Q22),"0") -> 0 | T22: =IF(('Val-Dép'!I22="note de crédit"),PRODUCT(P22,Q22),"0") -> 0 | V22: =IF(('Val-Dép'!I22<>"note de crédit"),SUM(P22,R22,S22,T22),"") -> 0 | W22: =SUM(R22:S22) -> 0 | X22: =IF(('Val-Dép'!I22="note de crédit"),(P22+T22),"") | Y22: =V22 -> 0 | Z22: =IF(AF22=ROUND(D22,2),AF22,IF(AF22=ROUND(D22+V22,2),AF22,IF(AF22= ROUND(V22,2),AF22,IF(AF22="",AF22,"")))) -> 0 | AA22: =$B$22 -> C00010 | AB22: =$C$22 -> 0 | AE22: =IF(H22="Bq client-1an","400/550",IF(H22="Bq client+1an","290/550",IF(H22="Bq post client-1an","400/560",IF(H22="Bq post client+1an","290/560",IF(H22="Caisse client-1an","400/570",IF(H22="Caisse client+1an","290/570",IF(H22="**",0))))))) -> FALSE | AG22: =IF((H22<>"**"), "Bq ACTIF", " Banque pas ACTIF") -> Bq ACTIF
A23: 11 | B23: C00011 | E23: =IF(F23="","",LEFT(F23,SEARCH("-",F23)-2))*1 -> 17010 | F23: 17010 - emprunt | G23: ** | I23: NUL | P23: =SUM(K23,-L23,M23,-N23,O23) -> 0 | Q23: 0 | R23: =IF(OR('Val-Dép'!I23="note de crédit", 'Val-Dép'!I23="Marchand-amball"), "0",PRODUCT(P23,Q23)) -> 0 | S23: =IF(('Val-Dép'!I23="Marchand-amball"), PRODUCT(P23,Q23),"0") -> 0 | T23: =IF(('Val-Dép'!I23="note de crédit"),PRODUCT(P23,Q23),"0") -> 0 | V23: =IF(('Val-Dép'!I23<>"note de crédit"),SUM(P23,R23,S23,T23),"") -> 0 | W23: =SUM(R23:S23) -> 0 | X23: =IF(('Val-Dép'!I23="note de crédit"),(P23+T23),"") | Y23: =V23 -> 0 | Z23: =IF(AF23=ROUND(D23,2),AF23,IF(AF23=ROUND(D23+V23,2),AF23,IF(AF23= ROUND(V23,2),AF23,IF(AF23="",AF23,"")))) -> 0 | AA23: =$B$23 -> C00011 | AB23: =$C$23 -> 0 | AE23: =IF(H23="Bq client-1an","400/550",IF(H23="Bq client+1an","290/550",IF(H23="Bq post client-1an","400/560",IF(H23="Bq post client+1an","290/560",IF(H23="Caisse client-1an","400/570",IF(H23="Caisse client+1an","290/570",IF(H23="**",0))))))) -> FALSE | AG23: =IF((H23<>"**"), "Bq ACTIF", " Banque pas ACTIF") -> Bq ACTIF
A24: 12 | B24: C00012 | E24: =IF(F24="","",LEFT(F24,SEARCH("-",F24)-2))*1 -> 17011 | F24: 17011 - emprunt | G24: ** | I24: NUL | P24: =SUM(K24,-L24,M24,-N24,O24) -> 0 | Q24: 0 | R24: =IF(OR('Val-Dép'!I24="note de crédit", 'Val-Dép'!I24="Marchand-amball"), "0",PRODUCT(P24,Q24)) -> 0 | S24: =IF(('Val-Dép'!I24="Marchand-amball"), PRODUCT(P24,Q24),"0") -> 0 | T24: =IF(('Val-Dép'!I24="note de crédit"),PRODUCT(P24,Q24),"0") -> 0 | V24: =IF(('Val-Dép'!I24<>"note de crédit"),SUM(P24,R24,S24,T24),"") -> 0 | W24: =SUM(R24:S24) -> 0 | X24: =IF(('Val-Dép'!I24="note de crédit"),(P24+T24),"") | Y24: =V24 -> 0 | Z24: =IF(AF24=ROUND(D24,2),AF24,IF(AF24=ROUND(D24+V24,2),AF24,IF(AF24= ROUND(V24,2),AF24,IF(AF24="",AF24,"")))) -> 0 | AA24: =$B$24 -> C00012 | AB24: =$C$24 -> 0 | AE24: =IF(H24="Bq client-1an","400/550",IF(H24="Bq client+1an","290/550",IF(H24="Bq post client-1an","400/560",IF(H24="Bq post client+1an","290/560",IF(H24="Caisse client-1an","400/570",IF(H24="Caisse client+1an","290/570",IF(H24="**",0))))))) -> FALSE | AG24: =IF((H24<>"**"), "Bq ACTIF", " Banque pas ACTIF") -> Bq ACTIF
A25: 13 | B25: C00013 | E25: =IF(F25="","",LEFT(F25,SEARCH("-",F25)-2))*1 -> 17012 | F25: 17012 - emprunt | G25: ** | I25: NUL | P25: =SUM(K25,-L25,M25,-N25,O25) -> 0 | Q25: 0 | R25: =IF(OR('Val-Dép'!I25="note de crédit", 'Val-Dép'!I25="Marchand-amball"), "0",PRODUCT(P25,Q25)) -> 0 | S25: =IF(('Val-Dép'!I25="Marchand-amball"), PRODUCT(P25,Q25),"0") -> 0 | T25: =IF(('Val-Dép'!I25="note de crédit"),PRODUCT(P25,Q25),"0") -> 0 | V25: =IF(('Val-Dép'!I25<>"note de crédit"),SUM(P25,R25,S25,T25),"") -> 0 | W25: =SUM(R25:S25) -> 0 | X25: =IF(('Val-Dép'!I25="note de crédit"),(P25+T25),"") | Y25: =V25 -> 0 | Z25: =IF(AF25=ROUND(D25,2),AF25,IF(AF25=ROUND(D25+V25,2),AF25,IF(AF25= ROUND(V25,2),AF25,IF(AF25="",AF25,"")))) -> 0 | AA25: =$B$25 -> C00013 | AB25: =$C$25 -> 0 | AE25: =IF(H25="Bq client-1an","400/550",IF(H25="Bq client+1an","290/550",IF(H25="Bq post client-1an","400/560",IF(H25="Bq post client+1an","290/560",IF(H25="Caisse client-1an","400/570",IF(H25="Caisse client+1an","290/570",IF(H25="**",0))))))) -> FALSE | AG25: =IF((H25<>"**"), "Bq ACTIF", " Banque pas ACTIF") -> Bq ACTIF
A26: 14 | B26: TOTAL | D26: =SUM(D13:D25) -> 0 | H26: Total | K26: =SUM(K13:K25) -> 0 | P26: =SUM(P13:P25) -> 0 | R26: =SUM(R13:R25) -> 0 | S26: =SUM(S13:S25) -> 0 | T26: =SUM(T13:T25) -> 0 | V26: =SUM(V13:V25) -> 0 | W26: =SUM(W13:W23) -> 0 | X26: =SUM(X13:X25) -> 0 | Y26: =SUM(Y13:Y25) -> 0 | Z26: =SUM(Z13:Z25) -> 0 | AA26: =B26 -> TOTAL | AC26: écrire les fact reçues du client | AF26: =SUM(AF13:AF25) -> 0
A27: !!!!!!! | B27: =IF(ROUND('VAL-INIT'!F79,2)=ROUND(D26,2)," V.I.Clients correcte","REVOIR.V.I. .clients") -> REVOIR.V.I. .clients | E27: !!!!!! | J27: Effacer seulement ICI | P27: non marchand | R27: nc | U27: Idem | X27: journal des | AF27: Effacer ici | AI27: différence
B28: VAL-INIT V.I. =========> | D28: ='VAL-INIT'!F79 -> 25000 | F28: FAIRE LE BON CHOIX est de toute importance | N28: TOTAL TVA | P28: =SUM(R26:T26) -> 0 | Q28: NC/tva | R28: -103.07 | U28: Jour Ach-Ven | X28: Ventes | Z28: La banque à reçu du CLIENT pour le mois de : | AE28: =AF26 -> 0 | AF28: DIFFERENCE CLIENT - FOURNISSEUR | AI28: =AE28 -> 0 | AJ28: =AM46 -> 0 | AK28: =AE28-AM46 -> 0 | AM28: Caisse
G29: Permet de | H29: détermine | I29: le type d'achats | AC29: Note | AM29: Par post
A30: 2ème VERIFICATION : V.I. Clients doit être VERT | F30: PCMN | G30: choisir | H30: Choix de la | I30: Utile dans | S30: Fourn. : | W30: Journal. ACHATS-VENTES | AB30: Fourn. : | AC30: de crédit | AH30: BANQUE à payé au Fournisseur pour le mois de : | AM30: Banque
A31: Tjrs mettre dans l'ordre Num Four | E31: Le | F31: Pour définir | H31: Banque (550) | I31: Permet de choisir | R31: Si rien à | S31: Mont. Crédt. | X31: TVA due | Z31: TVA | AA31: TVA due | AB31: Mont.Débt. | AC31: sur achats | AD31: Entret.immo. | AE31: Prest. Service | AF31: Au fourn. : | AH31: JOURNAL - FINAN - BANQ | AM31: Fact payées
A32: valeur initiale du fournisseur | E32: PCMN | F32: Les achats ( 6*****) | G32: Avec TVA | H32: Bq post (560) | I32: le type de fichier dans | J32: Inscrire ici les factures Reçues des FOURNISSEURS | R32: déduire | S32: HTVA | V32: TVA à récup (achats) | X32: de régul. Sur NC | Z32: Mont. Crédt. | AA32: de régul. Sur NC | AB32: TVAC | AC32: TVAC | AD32: Intracomm. | AE32: cocontractant | AF32: montant débt. | AM32: Aux Fournisseurs
A33: 60*** | B33: Achats | C33: Fournisseurs | E33: Si PCMN correcte = BILAN Tjrs OK | G33: Sans TVA | H33: Caisse (570) | I33: Gr liv ACT-PAS | J33: FACTURES -des- FOURNISSEURS | R33: TVA = % | S33: Nouvelle | U33: TVA % | V33: 4110 | X33: 4514 | Y33: Emballage | Z33: 4110 | AA33: 4514 | AC33: NC/achats | AD33: TVA due | AE33: TVA due | AF33: Fourn. D- | AH33: Payement aux FOURNISSEURS via ( Banque - Bq post - Caisse ) pour le MOIS de : | AM33: montant crédt. | AN33: choix à faire
A34: Date | B34: Num Four | C34: fournisseurs | D34: V.I. | E34: PCMN | F34: PCMN Obligatoire | G34: avec/sans TVA | H34: Quelle Banque ? | I34: dénomination | J34: Fact-N° | K34: HTVA | L34: Escompte | M34: Transport | N34: RRR | O34: Embal Av tva | P34: Base-impot | Q34: TVA % | R34: DEDUCTIBLE | S34: Base impot. | U34: Restant | V34: tva non march. | W34: tva marchand | X34: TVA due (NC) | Y34: après tva | Z34: TVA à Récup. | AA34: TVA due (NC) | AB34: Tot TVAC | AC34: TVAC (NC) | AD34: (59)451020 | AE34: (59)451030 | AF34: Vérification | AH34: Num Fourn | AI34: Nom Fourn | AJ34: extrait | AK34: date | AL34: PMCN | AM34: Fourn. C- | AN34: dans G35 à G45
B35: F0001 | C35: four01 | D35: 0 | E35: =IF(F35="","",LEFT(F35,SEARCH("-",F35)-2))*1 -> 24000 | F35: 24000 - Mobilier | H35: Bq fournis-1an | I35: Mobilier | K35: 750 | L35: 0 | M35: 0 | N35: 0 | O35: 0 | P35: =SUM(K35,-L35,M35,-N35,O35) -> 750 | Q35: 0 | R35: 0 | S35: =(IF(R35=0,P35,(P35*Q35*R35)+P35)) -> 750 | U35: =(1-R35) -> 1 | V35: =IF(OR( 'Val-Dép'!G35="cocontractant", 'Val-Dép'!G35="Intracomm.", 'Val-Dép'!I35="note de crédit", 'Val-Dép'!I35="Marchand-amball"),"0",PRODUCT(P35,Q35,U35)) -> 0 | W35: =IF(( 'Val-Dép'!I35="Marchand-amball"),PRODUCT(P35,Q35,U35),"0") -> 0 | X35: =IF(OR('Val-Dép'!I35="note de crédit"), PRODUCT(P35,Q35,U35),"0") -> 0 | Y35: 0 | Z35: =(V35+W35) -> 0 | AA35: =IF((I35="note de crédit"),(P35*Q35*U35),"0") -> 0 | AB35: =IF((I35<>"note de crédit"),SUM(S35,V35,W35,X35),"0") -> 750 | AC35: =IF((I35="note de crédit"),SUM(S35,X35),"0") -> 0 | AD35: =IF((G35="Intracomm."),PRODUCT(P35,Q35,U35),"0") -> 0 | AE35: =IF((G35="cocontractant"), PRODUCT(P35,Q35,U35),"0") -> 0 | AF35: =IF(AM35=ROUND(D35,2),AM35,IF(AM35=ROUND(D35+AB35,2),AM35,IF(AM35=ROUND(AB35,2),AM35,IF(AM35="",AM35,"0")))) -> 0 | AH35: =$B$35 -> F0001 | AI35: =C35 -> four01 | AL35: =IF(H35="Banque","550",IF(H35="Bq client-1an","400/550",IF(H35="Bq post","560",IF(H35="Bq fournis-1an","440/550",IF(H35="Bq fournis+1an","1750/550",IF(H35="Bq post fournis-1an","440/560",IF(H35="Bq post fournis+1an","1750/560",IF(H35="Caisse fournis-1an","440/570",IF(H35="Caisse fournis+1an","1750/570",IF(H35="**",0)))))))))) -> 440/550 | AN35: =IF(AND(H35<>"**"), "Bq ACTIF", "Compte pas ACTIF") -> Bq ACTIF
B36: F0001 | C36: four02 | D36: 0 | E36: =IF(F36="","",LEFT(F36,SEARCH("-",F36)-2))*1 -> 36000 | F36: 36000 - Stock | G36: ** | H36: Bq fournis-1an | I36: Stocks | K36: 5000 | L36: 0 | M36: 0 | N36: 0 | O36: 0 | P36: =SUM(K36,-L36,M36,-N36,O36) -> 5000 | Q36: 0 | R36: 0 | S36: =(IF(R36=0,P36,(P36*Q36*R36)+P36)) -> 5000 | U36: =(1-R36) -> 1 | V36: =IF(OR( 'Val-Dép'!G36="cocontractant", 'Val-Dép'!G36="Intracomm.", 'Val-Dép'!I36="note de crédit", 'Val-Dép'!I36="Marchand-amball"),"0",PRODUCT(P36,Q36,U36)) -> 0 | W36: =IF(( 'Val-Dép'!I36="Marchand-amball"),PRODUCT(P36,Q36,U36),"0") -> 0 | X36: =IF(OR('Val-Dép'!I36="note de crédit"), PRODUCT(P36,Q36,U36),"0") -> 0 | Y36: 0 | Z36: =(V36+W36) -> 0 | AA36: =IF((I36="note de crédit"),(P36*Q36*U36),"0") -> 0 | AB36: =IF((I36<>"note de crédit"),SUM(S36,V36,W36,X36),"0") -> 5000 | AC36: =IF((I36="note de crédit"),SUM(S36,X36),"0") -> 0 | AD36: =IF((G36="Intracomm."),PRODUCT(P36,Q36,U36),"0") -> 0 | AE36: =IF((G36="cocontractant"), PRODUCT(P36,Q36,U36),"0") -> 0 | AF36: =IF(AM36=ROUND(D36,2),AM36,IF(AM36=ROUND(D36+AB36,2),AM36,IF(AM36=ROUND(AB36,2),AM36,IF(AM36="",AM36,"0")))) -> 0 | AH36: =$B$36 -> F0001 | AI36: =C36 -> four02 | AL36: =IF(H36="banque","550",IF(H36="Bq post","560",IF(H36="Bq fournis-1an","440/550",IF(H36="Bq fournis+1an","1750/550",IF(H36="Bq post fournis-1an","440/560",IF(H36="Bq post fournis+1an","1750/560",IF(H36="Caisse fournis-1an","440/570",IF(H36="Caisse fournis+1an","1750/570",IF(H36="**",0))))))))) -> 440/550 | AN36: =IF(AND(H38<>"**"), "Bq ACTIF", "Compte pas ACTIF") -> Compte pas ACTIF
B37: F0003 | C37: four03 | D37: 0 | E37: =IF(F37="","",LEFT(F37,SEARCH("-",F37)-2))*1 -> 24000 | F37: 24000 - Mobilier | G37: ** | H37: ** | P37: =SUM(K37,-L37,M37,-N37,O37) -> 0 | Q37: 0 | R37: 0 | S37: =(IF(R37=0,P37,(P37*Q37*R37)+P37)) -> 0 | U37: =(1-R37) -> 1 | V37: =IF(OR( 'Val-Dép'!G37="cocontractant", 'Val-Dép'!G37="Intracomm.", 'Val-Dép'!I37="note de crédit", 'Val-Dép'!I37="Marchand-amball"),"0",PRODUCT(P37,Q37,U37)) -> 0 | W37: =IF(( 'Val-Dép'!I37="Marchand-amball"),PRODUCT(P37,Q37,U37),"0") -> 0 | X37: =IF(OR('Val-Dép'!I37="note de crédit"), PRODUCT(P37,Q37,U37),"0") -> 0 | Y37: 0 | Z37: =(V37+W37) -> 0 | AA37: =IF((I37="note de crédit"),(P37*Q37*U37),"0") -> 0 | AB37: =IF((I37<>"note de crédit"),SUM(S37,V37,W37,X37),"0") -> 0 | AC37: =IF((I37="note de crédit"),SUM(S37,X37),"0") -> 0 | AD37: =IF((G37="Intracomm."),PRODUCT(P37,Q37,U37),"0") -> 0 | AE37: =IF((G37="cocontractant"), PRODUCT(P37,Q37,U37),"0") -> 0 | AF37: =IF(AM37=ROUND(D37,2),AM37,IF(AM37=ROUND(D37+AB37,2),AM37,IF(AM37=ROUND(AB37,2),AM37,IF(AM37="",AM37,"0")))) -> 0 | AH37: =$B$37 -> F0003 | AI37: =C37 -> four03 | AL37: =IF(H37="banque","550",IF(H37="Bq post","560",IF(H37="Bq fournis-1an","440/550",IF(H37="Bq fournis+1an","1750/550",IF(H37="Bq post fournis-1an","440/560",IF(H37="Bq post fournis+1an","1750/560",IF(H37="Caisse fournis-1an","440/570",IF(H37="Caisse fournis+1an","1750/570",IF(H37="**",0))))))))) -> 0 | AN37: =IF(AND(H39<>"**"), "Bq ACTIF", "Compte pas ACTIF") -> Compte pas ACTIF
B38: F0004 | E38: =IF(F38="","",LEFT(F38,SEARCH("-",F38)-2))*1 -> 24000 | F38: 24000 - Mobilier | G38: ** | H38: ** | P38: =SUM(K38,-L38,M38,-N38,O38) -> 0 | Q38: 0 | R38: 0 | S38: =(IF(R38=0,P38,(P38*Q38*R38)+P38)) -> 0 | U38: =(1-R38) -> 1 | V38: =IF(OR( 'Val-Dép'!G38="cocontractant", 'Val-Dép'!G38="Intracomm.", 'Val-Dép'!I38="note de crédit", 'Val-Dép'!I38="Marchand-amball"),"0",PRODUCT(P38,Q38,U38)) -> 0 | W38: =IF(( 'Val-Dép'!I38="Marchand-amball"),PRODUCT(P38,Q38,U38),"0") -> 0 | X38: =IF(OR('Val-Dép'!I38="note de crédit"), PRODUCT(P38,Q38,U38),"0") -> 0 | Y38: 0 | Z38: =(V38+W38) -> 0 | AA38: =IF((I38="note de crédit"),(P38*Q38*U38),"0") -> 0 | AB38: =IF((I38<>"note de crédit"),SUM(S38,V38,W38,X38),"0") -> 0 | AC38: =IF((I38="note de crédit"),SUM(S38,X38),"0") -> 0 | AD38: =IF((G38="Intracomm."),PRODUCT(P38,Q38,U38),"0") -> 0 | AE38: =IF((G38="cocontractant"), PRODUCT(P38,Q38,U38),"0") -> 0 | AF38: =IF(AM38=ROUND(D38,2),AM38,IF(AM38=ROUND(D38+AB38,2),AM38,IF(AM38=ROUND(AB38,2),AM38,IF(AM38="",AM38,"0")))) -> 0 | AH38: =$B$38 -> F0004 | AI38: =C38 -> 0 | AL38: =IF(H38="banque","550",IF(H38="Bq post","560",IF(H38="Bq fournis-1an","440/550",IF(H38="Bq fournis+1an","1750/550",IF(H38="Bq post fournis-1an","440/560",IF(H38="Bq post fournis+1an","1750/560",IF(H38="Caisse fournis-1an","440/570",IF(H38="Caisse fournis+1an","1750/570",IF(H38="**",0))))))))) -> 0 | AN38: =IF(AND(H40<>"**"), "Bq ACTIF", "Compte pas ACTIF") -> Compte pas ACTIF
E39: =IF(F39="","",LEFT(F39,SEARCH("-",F39)-2))*1 -> 17001 | F39: 17001 - emprunt | G39: ** | H39: ** | P39: =SUM(K39,-L39,M39,-N39,O39) -> 0 | Q39: 0 | R39: 0 | S39: =(IF(R39=0,P39,(P39*Q39*R39)+P39)) -> 0 | U39: =(1-R39) -> 1 | V39: =IF(OR( 'Val-Dép'!G39="cocontractant", 'Val-Dép'!G39="Intracomm.", 'Val-Dép'!I39="note de crédit", 'Val-Dép'!I39="Marchand-amball"),"0",PRODUCT(P39,Q39,U39)) -> 0 | W39: =IF(( 'Val-Dép'!I39="Marchand-amball"),PRODUCT(P39,Q39,U39),"0") -> 0 | X39: =IF(OR('Val-Dép'!I39="note de crédit"), PRODUCT(P39,Q39,U39),"0") -> 0 | Y39: 0 | Z39: =(V39+W39) -> 0 | AA39: =IF((I39="note de crédit"),(P39*Q39*U39),"0") -> 0 | AB39: =IF((I39<>"note de crédit"),SUM(S39,V39,W39,X39),"0") -> 0 | AC39: =IF((I39="note de crédit"),SUM(S39,X39),"0") -> 0 | AD39: =IF((G39="Intracomm."),PRODUCT(P39,Q39,U39),"0") -> 0 | AE39: =IF((G39="cocontractant"), PRODUCT(P39,Q39,U39),"0") -> 0 | AF39: =IF(AM39=ROUND(D39,2),AM39,IF(AM39=ROUND(D39+AB39,2),AM39,IF(AM39=ROUND(AB39,2),AM39,IF(AM39="",AM39,"0")))) -> 0 | AH39: =$B$39 -> 0 | AI39: =C39 -> 0 | AL39: =IF(H39="banque","550",IF(H39="Bq post","560",IF(H39="Bq fournis-1an","440/550",IF(H39="Bq fournis+1an","1750/550",IF(H39="Bq post fournis-1an","440/560",IF(H39="Bq post fournis+1an","1750/560",IF(H39="Caisse fournis-1an","440/570",IF(H39="Caisse fournis+1an","1750/570",IF(H39="**",0))))))))) -> 0 | AN39: =IF(AND(H41<>"**"), "Bq ACTIF", "Compte pas ACTIF") -> Compte pas ACTIF
E40: =IF(F40="","",LEFT(F40,SEARCH("-",F40)-2))*1 -> 17002 | F40: 17002 - emprunt | G40: ** | H40: ** | P40: =SUM(K40,-L40,M40,-N40,O40) -> 0 | Q40: 0 | R40: 0 | S40: =(IF(R40=0,P40,(P40*Q40*R40)+P40)) -> 0 | U40: =(1-R40) -> 1 | V40: =IF(OR( 'Val-Dép'!G40="cocontractant", 'Val-Dép'!G40="Intracomm.", 'Val-Dép'!I40="note de crédit", 'Val-Dép'!I40="Marchand-amball"),"0",PRODUCT(P40,Q40,U40)) -> 0 | W40: =IF(( 'Val-Dép'!I40="Marchand-amball"),PRODUCT(P40,Q40,U40),"0") -> 0 | X40: =IF(OR('Val-Dép'!I40="note de crédit"), PRODUCT(P40,Q40,U40),"0") -> 0 | Y40: 0 | Z40: =(V40+W40) -> 0 | AA40: =IF((I40="note de crédit"),(P40*Q40*U40),"0") -> 0 | AB40: =IF((I40<>"note de crédit"),SUM(S40,V40,W40,X40),"0") -> 0 | AC40: =IF((I40="note de crédit"),SUM(S40,X40),"0") -> 0 | AD40: =IF((G40="Intracomm."),PRODUCT(P40,Q40,U40),"0") -> 0 | AE40: =IF((G40="cocontractant"), PRODUCT(P40,Q40,U40),"0") -> 0 | AF40: =IF(AM40=ROUND(D40,2),AM40,IF(AM40=ROUND(D40+AB40,2),AM40,IF(AM40=ROUND(AB40,2),AM40,IF(AM40="",AM40,"0")))) -> 0 | AH40: =$B$40 -> 0 | AI40: =C40 -> 0 | AL40: =IF(H40="banque","550",IF(H40="Bq post","560",IF(H40="Bq fournis-1an","440/550",IF(H40="Bq fournis+1an","1750/550",IF(H40="Bq post fournis-1an","440/560",IF(H40="Bq post fournis+1an","1750/560",IF(H40="Caisse fournis-1an","440/570",IF(H40="Caisse fournis+1an","1750/570",IF(H40="**",0))))))))) -> 0 | AN40: =IF(AND(H42<>"**"), "Bq ACTIF", "Compte pas ACTIF") -> Compte pas ACTIF
E41: =IF(F41="","",LEFT(F41,SEARCH("-",F41)-2))*1 -> 17003 | F41: 17003 - emprunt | G41: ** | H41: ** | P41: =SUM(K41,-L41,M41,-N41,O41) -> 0 | Q41: 0 | R41: 0 | S41: =(IF(R41=0,P41,(P41*Q41*R41)+P41)) -> 0 | U41: =(1-R41) -> 1 | V41: =IF(OR( 'Val-Dép'!G41="cocontractant", 'Val-Dép'!G41="Intracomm.", 'Val-Dép'!I41="note de crédit", 'Val-Dép'!I41="Marchand-amball"),"0",PRODUCT(P41,Q41,U41)) -> 0 | W41: =IF(( 'Val-Dép'!I41="Marchand-amball"),PRODUCT(P41,Q41,U41),"0") -> 0 | X41: =IF(OR('Val-Dép'!I41="note de crédit"), PRODUCT(P41,Q41,U41),"0") -> 0 | Y41: 0 | Z41: =(V41+W41) -> 0 | AA41: =IF((I41="note de crédit"),(P41*Q41*U41),"0") -> 0 | AB41: =IF((I41<>"note de crédit"),SUM(S41,V41,W41,X41),"0") -> 0 | AC41: =IF((I41="note de crédit"),SUM(S41,X41),"0") -> 0 | AD41: =IF((G41="Intracomm."),PRODUCT(P41,Q41,U41),"0") -> 0 | AE41: =IF((G41="cocontractant"), PRODUCT(P41,Q41,U41),"0") -> 0 | AF41: =IF(AM41=ROUND(D41,2),AM41,IF(AM41=ROUND(D41+AB41,2),AM41,IF(AM41=ROUND(AB41,2),AM41,IF(AM41="",AM41,"0")))) -> 0 | AH41: =$B$41 -> 0 | AI41: =C41 -> 0 | AL41: =IF(H41="banque","550",IF(H41="Bq post","560",IF(H41="Bq fournis-1an","440/550",IF(H41="Bq fournis+1an","1750/550",IF(H41="Bq post fournis-1an","440/560",IF(H41="Bq post fournis+1an","1750/560",IF(H41="Caisse fournis-1an","440/570",IF(H41="Caisse fournis+1an","1750/570",IF(H41="**",0))))))))) -> 0 | AN41: =IF(AND(H43<>"**"), "Bq ACTIF", "Compte pas ACTIF") -> Compte pas ACTIF
E42: =IF(F42="","",LEFT(F42,SEARCH("-",F42)-2))*1 -> 17004 | F42: 17004 - emprunt | G42: ** | H42: ** | P42: =SUM(K42,-L42,M42,-N42,O42) -> 0 | Q42: 0 | R42: 0 | S42: =(IF(R42=0,P42,(P42*Q42*R42)+P42)) -> 0 | U42: =(1-R42) -> 1 | V42: =IF(OR( 'Val-Dép'!G42="cocontractant", 'Val-Dép'!G42="Intracomm.", 'Val-Dép'!I42="note de crédit", 'Val-Dép'!I42="Marchand-amball"),"0",PRODUCT(P42,Q42,U42)) -> 0 | W42: =IF(( 'Val-Dép'!I42="Marchand-amball"),PRODUCT(P42,Q42,U42),"0") -> 0 | X42: =IF(OR('Val-Dép'!I42="note de crédit"), PRODUCT(P42,Q42,U42),"0") -> 0 | Y42: 0 | Z42: =(V42+W42) -> 0 | AA42: =IF((I42="note de crédit"),(P42*Q42*U42),"0") -> 0 | AB42: =IF((I42<>"note de crédit"),SUM(S42,V42,W42,X42),"0") -> 0 | AC42: =IF((I42="note de crédit"),SUM(S42,X42),"0") -> 0 | AD42: =IF((G42="Intracomm."),PRODUCT(P42,Q42,U42),"0") -> 0 | AE42: =IF((G42="cocontractant"), PRODUCT(P42,Q42,U42),"0") -> 0 | AF42: =IF(AM42=ROUND(D42,2),AM42,IF(AM42=ROUND(D42+AB42,2),AM42,IF(AM42=ROUND(AB42,2),AM42,IF(AM42="",AM42,"0")))) -> 0 | AH42: =$B$42 -> 0 | AI42: =C42 -> 0 | AL42: =IF(H42="banque","550",IF(H42="Bq post","560",IF(H42="Bq fournis-1an","440/550",IF(H42="Bq fournis+1an","1750/550",IF(H42="Bq post fournis-1an","440/560",IF(H42="Bq post fournis+1an","1750/560",IF(H42="Caisse fournis-1an","440/570",IF(H42="Caisse fournis+1an","1750/570",IF(H42="**",0))))))))) -> 0 | AN42: =IF(AND(H44<>"**"), "Bq ACTIF", "Compte pas ACTIF") -> Compte pas ACTIF
E43: =IF(F43="","",LEFT(F43,SEARCH("-",F43)-2))*1 -> 17005 | F43: 17005 - emprunt | G43: ** | H43: ** | P43: =SUM(K43,-L43,M43,-N43,O43) -> 0 | Q43: 0 | R43: 0 | S43: =(IF(R43=0,P43,(P43*Q43*R43)+P43)) -> 0 | U43: =(1-R43) -> 1 | V43: =IF(OR( 'Val-Dép'!G43="cocontractant", 'Val-Dép'!G43="Intracomm.", 'Val-Dép'!I43="note de crédit", 'Val-Dép'!I43="Marchand-amball"),"0",PRODUCT(P43,Q43,U43)) -> 0 | W43: =IF(( 'Val-Dép'!I43="Marchand-amball"),PRODUCT(P43,Q43,U43),"0") -> 0 | X43: =IF(OR('Val-Dép'!I43="note de crédit"), PRODUCT(P43,Q43,U43),"0") -> 0 | Y43: 0 | Z43: =(V43+W43) -> 0 | AA43: =IF((I43="note de crédit"),(P43*Q43*U43),"0") -> 0 | AB43: =IF((I43<>"note de crédit"),SUM(S43,V43,W43,X43),"0") -> 0 | AC43: =IF((I43="note de crédit"),SUM(S43,X43),"0") -> 0 | AD43: =IF((G43="Intracomm."),PRODUCT(P43,Q43,U43),"0") -> 0 | AE43: =IF((G43="cocontractant"), PRODUCT(P43,Q43,U43),"0") -> 0 | AF43: =IF(AM43=ROUND(D43,2),AM43,IF(AM43=ROUND(D43+AB43,2),AM43,IF(AM43=ROUND(AB43,2),AM43,IF(AM43="",AM43,"0")))) -> 0 | AH43: =$B$43 -> 0 | AI43: =C43 -> 0 | AL43: =IF(H43="banque","550",IF(H43="Bq post","560",IF(H43="Bq fournis-1an","440/550",IF(H43="Bq fournis+1an","1750/550",IF(H43="Bq post fournis-1an","440/560",IF(H43="Bq post fournis+1an","1750/560",IF(H43="Caisse fournis-1an","440/570",IF(H43="Caisse fournis+1an","1750/570",IF(H43="**",0))))))))) -> 0 | AN43: =IF(AND(H45<>"**"), "Bq ACTIF", "Compte pas ACTIF") -> Compte pas ACTIF
...

Sheet CLIENTS(400-290)
E2: Client-1an
C3: Banque | D3: Client-1an | H3: Bq post | I3: Client-1an | M3: Caisse | N3: Client-1an | V3: Fournisseurs -1an
B4: Fact. Envoyées | D4: Fact. Reçues | H4: Fact. Envoyées | I4: Fact. Reçues | M4: Fact. Envoyées | N4: Fact. Reçues | T4: fact. Payées | V4: fact. Reçues | Y4: fact. Payées | AA4: fact. Reçues | AD4: fact. Payées | AF4: fact. Reçues
B5: au client-1an | D5: du client-1an | H5: au client | I5: du client-1an | M5: au client | N5: du client-1an | T5: au fourn. | V5: du fourn.(-1an) | Y5: au fourn. | AA5: du fourn.(-1an) | AD5: au fourn. | AF5: du fourn.(-1an)
C6: client(-1an) avec la Banque | H6: client(-1an) avec la Bq post | M6: client(-1an) avec la Caisse | T6: par la banque | V6: sur la banque | Y6: par le O.C.P. | AA6: sur à l'O.C.P. | AD6: par la Caisse | AF6: sur laCaisse
C7: TVAC | D7: client 400/550 | H7: TVAC | I7: client 400/560 | M7: TVAC | N7: client 400/570 | T7: Jour-finan-Fourn | V7: jour achats (fourn)
C8: 400 | D8: 400/550 | H8: 400 | I8: 400/560 | M8: 400 | N8: 400/570 | U8: TVAC | V8: fact fourn | Y8: Bq post Fourn. | Z8: fact fourn | AD8: Caisse Fourn. | AE8: fact fourn
B9: D+ | C9: client(-1an) | D9: Banque | E9: C- | G9: D+ | H9: client(-1an) | I9: O.C.P.client-1an | J9: C- | L9: D+ | M9: client(-1an) | N9: Caisse | O9: C- | U9: 440/500 | V9: 440 | Z9: 440/560 | AA9: 440 | AE9: 440/570 | AF9: 440
B10: vi | C10: =IF(ISNA(VLOOKUP($C$9,'VAL-INIT'!$D$4:$F$90,3,FALSE)),,VLOOKUP($C$9,'VAL-INIT'!$D$4:$F$90,3,FALSE)) -> 6250 | D10: xxxxxxxxxxx | G10: vi | H10: xxxxxxxxxxxxx | I10: xxxxxxxxxxx | L10: vi | M10: xxxxxxxxxxxxx | N10: xxxxxxxxxxx | T10: D- | U10: 440 | V10: Fournisseurs(-1an) | W10: C+ | Y10: D- | Z10: 440 | AA10: Fournisseurs(-1an) | AB10: C+ | AD10: D- | AE10: 440 | AF10: Fournisseurs(-1an) | AG10: C+
B11: 13 | C11: =IF(AND( 'Val-Dép'!H13="Bq Client-1an", 'Val-Dép'!I13<>"note de crédit"),VLOOKUP('Val-Dép'!H13,'Val-Dép'!H13:Y13,18,FALSE ),"0") -> 0 | D11: =IF(AND( 'Val-Dép'!AE13="400/550", 'Val-Dép'!I13<>"note de crédit"),VLOOKUP('Val-Dép'!AE13,'Val-Dép'!AE13:AF13,2,FALSE ),"0") -> 0 | H11: =IF(AND( 'Val-Dép'!H13="Bq post client-1an", 'Val-Dép'!I13<>"note de crédit"),VLOOKUP('Val-Dép'!I13,'Val-Dép'!I13:Z13,14,FALSE ),"0") -> 0 | I11: =IF(AND( 'Val-Dép'!AE13="400/560", 'Val-Dép'!I13<>"note de crédit"),VLOOKUP('Val-Dép'!AE13,'Val-Dép'!AE13:AF13,2,FALSE ),"0") -> 0 | M11: =IF(AND( 'Val-Dép'!H13="Caisse client-1an", 'Val-Dép'!I13<>"note de crédit"),VLOOKUP('Val-Dép'!S13,'Val-Dép'!S13:AJ13,14,FALSE ),"0") -> 0 | N11: =IF(AND( 'Val-Dép'!AE13="400/570", 'Val-Dép'!I13<>"note de crédit"),VLOOKUP('Val-Dép'!AE13,'Val-Dép'!AE13:AF13,2,FALSE ),"0") -> 0 | U11: xxxxxxxxxxxxxx | V11: =IF(ISNA(VLOOKUP($V$10,'VAL-INIT'!$J$4:$L$63,3,FALSE)),,VLOOKUP($V$10,'VAL-INIT'!$J$4:$L$63,3,FALSE)) -> 5750 | W11: VI | Z11: xxxxxxxxxxxxxxxx | AA11: xxxxxxxxxxxxxxx | AE11: xxxxxxxxxxxxxxxx | AF11: xxxxxxxxxxxxxxx
B12: 14 | C12: =IF(AND( 'Val-Dép'!H14="Bq Client-1an", 'Val-Dép'!I14<>"note de crédit"),VLOOKUP('Val-Dép'!H14,'Val-Dép'!H14:Y14,18,FALSE ),"0") -> 0 | D12: =IF(AND( 'Val-Dép'!AE14="400/550", 'Val-Dép'!I14<>"note de crédit"),VLOOKUP('Val-Dép'!AE14,'Val-Dép'!AE14:AF14,2,FALSE ),"0") -> 0 | H12: =IF(AND( 'Val-Dép'!H14="Bq post client-1an", 'Val-Dép'!I14<>"note de crédit"),VLOOKUP('Val-Dép'!I14,'Val-Dép'!I14:Z14,14,FALSE ),"0") -> 0 | I12: =IF(AND( 'Val-Dép'!AE14="400/560", 'Val-Dép'!I14<>"note de crédit"),VLOOKUP('Val-Dép'!AE14,'Val-Dép'!AE14:AF14,2,FALSE ),"0") -> 0 | M12: =IF(AND( 'Val-Dép'!H14="Caisse client-1an", 'Val-Dép'!I14<>"note de crédit"),VLOOKUP('Val-Dép'!S14,'Val-Dép'!S14:AJ14,14,FALSE ),"0") -> 0 | N12: =IF(AND( 'Val-Dép'!AE14="400/570", 'Val-Dép'!I14<>"note de crédit"),VLOOKUP('Val-Dép'!AE14,'Val-Dép'!AE14:AF14,2,FALSE ),"0") -> 0 | T12: 1 | U12: =IF(AND( 'Val-Dép'!AL35="440/550", 'Val-Dép'!I35<>"note de crédit"),VLOOKUP('Val-Dép'!AL35,'Val-Dép'!AL35:AM35,2,FALSE ),"0") -> 0 | V12: =IF(AND( 'Val-Dép'!H35="Bq fournis-1an", 'Val-Dép'!I35<>"note de crédit"),VLOOKUP('Val-Dép'!H35,'Val-Dép'!H35:AM35,21,FALSE ),"0") -> 750 | Z12: =IF(AND( 'Val-Dép'!AL35="440/560", 'Val-Dép'!I35<>"note de crédit"),VLOOKUP('Val-Dép'!AL35,'Val-Dép'!AL35:AM35,2,FALSE ),"0") -> 0 | AA12: =IF(AND( 'Val-Dép'!H35="Bq post fournis-1an", 'Val-Dép'!I35<>"note de crédit"),VLOOKUP('Val-Dép'!H35,'Val-Dép'!H35:AM35,21,FALSE ),"0") -> 0 | AE12: =IF(AND( 'Val-Dép'!AL35="440/570", 'Val-Dép'!I35<>"note de crédit"),VLOOKUP('Val-Dép'!AL35,'Val-Dép'!AL35:AM35,2,FALSE ),"0") -> 0 | AF12: =IF(AND( 'Val-Dép'!H35="Caisse fournis-1an", 'Val-Dép'!I35<>"note de crédit"),VLOOKUP('Val-Dép'!H35,'Val-Dép'!H35:AM35,21,FALSE ),"0") -> 0
B13: 15 | C13: =IF(AND( 'Val-Dép'!H15="Bq Client-1an", 'Val-Dép'!I15<>"note de crédit"),VLOOKUP('Val-Dép'!H15,'Val-Dép'!H15:Y15,18,FALSE ),"0") -> 0 | D13: =IF(AND( 'Val-Dép'!AE15="400/550", 'Val-Dép'!I15<>"note de crédit"),VLOOKUP('Val-Dép'!AE15,'Val-Dép'!AE15:AF15,2,FALSE ),"0") -> 0 | H13: =IF(AND( 'Val-Dép'!H15="Bq post client-1an", 'Val-Dép'!I15<>"note de crédit"),VLOOKUP('Val-Dép'!I15,'Val-Dép'!I15:Z15,14,FALSE ),"0") -> 0 | I13: =IF(AND( 'Val-Dép'!AE15="400/560", 'Val-Dép'!I15<>"note de crédit"),VLOOKUP('Val-Dép'!AE15,'Val-Dép'!AE15:AF15,2,FALSE ),"0") -> 0 | M13: =IF(AND( 'Val-Dép'!H15="Caisse client-1an", 'Val-Dép'!I15<>"note de crédit"),VLOOKUP('Val-Dép'!S15,'Val-Dép'!S15:AJ15,14,FALSE ),"0") -> 0 | N13: =IF(AND( 'Val-Dép'!AE15="400/570", 'Val-Dép'!I15<>"note de crédit"),VLOOKUP('Val-Dép'!AE15,'Val-Dép'!AE15:AF15,2,FALSE ),"0") -> 0 | U13: =IF(AND( 'Val-Dép'!AL36="440/550", 'Val-Dép'!I36<>"note de crédit"),VLOOKUP('Val-Dép'!AL36,'Val-Dép'!AL36:AM36,2,FALSE ),"0") -> 0 | V13: =IF(AND( 'Val-Dép'!H36="Bq fournis-1an", 'Val-Dép'!I36<>"note de crédit"),VLOOKUP('Val-Dép'!H36,'Val-Dép'!H36:AM36,21,FALSE ),"0") -> 5000 | Z13: =IF(AND( 'Val-Dép'!AL36="440/560", 'Val-Dép'!I36<>"note de crédit"),VLOOKUP('Val-Dép'!AL36,'Val-Dép'!AL36:AM36,2,FALSE ),"0") -> 0 | AA13: =IF(AND( 'Val-Dép'!H36="Bq post fournis-1an", 'Val-Dép'!I36<>"note de crédit"),VLOOKUP('Val-Dép'!H36,'Val-Dép'!H36:AM36,21,FALSE ),"0") -> 0 | AE13: =IF(AND( 'Val-Dép'!AL36="440/570", 'Val-Dép'!I36<>"note de crédit"),VLOOKUP('Val-Dép'!AL36,'Val-Dép'!AL36:AM36,2,FALSE ),"0") -> 0 | AF13: =IF(AND( 'Val-Dép'!H36="Caisse fournis-1an", 'Val-Dép'!I36<>"note de crédit"),VLOOKUP('Val-Dép'!H36,'Val-Dép'!H36:AM36,21,FALSE ),"0") -> 0
B14: 16 | C14: =IF(AND( 'Val-Dép'!H16="Bq Client-1an", 'Val-Dép'!I16<>"note de crédit"),VLOOKUP('Val-Dép'!H16,'Val-Dép'!H16:Y16,18,FALSE ),"0") -> 0 | D14: =IF(AND( 'Val-Dép'!AE16="400/550", 'Val-Dép'!I16<>"note de crédit"),VLOOKUP('Val-Dép'!AE16,'Val-Dép'!AE16:AF16,2,FALSE ),"0") -> 0 | H14: =IF(AND( 'Val-Dép'!H16="Bq post client-1an", 'Val-Dép'!I16<>"note de crédit"),VLOOKUP('Val-Dép'!I16,'Val-Dép'!I16:Z16,14,FALSE ),"0") -> 0 | I14: =IF(AND( 'Val-Dép'!AE16="400/560", 'Val-Dép'!I16<>"note de crédit"),VLOOKUP('Val-Dép'!AE16,'Val-Dép'!AE16:AF16,2,FALSE ),"0") -> 0 | M14: =IF(AND( 'Val-Dép'!H16="Caisse client-1an", 'Val-Dép'!I16<>"note de crédit"),VLOOKUP('Val-Dép'!S16,'Val-Dép'!S16:AJ16,14,FALSE ),"0") -> 0 | N14: =IF(AND( 'Val-Dép'!AE16="400/570", 'Val-Dép'!I16<>"note de crédit"),VLOOKUP('Val-Dép'!AE16,'Val-Dép'!AE16:AF16,2,FALSE ),"0") -> 0 | T14: 4 | U14: =IF(AND( 'Val-Dép'!AL37="440/550", 'Val-Dép'!I37<>"note de crédit"),VLOOKUP('Val-Dép'!AL37,'Val-Dép'!AL37:AM37,2,FALSE ),"0") -> 0 | V14: =IF(AND( 'Val-Dép'!H37="Bq fournis-1an", 'Val-Dép'!I37<>"note de crédit"),VLOOKUP('Val-Dép'!H37,'Val-Dép'!H37:AM37,21,FALSE ),"0") -> 0 | Z14: =IF(AND( 'Val-Dép'!AL37="440/560", 'Val-Dép'!I37<>"note de crédit"),VLOOKUP('Val-Dép'!AL37,'Val-Dép'!AL37:AM37,2,FALSE ),"0") -> 0 | AA14: =IF(AND( 'Val-Dép'!H37="Bq post fournis-1an", 'Val-Dép'!I37<>"note de crédit"),VLOOKUP('Val-Dép'!H37,'Val-Dép'!H37:AM37,21,FALSE ),"0") -> 0 | AE14: =IF(AND( 'Val-Dép'!AL37="440/570", 'Val-Dép'!I37<>"note de crédit"),VLOOKUP('Val-Dép'!AL37,'Val-Dép'!AL37:AM37,2,FALSE ),"0") -> 0 | AF14: =IF(AND( 'Val-Dép'!H37="Caisse fournis-1an", 'Val-Dép'!I37<>"note de crédit"),VLOOKUP('Val-Dép'!H37,'Val-Dép'!H37:AM37,21,FALSE ),"0") -> 0
B15: 17 | C15: =IF(AND( 'Val-Dép'!H17="Bq Client-1an", 'Val-Dép'!I17<>"note de crédit"),VLOOKUP('Val-Dép'!H17,'Val-Dép'!H17:Y17,18,FALSE ),"0") -> 0 | D15: =IF(AND( 'Val-Dép'!AE17="400/550", 'Val-Dép'!I17<>"note de crédit"),VLOOKUP('Val-Dép'!AE17,'Val-Dép'!AE17:AF17,2,FALSE ),"0") -> 0 | H15: =IF(AND( 'Val-Dép'!H17="Bq post client-1an", 'Val-Dép'!I17<>"note de crédit"),VLOOKUP('Val-Dép'!I17,'Val-Dép'!I17:Z17,14,FALSE ),"0") -> 0 | I15: =IF(AND( 'Val-Dép'!AE17="400/560", 'Val-Dép'!I17<>"note de crédit"),VLOOKUP('Val-Dép'!AE17,'Val-Dép'!AE17:AF17,2,FALSE ),"0") -> 0 | M15: =IF(AND( 'Val-Dép'!H17="Caisse client-1an", 'Val-Dép'!I17<>"note de crédit"),VLOOKUP('Val-Dép'!S17,'Val-Dép'!S17:AJ17,14,FALSE ),"0") -> 0 | N15: =IF(AND( 'Val-Dép'!AE17="400/570", 'Val-Dép'!I17<>"note de crédit"),VLOOKUP('Val-Dép'!AE17,'Val-Dép'!AE17:AF17,2,FALSE ),"0") -> 0 | U15: =IF(AND( 'Val-Dép'!AL38="440/550", 'Val-Dép'!I38<>"note de crédit"),VLOOKUP('Val-Dép'!AL38,'Val-Dép'!AL38:AM38,2,FALSE ),"0") -> 0 | V15: =IF(AND( 'Val-Dép'!H38="Bq fournis-1an", 'Val-Dép'!I38<>"note de crédit"),VLOOKUP('Val-Dép'!H38,'Val-Dép'!H38:AM38,21,FALSE ),"0") -> 0 | Z15: =IF(AND( 'Val-Dép'!AL38="440/560", 'Val-Dép'!I38<>"note de crédit"),VLOOKUP('Val-Dép'!AL38,'Val-Dép'!AL38:AM38,2,FALSE ),"0") -> 0 | AA15: =IF(AND( 'Val-Dép'!H38="Bq post fournis-1an", 'Val-Dép'!I38<>"note de crédit"),VLOOKUP('Val-Dép'!H38,'Val-Dép'!H38:AM38,21,FALSE ),"0") -> 0 | AE15: =IF(AND( 'Val-Dép'!AL38="440/570", 'Val-Dép'!I38<>"note de crédit"),VLOOKUP('Val-Dép'!AL38,'Val-Dép'!AL38:AM38,2,FALSE ),"0") -> 0 | AF15: =IF(AND( 'Val-Dép'!H38="Caisse fournis-1an", 'Val-Dép'!I38<>"note de crédit"),VLOOKUP('Val-Dép'!H38,'Val-Dép'!H38:AM38,21,FALSE ),"0") -> 0 | AG15: 6
B16: 18 | C16: =IF(AND( 'Val-Dép'!H18="Bq Client-1an", 'Val-Dép'!I18<>"note de crédit"),VLOOKUP('Val-Dép'!H18,'Val-Dép'!H18:Y18,18,FALSE ),"0") -> 0 | D16: =IF(AND( 'Val-Dép'!AE18="400/550", 'Val-Dép'!I18<>"note de crédit"),VLOOKUP('Val-Dép'!AE18,'Val-Dép'!AE18:AF18,2,FALSE ),"0") -> 0 | H16: =IF(AND( 'Val-Dép'!H18="Bq post client-1an", 'Val-Dép'!I18<>"note de crédit"),VLOOKUP('Val-Dép'!I18,'Val-Dép'!I18:Z18,14,FALSE ),"0") -> 0 | I16: =IF(AND( 'Val-Dép'!AE18="400/560", 'Val-Dép'!I18<>"note de crédit"),VLOOKUP('Val-Dép'!AE18,'Val-Dép'!AE18:AF18,2,FALSE ),"0") -> 0 | M16: =IF(AND( 'Val-Dép'!H18="Caisse client-1an", 'Val-Dép'!I18<>"note de crédit"),VLOOKUP('Val-Dép'!S18,'Val-Dép'!S18:AJ18,14,FALSE ),"0") -> 0 | N16: =IF(AND( 'Val-Dép'!AE18="400/570", 'Val-Dép'!I18<>"note de crédit"),VLOOKUP('Val-Dép'!AE18,'Val-Dép'!AE18:AF18,2,FALSE ),"0") -> 0 | U16: =IF(AND( 'Val-Dép'!AL39="440/550", 'Val-Dép'!I39<>"note de crédit"),VLOOKUP('Val-Dép'!AL39,'Val-Dép'!AL39:AM39,2,FALSE ),"0") -> 0 | V16: =IF(AND( 'Val-Dép'!H39="Bq fournis-1an", 'Val-Dép'!I39<>"note de crédit"),VLOOKUP('Val-Dép'!H39,'Val-Dép'!H39:AM39,21,FALSE ),"0") -> 0 | Z16: =IF(AND( 'Val-Dép'!AL39="440/560", 'Val-Dép'!I39<>"note de crédit"),VLOOKUP('Val-Dép'!AL39,'Val-Dép'!AL39:AM39,2,FALSE ),"0") -> 0 | AA16: =IF(AND( 'Val-Dép'!H39="Bq post fournis-1an", 'Val-Dép'!I39<>"note de crédit"),VLOOKUP('Val-Dép'!H39,'Val-Dép'!H39:AM39,21,FALSE ),"0") -> 0 | AE16: =IF(AND( 'Val-Dép'!AL39="440/570", 'Val-Dép'!I39<>"note de crédit"),VLOOKUP('Val-Dép'!AL39,'Val-Dép'!AL39:AM39,2,FALSE ),"0") -> 0 | AF16: =IF(AND( 'Val-Dép'!H39="Caisse fournis-1an", 'Val-Dép'!I39<>"note de crédit"),VLOOKUP('Val-Dép'!H39,'Val-Dép'!H39:AM39,21,FALSE ),"0") -> 0
B17: 19 | C17: =IF(AND( 'Val-Dép'!H19="Bq Client-1an", 'Val-Dép'!I19<>"note de crédit"),VLOOKUP('Val-Dép'!H19,'Val-Dép'!H19:Y19,18,FALSE ),"0") -> 0 | D17: =IF(AND( 'Val-Dép'!AE19="400/550", 'Val-Dép'!I19<>"note de crédit"),VLOOKUP('Val-Dép'!AE19,'Val-Dép'!AE19:AF19,2,FALSE ),"0") -> 0 | H17: =IF(AND( 'Val-Dép'!H19="Bq post client-1an", 'Val-Dép'!I19<>"note de crédit"),VLOOKUP('Val-Dép'!I19,'Val-Dép'!I19:Z19,14,FALSE ),"0") -> 0 | I17: =IF(AND( 'Val-Dép'!AE19="400/560", 'Val-Dép'!I19<>"note de crédit"),VLOOKUP('Val-Dép'!AE19,'Val-Dép'!AE19:AF19,2,FALSE ),"0") -> 0 | M17: =IF(AND( 'Val-Dép'!H19="Caisse client-1an", 'Val-Dép'!I19<>"note de crédit"),VLOOKUP('Val-Dép'!S19,'Val-Dép'!S19:AJ19,14,FALSE ),"0") -> 0 | N17: =IF(AND( 'Val-Dép'!AE19="400/570", 'Val-Dép'!I19<>"note de crédit"),VLOOKUP('Val-Dép'!AE19,'Val-Dép'!AE19:AF19,2,FALSE ),"0") -> 0 | U17: =IF(AND( 'Val-Dép'!AL40="440/550", 'Val-Dép'!I40<>"note de crédit"),VLOOKUP('Val-Dép'!AL40,'Val-Dép'!AL40:AM40,2,FALSE ),"0") -> 0 | V17: =IF(AND( 'Val-Dép'!H40="Bq fournis-1an", 'Val-Dép'!I40<>"note de crédit"),VLOOKUP('Val-Dép'!H40,'Val-Dép'!H40:AM40,21,FALSE ),"0") -> 0 | Z17: =IF(AND( 'Val-Dép'!AL40="440/560", 'Val-Dép'!I40<>"note de crédit"),VLOOKUP('Val-Dép'!AL40,'Val-Dép'!AL40:AM40,2,FALSE ),"0") -> 0 | AA17: =IF(AND( 'Val-Dép'!H40="Bq post fournis-1an", 'Val-Dép'!I40<>"note de crédit"),VLOOKUP('Val-Dép'!H40,'Val-Dép'!H40:AM40,21,FALSE ),"0") -> 0 | AE17: =IF(AND( 'Val-Dép'!AL40="440/570", 'Val-Dép'!I40<>"note de crédit"),VLOOKUP('Val-Dép'!AL40,'Val-Dép'!AL40:AM40,2,FALSE ),"0") -> 0 | AF17: =IF(AND( 'Val-Dép'!H40="Caisse fournis-1an", 'Val-Dép'!I40<>"note de crédit"),VLOOKUP('Val-Dép'!H40,'Val-Dép'!H40:AM40,21,FALSE ),"0") -> 0
B18: 20 | C18: =IF(AND( 'Val-Dép'!H20="Bq Client-1an", 'Val-Dép'!I20<>"note de crédit"),VLOOKUP('Val-Dép'!H20,'Val-Dép'!H20:Y20,18,FALSE ),"0") -> 0 | D18: =IF(AND( 'Val-Dép'!AE20="400/550", 'Val-Dép'!I20<>"note de crédit"),VLOOKUP('Val-Dép'!AE20,'Val-Dép'!AE20:AF20,2,FALSE ),"0") -> 0 | H18: =IF(AND( 'Val-Dép'!H20="Bq post client-1an", 'Val-Dép'!I20<>"note de crédit"),VLOOKUP('Val-Dép'!I20,'Val-Dép'!I20:Z20,14,FALSE ),"0") -> 0 | I18: =IF(AND( 'Val-Dép'!AE20="400/560", 'Val-Dép'!I20<>"note de crédit"),VLOOKUP('Val-Dép'!AE20,'Val-Dép'!AE20:AF20,2,FALSE ),"0") -> 0 | M18: =IF(AND( 'Val-Dép'!H20="Caisse client-1an", 'Val-Dép'!I20<>"note de crédit"),VLOOKUP('Val-Dép'!S20,'Val-Dép'!S20:AJ20,14,FALSE ),"0") -> 0 | N18: =IF(AND( 'Val-Dép'!AE20="400/570", 'Val-Dép'!I20<>"note de crédit"),VLOOKUP('Val-Dép'!AE20,'Val-Dép'!AE20:AF20,2,FALSE ),"0") -> 0 | U18: =IF(AND( 'Val-Dép'!AL41="440/550", 'Val-Dép'!I41<>"note de crédit"),VLOOKUP('Val-Dép'!AL41,'Val-Dép'!AL41:AM41,2,FALSE ),"0") -> 0 | V18: =IF(AND( 'Val-Dép'!H41="Bq fournis-1an", 'Val-Dép'!I41<>"note de crédit"),VLOOKUP('Val-Dép'!H41,'Val-Dép'!H41:AM41,21,FALSE ),"0") -> 0 | Z18: =IF(AND( 'Val-Dép'!AL41="440/560", 'Val-Dép'!I41<>"note de crédit"),VLOOKUP('Val-Dép'!AL41,'Val-Dép'!AL41:AM41,2,FALSE ),"0") -> 0 | AA18: =IF(AND( 'Val-Dép'!H41="Bq post fournis-1an", 'Val-Dép'!I41<>"note de crédit"),VLOOKUP('Val-Dép'!H41,'Val-Dép'!H41:AM41,21,FALSE ),"0") -> 0 | AE18: =IF(AND( 'Val-Dép'!AL41="440/570", 'Val-Dép'!I41<>"note de crédit"),VLOOKUP('Val-Dép'!AL41,'Val-Dép'!AL41:AM41,2,FALSE ),"0") -> 0 | AF18: =IF(AND( 'Val-Dép'!H41="Caisse fournis-1an", 'Val-Dép'!I41<>"note de crédit"),VLOOKUP('Val-Dép'!H41,'Val-Dép'!H41:AM41,21,FALSE ),"0") -> 0
B19: 21 | C19: =IF(AND( 'Val-Dép'!H21="Bq Client-1an", 'Val-Dép'!I21<>"note de crédit"),VLOOKUP('Val-Dép'!H21,'Val-Dép'!H21:Y21,18,FALSE ),"0") -> 0 | D19: =IF(AND( 'Val-Dép'!AE21="400/550", 'Val-Dép'!I21<>"note de crédit"),VLOOKUP('Val-Dép'!AE21,'Val-Dép'!AE21:AF21,2,FALSE ),"0") -> 0 | H19: =IF(AND( 'Val-Dép'!H21="Bq post client-1an", 'Val-Dép'!I21<>"note de crédit"),VLOOKUP('Val-Dép'!I21,'Val-Dép'!I21:Z21,14,FALSE ),"0") -> 0 | I19: =IF(AND( 'Val-Dép'!AE21="400/560", 'Val-Dép'!I21<>"note de crédit"),VLOOKUP('Val-Dép'!AE21,'Val-Dép'!AE21:AF21,2,FALSE ),"0") -> 0 | M19: =IF(AND( 'Val-Dép'!H21="Caisse client-1an", 'Val-Dép'!I21<>"note de crédit"),VLOOKUP('Val-Dép'!S21,'Val-Dép'!S21:AJ21,14,FALSE ),"0") -> 0 | N19: =IF(AND( 'Val-Dép'!AE21="400/570", 'Val-Dép'!I21<>"note de crédit"),VLOOKUP('Val-Dép'!AE21,'Val-Dép'!AE21:AF21,2,FALSE ),"0") -> 0 | U19: =IF(AND( 'Val-Dép'!AL42="440/550", 'Val-Dép'!I42<>"note de crédit"),VLOOKUP('Val-Dép'!AL42,'Val-Dép'!AL42:AM42,2,FALSE ),"0") -> 0 | V19: =IF(AND( 'Val-Dép'!H42="Bq fournis-1an", 'Val-Dép'!I42<>"note de crédit"),VLOOKUP('Val-Dép'!H42,'Val-Dép'!H42:AM42,21,FALSE ),"0") -> 0 | Z19: =IF(AND( 'Val-Dép'!AL42="440/560", 'Val-Dép'!I42<>"note de crédit"),VLOOKUP('Val-Dép'!AL42,'Val-Dép'!AL42:AM42,2,FALSE ),"0") -> 0 | AA19: =IF(AND( 'Val-Dép'!H42="Bq post fournis-1an", 'Val-Dép'!I42<>"note de crédit"),VLOOKUP('Val-Dép'!H42,'Val-Dép'!H42:AM42,21,FALSE ),"0") -> 0 | AE19: =IF(AND( 'Val-Dép'!AL42="440/570", 'Val-Dép'!I42<>"note de crédit"),VLOOKUP('Val-Dép'!AL42,'Val-Dép'!AL42:AM42,2,FALSE ),"0") -> 0 | AF19: =IF(AND( 'Val-Dép'!H42="Caisse fournis-1an", 'Val-Dép'!I42<>"note de crédit"),VLOOKUP('Val-Dép'!H42,'Val-Dép'!H42:AM42,21,FALSE ),"0") -> 0
