Workbook
Name appelation: Feuil2!$E$2:$E$22
Name AVANCETVA: Feuil2!$F$2:$F$10
Name dénomination: Feuil2!$B$2:$B$19
Name fournisseurs: 'Val-Départ'!$A$35:$AA$43
Name Plan1: PCMN1!$A$1:$A$261
Name Plan1: PCMN1!$A$1:$A$261
Name Plan1: PCMN1!$A$1:$A$261
Name Plan1: PCMN1!$A$1:$A$261
Name Plan1: #REF!
Name Plan10: PCMN!$A$1:$A$13
Name Plan2: PCMN1!$A$1:$G$1
Name Plan2: PCMN1!$A$1:$G$1
Name Plan2: PCMN1!$A$1:$G$1
Name Plan2: PCMN1!$A$1:$G$1
Name Plan2: #REF!
Name Plan20: PCMN!$A$1:$G$1
Name TVA: Feuil2!$C$2:$C$9
Name TVAréduit: Feuil2!$D$2:$D$13

Sheet Val-Départ
I1: FICHIER INITIAL à placer dans Le fichier BILAN AC-PA
O2: V.I. | W2: V.I.
H3: 231 | J3: machine | O3: 3470.51 | R3: 100 | T3: capital | W3: 12394.69 | AA3: "=SI(ARRONDI(H4;2)=ARRONDI(A4+E4;2);H4;AC5)
H4: 237 | J4: outillage | R4: 200 | T4: Emprunt | W4: 7436.81
H5: 231 | J5: Artésia (emprunt 3 ans) | R5: 240 | T5: mobilier | W5: 1983.15 | Y5: "=SI(ARRONDI(H4;2)=ARRONDI(A4+E4;2);H4;"0")
H6: 360 | J6: banq poste | O6: 1239.47 | R6: 440 | T6: fournisseur | W6: 2974.72 | AB6: 7557.78
H7: 400 | J7: client | O7: 3966.3 | R7: 550 | T7: Banque | W7: 4338.14
H8: 560 | J8: Stocks | O8: 6197.34 | R8: 570 | T8: caisse | W8: 1611.31
A9: valeur initiale du client | G9: Inscrire ici les factures CLIENTS | O9: PAS EFFACER | R9: Pas effac | T9: Extrait Banq CLIENTS
B10: 1 | C10: 2 | D10: 3 | F10: 4 | G10: 5 | H10: 6 | I10: 7 | J10: 8 | K10: 9 | L10: 10 | M10: 11 | N10: 12 | O10: 13 | P10: 14 | Q10: 15 | R10: 16 | S10: 17 | T10: 18 | U10: 19 | V10: 20 | W10: 21 | X10: 22 | Y10: 23 | Z10: 24 | AA10: 25 | AB10: 26 | AC10: 27 | AD10: 28
A11: 600 | C11: VENTES | G11: FACTURES -aux -CLIENTS | P11: 4110 | R11: 4114 | T11: TVAC | U11: 4110 | V11: TVAC | X11: Pas effac | Y11: Extrait - BANQUE Clients
A12: N-Cl | B12: Num cli | C12: Clients | D12: V.I. | E12: CODE PCMN | F12: PMCN | G12: dénomination | H12: Fact-N° | I12: HTVA | J12: escompte | K12: Transport | L12: RRR | M12: embalage | N12: Base impot | O12: TVA% | P12: tva non marchan | Q12: TVA marchand | R12: TVA/NC | S12: emballage | T12: Embal/ap/tva | U12: TVA DUE | V12: note de crédit | W12: TVAC | Y12: Num cli | Z12: Nom client | AA12: extrait | AB12: date | AC12: PMCN | AD12: montant(+)
A13: 1 | B13: C0001 | C13: Nicolas | D13: 1066.15 | F13: 560 - Banque de la poste | G13: Emballage | H13: F71 | I13: 1239.47 | J13: 0 | K13: 0 | L13: 0 | M13: 0 | N13: =SUM(I13,-J13,K13,-L13,M13) -> 1239.47 | O13: 0.21 | P13: =IF(OR('Val-Départ'!G13="note de crédit", 'Val-Départ'!G13="Marchandise"), "0",PRODUCT(N13,O13)) -> 260.2887 | Q13: =IF(('Val-Départ'!G13="Marchandise"), PRODUCT(N13,O13),"0") -> 0 | R13: =IF(('Val-Départ'!G13="note de crédit"),PRODUCT(N13,O13),"") | T13: =IF(('Val-Départ'!G13<>"note de crédit"),SUM(N13,P13,Q13,R13,-J13),"") -> 1499.7587 | U13: =SUM(P13:Q13) -> 260.2887 | V13: =IF(('Val-Départ'!G13="note de crédit"),(N13+R13),"") | W13: =T13 -> 1499.7587 | X13: =IF(AD13=ROUND(D13,2),AD13,IF(AD13=ROUND(D13+T13,2),AD13,IF(AD13= ROUND(T13,2),AD13,IF(AD13="",AD13,"")))) -> 2565.91 | Y13: =B13 -> C0001 | Z13: =C13 -> Nicolas | AA13: 42033 | AB13: 42328 | AC13: 550 | AD13: 2565.91
A14: 2 | B14: C0002 | C14: Vienneau | D14: 758.12 | F14: CLASSE 3 : COMPTES DE STOCKS ET EN-COURS | G14: Marchandise | H14: F72 | I14: 921.92 | N14: =SUM(I14,-J14,K14,-L14,M14) -> 921.92 | O14: 0.21 | P14: =IF(OR('Val-Départ'!G14="note de crédit", 'Val-Départ'!G14="Marchandise"), "0",PRODUCT(N14,O14)) -> 0 | Q14: =IF(('Val-Départ'!G14="Marchandise"), PRODUCT(N14,O14),"0") -> 193.6032 | R14: =IF(('Val-Départ'!G14="note de crédit"),PRODUCT(N14,O14),"0") -> 0 | T14: =IF(('Val-Départ'!G14<>"note de crédit"),SUM(N14,P14,Q14,R14,-J14),"") -> 1115.5232 | U14: =SUM(P14:Q14) -> 193.6032 | V14: =IF(('Val-Départ'!G14="note de crédit"),(N14+R14),"") | W14: =T14 -> 1115.5232 | X14: =IF(AD14=ROUND(D14,2),AD14,IF(AD14=ROUND(D14+T14,2),AD14,IF(AD14= ROUND(T14,2),AD14,IF(AD14="",AD14,"")))) -> 1115.52 | Y14: =B14 -> C0002 | Z14: =C14 -> Vienneau | AA14: 42032 | AB14: 42325 | AC14: 550 | AD14: 1115.52
A15: 3 | B15: C0003 | C15: Jacques | D15: 2142.03 | F15: 700 - ventes de marchandises | G15: 0 | N15: =SUM(I15,-J15,K15,-L15,M15) -> 0 | O15: 0.21 | P15: =IF(OR('Val-Départ'!G15="note de crédit", 'Val-Départ'!G15="Marchandise"), "0",PRODUCT(N15,O15)) -> 0 | Q15: =IF(('Val-Départ'!G15="Marchandise"), PRODUCT(N15,O15),"0") -> 0 | R15: =IF(('Val-Départ'!G15="note de crédit"),PRODUCT(N15,O15),"0") -> 0 | T15: =IF(('Val-Départ'!G15<>"note de crédit"),SUM(N15,P15,Q15,R15,-J15),"") -> 0 | U15: =SUM(P15:Q15) -> 0 | V15: =IF(('Val-Départ'!G15="note de crédit"),(N15+R15),"") | W15: =T15 -> 0 | X15: =IF(AD15=ROUND(D15,2),AD15,IF(AD15=ROUND(D15+T15,2),AD15,IF(AD15= ROUND(T15,2),AD15,IF(AD15="",AD15,"")))) -> 0 | Y15: =B15 -> C0003 | Z15: =C15 -> Jacques | AC15: 550
A16: 4 | F16: 700 - ventes de marchandises | G16: 0 | N16: =SUM(I16,-J16,K16,-L16,M16) -> 0 | O16: 0 | P16: =IF(OR('Val-Départ'!G16="note de crédit", 'Val-Départ'!G16="Marchandise"), "0",PRODUCT(N16,O16)) -> 0 | Q16: =IF(('Val-Départ'!G16="Marchandise"), PRODUCT(N16,O16),"0") -> 0 | R16: =IF(('Val-Départ'!G16="note de crédit"),PRODUCT(N16,O16),"0") -> 0 | T16: =IF(('Val-Départ'!G16<>"note de crédit"),SUM(N16,P16,Q16,R16,-J16),"") -> 0 | U16: =SUM(P16:Q16) -> 0 | V16: =IF(('Val-Départ'!G16="note de crédit"),(N16+R16),"") | W16: =T16 -> 0 | X16: =IF(AD16=D16,AD16,IF(AD16=ROUND(D16+T16,2),AD16,IF(AD16=T16,AD16,IF(AD16="",AD16,"")))) -> 0 | Y16: =B16 -> 0 | Z16: =C16 -> 0 | AC16: 550
A17: 5 | F17: 700 - ventes de marchandises | G17: Marchandise | N17: =SUM(I17,-J17,K17,-L17,M17) -> 0 | O17: 0 | P17: =IF(OR('Val-Départ'!G17="note de crédit", 'Val-Départ'!G17="Marchandise"), "0",PRODUCT(N17,O17)) -> 0 | Q17: =IF(('Val-Départ'!G17="Marchandise"), PRODUCT(N17,O17),"0") -> 0 | R17: =IF(('Val-Départ'!G17="note de crédit"),PRODUCT(N17,O17),"0") -> 0 | T17: =IF(('Val-Départ'!G17<>"note de crédit"),SUM(N17,P17,Q17,R17,-J17),"") -> 0 | U17: =SUM(P17:Q17) -> 0 | V17: =IF(('Val-Départ'!G17="note de crédit"),(N17+R17),"") | W17: =T17 -> 0 | X17: =IF(AD17=D17,AD17,IF(AD17=ROUND(D17+T17,2),AD17,IF(AD17=T17,AD17,IF(AD17="",AD17,"")))) -> 0 | Y17: =B17 -> 0 | Z17: =C17 -> 0 | AC17: 550
A18: 6 | F18: 700 - ventes de marchandises | G18: 0 | N18: =SUM(I18,-J18,K18,-L18,M18) -> 0 | O18: 0 | P18: =IF(OR('Val-Départ'!G18="note de crédit", 'Val-Départ'!G18="Marchandise"), "0",PRODUCT(N18,O18)) -> 0 | Q18: =IF(('Val-Départ'!G18="Marchandise"), PRODUCT(N18,O18),"0") -> 0 | R18: =IF(('Val-Départ'!G18="note de crédit"),PRODUCT(N18,O18),"0") -> 0 | T18: =IF(('Val-Départ'!G18<>"note de crédit"),SUM(N18,P18,Q18,R18,-J18),"") -> 0 | U18: =SUM(P18:Q18) -> 0 | V18: =IF(('Val-Départ'!G18="note de crédit"),(N18+R18),"") | W18: =T18 -> 0 | X18: =IF(AD18=D18,AD18,IF(AD18=ROUND(D18+T18,2),AD18,IF(AD18=T18,AD18,IF(AD18="",AD18,"")))) -> 0 | Y18: =B18 -> 0 | Z18: =C18 -> 0 | AC18: 550
A19: 7 | F19: 7050 - prestation de service BE | G19: 0 | N19: =SUM(I19,-J19,K19,-L19,M19) -> 0 | O19: 0 | P19: =IF(OR('Val-Départ'!G19="note de crédit", 'Val-Départ'!G19="Marchandise"), "0",PRODUCT(N19,O19)) -> 0 | Q19: =IF(('Val-Départ'!G19="Marchandise"), PRODUCT(N19,O19),"0") -> 0 | R19: =IF(('Val-Départ'!G19="note de crédit"),PRODUCT(N19,O19),"0") -> 0 | T19: =IF(('Val-Départ'!G19<>"note de crédit"),SUM(N19,P19,Q19,R19,-J19),"") -> 0 | U19: =SUM(P19:Q19) -> 0 | V19: =IF(('Val-Départ'!G19="note de crédit"),(N19+R19),"") | W19: =IF(S19=0,T19,T19-S19) -> 0 | X19: =IF(AD19=D19,AD19,IF(AD19=ROUND(D19+T19,2),AD19,IF(AD19=T19,AD19,IF(AD19="",AD19,"")))) -> 0 | Y19: =B19 -> 0 | Z19: =C19 -> 0 | AC19: 550
A20: 8 | F20: 7050 - prestation de service BE | G20: 0 | N20: =SUM(I20,-J20,K20,-L20,M20) -> 0 | O20: 0 | P20: =IF(OR('Val-Départ'!G20="note de crédit", 'Val-Départ'!G20="Marchandise"), "0",PRODUCT(N20,O20)) -> 0 | Q20: =IF(('Val-Départ'!G20="Marchandise"), PRODUCT(N20,O20),"0") -> 0 | R20: =IF(('Val-Départ'!G20="note de crédit"),PRODUCT(N20,O20),"0") -> 0 | T20: =IF(('Val-Départ'!G20<>"note de crédit"),SUM(N20,P20,Q20,R20,-J20),"") -> 0 | U20: =SUM(P20:Q20) -> 0 | V20: =IF(('Val-Départ'!G20="note de crédit"),(N20+R20),"") | W20: =IF(S20=0,T20,T20-S20) -> 0 | X20: =IF(AD20=D20,AD20,IF(AD20=ROUND(D20+T20,2),AD20,IF(AD20=T20,AD20,IF(AD20="",AD20,"")))) -> 0 | Y20: =B20 -> 0 | Z20: =C20 -> 0 | AC20: 550
A21: 9 | F21: 700 - ventes de marchandises | G21: 0 | N21: =SUM(I21,-J21,K21,-L21,M21) -> 0 | O21: 0 | P21: =IF(OR('Val-Départ'!G21="note de crédit", 'Val-Départ'!G21="Marchandise"), "0",PRODUCT(N21,O21)) -> 0 | Q21: =IF(('Val-Départ'!G21="Marchandise"), PRODUCT(N21,O21),"0") -> 0 | R21: =IF(('Val-Départ'!G21="note de crédit"),PRODUCT(N21,O21),"0") -> 0 | T21: =IF(('Val-Départ'!G21<>"note de crédit"),SUM(N21,P21,Q21,R21,-J21),"") -> 0 | U21: =SUM(P21:Q21) -> 0 | V21: =IF(('Val-Départ'!G21="note de crédit"),(N21+R21),"") | W21: =IF(S21=0,T21,T21-S21) -> 0 | X21: =IF(AD21=D21,AD21,IF(AD21=ROUND(D21+T21,2),AD21,IF(AD21=T21,AD21,IF(AD21="",AD21,"")))) -> 0 | Y21: =B21 -> 0 | Z21: =C21 -> 0
A22: 10 | F22: 7050 - prestation de service BE | G22: 0 | N22: =SUM(I22,-J22,K22,-L22,M22) -> 0 | O22: 0 | P22: =IF(OR('Val-Départ'!G22="note de crédit", 'Val-Départ'!G22="Marchandise"), "0",PRODUCT(N22,O22)) -> 0 | Q22: =IF(('Val-Départ'!G22="Marchandise"), PRODUCT(N22,O22),"0") -> 0 | R22: =IF(('Val-Départ'!G22="note de crédit"),PRODUCT(N22,O22),"0") -> 0 | T22: =IF(('Val-Départ'!G22<>"note de crédit"),SUM(N22,P22,Q22,R22,-J22),"") -> 0 | U22: =SUM(P22:Q22) -> 0 | V22: =IF(('Val-Départ'!G22="note de crédit"),(N22+R22),"") | W22: =IF(S22=0,T22,T22-S22) -> 0 | X22: =IF(AD22=D22,AD22,IF(AD22=ROUND(D22+T22,2),AD22,IF(AD22=T22,AD22,IF(AD22="",AD22,"")))) -> 0 | Y22: =B22 -> 0 | Z22: =C22 -> 0
A23: 11 | F23: 7002 - vente à l'exportation | G23: 0 | N23: =SUM(I23,-J23,K23,-L23,M23) -> 0 | O23: 0 | P23: =IF(OR('Val-Départ'!G23="note de crédit", 'Val-Départ'!G23="Marchandise"), "0",PRODUCT(N23,O23)) -> 0 | Q23: =IF(('Val-Départ'!G23="Marchandise"), PRODUCT(N23,O23),"0") -> 0 | R23: =IF(('Val-Départ'!G23="note de crédit"),PRODUCT(N23,O23),"0") -> 0 | T23: =IF(('Val-Départ'!G23<>"note de crédit"),SUM(N23,P23,Q23,R23,-J23),"") -> 0 | U23: =SUM(P23:Q23) -> 0 | V23: =IF(('Val-Départ'!G23="note de crédit"),(N23+R23),"") | W23: =IF(S23=0,T23,T23-S23) -> 0 | X23: =IF(AD23=D23,AD23,IF(AD23=ROUND(D23+T23,2),AD23,IF(AD23=T23,AD23,IF(AD23="",AD23,"")))) -> 0 | Y23: =B23 -> 0 | Z23: =C23 -> 0
A24: 12 | N24: =SUM(I24,-J24,K24,-L24,M24) -> 0 | O24: 0 | P24: =IF(OR('Val-Départ'!G24="note de crédit", 'Val-Départ'!G24="Marchandise"), "0",PRODUCT(N24,O24)) -> 0 | Q24: =IF(('Val-Départ'!G24="Marchandise"), PRODUCT(N24,O24),"0") -> 0 | R24: =IF(('Val-Départ'!G24="note de crédit"),PRODUCT(N24,O24),"0") -> 0 | T24: =IF(('Val-Départ'!G24<>"note de crédit"),SUM(N24,P24,Q24,R24,-J24),"") -> 0 | U24: =SUM(P24:Q24) -> 0 | V24: =IF(('Val-Départ'!G24="note de crédit"),(N24+R24),"") | W24: =IF(S24=0,T24,T24-S24) -> 0 | X24: =IF(AD24=D24,AD24,IF(AD24=ROUND(D24+T24,2),AD24,IF(AD24=T24,AD24,IF(AD24="",AD24,"")))) -> 0 | Y24: =B24 -> 0
A25: 13 | N25: =SUM(I25,-J25,K25,-L25,M25) -> 0 | O25: 0 | P25: =IF(OR('Val-Départ'!G25="note de crédit", 'Val-Départ'!G25="Marchandise"), "0",PRODUCT(N25,O25)) -> 0 | Q25: =IF(('Val-Départ'!G25="Marchandise"), PRODUCT(N25,O25),"0") -> 0 | R25: =IF(('Val-Départ'!G25="note de crédit"),PRODUCT(N25,O25),"0") -> 0 | T25: =IF(('Val-Départ'!G25<>"note de crédit"),SUM(N25,P25,Q25,R25,-J25),"") -> 0 | U25: =SUM(P25:Q25) -> 0 | V25: =IF(('Val-Départ'!G25="note de crédit"),(N25+R25),"") | W25: =IF(S25=0,T25,T25-S25) -> 0 | X25: =IF(AD25=D25,AD25,IF(AD25=ROUND(D25+T25,2),AD25,IF(AD25=T25,AD25,IF(AD25="",AD25,"")))) -> 0 | Y25: =B25 -> 0
A26: 14 | D26: =SUM(D13:D25) -> 3966.3 | G26: total | I26: =SUM(I13:I25) -> 2161.39 | N26: =SUM(N13:N25) -> 2161.39 | P26: =SUM(P13:P25) -> 260.2887 | Q26: =SUM(Q13:Q25) -> 193.6032 | R26: =IF(('Val-Départ'!G26="note de crédit"),PRODUCT(N26,O26),"0") -> 0 | T26: =SUM(T13:T25) -> 2615.2819 | U26: =SUM(U13:U23) -> 453.8919 | V26: =SUM(V13:V25) -> 0 | W26: =SUM(W13:W25) -> 2615.2819 | X26: =SUM(X13:X25) -> 3681.43 | Y26: =B26 -> 0 | AD26: =SUM(AD13:AD25) -> 3681.43 | AF26: =AD26 -> 3681.43 | AG26: Bq clients
P27: non marchand | R27: nc | AD27: Effacer ici | AF27: =AK46 -> 2588.61 | AG27: Bq fourn
B28: effacer ICI seulement | H28: effacer ICI seulement | N28: TOTAL TVA | P28: =SUM(P26:R26) -> 453.8919 | Q28: NC/tva | R28: -103.07 | AB28: différence entre Bq clients te Bq fournisseurs | AF28: =(AF26-AF27) -> 1092.82
N29: LIV sortie | O29: total | P29: =SUM(P28,R28) -> 350.8219 | Q29: ok
G31: 1 | H31: 2 | I31: 3 | J31: 4 | K31: 5 | L31: 6 | M31: 7 | N31: 8 | O31: 9 | P31: 10 | Q31: 11 | R31: 12 | S31: 13 | T31: 14 | U31: 15 | V31: 16 | W31: 17 | X31: 18 | Y31: 19 | Z31: 20 | AA31: 21 | AB31: 22 | AC31: 23 | AD31: 24 | AE31: 25 | AF31: 26 | AG31: 27 | AH31: 28 | AI31: 29 | AJ31: 30 | AK31: 31 | AL31: 32 | AM31: 33 | AN31: 34 | AO31: 35
A32: valeur initiale du fournisseur | G32: Inscrire ici les factures FOURNISSEURS | P32: si rien à réduire = 0% | T32: TVA | AB32: Entret.immo. | AC32: Entret. Immo.
B33: ACHATS 600 | F33: FACTURES -des- FOURNISSEURS | P33: TVA | Q33: Nouvelle | T33: 4510 | V33: 4514 | W33: Emballage | Y33: 4514 | AB33: TVA due | AC33: TVA due | AD33: Pas effac | AF33: Inscrire ici - Extrait - Banque Fournisseurs
A34: N-Fo | B34: Num Four | C34: fournisseurs | D34: V.I. | F34: PCMN | G34: dénomination | H34: Fact-N° | I34: HTVA | J34: Escompte | K34: Transport | L34: RRR | M34: Embal Av tva | N34: Base-impot | O34: TVA% | P34: tva % à déduit | Q34: Base impot | R34: TVA % | T34: tva non marchand | U34: tva marchand | V34: TVA (NC) | W34: après tva | X34: TVA Récup. | Y34: TVA (NC) | Z34: Tot TVAC | AA34: TVAC(NC) | AB34: (59)451020 | AC34: (59)451030 | AD34: Vérification | AF34: Num Fourn | AG34: Nom Fourn | AH34: extrait | AI34: date | AJ34: PMCN | AK34: montant(-)
A35: 1 | B35: F0001 | C35: Feromat | D35: 0 | F35: 604 - achat marchandises | G35: outillage | H35: F812 | I35: 743.68 | J35: 0 | K35: 0 | L35: 0 | M35: 0 | N35: =SUM(I35,-J35,K35,-L35,M35) -> 743.68 | O35: 1 | P35: 0 | Q35: =(IF(P35=0,N35*O35,(N35*O35*P35)+N35)) -> 743.68 | R35: 0.21 | S35: =(1-P35) -> 1 | T35: =IF(OR('Val-Départ'!G35="note de crédit", 'Val-Départ'!G35="Marchandise"),"0",PRODUCT(N35,R35,S35)) -> 156.1728 | U35: =IF(( 'Val-Départ'!G35="Marchandise"),PRODUCT(N35,R35,S35),"0") -> 0 | V35: =IF(OR('Val-Départ'!G35="note de crédit"), PRODUCT(N35,R35,S35),"0") -> 0 | W35: 0 | X35: =(T35+U35) -> 156.1728 | Y35: =IF((G35="note de crédit"),(N35*R35*S35),"0") -> 0 | Z35: =IF((G35<>"note de crédit"),SUM(Q35,T35,U35,V35,-AB35,-AC35),"0") -> 899.8528 | AA35: =IF((G35="note de crédit"),SUM(Q35,V35),"0") -> 0 | AD35: =IF(AK35=ROUND(D35,2),AK35,IF(AK35=ROUND(D35+Z35,2),AK35,IF(AK35=ROUND(Z35,2),AK35,IF(AK35="",AK35,"0")))) -> 899.85 | AF35: =B35 -> F0001 | AG35: =C35 -> Feromat | AH35: 26/1 | AI35: 42317 | AJ35: 550 | AK35: 899.85
A36: 2 | B36: F0002 | C36: Durand | D36: 1115.52 | F36: 604 - achat marchandises | G36: Marchandise | H36: F441 | I36: 1395.67 | J36: 0 | K36: 0 | L36: 0 | M36: 0 | N36: =SUM(I36,-J36,K36,-L36,M36) -> 1395.67 | O36: 1 | P36: 0 | Q36: =(IF(P36=0,N36*O36,(N36*O36*P36)+N36)) -> 1395.67 | R36: 0.21 | S36: =(1-P36) -> 1 | T36: =IF(OR('Val-Départ'!G36="note de crédit", 'Val-Départ'!G36="Marchandise"),"0",PRODUCT(N36,R36,S36)) -> 0 | U36: =IF(( 'Val-Départ'!G36="Marchandise"),PRODUCT(N36,R36,S36),"0") -> 293.0907 | V36: =IF(OR('Val-Départ'!G36="note de crédit"), PRODUCT(N36,R36,S36),"0") -> 0 | W36: 0 | X36: =(T36+U36) -> 293.0907 | Y36: =IF((G36="note de crédit"),(N36*R36*S36),"0") -> 0 | Z36: =IF((G36<>"note de crédit"),SUM(Q36,T36,U36,V36,-AB36,-AC36),"0") -> 1688.7607 | AA36: =IF((G36="note de crédit"),SUM(Q36,V36),"0") -> 0 | AD36: =IF(AK36=ROUND(D36,2),AK36,IF(AK36=ROUND(D36+Z36,2),AK36,IF(AK36=ROUND(Z36,2),AK36,IF(AK36="",AK36,"0")))) -> 1688.76 | AF36: =B36 -> F0002 | AG36: =C36 -> Durand | AH36: 27/1 | AI36: 42324 | AJ36: 550 | AK36: 1688.76
A37: 3 | B37: F0003 | C37: Pierre | D37: 1859.2 | F37: 240 - Mobilier | G37: Marchandise | N37: =SUM(I37,-J37,K37,-L37,M37) -> 0 | O37: 1 | P37: 0 | Q37: =(IF(P37=0,N37*O37,(N37*O37*P37)+N37)) -> 0 | R37: 0.06 | S37: =(1-P37) -> 1 | T37: =IF(OR('Val-Départ'!G37="note de crédit", 'Val-Départ'!G37="Marchandise"),"0",PRODUCT(N37,R37,S37)) -> 0 | U37: =IF(( 'Val-Départ'!G37="Marchandise"),PRODUCT(N37,R37,S37),"0") -> 0 | V37: =IF(OR('Val-Départ'!G37="note de crédit"), PRODUCT(N37,R37,S37),"0") -> 0 | W37: 0 | X37: =(T37+U37) -> 0 | Y37: =IF((G37="note de crédit"),(N37*R37*S37),"0") -> 0 | Z37: =IF((G37<>"note de crédit"),SUM(Q37,T37,U37,V37,-AB37,-AC37),"0") -> 0 | AA37: =IF((G37="note de crédit"),SUM(Q37,V37),"0") -> 0 | AD37: =IF(AK37=ROUND(D37,2),AK37,IF(AK37=ROUND(D37+Z37,2),AK37,IF(AK37=ROUND(Z37,2),AK37,IF(AK37="",AK37,"0")))) -> 0 | AF37: =B37 -> F0003 | AG37: =C37 -> Pierre | AJ37: 550
A38: 4 | F38: 61210 - Belgacom | G38: Marchandise | N38: =SUM(I38,-J38,K38,-L38,M38) -> 0 | O38: 1 | P38: 0 | Q38: =(IF(P38=0,N38*O38,(N38*O38*P38)+N38)) -> 0 | R38: 0.21 | S38: =(1-P38) -> 1 | T38: =IF(OR('Val-Départ'!G38="note de crédit", 'Val-Départ'!G38="Marchandise"),"0",PRODUCT(N38,R38,S38)) -> 0 | U38: =IF(( 'Val-Départ'!G38="Marchandise"),PRODUCT(N38,R38,S38),"0") -> 0 | V38: =IF(OR('Val-Départ'!G38="note de crédit"), PRODUCT(N38,R38,S38),"0") -> 0 | W38: 0 | X38: =(T38+U38) -> 0 | Y38: =IF((G38="note de crédit"),(N38*R38*S38),"0") -> 0 | Z38: =IF((G38<>"note de crédit"),SUM(Q38,T38,U38,V38,-AB38,-AC38),"0") -> 0 | AA38: =IF((G38="note de crédit"),SUM(Q38,V38),"0") -> 0 | AD38: =IF(AK38=ROUND(D38,2),AK38,IF(AK38=ROUND(D38+Z38,2),AK38,IF(AK38=ROUND(Z38,2),AK38,IF(AK38="",AK38,"0")))) -> 0 | AF38: =B38 -> 0 | AG38: =C38 -> 0 | AJ38: 550
A39: 5 | F39: 6110 - Entretien -réparation | G39: Entret./M.R. | N39: =SUM(I39,-J39,K39,-L39,M39) -> 0 | O39: 1 | P39: 0 | Q39: =(IF(P39=0,N39*O39,(N39*O39*P39)+N39)) -> 0 | R39: 0.21 | S39: =(1-P39) -> 1 | T39: =IF(OR('Val-Départ'!G39="note de crédit", 'Val-Départ'!G39="Marchandise"),"0",PRODUCT(N39,R39,S39)) -> 0 | U39: =IF(( 'Val-Départ'!G39="Marchandise"),PRODUCT(N39,R39,S39),"0") -> 0 | V39: =IF(OR('Val-Départ'!G39="note de crédit"), PRODUCT(N39,R39,S39),"0") -> 0 | W39: 0 | X39: =(T39+U39) -> 0 | Y39: =IF((G39="note de crédit"),(N39*R39*S39),"0") -> 0 | Z39: =IF((G39<>"note de crédit"),SUM(Q39,T39,U39,V39,-AB39,-AC39),"0") -> 0 | AA39: =IF((G39="note de crédit"),SUM(Q39,V39),"0") -> 0 | AD39: =IF(AK39=ROUND(D39,2),AK39,IF(AK39=ROUND(D39+Z39,2),AK39,IF(AK39=ROUND(Z39,2),AK39,IF(AK39="",AK39,"0")))) -> 0 | AF39: =B39 -> 0 | AG39: =C39 -> 0 | AJ39: 550
A40: 6 | F40: CLASSE 6 : COMPTES DE CHARGES | G40: note de crédit | N40: =SUM(I40,-J40,K40,-L40,M40) -> 0 | O40: 1 | P40: 0 | Q40: =(IF(P40=0,N40*O40,(N40*O40*P40)+N40)) -> 0 | R40: 0.21 | S40: =(1-P40) -> 1 | T40: =IF(OR('Val-Départ'!G40="note de crédit", 'Val-Départ'!G40="Marchandise"),"0",PRODUCT(N40,R40,S40)) -> 0 | U40: =IF(( 'Val-Départ'!G40="Marchandise"),PRODUCT(N40,R40,S40),"0") -> 0 | V40: =IF(OR('Val-Départ'!G40="note de crédit"), PRODUCT(N40,R40,S40),"0") -> 0 | W40: 0 | X40: =(T40+U40) -> 0 | Y40: =IF((G40="note de crédit"),(N40*R40*S40),"0") -> 0 | Z40: =IF((G40<>"note de crédit"),SUM(Q40,T40,U40,V40,-AB40,-AC40),"0") -> 0 | AA40: =IF((G40="note de crédit"),SUM(Q40,V40),"0") -> 0 | AD40: =IF(AK40=ROUND(D40,2),AK40,IF(AK40=ROUND(D40+Z40,2),AK40,IF(AK40=ROUND(Z40,2),AK40,IF(AK40="",AK40,"0")))) -> 0 | AF40: =B40 -> 0 | AG40: =C40 -> 0 | AJ40: 550
A41: 7 | F41: 614 - Publicité | G41: Pub. | N41: =SUM(I41,-J41,K41,-L41,M41) -> 0 | O41: 1 | P41: 0 | Q41: =(IF(P41=0,N41*O41,(N41*O41*P41)+N41)) -> 0 | R41: 0.21 | S41: =(1-P41) -> 1 | T41: =IF(OR('Val-Départ'!G41="note de crédit", 'Val-Départ'!G41="Marchandise"),"0",PRODUCT(N41,R41,S41)) -> 0 | U41: =IF(( 'Val-Départ'!G41="Marchandise"),PRODUCT(N41,R41,S41),"0") -> 0 | V41: =IF(OR('Val-Départ'!G41="note de crédit"), PRODUCT(N41,R41,S41),"0") -> 0 | W41: 0 | X41: =(T41+U41) -> 0 | Y41: =IF((G41="note de crédit"),(N41*R41*S41),"0") -> 0 | Z41: =IF((G41<>"note de crédit"),SUM(Q41,T41,U41,V41,-AB41,-AC41),"0") -> 0 | AA41: =IF((G41="note de crédit"),SUM(Q41,V41),"0") -> 0 | AD41: =IF(AK41=ROUND(D41,2),AK41,IF(AK41=ROUND(D41+Z41,2),AK41,IF(AK41=ROUND(Z41,2),AK41,IF(AK41="",AK41,"0")))) -> 0 | AF41: =B41 -> 0 | AG41: =C41 -> 0 | AJ41: 550
...

Sheet Liv-Four-client
A2: LIVRE de compte CLIENTS ET FOURNISSEURS
D3: LIVRE compte clients | L3: LIVRE Compte fournisseurs
B4: Attention pour déterminer le code client exem : C0001
B5: la formule doit être sous forme de matrice c-à-d avec {} | N5: Tjrs vérifier les accollades en début de INDEX !!!!
B6: il faut le signe {} en début et fin, via touche (crtr+shift+enter) | N6: C'est ce qui regroupe les mêmes n° clients ou fournisseurs
B7: NE PAS FAIRE ENTER après les {} cliquer sur une autre cellule
C8: =INDEX('Val-Départ'!B$1:B$19;MIN(SI(NB.SI('Liv. comp.four-client.'!E$11:E11;'Val-Départ'!B$12:B$19)=0;LIGNE($12:$19))))
D9: Facture- Clients | F9: Banq - Clients | L9: Banq -Fourn. | N9: Facture - Fourn.
D10: TVAC | L10: TVAC
E11: Ref pr index | M11: Ref pr index
D12: D+ | E12: {=INDEX('Val-Départ'!B$1:B$23,MIN(IF(COUNTIF('Liv-Four-client'!E$11:E11,'Val-Départ'!B$13:B$23)=0,ROW($13:$23))))} -> C0001 | F12: =IFERROR(VLOOKUP($E$12,'Val-Départ'!$B$13:$D$23,2,FALSE),"") -> Nicolas | G12: C- | L12: D- | M12: =INDEX('Val-Départ'!B$1:B$45,MIN(IF(COUNTIF('Liv-Four-client'!M$11:M11,'Val-Départ'!B$35:B$45)=0,ROW($35:$45)))) -> F0001 | N12: =IFERROR(VLOOKUP($M$12,'Val-Départ'!$B$35:$D$46,2,FALSE),"") -> Feromat | O12: C+
D13: vi | E13: =IFERROR(VLOOKUP($E$12,'Val-Départ'!$B$12:$D$19,3,FALSE),"") -> 1066.15 | F13: xxxxxxxx | M13: xxxxxxxxxx | N13: =IFERROR(VLOOKUP($M$12,'Val-Départ'!$B$35:$D$46,3,FALSE),"") -> 0 | O13: vi
C14: 13 | E14: =IF(ISNA(VLOOKUP($E$12,'Val-Départ'!B13:W13,18,FALSE)),,VLOOKUP($E$12,'Val-Départ'!B13:W13,18,FALSE)) -> 0 | F14: =IF(ISNA(VLOOKUP($E$12,'Val-Départ'!Y13:AD13,6,FALSE)),,VLOOKUP($E$12,'Val-Départ'!Y13:AD13,6,FALSE)) -> 2565.91 | M14: =IF(ISNA(VLOOKUP($M$12,'Val-Départ'!B35:AK35,35,FALSE)),,VLOOKUP($M$12,'Val-Départ'!B35:AK35,35,FALSE)) -> 550 | N14: =IF(ISNA(VLOOKUP($M$12,'Val-Départ'!AF35:AK35,6,FALSE)),,VLOOKUP($M$12,'Val-Départ'!AF35:AK35,6,FALSE)) -> 899.85 | P14: 35
C15: 14 | E15: =IF(ISNA(VLOOKUP($E$12,'Val-Départ'!B14:W14,18,FALSE)),,VLOOKUP($E$12,'Val-Départ'!B14:W14,18,FALSE)) -> 0 | F15: =IF(ISNA(VLOOKUP($E$12,'Val-Départ'!Y14:AD14,6,FALSE)),,VLOOKUP($E$12,'Val-Départ'!Y14:AD14,6,FALSE)) -> 0 | M15: =IF(ISNA(VLOOKUP($M$12,'Val-Départ'!B36:AK36,35,FALSE)),,VLOOKUP($M$12,'Val-Départ'!B36:AK36,35,FALSE)) -> 0 | N15: =IF(ISNA(VLOOKUP($M$12,'Val-Départ'!AF36:AK36,6,FALSE)),,VLOOKUP($M$12,'Val-Départ'!AF36:AK36,6,FALSE)) -> 0 | P15: 36
C16: 15 | E16: =IF(ISNA(VLOOKUP($E$12,'Val-Départ'!B15:W15,18,FALSE)),,VLOOKUP($E$12,'Val-Départ'!B15:W15,18,FALSE)) -> 0 | F16: =IF(ISNA(VLOOKUP($E$12,'Val-Départ'!Y15:AD15,6,FALSE)),,VLOOKUP($E$12,'Val-Départ'!Y15:AD15,6,FALSE)) -> 0 | M16: =IF(ISNA(VLOOKUP($M$12,'Val-Départ'!B37:AK37,35,FALSE)),,VLOOKUP($M$12,'Val-Départ'!B37:AK37,35,FALSE)) -> 0 | N16: =IF(ISNA(VLOOKUP($M$12,'Val-Départ'!AF37:AK37,6,FALSE)),,VLOOKUP($M$12,'Val-Départ'!AF37:AK37,6,FALSE)) -> 0 | P16: 37
C17: 16 | E17: =IF(ISNA(VLOOKUP($E$12,'Val-Départ'!B16:W16,18,FALSE)),,VLOOKUP($E$12,'Val-Départ'!B16:W16,18,FALSE)) -> 0 | F17: =IF(ISNA(VLOOKUP($E$12,'Val-Départ'!Y16:AD16,6,FALSE)),,VLOOKUP($E$12,'Val-Départ'!Y16:AD16,6,FALSE)) -> 0 | M17: =IF(ISNA(VLOOKUP($M$12,'Val-Départ'!B38:AK38,35,FALSE)),,VLOOKUP($M$12,'Val-Départ'!B38:AK38,35,FALSE)) -> 0 | N17: =IF(ISNA(VLOOKUP($M$12,'Val-Départ'!AF38:AK38,6,FALSE)),,VLOOKUP($M$12,'Val-Départ'!AF38:AK38,6,FALSE)) -> 0 | P17: 38
C18: 17 | E18: =IF(ISNA(VLOOKUP($E$12,'Val-Départ'!B17:W17,18,FALSE)),,VLOOKUP($E$12,'Val-Départ'!B17:W17,18,FALSE)) -> 0 | F18: =IF(ISNA(VLOOKUP($E$12,'Val-Départ'!Y17:AD17,6,FALSE)),,VLOOKUP($E$12,'Val-Départ'!Y17:AD17,6,FALSE)) -> 0 | M18: =IF(ISNA(VLOOKUP($M$12,'Val-Départ'!B39:AK39,35,FALSE)),,VLOOKUP($M$12,'Val-Départ'!B39:AK39,35,FALSE)) -> 0 | N18: =IF(ISNA(VLOOKUP($M$12,'Val-Départ'!AF39:AK39,6,FALSE)),,VLOOKUP($M$12,'Val-Départ'!AF39:AK39,6,FALSE)) -> 0 | P18: 39
C19: 18 | E19: =IF(ISNA(VLOOKUP($E$12,'Val-Départ'!B18:W18,18,FALSE)),,VLOOKUP($E$12,'Val-Départ'!B18:W18,18,FALSE)) -> 0 | F19: =IF(ISNA(VLOOKUP($E$12,'Val-Départ'!Y18:AD18,6,FALSE)),,VLOOKUP($E$12,'Val-Départ'!Y18:AD18,6,FALSE)) -> 0 | M19: =IF(ISNA(VLOOKUP($M$12,'Val-Départ'!B40:AK40,35,FALSE)),,VLOOKUP($M$12,'Val-Départ'!B40:AK40,35,FALSE)) -> 0 | N19: =IF(ISNA(VLOOKUP($M$12,'Val-Départ'!AF40:AK40,6,FALSE)),,VLOOKUP($M$12,'Val-Départ'!AF40:AK40,6,FALSE)) -> 0 | P19: 40
C20: 19 | E20: =IF(ISNA(VLOOKUP($E$12,'Val-Départ'!B19:W19,18,FALSE)),,VLOOKUP($E$12,'Val-Départ'!B19:W19,18,FALSE)) -> 0 | F20: =IF(ISNA(VLOOKUP($E$12,'Val-Départ'!Y19:AD19,6,FALSE)),,VLOOKUP($E$12,'Val-Départ'!Y19:AD19,6,FALSE)) -> 0 | M20: =IF(ISNA(VLOOKUP($M$12,'Val-Départ'!B41:AK41,35,FALSE)),,VLOOKUP($M$12,'Val-Départ'!B41:AK41,35,FALSE)) -> 0 | N20: =IF(ISNA(VLOOKUP($M$12,'Val-Départ'!AF41:AK41,6,FALSE)),,VLOOKUP($M$12,'Val-Départ'!AF41:AK41,6,FALSE)) -> 0 | P20: 41
C21: 20 | E21: =IF(ISNA(VLOOKUP($E$12,'Val-Départ'!B20:W20,18,FALSE)),,VLOOKUP($E$12,'Val-Départ'!B20:W20,18,FALSE)) -> 0 | F21: =IF(ISNA(VLOOKUP($E$12,'Val-Départ'!Y20:AD20,6,FALSE)),,VLOOKUP($E$12,'Val-Départ'!Y20:AD20,6,FALSE)) -> 0 | M21: =IF(ISNA(VLOOKUP($M$12,'Val-Départ'!B42:AK42,35,FALSE)),,VLOOKUP($M$12,'Val-Départ'!B42:AK42,35,FALSE)) -> 0 | N21: =IF(ISNA(VLOOKUP($M$12,'Val-Départ'!AF42:AK42,6,FALSE)),,VLOOKUP($M$12,'Val-Départ'!AF42:AK42,6,FALSE)) -> 0 | P21: 42
C22: 21 | E22: =IF(ISNA(VLOOKUP($E$12,'Val-Départ'!B21:W21,18,FALSE)),,VLOOKUP($E$12,'Val-Départ'!B21:W21,18,FALSE)) -> 0 | F22: =IF(ISNA(VLOOKUP($E$12,'Val-Départ'!Y21:AD21,6,FALSE)),,VLOOKUP($E$12,'Val-Départ'!Y21:AD21,6,FALSE)) -> 0 | M22: =IF(ISNA(VLOOKUP($M$12,'Val-Départ'!B43:AK43,35,FALSE)),,VLOOKUP($M$12,'Val-Départ'!B43:AK43,35,FALSE)) -> 0 | N22: =IF(ISNA(VLOOKUP($M$12,'Val-Départ'!AF43:AK43,6,FALSE)),,VLOOKUP($M$12,'Val-Départ'!AF43:AK43,6,FALSE)) -> 0 | P22: 43
C23: 22 | E23: =IF(ISNA(VLOOKUP($E$12,'Val-Départ'!B22:W22,18,FALSE)),,VLOOKUP($E$12,'Val-Départ'!B22:W22,18,FALSE)) -> 0 | F23: =IF(ISNA(VLOOKUP($E$12,'Val-Départ'!Y22:AD22,6,FALSE)),,VLOOKUP($E$12,'Val-Départ'!Y22:AD22,6,FALSE)) -> 0 | M23: =IF(ISNA(VLOOKUP($M$12,'Val-Départ'!B44:AK44,35,FALSE)),,VLOOKUP($M$12,'Val-Départ'!B44:AK44,35,FALSE)) -> 0 | N23: =IF(ISNA(VLOOKUP($M$12,'Val-Départ'!AF44:AK44,6,FALSE)),,VLOOKUP($M$12,'Val-Départ'!AF44:AK44,6,FALSE)) -> 0 | P23: 44
C24: 23 | E24: =IF(ISNA(VLOOKUP($E$12,'Val-Départ'!B23:W23,18,FALSE)),,VLOOKUP($E$12,'Val-Départ'!B23:W23,18,FALSE)) -> 0 | F24: =IF(ISNA(VLOOKUP($E$12,'Val-Départ'!Y23:AD23,6,FALSE)),,VLOOKUP($E$12,'Val-Départ'!Y23:AD23,6,FALSE)) -> 0 | M24: =IF(ISNA(VLOOKUP($M$12,'Val-Départ'!B45:AK45,35,FALSE)),,VLOOKUP($M$12,'Val-Départ'!B45:AK45,35,FALSE)) -> 0 | N24: =IF(ISNA(VLOOKUP($M$12,'Val-Départ'!AF45:AK45,6,FALSE)),,VLOOKUP($M$12,'Val-Départ'!AF45:AK45,6,FALSE)) -> 0 | P24: 45
E25: =SUM(E13:E21) -> 1066.15 | F25: =SUM(F14:F21) -> 2565.91 | M25: =SUM(M14:M21) -> 550 | N25: =SUM(N13:N21) -> 899.85 | O25: SC
D27: sd | E27: =E25-F25 -> -1499.76 | F27: Client1 | N27: =(N25-M25) -> 349.85 | O27: Fournis 1
E28: Ref pr index | M28: Ref pr index
D29: d | E29: {=INDEX('Val-Départ'!B$1:B$23,MIN(IF(COUNTIF('Liv-Four-client'!E$11:E28,'Val-Départ'!B$13:B$23)=0,ROW($13:$23))))} -> C0002 | F29: =IFERROR(VLOOKUP($E$29,'Val-Départ'!$B$13:$D$23,2,FALSE),"") -> Vienneau | G29: c | L29: d | M29: {=INDEX('Val-Départ'!B$1:B$45,MIN(IF(COUNTIF('Liv-Four-client'!M$11:M28,'Val-Départ'!B$35:B$45)=0,ROW($35:$45))))} -> F0002 | N29: =IFERROR(VLOOKUP($M$29,'Val-Départ'!$B$36:$D$45,2,FALSE),"") -> Durand | O29: c
D30: vi | E30: =IFERROR(VLOOKUP($E$29,'Val-Départ'!$B$12:$D$19,3,FALSE),"") -> 758.12 | F30: xxxxxxxx | M30: xxxxxxxxxx | N30: =IFERROR(VLOOKUP($M$29,'Val-Départ'!$B$36:$D$45,3,FALSE),"") -> 1115.52 | O30: vi
C31: 13 | E31: =IF(ISNA(VLOOKUP($E$29,'Val-Départ'!B13:W13,18,FALSE)),,VLOOKUP($E$29,'Val-Départ'!B13:W13,18,FALSE)) -> 0 | F31: =IF(ISNA(VLOOKUP($E$29,'Val-Départ'!Y13:AD13,6,FALSE)),,VLOOKUP($E$29,'Val-Départ'!Y13:AD13,6,FALSE)) -> 0 | M31: =IF(ISNA(VLOOKUP($M$29,'Val-Départ'!B35:AK35,35,FALSE)),,VLOOKUP($M$29,'Val-Départ'!B35:AK35,35,FALSE)) -> 0 | N31: =IF(ISNA(VLOOKUP($M$29,'Val-Départ'!AF35:AK35,6,FALSE)),,VLOOKUP($M$29,'Val-Départ'!AF35:AK35,6,FALSE)) -> 0 | P31: 35
C32: 14 | E32: =IF(ISNA(VLOOKUP($E$29,'Val-Départ'!B14:W14,18,FALSE)),,VLOOKUP($E$29,'Val-Départ'!B14:W14,18,FALSE)) -> 0 | F32: =IF(ISNA(VLOOKUP($E$29,'Val-Départ'!Y14:AD14,6,FALSE)),,VLOOKUP($E$29,'Val-Départ'!Y14:AD14,6,FALSE)) -> 1115.52 | M32: =IF(ISNA(VLOOKUP($M$29,'Val-Départ'!B36:AK36,35,FALSE)),,VLOOKUP($M$29,'Val-Départ'!B36:AK36,35,FALSE)) -> 550 | N32: =IF(ISNA(VLOOKUP($M$29,'Val-Départ'!AF36:AK36,6,FALSE)),,VLOOKUP($M$29,'Val-Départ'!AF36:AK36,6,FALSE)) -> 1688.76 | P32: 36
C33: 15 | E33: =IF(ISNA(VLOOKUP($E$29,'Val-Départ'!B15:W15,18,FALSE)),,VLOOKUP($E$29,'Val-Départ'!B15:W15,18,FALSE)) -> 0 | F33: =IF(ISNA(VLOOKUP($E$29,'Val-Départ'!Y15:AD15,6,FALSE)),,VLOOKUP($E$29,'Val-Départ'!Y15:AD15,6,FALSE)) -> 0 | M33: =IF(ISNA(VLOOKUP($M$29,'Val-Départ'!B37:AK37,35,FALSE)),,VLOOKUP($M$29,'Val-Départ'!B37:AK37,35,FALSE)) -> 0 | N33: =IF(ISNA(VLOOKUP($M$29,'Val-Départ'!AF37:AK37,6,FALSE)),,VLOOKUP($M$29,'Val-Départ'!AF37:AK37,6,FALSE)) -> 0 | P33: 37
C34: 16 | E34: =IF(ISNA(VLOOKUP($E$29,'Val-Départ'!B16:W16,18,FALSE)),,VLOOKUP($E$29,'Val-Départ'!B16:W16,18,FALSE)) -> 0 | F34: =IF(ISNA(VLOOKUP($E$29,'Val-Départ'!Y16:AD16,6,FALSE)),,VLOOKUP($E$29,'Val-Départ'!Y16:AD16,6,FALSE)) -> 0 | M34: =IF(ISNA(VLOOKUP($M$29,'Val-Départ'!B38:AK38,35,FALSE)),,VLOOKUP($M$29,'Val-Départ'!B38:AK38,35,FALSE)) -> 0 | N34: =IF(ISNA(VLOOKUP($M$29,'Val-Départ'!AF38:AK38,6,FALSE)),,VLOOKUP($M$29,'Val-Départ'!AF38:AK38,6,FALSE)) -> 0 | P34: 38
C35: 17 | E35: =IF(ISNA(VLOOKUP($E$29,'Val-Départ'!B17:W17,18,FALSE)),,VLOOKUP($E$29,'Val-Départ'!B17:W17,18,FALSE)) -> 0 | F35: =IF(ISNA(VLOOKUP($E$29,'Val-Départ'!Y17:AD17,6,FALSE)),,VLOOKUP($E$29,'Val-Départ'!Y17:AD17,6,FALSE)) -> 0 | M35: =IF(ISNA(VLOOKUP($M$29,'Val-Départ'!B39:AK39,35,FALSE)),,VLOOKUP($M$29,'Val-Départ'!B39:AK39,35,FALSE)) -> 0 | N35: =IF(ISNA(VLOOKUP($M$29,'Val-Départ'!AF39:AK39,6,FALSE)),,VLOOKUP($M$29,'Val-Départ'!AF39:AK39,6,FALSE)) -> 0 | P35: 39
C36: 18 | E36: =IF(ISNA(VLOOKUP($E$29,'Val-Départ'!B18:W18,18,FALSE)),,VLOOKUP($E$29,'Val-Départ'!B18:W18,18,FALSE)) -> 0 | F36: =IF(ISNA(VLOOKUP($E$29,'Val-Départ'!Y18:AD18,6,FALSE)),,VLOOKUP($E$29,'Val-Départ'!Y18:AD18,6,FALSE)) -> 0 | M36: =IF(ISNA(VLOOKUP($M$29,'Val-Départ'!B40:AK40,35,FALSE)),,VLOOKUP($M$29,'Val-Départ'!B40:AK40,35,FALSE)) -> 0 | N36: =IF(ISNA(VLOOKUP($M$29,'Val-Départ'!AF40:AK40,6,FALSE)),,VLOOKUP($M$29,'Val-Départ'!AF40:AK40,6,FALSE)) -> 0 | P36: 40
C37: 19 | E37: =IF(ISNA(VLOOKUP($E$29,'Val-Départ'!B19:W19,18,FALSE)),,VLOOKUP($E$29,'Val-Départ'!B19:W19,18,FALSE)) -> 0 | F37: =IF(ISNA(VLOOKUP($E$29,'Val-Départ'!Y19:AD19,6,FALSE)),,VLOOKUP($E$29,'Val-Départ'!Y19:AD19,6,FALSE)) -> 0 | M37: =IF(ISNA(VLOOKUP($M$29,'Val-Départ'!B41:AK41,35,FALSE)),,VLOOKUP($M$29,'Val-Départ'!B41:AK41,35,FALSE)) -> 0 | N37: =IF(ISNA(VLOOKUP($M$29,'Val-Départ'!AF41:AK41,6,FALSE)),,VLOOKUP($M$29,'Val-Départ'!AF41:AK41,6,FALSE)) -> 0 | P37: 41
C38: 20 | E38: =IF(ISNA(VLOOKUP($E$29,'Val-Départ'!B20:W20,18,FALSE)),,VLOOKUP($E$29,'Val-Départ'!B20:W20,18,FALSE)) -> 0 | F38: =IF(ISNA(VLOOKUP($E$29,'Val-Départ'!Y20:AD20,6,FALSE)),,VLOOKUP($E$29,'Val-Départ'!Y20:AD20,6,FALSE)) -> 0 | M38: =IF(ISNA(VLOOKUP($M$29,'Val-Départ'!B42:AK42,35,FALSE)),,VLOOKUP($M$29,'Val-Départ'!B42:AK42,35,FALSE)) -> 0 | N38: =IF(ISNA(VLOOKUP($M$29,'Val-Départ'!AF42:AK42,6,FALSE)),,VLOOKUP($M$29,'Val-Départ'!AF42:AK42,6,FALSE)) -> 0 | P38: 42
C39: 21 | E39: =IF(ISNA(VLOOKUP($E$29,'Val-Départ'!B21:W21,18,FALSE)),,VLOOKUP($E$29,'Val-Départ'!B21:W21,18,FALSE)) -> 0 | F39: =IF(ISNA(VLOOKUP($E$29,'Val-Départ'!Y21:AD21,6,FALSE)),,VLOOKUP($E$29,'Val-Départ'!Y21:AD21,6,FALSE)) -> 0 | M39: =IF(ISNA(VLOOKUP($M$29,'Val-Départ'!B43:AK43,35,FALSE)),,VLOOKUP($M$29,'Val-Départ'!B43:AK43,35,FALSE)) -> 0 | N39: =IF(ISNA(VLOOKUP($M$29,'Val-Départ'!AF43:AK43,6,FALSE)),,VLOOKUP($M$29,'Val-Départ'!AF43:AK43,6,FALSE)) -> 0 | P39: 43
C40: 22 | E40: =IF(ISNA(VLOOKUP($E$29,'Val-Départ'!B22:W22,18,FALSE)),,VLOOKUP($E$29,'Val-Départ'!B22:W22,18,FALSE)) -> 0 | F40: =IF(ISNA(VLOOKUP($E$29,'Val-Départ'!Y22:AD22,6,FALSE)),,VLOOKUP($E$29,'Val-Départ'!Y22:AD22,6,FALSE)) -> 0 | M40: =IF(ISNA(VLOOKUP($M$29,'Val-Départ'!B44:AK44,35,FALSE)),,VLOOKUP($M$29,'Val-Départ'!B44:AK44,35,FALSE)) -> 0 | N40: =IF(ISNA(VLOOKUP($M$29,'Val-Départ'!AF44:AK44,6,FALSE)),,VLOOKUP($M$29,'Val-Départ'!AF44:AK44,6,FALSE)) -> 0 | P40: 44
C41: 23 | E41: =IF(ISNA(VLOOKUP($E$29,'Val-Départ'!B23:W23,18,FALSE)),,VLOOKUP($E$29,'Val-Départ'!B23:W23,18,FALSE)) -> 0 | F41: =IF(ISNA(VLOOKUP($E$29,'Val-Départ'!Y23:AD23,6,FALSE)),,VLOOKUP($E$29,'Val-Départ'!Y23:AD23,6,FALSE)) -> 0 | M41: =IF(ISNA(VLOOKUP($M$29,'Val-Départ'!B45:AK45,35,FALSE)),,VLOOKUP($M$29,'Val-Départ'!B45:AK45,35,FALSE)) -> 0 | N41: =IF(ISNA(VLOOKUP($M$29,'Val-Départ'!AF45:AK45,6,FALSE)),,VLOOKUP($M$29,'Val-Départ'!AF45:AK45,6,FALSE)) -> 0 | P41: 45
E42: =SUM(E30:E38) -> 758.12 | F42: =SUM(F31:F38) -> 1115.52 | M42: =SUM(M31:M38) -> 550 | N42: =SUM(N29:N38) -> 2804.28 | O42: SC
...

Sheet Bal.client-four
C2: Balance Client
C4: Numéro client | D4: Nom | E4: Total Débit | F4: Total Crédit | G4: Solde Débiteur | H4: Solde Créditeur
B5: 13 | C5: ='Liv-Four-client'!E12 -> C0001 | D5: ='Liv-Four-client'!F12 -> Nicolas | E5: ='Liv-Four-client'!E25 -> 1066.15 | F5: ='Liv-Four-client'!F25 -> 2565.91 | G5: =IF(E5>F5,E5-F5,0) -> 0 | H5: =IF(E5<F5,F5-E5,0) -> 1499.76
B6: 14 | C6: ='Liv-Four-client'!E29 -> C0002 | D6: ='Liv-Four-client'!F29 -> Vienneau | E6: ='Liv-Four-client'!E42 -> 758.12 | F6: ='Liv-Four-client'!F42 -> 1115.52 | G6: =IF(E6>F6,E6-F6,0) -> 0 | H6: =IF(E6<F6,F6-E6,0) -> 357.4
B7: 15 | C7: ='Liv-Four-client'!E45 -> C0003 | D7: ='Liv-Four-client'!F45 -> Jacques | E7: ='Liv-Four-client'!E57 -> 2142.03 | F7: ='Liv-Four-client'!F57 -> 0 | G7: =IF(E7>F7,E7-F7,0) -> 2142.03 | H7: =IF(E7<F7,F7-E7,0) -> 0
B8: 16 | C8: ='Liv-Four-client'!E60 -> 0 | D8: ='Liv-Four-client'!F60 | E8: ='Liv-Four-client'!E72 -> 0 | F8: ='Liv-Four-client'!F72 -> 0 | G8: =IF(E8>F8,E8-F8,0) -> 0 | H8: =IF(E8<F8,F8-E8,0) -> 0
B9: 17 | C9: ='Liv-Four-client'!E80 -> 0 | D9: ='Liv-Four-client'!F80 | E9: ='Liv-Four-client'!E93 -> 0 | F9: ='Liv-Four-client'!F93 -> 0 | G9: =IF(E9>F9,E9-F9,0) -> 0 | H9: =IF(E9<F9,F9-E9,0) -> 0
B10: 18 | C10: ='Liv-Four-client'!E101 -> 0 | D10: ='Liv-Four-client'!F101 | E10: ='Liv-Four-client'!E114 -> 0 | F10: ='Liv-Four-client'!F114 -> 0 | G10: =IF(E10>F10,E10-F10,0) -> 0 | H10: =IF(E10<F10,F10-E10,0) -> 0
B11: 19 | C11: ='Liv-Four-client'!E119 -> 0 | D11: ='Liv-Four-client'!F114 -> 0 | E11: ='Liv-Four-client'!E132 -> 0 | F11: ='Liv-Four-client'!F132 -> 0 | G11: =IF(E11>F11,E11-F11,0) -> 0 | H11: =IF(E11<F11,F11-E11,0) -> 0
B12: 20 | C12: ='Liv-Four-client'!E136 -> 0 | D12: ='Liv-Four-client'!F136 | E12: ='Liv-Four-client'!E149 -> 0 | F12: ='Liv-Four-client'!F149 -> 0 | G12: =IF(E12>F12,E12-F12,0) -> 0 | H12: =IF(E12<F12,F12-E12,0) -> 0
B13: 21 | C13: ='Liv-Four-client'!E154 -> 0 | D13: ='Liv-Four-client'!F154 | E13: ='Liv-Four-client'!E167 -> 0 | F13: ='Liv-Four-client'!F167 -> 0 | G13: =IF(E13>F13,E13-F13,0) -> 0 | H13: =IF(E13<F13,F13-E13,0) -> 0
B14: 22 | C14: ='Liv-Four-client'!E171 -> 0 | D14: ='Liv-Four-client'!F171 | E14: ='Liv-Four-client'!E184 -> 0 | F14: ='Liv-Four-client'!F184 -> 0 | G14: =IF(E14>F14,E14-F14,0) -> 0 | H14: =IF(E14<F14,F14-E14,0) -> 0
B15: 23 | C15: ='Liv-Four-client'!E184 -> 0 | D15: ='Liv-Four-client'!F184 -> 0 | E15: ='Liv-Four-client'!E202 -> 0 | F15: ='Liv-Four-client'!F202 -> 0 | G15: =IF(E15>F15,E15-F15,0) -> 0 | H15: =IF(E15<F15,F15-E15,0) -> 0
C16: Total | E16: =SUM(E5:E8) -> 3966.3 | F16: =SUM(F5:F8) -> 3681.43 | G16: =SUM(G5:G8) -> 2142.03 | H16: =SUM(H5:H8) -> 1857.16
C18: 4ème vérification : total client (F10) = Grliv ACT-PAS (B69)
C21: Balance Fourniseur
C23: Nom | D23: Nom | E23: Total Débit | F23: Total Crédit | G23: Solde Débiteur | H23: Solde Créditeur
B24: 35 | C24: ='Liv-Four-client'!M12 -> F0001 | D24: ='Liv-Four-client'!N12 -> Feromat | E24: ='Liv-Four-client'!M25 -> 550 | F24: ='Liv-Four-client'!N25 -> 899.85 | G24: =IF(E24>F24,E24-F24,0) -> 0 | H24: =IF(E24<F24,F24-E24,0) -> 349.85
B25: 36 | C25: ='Liv-Four-client'!M29 -> F0002 | D25: ='Liv-Four-client'!N29 -> Durand | E25: ='Liv-Four-client'!M42 -> 550 | F25: ='Liv-Four-client'!N42 -> 2804.28 | G25: =IF(E25>F25,E25-F25,0) -> 0 | H25: =IF(E25<F25,F25-E25,0) -> 2254.28
B26: 37 | C26: ='Liv-Four-client'!M45 -> F0003 | D26: ='Liv-Four-client'!N45 -> Pierre | E26: ='Liv-Four-client'!M57 -> 550 | F26: ='Liv-Four-client'!N57 -> 1859.2 | G26: =IF(E26>F26,E26-F26,0) -> 0 | H26: =IF(E26<F26,F26-E26,0) -> 1309.2
B27: 38 | C27: ='Liv-Four-client'!M60 -> 0 | D27: ='Liv-Four-client'!N60 | E27: ='Liv-Four-client'!M72 -> 0 | F27: ='Liv-Four-client'!N72 -> 0 | G27: =IF(E27>F27,E27-F27,0) -> 0 | H27: =IF(E27<F27,F27-E27,0) -> 0
B28: 39 | C28: ='Liv-Four-client'!M80 -> 0 | D28: ='Liv-Four-client'!N80 | E28: ='Liv-Four-client'!M93 -> 0 | F28: ='Liv-Four-client'!N93 -> 0 | G28: =IF(E28>F28,E28-F28,0) -> 0 | H28: =IF(E28<F28,F28-E28,0) -> 0
B29: 40 | C29: ='Liv-Four-client'!M101 -> 0 | D29: ='Liv-Four-client'!N101 | E29: ='Liv-Four-client'!M114 -> 0 | F29: ='Liv-Four-client'!N114 -> 0 | G29: =IF(E29>F29,E29-F29,0) -> 0 | H29: =IF(E29<F29,F29-E29,0) -> 0
B30: 41 | C30: ='Liv-Four-client'!M119 -> 0 | D30: ='Liv-Four-client'!N119 | E30: ='Liv-Four-client'!M132 -> 0 | F30: ='Liv-Four-client'!N132 -> 0 | G30: =IF(E30>F30,E30-F30,0) -> 0 | H30: =IF(E30<F30,F30-E30,0) -> 0
B31: 42 | C31: ='Liv-Four-client'!M136 -> 0 | D31: ='Liv-Four-client'!N136 | E31: ='Liv-Four-client'!M149 -> 0 | F31: ='Liv-Four-client'!N149 -> 0 | G31: =IF(E31>F31,E31-F31,0) -> 0 | H31: =IF(E31<F31,F31-E31,0) -> 0
B32: 43 | C32: ='Liv-Four-client'!M154 -> 0 | D32: ='Liv-Four-client'!N154 | E32: ='Liv-Four-client'!M167 -> 0 | F32: ='Liv-Four-client'!N167 -> 0 | G32: =IF(E32>F32,E32-F32,0) -> 0 | H32: =IF(E32<F32,F32-E32,0) -> 0
B33: 44 | C33: ='Liv-Four-client'!M171 -> 0 | D33: ='Liv-Four-client'!N171 | E33: ='Liv-Four-client'!M184 -> 0 | F33: ='Liv-Four-client'!N184 -> 0 | G33: =IF(E33>F33,E33-F33,0) -> 0 | H33: =IF(E33<F33,F33-E33,0) -> 0
C34: ='Liv-Four-client'!M189 -> 0 | D34: ='Liv-Four-client'!N189 | E34: ='Liv-Four-client'!M202 -> 0 | F34: ='Liv-Four-client'!N202 -> 0 | G34: =IF(E34>F34,E34-F34,0) -> 0 | H34: =IF(E34<F34,F34-E34,0) -> 0
D36: =SUM(D24:D33) -> 0 | E36: =SUM(E24:E33) -> 1650 | F36: =SUM(F24:F33) -> 5563.33 | G36: =SUM(G24:G33) -> 0 | H36: =SUM(H24:H33) -> 3913.33
C39: 4ème vérification : total fourni (G22 ) = Gr liv ACT-PAS (M69)

Sheet Gr liv ACT-PAS
A1: GRAND livre compte ACTIF
B2: HTVA (D+) | N2: GRAND Livre compte PASSIF
A3: D+ | B3: 237 | C3: Outillage | D3: C-
A4: vi | B4: =IF(ISNA(VLOOKUP($C$3,'Val-Départ'!$J$3:$O$8,6,FALSE)),,VLOOKUP($C$3,'Val-Départ'!$J$3:$O$8,6,FALSE)) -> 0 | N4: D- | O4: 100 | P4: Capital | Q4: C+
A5: 35 | B5: =IF(ISNA(VLOOKUP($C$3,'Val-Départ'!G35:AA35,11,FALSE)),,VLOOKUP($C$3,'Val-Départ'!G35:AA35,11,FALSE)) -> 743.68 | O5: xxxxxxxx | P5: =IF(ISNA(VLOOKUP($P$4,'Val-Départ'!$T$3:$W$8,4,FALSE)),,VLOOKUP($P$4,'Val-Départ'!$T$3:$W$8,4,FALSE)) -> 12394.69 | Q5: vi
A6: 36 | B6: =IF(ISNA(VLOOKUP($C$3,'Val-Départ'!G36:AA36,11,FALSE)),,VLOOKUP($C$3,'Val-Départ'!G36:AA36,11,FALSE)) -> 0
A7: 37 | B7: =IF(ISNA(VLOOKUP($C$3,'Val-Départ'!G37:AA37,11,FALSE)),,VLOOKUP($C$3,'Val-Départ'!G37:AA37,11,FALSE)) -> 0
A8: 38 | B8: =IF(ISNA(VLOOKUP($C$3,'Val-Départ'!G38:AA38,11,FALSE)),,VLOOKUP($C$3,'Val-Départ'!G38:AA38,11,FALSE)) -> 0
A9: 39 | B9: =IF(ISNA(VLOOKUP($C$3,'Val-Départ'!G39:AA39,11,FALSE)),,VLOOKUP($C$3,'Val-Départ'!G39:AA39,11,FALSE)) -> 0
A10: 40 | B10: =IF(ISNA(VLOOKUP($C$3,'Val-Départ'!G40:AA40,11,FALSE)),,VLOOKUP($C$3,'Val-Départ'!G40:AA40,11,FALSE)) -> 0
A11: 41 | B11: =IF(ISNA(VLOOKUP($C$3,'Val-Départ'!G41:AA41,11,FALSE)),,VLOOKUP($C$3,'Val-Départ'!G41:AA41,11,FALSE)) -> 0
A12: 42 | B12: =IF(ISNA(VLOOKUP($C$3,'Val-Départ'!G42:AA42,11,FALSE)),,VLOOKUP($C$3,'Val-Départ'!G42:AA42,11,FALSE)) -> 0 | P12: 0
A13: 43 | B13: =IF(ISNA(VLOOKUP($C$3,'Val-Départ'!G43:AA43,11,FALSE)),,VLOOKUP($C$3,'Val-Départ'!G43:AA43,11,FALSE)) -> 0 | C13: 0 | P13: 0
A14: 8 | B14: =IF(ISNA(VLOOKUP($C$3,'Val-Départ'!G44:AA44,11,FALSE)),,VLOOKUP($C$3,'Val-Départ'!G44:AA44,11,FALSE)) -> 0 | C14: 0 | O14: =SUM(O11:O13) -> 0 | P14: =SUM(P5:P13) -> 12394.69
B15: =SUM(B4:B14) -> 743.68 | C15: =SUM(C5:C14) -> 0 | F15: sd | G15: =B15-C15 -> 743.68 | P15: =$P$14 -> 12394.69 | Q15: SC
B17: HTVA (D+) | N17: D- | O17: 170 | P17: Emprunt | Q17: C-
A18: D+ | B18: 231 | C18: Machine | D18: C- | O18: xxxxxxx | P18: =IF(ISNA(VLOOKUP($P$17,'Val-Départ'!$T$3:$W$8,4,FALSE)),,VLOOKUP($P$17,'Val-Départ'!$T$3:$W$8,4,FALSE)) -> 7436.81 | Q18: vi
A19: vi | B19: =IF(ISNA(VLOOKUP($C$18,'Val-Départ'!$J$3:$O$8,6,FALSE)),,VLOOKUP($C$18,'Val-Départ'!$J$3:$O8,6,FALSE)) -> 3470.51 | C19: xxxxxxxxxxx | P19: 0
A20: 35
A21: 36
A22: 37
A23: 38
A24: 39 | B24: =IF(ISNA(VLOOKUP($C$18,'Val-Départ'!G35:AA35,11,FALSE)),,VLOOKUP($C$18,'Val-Départ'!G35:AA35,11,FALSE)) -> 0 | P24: 0
A25: 40 | B25: =IF(ISNA(VLOOKUP($C$18,'Val-Départ'!G36:AA36,11,FALSE)),,VLOOKUP($C$18,'Val-Départ'!G36:AA36,11,FALSE)) -> 0 | P25: 0
A26: 41 | B26: =IF(ISNA(VLOOKUP($C$18,'Val-Départ'!G37:AA37,11,FALSE)),,VLOOKUP($C$18,'Val-Départ'!G37:AA37,11,FALSE)) -> 0 | O26: =SUM(O19:O25) -> 0 | P26: =SUM(P18:P25) -> 7436.81
A27: 42 | B27: =IF(ISNA(VLOOKUP($C$18,'Val-Départ'!G38:AA38,11,FALSE)),,VLOOKUP($C$18,'Val-Départ'!G38:AA38,11,FALSE)) -> 0 | C27: 0 | P27: =$P$26 -> 7436.81 | Q27: SC
A28: 43 | B28: =IF(ISNA(VLOOKUP($C$18,'Val-Départ'!G39:AA39,11,FALSE)),,VLOOKUP($C$18,'Val-Départ'!G39:AA39,11,FALSE)) -> 0 | C28: 0
A29: 8 | B29: =IF(ISNA(VLOOKUP($C$18,'Val-Départ'!G40:AA40,11,FALSE)),,VLOOKUP($C$18,'Val-Départ'!G40:AA40,11,FALSE)) -> 0 | C29: 0 | T29: Si je fais RECHERCHEV à partir du mot <<mobilier>> de la case E19
B30: =SUM(B19:B29) -> 3470.51 | C30: =SUM(C19:C29) -> 0 | F30: sd | G30: =B30-C30 -> 3470.51 | T30: recherche concidèrera (mobilier) comme 1er case
T31: 1395,67 sera donc à la 2ème case
B32: HTVA (D+)
A33: D+ | B33: 240 | C33: Mobilier | D33: C- | T33: 1395,67 est trouvé par : =rechercheV(E19;'Val-Départ'!E25:H32;2;FAUX)
A34: vi | B34: =IF(ISNA(VLOOKUP($C$33,'Val-Départ'!$T$3:$W$8,4,FALSE)),,VLOOKUP($C$33,'Val-Départ'!$T$3:$W$8,4,FALSE)) -> 1983.15 | C34: xxxxxxxxxx
A35: 35 | B35: =IF(ISNA(VLOOKUP(C$33,'Val-Départ'!G35:AA35,11,FALSE)),,VLOOKUP($C$33,'Val-Départ'!G35:AA35,11,FALSE)) -> 0
A36: 36 | B36: =IF(ISNA(VLOOKUP(C$33,'Val-Départ'!G36:AA36,11,FALSE)),,VLOOKUP($C$33,'Val-Départ'!G36:AA36,11,FALSE)) -> 0
A37: 37 | B37: =IF(ISNA(VLOOKUP(C$33,'Val-Départ'!G37:AA37,11,FALSE)),,VLOOKUP($C$33,'Val-Départ'!G37:AA37,11,FALSE)) -> 0
A38: 38 | B38: =IF(ISNA(VLOOKUP(C$33,'Val-Départ'!G38:AA38,11,FALSE)),,VLOOKUP($C$33,'Val-Départ'!G38:AA38,11,FALSE)) -> 0
A39: 39 | B39: =IF(ISNA(VLOOKUP(C$33,'Val-Départ'!G39:AA39,11,FALSE)),,VLOOKUP($C$33,'Val-Départ'!G39:AA39,11,FALSE)) -> 0
A40: 40 | B40: =IF(ISNA(VLOOKUP(C$33,'Val-Départ'!G40:AA40,11,FALSE)),,VLOOKUP($C$33,'Val-Départ'!G40:AA40,11,FALSE)) -> 0
A41: 41 | B41: =IF(ISNA(VLOOKUP(C$33,'Val-Départ'!G41:AA41,11,FALSE)),,VLOOKUP($C$33,'Val-Départ'!G41:AA41,11,FALSE)) -> 0
...

Sheet Jour. Achats-ventes
B2: Journal des VENTES du MOIS de : | G2: MARS
G3: TVAC | H3: HTVA
C4: N° PCMN | E4: CLIENTS 600 | H4: TVA
B5: N° de l'article | C5: N° du compte débité | D5: N° du compte crédité | G5: Montant Débit | H5: Montant crédit
C6: D | D6: C | G6: D | H6: C
D7: 700 | E7: Vente | F7: =IF(('Val-Départ'!G13=""),"",VLOOKUP('Val-Départ'!G13,'Val-Départ'!G13:L13,1,FALSE)) -> Emballage | H7: =IF(OR('Val-Départ'!G13="", 'Val-Départ'!G13=" note de crédit" ),"",VLOOKUP('Val-Départ'!G13,'Val-Départ'!G13:AA13,8,FALSE)) -> 1239.47
D8: 4510 | E8: Taxe | F8: TVA due | H8: =IF(('Val-Départ'!G13=""),"",VLOOKUP('Val-Départ'!G13,'Val-Départ'!G13:AA13,15,FALSE)) -> 260.2887
B9: =IF(('Val-Départ'!B13=""),"",VLOOKUP('Val-Départ'!B13,'Val-Départ'!B13:F13,1,FALSE)) -> C0001 | C9: 400 | E9: Client | F9: =IF(('Val-Départ'!B13=""),"",VLOOKUP('Val-Départ'!B13,'Val-Départ'!B13:F13,2,FALSE)) -> Nicolas | G9: =IF(OR('Val-Départ'!G13="", 'Val-Départ'!G13="note de crédit" ),"0",VLOOKUP('Val-Départ'!G13,'Val-Départ'!G13:AA13,14,FALSE)) -> 1499.7587 | J9: 13
E10: Vente | F10: =IF(('Val-Départ'!G14=""),"",VLOOKUP('Val-Départ'!G14,'Val-Départ'!G14:L14,1,FALSE)) -> Marchandise | H10: =IF(OR('Val-Départ'!G14="", 'Val-Départ'!G14=" note de crédit" ),"",VLOOKUP('Val-Départ'!G14,'Val-Départ'!G14:AA14,8,FALSE)) -> 921.92 | J10: 14
E11: Taxe | F11: TVA due | H11: =IF(('Val-Départ'!G14=""),"",VLOOKUP('Val-Départ'!G14,'Val-Départ'!G14:AA14,15,FALSE)) -> 193.6032 | J11: 15
B12: =IF(('Val-Départ'!B14=""),"",VLOOKUP('Val-Départ'!B14,'Val-Départ'!B14:F14,1,FALSE)) -> C0002 | E12: Client | F12: =IF(('Val-Départ'!B14=""),"",VLOOKUP('Val-Départ'!B14,'Val-Départ'!B14:F14,2,FALSE)) -> Vienneau | G12: =IF(OR('Val-Départ'!G14="", 'Val-Départ'!G14="note de crédit" ),"0",VLOOKUP('Val-Départ'!G14,'Val-Départ'!G14:AA14,14,FALSE)) -> 1115.5232 | J12: 16
E13: Vente | F13: =IF(('Val-Départ'!G15=""),"",VLOOKUP('Val-Départ'!G15,'Val-Départ'!G15:L15,1,FALSE)) -> 0 | H13: =IF(OR('Val-Départ'!G15="", 'Val-Départ'!G15=" note de crédit" ),"",VLOOKUP('Val-Départ'!G15,'Val-Départ'!G15:AA15,8,FALSE)) -> 0 | J13: 17
E14: Taxe | F14: TVA due | H14: =IF(('Val-Départ'!G15=""),"",VLOOKUP('Val-Départ'!G15,'Val-Départ'!G15:AA15,15,FALSE)) -> 0 | J14: 18
B15: =IF(('Val-Départ'!B15=""),"",VLOOKUP('Val-Départ'!B15,'Val-Départ'!B15:F15,1,FALSE)) -> C0003 | E15: Client | F15: =IF(('Val-Départ'!B15=""),"",VLOOKUP('Val-Départ'!B15,'Val-Départ'!B15:F15,2,FALSE)) -> Jacques | G15: =IF(OR('Val-Départ'!G15="", 'Val-Départ'!G15="note de crédit" ),"0",VLOOKUP('Val-Départ'!G15,'Val-Départ'!G15:AA15,14,FALSE)) -> 0 | J15: 19
E16: Vente | F16: =IF(('Val-Départ'!G16=""),"",VLOOKUP('Val-Départ'!G16,'Val-Départ'!G16:L16,1,FALSE)) -> 0 | H16: =IF(OR('Val-Départ'!G16="", 'Val-Départ'!G16=" note de crédit" ),"",VLOOKUP('Val-Départ'!G16,'Val-Départ'!G16:AA16,8,FALSE)) -> 0 | J16: 20
E17: Taxe | F17: TVA due | H17: =IF(('Val-Départ'!G16=""),"",VLOOKUP('Val-Départ'!G16,'Val-Départ'!G16:AA16,15,FALSE)) -> 0 | J17: 21
B18: =IF(('Val-Départ'!B16=""),"",VLOOKUP('Val-Départ'!B16,'Val-Départ'!B16:F16,1,FALSE)) | E18: Client | F18: =IF(('Val-Départ'!B16=""),"",VLOOKUP('Val-Départ'!B16,'Val-Départ'!B16:F16,2,FALSE)) | G18: =IF(OR('Val-Départ'!G16="", 'Val-Départ'!G16="note de crédit" ),"0",VLOOKUP('Val-Départ'!G16,'Val-Départ'!G16:AA16,14,FALSE)) -> 0 | J18: 22
E19: Vente | F19: =IF(('Val-Départ'!G17=""),"",VLOOKUP('Val-Départ'!G17,'Val-Départ'!G17:L17,1,FALSE)) -> Marchandise | H19: =IF(OR('Val-Départ'!G17="", 'Val-Départ'!G17=" note de crédit" ),"",VLOOKUP('Val-Départ'!G17,'Val-Départ'!G17:AA17,8,FALSE)) -> 0 | J19: 23
E20: Taxe | F20: TVA due | H20: =IF(('Val-Départ'!G17=""),"",VLOOKUP('Val-Départ'!G17,'Val-Départ'!G17:AA17,15,FALSE)) -> 0
B21: =IF(('Val-Départ'!B17=""),"",VLOOKUP('Val-Départ'!B17,'Val-Départ'!B17:F17,1,FALSE)) | E21: Client | F21: =IF(('Val-Départ'!B17=""),"",VLOOKUP('Val-Départ'!B17,'Val-Départ'!B17:F17,2,FALSE)) | G21: =IF(OR('Val-Départ'!G17="", 'Val-Départ'!G17="note de crédit" ),"0",VLOOKUP('Val-Départ'!G17,'Val-Départ'!G17:AA17,14,FALSE)) -> 0
E22: Vente | F22: =IF(('Val-Départ'!G18=""),"",VLOOKUP('Val-Départ'!G18,'Val-Départ'!G18:L18,1,FALSE)) -> 0 | H22: =IF(OR('Val-Départ'!G18="", 'Val-Départ'!G18=" note de crédit" ),"",VLOOKUP('Val-Départ'!G18,'Val-Départ'!G18:AA18,8,FALSE)) -> 0
E23: Taxe | F23: TVA due | H23: =IF(('Val-Départ'!G18=""),"",VLOOKUP('Val-Départ'!G18,'Val-Départ'!G18:AA18,15,FALSE)) -> 0
B24: =IF(('Val-Départ'!B18=""),"",VLOOKUP('Val-Départ'!B18,'Val-Départ'!B18:F18,1,FALSE)) | E24: Client | F24: =IF(('Val-Départ'!B18=""),"",VLOOKUP('Val-Départ'!B18,'Val-Départ'!B18:F18,2,FALSE)) | G24: =IF(OR('Val-Départ'!G18="", 'Val-Départ'!G18="note de crédit" ),"0",VLOOKUP('Val-Départ'!G18,'Val-Départ'!G18:AA18,14,FALSE)) -> 0
F25: =IF(('Val-Départ'!G19=""),"",VLOOKUP('Val-Départ'!G19,'Val-Départ'!G19:L19,1,FALSE)) -> 0 | H25: =IF(OR('Val-Départ'!G19="", 'Val-Départ'!G19=" note de crédit" ),"",VLOOKUP('Val-Départ'!G19,'Val-Départ'!G19:AA19,8,FALSE)) -> 0
E26: Taxe | F26: TVA due | H26: =IF(('Val-Départ'!G19=""),"",VLOOKUP('Val-Départ'!G19,'Val-Départ'!G19:AA19,15,FALSE)) -> 0
B27: =IF(('Val-Départ'!B19=""),"",VLOOKUP('Val-Départ'!B19,'Val-Départ'!B19:F19,1,FALSE)) | E27: Client | F27: =IF(('Val-Départ'!B19=""),"",VLOOKUP('Val-Départ'!B19,'Val-Départ'!B19:F19,2,FALSE)) | G27: =IF(OR('Val-Départ'!G19="", 'Val-Départ'!G19="note de crédit" ),"0",VLOOKUP('Val-Départ'!G19,'Val-Départ'!G19:AA19,14,FALSE)) -> 0
F28: =IF(('Val-Départ'!G20=""),"",VLOOKUP('Val-Départ'!G20,'Val-Départ'!G20:L20,1,FALSE)) -> 0 | H28: =IF(OR('Val-Départ'!G20="", 'Val-Départ'!G20=" note de crédit" ),"",VLOOKUP('Val-Départ'!G20,'Val-Départ'!G20:AA20,8,FALSE)) -> 0
E29: Taxe | F29: TVA due | H29: =IF(('Val-Départ'!G20=""),"",VLOOKUP('Val-Départ'!G20,'Val-Départ'!G20:AA20,15,FALSE)) -> 0
B30: =IF(('Val-Départ'!B20=""),"",VLOOKUP('Val-Départ'!B20,'Val-Départ'!B20:F20,1,FALSE)) | E30: Client | F30: =IF(('Val-Départ'!B20=""),"",VLOOKUP('Val-Départ'!B20,'Val-Départ'!B20:F20,2,FALSE)) | G30: =IF(OR('Val-Départ'!G20="", 'Val-Départ'!G20="note de crédit" ),"0",VLOOKUP('Val-Départ'!G20,'Val-Départ'!G20:AA20,14,FALSE)) -> 0
F31: =IF(('Val-Départ'!G21=""),"",VLOOKUP('Val-Départ'!G21,'Val-Départ'!G21:L21,1,FALSE)) -> 0 | H31: =IF(OR('Val-Départ'!G21="", 'Val-Départ'!G21=" note de crédit" ),"",VLOOKUP('Val-Départ'!G21,'Val-Départ'!G21:AA21,8,FALSE)) -> 0
E32: Taxe | F32: TVA due | H32: =IF(('Val-Départ'!G21=""),"",VLOOKUP('Val-Départ'!G21,'Val-Départ'!G21:AA21,15,FALSE)) -> 0
B33: =IF(('Val-Départ'!B21=""),"",VLOOKUP('Val-Départ'!B21,'Val-Départ'!B21:F21,1,FALSE)) | E33: Client | F33: =IF(('Val-Départ'!B21=""),"",VLOOKUP('Val-Départ'!B21,'Val-Départ'!B21:F21,2,FALSE)) | G33: =IF(OR('Val-Départ'!G21="", 'Val-Départ'!G21="note de crédit" ),"0",VLOOKUP('Val-Départ'!G21,'Val-Départ'!G21:AA21,14,FALSE)) -> 0
A34: 22 | F34: =IF(('Val-Départ'!G22=""),"",VLOOKUP('Val-Départ'!G22,'Val-Départ'!G22:L22,1,FALSE)) -> 0 | H34: =IF(OR('Val-Départ'!G22="", 'Val-Départ'!G22=" note de crédit" ),"",VLOOKUP('Val-Départ'!G22,'Val-Départ'!G22:AA22,8,FALSE)) -> 0
E35: Taxe | F35: TVA due | H35: =IF(('Val-Départ'!G22=""),"",VLOOKUP('Val-Départ'!G22,'Val-Départ'!G22:AA22,15,FALSE)) -> 0
B36: =IF(('Val-Départ'!B22=""),"",VLOOKUP('Val-Départ'!B22,'Val-Départ'!B22:F22,1,FALSE)) | E36: Client | F36: =IF(('Val-Départ'!B22=""),"",VLOOKUP('Val-Départ'!B22,'Val-Départ'!B22:F22,2,FALSE)) | G36: =IF(OR('Val-Départ'!G22="", 'Val-Départ'!G22="note de crédit" ),"0",VLOOKUP('Val-Départ'!G22,'Val-Départ'!G22:AA22,14,FALSE)) -> 0
A37: 23 | F37: =IF(('Val-Départ'!G23=""),"",VLOOKUP('Val-Départ'!G23,'Val-Départ'!G23:L23,1,FALSE)) -> 0 | H37: =IF(OR('Val-Départ'!G23="", 'Val-Départ'!G23=" note de crédit" ),"",VLOOKUP('Val-Départ'!G23,'Val-Départ'!G23:AA23,8,FALSE)) -> 0
E38: Taxe | F38: TVA due | H38: =IF(('Val-Départ'!G23=""),"",VLOOKUP('Val-Départ'!G23,'Val-Départ'!G23:AA23,15,FALSE)) -> 0
B39: =IF(('Val-Départ'!B23=""),"",VLOOKUP('Val-Départ'!B23,'Val-Départ'!B23:F23,1,FALSE)) | E39: Client | F39: =IF(('Val-Départ'!B23=""),"",VLOOKUP('Val-Départ'!B23,'Val-Départ'!B23:F23,2,FALSE)) | G39: =IF(OR('Val-Départ'!G23="", 'Val-Départ'!G23="note de crédit" ),"0",VLOOKUP('Val-Départ'!G23,'Val-Départ'!G23:AA23,14,FALSE)) -> 0
G40: =SUM(G9,G12,G15,G18,G21,G24,G27,G30,G33,G36,G39) -> 2615.2819 | H40: =SUM(H7,H10,H13,H16,H19,H22,H25,H28,H31,H34,H37) -> 2161.39 | I40: HTVA
H41: =SUM(H8,H11,H14,H17,H20,H23,H26,H29,H32,H35,H38) -> 453.8919 | I41: TVA due
...

Sheet PCMN
A1: CLASSE 1 : COMPTES DE CAPITAUX | B1: CLASSE 2 : COMPTES D’IMMOBILISATIONS | C1: CLASSE 3 : COMPTES DE STOCKS ET EN-COURS | D1: CLASSE 4 : COMPTES DE TIERS | E1: CLASSE 5 : COMPTES FINANCIERS | F1: CLASSE 6 : COMPTES DE CHARGES | G1: CLASSE 7 : COMPTES DE PRODUITS
A2: 170 - emprunt | B2: 231 - Machines | C2: 360 - Stock | D2: 400 - Client | E2: 550 - Banque | F2: 604 - achat marchandises | G2: 700 - ventes de marchandises
A3: 100 - CAPITAL souscrit | B3: 237 - Outillages | D3: 4110 - TVA à récup. | E3: 560 - Banque de la poste | F3: 6110 - Entretien -réparation | G3: 7001 - Vente intracommunautaire
B4: 240 - Mobilier | D4: 4114 - TVA à Récupérer pour note de crédit sur Achats | E4: 570 - Caisse | F4: 6122 - Livres | G4: 7002 - vente à l'exportation
B5: 241 - Matériel roulant | D5: 4111 -T.V.A. à payer: sur opérations intracommunautaires | F5: 6140 - publicité | G5: 7050 - prestation de service BE
D6: 4117 - Accompte versée | F6: 61210 - Belgacom | G6: 7051 - Prestations services intracomm.
D7: 440 - fournisseur | F7: 614 - Publicité | G7: 7052 - Prestations services exportation
D8: 4510 - T.V.A. à payer | F8: 6122 - Intracomm. Livres
D9: 451020 - TVA DUE intracommunautaire | F9: 611 - cocontractant
D10: 451030 - TVA DUE entretien immobilier
D11: 4513 -T.V.A. à payer: sur opérations cocontractant
D12: 4514 - TVA DUE pour note de crédit sur ventes
D13: 486 - Emballages
D14: 4512 - TVA due sur note de crédit
A19: 1- Sélectionnez PPCN!$A$1:$A$261 et nommez cette zone Plan1 (via le gestionnaire de noms, ou directement dans la zone au-dessus de la 1° colonne).
B20: Prendre uniquement la 1er rangée (mais voir ou s'arrete la rangée la plus longue)
A21: 2- Sélectionnez PPCN!$A$1:$G$1 et nommez cette zone Plan2
B22: prendre uniquement la 1er rangée de toutes les collones utilisées
A23: 3- Sélectionnez la zone Bal des comptes!B7:B21, données, validation, liste , la formule est :

Sheet PCMN1
A1: CLASSE 1 : COMPTES DE CAPITAUX | B1: CLASSE 2 : COMPTES D’IMMOBILISATIONS | C1: CLASSE 3 : COMPTES DE STOCKS ET EN-COURS | D1: CLASSE 4 : COMPTES DE TIERS | E1: CLASSE 5 : COMPTES FINANCIERS | F1: CLASSE 6 : COMPTES DE CHARGES | G1: CLASSE 7 : COMPTES DE PRODUITS | H1: Source : http://www.comptanat.fr/pcg/liste.htm
A2: 100 - CAPITAL souscrit | B2: 20 - IMMOBILISATIONS INCORPORELLES | C2: 31 - MATIERES PREMIERES (ET FOURNITURES) | D2: 40 - FOURNISSEURS ET COMPTES RATTACHES | E2: 50 - VALEURS MOBILIERES DE PLACEMENT | F2: 60 - ACHATS (sauf 603) | G2: 70 - VENTES DE PRODUITS FABRIQUES, PRESTATIONS DE SERVICES, MARCHANDISES
A3: 101 - Capital | B3: 201 - Frais d’établissement | C3: 311 - Matières (ou groupe) A | D3: 400 - Fournisseurs et Comptes rattachés | E3: 501 - Parts dans des entreprises liées | F3: 601 - Achats stockés - Matières premières (et fournitures) | G3: 701 - Ventes de produits finis
A4: 1011 - Capital souscrit - non appelé | B4: 2011 - Frais de constitution | C4: 312 - Matières (ou groupe) B | D4: 401 - Fournisseurs | E4: 502 - Actions propres | F4: 6011 - Matières (ou groupe) A | G4: 7011 - Produits finis (ou groupe) A
A5: 1012 - Capital souscrit - appelé, non versé | B5: 2012 - Frais de premier établissement | C5: 317 - Fournitures A, B, C, ... | D5: 4011 - Fournisseurs - Achats de biens et prestations de services | E5: 502-1 Actions destinées à être attribuées aux employés et affectées à des plans déterminés | F5: 6012 - Matières (ou groupe) B | G5: 7012 - Produits finis (ou groupe) B
A6: 1013 - Capital souscrit - appelé, versé | B6: 20121 - Frais de prospection | C6: 32 - AUTRES APPROVISIONNEMENTS | D6: 4017 - Fournisseurs - Retenues de garantie | E6: 502-2 Actions disponibles pour être attribuées aux employés ou pour la régularisation des cours de bourse | F6: 6017 - Fournitures A, B, C, ... | G6: 702 - Ventes de produits intermédiaires
A7: 10131 - Capital non amorti | B7: 20122 - Frais de publicité | C7: 321 - Matières consommables | D7: 403 - Fournisseurs - Effets à payer | E7: 503 - Actions | F7: 602 - Achats stockés - Autres approvisionnements | G7: 703 - Ventes de produits résiduels
A8: 10132 - Capital amorti | B8: 2013 - Frais d’augmentation de capital et d’opérations diverses (fusions, scissions, transformations) | C8: 3211 - Matières (ou groupe) C | D8: 404 - Fournisseurs d’immobilisations | E8: 5031 - Titres cotés | F8: 6021 - Matières consommables | G8: 704 - Travaux
A9: 1018 - Capital souscrit soumis à des réglementations particulières | B9: 203 - Frais de recherche et de développement | C9: 3212 - Matières (ou groupe) D | D9: 4041 - Fournisseurs - Achats d’immobilisations | E9: 5035 - Titres non cotés | F9: 60211 - Matières (ou groupe) C | G9: 7041 - Travaux de catégorie (ou activité) A
A10: 102 - Fonds fiduciaires | B10: 205 - Concessions et droits similaires, brevets, licences, marques, procédés, logiciels, droits et valeurs similaires | C10: 322 - Fournitures consommables | D10: 4047 - Fournisseurs d’immobilisations - Retenues de garantie | E10: 504 - Autres titres conférant un droit de propriété | F10: 60212 - Matières (ou groupe) D | G10: 7042 - Travaux de catégorie (ou activité) B
A11: 104 - Primes liées au capital social | B11: 206 - Droit au bail | C11: 3221 - Combustibles | D11: 405 - Fournisseurs d’immobilisations - Effets à payer | E11: 505 - Obligations et bons émis par la société et rachetés par elle | F11: 6022 - Fournitures consommables | G11: 705 - Études
A12: 1041 - Primes d’émission | B12: 207 - Fonds commercial | C12: 3222 - Produits d’entretien | D12: 408 - Fournisseurs - Factures non parvenues | E12: 506 - Obligations | F12: 60221 - Combustibles | G12: 706 - Prestations de services
A13: 1042 - Primes de fusion | B13: 2071 – Ecart résiduel sur fonds agricole | C13: 3223 - Fournitures d’atelier et d’usine | D13: 4081 - Fournisseurs | E13: 5061 - Titres cotés | F13: 60222 - Produits d’entretien | G13: 707 - Ventes de marchandises
... A55: 1318 - Autres | B55: 218 - Autres immobilisations corporelles | C55: 392 - Dépréciations des autres approvisionnements (Règlement n° 2005-09 du CRC) | D55: 438 - Organismes sociaux - Charges à payer et produits à recevoir | E55: 5908 - Autres valeurs mobilières de placement et créances assimilées | F55: 615 - Entretien et réparations | G55: 7518 - Autres droits et valeurs similaires
A56: 138 - Autres subventions d’investissement (même ventilation que celle du compte 131) | B56: 2181 - Installations générales, agencements, aménagements divers | C56: 3921 - Matières consommables (même ventilation que celle du compte 321) | D56: 4382 - Charges sociales sur congés à payer | F56: 6152 - sur biens immobiliers | G56: 752 - Revenus des immeubles non affectés à des activités professionnelles
A57: 139 - Subventions d’investissement inscrites au compte de résultat | B57: 2182 - Matériel de transport | C57: 3922 - Fournitures consommables (même ventilation que celle du compte 322) | D57: 4386 - Autres charges à payer | F57: 6155 - sur biens mobiliers | G57: 753 - Jetons de présence et rémunérations d’administrateurs, gérants
A58: 1391 - Subventions d’équipement | B58: 2183 - Matériel de bureau et matériel informatique | C58: 3926 - Emballages (même ventilation que celle du compte 326) | D58: 4387 - Produits à recevoir | F58: 6156 - Maintenance | G58: 754 - Ristournes perçues des coopératives (provenant des excédents)
A59: 13911 - État | B59: 2184 - Mobilier | C59: 393 - Dépréciations des en-cours de production de biens (Règlement n°2005-09 du CRC) | D59: 44 - ETAT ET AUTRES COLLECTIVITES PUBLIQUES | F59: 616 - Primes d’assurances | G59: 755 - Quotes-parts de résultat sur opérations faites en commun
A60: 13912 - Régions | B60: 2185 - Cheptel | C60: 3931 - Produits en cours (même ventilation que celle du compte 331) | D60: 441 - Etat - Subventions à recevoir | F60: 6161 - Multirisques | G60: 7551 - Quote-part de perte transférée (comptabilité du gérant)
