Workbook

Sheet Données
A1: Fiche PA | B1: EL | C1: Optimum | D1: EL | E1: Geofibre | F1: EL | G1: IPON | H1: EL
A2: IMB/33318/S/085R | B2: 1 | C2: IMB/33318/S/085R | D2: 1 | E2: IMB/33318/S/085R | F2: 1 | G2: IMB/33318/S/085R | H2: 1
A3: IMB/33318/S/084X | B3: 1 | C3: IMB/33318/S/084X | D3: 1 | E3: IMB/33318/S/084X | F3: 1 | G3: IMB/33318/S/084X | H3: 1
A4: IMB/33318/S/084U | B4: 1 | C4: IMB/33318/S/084U | D4: 1 | E4: IMB/33318/S/084U | F4: 1 | G4: IMB/33318/S/084U | H4: 1
A5: IMB/33318/S/0845 | B5: 1 | C5: IMB/33318/S/0845 | D5: 1 | E5: IMB/33318/S/0845 | F5: 1 | G5: IMB/33318/S/0845 | H5: 1
A6: IMB/33318/C/083O | B6: 1 | C6: IMB/33318/C/083O | D6: 1 | E6: IMB/33318/C/083O | F6: 1 | G6: IMB/33318/C/083O | H6: 1
A7: IMB/33318/S/0838 | B7: 1 | C7: IMB/33318/S/0838 | D7: 1 | E7: IMB/33318/S/0838 | F7: 1 | G7: IMB/33318/S/0838 | H7: 1
A8: IMB/33318/C/082B | B8: 1 | C8: IMB/33318/C/082B | D8: 1 | E8: IMB/33318/C/082B | F8: 1 | G8: IMB/33318/C/082B | H8: 1
A9: IMB/33318/C/082C | B9: 1 | C9: IMB/33318/C/082C | D9: 1 | E9: IMB/33318/C/082C | F9: 1 | G9: IMB/33318/C/082C | H9: 1
A10: IMB/33318/C/0818 | B10: 1 | C10: IMB/33318/C/0818 | D10: 1 | E10: IMB/33318/C/0818 | F10: 1 | G10: IMB/33318/C/0818 | H10: 1
A11: IMB/33318/S/080F | B11: 1 | C11: IMB/33318/S/080F | D11: 1 | E11: IMB/33318/S/080F | F11: 1 | G11: IMB/33318/S/080F | H11: 1
A12: IMB/33318/S/07ZP | B12: 1 | C12: IMB/33318/S/07ZP | D12: 1 | E12: IMB/33318/S/07ZP | F12: 1 | G12: IMB/33318/S/07ZP | H12: 1
A13: IMB/33318/S/07YY | B13: 2 | C13: IMB/33318/S/07YY | D13: 2 | E13: IMB/33318/S/07YY | F13: 2 | G13: IMB/33318/S/07YY | H13: 2
... A52: IMB/33318/S/07P8 | B52: 1 | C52: IMB/33318/S/07P8 | D52: 1 | E52: IMB/33318/S/07P8 | F52: 1 | G52: IMB/33318/S/07P8 | H52: 1

Sheet Résultats Optimum
A1: Fiche PA | C1: Optimum
A2: =Données!A2&" "&Données!B2 -> IMB/33318/S/085R 1 | C2: =Données!C2&" "&Données!D2 -> IMB/33318/S/085R 1
A3: =Données!A3&" "&Données!B3 -> IMB/33318/S/084X 1 | C3: =Données!C3&" "&Données!D3 -> IMB/33318/S/084X 1
A4: =Données!A4&" "&Données!B4 -> IMB/33318/S/084U 1 | C4: =Données!C4&" "&Données!D4 -> IMB/33318/S/084U 1
A5: =Données!A5&" "&Données!B5 -> IMB/33318/S/0845 1 | C5: =Données!C5&" "&Données!D5 -> IMB/33318/S/0845 1
A6: =Données!A6&" "&Données!B6 -> IMB/33318/C/083O 1 | C6: =Données!C6&" "&Données!D6 -> IMB/33318/C/083O 1
A7: =Données!A7&" "&Données!B7 -> IMB/33318/S/0838 1 | C7: =Données!C7&" "&Données!D7 -> IMB/33318/S/0838 1
A8: =Données!A8&" "&Données!B8 -> IMB/33318/C/082B 1 | C8: =Données!C8&" "&Données!D8 -> IMB/33318/C/082B 1
A9: =Données!A9&" "&Données!B9 -> IMB/33318/C/082C 1 | C9: =Données!C9&" "&Données!D9 -> IMB/33318/C/082C 1
A10: =Données!A10&" "&Données!B10 -> IMB/33318/C/0818 1 | C10: =Données!C10&" "&Données!D10 -> IMB/33318/C/0818 1
A11: =Données!A11&" "&Données!B11 -> IMB/33318/S/080F 1 | C11: =Données!C11&" "&Données!D11 -> IMB/33318/S/080F 1
A12: =Données!A12&" "&Données!B12 -> IMB/33318/S/07ZP 1 | C12: =Données!C12&" "&Données!D12 -> IMB/33318/S/07ZP 1
A13: =Données!A13&" "&Données!B13 -> IMB/33318/S/07YY 2 | C13: =Données!C13&" "&Données!D13 -> IMB/33318/S/07YY 2
... A280: =Données!A280&" "&Données!B280 | C280: =Données!C280&" "&Données!D280

Sheet Résultats Geofibre
A1: Fiche PA | C1: Geofibre
A2: =Données!A2&" "&Données!B2 -> IMB/33318/S/085R 1 | C2: =Données!E2&" "&Données!F2 -> IMB/33318/S/085R 1
A3: =Données!A3&" "&Données!B3 -> IMB/33318/S/084X 1 | C3: =Données!E3&" "&Données!F3 -> IMB/33318/S/084X 1
A4: =Données!A4&" "&Données!B4 -> IMB/33318/S/084U 1 | C4: =Données!E4&" "&Données!F4 -> IMB/33318/S/084U 1
A5: =Données!A5&" "&Données!B5 -> IMB/33318/S/0845 1 | C5: =Données!E5&" "&Données!F5 -> IMB/33318/S/0845 1
A6: =Données!A6&" "&Données!B6 -> IMB/33318/C/083O 1 | C6: =Données!E6&" "&Données!F6 -> IMB/33318/C/083O 1
A7: =Données!A7&" "&Données!B7 -> IMB/33318/S/0838 1 | C7: =Données!E7&" "&Données!F7 -> IMB/33318/S/0838 1
A8: =Données!A8&" "&Données!B8 -> IMB/33318/C/082B 1 | C8: =Données!E8&" "&Données!F8 -> IMB/33318/C/082B 1
A9: =Données!A9&" "&Données!B9 -> IMB/33318/C/082C 1 | C9: =Données!E9&" "&Données!F9 -> IMB/33318/C/082C 1
A10: =Données!A10&" "&Données!B10 -> IMB/33318/C/0818 1 | C10: =Données!E10&" "&Données!F10 -> IMB/33318/C/0818 1
A11: =Données!A11&" "&Données!B11 -> IMB/33318/S/080F 1 | C11: =Données!E11&" "&Données!F11 -> IMB/33318/S/080F 1
A12: =Données!A12&" "&Données!B12 -> IMB/33318/S/07ZP 1 | C12: =Données!E12&" "&Données!F12 -> IMB/33318/S/07ZP 1
A13: =Données!A13&" "&Données!B13 -> IMB/33318/S/07YY 2 | C13: =Données!E13&" "&Données!F13 -> IMB/33318/S/07YY 2
... A280: =Données!A280&" "&Données!B280 | C280: =Données!E280&" "&Données!F280

Sheet Résultats IPON
A1: Fiche PA | C1: IPON
A2: =Données!A2&" "&Données!B2 -> IMB/33318/S/085R 1 | C2: =Données!G2&" "&Données!H2 -> IMB/33318/S/085R 1
A3: =Données!A3&" "&Données!B3 -> IMB/33318/S/084X 1 | C3: =Données!G3&" "&Données!H3 -> IMB/33318/S/084X 1
A4: =Données!A4&" "&Données!B4 -> IMB/33318/S/084U 1 | C4: =Données!G4&" "&Données!H4 -> IMB/33318/S/084U 1
A5: =Données!A5&" "&Données!B5 -> IMB/33318/S/0845 1 | C5: =Données!G5&" "&Données!H5 -> IMB/33318/S/0845 1
A6: =Données!A6&" "&Données!B6 -> IMB/33318/C/083O 1 | C6: =Données!G6&" "&Données!H6 -> IMB/33318/C/083O 1
A7: =Données!A7&" "&Données!B7 -> IMB/33318/S/0838 1 | C7: =Données!G7&" "&Données!H7 -> IMB/33318/S/0838 1
A8: =Données!A8&" "&Données!B8 -> IMB/33318/C/082B 1 | C8: =Données!G8&" "&Données!H8 -> IMB/33318/C/082B 1
A9: =Données!A9&" "&Données!B9 -> IMB/33318/C/082C 1 | C9: =Données!G9&" "&Données!H9 -> IMB/33318/C/082C 1
A10: =Données!A10&" "&Données!B10 -> IMB/33318/C/0818 1 | C10: =Données!G10&" "&Données!H10 -> IMB/33318/C/0818 1
A11: =Données!A11&" "&Données!B11 -> IMB/33318/S/080F 1 | C11: =Données!G11&" "&Données!H11 -> IMB/33318/S/080F 1
A12: =Données!A12&" "&Données!B12 -> IMB/33318/S/07ZP 1 | C12: =Données!G12&" "&Données!H12 -> IMB/33318/S/07ZP 1
A13: =Données!A13&" "&Données!B13 -> IMB/33318/S/07YY 2 | C13: =Données!G13&" "&Données!H13 -> IMB/33318/S/07YY 2
... A280: =Données!A280&" "&Données!B280 | C280: =Données!G280&" "&Données!H280
