Workbook
Name ColD1: OFFSET(Param,,6)
Name ColD2: OFFSET(Param,,11)
Name ColS: OFFSET(Param,,1)
Name ColSH: OFFSET(Param,,26)
Name ColUF1: OFFSET(Param,,16)
Name ColUF2: OFFSET(Param,,21)
Name DatesD: OFFSET(#REF!,,,COUNTA(#REF!))
Name DatesS: OFFSET(Sivom!$A$26,,,COUNTA(Sivom!$A$26:$A$283))
Name DatesSH: OFFSET(#REF!,,,COUNTA(#REF!))
Name DatesUF: OFFSET(#REF!,,,COUNTA(#REF!))
Name Param: OFFSET(Parametres!$B$5,,,COUNTA(Parametres!$B:$B))
Name Seuil2D1: OFFSET(Param,,8)
Name Seuil2D2: OFFSET(Param,,13)
Name Seuil2SH: OFFSET(Param,,28)
Name Seuil2UF1: OFFSET(Param,,18)
Name Seuil2UF2: OFFSET(Param,,23)
Name SeuilD1: OFFSET(Param,,7)
Name SeuilD2: OFFSET(Param,,12)
Name SeuilS: OFFSET(Param,,2)
Name SeuilS2: OFFSET(Param,,3)
Name SeuilSH: OFFSET(Param,,26)
Name SeuilUF1: OFFSET(Param,,17)
Name SeuilUF2: OFFSET(Param,,22)

Sheet Parametres
B1: Paramètres
B2: Année : | C2: 42370
B3: Sivom | G3: Station Degrémont Entrée | L3: Station Degrémont Sortie | Q3: Station UF Entrée | V3: Station UF Sortie | AA3: Station des Huiles
B4: Intitulés | C4: N° colonne | D4: Seuil | E4: Seuil 2 | G4: Intitulés | H4: N° colonne | I4: Seuil | J4: Seuil 2 | L4: Intitulés | M4: N° colonne | N4: Seuil | O4: Seuil 2 | Q4: Intitulés | R4: N° colonne | S4: Seuil | T4: Seuil 2 | V4: Intitulés | W4: N° colonne | X4: Seuil | Y4: Seuil 2 | AA4: Intitulés | AB4: N° colonne | AC4: Seuil | AD4: Seuil 2
B5: Débit | C5: =COLUMN(Sivom!B15)-1 -> 1 | D5: 4800 | E5: 100000000 | G5: =B5 -> Débit | H5: =COLUMN(#REF!)-1 -> #REF! | I5: 1000 | L5: =B5 -> Débit | M5: =COLUMN(#REF!)-1 -> #REF! | Q5: =B5 -> Débit | V5: =B5 -> Débit | AA5: =B5 -> Débit | AB5: =COLUMN(#REF!)-1 -> #REF!
B6: pH | C6: =COLUMN(Sivom!D15)-1 -> 3 | D6: 5,5-8,5 | E6: 100000000 | G6: =B6 -> pH | H6: =COLUMN(#REF!)-1 -> #REF! | L6: =B6 -> pH | M6: =COLUMN(#REF!)-1 -> #REF! | Q6: =B6 -> pH | V6: =B6 -> pH | AA6: =B6 -> pH
B7: DCO | C7: =COLUMN(Sivom!E15)-1 -> 4 | D7: 1750 | E7: 100000000 | G7: =B7 -> DCO | H7: =COLUMN(#REF!)-1 -> #REF! | I7: 5000 | L7: =B7 -> DCO | M7: =COLUMN(#REF!)-1 -> #REF! | N7: 2000 | O7: 2500 | Q7: =B7 -> DCO | V7: =B7 -> DCO | AA7: =B7 -> DCO | AB7: =COLUMN(#REF!)-1 -> #REF! | AC7: 17000 | AD7: 26000
B8: DCO à D2 | C8: =COLUMN(Sivom!I15)-1 -> 8 | D8: 100000000 | E8: 100000000 | G8: =B8 -> DCO à D2 | H8: =COLUMN(#REF!)-1 -> #REF! | L8: =B8 -> DCO à D2 | Q8: =B8 -> DCO à D2 | V8: =B8 -> DCO à D2 | AA8: =B8 -> DCO à D2
B9: MES | C9: =COLUMN(Sivom!O15)-1 -> 14 | D9: 400 | E9: 100000000 | G9: =B9 -> MES | H9: =COLUMN(#REF!)-1 -> #REF! | I9: 4000 | L9: =B9 -> MES | M9: =COLUMN(#REF!)-1 -> #REF! | N9: 55 | O9: 110 | Q9: =B9 -> MES | V9: =B9 -> MES | AA9: =B9 -> MES | AB9: =COLUMN(#REF!)-1 -> #REF! | AC9: 2600 | AD9: 5000
B10: Ptotal | C10: =COLUMN(Sivom!T15)-1 -> 19 | D10: 15 | E10: 100000000 | G10: =B10 -> Ptotal | H10: =COLUMN(#REF!)-1 -> #REF! | I10: 500 | L10: =B10 -> Ptotal | M10: =COLUMN(#REF!)-1 -> #REF! | N10: 20 | O10: 40 | Q10: =B10 -> Ptotal | V10: =B10 -> Ptotal | AA10: =B10 -> Ptotal
B11: NTK | C11: =COLUMN(Sivom!AA15)-1 -> 26 | D11: 100000000 | E11: 100000000 | G11: =B11 -> NTK | H11: =COLUMN(#REF!)-1 -> #REF! | L11: =B11 -> NTK | M11: =COLUMN(#REF!)-1 -> #REF! | Q11: =B11 -> NTK | V11: =B11 -> NTK | AA11: =B11 -> NTK
B12: NH4 | C12: =COLUMN(Sivom!AC15)-1 -> 28 | D12: 100000000 | E12: 100000000 | G12: =B12 -> NH4 | L12: =B12 -> NH4 | Q12: =B12 -> NH4 | V12: =B12 -> NH4 | AA12: =B12 -> NH4
B13: NO2 | C13: =COLUMN(Sivom!AE15)-1 -> 30 | D13: 100000000 | E13: 100000000 | G13: =B13 -> NO2 | L13: =B13 -> NO2 | Q13: =B13 -> NO2 | V13: =B13 -> NO2 | AA13: =B13 -> NO2
B14: NO3 | C14: =COLUMN(Sivom!AG15)-1 -> 32 | D14: 100000000 | E14: 100000000 | G14: =B14 -> NO3 | L14: =B14 -> NO3 | Q14: =B14 -> NO3 | V14: =B14 -> NO3 | AA14: =B14 -> NO3
B15: Aluminium | C15: =COLUMN(Sivom!AO15)-1 -> 40 | D15: 5 | E15: 100000000 | G15: =B15 -> Aluminium | H15: =COLUMN(#REF!)-1 -> #REF! | I15: 50 | L15: =B15 -> Aluminium | M15: =COLUMN(#REF!)-1 -> #REF! | N15: 3 | O15: 5 | Q15: =B15 -> Aluminium | V15: =B15 -> Aluminium | AA15: =B15 -> Aluminium
B16: Chrome total | C16: =COLUMN(Sivom!AQ15)-1 -> 42 | D16: 5 | E16: 100000000 | G16: =B16 -> Chrome total | H16: =COLUMN(#REF!)-1 -> #REF! | I16: 5 | L16: =B16 -> Chrome total | M16: =COLUMN(#REF!)-1 -> #REF! | N16: 0.3 | O16: 3 | Q16: =B16 -> Chrome total | V16: =B16 -> Chrome total | AA16: =B16 -> Chrome total
B17: Chrome 6+ | C17: =COLUMN(Sivom!AT15)-1 -> 45 | D17: 3 | E17: 100000000 | G17: =B17 -> Chrome 6+ | H17: =COLUMN(#REF!)-1 -> #REF! | L17: =B17 -> Chrome 6+ | M17: =COLUMN(#REF!)-1 -> #REF! | N17: 0.1 | O17: 0.1 | Q17: =B17 -> Chrome 6+ | V17: =B17 -> Chrome 6+ | AA17: =B17 -> Chrome 6+
B18: Cuivre | C18: =COLUMN(Sivom!AX15)-1 -> 49 | D18: 0.5 | E18: 100000000 | G18: =B18 -> Cuivre | H18: =COLUMN(#REF!)-1 -> #REF! | I18: 3 | L18: =B18 -> Cuivre | M18: =COLUMN(#REF!)-1 -> #REF! | N18: 0.3 | O18: 2 | Q18: =B18 -> Cuivre | V18: =B18 -> Cuivre | AA18: =B18 -> Cuivre
B19: Fer | C19: =COLUMN(Sivom!BA15)-1 -> 52 | D19: 5 | E19: 100000000 | G19: =B19 -> Fer | H19: =COLUMN(#REF!)-1 -> #REF! | I19: 60 | L19: =B19 -> Fer | M19: =COLUMN(#REF!)-1 -> #REF! | N19: 2 | O19: 5 | Q19: =B19 -> Fer | V19: =B19 -> Fer | AA19: =B19 -> Fer
B20: Manganèse | C20: =COLUMN(Sivom!BD15)-1 -> 55 | D20: 1 | E20: 100000000 | G20: =B20 -> Manganèse | H20: =COLUMN(#REF!)-1 -> #REF! | I20: 40 | L20: =B20 -> Manganèse | M20: =COLUMN(#REF!)-1 -> #REF! | N20: 1 | Q20: =B20 -> Manganèse | V20: =B20 -> Manganèse | AA20: =B20 -> Manganèse
B21: Nickel | C21: =COLUMN(Sivom!BF15)-1 -> 57 | D21: 0.5 | E21: 100000000 | G21: =B21 -> Nickel | H21: =COLUMN(#REF!)-1 -> #REF! | I21: 30 | L21: =B21 -> Nickel | M21: =COLUMN(#REF!)-1 -> #REF! | N21: 2 | O21: 5 | Q21: =B21 -> Nickel | V21: =B21 -> Nickel | AA21: =B21 -> Nickel
B22: Plomb | C22: =COLUMN(Sivom!BI15)-1 -> 60 | D22: 0.5 | E22: 100000000 | G22: =B22 -> Plomb | H22: =COLUMN(#REF!)-1 -> #REF! | I22: 0.3 | L22: =B22 -> Plomb | M22: =COLUMN(#REF!)-1 -> #REF! | N22: 0.2 | O22: 1 | Q22: =B22 -> Plomb | V22: =B22 -> Plomb | AA22: =B22 -> Plomb
B23: Zinc | C23: =COLUMN(Sivom!BM15)-1 -> 64 | D23: 2 | E23: 100000000 | G23: =B23 -> Zinc | H23: =COLUMN(#REF!)-1 -> #REF! | I23: 90 | L23: =B23 -> Zinc | M23: =COLUMN(#REF!)-1 -> #REF! | N23: 2 | O23: 5 | Q23: =B23 -> Zinc | V23: =B23 -> Zinc | AA23: =B23 -> Zinc
B24: Hydrocarbure | C24: =COLUMN(Sivom!AL15)-1 -> 37 | D24: 10 | E24: 20 | G24: =B24 -> Hydrocarbure | L24: =B24 -> Hydrocarbure | Q24: =B24 -> Hydrocarbure | V24: =B24 -> Hydrocarbure | AA24: =B24 -> Hydrocarbure | AB24: =COLUMN(#REF!)-1 -> #REF! | AC24: 500 | AD24: 700
B25: N global | C25: =COLUMN(Sivom!AI15)-1 -> 34 | D25: 75 | E25: 100000000 | G25: =B25 -> N global | L25: =B25 -> N global | M25: =COLUMN(#REF!)-1 -> #REF! | Q25: =B25 -> N global | V25: =B25 -> N global | AA25: =B25 -> N global
B26: DBO 5 | C26: =COLUMN(Sivom!M15)-1 -> 12 | D26: 450 | E26: 100000000 | G26: =B26 -> DBO 5 | L26: =B26 -> DBO 5 | Q26: =B26 -> DBO 5 | V26: =B26 -> DBO 5 | AA26: =B26 -> DBO 5
B27: température | C27: =COLUMN(Sivom!C15)-1 -> 2 | D27: 30 | E27: 100000000 | G27: =B27 -> température | L27: =B27 -> température | Q27: =B27 -> température | V27: =B27 -> température | AA27: =B27 -> température
B28: Fluorure | C28: =COLUMN(Sivom!X15)-1 -> 23 | D28: 10 | E28: 100000000 | G28: =B28 -> Fluorure | L28: =B28 -> Fluorure | Q28: =B28 -> Fluorure | V28: =B28 -> Fluorure | AA28: =B28 -> Fluorure
B29: Somme total métaux | E29: 100000000 | G29: =B29 -> Somme total métaux | L29: =B29 -> Somme total métaux | N29: 15 | Q29: =B29 -> Somme total métaux | V29: =B29 -> Somme total métaux | AA29: =B29 -> Somme total métaux
B30: Rendement DCO | E30: 100000000 | G30: =B30 -> Rendement DCO | L30: =B30 -> Rendement DCO | Q30: =B30 -> Rendement DCO | V30: =B30 -> Rendement DCO | X30: > 95 | AA30: =B30 -> Rendement DCO
B31: Rendement MES | E31: 100000000 | G31: =B31 -> Rendement MES | L31: =B31 -> Rendement MES | Q31: =B31 -> Rendement MES | V31: =B31 -> Rendement MES | X31: > 98 | AA31: =B31 -> Rendement MES
B33: 1 | C33: 2 | D33: 3 | E33: 4 | F33: 5 | G33: 6 | H33: 7 | I33: 8 | J33: 9 | K33: 10 | L33: 11 | M33: 12 | N33: 13 | O33: 14 | P33: 15 | Q33: 16 | R33: 17 | S33: 18 | T33: 19 | U33: 20 | V33: 21 | W33: 22 | X33: 23 | Y33: 24 | Z33: 25 | AA33: 26 | AB33: 27 | AC33: 28 | AD33: 29

Sheet Sivom
A1: 0 | B1: 1 | C1: 2 | D1: 3 | E1: 4 | F1: 5 | G1: 6 | H1: 7 | I1: 8 | J1: 9 | K1: 10 | L1: 11 | M1: 12 | N1: 13 | O1: 14 | P1: 15 | Q1: 16 | R1: 17 | S1: 18 | T1: 19 | U1: 20 | V1: 21 | W1: 22 | AA1: 23 | AB1: 24 | AC1: 25 | AD1: 26 | AE1: 27 | AF1: 28 | AG1: 29 | AH1: 30 | AI1: 31 | AJ1: 32 | AL1: 33 | AM1: 34 | AN1: 35 | AO1: 36 | AP1: 37 | AQ1: 39 | AR1: 40 | AS1: 41 | AT1: 43 | AU1: 44 | AV1: 45 | AW1: 46 | AX1: 47 | AY1: 48 | AZ1: 50 | BA1: 51 | BB1: 52 | BC1: 54 | BD1: 55 | BE1: 56 | BF1: 58 | BG1: 59 | BH1: 60 | BI1: 62 | BJ1: 63 | BK1: 64 | BL1: 66 | BM1: 67 | BN1: 68
B2: Sivom
A4: Code couleur :
A5: xxx | D5: valeur> au DTG (Domaine de Traitement de Garanti) | S5: xxx | U5: valeurs à renseigner par l'IPL
A6: xxx | D6: valeur > à 95% du DTG | S6: xxx | U6: rendement inférieur à la normale
A7: xxx | D7: valeur > à la convention avec PSA | S7: xxx | U7: rendement nettement supérieur à la normale
A8: xxx | D8: valeur donnant lieu à une pénalité
A10: SIVOM | B10: Suivi des analyses SIVOM
A12: Année: | B12: =Parametres!C2 -> 42370
A15: Paramètre | B15: Débit | D15: pH | E15: DCO | I15: DCO à D2 | M15: DBO 5 | O15: MES | T15: Ptotal | X15: Fluorure | AA15: NTK | AC15: NH4 | AE15: NO2 | AG15: NO3 | AI15: N global | AK15: Hydrocarbure | AN15: Aluminium | AQ15: Chrome total | AT15: Chrome 6+ | AW15: Cuivre | AZ15: Fer | BC15: Manganèse | BF15: Nickel | BI15: Plomb | BL15: Zinc | BO15: Dégrilleur | BP15: Validation | BQ15: Observations
A16: Date | B16: Canal de mesure m³/j | C16: Température °C | E16: Dilution | F16: Valeur lue mg/L | G16: Résultat mg/L | H16: kg/j | I16: Dilution | J16: Valeur lue mg/L | K16: Résultat mg/L | L16: kg/j | M16: Résultat mg/L | N16: kg/j | O16: Masse filtre vide mg | P16: Masse filtre après séchage mg | Q16: Volume filtré ml ou g | R16: Résultat mg/L | S16: kg/j | T16: Dilution | U16: Valeur lue mg/L | V16: Résultat mg/L | W16: kg/j | X16: Résultat mg/L | Z16: kg/j | AA16: Résultat mg/L | AB16: kg/j | AC16: Résultat mg/L | AD16: kg/j | AE16: Résultat mg/L | AF16: kg/j | AG16: Résultat mg/L | AH16: kg/j | AI16: Résultat mg/L | AJ16: kg/j | AK16: Résultat mg/L | AM16: kg/j | AN16: Résultat mg/L | AP16: kg/j | AQ16: Résultat mg/L | AS16: kg/j | AT16: Résultat mg/L | AV16: kg/j | AW16: Résultat mg/L | AY16: kg/j | AZ16: Résultat mg/L | BB16: kg/j | BC16: Résultat mg/L | BE16: kg/j | BF16: Résultat mg/L | BH16: kg/j | BI16: Résultat mg/L | BK16: kg/j | BL16: Résultat mg/L | BN16: kg/j
A17: Seuil | B17: =INDEX(SeuilS,MATCH(B$15,Param,0)) -> 4800 | D17: =INDEX(SeuilS,MATCH(D$15,Param,0)) -> 5,5-8,5 | E17: =INDEX(SeuilS,MATCH(E$15,Param,0)) -> 1750 | I17: =INDEX(SeuilS,MATCH(I$15,Param,0)) -> 100000000 | M17: =INDEX(SeuilS,MATCH(M$15,Param,0)) -> 450 | O17: =INDEX(SeuilS,MATCH(O$15,Param,0)) -> 400 | T17: =INDEX(SeuilS,MATCH(T$15,Param,0)) -> 15 | X17: =INDEX(SeuilS,MATCH(X$15,Param,0)) -> 10 | AA17: =INDEX(SeuilS,MATCH(AA$15,Param,0)) -> 100000000 | AC17: =INDEX(SeuilS,MATCH(AC$15,Param,0)) -> 100000000 | AE17: =INDEX(SeuilS,MATCH(AE$15,Param,0)) -> 100000000 | AG17: =INDEX(SeuilS,MATCH(AG$15,Param,0)) -> 100000000 | AI17: =INDEX(SeuilS,MATCH(AI$15,Param,0)) -> 75 | AL17: =INDEX(SeuilS,MATCH(AK$15,Param,0)) -> 10 | AN17: =INDEX(SeuilS,MATCH(AN$15,Param,0)) -> 5 | AQ17: =INDEX(SeuilS,MATCH(AQ$15,Param,0)) -> 5 | AT17: =INDEX(SeuilS,MATCH(AT$15,Param,0)) -> 3 | AW17: =INDEX(SeuilS,MATCH(AW$15,Param,0)) -> 0.5 | AZ17: =INDEX(SeuilS,MATCH(AZ$15,Param,0)) -> 5 | BC17: =INDEX(SeuilS,MATCH(BC$15,Param,0)) -> 1 | BF17: =INDEX(SeuilS,MATCH(BF$15,Param,0)) -> 0.5 | BI17: =INDEX(SeuilS,MATCH(BI$15,Param,0)) -> 0.5 | BL17: =INDEX(SeuilS,MATCH(BL$15,Param,0)) -> 2
A18: Seuil 2 | B18: =INDEX(SeuilS2,MATCH(B$15,Param,0)) -> 100000000 | D18: =INDEX(SeuilS2,MATCH(D$15,Param,0)) -> 100000000 | E18: =INDEX(SeuilS2,MATCH(E$15,Param,0)) -> 100000000 | I18: =INDEX(SeuilS2,MATCH(I$15,Param,0)) -> 100000000 | M18: =INDEX(SeuilS2,MATCH(M$15,Param,0)) -> 100000000 | O18: =INDEX(SeuilS2,MATCH(O$15,Param,0)) -> 100000000 | T18: =INDEX(SeuilS2,MATCH(T$15,Param,0)) -> 100000000 | X18: =INDEX(SeuilS2,MATCH(X$15,Param,0)) -> 100000000 | AA18: =INDEX(SeuilS2,MATCH(AA$15,Param,0)) -> 100000000 | AC18: =INDEX(SeuilS2,MATCH(AC$15,Param,0)) -> 100000000 | AE18: =INDEX(SeuilS2,MATCH(AE$15,Param,0)) -> 100000000 | AG18: =INDEX(SeuilS2,MATCH(AG$15,Param,0)) -> 100000000 | AI18: =INDEX(SeuilS2,MATCH(AI$15,Param,0)) -> 100000000 | AL18: =INDEX(SeuilS2,MATCH(AK$15,Param,0)) -> 20 | AN18: =INDEX(SeuilS2,MATCH(AN$15,Param,0)) -> 100000000 | AQ18: =INDEX(SeuilS2,MATCH(AQ$15,Param,0)) -> 100000000 | AT18: =INDEX(SeuilS2,MATCH(AT$15,Param,0)) -> 100000000 | AW18: =INDEX(SeuilS2,MATCH(AW$15,Param,0)) -> 100000000 | AZ18: =INDEX(SeuilS2,MATCH(AZ$15,Param,0)) -> 100000000 | BC18: =INDEX(SeuilS2,MATCH(BC$15,Param,0)) -> 100000000 | BF18: =INDEX(SeuilS2,MATCH(BF$15,Param,0)) -> 100000000 | BI18: =INDEX(SeuilS2,MATCH(BI$15,Param,0)) -> 100000000 | BL18: =INDEX(SeuilS2,MATCH(BL$15,Param,0)) -> 100000000
A19: Echantillon. | B19: 24H | C19: 24H | D19: 24H | E19: 24H | I19: 24H | M19: 24H | O19: 24H | T19: 24H | X19: 24H | AA19: 24H | AC19: 24H | AE19: 24H | AG19: 24H | AI19: 24H | AK19: 24H | AN19: 24H | AQ19: 24H | AT19: 24H | AW19: 24H | AZ19: 24H | BC19: 24H | BF19: 24H | BI19: 24H | BL19: 24H | BR19: Terrain
A20: Fréq. ana. | B20: Journalier SIVOM | C20: Journalier VIGS Mulhouse | D20: Journalier VIGS Mulhouse | E20: Journalier VIGS Mulhouse | I20: Journalier VIGS Mulhouse | M20: Journalier SIVOM | O20: Journalier VIGS Mulhouse | T20: Journalier VIGS Mulhouse | X20: Journalier Laboratoire ext | AA20: Journalier Laboratoire ext | AC20: Journalier SIVOM | AE20: Journalier SIVOM | AG20: Journalier SIVOM | AI20: Journalier SIVOM | AK20: Hebdo Laboratoire ext | AN20: Journalier Laboratoire ext | AQ20: Journalier Laboratoire ext | AT20: Journalier Laboratoire ext | AW20: Journalier Laboratoire ext | AZ20: Journalier Laboratoire ext | BC20: Journalier Laboratoire ext | BF20: Journalier Laboratoire ext | BI20: Journalier Laboratoire ext | BL20: Journalier Laboratoire ext | BQ20: Analytique
A21: Seuil 1
A22: Seuil 2
A23: Normes | D23: NF T90-008 | E23: Microméthode | I23: Microméthode | O23: NF EN 872 | T23: Microméthode | AA23: NF EN 25663 | AK23: NF EN 25663
A24: Normes AP
A25: Normes CR
A26: =EOMONTH($B$12,-1)+1 -> 42370 | B26: 317 | C26: 14.99 | D26: 7.58 | E26: 1 | F26: 242 | G26: =IF(F26=0,0,(F26*E26)) -> 242 | H26: =IF(G26=0,0,IF(B26=0,0,(G26*B26/1000))) -> 76.714 | I26: 1 | J26: 185 | K26: =IF(J26=0,0,(J26*I26)) -> 185 | L26: =IF(K26=0,0,IF(B26=0,0,K26*B26/1000)) -> 58.645 | M26: 23 | N26: =IF(M26=0,0,IF(B26=0,0,M26*B26/1000)) -> 7.291 | O26: 90.6 | P26: 91.9 | Q26: 50 | R26: =IF(P26=0,0,(P26-O26)*1000/Q26) -> 26 | S26: =IF(R26=0,0,IF(B26=0,0,R26*B26/1000)) -> 8.242 | T26: 1 | U26: 2.12 | V26: =IF(U26=0,0,(U26*T26)) -> 2.12 | W26: =IF(V26=0,0,IF(B26=0,0,V26*B26/1000)) -> 0.67204 | Z26: =IF(Y26=0,0,IF(B26=0,0,Y26*B26/1000)) -> 0 | AA26: 9.4 | AB26: =IF(AA26=0,0,IF(B26=0,0,AA26*B26/1000)) -> 2.9798 | AC26: 5.07 | AD26: =IF(AC26=0,0,IF(B26=0,0,AC26*B26/1000)) -> 1.60719 | AE26: 0.176 | AF26: =IF(AE26=0,0,IF(B26=0,0,AE26*B26/1000)) -> 0.055792 | AG26: 1.035 | AH26: =IF(AG26=0,0,IF(B26=0,0,AG26*B26/1000)) -> 0.328095 | AI26: =IF(AA26=0,"",SUM(AA26,AE26,AG26)) -> 10.611 | AJ26: =IF(AI26=0,0,IF(B26=0,0,AI26*B26/1000)) -> 3.363687 | AL26: 0.7 | AM26: =IF(AL26=0,0,IF(B26=0,0,AL26*B26/1000)) -> 0.2219 | AO26: 3 | AP26: =IF(AO26=""," ",IF(B26=""," ",AO26*B26/1000)) -> 0.951 | AQ26: < | AR26: 0.025 | AS26: =IF(AR26=""," ",IF(B26=""," ",AR26*B26/1000)) -> 0.007925 | AT26: < | AU26: 0.01 | AV26: =IF(AU26=""," ",IF(B26=""," ",AU26*B26/1000)) -> 0.00317 | AX26: 0.074507356 | AY26: =IF(AX26=""," ",IF(B26=""," ",AX26*B26/1000)) -> 0.023618832 | BA26: 1.1033499 | BB26: =IF(BA26=""," ",IF(B26=""," ",BA26*B26/1000)) -> 0.34976192 | BD26: 0.072797865 | BE26: =IF(BD26=""," ",IF(B26=""," ",BD26*B26/1000)) -> 0.023076923 | BF26: < | BG26: 0.04 | BH26: =IF(BG26=""," ",IF(B26=""," ",BG26*B26/1000)) -> 0.01268 | BI26: < | BJ26: 0.06 | BK26: =IF(BJ26=""," ",IF(B26=""," ",BJ26*B26/1000)) -> 0.01902 | BM26: 0.54356241 | BN26: =IF(BM26=""," ",IF(B26=""," ",BM26*B26/1000)) -> 0.17230928 | BO26: OK | BP26: OK
A27: =A26+1 -> 42371 | B27: 594 | C27: 14.85 | D27: 7.76 | E27: 1 | F27: 196 | G27: =IF(F27=0,0,(F27*E27)) -> 196 | H27: =IF(G27=0,0,IF(B27=0,0,(G27*B27/1000))) -> 116.424 | I27: 1 | J27: 135 | K27: =IF(J27=0,0,(J27*I27)) -> 135 | L27: =IF(K27=0,0,IF(B27=0,0,K27*B27/1000)) -> 80.19 | M27: 20 | N27: =IF(M27=0,0,IF(B27=0,0,M27*B27/1000)) -> 11.88 | O27: 93.7 | P27: 97.1 | Q27: 75 | R27: =IF(P27=0,0,(P27-O27)*1000/Q27) -> 45.333333 | S27: =IF(R27=0,0,IF(B27=0,0,R27*B27/1000)) -> 26.928 | T27: 1 | U27: 1.38 | V27: =IF(U27=0,0,(U27*T27)) -> 1.38 | W27: =IF(V27=0,0,IF(B27=0,0,V27*B27/1000)) -> 0.81972 | Z27: =IF(Y27=0,0,IF(B27=0,0,Y27*B27/1000)) -> 0 | AA27: 5.8 | AB27: =IF(AA27=0,0,IF(B27=0,0,AA27*B27/1000)) -> 3.4452 | AC27: 4.06 | AD27: =IF(AC27=0,0,IF(B27=0,0,AC27*B27/1000)) -> 2.41164 | AE27: 0.422 | AF27: =IF(AE27=0,0,IF(B27=0,0,AE27*B27/1000)) -> 0.250668 | AG27: 2.159 | AH27: =IF(AG27=0,0,IF(B27=0,0,AG27*B27/1000)) -> 1.282446 | AI27: =IF(AA27=0,"",SUM(AA27,AE27,AG27)) -> 8.381 | AJ27: =IF(AI27=0,0,IF(B27=0,0,AI27*B27/1000)) -> 4.978314 | AL27: 1 | AM27: =IF(AL27=0,0,IF(B27=0,0,AL27*B27/1000)) -> 0.594 | AO27: 0.56 | AP27: =IF(AO27=""," ",IF(B27=""," ",AO27*B27/1000)) -> 0.33264 | AQ27: < | AR27: 0.05 | AS27: =IF(AR27=""," ",IF(B27=""," ",AR27*B27/1000)) -> 0.0297 | AT27: < | AU27: 0.01 | AV27: =IF(AU27=""," ",IF(B27=""," ",AU27*B27/1000)) -> 0.00594 | AX27: 0.078868389 | AY27: =IF(AX27=""," ",IF(B27=""," ",AX27*B27/1000)) -> 0.046847823 | BA27: 0.75599927 | BB27: =IF(BA27=""," ",IF(B27=""," ",BA27*B27/1000)) -> 0.44906356 | BD27: 0.058004096 | BE27: =IF(BD27=""," ",IF(B27=""," ",BD27*B27/1000)) -> 0.034454433 | BF27: < | BG27: 0.04 | BH27: =IF(BG27=""," ",IF(B27=""," ",BG27*B27/1000)) -> 0.02376 | BI27: < | BJ27: 0.06 | BK27: =IF(BJ27=""," ",IF(B27=""," ",BJ27*B27/1000)) -> 0.03564 | BM27: 0.40578052 | BN27: =IF(BM27=""," ",IF(B27=""," ",BM27*B27/1000)) -> 0.24103363 | BO27: OK | BP27: OK
A28: =A27+1 -> 42372 | B28: 825 | C28: 14.81 | E28: 1 | G28: =IF(F28=0,0,(F28*E28)) -> 0 | H28: =IF(G28=0,0,IF(B28=0,0,(G28*B28/1000))) -> 0 | I28: 1 | K28: =IF(J28=0,0,(J28*I28)) -> 0 | L28: =IF(K28=0,0,IF(B28=0,0,K28*B28/1000)) -> 0 | M28: 114 | N28: =IF(M28=0,0,IF(B28=0,0,M28*B28/1000)) -> 94.05 | Q28: 100 | R28: =IF(P28=0,0,(P28-O28)*1000/Q28) -> 0 | S28: =IF(R28=0,0,IF(B28=0,0,R28*B28/1000)) -> 0 | T28: 1 | V28: =IF(U28=0,0,(U28*T28)) -> 0 | W28: =IF(V28=0,0,IF(B28=0,0,V28*B28/1000)) -> 0 | Z28: =IF(Y28=0,0,IF(B28=0,0,Y28*B28/1000)) -> 0 | AA28: 46.92 | AB28: =IF(AA28=0,0,IF(B28=0,0,AA28*B28/1000)) -> 38.709 | AC28: 8.1 | AD28: =IF(AC28=0,0,IF(B28=0,0,AC28*B28/1000)) -> 6.6825 | AE28: 0.488 | AF28: =IF(AE28=0,0,IF(B28=0,0,AE28*B28/1000)) -> 0.4026 | AG28: 1.298 | AH28: =IF(AG28=0,0,IF(B28=0,0,AG28*B28/1000)) -> 1.07085 | AI28: =IF(AA28=0,"",SUM(AA28,AE28,AG28)) -> 48.706 | AJ28: =IF(AI28=0,0,IF(B28=0,0,AI28*B28/1000)) -> 40.18245 | AM28: =IF(AL28=0,0,IF(B28=0,0,AL28*B28/1000)) -> 0 | AP28: =IF(AO28=""," ",IF(B28=""," ",AO28*B28/1000)) | AS28: =IF(AR28=""," ",IF(B28=""," ",AR28*B28/1000)) | AV28: =IF(AU28=""," ",IF(B28=""," ",AU28*B28/1000)) | AY28: =IF(AX28=""," ",IF(B28=""," ",AX28*B28/1000)) | BB28: =IF(BA28=""," ",IF(B28=""," ",BA28*B28/1000)) | BE28: =IF(BD28=""," ",IF(B28=""," ",BD28*B28/1000)) | BH28: =IF(BG28=""," ",IF(B28=""," ",BG28*B28/1000)) | BK28: =IF(BJ28=""," ",IF(B28=""," ",BJ28*B28/1000)) | BN28: =IF(BM28=""," ",IF(B28=""," ",BM28*B28/1000)) | BO28: OK | BP28: OK | BQ28: pas de prélèvement débit non représentatif
A29: =A28+1 -> 42373 | B29: 1450 | C29: 14.67 | D29: 8.07 | E29: 1 | F29: 1662 | G29: =IF(F29=0,0,(F29*E29)) -> 1662 | H29: =IF(G29=0,0,IF(B29=0,0,(G29*B29/1000))) -> 2409.9 | I29: 1 | J29: 1465 | K29: =IF(J29=0,0,(J29*I29)) -> 1465 | L29: =IF(K29=0,0,IF(B29=0,0,K29*B29/1000)) -> 2124.25 | M29: 183 | N29: =IF(M29=0,0,IF(B29=0,0,M29*B29/1000)) -> 265.35 | O29: 91.8 | P29: 104.2 | Q29: 59 | R29: =IF(P29=0,0,(P29-O29)*1000/Q29) -> 210.16949 | S29: =IF(R29=0,0,IF(B29=0,0,R29*B29/1000)) -> 304.74576 | T29: 1 | U29: 6.68 | V29: =IF(U29=0,0,(U29*T29)) -> 6.68 | W29: =IF(V29=0,0,IF(B29=0,0,V29*B29/1000)) -> 9.686 | Z29: =IF(Y29=0,0,IF(B29=0,0,Y29*B29/1000)) -> 0 | AA29: 21.3 | AB29: =IF(AA29=0,0,IF(B29=0,0,AA29*B29/1000)) -> 30.885 | AC29: 5.59 | AD29: =IF(AC29=0,0,IF(B29=0,0,AC29*B29/1000)) -> 8.1055 | AE29: 0.406 | AF29: =IF(AE29=0,0,IF(B29=0,0,AE29*B29/1000)) -> 0.5887 | AG29: 0.424 | AH29: =IF(AG29=0,0,IF(B29=0,0,AG29*B29/1000)) -> 0.6148 | AI29: =IF(AA29=0,"",SUM(AA29,AE29,AG29)) -> 22.13 | AJ29: =IF(AI29=0,0,IF(B29=0,0,AI29*B29/1000)) -> 32.0885 | AL29: 2.65 | AM29: =IF(AL29=0,0,IF(B29=0,0,AL29*B29/1000)) -> 3.8425 | AO29: 1.1 | AP29: =IF(AO29=""," ",IF(B29=""," ",AO29*B29/1000)) -> 1.595 | AQ29: < | AR29: 0.05 | AS29: =IF(AR29=""," ",IF(B29=""," ",AR29*B29/1000)) -> 0.0725 | AT29: < | AU29: 0.01 | AV29: =IF(AU29=""," ",IF(B29=""," ",AU29*B29/1000)) -> 0.0145 | AX29: 0.13062356 | AY29: =IF(AX29=""," ",IF(B29=""," ",AX29*B29/1000)) -> 0.18940417 | BA29: 4.2686834 | BB29: =IF(BA29=""," ",IF(B29=""," ",BA29*B29/1000)) -> 6.189591 | BD29: 0.26114401 | BE29: =IF(BD29=""," ",IF(B29=""," ",BD29*B29/1000)) -> 0.37865882 | BG29: 0.072508507 | BH29: =IF(BG29=""," ",IF(B29=""," ",BG29*B29/1000)) -> 0.10513733 | BI29: < | BJ29: 0.06 | BK29: =IF(BJ29=""," ",IF(B29=""," ",BJ29*B29/1000)) -> 0.087 | BM29: 1.9452386 | BN29: =IF(BM29=""," ",IF(B29=""," ",BM29*B29/1000)) -> 2.820596 | BO29: OK | BP29: OK | BQ29: Echantillon chargé,noir
A30: =A29+1 -> 42374 | B30: 1367 | C30: 12.07 | D30: 7.93 | E30: 1 | F30: 1168 | G30: =IF(F30=0,0,(F30*E30)) -> 1168 | H30: =IF(G30=0,0,IF(B30=0,0,(G30*B30/1000))) -> 1596.656 | I30: 1 | J30: 1009 | K30: =IF(J30=0,0,(J30*I30)) -> 1009 | L30: =IF(K30=0,0,IF(B30=0,0,K30*B30/1000)) -> 1379.303 | M30: 183 | N30: =IF(M30=0,0,IF(B30=0,0,M30*B30/1000)) -> 250.161 | O30: 89.5 | P30: 96.7 | Q30: 42 | R30: =IF(P30=0,0,(P30-O30)*1000/Q30) -> 171.42857 | S30: =IF(R30=0,0,IF(B30=0,0,R30*B30/1000)) -> 234.34286 | T30: 1 | U30: 4.67 | V30: =IF(U30=0,0,(U30*T30)) -> 4.67 | W30: =IF(V30=0,0,IF(B30=0,0,V30*B30/1000)) -> 6.38389 | Z30: =IF(Y30=0,0,IF(B30=0,0,Y30*B30/1000)) -> 0 | AA30: 27 | AB30: =IF(AA30=0,0,IF(B30=0,0,AA30*B30/1000)) -> 36.909 | AC30: 11 | AD30: =IF(AC30=0,0,IF(B30=0,0,AC30*B30/1000)) -> 15.037 | AE30: 0.213 | AF30: =IF(AE30=0,0,IF(B30=0,0,AE30*B30/1000)) -> 0.291171 | AG30: 0.117 | AH30: =IF(AG30=0,0,IF(B30=0,0,AG30*B30/1000)) -> 0.159939 | AI30: =IF(AA30=0,"",SUM(AA30,AE30,AG30)) -> 27.33 | AJ30: =IF(AI30=0,0,IF(B30=0,0,AI30*B30/1000)) -> 37.36011 | AL30: 2.1 | AM30: =IF(AL30=0,0,IF(B30=0,0,AL30*B30/1000)) -> 2.8707 | AO30: 0.56 | AP30: =IF(AO30=""," ",IF(B30=""," ",AO30*B30/1000)) -> 0.76552 | AQ30: < | AR30: 0.05 | AS30: =IF(AR30=""," ",IF(B30=""," ",AR30*B30/1000)) -> 0.06835 | AT30: < | AU30: 0.01 | AV30: =IF(AU30=""," ",IF(B30=""," ",AU30*B30/1000)) -> 0.01367 | AX30: 0.12007198 | AY30: =IF(AX30=""," ",IF(B30=""," ",AX30*B30/1000)) -> 0.16413839 | BA30: 3.9555671 | BB30: =IF(BA30=""," ",IF(B30=""," ",BA30*B30/1000)) -> 5.4072603 | BD30: 0.17104378 | BE30: =IF(BD30=""," ",IF(B30=""," ",BD30*B30/1000)) -> 0.23381685 | BG30: 0.051509351 | BH30: =IF(BG30=""," ",IF(B30=""," ",BG30*B30/1000)) -> 0.070413282 | BI30: < | BJ30: 0.06 | BK30: =IF(BJ30=""," ",IF(B30=""," ",BJ30*B30/1000)) -> 0.08202 | BM30: 1.0082187 | BN30: =IF(BM30=""," ",IF(B30=""," ",BM30*B30/1000)) -> 1.3782349 | BO30: OK | BP30: OK | BQ30: Echantillon chargé,noir
A31: =A30+1 -> 42375 | B31: 1592 | C31: 7.14 | D31: 8.1 | E31: 1 | F31: 1167 | G31: =IF(F31=0,0,(F31*E31)) -> 1167 | H31: =IF(G31=0,0,IF(B31=0,0,(G31*B31/1000))) -> 1857.864 | I31: 1 | J31: 1165 | K31: =IF(J31=0,0,(J31*I31)) -> 1165 | L31: =IF(K31=0,0,IF(B31=0,0,K31*B31/1000)) -> 1854.68 | M31: 211 | N31: =IF(M31=0,0,IF(B31=0,0,M31*B31/1000)) -> 335.912 | O31: 92 | P31: 100 | Q31: 54 | R31: =IF(P31=0,0,(P31-O31)*1000/Q31) -> 148.14815 | S31: =IF(R31=0,0,IF(B31=0,0,R31*B31/1000)) -> 235.85185 | T31: 1 | U31: 5.81 | V31: =IF(U31=0,0,(U31*T31)) -> 5.81 | W31: =IF(V31=0,0,IF(B31=0,0,V31*B31/1000)) -> 9.24952 | Z31: =IF(Y31=0,0,IF(B31=0,0,Y31*B31/1000)) -> 0 | AA31: 28 | AB31: =IF(AA31=0,0,IF(B31=0,0,AA31*B31/1000)) -> 44.576 | AC31: 12 | AD31: =IF(AC31=0,0,IF(B31=0,0,AC31*B31/1000)) -> 19.104 | AE31: 0.186 | AF31: =IF(AE31=0,0,IF(B31=0,0,AE31*B31/1000)) -> 0.296112 | AG31: 0.291 | AH31: =IF(AG31=0,0,IF(B31=0,0,AG31*B31/1000)) -> 0.463272 | AI31: =IF(AA31=0,"",SUM(AA31,AE31,AG31)) -> 28.477 | AJ31: =IF(AI31=0,0,IF(B31=0,0,AI31*B31/1000)) -> 45.335384 | AL31: 0.78 | AM31: =IF(AL31=0,0,IF(B31=0,0,AL31*B31/1000)) -> 1.24176 | AO31: 0.47 | AP31: =IF(AO31=""," ",IF(B31=""," ",AO31*B31/1000)) -> 0.74824 | AQ31: < | AR31: 0.05 | AS31: =IF(AR31=""," ",IF(B31=""," ",AR31*B31/1000)) -> 0.0796 | AT31: < | AU31: 0.01 | AV31: =IF(AU31=""," ",IF(B31=""," ",AU31*B31/1000)) -> 0.01592 | AX31: 0.1144399 | AY31: =IF(AX31=""," ",IF(B31=""," ",AX31*B31/1000)) -> 0.18218832 | BA31: 2.4961936 | BB31: =IF(BA31=""," ",IF(B31=""," ",BA31*B31/1000)) -> 3.9739403 | BD31: 0.14966993 | BE31: =IF(BD31=""," ",IF(B31=""," ",BD31*B31/1000)) -> 0.23827453 | BG31: 0.04652356 | BH31: =IF(BG31=""," ",IF(B31=""," ",BG31*B31/1000)) -> 0.074065507 | BI31: < | BJ31: 0.06 | BK31: =IF(BJ31=""," ",IF(B31=""," ",BJ31*B31/1000)) -> 0.09552 | BM31: 1.4166692 | BN31: =IF(BM31=""," ",IF(B31=""," ",BM31*B31/1000)) -> 2.2553374 | BO31: OK | BP31: OK | BQ31: Echantillon chargé,noir
A32: =A31+1 -> 42376 | B32: 2090 | C32: 7.21 | D32: 8.09 | E32: 1 | F32: 928 | G32: =IF(F32=0,0,(F32*E32)) -> 928 | H32: =IF(G32=0,0,IF(B32=0,0,(G32*B32/1000))) -> 1939.52 | I32: 1 | J32: 770 | K32: =IF(J32=0,0,(J32*I32)) -> 770 | L32: =IF(K32=0,0,IF(B32=0,0,K32*B32/1000)) -> 1609.3 | M32: 154 | N32: =IF(M32=0,0,IF(B32=0,0,M32*B32/1000)) -> 321.86 | O32: 90.6 | P32: 104.9 | Q32: 72 | R32: =IF(P32=0,0,(P32-O32)*1000/Q32) -> 198.61111 | S32: =IF(R32=0,0,IF(B32=0,0,R32*B32/1000)) -> 415.09722 | T32: 1 | U32: 7.93 | V32: =IF(U32=0,0,(U32*T32)) -> 7.93 | W32: =IF(V32=0,0,IF(B32=0,0,V32*B32/1000)) -> 16.5737 | Z32: =IF(Y32=0,0,IF(B32=0,0,Y32*B32/1000)) -> 0 | AA32: 24.1 | AB32: =IF(AA32=0,0,IF(B32=0,0,AA32*B32/1000)) -> 50.369 | AC32: 12.85 | AD32: =IF(AC32=0,0,IF(B32=0,0,AC32*B32/1000)) -> 26.8565 | AE32: 0.292 | AF32: =IF(AE32=0,0,IF(B32=0,0,AE32*B32/1000)) -> 0.61028 | AG32: 2.236 | AH32: =IF(AG32=0,0,IF(B32=0,0,AG32*B32/1000)) -> 4.67324 | AI32: =IF(AA32=0,"",SUM(AA32,AE32,AG32)) -> 26.628 | AJ32: =IF(AI32=0,0,IF(B32=0,0,AI32*B32/1000)) -> 55.65252 | AL32: 0.89 | AM32: =IF(AL32=0,0,IF(B32=0,0,AL32*B32/1000)) -> 1.8601 | AO32: 1.2 | AP32: =IF(AO32=""," ",IF(B32=""," ",AO32*B32/1000)) -> 2.508 | AQ32: < | AR32: 0.05 | AS32: =IF(AR32=""," ",IF(B32=""," ",AR32*B32/1000)) -> 0.1045 | AT32: < | AU32: 0.01 | AV32: =IF(AU32=""," ",IF(B32=""," ",AU32*B32/1000)) -> 0.0209 | AX32: 0.069196828 | AY32: =IF(AX32=""," ",IF(B32=""," ",AX32*B32/1000)) -> 0.14462137 | BA32: 3.4505036 | BB32: =IF(BA32=""," ",IF(B32=""," ",BA32*B32/1000)) -> 7.2115525 | BD32: 0.242568 | BE32: =IF(BD32=""," ",IF(B32=""," ",BD32*B32/1000)) -> 0.50696712 | BG32: 0.060070958 | BH32: =IF(BG32=""," ",IF(B32=""," ",BG32*B32/1000)) -> 0.1255483 | BI32: < | BJ32: 0.06 | BK32: =IF(BJ32=""," ",IF(B32=""," ",BJ32*B32/1000)) -> 0.1254 | BM32: 2.2580459 | BN32: =IF(BM32=""," ",IF(B32=""," ",BM32*B32/1000)) -> 4.719316 | BO32: OK | BP32: OK | BQ32: Echantillon chargé,noir
A33: =A32+1 -> 42377 | B33: 2233 | C33: 7.26 | D33: 7.36 | E33: 1 | F33: 1962 | G33: =IF(F33=0,0,(F33*E33)) -> 1962 | H33: =IF(G33=0,0,IF(B33=0,0,(G33*B33/1000))) -> 4381.146 | I33: 1 | J33: 1371 | K33: =IF(J33=0,0,(J33*I33)) -> 1371 | L33: =IF(K33=0,0,IF(B33=0,0,K33*B33/1000)) -> 3061.443 | M33: 369 | N33: =IF(M33=0,0,IF(B33=0,0,M33*B33/1000)) -> 823.977 | O33: 89.7 | P33: 121.5 | Q33: 63 | R33: =IF(P33=0,0,(P33-O33)*1000/Q33) -> 504.7619 | S33: =IF(R33=0,0,IF(B33=0,0,R33*B33/1000)) -> 1127.1333 | T33: 1 | U33: 24.1 | V33: =IF(U33=0,0,(U33*T33)) -> 24.1 | W33: =IF(V33=0,0,IF(B33=0,0,V33*B33/1000)) -> 53.8153 | Z33: =IF(Y33=0,0,IF(B33=0,0,Y33*B33/1000)) -> 0 | AA33: 26.8 | AB33: =IF(AA33=0,0,IF(B33=0,0,AA33*B33/1000)) -> 59.8444 | AC33: 10.65 | AD33: =IF(AC33=0,0,IF(B33=0,0,AC33*B33/1000)) -> 23.78145 | AE33: 0.1 | AF33: =IF(AE33=0,0,IF(B33=0,0,AE33*B33/1000)) -> 0.2233 | AG33: 0.2 | AH33: =IF(AG33=0,0,IF(B33=0,0,AG33*B33/1000)) -> 0.4466 | AI33: =IF(AA33=0,"",SUM(AA33,AE33,AG33)) -> 27.1 | AJ33: =IF(AI33=0,0,IF(B33=0,0,AI33*B33/1000)) -> 60.5143 | AL33: 1.32 | AM33: =IF(AL33=0,0,IF(B33=0,0,AL33*B33/1000)) -> 2.94756 | AO33: 4.1 | AP33: =IF(AO33=""," ",IF(B33=""," ",AO33*B33/1000)) -> 9.1553 | AQ33: < | AR33: 0.05 | AS33: =IF(AR33=""," ",IF(B33=""," ",AR33*B33/1000)) -> 0.11165 | AT33: < | AU33: 0.01 | AV33: =IF(AU33=""," ",IF(B33=""," ",AU33*B33/1000)) -> 0.02233 | AX33: 0.1 | AY33: =IF(AX33=""," ",IF(B33=""," ",AX33*B33/1000)) -> 0.2233 | BA33: 9.19 | BB33: =IF(BA33=""," ",IF(B33=""," ",BA33*B33/1000)) -> 20.52127 | BD33: 0.98 | BE33: =IF(BD33=""," ",IF(B33=""," ",BD33*B33/1000)) -> 2.18834 | BG33: 0.26 | BH33: =IF(BG33=""," ",IF(B33=""," ",BG33*B33/1000)) -> 0.58058 | BI33: < | BJ33: 0.06 | BK33: =IF(BJ33=""," ",IF(B33=""," ",BJ33*B33/1000)) -> 0.13398 | BM33: 8.43 | BN33: =IF(BM33=""," ",IF(B33=""," ",BM33*B33/1000)) -> 18.82419 | BO33: OK | BP33: OK | BQ33: Echantillon chargé,noir DCO=2034 mg/L. MES=512 mg/L.phosphore=28,2 mg/L.
A34: =A33+1 -> 42378 | B34: 1446 | C34: 7.78 | D34: 7.62 | E34: 1 | F34: 1008 | G34: =IF(F34=0,0,(F34*E34)) -> 1008 | H34: =IF(G34=0,0,IF(B34=0,0,(G34*B34/1000))) -> 1457.568 | I34: 1 | J34: 677 | K34: =IF(J34=0,0,(J34*I34)) -> 677 | L34: =IF(K34=0,0,IF(B34=0,0,K34*B34/1000)) -> 978.942 | M34: 172 | N34: =IF(M34=0,0,IF(B34=0,0,M34*B34/1000)) -> 248.712 | O34: 90.6 | P34: 108.7 | Q34: 74 | R34: =IF(P34=0,0,(P34-O34)*1000/Q34) -> 244.59459 | S34: =IF(R34=0,0,IF(B34=0,0,R34*B34/1000)) -> 353.68378 | T34: 1 | U34: 11.5 | V34: =IF(U34=0,0,(U34*T34)) -> 11.5 | W34: =IF(V34=0,0,IF(B34=0,0,V34*B34/1000)) -> 16.629 | Z34: =IF(Y34=0,0,IF(B34=0,0,Y34*B34/1000)) -> 0 | AA34: 15.2 | AB34: =IF(AA34=0,0,IF(B34=0,0,AA34*B34/1000)) -> 21.9792 | AC34: 5.16 | AD34: =IF(AC34=0,0,IF(B34=0,0,AC34*B34/1000)) -> 7.46136 | AE34: 0.184 | AF34: =IF(AE34=0,0,IF(B34=0,0,AE34*B34/1000)) -> 0.266064 | AG34: 1.307 | AH34: =IF(AG34=0,0,IF(B34=0,0,AG34*B34/1000)) -> 1.889922 | AI34: =IF(AA34=0,"",SUM(AA34,AE34,AG34)) -> 16.691 | AJ34: =IF(AI34=0,0,IF(B34=0,0,AI34*B34/1000)) -> 24.135186 | AL34: 0.5 | AM34: =IF(AL34=0,0,IF(B34=0,0,AL34*B34/1000)) -> 0.723 | AO34: 1.9 | AP34: =IF(AO34=""," ",IF(B34=""," ",AO34*B34/1000)) -> 2.7474 | AQ34: < | AR34: 0.05 | AS34: =IF(AR34=""," ",IF(B34=""," ",AR34*B34/1000)) -> 0.0723 | AT34: < | AU34: 0.01 | AV34: =IF(AU34=""," ",IF(B34=""," ",AU34*B34/1000)) -> 0.01446 | AX34: 0.06 | AY34: =IF(AX34=""," ",IF(B34=""," ",AX34*B34/1000)) -> 0.08676 | BA34: 5.11 | BB34: =IF(BA34=""," ",IF(B34=""," ",BA34*B34/1000)) -> 7.38906 | BD34: 0.46 | BE34: =IF(BD34=""," ",IF(B34=""," ",BD34*B34/1000)) -> 0.66516 | BG34: 0.14 | BH34: =IF(BG34=""," ",IF(B34=""," ",BG34*B34/1000)) -> 0.20244 | BI34: < | BJ34: 0.06 | BK34: =IF(BJ34=""," ",IF(B34=""," ",BJ34*B34/1000)) -> 0.08676 | BM34: 4.61 | BN34: =IF(BM34=""," ",IF(B34=""," ",BM34*B34/1000)) -> 6.66606 | BO34: OK | BP34: OK
A35: =A34+1 -> 42379 | B35: 1576 | C35: 7.93 | D35: 7.9 | E35: 1 | F35: 535 | G35: =IF(F35=0,0,(F35*E35)) -> 535 | H35: =IF(G35=0,0,IF(B35=0,0,(G35*B35/1000))) -> 843.16 | I35: 1 | J35: 346 | K35: =IF(J35=0,0,(J35*I35)) -> 346 | L35: =IF(K35=0,0,IF(B35=0,0,K35*B35/1000)) -> 545.296 | M35: 109 | N35: =IF(M35=0,0,IF(B35=0,0,M35*B35/1000)) -> 171.784 | O35: 88.6 | P35: 101.5 | Q35: 82 | R35: =IF(P35=0,0,(P35-O35)*1000/Q35) -> 157.31707 | S35: =IF(R35=0,0,IF(B35=0,0,R35*B35/1000)) -> 247.93171 | T35: 1 | U35: 6.8 | V35: =IF(U35=0,0,(U35*T35)) -> 6.8 | W35: =IF(V35=0,0,IF(B35=0,0,V35*B35/1000)) -> 10.7168 | Z35: =IF(Y35=0,0,IF(B35=0,0,Y35*B35/1000)) -> 0 | AA35: 10 | AB35: =IF(AA35=0,0,IF(B35=0,0,AA35*B35/1000)) -> 15.76 | AC35: 1.53 | AD35: =IF(AC35=0,0,IF(B35=0,0,AC35*B35/1000)) -> 2.41128 | AE35: 0.1 | AF35: =IF(AE35=0,0,IF(B35=0,0,AE35*B35/1000)) -> 0.1576 | AG35: 0.482 | AH35: =IF(AG35=0,0,IF(B35=0,0,AG35*B35/1000)) -> 0.759632 | AI35: =IF(AA35=0,"",SUM(AA35,AE35,AG35)) -> 10.582 | AJ35: =IF(AI35=0,0,IF(B35=0,0,AI35*B35/1000)) -> 16.677232 | AL35: 0.8 | AM35: =IF(AL35=0,0,IF(B35=0,0,AL35*B35/1000)) -> 1.2608 | AO35: 1.3 | AP35: =IF(AO35=""," ",IF(B35=""," ",AO35*B35/1000)) -> 2.0488 | AQ35: < | AR35: 0.05 | AS35: =IF(AR35=""," ",IF(B35=""," ",AR35*B35/1000)) -> 0.0788 | AT35: < | AU35: 0.01 | AV35: =IF(AU35=""," ",IF(B35=""," ",AU35*B35/1000)) -> 0.01576 | AX35: 0.04 | AY35: =IF(AX35=""," ",IF(B35=""," ",AX35*B35/1000)) -> 0.06304 | BA35: 3.02 | BB35: =IF(BA35=""," ",IF(B35=""," ",BA35*B35/1000)) -> 4.75952 | BD35: 0.28 | BE35: =IF(BD35=""," ",IF(B35=""," ",BD35*B35/1000)) -> 0.44128 | BG35: 0.09 | BH35: =IF(BG35=""," ",IF(B35=""," ",BG35*B35/1000)) -> 0.14184 | BI35: < | BJ35: 0.06 | BK35: =IF(BJ35=""," ",IF(B35=""," ",BJ35*B35/1000)) -> 0.09456 | BM35: 2.95 | BN35: =IF(BM35=""," ",IF(B35=""," ",BM35*B35/1000)) -> 4.6492 | BO35: OK | BP35: OK
A36: =A35+1 -> 42380 | B36: 2479 | C36: 7.83 | D36: 7.69 | E36: 1 | F36: 1310 | G36: =IF(F36=0,0,(F36*E36)) -> 1310 | H36: =IF(G36=0,0,IF(B36=0,0,(G36*B36/1000))) -> 3247.49 | I36: 1 | J36: 950 | K36: =IF(J36=0,0,(J36*I36)) -> 950 | L36: =IF(K36=0,0,IF(B36=0,0,K36*B36/1000)) -> 2355.05 | M36: 248 | N36: =IF(M36=0,0,IF(B36=0,0,M36*B36/1000)) -> 614.792 | O36: 91.3 | P36: 113.6 | Q36: 68 | R36: =IF(P36=0,0,(P36-O36)*1000/Q36) -> 327.94118 | S36: =IF(R36=0,0,IF(B36=0,0,R36*B36/1000)) -> 812.96618 | T36: 1 | U36: 9.6 | V36: =IF(U36=0,0,(U36*T36)) -> 9.6 | W36: =IF(V36=0,0,IF(B36=0,0,V36*B36/1000)) -> 23.7984 | Z36: =IF(Y36=0,0,IF(B36=0,0,Y36*B36/1000)) -> 0 | AA36: 20.4 | AB36: =IF(AA36=0,0,IF(B36=0,0,AA36*B36/1000)) -> 50.5716 | AC36: 8.51 | AD36: =IF(AC36=0,0,IF(B36=0,0,AC36*B36/1000)) -> 21.09629 | AE36: 0.1 | AF36: =IF(AE36=0,0,IF(B36=0,0,AE36*B36/1000)) -> 0.2479 | AG36: 0.215 | AH36: =IF(AG36=0,0,IF(B36=0,0,AG36*B36/1000)) -> 0.532985 | AI36: =IF(AA36=0,"",SUM(AA36,AE36,AG36)) -> 20.715 | AJ36: =IF(AI36=0,0,IF(B36=0,0,AI36*B36/1000)) -> 51.352485 | AL36: 3.41 | AM36: =IF(AL36=0,0,IF(B36=0,0,AL36*B36/1000)) -> 8.45339 | AO36: 1.7 | AP36: =IF(AO36=""," ",IF(B36=""," ",AO36*B36/1000)) -> 4.2143 | AQ36: < | AR36: 0.05 | AS36: =IF(AR36=""," ",IF(B36=""," ",AR36*B36/1000)) -> 0.12395 | AT36: < | AU36: 0.01 | AV36: =IF(AU36=""," ",IF(B36=""," ",AU36*B36/1000)) -> 0.02479 | AX36: 0.08 | AY36: =IF(AX36=""," ",IF(B36=""," ",AX36*B36/1000)) -> 0.19832 | BA36: 6.11 | BB36: =IF(BA36=""," ",IF(B36=""," ",BA36*B36/1000)) -> 15.14669 | BD36: 0.36 | BE36: =IF(BD36=""," ",IF(B36=""," ",BD36*B36/1000)) -> 0.89244 | BG36: 0.16 | BH36: =IF(BG36=""," ",IF(B36=""," ",BG36*B36/1000)) -> 0.39664 | BI36: < | BJ36: 0.06 | BK36: =IF(BJ36=""," ",IF(B36=""," ",BJ36*B36/1000)) -> 0.14874 | BM36: 2.01 | BN36: =IF(BM36=""," ",IF(B36=""," ",BM36*B36/1000)) -> 4.98279 | BO36: OK | BP36: OK | BQ36: Echantillon chargé,noir
A37: =A36+1 -> 42381 | B37: 2236 | C37: 8.95 | D37: 7.78 | E37: 1 | F37: 950 | G37: =IF(F37=0,0,(F37*E37)) -> 950 | H37: =IF(G37=0,0,IF(B37=0,0,(G37*B37/1000))) -> 2124.2 | I37: 1 | J37: 867 | K37: =IF(J37=0,0,(J37*I37)) -> 867 | L37: =IF(K37=0,0,IF(B37=0,0,K37*B37/1000)) -> 1938.612 | M37: 223 | N37: =IF(M37=0,0,IF(B37=0,0,M37*B37/1000)) -> 498.628 | O37: 88.4 | P37: 98.9 | Q37: 69 | R37: =IF(P37=0,0,(P37-O37)*1000/Q37) -> 152.17391 | S37: =IF(R37=0,0,IF(B37=0,0,R37*B37/1000)) -> 340.26087 | T37: 1 | U37: 13.3 | V37: =IF(U37=0,0,(U37*T37)) -> 13.3 | W37: =IF(V37=0,0,IF(B37=0,0,V37*B37/1000)) -> 29.7388 | Z37: =IF(Y37=0,0,IF(B37=0,0,Y37*B37/1000)) -> 0 | AA37: 20 | AB37: =IF(AA37=0,0,IF(B37=0,0,AA37*B37/1000)) -> 44.72 | AC37: 10.05 | AD37: =IF(AC37=0,0,IF(B37=0,0,AC37*B37/1000)) -> 22.4718 | AE37: 0.1 | AF37: =IF(AE37=0,0,IF(B37=0,0,AE37*B37/1000)) -> 0.2236 | AG37: 0.2 | AH37: =IF(AG37=0,0,IF(B37=0,0,AG37*B37/1000)) -> 0.4472 | AI37: =IF(AA37=0,"",SUM(AA37,AE37,AG37)) -> 20.3 | AJ37: =IF(AI37=0,0,IF(B37=0,0,AI37*B37/1000)) -> 45.3908 | AL37: 1.25 | AM37: =IF(AL37=0,0,IF(B37=0,0,AL37*B37/1000)) -> 2.795 | AO37: 0.77 | AP37: =IF(AO37=""," ",IF(B37=""," ",AO37*B37/1000)) -> 1.72172 | AQ37: < | AR37: 0.05 | AS37: =IF(AR37=""," ",IF(B37=""," ",AR37*B37/1000)) -> 0.1118 | AT37: < | AU37: 0.01 | AV37: =IF(AU37=""," ",IF(B37=""," ",AU37*B37/1000)) -> 0.02236 | AX37: 0.04 | AY37: =IF(AX37=""," ",IF(B37=""," ",AX37*B37/1000)) -> 0.08944 | BA37: 2.17 | BB37: =IF(BA37=""," ",IF(B37=""," ",BA37*B37/1000)) -> 4.85212 | BD37: 0.19 | BE37: =IF(BD37=""," ",IF(B37=""," ",BD37*B37/1000)) -> 0.42484 | BG37: 0.08 | BH37: =IF(BG37=""," ",IF(B37=""," ",BG37*B37/1000)) -> 0.17888 | BI37: < | BJ37: 0.06 | BK37: =IF(BJ37=""," ",IF(B37=""," ",BJ37*B37/1000)) -> 0.13416 | BM37: 2.46 | BN37: =IF(BM37=""," ",IF(B37=""," ",BM37*B37/1000)) -> 5.50056 | BO37: OK | BP37: OK | BQ37: Echantillon chargé,noir
A38: =A37+1 -> 42382 | B38: 2050 | C38: 6.59 | D38: 7.81 | E38: 1 | F38: 915 | G38: =IF(F38=0,0,(F38*E38)) -> 915 | H38: =IF(G38=0,0,IF(B38=0,0,(G38*B38/1000))) -> 1875.75 | I38: 1 | J38: 743 | K38: =IF(J38=0,0,(J38*I38)) -> 743 | L38: =IF(K38=0,0,IF(B38=0,0,K38*B38/1000)) -> 1523.15 | M38: 216 | N38: =IF(M38=0,0,IF(B38=0,0,M38*B38/1000)) -> 442.8 | O38: 89.2 | P38: 102 | Q38: 78 | R38: =IF(P38=0,0,(P38-O38)*1000/Q38) -> 164.10256 | S38: =IF(R38=0,0,IF(B38=0,0,R38*B38/1000)) -> 336.41026 | T38: 1 | U38: 4.19 | V38: =IF(U38=0,0,(U38*T38)) -> 4.19 | W38: =IF(V38=0,0,IF(B38=0,0,V38*B38/1000)) -> 8.5895 | Z38: =IF(Y38=0,0,IF(B38=0,0,Y38*B38/1000)) -> 0 | AA38: 24.4 | AB38: =IF(AA38=0,0,IF(B38=0,0,AA38*B38/1000)) -> 50.02 | AC38: 13.4 | AD38: =IF(AC38=0,0,IF(B38=0,0,AC38*B38/1000)) -> 27.47 | AE38: 0.2 | AF38: =IF(AE38=0,0,IF(B38=0,0,AE38*B38/1000)) -> 0.41 | AG38: 1.512 | AH38: =IF(AG38=0,0,IF(B38=0,0,AG38*B38/1000)) -> 3.0996 | AI38: =IF(AA38=0,"",SUM(AA38,AE38,AG38)) -> 26.112 | AJ38: =IF(AI38=0,0,IF(B38=0,0,AI38*B38/1000)) -> 53.5296 | AL38: 0.97 | AM38: =IF(AL38=0,0,IF(B38=0,0,AL38*B38/1000)) -> 1.9885 | AO38: 0.78 | AP38: =IF(AO38=""," ",IF(B38=""," ",AO38*B38/1000)) -> 1.599 | AQ38: < | AR38: 0.05 | AS38: =IF(AR38=""," ",IF(B38=""," ",AR38*B38/1000)) -> 0.1025 | AT38: < | AU38: 0.01 | AV38: =IF(AU38=""," ",IF(B38=""," ",AU38*B38/1000)) -> 0.0205 | AX38: 0.04 | AY38: =IF(AX38=""," ",IF(B38=""," ",AX38*B38/1000)) -> 0.082 | BA38: 1.95 | BB38: =IF(BA38=""," ",IF(B38=""," ",BA38*B38/1000)) -> 3.9975 | BD38: 0.19 | BE38: =IF(BD38=""," ",IF(B38=""," ",BD38*B38/1000)) -> 0.3895 | BG38: 0.09 | BH38: =IF(BG38=""," ",IF(B38=""," ",BG38*B38/1000)) -> 0.1845 | BI38: < | BJ38: 0.06 | BK38: =IF(BJ38=""," ",IF(B38=""," ",BJ38*B38/1000)) -> 0.123 | BM38: 1.14 | BN38: =IF(BM38=""," ",IF(B38=""," ",BM38*B38/1000)) -> 2.337 | BO38: OK | BP38: OK
A39: =A38+1 -> 42383 | B39: 1979 | C39: 5.9 | D39: 7.88 | E39: 1 | F39: 623 | G39: =IF(F39=0,0,(F39*E39)) -> 623 | H39: =IF(G39=0,0,IF(B39=0,0,(G39*B39/1000))) -> 1232.917 | I39: 1 | J39: 527 | K39: =IF(J39=0,0,(J39*I39)) -> 527 | L39: =IF(K39=0,0,IF(B39=0,0,K39*B39/1000)) -> 1042.933 | M39: 120 | N39: =IF(M39=0,0,IF(B39=0,0,M39*B39/1000)) -> 237.48 | O39: 91.7 | P39: 99.6 | Q39: 69 | R39: =IF(P39=0,0,(P39-O39)*1000/Q39) -> 114.49275 | S39: =IF(R39=0,0,IF(B39=0,0,R39*B39/1000)) -> 226.58116 | T39: 1 | U39: 4.85 | V39: =IF(U39=0,0,(U39*T39)) -> 4.85 | W39: =IF(V39=0,0,IF(B39=0,0,V39*B39/1000)) -> 9.59815 | Z39: =IF(Y39=0,0,IF(B39=0,0,Y39*B39/1000)) -> 0 | AA39: 22.8 | AB39: =IF(AA39=0,0,IF(B39=0,0,AA39*B39/1000)) -> 45.1212 | AC39: 12.57 | AD39: =IF(AC39=0,0,IF(B39=0,0,AC39*B39/1000)) -> 24.87603 | AE39: 0.1 | AF39: =IF(AE39=0,0,IF(B39=0,0,AE39*B39/1000)) -> 0.1979 | AG39: 0.2 | AH39: =IF(AG39=0,0,IF(B39=0,0,AG39*B39/1000)) -> 0.3958 | AI39: =IF(AA39=0,"",SUM(AA39,AE39,AG39)) -> 23.1 | AJ39: =IF(AI39=0,0,IF(B39=0,0,AI39*B39/1000)) -> 45.7149 | AL39: 0.39 | AM39: =IF(AL39=0,0,IF(B39=0,0,AL39*B39/1000)) -> 0.77181 | AO39: 0.94 | AP39: =IF(AO39=""," ",IF(B39=""," ",AO39*B39/1000)) -> 1.86026 | AQ39: < | AR39: 0.05 | AS39: =IF(AR39=""," ",IF(B39=""," ",AR39*B39/1000)) -> 0.09895 | AT39: < | AU39: 0.01 | AV39: =IF(AU39=""," ",IF(B39=""," ",AU39*B39/1000)) -> 0.01979 | AX39: 0.03 | AY39: =IF(AX39=""," ",IF(B39=""," ",AX39*B39/1000)) -> 0.05937 | BA39: 1.85 | BB39: =IF(BA39=""," ",IF(B39=""," ",BA39*B39/1000)) -> 3.66115 | BD39: 0.22 | BE39: =IF(BD39=""," ",IF(B39=""," ",BD39*B39/1000)) -> 0.43538 | BF39: < | BG39: 0.04 | BH39: =IF(BG39=""," ",IF(B39=""," ",BG39*B39/1000)) -> 0.07916 | BI39: < | BJ39: 0.06 | BK39: =IF(BJ39=""," ",IF(B39=""," ",BJ39*B39/1000)) -> 0.11874 | BM39: 1.74 | BN39: =IF(BM39=""," ",IF(B39=""," ",BM39*B39/1000)) -> 3.44346 | BO39: OK | BP39: OK
A40: =A39+1 -> 42384 | B40: 2056 | C40: 5.23 | D40: 7.46 | E40: 1 | F40: 1037 | G40: =IF(F40=0,0,(F40*E40)) -> 1037 | H40: =IF(G40=0,0,IF(B40=0,0,(G40*B40/1000))) -> 2132.072 | I40: 1 | J40: 556 | K40: =IF(J40=0,0,(J40*I40)) -> 556 | L40: =IF(K40=0,0,IF(B40=0,0,K40*B40/1000)) -> 1143.136 | M40: 151 | N40: =IF(M40=0,0,IF(B40=0,0,M40*B40/1000)) -> 310.456 | O40: 89.4 | P40: 105 | Q40: 39 | R40: =IF(P40=0,0,(P40-O40)*1000/Q40) -> 400 | S40: =IF(R40=0,0,IF(B40=0,0,R40*B40/1000)) -> 822.4 | T40: 1 | U40: 17 | V40: =IF(U40=0,0,(U40*T40)) -> 17 | W40: =IF(V40=0,0,IF(B40=0,0,V40*B40/1000)) -> 34.952 | Z40: =IF(Y40=0,0,IF(B40=0,0,Y40*B40/1000)) -> 0 | AA40: 27.2 | AB40: =IF(AA40=0,0,IF(B40=0,0,AA40*B40/1000)) -> 55.9232 | AC40: 15.02 | AD40: =IF(AC40=0,0,IF(B40=0,0,AC40*B40/1000)) -> 30.88112 | AE40: 0.385 | AF40: =IF(AE40=0,0,IF(B40=0,0,AE40*B40/1000)) -> 0.79156 | AG40: 0.513 | AH40: =IF(AG40=0,0,IF(B40=0,0,AG40*B40/1000)) -> 1.054728 | AI40: =IF(AA40=0,"",SUM(AA40,AE40,AG40)) -> 28.098 | AJ40: =IF(AI40=0,0,IF(B40=0,0,AI40*B40/1000)) -> 57.769488 | AL40: 1.34 | AM40: =IF(AL40=0,0,IF(B40=0,0,AL40*B40/1000)) -> 2.75504 | AO40: 3.6 | AP40: =IF(AO40=""," ",IF(B40=""," ",AO40*B40/1000)) -> 7.4016 | AQ40: < | AR40: 0.05 | AS40: =IF(AR40=""," ",IF(B40=""," ",AR40*B40/1000)) -> 0.1028 | AT40: < | AU40: 0.01 | AV40: =IF(AU40=""," ",IF(B40=""," ",AU40*B40/1000)) -> 0.02056 | AX40: 0.084897645 | AY40: =IF(AX40=""," ",IF(B40=""," ",AX40*B40/1000)) -> 0.17454956 | BA40: 1.701431 | BB40: =IF(BA40=""," ",IF(B40=""," ",BA40*B40/1000)) -> 3.4981422 | BD40: 1.0531698 | BE40: =IF(BD40=""," ",IF(B40=""," ",BD40*B40/1000)) -> 2.1653172 | BG40: 0.2431476 | BH40: =IF(BG40=""," ",IF(B40=""," ",BG40*B40/1000)) -> 0.49991146 | BI40: < | BJ40: 0.06 | BK40: =IF(BJ40=""," ",IF(B40=""," ",BJ40*B40/1000)) -> 0.12336 | BM40: 1.9506653 | BN40: =IF(BM40=""," ",IF(B40=""," ",BM40*B40/1000)) -> 4.010568 | BO40: OK | BP40: OK | BQ40: Echantillon chargé MES= 409 mg/L. phosphore= 18,0 mg/L.
A41: =A40+1 -> 42385 | B41: 1107 | C41: 4.82 | D41: 7.71 | E41: 1 | F41: 1806 | G41: =IF(F41=0,0,(F41*E41)) -> 1806 | H41: =IF(G41=0,0,IF(B41=0,0,(G41*B41/1000))) -> 1999.242 | I41: 1 | J41: 329 | K41: =IF(J41=0,0,(J41*I41)) -> 329 | L41: =IF(K41=0,0,IF(B41=0,0,K41*B41/1000)) -> 364.203 | M41: 173 | N41: =IF(M41=0,0,IF(B41=0,0,M41*B41/1000)) -> 191.511 | O41: 90 | P41: 133.3 | Q41: 33 | R41: =IF(P41=0,0,(P41-O41)*1000/Q41) -> 1312.1212 | S41: =IF(R41=0,0,IF(B41=0,0,R41*B41/1000)) -> 1452.5182 | T41: 1 | U41: 32.7 | V41: =IF(U41=0,0,(U41*T41)) -> 32.7 | W41: =IF(V41=0,0,IF(B41=0,0,V41*B41/1000)) -> 36.1989 | Z41: =IF(Y41=0,0,IF(B41=0,0,Y41*B41/1000)) -> 0 | AA41: 35.6 | AB41: =IF(AA41=0,0,IF(B41=0,0,AA41*B41/1000)) -> 39.4092 | AC41: 15.02 | AD41: =IF(AC41=0,0,IF(B41=0,0,AC41*B41/1000)) -> 16.62714 | AE41: 0.1 | AF41: =IF(AE41=0,0,IF(B41=0,0,AE41*B41/1000)) -> 0.1107 | AG41: 0.2 | AH41: =IF(AG41=0,0,IF(B41=0,0,AG41*B41/1000)) -> 0.2214 | AI41: =IF(AA41=0,"",SUM(AA41,AE41,AG41)) -> 35.9 | AJ41: =IF(AI41=0,0,IF(B41=0,0,AI41*B41/1000)) -> 39.7413 | AL41: 3.49 | AM41: =IF(AL41=0,0,IF(B41=0,0,AL41*B41/1000)) -> 3.86343 | AO41: 14 | AP41: =IF(AO41=""," ",IF(B41=""," ",AO41*B41/1000)) -> 15.498 | AQ41: < | AR41: 0.05 | AS41: =IF(AR41=""," ",IF(B41=""," ",AR41*B41/1000)) -> 0.05535 | AT41: < | AU41: 0.01 | AV41: =IF(AU41=""," ",IF(B41=""," ",AU41*B41/1000)) -> 0.01107 | AX41: 0.1680197 | AY41: =IF(AX41=""," ",IF(B41=""," ",AX41*B41/1000)) -> 0.1859978 | BA41: 1.4781512 | BB41: =IF(BA41=""," ",IF(B41=""," ",BA41*B41/1000)) -> 1.6363134 | BD41: 0.22185871 | BE41: =IF(BD41=""," ",IF(B41=""," ",BD41*B41/1000)) -> 0.24559759 | BG41: 0.67289489 | BH41: =IF(BG41=""," ",IF(B41=""," ",BG41*B41/1000)) -> 0.74489465 | BI41: < | BJ41: 0.06 | BK41: =IF(BJ41=""," ",IF(B41=""," ",BJ41*B41/1000)) -> 0.06642 | BM41: 2.0061479 | BN41: =IF(BM41=""," ",IF(B41=""," ",BM41*B41/1000)) -> 2.2208057 | BO41: OK | BP41: OK | BQ41: Echantillon chargé MES= 1322 mg/L. phosphore= 35,2 mg/L. DCO = 1934 mg/L.
A42: =A41+1 -> 42386 | B42: 1347 | C42: 4.11 | D42: 8.3 | E42: 1 | F42: 478 | G42: =IF(F42=0,0,(F42*E42)) -> 478 | H42: =IF(G42=0,0,IF(B42=0,0,(G42*B42/1000))) -> 643.866 | I42: 1 | J42: 377 | K42: =IF(J42=0,0,(J42*I42)) -> 377 | L42: =IF(K42=0,0,IF(B42=0,0,K42*B42/1000)) -> 507.819 | M42: 90 | N42: =IF(M42=0,0,IF(B42=0,0,M42*B42/1000)) -> 121.23 | O42: 89.8 | P42: 96.9 | Q42: 42 | R42: =IF(P42=0,0,(P42-O42)*1000/Q42) -> 169.04762 | S42: =IF(R42=0,0,IF(B42=0,0,R42*B42/1000)) -> 227.70714 | T42: 1 | U42: 6.77 | V42: =IF(U42=0,0,(U42*T42)) -> 6.77 | W42: =IF(V42=0,0,IF(B42=0,0,V42*B42/1000)) -> 9.11919 | Z42: =IF(Y42=0,0,IF(B42=0,0,Y42*B42/1000)) -> 0 | AA42: 18.4 | AB42: =IF(AA42=0,0,IF(B42=0,0,AA42*B42/1000)) -> 24.7848 | AC42: 6.36 | AD42: =IF(AC42=0,0,IF(B42=0,0,AC42*B42/1000)) -> 8.56692 | AE42: 0.333 | AF42: =IF(AE42=0,0,IF(B42=0,0,AE42*B42/1000)) -> 0.448551 | AG42: 2.568 | AH42: =IF(AG42=0,0,IF(B42=0,0,AG42*B42/1000)) -> 3.459096 | AI42: =IF(AA42=0,"",SUM(AA42,AE42,AG42)) -> 21.301 | AJ42: =IF(AI42=0,0,IF(B42=0,0,AI42*B42/1000)) -> 28.692447 | AL42: 0.51 | AM42: =IF(AL42=0,0,IF(B42=0,0,AL42*B42/1000)) -> 0.68697 | AO42: 1.8 | AP42: =IF(AO42=""," ",IF(B42=""," ",AO42*B42/1000)) -> 2.4246 | AQ42: < | AR42: 0.05 | AS42: =IF(AR42=""," ",IF(B42=""," ",AR42*B42/1000)) -> 0.06735 | AT42: < | AU42: 0.01 | AV42: =IF(AU42=""," ",IF(B42=""," ",AU42*B42/1000)) -> 0.01347 | AX42: 0.043093994 | AY42: =IF(AX42=""," ",IF(B42=""," ",AX42*B42/1000)) -> 0.05804761 | BA42: 3.0760553 | BB42: =IF(BA42=""," ",IF(B42=""," ",BA42*B42/1000)) -> 4.1434465 | BD42: 0.40460926 | BE42: =IF(BD42=""," ",IF(B42=""," ",BD42*B42/1000)) -> 0.54500868 | BG42: 0.17588966 | BH42: =IF(BG42=""," ",IF(B42=""," ",BG42*B42/1000)) -> 0.23692337 | BI42: < | BJ42: 0.06 | BK42: =IF(BJ42=""," ",IF(B42=""," ",BJ42*B42/1000)) -> 0.08082 | BM42: 0.82447231 | BN42: =IF(BM42=""," ",IF(B42=""," ",BM42*B42/1000)) -> 1.1105642 | BO42: OK | BP42: OK
A43: =A42+1 -> 42387 | B43: 1862 | C43: 2.83 | D43: 7.93 | E43: 1 | F43: 872 | G43: =IF(F43=0,0,(F43*E43)) -> 872 | H43: =IF(G43=0,0,IF(B43=0,0,(G43*B43/1000))) -> 1623.664 | I43: 1 | J43: 697 | K43: =IF(J43=0,0,(J43*I43)) -> 697 | L43: =IF(K43=0,0,IF(B43=0,0,K43*B43/1000)) -> 1297.814 | M43: 169 | N43: =IF(M43=0,0,IF(B43=0,0,M43*B43/1000)) -> 314.678 | O43: 85.8 | P43: 103 | Q43: 75 | R43: =IF(P43=0,0,(P43-O43)*1000/Q43) -> 229.33333 | S43: =IF(R43=0,0,IF(B43=0,0,R43*B43/1000)) -> 427.01867 | T43: 1 | U43: 8.27 | V43: =IF(U43=0,0,(U43*T43)) -> 8.27 | W43: =IF(V43=0,0,IF(B43=0,0,V43*B43/1000)) -> 15.39874 | Z43: =IF(Y43=0,0,IF(B43=0,0,Y43*B43/1000)) -> 0 | AA43: 30 | AB43: =IF(AA43=0,0,IF(B43=0,0,AA43*B43/1000)) -> 55.86 | AC43: 16.6 | AD43: =IF(AC43=0,0,IF(B43=0,0,AC43*B43/1000)) -> 30.9092 | AE43: 0.1 | AF43: =IF(AE43=0,0,IF(B43=0,0,AE43*B43/1000)) -> 0.1862 | AG43: 0.2 | AH43: =IF(AG43=0,0,IF(B43=0,0,AG43*B43/1000)) -> 0.3724 | AI43: =IF(AA43=0,"",SUM(AA43,AE43,AG43)) -> 30.3 | AJ43: =IF(AI43=0,0,IF(B43=0,0,AI43*B43/1000)) -> 56.4186 | AL43: 0.4 | AM43: =IF(AL43=0,0,IF(B43=0,0,AL43*B43/1000)) -> 0.7448 | AO43: 1.7 | AP43: =IF(AO43=""," ",IF(B43=""," ",AO43*B43/1000)) -> 3.1654 | AQ43: < | AR43: 0.05 | AS43: =IF(AR43=""," ",IF(B43=""," ",AR43*B43/1000)) -> 0.0931 | AT43: < | AU43: 0.01 | AV43: =IF(AU43=""," ",IF(B43=""," ",AU43*B43/1000)) -> 0.01862 | AX43: 0.051802173 | AY43: =IF(AX43=""," ",IF(B43=""," ",AX43*B43/1000)) -> 0.096455647 | BA43: 2.3259351 | BB43: =IF(BA43=""," ",IF(B43=""," ",BA43*B43/1000)) -> 4.3308912 | BD43: 0.53463686 | BE43: =IF(BD43=""," ",IF(B43=""," ",BD43*B43/1000)) -> 0.99549382 | BG43: 0.18897611 | BH43: =IF(BG43=""," ",IF(B43=""," ",BG43*B43/1000)) -> 0.35187351 | BI43: < | BJ43: 0.06 | BK43: =IF(BJ43=""," ",IF(B43=""," ",BJ43*B43/1000)) -> 0.11172 | BM43: 1.9902873 | BN43: =IF(BM43=""," ",IF(B43=""," ",BM43*B43/1000)) -> 3.705915 | BO43: OK | BP43: OK
A44: =A43+1 -> 42388 | B44: 1922 | C44: 2.77 | D44: 7.81 | E44: 1 | F44: 1178 | G44: =IF(F44=0,0,(F44*E44)) -> 1178 | H44: =IF(G44=0,0,IF(B44=0,0,(G44*B44/1000))) -> 2264.116 | I44: 1 | J44: 922 | K44: =IF(J44=0,0,(J44*I44)) -> 922 | L44: =IF(K44=0,0,IF(B44=0,0,K44*B44/1000)) -> 1772.084 | M44: 212 | N44: =IF(M44=0,0,IF(B44=0,0,M44*B44/1000)) -> 407.464 | O44: 87.7 | P44: 101.2 | Q44: 62 | R44: =IF(P44=0,0,(P44-O44)*1000/Q44) -> 217.74194 | S44: =IF(R44=0,0,IF(B44=0,0,R44*B44/1000)) -> 418.5 | T44: 1 | U44: 6.57 | V44: =IF(U44=0,0,(U44*T44)) -> 6.57 | W44: =IF(V44=0,0,IF(B44=0,0,V44*B44/1000)) -> 12.62754 | Z44: =IF(Y44=0,0,IF(B44=0,0,Y44*B44/1000)) -> 0 | AA44: 34.4 | AB44: =IF(AA44=0,0,IF(B44=0,0,AA44*B44/1000)) -> 66.1168 | AC44: 12 | AD44: =IF(AC44=0,0,IF(B44=0,0,AC44*B44/1000)) -> 23.064 | AE44: 0.283 | AF44: =IF(AE44=0,0,IF(B44=0,0,AE44*B44/1000)) -> 0.543926 | AG44: 1.28 | AH44: =IF(AG44=0,0,IF(B44=0,0,AG44*B44/1000)) -> 2.46016 | AI44: =IF(AA44=0,"",SUM(AA44,AE44,AG44)) -> 35.963 | AJ44: =IF(AI44=0,0,IF(B44=0,0,AI44*B44/1000)) -> 69.120886 | AL44: 0.51 | AM44: =IF(AL44=0,0,IF(B44=0,0,AL44*B44/1000)) -> 0.98022 | AO44: 1.2 | AP44: =IF(AO44=""," ",IF(B44=""," ",AO44*B44/1000)) -> 2.3064 | AQ44: < | AR44: 0.05 | AS44: =IF(AR44=""," ",IF(B44=""," ",AR44*B44/1000)) -> 0.0961 | AU44: 0.014 | AV44: =IF(AU44=""," ",IF(B44=""," ",AU44*B44/1000)) -> 0.026908 | AX44: 0.047978494 | AY44: =IF(AX44=""," ",IF(B44=""," ",AX44*B44/1000)) -> 0.092214666 | BA44: 3.6617339 | BB44: =IF(BA44=""," ",IF(B44=""," ",BA44*B44/1000)) -> 7.0378525 | BD44: 0.38416576 | BE44: =IF(BD44=""," ",IF(B44=""," ",BD44*B44/1000)) -> 0.7383666 | BG44: 0.16443963 | BH44: =IF(BG44=""," ",IF(B44=""," ",BG44*B44/1000)) -> 0.31605297 | BI44: < | BJ44: 0.06 | BK44: =IF(BJ44=""," ",IF(B44=""," ",BJ44*B44/1000)) -> 0.11532 | BM44: 1.2838365 | BN44: =IF(BM44=""," ",IF(B44=""," ",BM44*B44/1000)) -> 2.4675337 | BO44: OK | BP44: OK | BQ44: Echantillon chargé,noir
A45: =A44+1 -> 42389 | B45: 1692 | C45: 2.82 | D45: 7.83 | E45: 1 | F45: 917 | G45: =IF(F45=0,0,(F45*E45)) -> 917 | H45: =IF(G45=0,0,IF(B45=0,0,(G45*B45/1000))) -> 1551.564 | I45: 1 | J45: 827 | K45: =IF(J45=0,0,(J45*I45)) -> 827 | L45: =IF(K45=0,0,IF(B45=0,0,K45*B45/1000)) -> 1399.284 | M45: 246 | N45: =IF(M45=0,0,IF(B45=0,0,M45*B45/1000)) -> 416.232 | O45: 88.9 | P45: 99.3 | Q45: 79 | R45: =IF(P45=0,0,(P45-O45)*1000/Q45) -> 131.64557 | S45: =IF(R45=0,0,IF(B45=0,0,R45*B45/1000)) -> 222.7443 | T45: 1 | U45: 5.37 | V45: =IF(U45=0,0,(U45*T45)) -> 5.37 | W45: =IF(V45=0,0,IF(B45=0,0,V45*B45/1000)) -> 9.08604 | Z45: =IF(Y45=0,0,IF(B45=0,0,Y45*B45/1000)) -> 0 | AA45: 38 | AB45: =IF(AA45=0,0,IF(B45=0,0,AA45*B45/1000)) -> 64.296 | AC45: 7.4 | AD45: =IF(AC45=0,0,IF(B45=0,0,AC45*B45/1000)) -> 12.5208 | AE45: 0.1 | AF45: =IF(AE45=0,0,IF(B45=0,0,AE45*B45/1000)) -> 0.1692 | AG45: 0.2 | AH45: =IF(AG45=0,0,IF(B45=0,0,AG45*B45/1000)) -> 0.3384 | AI45: =IF(AA45=0,"",SUM(AA45,AE45,AG45)) -> 38.3 | AJ45: =IF(AI45=0,0,IF(B45=0,0,AI45*B45/1000)) -> 64.8036 | AL45: 0.25 | AM45: =IF(AL45=0,0,IF(B45=0,0,AL45*B45/1000)) -> 0.423 | AO45: 0.76 | AP45: =IF(AO45=""," ",IF(B45=""," ",AO45*B45/1000)) -> 1.28592 | AQ45: < | AR45: 0.05 | AS45: =IF(AR45=""," ",IF(B45=""," ",AR45*B45/1000)) -> 0.0846 | AT45: < | AU45: 0.01 | AV45: =IF(AU45=""," ",IF(B45=""," ",AU45*B45/1000)) -> 0.01692 | AX45: 0.038468976 | AY45: =IF(AX45=""," ",IF(B45=""," ",AX45*B45/1000)) -> 0.065089507 | BA45: 2.0038185 | BB45: =IF(BA45=""," ",IF(B45=""," ",BA45*B45/1000)) -> 3.3904609 | BD45: 0.23715024 | BE45: =IF(BD45=""," ",IF(B45=""," ",BD45*B45/1000)) -> 0.4012582 | BG45: 0.16127397 | BH45: =IF(BG45=""," ",IF(B45=""," ",BG45*B45/1000)) -> 0.27287556 | BI45: < | BJ45: 0.06 | BK45: =IF(BJ45=""," ",IF(B45=""," ",BJ45*B45/1000)) -> 0.10152 | BM45: 1.6043284 | BN45: =IF(BM45=""," ",IF(B45=""," ",BM45*B45/1000)) -> 2.7145236 | BO45: OK | BP45: OK
...

Sheet KPI
AG1: http://www.excel-downloads.com/forum/244013-liens-rapides.html
B2: KPI
B4: Année: | C4: 2016
D6: SIVOM | J6: Station Dégrémont Entrée | P6: Station Dégrémont Sortie | V6: Station UF Entrée | AB6: Station UF Sortie | AH6: Station des Huiles
D7: nbres de valeurs | E7: Somme des résultats | F7: Moyenne des résultats | G7: Valeur mini | H7: Valeur maxi | I7: Valeur >au seuil | J7: nbres de valeurs | K7: Somme des résultats | L7: Moyenne des résultats | M7: Valeur mini | N7: Valeur maxi | O7: Valeur >au seuil | P7: nbres de valeurs | Q7: Somme des résultats | R7: Moyenne des résultats | S7: Valeur mini | T7: Valeur maxi | U7: Valeur >au seuil | V7: nbres de valeurs | W7: Somme des résultats | X7: Moyenne des résultats | Y7: Valeur mini | Z7: Valeur maxi | AA7: Valeur >au seuil | AB7: nbres de valeurs | AC7: Somme des résultats | AD7: Moyenne des résultats | AE7: Valeur mini | AF7: Valeur maxi | AG7: Valeur >au seuil | AH7: nbres de valeurs | AI7: Somme des résultats | AJ7: Moyenne des résultats | AK7: Valeur mini | AL7: Valeur maxi | AM7: Valeur >au seuil | AN7: Total Paramètres sur les différentes stations
A8: 1 | B8: =DATE($C$4,A8,1) -> 42370 | C8: Débit | D8: =SUMPRODUCT((MONTH(DatesS)=$A8)*(OFFSET(DatesS,,INDEX(ColS,MATCH($C8,Param,0)))<>0)) -> 31 | E8: =SUMPRODUCT((MONTH(DatesS)=$A8)*(OFFSET(DatesS,,INDEX(ColS,MATCH($C8,Param,0))))) -> 51776 | F8: =IF(D8=0,0,E8/D8) -> 1670.1935 | G8: {=MIN(IF((MONTH(DatesS)=$A8)*(OFFSET(DatesS,,INDEX(ColS,MATCH($C8,Param,0))))>0,OFFSET(DatesS,,INDEX(ColS,MATCH($C8,Param,0)))))} -> 317 | H8: {=MAX(IF((MONTH(DatesS)=$A8)*(OFFSET(DatesS,,INDEX(ColS,MATCH($C8,Param,0))))>0,OFFSET(DatesS,,INDEX(ColS,MATCH($C8,Param,0)))))} -> 2479 | I8: =SUMPRODUCT((MONTH(DatesS)=$A8)*(OFFSET(DatesS,,INDEX(ColS,MATCH($C8,Param,0)))>=INDEX(SeuilS,MATCH($C8,Param,0)))) -> 0 | J8: =SUMPRODUCT((MONTH(DatesD)=$A8)*(OFFSET(DatesD,,INDEX(ColD1,MATCH($C8,Param,0)))<>0)) -> #REF! | K8: =SUMPRODUCT((MONTH(DatesD)=$A8)*(OFFSET(DatesD,,INDEX(ColD1,MATCH($C8,Param,0))))) -> #REF! | L8: =IF(J8=0,0,K8/J8) -> #REF! | M8: {=MIN(IF((MONTH(DatesD)=$A8)*(OFFSET(DatesD,,INDEX(ColD1,MATCH($C8,Param,0))))>0,OFFSET(DatesD,,INDEX(ColD1,MATCH($C8,Param,0)))))} -> #REF! | N8: {=MAX(IF((MONTH(DatesD)=$A8)*(OFFSET(DatesD,,INDEX(ColD1,MATCH($C8,Param,0))))>0,OFFSET(DatesD,,INDEX(ColD1,MATCH($C8,Param,0)))))} -> #REF! | O8: =SUMPRODUCT((MONTH(DatesD)=$A8)*(OFFSET(DatesD,,INDEX(ColD1,MATCH($C8,Param,0)))>=INDEX(SeuilD1,MATCH($C8,Param,0)))) -> #REF! | P8: =SUMPRODUCT((MONTH(DatesD)=$A8)*(OFFSET(DatesD,,INDEX(ColD2,MATCH($C8,Param,0)))<>0)) -> #REF! | Q8: =SUMPRODUCT((MONTH(DatesD)=$A8)*(OFFSET(DatesD,,INDEX(ColD2,MATCH($C8,Param,0))))) -> #REF! | R8: =IF(P8=0,0,Q8/P8) -> #REF! | S8: {=MIN(IF((MONTH(DatesD)=$A8)*(OFFSET(DatesD,,INDEX(ColD2,MATCH($C8,Param,0))))>0,OFFSET(DatesD,,INDEX(ColD2,MATCH($C8,Param,0)))))} -> #REF! | T8: {=MAX(IF((MONTH(DatesD)=$A8)*(OFFSET(DatesD,,INDEX(ColD2,MATCH($C8,Param,0))))>0,OFFSET(DatesD,,INDEX(ColD2,MATCH($C8,Param,0)))))} -> #REF! | U8: =SUMPRODUCT((MONTH(DatesD)=$A8)*(OFFSET(DatesD,,INDEX(ColD2,MATCH($C8,Param,0)))>=INDEX(SeuilD2,MATCH($C8,Param,0)))) -> #REF! | V8: =SUMPRODUCT((MONTH(DatesUF)=$A8)*(OFFSET(DatesUF,,INDEX(ColUF1,MATCH($C8,Param,0)))<>0)) -> #REF! | W8: =SUMPRODUCT((MONTH(DatesUF)=$A8)*(OFFSET(DatesUF,,INDEX(ColUF1,MATCH($C8,Param,0))))) -> #REF! | X8: =IF(V8=0,0,W8/V8) -> #REF! | Y8: {=MIN(IF((MONTH(DatesUF)=$A8)*(OFFSET(DatesUF,,INDEX(ColUF1,MATCH($C8,Param,0))))>0,OFFSET(DatesUF,,INDEX(ColUF1,MATCH($C8,Param,0)))))} -> #REF! | Z8: {=MAX(IF((MONTH(DatesUF)=$A8)*(OFFSET(DatesUF,,INDEX(ColUF1,MATCH($C8,Param,0))))>0,OFFSET(DatesUF,,INDEX(ColUF1,MATCH($C8,Param,0)))))} -> #REF! | AA8: =SUMPRODUCT((MONTH(DatesUF)=$A8)*(OFFSET(DatesUF,,INDEX(ColUF1,MATCH($C8,Param,0)))>=INDEX(SeuilUF1,MATCH($C8,Param,0)))) -> #REF! | AB8: =SUMPRODUCT((MONTH(DatesUF)=$A8)*(OFFSET(DatesUF,,INDEX(ColUF2,MATCH($C8,Param,0)))<>0)) -> #REF! | AC8: =SUMPRODUCT((MONTH(DatesUF)=$A8)*(OFFSET(DatesUF,,INDEX(ColUF2,MATCH($C8,Param,0))))) -> #REF! | AD8: =IF(AB8=0,0,AC8/AB8) -> #REF! | AE8: {=MIN(IF((MONTH(DatesUF)=$A8)*(OFFSET(DatesUF,,INDEX(ColUF2,MATCH($C8,Param,0))))>0,OFFSET(DatesUF,,INDEX(ColUF2,MATCH($C8,Param,0)))))} -> #REF! | AF8: {=MAX(IF((MONTH(DatesUF)=$A8)*(OFFSET(DatesUF,,INDEX(ColUF2,MATCH($C8,Param,0))))>0,OFFSET(DatesUF,,INDEX(ColUF2,MATCH($C8,Param,0)))))} -> #REF! | AG8: =SUMPRODUCT((MONTH(DatesUF)=$A8)*(OFFSET(DatesUF,,INDEX(ColUF2,MATCH($C8,Param,0)))>=INDEX(SeuilUF2,MATCH($C8,Param,0)))) -> #REF! | AH8: =SUMPRODUCT((MONTH(DatesSH)=$A8)*(OFFSET(DatesSH,,INDEX(ColSH,MATCH($C8,Param,0)))<>0)) -> #REF! | AI8: =SUMPRODUCT((MONTH(DatesSH)=$A8)*(OFFSET(DatesSH,,INDEX(ColSH,MATCH($C8,Param,0))))) -> #REF! | AK8: {=MIN(IF((MONTH(DatesSH)=$A8)*(OFFSET(DatesSH,,INDEX(ColSH,MATCH($C8,Param,0))))>0,OFFSET(DatesSH,,INDEX(ColSH,MATCH($C8,Param,0)))))} -> #REF! | AL8: {=MAX(IF((MONTH(DatesSH)=$A8)*(OFFSET(DatesSH,,INDEX(ColSH,MATCH($C8,Param,0))))>0,OFFSET(DatesSH,,INDEX(ColSH,MATCH($C8,Param,0)))))} -> #REF! | AM8: =SUMPRODUCT((MONTH(DatesSH)=$A8)*(OFFSET(DatesSH,,INDEX(ColSH,MATCH($C8,Param,0)))>=INDEX(SeuilSH,MATCH($C8,Param,0)))) -> #REF! | AN8: =SUM(D8+J8+P8+V8+AB8+AH8) -> #REF!
A9: =A8 -> 1 | C9: pH | D9: =SUMPRODUCT((MONTH(DatesS)=$A9)*(OFFSET(DatesS,,INDEX(ColS,MATCH($C9,Param,0)))<>0)) -> 30 | E9: =SUMPRODUCT((MONTH(DatesS)=$A9)*(OFFSET(DatesS,,INDEX(ColS,MATCH($C9,Param,0))))) -> 233.83 | F9: =IF(D9=0,0,E9/D9) -> 7.7943333 | G9: {=MIN(IF((MONTH(DatesS)=$A9)*(OFFSET(DatesS,,INDEX(ColS,MATCH($C9,Param,0))))>0,OFFSET(DatesS,,INDEX(ColS,MATCH($C9,Param,0)))))} -> 7.36 | H9: {=MAX(IF((MONTH(DatesS)=$A9)*(OFFSET(DatesS,,INDEX(ColS,MATCH($C9,Param,0))))>0,OFFSET(DatesS,,INDEX(ColS,MATCH($C9,Param,0)))))} -> 8.3 | I9: =SUMPRODUCT((MONTH(DatesS)=$A9)*(OFFSET(DatesS,,INDEX(ColS,MATCH($C9,Param,0)))>=INDEX(SeuilS,MATCH($C9,Param,0)))) -> 0 | J9: =SUMPRODUCT((MONTH(DatesD)=$A9)*(OFFSET(DatesD,,INDEX(ColD1,MATCH($C9,Param,0)))<>0)) -> #REF! | K9: =SUMPRODUCT((MONTH(DatesD)=$A9)*(OFFSET(DatesD,,INDEX(ColD1,MATCH($C9,Param,0))))) -> #REF! | L9: =IF(J9=0,0,K9/J9) -> #REF! | M9: {=MIN(IF((MONTH(DatesD)=$A9)*(OFFSET(DatesD,,INDEX(ColD1,MATCH($C9,Param,0))))>0,OFFSET(DatesD,,INDEX(ColD1,MATCH($C9,Param,0)))))} -> #REF! | N9: {=MAX(IF((MONTH(DatesD)=$A9)*(OFFSET(DatesD,,INDEX(ColD1,MATCH($C9,Param,0))))>0,OFFSET(DatesD,,INDEX(ColD1,MATCH($C9,Param,0)))))} -> #REF! | O9: =SUMPRODUCT((MONTH(DatesD)=$A9)*(OFFSET(DatesD,,INDEX(ColD1,MATCH($C9,Param,0)))>=INDEX(SeuilD1,MATCH($C9,Param,0)))) -> #REF! | AN9: =SUM(D9+J9+P9+V9+AB9+AH9) -> #REF!
