Workbook
Name ColD1: OFFSET(Param,,6)
Name ColD2: OFFSET(Param,,11)
Name ColS: OFFSET(Param,,1)
Name ColSH: OFFSET(Param,,26)
Name ColUF1: OFFSET(Param,,16)
Name ColUF2: OFFSET(Param,,21)
Name DatesD: OFFSET(#REF!,,,COUNTA(#REF!))
Name DatesS: OFFSET(Sivom!$A$26,,,COUNTA(Sivom!$A$26:$A$283))
Name DatesSH: OFFSET(#REF!,,,COUNTA(#REF!))
Name DatesUF: OFFSET(#REF!,,,COUNTA(#REF!))
Name Param: OFFSET(Parametres!$B$5,,,COUNTA(Parametres!$B:$B))
Name Seuil2D1: OFFSET(Param,,8)
Name Seuil2D2: OFFSET(Param,,13)
Name Seuil2SH: OFFSET(Param,,28)
Name Seuil2UF1: OFFSET(Param,,18)
Name Seuil2UF2: OFFSET(Param,,23)
Name SeuilD1: OFFSET(Param,,7)
Name SeuilD2: OFFSET(Param,,12)
Name SeuilS: OFFSET(Param,,2)
Name SeuilS2: OFFSET(Param,,3)
Name SeuilSH: OFFSET(Param,,26)
Name SeuilUF1: OFFSET(Param,,17)
Name SeuilUF2: OFFSET(Param,,22)

Sheet Parametres
B1: Paramètres
B2: Année : | C2: 42370
B3: Sivom | G3: Station Degrémont Entrée | L3: Station Degrémont Sortie | Q3: Station UF Entrée | V3: Station UF Sortie | AA3: Station des Huiles
B4: Intitulés | C4: N° colonne | D4: Seuil | E4: Seuil 2 | G4: Intitulés | H4: N° colonne | I4: Seuil | J4: Seuil 2 | L4: Intitulés | M4: N° colonne | N4: Seuil | O4: Seuil 2 | Q4: Intitulés | R4: N° colonne | S4: Seuil | T4: Seuil 2 | V4: Intitulés | W4: N° colonne | X4: Seuil | Y4: Seuil 2 | AA4: Intitulés | AB4: N° colonne | AC4: Seuil | AD4: Seuil 2
B5: Débit | C5: =COLUMN(Sivom!B15)-1 -> 1 | D5: 4800 | E5: 100000000 | G5: =B5 -> Débit | H5: =COLUMN(#REF!)-1 -> #REF! | I5: 1000 | L5: =B5 -> Débit | M5: =COLUMN(#REF!)-1 -> #REF! | Q5: =B5 -> Débit | V5: =B5 -> Débit | AA5: =B5 -> Débit | AB5: =COLUMN(#REF!)-1 -> #REF!
B6: pH | C6: =COLUMN(Sivom!D15)-1 -> 3 | D6: 5,5-8,5 | E6: 100000000 | G6: =B6 -> pH | H6: =COLUMN(#REF!)-1 -> #REF! | L6: =B6 -> pH | M6: =COLUMN(#REF!)-1 -> #REF! | Q6: =B6 -> pH | V6: =B6 -> pH | AA6: =B6 -> pH
B7: DCO | C7: =COLUMN(Sivom!E15)-1 -> 4 | D7: 1750 | E7: 100000000 | G7: =B7 -> DCO | H7: =COLUMN(#REF!)-1 -> #REF! | I7: 5000 | L7: =B7 -> DCO | M7: =COLUMN(#REF!)-1 -> #REF! | N7: 2000 | O7: 2500 | Q7: =B7 -> DCO | V7: =B7 -> DCO | AA7: =B7 -> DCO | AB7: =COLUMN(#REF!)-1 -> #REF! | AC7: 17000 | AD7: 26000
B8: DCO à D2 | C8: =COLUMN(Sivom!I15)-1 -> 8 | D8: 100000000 | E8: 100000000 | G8: =B8 -> DCO à D2 | H8: =COLUMN(#REF!)-1 -> #REF! | L8: =B8 -> DCO à D2 | Q8: =B8 -> DCO à D2 | V8: =B8 -> DCO à D2 | AA8: =B8 -> DCO à D2
B9: MES | C9: =COLUMN(Sivom!O15)-1 -> 14 | D9: 400 | E9: 100000000 | G9: =B9 -> MES | H9: =COLUMN(#REF!)-1 -> #REF! | I9: 4000 | L9: =B9 -> MES | M9: =COLUMN(#REF!)-1 -> #REF! | N9: 55 | O9: 110 | Q9: =B9 -> MES | V9: =B9 -> MES | AA9: =B9 -> MES | AB9: =COLUMN(#REF!)-1 -> #REF! | AC9: 2600 | AD9: 5000
B10: Ptotal | C10: =COLUMN(Sivom!T15)-1 -> 19 | D10: 15 | E10: 100000000 | G10: =B10 -> Ptotal | H10: =COLUMN(#REF!)-1 -> #REF! | I10: 500 | L10: =B10 -> Ptotal | M10: =COLUMN(#REF!)-1 -> #REF! | N10: 20 | O10: 40 | Q10: =B10 -> Ptotal | V10: =B10 -> Ptotal | AA10: =B10 -> Ptotal
B11: NTK | C11: =COLUMN(Sivom!AA15)-1 -> 26 | D11: 100000000 | E11: 100000000 | G11: =B11 -> NTK | H11: =COLUMN(#REF!)-1 -> #REF! | L11: =B11 -> NTK | M11: =COLUMN(#REF!)-1 -> #REF! | Q11: =B11 -> NTK | V11: =B11 -> NTK | AA11: =B11 -> NTK
B12: NH4 | C12: =COLUMN(Sivom!AC15)-1 -> 28 | D12: 100000000 | E12: 100000000 | G12: =B12 -> NH4 | L12: =B12 -> NH4 | Q12: =B12 -> NH4 | V12: =B12 -> NH4 | AA12: =B12 -> NH4
B13: NO2 | C13: =COLUMN(Sivom!AE15)-1 -> 30 | D13: 100000000 | E13: 100000000 | G13: =B13 -> NO2 | L13: =B13 -> NO2 | Q13: =B13 -> NO2 | V13: =B13 -> NO2 | AA13: =B13 -> NO2
B14: NO3 | C14: =COLUMN(Sivom!AG15)-1 -> 32 | D14: 100000000 | E14: 100000000 | G14: =B14 -> NO3 | L14: =B14 -> NO3 | Q14: =B14 -> NO3 | V14: =B14 -> NO3 | AA14: =B14 -> NO3
B15: Aluminium | C15: =COLUMN(Sivom!AO15)-1 -> 40 | D15: 5 | E15: 100000000 | G15: =B15 -> Aluminium | H15: =COLUMN(#REF!)-1 -> #REF! | I15: 50 | L15: =B15 -> Aluminium | M15: =COLUMN(#REF!)-1 -> #REF! | N15: 3 | O15: 5 | Q15: =B15 -> Aluminium | V15: =B15 -> Aluminium | AA15: =B15 -> Aluminium
B16: Chrome total | C16: =COLUMN(Sivom!AQ15)-1 -> 42 | D16: 5 | E16: 100000000 | G16: =B16 -> Chrome total | H16: =COLUMN(#REF!)-1 -> #REF! | I16: 5 | L16: =B16 -> Chrome total | M16: =COLUMN(#REF!)-1 -> #REF! | N16: 0.3 | O16: 3 | Q16: =B16 -> Chrome total | V16: =B16 -> Chrome total | AA16: =B16 -> Chrome total
B17: Chrome 6+ | C17: =COLUMN(Sivom!AT15)-1 -> 45 | D17: 3 | E17: 100000000 | G17: =B17 -> Chrome 6+ | H17: =COLUMN(#REF!)-1 -> #REF! | L17: =B17 -> Chrome 6+ | M17: =COLUMN(#REF!)-1 -> #REF! | N17: 0.1 | O17: 0.1 | Q17: =B17 -> Chrome 6+ | V17: =B17 -> Chrome 6+ | AA17: =B17 -> Chrome 6+
B18: Cuivre | C18: =COLUMN(Sivom!AX15)-1 -> 49 | D18: 0.5 | E18: 100000000 | G18: =B18 -> Cuivre | H18: =COLUMN(#REF!)-1 -> #REF! | I18: 3 | L18: =B18 -> Cuivre | M18: =COLUMN(#REF!)-1 -> #REF! | N18: 0.3 | O18: 2 | Q18: =B18 -> Cuivre | V18: =B18 -> Cuivre | AA18: =B18 -> Cuivre
B19: Fer | C19: =COLUMN(Sivom!BA15)-1 -> 52 | D19: 5 | E19: 100000000 | G19: =B19 -> Fer | H19: =COLUMN(#REF!)-1 -> #REF! | I19: 60 | L19: =B19 -> Fer | M19: =COLUMN(#REF!)-1 -> #REF! | N19: 2 | O19: 5 | Q19: =B19 -> Fer | V19: =B19 -> Fer | AA19: =B19 -> Fer
B20: Manganèse | C20: =COLUMN(Sivom!BD15)-1 -> 55 | D20: 1 | E20: 100000000 | G20: =B20 -> Manganèse | H20: =COLUMN(#REF!)-1 -> #REF! | I20: 40 | L20: =B20 -> Manganèse | M20: =COLUMN(#REF!)-1 -> #REF! | N20: 1 | Q20: =B20 -> Manganèse | V20: =B20 -> Manganèse | AA20: =B20 -> Manganèse
B21: Nickel | C21: =COLUMN(Sivom!BF15)-1 -> 57 | D21: 0.5 | E21: 100000000 | G21: =B21 -> Nickel | H21: =COLUMN(#REF!)-1 -> #REF! | I21: 30 | L21: =B21 -> Nickel | M21: =COLUMN(#REF!)-1 -> #REF! | N21: 2 | O21: 5 | Q21: =B21 -> Nickel | V21: =B21 -> Nickel | AA21: =B21 -> Nickel
B22: Plomb | C22: =COLUMN(Sivom!BI15)-1 -> 60 | D22: 0.5 | E22: 100000000 | G22: =B22 -> Plomb | H22: =COLUMN(#REF!)-1 -> #REF! | I22: 0.3 | L22: =B22 -> Plomb | M22: =COLUMN(#REF!)-1 -> #REF! | N22: 0.2 | O22: 1 | Q22: =B22 -> Plomb | V22: =B22 -> Plomb | AA22: =B22 -> Plomb
B23: Zinc | C23: =COLUMN(Sivom!BM15)-1 -> 64 | D23: 2 | E23: 100000000 | G23: =B23 -> Zinc | H23: =COLUMN(#REF!)-1 -> #REF! | I23: 90 | L23: =B23 -> Zinc | M23: =COLUMN(#REF!)-1 -> #REF! | N23: 2 | O23: 5 | Q23: =B23 -> Zinc | V23: =B23 -> Zinc | AA23: =B23 -> Zinc
B24: Hydrocarbure | C24: =COLUMN(Sivom!AL15)-1 -> 37 | D24: 10 | E24: 20 | G24: =B24 -> Hydrocarbure | L24: =B24 -> Hydrocarbure | Q24: =B24 -> Hydrocarbure | V24: =B24 -> Hydrocarbure | AA24: =B24 -> Hydrocarbure | AB24: =COLUMN(#REF!)-1 -> #REF! | AC24: 500 | AD24: 700
B25: N global | C25: =COLUMN(Sivom!AI15)-1 -> 34 | D25: 75 | E25: 100000000 | G25: =B25 -> N global | L25: =B25 -> N global | M25: =COLUMN(#REF!)-1 -> #REF! | Q25: =B25 -> N global | V25: =B25 -> N global | AA25: =B25 -> N global
B26: DBO 5 | C26: =COLUMN(Sivom!M15)-1 -> 12 | D26: 450 | E26: 100000000 | G26: =B26 -> DBO 5 | L26: =B26 -> DBO 5 | Q26: =B26 -> DBO 5 | V26: =B26 -> DBO 5 | AA26: =B26 -> DBO 5
B27: température | C27: =COLUMN(Sivom!C15)-1 -> 2 | D27: 30 | E27: 100000000 | G27: =B27 -> température | L27: =B27 -> température | Q27: =B27 -> température | V27: =B27 -> température | AA27: =B27 -> température
B28: Fluorure | C28: =COLUMN(Sivom!X15)-1 -> 23 | D28: 10 | E28: 100000000 | G28: =B28 -> Fluorure | L28: =B28 -> Fluorure | Q28: =B28 -> Fluorure | V28: =B28 -> Fluorure | AA28: =B28 -> Fluorure
B29: Somme total métaux | E29: 100000000 | G29: =B29 -> Somme total métaux | L29: =B29 -> Somme total métaux | N29: 15 | Q29: =B29 -> Somme total métaux | V29: =B29 -> Somme total métaux | AA29: =B29 -> Somme total métaux
B30: Rendement DCO | E30: 100000000 | G30: =B30 -> Rendement DCO | L30: =B30 -> Rendement DCO | Q30: =B30 -> Rendement DCO | V30: =B30 -> Rendement DCO | X30: > 95 | AA30: =B30 -> Rendement DCO
B31: Rendement MES | E31: 100000000 | G31: =B31 -> Rendement MES | L31: =B31 -> Rendement MES | Q31: =B31 -> Rendement MES | V31: =B31 -> Rendement MES | X31: > 98 | AA31: =B31 -> Rendement MES
B33: 1 | C33: 2 | D33: 3 | E33: 4 | F33: 5 | G33: 6 | H33: 7 | I33: 8 | J33: 9 | K33: 10 | L33: 11 | M33: 12 | N33: 13 | O33: 14 | P33: 15 | Q33: 16 | R33: 17 | S33: 18 | T33: 19 | U33: 20 | V33: 21 | W33: 22 | X33: 23 | Y33: 24 | Z33: 25 | AA33: 26 | AB33: 27 | AC33: 28 | AD33: 29

Sheet Sivom
A1: 0 | B1: 1 | C1: 2 | D1: 3 | E1: 4 | F1: 5 | G1: 6 | H1: 7 | I1: 8 | J1: 9 | K1: 10 | L1: 11 | M1: 12 | N1: 13 | O1: 14 | P1: 15 | Q1: 16 | R1: 17 | S1: 18 | T1: 19 | U1: 20 | V1: 21 | W1: 22 | AA1: 23 | AB1: 24 | AC1: 25 | AD1: 26 | AE1: 27 | AF1: 28 | AG1: 29 | AH1: 30 | AI1: 31 | AJ1: 32 | AL1: 33 | AM1: 34 | AN1: 35 | AO1: 36 | AP1: 37 | AQ1: 39 | AR1: 40 | AS1: 41 | AT1: 43 | AU1: 44 | AV1: 45 | AW1: 46 | AX1: 47 | AY1: 48 | AZ1: 50 | BA1: 51 | BB1: 52 | BC1: 54 | BD1: 55 | BE1: 56 | BF1: 58 | BG1: 59 | BH1: 60 | BI1: 62 | BJ1: 63 | BK1: 64 | BL1: 66 | BM1: 67 | BN1: 68
B2: Sivom
A4: Code couleur :
A5: xxx | D5: valeur> au DTG (Domaine de Traitement de Garanti) | S5: xxx | U5: valeurs à renseigner par l'IPL
A6: xxx | D6: valeur > à 95% du DTG | S6: xxx | U6: rendement inférieur à la normale
A7: xxx | D7: valeur > à la convention avec PSA | S7: xxx | U7: rendement nettement supérieur à la normale
A8: xxx | D8: valeur donnant lieu à une pénalité
A10: SIVOM | B10: Suivi des analyses SIVOM
A12: Année: | B12: =Parametres!C2 -> 42370
A15: Paramètre | B15: Débit | D15: pH | E15: DCO | I15: DCO à D2 | M15: DBO 5 | O15: MES | T15: Ptotal | X15: Fluorure | AA15: NTK | AC15: NH4 | AE15: NO2 | AG15: NO3 | AI15: N global | AK15: Hydrocarbure | AN15: Aluminium | AQ15: Chrome total | AT15: Chrome 6+ | AW15: Cuivre | AZ15: Fer | BC15: Manganèse | BF15: Nickel | BI15: Plomb | BL15: Zinc | BO15: Dégrilleur | BP15: Validation | BQ15: Observations
A16: Date | B16: Canal de mesure m³/j | C16: Température °C | E16: Dilution | F16: Valeur lue mg/L | G16: Résultat mg/L | H16: kg/j | I16: Dilution | J16: Valeur lue mg/L | K16: Résultat mg/L | L16: kg/j | M16: Résultat mg/L | N16: kg/j | O16: Masse filtre vide mg | P16: Masse filtre après séchage mg | Q16: Volume filtré ml ou g | R16: Résultat mg/L | S16: kg/j | T16: Dilution | U16: Valeur lue mg/L | V16: Résultat mg/L | W16: kg/j | X16: Résultat mg/L | Z16: kg/j | AA16: Résultat mg/L | AB16: kg/j | AC16: Résultat mg/L | AD16: kg/j | AE16: Résultat mg/L | AF16: kg/j | AG16: Résultat mg/L | AH16: kg/j | AI16: Résultat mg/L | AJ16: kg/j | AK16: Résultat mg/L | AM16: kg/j | AN16: Résultat mg/L | AP16: kg/j | AQ16: Résultat mg/L | AS16: kg/j | AT16: Résultat mg/L | AV16: kg/j | AW16: Résultat mg/L | AY16: kg/j | AZ16: Résultat mg/L | BB16: kg/j | BC16: Résultat mg/L | BE16: kg/j | BF16: Résultat mg/L | BH16: kg/j | BI16: Résultat mg/L | BK16: kg/j | BL16: Résultat mg/L | BN16: kg/j
A17: Seuil | B17: =INDEX(SeuilS,MATCH(B$15,Param,0)) -> 4800 | D17: =INDEX(SeuilS,MATCH(D$15,Param,0)) -> 5,5-8,5 | E17: =INDEX(SeuilS,MATCH(E$15,Param,0)) -> 1750 | I17: =INDEX(SeuilS,MATCH(I$15,Param,0)) -> 100000000 | M17: =INDEX(SeuilS,MATCH(M$15,Param,0)) -> 450 | O17: =INDEX(SeuilS,MATCH(O$15,Param,0)) -> 400 | T17: =INDEX(SeuilS,MATCH(T$15,Param,0)) -> 15 | X17: =INDEX(SeuilS,MATCH(X$15,Param,0)) -> 10 | AA17: =INDEX(SeuilS,MATCH(AA$15,Param,0)) -> 100000000 | AC17: =INDEX(SeuilS,MATCH(AC$15,Param,0)) -> 100000000 | AE17: =INDEX(SeuilS,MATCH(AE$15,Param,0)) -> 100000000 | AG17: =INDEX(SeuilS,MATCH(AG$15,Param,0)) -> 100000000 | AI17: =INDEX(SeuilS,MATCH(AI$15,Param,0)) -> 75 | AL17: =INDEX(SeuilS,MATCH(AK$15,Param,0)) -> 10 | AN17: =INDEX(SeuilS,MATCH(AN$15,Param,0)) -> 5 | AQ17: =INDEX(SeuilS,MATCH(AQ$15,Param,0)) -> 5 | AT17: =INDEX(SeuilS,MATCH(AT$15,Param,0)) -> 3 | AW17: =INDEX(SeuilS,MATCH(AW$15,Param,0)) -> 0.5 | AZ17: =INDEX(SeuilS,MATCH(AZ$15,Param,0)) -> 5 | BC17: =INDEX(SeuilS,MATCH(BC$15,Param,0)) -> 1 | BF17: =INDEX(SeuilS,MATCH(BF$15,Param,0)) -> 0.5 | BI17: =INDEX(SeuilS,MATCH(BI$15,Param,0)) -> 0.5 | BL17: =INDEX(SeuilS,MATCH(BL$15,Param,0)) -> 2
A18: Seuil 2 | B18: =INDEX(SeuilS2,MATCH(B$15,Param,0)) -> 100000000 | D18: =INDEX(SeuilS2,MATCH(D$15,Param,0)) -> 100000000 | E18: =INDEX(SeuilS2,MATCH(E$15,Param,0)) -> 100000000 | I18: =INDEX(SeuilS2,MATCH(I$15,Param,0)) -> 100000000 | M18: =INDEX(SeuilS2,MATCH(M$15,Param,0)) -> 100000000 | O18: =INDEX(SeuilS2,MATCH(O$15,Param,0)) -> 100000000 | T18: =INDEX(SeuilS2,MATCH(T$15,Param,0)) -> 100000000 | X18: =INDEX(SeuilS2,MATCH(X$15,Param,0)) -> 100000000 | AA18: =INDEX(SeuilS2,MATCH(AA$15,Param,0)) -> 100000000 | AC18: =INDEX(SeuilS2,MATCH(AC$15,Param,0)) -> 100000000 | AE18: =INDEX(SeuilS2,MATCH(AE$15,Param,0)) -> 100000000 | AG18: =INDEX(SeuilS2,MATCH(AG$15,Param,0)) -> 100000000 | AI18: =INDEX(SeuilS2,MATCH(AI$15,Param,0)) -> 100000000 | AL18: =INDEX(SeuilS2,MATCH(AK$15,Param,0)) -> 20 | AN18: =INDEX(SeuilS2,MATCH(AN$15,Param,0)) -> 100000000 | AQ18: =INDEX(SeuilS2,MATCH(AQ$15,Param,0)) -> 100000000 | AT18: =INDEX(SeuilS2,MATCH(AT$15,Param,0)) -> 100000000 | AW18: =INDEX(SeuilS2,MATCH(AW$15,Param,0)) -> 100000000 | AZ18: =INDEX(SeuilS2,MATCH(AZ$15,Param,0)) -> 100000000 | BC18: =INDEX(SeuilS2,MATCH(BC$15,Param,0)) -> 100000000 | BF18: =INDEX(SeuilS2,MATCH(BF$15,Param,0)) -> 100000000 | BI18: =INDEX(SeuilS2,MATCH(BI$15,Param,0)) -> 100000000 | BL18: =INDEX(SeuilS2,MATCH(BL$15,Param,0)) -> 100000000
A19: Echantillon. | B19: 24H | C19: 24H | D19: 24H | E19: 24H | I19: 24H | M19: 24H | O19: 24H | T19: 24H | X19: 24H | AA19: 24H | AC19: 24H | AE19: 24H | AG19: 24H | AI19: 24H | AK19: 24H | AN19: 24H | AQ19: 24H | AT19: 24H | AW19: 24H | AZ19: 24H | BC19: 24H | BF19: 24H | BI19: 24H | BL19: 24H | BR19: Terrain
A20: Fréq. ana. | B20: Journalier SIVOM | C20: Journalier VIGS Mulhouse | D20: Journalier VIGS Mulhouse | E20: Journalier VIGS Mulhouse | I20: Journalier VIGS Mulhouse | M20: Journalier SIVOM | O20: Journalier VIGS Mulhouse | T20: Journalier VIGS Mulhouse | X20: Journalier Laboratoire ext | AA20: Journalier Laboratoire ext | AC20: Journalier SIVOM | AE20: Journalier SIVOM | AG20: Journalier SIVOM | AI20: Journalier SIVOM | AK20: Hebdo Laboratoire ext | AN20: Journalier Laboratoire ext | AQ20: Journalier Laboratoire ext | AT20: Journalier Laboratoire ext | AW20: Journalier Laboratoire ext | AZ20: Journalier Laboratoire ext | BC20: Journalier Laboratoire ext | BF20: Journalier Laboratoire ext | BI20: Journalier Laboratoire ext | BL20: Journalier Laboratoire ext | BQ20: Analytique
A21: Seuil 1
A22: Seuil 2
A23: Normes | D23: NF T90-008 | E23: Microméthode | I23: Microméthode | O23: NF EN 872 | T23: Microméthode | AA23: NF EN 25663 | AK23: NF EN 25663
A24: Normes AP
A25: Normes CR
A26: =EOMONTH($B$12,-1)+1 -> 42370 | B26: 317 | C26: 14.99 | D26: 7.58 | E26: 1 | F26: 242 | G26: =IF(F26=0,0,(F26*E26)) -> 242 | H26: =IF(G26=0,0,IF(B26=0,0,(G26*B26/1000))) -> 76.714 | I26: 1 | J26: 185 | K26: =IF(J26=0,0,(J26*I26)) -> 185 | L26: =IF(K26=0,0,IF(B26=0,0,K26*B26/1000)) -> 58.645 | M26: 23 | N26: =IF(M26=0,0,IF(B26=0,0,M26*B26/1000)) -> 7.291 | O26: 90.6 | P26: 91.9 | Q26: 50 | R26: =IF(P26=0,0,(P26-O26)*1000/Q26) -> 26 | S26: =IF(R26=0,0,IF(B26=0,0,R26*B26/1000)) -> 8.242 | T26: 1 | U26: 2.12 | V26: =IF(U26=0,0,(U26*T26)) -> 2.12 | W26: =IF(V26=0,0,IF(B26=0,0,V26*B26/1000)) -> 0.67204 | Z26: =IF(Y26=0,0,IF(B26=0,0,Y26*B26/1000)) -> 0 | AA26: 9.4 | AB26: =IF(AA26=0,0,IF(B26=0,0,AA26*B26/1000)) -> 2.9798 | AC26: 5.07 | AD26: =IF(AC26=0,0,IF(B26=0,0,AC26*B26/1000)) -> 1.60719 | AE26: 0.176 | AF26: =IF(AE26=0,0,IF(B26=0,0,AE26*B26/1000)) -> 0.055792 | AG26: 1.035 | AH26: =IF(AG26=0,0,IF(B26=0,0,AG26*B26/1000)) -> 0.328095 | AI26: =IF(AA26=0,"",SUM(AA26,AE26,AG26)) -> 10.611 | AJ26: =IF(AI26=0,0,IF(B26=0,0,AI26*B26/1000)) -> 3.363687 | AL26: 0.7 | AM26: =IF(AL26=0,0,IF(B26=0,0,AL26*B26/1000)) -> 0.2219 | AO26: 3 | AP26: =IF(AO26=""," ",IF(B26=""," ",AO26*B26/1000)) -> 0.951 | AQ26: < | AR26: 0.025 | AS26: =IF(AR26=""," ",IF(B26=""," ",AR26*B26/1000)) -> 0.007925 | AT26: < | AU26: 0.01 | AV26: =IF(AU26=""," ",IF(B26=""," ",AU26*B26/1000)) -> 0.00317 | AX26: 0.074507356 | AY26: =IF(AX26=""," ",IF(B26=""," ",AX26*B26/1000)) -> 0.023618832 | BA26: 1.1033499 | BB26: =IF(BA26=""," ",IF(B26=""," ",BA26*B26/1000)) -> 0.34976192 | BD26: 0.072797865 | BE26: =IF(BD26=""," ",IF(B26=""," ",BD26*B26/1000)) -> 0.023076923 | BF26: < | BG26: 0.04 | BH26: =IF(BG26=""," ",IF(B26=""," ",BG26*B26/1000)) -> 0.01268 | BI26: < | BJ26: 0.06 | BK26: =IF(BJ26=""," ",IF(B26=""," ",BJ26*B26/1000)) -> 0.01902 | BM26: 0.54356241 | BN26: =IF(BM26=""," ",IF(B26=""," ",BM26*B26/1000)) -> 0.17230928 | BO26: OK | BP26: OK
A27: =A26+1 -> 42371 | B27: 594 | C27: 14.85 | D27: 7.76 | E27: 1 | F27: 196 | G27: =IF(F27=0,0,(F27*E27)) -> 196 | H27: =IF(G27=0,0,IF(B27=0,0,(G27*B27/1000))) -> 116.424 | I27: 1 | J27: 135 | K27: =IF(J27=0,0,(J27*I27)) -> 135 | L27: =IF(K27=0,0,IF(B27=0,0,K27*B27/1000)) -> 80.19 | M27: 20 | N27: =IF(M27=0,0,IF(B27=0,0,M27*B27/1000)) -> 11.88 | O27: 93.7 | P27: 97.1 | Q27: 75 | R27: =IF(P27=0,0,(P27-O27)*1000/Q27) -> 45.333333 | S27: =IF(R27=0,0,IF(B27=0,0,R27*B27/1000)) -> 26.928 | T27: 1 | U27: 1.38 | V27: =IF(U27=0,0,(U27*T27)) -> 1.38 | W27: =IF(V27=0,0,IF(B27=0,0,V27*B27/1000)) -> 0.81972 | Z27: =IF(Y27=0,0,IF(B27=0,0,Y27*B27/1000)) -> 0 | AA27: 5.8 | AB27: =IF(AA27=0,0,IF(B27=0,0,AA27*B27/1000)) -> 3.4452 | AC27: 4.06 | AD27: =IF(AC27=0,0,IF(B27=0,0,AC27*B27/1000)) -> 2.41164 | AE27: 0.422 | AF27: =IF(AE27=0,0,IF(B27=0,0,AE27*B27/1000)) -> 0.250668 | AG27: 2.159 | AH27: =IF(AG27=0,0,IF(B27=0,0,AG27*B27/1000)) -> 1.282446 | AI27: =IF(AA27=0,"",SUM(AA27,AE27,AG27)) -> 8.381 | AJ27: =IF(AI27=0,0,IF(B27=0,0,AI27*B27/1000)) -> 4.978314 | AL27: 1 | AM27: =IF(AL27=0,0,IF(B27=0,0,AL27*B27/1000)) -> 0.594 | AO27: 0.56 | AP27: =IF(AO27=""," ",IF(B27=""," ",AO27*B27/1000)) -> 0.33264 | AQ27: < | AR27: 0.05 | AS27: =IF(AR27=""," ",IF(B27=""," ",AR27*B27/1000)) -> 0.0297 | AT27: < | AU27: 0.01 | AV27: =IF(AU27=""," ",IF(B27=""," ",AU27*B27/1000)) -> 0.00594 | AX27: 0.078868389 | AY27: =IF(AX27=""," ",IF(B27=""," ",AX27*B27/1000)) -> 0.046847823 | BA27: 0.75599927 | BB27: =IF(BA27=""," ",IF(B27=""," ",BA27*B27/1000)) -> 0.44906356 | BD27: 0.058004096 | BE27: =IF(BD27=""," ",IF(B27=""," ",BD27*B27/1000)) -> 0.034454433 | BF27: < | BG27: 0.04 | BH27: =IF(BG27=""," ",IF(B27=""," ",BG27*B27/1000)) -> 0.02376 | BI27: < | BJ27: 0.06 | BK27: =IF(BJ27=""," ",IF(B27=""," ",BJ27*B27/1000)) -> 0.03564 | BM27: 0.40578052 | BN27: =IF(BM27=""," ",IF(B27=""," ",BM27*B27/1000)) -> 0.24103363 | BO27: OK | BP27: OK
A28: =A27+1 -> 42372 | B28: 825 | C28: 14.81 | E28: 1 | G28: =IF(F28=0,0,(F28*E28)) -> 0 | H28: =IF(G28=0,0,IF(B28=0,0,(G28*B28/1000))) -> 0 | I28: 1 | K28: =IF(J28=0,0,(J28*I28)) -> 0 | L28: =IF(K28=0,0,IF(B28=0,0,K28*B28/1000)) -> 0 | M28: 114 | N28: =IF(M28=0,0,IF(B28=0,0,M28*B28/1000)) -> 94.05 | Q28: 100 | R28: =IF(P28=0,0,(P28-O28)*1000/Q28) -> 0 | S28: =IF(R28=0,0,IF(B28=0,0,R28*B28/1000)) -> 0 | T28: 1 | V28: =IF(U28=0,0,(U28*T28)) -> 0 | W28: =IF(V28=0,0,IF(B28=0,0,V28*B28/1000)) -> 0 | Z28: =IF(Y28=0,0,IF(B28=0,0,Y28*B28/1000)) -> 0 | AA28: 46.92 | AB28: =IF(AA28=0,0,IF(B28=0,0,AA28*B28/1000)) -> 38.709 | AC28: 8.1 | AD28: =IF(AC28=0,0,IF(B28=0,0,AC28*B28/1000)) -> 6.6825 | AE28: 0.488 | AF28: =IF(AE28=0,0,IF(B28=0,0,AE28*B28/1000)) -> 0.4026 | AG28: 1.298 | AH28: =IF(AG28=0,0,IF(B28=0,0,AG28*B28/1000)) -> 1.07085 | AI28: =IF(AA28=0,"",SUM(AA28,AE28,AG28)) -> 48.706 | AJ28: =IF(AI28=0,0,IF(B28=0,0,AI28*B28/1000)) -> 40.18245 | AM28: =IF(AL28=0,0,IF(B28=0,0,AL28*B28/1000)) -> 0 | AP28: =IF(AO28=""," ",IF(B28=""," ",AO28*B28/1000)) | AS28: =IF(AR28=""," ",IF(B28=""," ",AR28*B28/1000)) | AV28: =IF(AU28=""," ",IF(B28=""," ",AU28*B28/1000)) | AY28: =IF(AX28=""," ",IF(B28=""," ",AX28*B28/1000)) | BB28: =IF(BA28=""," ",IF(B28=""," ",BA28*B28/1000)) | BE28: =IF(BD28=""," ",IF(B28=""," ",BD28*B28/1000)) | BH28: =IF(BG28=""," ",IF(B28=""," ",BG28*B28/1000)) | BK28: =IF(BJ28=""," ",IF(B28=""," ",BJ28*B28/1000)) | BN28: =IF(BM28=""," ",IF(B28=""," ",BM28*B28/1000)) | BO28: OK | BP28: OK | BQ28: pas de prélèvement débit non représentatif
A29: =A28+1 -> 42373 | B29: 1450 | C29: 14.67 | D29: 8.07 | E29: 1 | F29: 1662 | G29: =IF(F29=0,0,(F29*E29)) -> 1662 | H29: =IF(G29=0,0,IF(B29=0,0,(G29*B29/1000))) -> 2409.9 | I29: 1 | J29: 1465 | K29: =IF(J29=0,0,(J29*I29)) -> 1465 | L29: =IF(K29=0,0,IF(B29=0,0,K29*B29/1000)) -> 2124.25 | M29: 183 | N29: =IF(M29=0,0,IF(B29=0,0,M29*B29/1000)) -> 265.35 | O29: 91.8 | P29: 104.2 | Q29: 59 | R29: =IF(P29=0,0,(P29-O29)*1000/Q29) -> 210.16949 | S29: =IF(R29=0,0,IF(B29=0,0,R29*B29/1000)) -> 304.74576 | T29: 1 | U29: 6.68 | V29: =IF(U29=0,0,(U29*T29)) -> 6.68 | W29: =IF(V29=0,0,IF(B29=0,0,V29*B29/1000)) -> 9.686 | Z29: =IF(Y29=0,0,IF(B29=0,0,Y29*B29/1000)) -> 0 | AA29: 21.3 | AB29: =IF(AA29=0,0,IF(B29=0,0,AA29*B29/1000)) -> 30.885 | AC29: 5.59 | AD29: =IF(AC29=0,0,IF(B29=0,0,AC29*B29/1000)) -> 8.1055 | AE29: 0.406 | AF29: =IF(AE29=0,0,IF(B29=0,0,AE29*B29/1000)) -> 0.5887 | AG29: 0.424 | AH29: =IF(AG29=0,0,IF(B29=0,0,AG29*B29/1000)) -> 0.6148 | AI29: =IF(AA29=0,"",SUM(AA29,AE29,AG29)) -> 22.13 | AJ29: =IF(AI29=0,0,IF(B29=0,0,AI29*B29/1000)) -> 32.0885 | AL29: 2.65 | AM29: =IF(AL29=0,0,IF(B29=0,0,AL29*B29/1000)) -> 3.8425 | AO29: 1.1 | AP29: =IF(AO29=""," ",IF(B29=""," ",AO29*B29/1000)) -> 1.595 | AQ29: < | AR29: 0.05 | AS29: =IF(AR29=""," ",IF(B29=""," ",AR29*B29/1000)) -> 0.0725 | AT29: < | AU29: 0.01 | AV29: =IF(AU29=""," ",IF(B29=""," ",AU29*B29/1000)) -> 0.0145 | AX29: 0.13062356 | AY29: =IF(AX29=""," ",IF(B29=""," ",AX29*B29/1000)) -> 0.18940417 | BA29: 4.2686834 | BB29: =IF(BA29=""," ",IF(B29=""," ",BA29*B29/1000)) -> 6.189591 | BD29: 0.26114401 | BE29: =IF(BD29=""," ",IF(B29=""," ",BD29*B29/1000)) -> 0.37865882 | BG29: 0.072508507 | BH29: =IF(BG29=""," ",IF(B29=""," ",BG29*B29/1000)) -> 0.10513733 | BI29: < | BJ29: 0.06 | BK29: =IF(BJ29=""," ",IF(B29=""," ",BJ29*B29/1000)) -> 0.087 | BM29: 1.9452386 | BN29: =IF(BM29=""," ",IF(B29=""," ",BM29*B29/1000)) -> 2.820596 | BO29: OK | BP29: OK | BQ29: Echantillon chargé,noir
A30: =A29+1 -> 42374 | B30: 1367 | C30: 12.07 | D30: 7.93 | E30: 1 | F30: 1168 | G30: =IF(F30=0,0,(F30*E30)) -> 1168 | H30: =IF(G30=0,0,IF(B30=0,0,(G30*B30/1000))) -> 1596.656 | I30: 1 | J30: 1009 | K30: =IF(J30=0,0,(J30*I30)) -> 1009 | L30: =IF(K30=0,0,IF(B30=0,0,K30*B30/1000)) -> 1379.303 | M30: 183 | N30: =IF(M30=0,0,IF(B30=0,0,M30*B30/1000)) -> 250.161 | O30: 89.5 | P30: 96.7 | Q30: 42 | R30: =IF(P30=0,0,(P30-O30)*1000/Q30) -> 171.42857 | S30: =IF(R30=0,0,IF(B30=0,0,R30*B30/1000)) -> 234.34286 | T30: 1 | U30: 4.67 | V30: =IF(U30=0,0,(U30*T30)) -> 4.67 | W30: =IF(V30=0,0,IF(B30=0,0,V30*B30/1000)) -> 6.38389 | Z30: =IF(Y30=0,0,IF(B30=0,0,Y30*B30/1000)) -> 0 | AA30: 27 | AB30: =IF(AA30=0,0,IF(B30=0,0,AA30*B30/1000)) -> 36.909 | AC30: 11 | AD30: =IF(AC30=0,0,IF(B30=0,0,AC30*B30/1000)) -> 15.037 | AE30: 0.213 | AF30: =IF(AE30=0,0,IF(B30=0,0,AE30*B30/1000)) -> 0.291171 | AG30: 0.117 | AH30: =IF(AG30=0,0,IF(B30=0,0,AG30*B30/1000)) -> 0.159939 | AI30: =IF(AA30=0,"",SUM(AA30,AE30,AG30)) -> 27.33 | AJ30: =IF(AI30=0,0,IF(B30=0,0,AI30*B30/1000)) -> 37.36011 | AL30: 2.1 | AM30: =IF(AL30=0,0,IF(B30=0,0,AL30*B30/1000)) -> 2.8707 | AO30: 0.56 | AP30: =IF(AO30=""," ",IF(B30=""," ",AO30*B30/1000)) -> 0.76552 | AQ30: < | AR30: 0.05 | AS30: =IF(AR30=""," ",IF(B30=""," ",AR30*B30/1000)) -> 0.06835 | AT30: < | AU30: 0.01 | AV30: =IF(AU30=""," ",IF(B30=""," ",AU30*B30/1000)) -> 0.01367 | AX30: 0.12007198 | AY30: =IF(AX30=""," ",IF(B30=""," ",AX30*B30/1000)) -> 0.16413839 | BA30: 3.9555671 | BB30: =IF(BA30=""," ",IF(B30=""," ",BA30*B30/1000)) -> 5.4072603 | BD30: 0.17104378 | BE30: =IF(BD30=""," ",IF(B30=""," ",BD30*B30/1000)) -> 0.23381685 | BG30: 0.051509351 | BH30: =IF(BG30=""," ",IF(B30=""," ",BG30*B30/1000)) -> 0.070413282 | BI30: < | BJ30: 0.06 | BK30: =IF(BJ30=""," ",IF(B30=""," ",BJ30*B30/1000)) -> 0.08202 | BM30: 1.0082187 | BN30: =IF(BM30=""," ",IF(B30=""," ",BM30*B30/1000)) -> 1.3782349 | BO30: OK | BP30: OK | BQ30: Echantillon chargé,noir
A31: =A30+1 -> 42375 | B31: 1592 | C31: 7.14 | D31: 8.1 | E31: 1 | F31: 1167 | G31: =IF(F31=0,0,(F31*E31)) -> 1167 | H31: =IF(G31=0,0,IF(B31=0,0,(G31*B31/1000))) -> 1857.864 | I31: 1 | J31: 1165 | K31: =IF(J31=0,0,(J31*I31)) -> 1165 | L31: =IF(K31=0,0,IF(B31=0,0,K31*B31/1000)) -> 1854.68 | M31: 211 | N31: =IF(M31=0,0,IF(B31=0,0,M31*B31/1000)) -> 335.912 | O31: 92 | P31: 100 | Q31: 54 | R31: =IF(P31=0,0,(P31-O31)*1000/Q31) -> 148.14815 | S31: =IF(R31=0,0,IF(B31=0,0,R31*B31/1000)) -> 235.85185 | T31: 1 | U31: 5.81 | V31: =IF(U31=0,0,(U31*T31)) -> 5.81 | W31: =IF(V31=0,0,IF(B31=0,0,V31*B31/1000)) -> 9.24952 | Z31: =IF(Y31=0,0,IF(B31=0,0,Y31*B31/1000)) -> 0 | AA31: 28 | AB31: =IF(AA31=0,0,IF(B31=0,0,AA31*B31/1000)) -> 44.576 | AC31: 12 | AD31: =IF(AC31=0,0,IF(B31=0,0,AC31*B31/1000)) -> 19.104 | AE31: 0.186 | AF31: =IF(AE31=0,0,IF(B31=0,0,AE31*B31/1000)) -> 0.296112 | AG31: 0.291 | AH31: =IF(AG31=0,0,IF(B31=0,0,AG31*B31/1000)) -> 0.463272 | AI31: =IF(AA31=0,"",SUM(AA31,AE31,AG31)) -> 28.477 | AJ31: =IF(AI31=0,0,IF(B31=0,0,AI31*B31/1000)) -> 45.335384 | AL31: 0.78 | AM31: =IF(AL31=0,0,IF(B31=0,0,AL31*B31/1000)) -> 1.24176 | AO31: 0.47 | AP31: =IF(AO31=""," ",IF(B31=""," ",AO31*B31/1000)) -> 0.74824 | AQ31: < | AR31: 0.05 | AS31: =IF(AR31=""," ",IF(B31=""," ",AR31*B31/1000)) -> 0.0796 | AT31: < | AU31: 0.01 | AV31: =IF(AU31=""," ",IF(B31=""," ",AU31*B31/1000)) -> 0.01592 | AX31: 0.1144399 | AY31: =IF(AX31=""," ",IF(B31=""," ",AX31*B31/1000)) -> 0.18218832 | BA31: 2.4961936 | BB31: =IF(BA31=""," ",IF(B31=""," ",BA31*B31/1000)) -> 3.9739403 | BD31: 0.14966993 | BE31: =IF(BD31=""," ",IF(B31=""," ",BD31*B31/1000)) -> 0.23827453 | BG31: 0.04652356 | BH31: =IF(BG31=""," ",IF(B31=""," ",BG31*B31/1000)) -> 0.074065507 | BI31: < | BJ31: 0.06 | BK31: =IF(BJ31=""," ",IF(B31=""," ",BJ31*B31/1000)) -> 0.09552 | BM31: 1.4166692 | BN31: =IF(BM31=""," ",IF(B31=""," ",BM31*B31/1000)) -> 2.2553374 | BO31: OK | BP31: OK | BQ31: Echantillon chargé,noir
A32: =A31+1 -> 42376 | B32: 2090 | C32: 7.21 | D32: 8.09 | E32: 1 | F32: 928 | G32: =IF(F32=0,0,(F32*E32)) -> 928 | H32: =IF(G32=0,0,IF(B32=0,0,(G32*B32/1000))) -> 1939.52 | I32: 1 | J32: 770 | K32: =IF(J32=0,0,(J32*I32)) -> 770 | L32: =IF(K32=0,0,IF(B32=0,0,K32*B32/1000)) -> 1609.3 | M32: 154 | N32: =IF(M32=0,0,IF(B32=0,0,M32*B32/1000)) -> 321.86 | O32: 90.6 | P32: 104.9 | Q32: 72 | R32: =IF(P32=0,0,(P32-O32)*1000/Q32) -> 198.61111 | S32: =IF(R32=0,0,IF(B32=0,0,R32*B32/1000)) -> 415.09722 | T32: 1 | U32: 7.93 | V32: =IF(U32=0,0,(U32*T32)) -> 7.93 | W32: =IF(V32=0,0,IF(B32=0,0,V32*B32/1000)) -> 16.5737 | Z32: =IF(Y32=0,0,IF(B32=0,0,Y32*B32/1000)) -> 0 | AA32: 24.1 | AB32: =IF(AA32=0,0,IF(B32=0,0,AA32*B32/1000)) -> 50.369 | AC32: 12.85 | AD32: =IF(AC32=0,0,IF(B32=0,0,AC32*B32/1000)) -> 26.8565 | AE32: 0.292 | AF32: =IF(AE32=0,0,IF(B32=0,0,AE32*B32/1000)) -> 0.61028 | AG32: 2.236 | AH32: =IF(AG32=0,0,IF(B32=0,0,AG32*B32/1000)) -> 4.67324 | AI32: =IF(AA32=0,"",SUM(AA32,AE32,AG32)) -> 26.628 | AJ32: =IF(AI32=0,0,IF(B32=0,0,AI32*B32/1000)) -> 55.65252 | AL32: 0.89 | AM32: =IF(AL32=0,0,IF(B32=0,0,AL32*B32/1000)) -> 1.8601 | AO32: 1.2 | AP32: =IF(AO32=""," ",IF(B32=""," ",AO32*B32/1000)) -> 2.508 | AQ32: < | AR32: 0.05 | AS32: =IF(AR32=""," ",IF(B32=""," ",AR32*B32/1000)) -> 0.1045 | AT32: < | AU32: 0.01 | AV32: =IF(AU32=""," ",IF(B32=""," ",AU32*B32/1000)) -> 0.0209 | AX32: 0.069196828 | AY32: =IF(AX32=""," ",IF(B32=""," ",AX32*B32/1000)) -> 0.14462137 | BA32: 3.4505036 | BB32: =IF(BA32=""," ",IF(B32=""," ",BA32*B32/1000)) -> 7.2115525 | BD32: 0.242568 | BE32: =IF(BD32=""," ",IF(B32=""," ",BD32*B32/1000)) -> 0.50696712 | BG32: 0.060070958 | BH32: =IF(BG32=""," ",IF(B32=""," ",BG32*B32/1000)) -> 0.1255483 | BI32: < | BJ32: 0.06 | BK32: =IF(BJ32=""," ",IF(B32=""," ",BJ32*B32/1000)) -> 0.1254 | BM32: 2.2580459 | BN32: =IF(BM32=""," ",IF(B32=""," ",BM32*B32/1000)) -> 4.719316 | BO32: OK | BP32: OK | BQ32: Echantillon chargé,noir
A33: =A32+1 -> 42377 | B33: 2233 | C33: 7.26 | D33: 7.36 | E33: 1 | F33: 1962 | G33: =IF(F33=0,0,(F33*E33)) -> 1962 | H33: =IF(G33=0,0,IF(B33=0,0,(G33*B33/1000))) -> 4381.146 | I33: 1 | J33: 1371 | K33: =IF(J33=0,0,(J33*I33)) -> 1371 | L33: =IF(K33=0,0,IF(B33=0,0,K33*B33/1000)) -> 3061.443 | M33: 369 | N33: =IF(M33=0,0,IF(B33=0,0,M33*B33/1000)) -> 823.977 | O33: 89.7 | P33: 121.5 | Q33: 63 | R33: =IF(P33=0,0,(P33-O33)*1000/Q33) -> 504.7619 | S33: =IF(R33=0,0,IF(B33=0,0,R33*B33/1000)) -> 1127.1333 | T33: 1 | U33: 24.1 | V33: =IF(U33=0,0,(U33*T33)) -> 24.1 | W33: =IF(V33=0,0,IF(B33=0,0,V33*B33/1000)) -> 53.8153 | Z33: =IF(Y33=0,0,IF(B33=0,0,Y33*B33/1000)) -> 0 | AA33: 26.8 | AB33: =IF(AA33=0,0,IF(B33=0,0,AA33*B33/1000)) -> 59.8444 | AC33: 10.65 | AD33: =IF(AC33=0,0,IF(B33=0,0,AC33*B33/1000)) -> 23.78145 | AE33: 0.1 | AF33: =IF(AE33=0,0,IF(B33=0,0,AE33*B33/1000)) -> 0.2233 | AG33: 0.2 | AH33: =IF(AG33=0,0,IF(B33=0,0,AG33*B33/1000)) -> 0.4466 | AI33: =IF(AA33=0,"",SUM(AA33,AE33,AG33)) -> 27.1 | AJ33: =IF(AI33=0,0,IF(B33=0,0,AI33*B33/1000)) -> 60.5143 | AL33: 1.32 | AM33: =IF(AL33=0,0,IF(B33=0,0,AL33*B33/1000)) -> 2.94756 | AO33: 4.1 | AP33: =IF(AO33=""," ",IF(B33=""," ",AO33*B33/1000)) -> 9.1553 | AQ33: < | AR33: 0.05 | AS33: =IF(AR33=""," ",IF(B33=""," ",AR33*B33/1000)) -> 0.11165 | AT33: < | AU33: 0.01 | AV33: =IF(AU33=""," ",IF(B33=""," ",AU33*B33/1000)) -> 0.02233 | AX33: 0.1 | AY33: =IF(AX33=""," ",IF(B33=""," ",AX33*B33/1000)) -> 0.2233 | BA33: 9.19 | BB33: =IF(BA33=""," ",IF(B33=""," ",BA33*B33/1000)) -> 20.52127 | BD33: 0.98 | BE33: =IF(BD33=""," ",IF(B33=""," ",BD33*B33/1000)) -> 2.18834 | BG33: 0.26 | BH33: =IF(BG33=""," ",IF(B33=""," ",BG33*B33/1000)) -> 0.58058 | BI33: < | BJ33: 0.06 | BK33: =IF(BJ33=""," ",IF(B33=""," ",BJ33*B33/1000)) -> 0.13398 | BM33: 8.43 | BN33: =IF(BM33=""," ",IF(B33=""," ",BM33*B33/1000)) -> 18.82419 | BO33: OK | BP33: OK | BQ33: Echantillon chargé,noir DCO=2034 mg/L. MES=512 mg/L.phosphore=28,2 mg/L.
A34: =A33+1 -> 42378 | B34: 1446 | C34: 7.78 | D34: 7.62 | E34: 1 | F34: 1008 | G34: =IF(F34=0,0,(F34*E34)) -> 1008 | H34: =IF(G34=0,0,IF(B34=0,0,(G34*B34/1000))) -> 1457.568 | I34: 1 | J34: 677 | K34: =IF(J34=0,0,(J34*I34)) -> 677 | L34: =IF(K34=0,0,IF(B34=0,0,K34*B34/1000)) -> 978.942 | M34: 172 | N34: =IF(M34=0,0,IF(B34=0,0,M34*B34/1000)) -> 248.712 | O34: 90.6 | P34: 108.7 | Q34: 74 | R34: =IF(P34=0,0,(P34-O34)*1000/Q34) -> 244.59459 | S34: =IF(R34=0,0,IF(B34=0,0,R34*B34/1000)) -> 353.68378 | T34: 1 | U34: 11.5 | V34: =IF(U34=0,0,(U34*T34)) -> 11.5 | W34: =IF(V34=0,0,IF(B34=0,0,V34*B34/1000)) -> 16.629 | Z34: =IF(Y34=0,0,IF(B34=0,0,Y34*B34/1000)) -> 0 | AA34: 15.2 | AB34: =IF(AA34=0,0,IF(B34=0,0,AA34*B34/1000)) -> 21.9792 | AC34: 5.16 | AD34: =IF(AC34=0,0,IF(B34=0,0,AC34*B34/1000)) -> 7.46136 | AE34: 0.184 | AF34: =IF(AE34=0,0,IF(B34=0,0,AE34*B34/1000)) -> 0.266064 | AG34: 1.307 | AH34: =IF(AG34=0,0,IF(B34=0,0,AG34*B34/1000)) -> 1.889922 | AI34: =IF(AA34=0,"",SUM(AA34,AE34,AG34)) -> 16.691 | AJ34: =IF(AI34=0,0,IF(B34=0,0,AI34*B34/1000)) -> 24.135186 | AL34: 0.5 | AM34: =IF(AL34=0,0,IF(B34=0,0,AL34*B34/1000)) -> 0.723 | AO34: 1.9 | AP34: =IF(AO34=""," ",IF(B34=""," ",AO34*B34/1000)) -> 2.7474 | AQ34: < | AR34: 0.05 | AS34: =IF(AR34=""," ",IF(B34=""," ",AR34*B34/1000)) -> 0.0723 | AT34: < | AU34: 0.01 | AV34: =IF(AU34=""," ",IF(B34=""," ",AU34*B34/1000)) -> 0.01446 | AX34: 0.06 | AY34: =IF(AX34=""," ",IF(B34=""," ",AX34*B34/1000)) -> 0.08676 | BA34: 5.11 | BB34: =IF(BA34=""," ",IF(B34=""," ",BA34*B34/1000)) -> 7.38906 | BD34: 0.46 | BE34: =IF(BD34=""," ",IF(B34=""," ",BD34*B34/1000)) -> 0.66516 | BG34: 0.14 | BH34: =IF(BG34=""," ",IF(B34=""," ",BG34*B34/1000)) -> 0.20244 | BI34: < | BJ34: 0.06 | BK34: =IF(BJ34=""," ",IF(B34=""," ",BJ34*B34/1000)) -> 0.08676 | BM34: 4.61 | BN34: =IF(BM34=""," ",IF(B34=""," ",BM34*B34/1000)) -> 6.66606 | BO34: OK | BP34: OK
A35: =A34+1 -> 42379 | B35: 1576 | C35: 7.93 | D35: 7.9 | E35: 1 | F35: 535 | G35: =IF(F35=0,0,(F35*E35)) -> 535 | H35: =IF(G35=0,0,IF(B35=0,0,(G35*B35/1000))) -> 843.16 | I35: 1 | J35: 346 | K35: =IF(J35=0,0,(J35*I35)) -> 346 | L35: =IF(K35=0,0,IF(B35=0,0,K35*B35/1000)) -> 545.296 | M35: 109 | N35: =IF(M35=0,0,IF(B35=0,0,M35*B35/1000)) -> 171.784 | O35: 88.6 | P35: 101.5 | Q35: 82 | R35: =IF(P35=0,0,(P35-O35)*1000/Q35) -> 157.31707 | S35: =IF(R35=0,0,IF(B35=0,0,R35*B35/1000)) -> 247.93171 | T35: 1 | U35: 6.8 | V35: =IF(U35=0,0,(U35*T35)) -> 6.8 | W35: =IF(V35=0,0,IF(B35=0,0,V35*B35/1000)) -> 10.7168 | Z35: =IF(Y35=0,0,IF(B35=0,0,Y35*B35/1000)) -> 0 | AA35: 10 | AB35: =IF(AA35=0,0,IF(B35=0,0,AA35*B35/1000)) -> 15.76 | AC35: 1.53 | AD35: =IF(AC35=0,0,IF(B35=0,0,AC35*B35/1000)) -> 2.41128 | AE35: 0.1 | AF35: =IF(AE35=0,0,IF(B35=0,0,AE35*B35/1000)) -> 0.1576 | AG35: 0.482 | AH35: =IF(AG35=0,0,IF(B35=0,0,AG35*B35/1000)) -> 0.759632 | AI35: =IF(AA35=0,"",SUM(AA35,AE35,AG35)) -> 10.582 | AJ35: =IF(AI35=0,0,IF(B35=0,0,AI35*B35/1000)) -> 16.677232 | AL35: 0.8 | AM35: =IF(AL35=0,0,IF(B35=0,0,AL35*B35/1000)) -> 1.2608 | AO35: 1.3 | AP35: =IF(AO35=""," ",IF(B35=""," ",AO35*B35/1000)) -> 2.0488 | AQ35: < | AR35: 0.05 | AS35: =IF(AR35=""," ",IF(B35=""," ",AR35*B35/1000)) -> 0.0788 | AT35: < | AU35: 0.01 | AV35: =IF(AU35=""," ",IF(B35=""," ",AU35*B35/1000)) -> 0.01576 | AX35: 0.04 | AY35: =IF(AX35=""," ",IF(B35=""," ",AX35*B35/1000)) -> 0.06304 | BA35: 3.02 | BB35: =IF(BA35=""," ",IF(B35=""," ",BA35*B35/1000)) -> 4.75952 | BD35: 0.28 | BE35: =IF(BD35=""," ",IF(B35=""," ",BD35*B35/1000)) -> 0.44128 | BG35: 0.09 | BH35: =IF(BG35=""," ",IF(B35=""," ",BG35*B35/1000)) -> 0.14184 | BI35: < | BJ35: 0.06 | BK35: =IF(BJ35=""," ",IF(B35=""," ",BJ35*B35/1000)) -> 0.09456 | BM35: 2.95 | BN35: =IF(BM35=""," ",IF(B35=""," ",BM35*B35/1000)) -> 4.6492 | BO35: OK | BP35: OK
A36: =A35+1 -> 42380 | B36: 2479 | C36: 7.83 | D36: 7.69 | E36: 1 | F36: 1310 | G36: =IF(F36=0,0,(F36*E36)) -> 1310 | H36: =IF(G36=0,0,IF(B36=0,0,(G36*B36/1000))) -> 3247.49 | I36: 1 | J36: 950 | K36: =IF(J36=0,0,(J36*I36)) -> 950 | L36: =IF(K36=0,0,IF(B36=0,0,K36*B36/1000)) -> 2355.05 | M36: 248 | N36: =IF(M36=0,0,IF(B36=0,0,M36*B36/1000)) -> 614.792 | O36: 91.3 | P36: 113.6 | Q36: 68 | R36: =IF(P36=0,0,(P36-O36)*1000/Q36) -> 327.94118 | S36: =IF(R36=0,0,IF(B36=0,0,R36*B36/1000)) -> 812.96618 | T36: 1 | U36: 9.6 | V36: =IF(U36=0,0,(U36*T36)) -> 9.6 | W36: =IF(V36=0,0,IF(B36=0,0,V36*B36/1000)) -> 23.7984 | Z36: =IF(Y36=0,0,IF(B36=0,0,Y36*B36/1000)) -> 0 | AA36: 20.4 | AB36: =IF(AA36=0,0,IF(B36=0,0,AA36*B36/1000)) -> 50.5716 | AC36: 8.51 | AD36: =IF(AC36=0,0,IF(B36=0,0,AC36*B36/1000)) -> 21.09629 | AE36: 0.1 | AF36: =IF(AE36=0,0,IF(B36=0,0,AE36*B36/1000)) -> 0.2479 | AG36: 0.215 | AH36: =IF(AG36=0,0,IF(B36=0,0,AG36*B36/1000)) -> 0.532985 | AI36: =IF(AA36=0,"",SUM(AA36,AE36,AG36)) -> 20.715 | AJ36: =IF(AI36=0,0,IF(B36=0,0,AI36*B36/1000)) -> 51.352485 | AL36: 3.41 | AM36: =IF(AL36=0,0,IF(B36=0,0,AL36*B36/1000)) -> 8.45339 | AO36: 1.7 | AP36: =IF(AO36=""," ",IF(B36=""," ",AO36*B36/1000)) -> 4.2143 | AQ36: < | AR36: 0.05 | AS36: =IF(AR36=""," ",IF(B36=""," ",AR36*B36/1000)) -> 0.12395 | AT36: < | AU36: 0.01 | AV36: =IF(AU36=""," ",IF(B36=""," ",AU36*B36/1000)) -> 0.02479 | AX36: 0.08 | AY36: =IF(AX36=""," ",IF(B36=""," ",AX36*B36/1000)) -> 0.19832 | BA36: 6.11 | BB36: =IF(BA36=""," ",IF(B36=""," ",BA36*B36/1000)) -> 15.14669 | BD36: 0.36 | BE36: =IF(BD36=""," ",IF(B36=""," ",BD36*B36/1000)) -> 0.89244 | BG36: 0.16 | BH36: =IF(BG36=""," ",IF(B36=""," ",BG36*B36/1000)) -> 0.39664 | BI36: < | BJ36: 0.06 | BK36: =IF(BJ36=""," ",IF(B36=""," ",BJ36*B36/1000)) -> 0.14874 | BM36: 2.01 | BN36: =IF(BM36=""," ",IF(B36=""," ",BM36*B36/1000)) -> 4.98279 | BO36: OK | BP36: OK | BQ36: Echantillon chargé,noir
A37: =A36+1 -> 42381 | B37: 2236 | C37: 8.95 | D37: 7.78 | E37: 1 | F37: 950 | G37: =IF(F37=0,0,(F37*E37)) -> 950 | H37: =IF(G37=0,0,IF(B37=0,0,(G37*B37/1000))) -> 2124.2 | I37: 1 | J37: 867 | K37: =IF(J37=0,0,(J37*I37)) -> 867 | L37: =IF(K37=0,0,IF(B37=0,0,K37*B37/1000)) -> 1938.612 | M37: 223 | N37: =IF(M37=0,0,IF(B37=0,0,M37*B37/1000)) -> 498.628 | O37: 88.4 | P37: 98.9 | Q37: 69 | R37: =IF(P37=0,0,(P37-O37)*1000/Q37) -> 152.17391 | S37: =IF(R37=0,0,IF(B37=0,0,R37*B37/1000)) -> 340.26087 | T37: 1 | U37: 13.3 | V37: =IF(U37=0,0,(U37*T37)) -> 13.3 | W37: =IF(V37=0,0,IF(B37=0,0,V37*B37/1000)) -> 29.7388 | Z37: =IF(Y37=0,0,IF(B37=0,0,Y37*B37/1000)) -> 0 | AA37: 20 | AB37: =IF(AA37=0,0,IF(B37=0,0,AA37*B37/1000)) -> 44.72 | AC37: 10.05 | AD37: =IF(AC37=0,0,IF(B37=0,0,AC37*B37/1000)) -> 22.4718 | AE37: 0.1 | AF37: =IF(AE37=0,0,IF(B37=0,0,AE37*B37/1000)) -> 0.2236 | AG37: 0.2 | AH37: =IF(AG37=0,0,IF(B37=0,0,AG37*B37/1000)) -> 0.4472 | AI37: =IF(AA37=0,"",SUM(AA37,AE37,AG37)) -> 20.3 | AJ37: =IF(AI37=0,0,IF(B37=0,0,AI37*B37/1000)) -> 45.3908 | AL37: 1.25 | AM37: =IF(AL37=0,0,IF(B37=0,0,AL37*B37/1000)) -> 2.795 | AO37: 0.77 | AP37: =IF(AO37=""," ",IF(B37=""," ",AO37*B37/1000)) -> 1.72172 | AQ37: < | AR37: 0.05 | AS37: =IF(AR37=""," ",IF(B37=""," ",AR37*B37/1000)) -> 0.1118 | AT37: < | AU37: 0.01 | AV37: =IF(AU37=""," ",IF(B37=""," ",AU37*B37/1000)) -> 0.02236 | AX37: 0.04 | AY37: =IF(AX37=""," ",IF(B37=""," ",AX37*B37/1000)) -> 0.08944 | BA37: 2.17 | BB37: =IF(BA37=""," ",IF(B37=""," ",BA37*B37/1000)) -> 4.85212 | BD37: 0.19 | BE37: =IF(BD37=""," ",IF(B37=""," ",BD37*B37/1000)) -> 0.42484 | BG37: 0.08 | BH37: =IF(BG37=""," ",IF(B37=""," ",BG37*B37/1000)) -> 0.17888 | BI37: < | BJ37: 0.06 | BK37: =IF(BJ37=""," ",IF(B37=""," ",BJ37*B37/1000)) -> 0.13416 | BM37: 2.46 | BN37: =IF(BM37=""," ",IF(B37=""," ",BM37*B37/1000)) -> 5.50056 | BO37: OK | BP37: OK | BQ37: Echantillon chargé,noir
A38: =A37+1 -> 42382 | B38: 2050 | C38: 6.59 | D38: 7.81 | E38: 1 | F38: 915 | G38: =IF(F38=0,0,(F38*E38)) -> 915 | H38: =IF(G38=0,0,IF(B38=0,0,(G38*B38/1000))) -> 1875.75 | I38: 1 | J38: 743 | K38: =IF(J38=0,0,(J38*I38)) -> 743 | L38: =IF(K38=0,0,IF(B38=0,0,K38*B38/1000)) -> 1523.15 | M38: 216 | N38: =IF(M38=0,0,IF(B38=0,0,M38*B38/1000)) -> 442.8 | O38: 89.2 | P38: 102 | Q38: 78 | R38: =IF(P38=0,0,(P38-O38)*1000/Q38) -> 164.10256 | S38: =IF(R38=0,0,IF(B38=0,0,R38*B38/1000)) -> 336.41026 | T38: 1 | U38: 4.19 | V38: =IF(U38=0,0,(U38*T38)) -> 4.19 | W38: =IF(V38=0,0,IF(B38=0,0,V38*B38/1000)) -> 8.5895 | Z38: =IF(Y38=0,0,IF(B38=0,0,Y38*B38/1000)) -> 0 | AA38: 24.4 | AB38: =IF(AA38=0,0,IF(B38=0,0,AA38*B38/1000)) -> 50.02 | AC38: 13.4 | AD38: =IF(AC38=0,0,IF(B38=0,0,AC38*B38/1000)) -> 27.47 | AE38: 0.2 | AF38: =IF(AE38=0,0,IF(B38=0,0,AE38*B38/1000)) -> 0.41 | AG38: 1.512 | AH38: =IF(AG38=0,0,IF(B38=0,0,AG38*B38/1000)) -> 3.0996 | AI38: =IF(AA38=0,"",SUM(AA38,AE38,AG38)) -> 26.112 | AJ38: =IF(AI38=0,0,IF(B38=0,0,AI38*B38/1000)) -> 53.5296 | AL38: 0.97 | AM38: =IF(AL38=0,0,IF(B38=0,0,AL38*B38/1000)) -> 1.9885 | AO38: 0.78 | AP38: =IF(AO38=""," ",IF(B38=""," ",AO38*B38/1000)) -> 1.599 | AQ38: < | AR38: 0.05 | AS38: =IF(AR38=""," ",IF(B38=""," ",AR38*B38/1000)) -> 0.1025 | AT38: < | AU38: 0.01 | AV38: =IF(AU38=""," ",IF(B38=""," ",AU38*B38/1000)) -> 0.0205 | AX38: 0.04 | AY38: =IF(AX38=""," ",IF(B38=""," ",AX38*B38/1000)) -> 0.082 | BA38: 1.95 | BB38: =IF(BA38=""," ",IF(B38=""," ",BA38*B38/1000)) -> 3.9975 | BD38: 0.19 | BE38: =IF(BD38=""," ",IF(B38=""," ",BD38*B38/1000)) -> 0.3895 | BG38: 0.09 | BH38: =IF(BG38=""," ",IF(B38=""," ",BG38*B38/1000)) -> 0.1845 | BI38: < | BJ38: 0.06 | BK38: =IF(BJ38=""," ",IF(B38=""," ",BJ38*B38/1000)) -> 0.123 | BM38: 1.14 | BN38: =IF(BM38=""," ",IF(B38=""," ",BM38*B38/1000)) -> 2.337 | BO38: OK | BP38: OK
A39: =A38+1 -> 42383 | B39: 1979 | C39: 5.9 | D39: 7.88 | E39: 1 | F39: 623 | G39: =IF(F39=0,0,(F39*E39)) -> 623 | H39: =IF(G39=0,0,IF(B39=0,0,(G39*B39/1000))) -> 1232.917 | I39: 1 | J39: 527 | K39: =IF(J39=0,0,(J39*I39)) -> 527 | L39: =IF(K39=0,0,IF(B39=0,0,K39*B39/1000)) -> 1042.933 | M39: 120 | N39: =IF(M39=0,0,IF(B39=0,0,M39*B39/1000)) -> 237.48 | O39: 91.7 | P39: 99.6 | Q39: 69 | R39: =IF(P39=0,0,(P39-O39)*1000/Q39) -> 114.49275 | S39: =IF(R39=0,0,IF(B39=0,0,R39*B39/1000)) -> 226.58116 | T39: 1 | U39: 4.85 | V39: =IF(U39=0,0,(U39*T39)) -> 4.85 | W39: =IF(V39=0,0,IF(B39=0,0,V39*B39/1000)) -> 9.59815 | Z39: =IF(Y39=0,0,IF(B39=0,0,Y39*B39/1000)) -> 0 | AA39: 22.8 | AB39: =IF(AA39=0,0,IF(B39=0,0,AA39*B39/1000)) -> 45.1212 | AC39: 12.57 | AD39: =IF(AC39=0,0,IF(B39=0,0,AC39*B39/1000)) -> 24.87603 | AE39: 0.1 | AF39: =IF(AE39=0,0,IF(B39=0,0,AE39*B39/1000)) -> 0.1979 | AG39: 0.2 | AH39: =IF(AG39=0,0,IF(B39=0,0,AG39*B39/1000)) -> 0.3958 | AI39: =IF(AA39=0,"",SUM(AA39,AE39,AG39)) -> 23.1 | AJ39: =IF(AI39=0,0,IF(B39=0,0,AI39*B39/1000)) -> 45.7149 | AL39: 0.39 | AM39: =IF(AL39=0,0,IF(B39=0,0,AL39*B39/1000)) -> 0.77181 | AO39: 0.94 | AP39: =IF(AO39=""," ",IF(B39=""," ",AO39*B39/1000)) -> 1.86026 | AQ39: < | AR39: 0.05 | AS39: =IF(AR39=""," ",IF(B39=""," ",AR39*B39/1000)) -> 0.09895 | AT39: < | AU39: 0.01 | AV39: =IF(AU39=""," ",IF(B39=""," ",AU39*B39/1000)) -> 0.01979 | AX39: 0.03 | AY39: =IF(AX39=""," ",IF(B39=""," ",AX39*B39/1000)) -> 0.05937 | BA39: 1.85 | BB39: =IF(BA39=""," ",IF(B39=""," ",BA39*B39/1000)) -> 3.66115 | BD39: 0.22 | BE39: =IF(BD39=""," ",IF(B39=""," ",BD39*B39/1000)) -> 0.43538 | BF39: < | BG39: 0.04 | BH39: =IF(BG39=""," ",IF(B39=""," ",BG39*B39/1000)) -> 0.07916 | BI39: < | BJ39: 0.06 | BK39: =IF(BJ39=""," ",IF(B39=""," ",BJ39*B39/1000)) -> 0.11874 | BM39: 1.74 | BN39: =IF(BM39=""," ",IF(B39=""," ",BM39*B39/1000)) -> 3.44346 | BO39: OK | BP39: OK
A40: =A39+1 -> 42384 | B40: 2056 | C40: 5.23 | D40: 7.46 | E40: 1 | F40: 1037 | G40: =IF(F40=0,0,(F40*E40)) -> 1037 | H40: =IF(G40=0,0,IF(B40=0,0,(G40*B40/1000))) -> 2132.072 | I40: 1 | J40: 556 | K40: =IF(J40=0,0,(J40*I40)) -> 556 | L40: =IF(K40=0,0,IF(B40=0,0,K40*B40/1000)) -> 1143.136 | M40: 151 | N40: =IF(M40=0,0,IF(B40=0,0,M40*B40/1000)) -> 310.456 | O40: 89.4 | P40: 105 | Q40: 39 | R40: =IF(P40=0,0,(P40-O40)*1000/Q40) -> 400 | S40: =IF(R40=0,0,IF(B40=0,0,R40*B40/1000)) -> 822.4 | T40: 1 | U40: 17 | V40: =IF(U40=0,0,(U40*T40)) -> 17 | W40: =IF(V40=0,0,IF(B40=0,0,V40*B40/1000)) -> 34.952 | Z40: =IF(Y40=0,0,IF(B40=0,0,Y40*B40/1000)) -> 0 | AA40: 27.2 | AB40: =IF(AA40=0,0,IF(B40=0,0,AA40*B40/1000)) -> 55.9232 | AC40: 15.02 | AD40: =IF(AC40=0,0,IF(B40=0,0,AC40*B40/1000)) -> 30.88112 | AE40: 0.385 | AF40: =IF(AE40=0,0,IF(B40=0,0,AE40*B40/1000)) -> 0.79156 | AG40: 0.513 | AH40: =IF(AG40=0,0,IF(B40=0,0,AG40*B40/1000)) -> 1.054728 | AI40: =IF(AA40=0,"",SUM(AA40,AE40,AG40)) -> 28.098 | AJ40: =IF(AI40=0,0,IF(B40=0,0,AI40*B40/1000)) -> 57.769488 | AL40: 1.34 | AM40: =IF(AL40=0,0,IF(B40=0,0,AL40*B40/1000)) -> 2.75504 | AO40: 3.6 | AP40: =IF(AO40=""," ",IF(B40=""," ",AO40*B40/1000)) -> 7.4016 | AQ40: < | AR40: 0.05 | AS40: =IF(AR40=""," ",IF(B40=""," ",AR40*B40/1000)) -> 0.1028 | AT40: < | AU40: 0.01 | AV40: =IF(AU40=""," ",IF(B40=""," ",AU40*B40/1000)) -> 0.02056 | AX40: 0.084897645 | AY40: =IF(AX40=""," ",IF(B40=""," ",AX40*B40/1000)) -> 0.17454956 | BA40: 1.701431 | BB40: =IF(BA40=""," ",IF(B40=""," ",BA40*B40/1000)) -> 3.4981422 | BD40: 1.0531698 | BE40: =IF(BD40=""," ",IF(B40=""," ",BD40*B40/1000)) -> 2.1653172 | BG40: 0.2431476 | BH40: =IF(BG40=""," ",IF(B40=""," ",BG40*B40/1000)) -> 0.49991146 | BI40: < | BJ40: 0.06 | BK40: =IF(BJ40=""," ",IF(B40=""," ",BJ40*B40/1000)) -> 0.12336 | BM40: 1.9506653 | BN40: =IF(BM40=""," ",IF(B40=""," ",BM40*B40/1000)) -> 4.010568 | BO40: OK | BP40: OK | BQ40: Echantillon chargé MES= 409 mg/L. phosphore= 18,0 mg/L.
A41: =A40+1 -> 42385 | B41: 1107 | C41: 4.82 | D41: 7.71 | E41: 1 | F41: 1806 | G41: =IF(F41=0,0,(F41*E41)) -> 1806 | H41: =IF(G41=0,0,IF(B41=0,0,(G41*B41/1000))) -> 1999.242 | I41: 1 | J41: 329 | K41: =IF(J41=0,0,(J41*I41)) -> 329 | L41: =IF(K41=0,0,IF(B41=0,0,K41*B41/1000)) -> 364.203 | M41: 173 | N41: =IF(M41=0,0,IF(B41=0,0,M41*B41/1000)) -> 191.511 | O41: 90 | P41: 133.3 | Q41: 33 | R41: =IF(P41=0,0,(P41-O41)*1000/Q41) -> 1312.1212 | S41: =IF(R41=0,0,IF(B41=0,0,R41*B41/1000)) -> 1452.5182 | T41: 1 | U41: 32.7 | V41: =IF(U41=0,0,(U41*T41)) -> 32.7 | W41: =IF(V41=0,0,IF(B41=0,0,V41*B41/1000)) -> 36.1989 | Z41: =IF(Y41=0,0,IF(B41=0,0,Y41*B41/1000)) -> 0 | AA41: 35.6 | AB41: =IF(AA41=0,0,IF(B41=0,0,AA41*B41/1000)) -> 39.4092 | AC41: 15.02 | AD41: =IF(AC41=0,0,IF(B41=0,0,AC41*B41/1000)) -> 16.62714 | AE41: 0.1 | AF41: =IF(AE41=0,0,IF(B41=0,0,AE41*B41/1000)) -> 0.1107 | AG41: 0.2 | AH41: =IF(AG41=0,0,IF(B41=0,0,AG41*B41/1000)) -> 0.2214 | AI41: =IF(AA41=0,"",SUM(AA41,AE41,AG41)) -> 35.9 | AJ41: =IF(AI41=0,0,IF(B41=0,0,AI41*B41/1000)) -> 39.7413 | AL41: 3.49 | AM41: =IF(AL41=0,0,IF(B41=0,0,AL41*B41/1000)) -> 3.86343 | AO41: 14 | AP41: =IF(AO41=""," ",IF(B41=""," ",AO41*B41/1000)) -> 15.498 | AQ41: < | AR41: 0.05 | AS41: =IF(AR41=""," ",IF(B41=""," ",AR41*B41/1000)) -> 0.05535 | AT41: < | AU41: 0.01 | AV41: =IF(AU41=""," ",IF(B41=""," ",AU41*B41/1000)) -> 0.01107 | AX41: 0.1680197 | AY41: =IF(AX41=""," ",IF(B41=""," ",AX41*B41/1000)) -> 0.1859978 | BA41: 1.4781512 | BB41: =IF(BA41=""," ",IF(B41=""," ",BA41*B41/1000)) -> 1.6363134 | BD41: 0.22185871 | BE41: =IF(BD41=""," ",IF(B41=""," ",BD41*B41/1000)) -> 0.24559759 | BG41: 0.67289489 | BH41: =IF(BG41=""," ",IF(B41=""," ",BG41*B41/1000)) -> 0.74489465 | BI41: < | BJ41: 0.06 | BK41: =IF(BJ41=""," ",IF(B41=""," ",BJ41*B41/1000)) -> 0.06642 | BM41: 2.0061479 | BN41: =IF(BM41=""," ",IF(B41=""," ",BM41*B41/1000)) -> 2.2208057 | BO41: OK | BP41: OK | BQ41: Echantillon chargé MES= 1322 mg/L. phosphore= 35,2 mg/L. DCO = 1934 mg/L.
A42: =A41+1 -> 42386 | B42: 1347 | C42: 4.11 | D42: 8.3 | E42: 1 | F42: 478 | G42: =IF(F42=0,0,(F42*E42)) -> 478 | H42: =IF(G42=0,0,IF(B42=0,0,(G42*B42/1000))) -> 643.866 | I42: 1 | J42: 377 | K42: =IF(J42=0,0,(J42*I42)) -> 377 | L42: =IF(K42=0,0,IF(B42=0,0,K42*B42/1000)) -> 507.819 | M42: 90 | N42: =IF(M42=0,0,IF(B42=0,0,M42*B42/1000)) -> 121.23 | O42: 89.8 | P42: 96.9 | Q42: 42 | R42: =IF(P42=0,0,(P42-O42)*1000/Q42) -> 169.04762 | S42: =IF(R42=0,0,IF(B42=0,0,R42*B42/1000)) -> 227.70714 | T42: 1 | U42: 6.77 | V42: =IF(U42=0,0,(U42*T42)) -> 6.77 | W42: =IF(V42=0,0,IF(B42=0,0,V42*B42/1000)) -> 9.11919 | Z42: =IF(Y42=0,0,IF(B42=0,0,Y42*B42/1000)) -> 0 | AA42: 18.4 | AB42: =IF(AA42=0,0,IF(B42=0,0,AA42*B42/1000)) -> 24.7848 | AC42: 6.36 | AD42: =IF(AC42=0,0,IF(B42=0,0,AC42*B42/1000)) -> 8.56692 | AE42: 0.333 | AF42: =IF(AE42=0,0,IF(B42=0,0,AE42*B42/1000)) -> 0.448551 | AG42: 2.568 | AH42: =IF(AG42=0,0,IF(B42=0,0,AG42*B42/1000)) -> 3.459096 | AI42: =IF(AA42=0,"",SUM(AA42,AE42,AG42)) -> 21.301 | AJ42: =IF(AI42=0,0,IF(B42=0,0,AI42*B42/1000)) -> 28.692447 | AL42: 0.51 | AM42: =IF(AL42=0,0,IF(B42=0,0,AL42*B42/1000)) -> 0.68697 | AO42: 1.8 | AP42: =IF(AO42=""," ",IF(B42=""," ",AO42*B42/1000)) -> 2.4246 | AQ42: < | AR42: 0.05 | AS42: =IF(AR42=""," ",IF(B42=""," ",AR42*B42/1000)) -> 0.06735 | AT42: < | AU42: 0.01 | AV42: =IF(AU42=""," ",IF(B42=""," ",AU42*B42/1000)) -> 0.01347 | AX42: 0.043093994 | AY42: =IF(AX42=""," ",IF(B42=""," ",AX42*B42/1000)) -> 0.05804761 | BA42: 3.0760553 | BB42: =IF(BA42=""," ",IF(B42=""," ",BA42*B42/1000)) -> 4.1434465 | BD42: 0.40460926 | BE42: =IF(BD42=""," ",IF(B42=""," ",BD42*B42/1000)) -> 0.54500868 | BG42: 0.17588966 | BH42: =IF(BG42=""," ",IF(B42=""," ",BG42*B42/1000)) -> 0.23692337 | BI42: < | BJ42: 0.06 | BK42: =IF(BJ42=""," ",IF(B42=""," ",BJ42*B42/1000)) -> 0.08082 | BM42: 0.82447231 | BN42: =IF(BM42=""," ",IF(B42=""," ",BM42*B42/1000)) -> 1.1105642 | BO42: OK | BP42: OK
A43: =A42+1 -> 42387 | B43: 1862 | C43: 2.83 | D43: 7.93 | E43: 1 | F43: 872 | G43: =IF(F43=0,0,(F43*E43)) -> 872 | H43: =IF(G43=0,0,IF(B43=0,0,(G43*B43/1000))) -> 1623.664 | I43: 1 | J43: 697 | K43: =IF(J43=0,0,(J43*I43)) -> 697 | L43: =IF(K43=0,0,IF(B43=0,0,K43*B43/1000)) -> 1297.814 | M43: 169 | N43: =IF(M43=0,0,IF(B43=0,0,M43*B43/1000)) -> 314.678 | O43: 85.8 | P43: 103 | Q43: 75 | R43: =IF(P43=0,0,(P43-O43)*1000/Q43) -> 229.33333 | S43: =IF(R43=0,0,IF(B43=0,0,R43*B43/1000)) -> 427.01867 | T43: 1 | U43: 8.27 | V43: =IF(U43=0,0,(U43*T43)) -> 8.27 | W43: =IF(V43=0,0,IF(B43=0,0,V43*B43/1000)) -> 15.39874 | Z43: =IF(Y43=0,0,IF(B43=0,0,Y43*B43/1000)) -> 0 | AA43: 30 | AB43: =IF(AA43=0,0,IF(B43=0,0,AA43*B43/1000)) -> 55.86 | AC43: 16.6 | AD43: =IF(AC43=0,0,IF(B43=0,0,AC43*B43/1000)) -> 30.9092 | AE43: 0.1 | AF43: =IF(AE43=0,0,IF(B43=0,0,AE43*B43/1000)) -> 0.1862 | AG43: 0.2 | AH43: =IF(AG43=0,0,IF(B43=0,0,AG43*B43/1000)) -> 0.3724 | AI43: =IF(AA43=0,"",SUM(AA43,AE43,AG43)) -> 30.3 | AJ43: =IF(AI43=0,0,IF(B43=0,0,AI43*B43/1000)) -> 56.4186 | AL43: 0.4 | AM43: =IF(AL43=0,0,IF(B43=0,0,AL43*B43/1000)) -> 0.7448 | AO43: 1.7 | AP43: =IF(AO43=""," ",IF(B43=""," ",AO43*B43/1000)) -> 3.1654 | AQ43: < | AR43: 0.05 | AS43: =IF(AR43=""," ",IF(B43=""," ",AR43*B43/1000)) -> 0.0931 | AT43: < | AU43: 0.01 | AV43: =IF(AU43=""," ",IF(B43=""," ",AU43*B43/1000)) -> 0.01862 | AX43: 0.051802173 | AY43: =IF(AX43=""," ",IF(B43=""," ",AX43*B43/1000)) -> 0.096455647 | BA43: 2.3259351 | BB43: =IF(BA43=""," ",IF(B43=""," ",BA43*B43/1000)) -> 4.3308912 | BD43: 0.53463686 | BE43: =IF(BD43=""," ",IF(B43=""," ",BD43*B43/1000)) -> 0.99549382 | BG43: 0.18897611 | BH43: =IF(BG43=""," ",IF(B43=""," ",BG43*B43/1000)) -> 0.35187351 | BI43: < | BJ43: 0.06 | BK43: =IF(BJ43=""," ",IF(B43=""," ",BJ43*B43/1000)) -> 0.11172 | BM43: 1.9902873 | BN43: =IF(BM43=""," ",IF(B43=""," ",BM43*B43/1000)) -> 3.705915 | BO43: OK | BP43: OK
A44: =A43+1 -> 42388 | B44: 1922 | C44: 2.77 | D44: 7.81 | E44: 1 | F44: 1178 | G44: =IF(F44=0,0,(F44*E44)) -> 1178 | H44: =IF(G44=0,0,IF(B44=0,0,(G44*B44/1000))) -> 2264.116 | I44: 1 | J44: 922 | K44: =IF(J44=0,0,(J44*I44)) -> 922 | L44: =IF(K44=0,0,IF(B44=0,0,K44*B44/1000)) -> 1772.084 | M44: 212 | N44: =IF(M44=0,0,IF(B44=0,0,M44*B44/1000)) -> 407.464 | O44: 87.7 | P44: 101.2 | Q44: 62 | R44: =IF(P44=0,0,(P44-O44)*1000/Q44) -> 217.74194 | S44: =IF(R44=0,0,IF(B44=0,0,R44*B44/1000)) -> 418.5 | T44: 1 | U44: 6.57 | V44: =IF(U44=0,0,(U44*T44)) -> 6.57 | W44: =IF(V44=0,0,IF(B44=0,0,V44*B44/1000)) -> 12.62754 | Z44: =IF(Y44=0,0,IF(B44=0,0,Y44*B44/1000)) -> 0 | AA44: 34.4 | AB44: =IF(AA44=0,0,IF(B44=0,0,AA44*B44/1000)) -> 66.1168 | AC44: 12 | AD44: =IF(AC44=0,0,IF(B44=0,0,AC44*B44/1000)) -> 23.064 | AE44: 0.283 | AF44: =IF(AE44=0,0,IF(B44=0,0,AE44*B44/1000)) -> 0.543926 | AG44: 1.28 | AH44: =IF(AG44=0,0,IF(B44=0,0,AG44*B44/1000)) -> 2.46016 | AI44: =IF(AA44=0,"",SUM(AA44,AE44,AG44)) -> 35.963 | AJ44: =IF(AI44=0,0,IF(B44=0,0,AI44*B44/1000)) -> 69.120886 | AL44: 0.51 | AM44: =IF(AL44=0,0,IF(B44=0,0,AL44*B44/1000)) -> 0.98022 | AO44: 1.2 | AP44: =IF(AO44=""," ",IF(B44=""," ",AO44*B44/1000)) -> 2.3064 | AQ44: < | AR44: 0.05 | AS44: =IF(AR44=""," ",IF(B44=""," ",AR44*B44/1000)) -> 0.0961 | AU44: 0.014 | AV44: =IF(AU44=""," ",IF(B44=""," ",AU44*B44/1000)) -> 0.026908 | AX44: 0.047978494 | AY44: =IF(AX44=""," ",IF(B44=""," ",AX44*B44/1000)) -> 0.092214666 | BA44: 3.6617339 | BB44: =IF(BA44=""," ",IF(B44=""," ",BA44*B44/1000)) -> 7.0378525 | BD44: 0.38416576 | BE44: =IF(BD44=""," ",IF(B44=""," ",BD44*B44/1000)) -> 0.7383666 | BG44: 0.16443963 | BH44: =IF(BG44=""," ",IF(B44=""," ",BG44*B44/1000)) -> 0.31605297 | BI44: < | BJ44: 0.06 | BK44: =IF(BJ44=""," ",IF(B44=""," ",BJ44*B44/1000)) -> 0.11532 | BM44: 1.2838365 | BN44: =IF(BM44=""," ",IF(B44=""," ",BM44*B44/1000)) -> 2.4675337 | BO44: OK | BP44: OK | BQ44: Echantillon chargé,noir
A45: =A44+1 -> 42389 | B45: 1692 | C45: 2.82 | D45: 7.83 | E45: 1 | F45: 917 | G45: =IF(F45=0,0,(F45*E45)) -> 917 | H45: =IF(G45=0,0,IF(B45=0,0,(G45*B45/1000))) -> 1551.564 | I45: 1 | J45: 827 | K45: =IF(J45=0,0,(J45*I45)) -> 827 | L45: =IF(K45=0,0,IF(B45=0,0,K45*B45/1000)) -> 1399.284 | M45: 246 | N45: =IF(M45=0,0,IF(B45=0,0,M45*B45/1000)) -> 416.232 | O45: 88.9 | P45: 99.3 | Q45: 79 | R45: =IF(P45=0,0,(P45-O45)*1000/Q45) -> 131.64557 | S45: =IF(R45=0,0,IF(B45=0,0,R45*B45/1000)) -> 222.7443 | T45: 1 | U45: 5.37 | V45: =IF(U45=0,0,(U45*T45)) -> 5.37 | W45: =IF(V45=0,0,IF(B45=0,0,V45*B45/1000)) -> 9.08604 | Z45: =IF(Y45=0,0,IF(B45=0,0,Y45*B45/1000)) -> 0 | AA45: 38 | AB45: =IF(AA45=0,0,IF(B45=0,0,AA45*B45/1000)) -> 64.296 | AC45: 7.4 | AD45: =IF(AC45=0,0,IF(B45=0,0,AC45*B45/1000)) -> 12.5208 | AE45: 0.1 | AF45: =IF(AE45=0,0,IF(B45=0,0,AE45*B45/1000)) -> 0.1692 | AG45: 0.2 | AH45: =IF(AG45=0,0,IF(B45=0,0,AG45*B45/1000)) -> 0.3384 | AI45: =IF(AA45=0,"",SUM(AA45,AE45,AG45)) -> 38.3 | AJ45: =IF(AI45=0,0,IF(B45=0,0,AI45*B45/1000)) -> 64.8036 | AL45: 0.25 | AM45: =IF(AL45=0,0,IF(B45=0,0,AL45*B45/1000)) -> 0.423 | AO45: 0.76 | AP45: =IF(AO45=""," ",IF(B45=""," ",AO45*B45/1000)) -> 1.28592 | AQ45: < | AR45: 0.05 | AS45: =IF(AR45=""," ",IF(B45=""," ",AR45*B45/1000)) -> 0.0846 | AT45: < | AU45: 0.01 | AV45: =IF(AU45=""," ",IF(B45=""," ",AU45*B45/1000)) -> 0.01692 | AX45: 0.038468976 | AY45: =IF(AX45=""," ",IF(B45=""," ",AX45*B45/1000)) -> 0.065089507 | BA45: 2.0038185 | BB45: =IF(BA45=""," ",IF(B45=""," ",BA45*B45/1000)) -> 3.3904609 | BD45: 0.23715024 | BE45: =IF(BD45=""," ",IF(B45=""," ",BD45*B45/1000)) -> 0.4012582 | BG45: 0.16127397 | BH45: =IF(BG45=""," ",IF(B45=""," ",BG45*B45/1000)) -> 0.27287556 | BI45: < | BJ45: 0.06 | BK45: =IF(BJ45=""," ",IF(B45=""," ",BJ45*B45/1000)) -> 0.10152 | BM45: 1.6043284 | BN45: =IF(BM45=""," ",IF(B45=""," ",BM45*B45/1000)) -> 2.7145236 | BO45: OK | BP45: OK
A46: =A45+1 -> 42390 | B46: 2074 | C46: 2.45 | D46: 7.99 | E46: 1 | F46: 825 | G46: =IF(F46=0,0,(F46*E46)) -> 825 | H46: =IF(G46=0,0,IF(B46=0,0,(G46*B46/1000))) -> 1711.05 | I46: 1 | J46: 627 | K46: =IF(J46=0,0,(J46*I46)) -> 627 | L46: =IF(K46=0,0,IF(B46=0,0,K46*B46/1000)) -> 1300.398 | M46: 181 | N46: =IF(M46=0,0,IF(B46=0,0,M46*B46/1000)) -> 375.394 | O46: 92.1 | P46: 111 | Q46: 89 | R46: =IF(P46=0,0,(P46-O46)*1000/Q46) -> 212.35955 | S46: =IF(R46=0,0,IF(B46=0,0,R46*B46/1000)) -> 440.43371 | T46: 1 | U46: 7.5 | V46: =IF(U46=0,0,(U46*T46)) -> 7.5 | W46: =IF(V46=0,0,IF(B46=0,0,V46*B46/1000)) -> 15.555 | Z46: =IF(Y46=0,0,IF(B46=0,0,Y46*B46/1000)) -> 0 | AA46: 36.4 | AB46: =IF(AA46=0,0,IF(B46=0,0,AA46*B46/1000)) -> 75.4936 | AC46: 20.83 | AD46: =IF(AC46=0,0,IF(B46=0,0,AC46*B46/1000)) -> 43.20142 | AE46: 0.211 | AF46: =IF(AE46=0,0,IF(B46=0,0,AE46*B46/1000)) -> 0.437614 | AG46: 0.934 | AH46: =IF(AG46=0,0,IF(B46=0,0,AG46*B46/1000)) -> 1.937116 | AI46: =IF(AA46=0,"",SUM(AA46,AE46,AG46)) -> 37.545 | AJ46: =IF(AI46=0,0,IF(B46=0,0,AI46*B46/1000)) -> 77.86833 | AL46: 0.89 | AM46: =IF(AL46=0,0,IF(B46=0,0,AL46*B46/1000)) -> 1.84586 | AO46: 1.4 | AP46: =IF(AO46=""," ",IF(B46=""," ",AO46*B46/1000)) -> 2.9036 | AQ46: < | AR46: 0.05 | AS46: =IF(AR46=""," ",IF(B46=""," ",AR46*B46/1000)) -> 0.1037 | AT46: < | AU46: 0.01 | AV46: =IF(AU46=""," ",IF(B46=""," ",AU46*B46/1000)) -> 0.02074 | AX46: 0.054578725 | AY46: =IF(AX46=""," ",IF(B46=""," ",AX46*B46/1000)) -> 0.11319628 | BA46: 3.1600656 | BB46: =IF(BA46=""," ",IF(B46=""," ",BA46*B46/1000)) -> 6.5539762 | BD46: 0.43834639 | BE46: =IF(BD46=""," ",IF(B46=""," ",BD46*B46/1000)) -> 0.9091304 | BG46: 0.10047386 | BH46: =IF(BG46=""," ",IF(B46=""," ",BG46*B46/1000)) -> 0.20838278 | BI46: < | BJ46: 0.06 | BK46: =IF(BJ46=""," ",IF(B46=""," ",BJ46*B46/1000)) -> 0.12444 | BM46: 1.7261594 | BN46: =IF(BM46=""," ",IF(B46=""," ",BM46*B46/1000)) -> 3.5800547 | BO46: OK | BP46: OK
A47: =A46+1 -> 42391 | B47: 1816 | C47: 3.25 | D47: 7.53 | E47: 1 | F47: 1793 | G47: =IF(F47=0,0,(F47*E47)) -> 1793 | H47: =IF(G47=0,0,IF(B47=0,0,(G47*B47/1000))) -> 3256.088 | I47: 1 | J47: 669 | K47: =IF(J47=0,0,(J47*I47)) -> 669 | L47: =IF(K47=0,0,IF(B47=0,0,K47*B47/1000)) -> 1214.904 | M47: 279 | N47: =IF(M47=0,0,IF(B47=0,0,M47*B47/1000)) -> 506.664 | O47: 93.6 | P47: 129 | Q47: 48 | R47: =IF(P47=0,0,(P47-O47)*1000/Q47) -> 737.5 | S47: =IF(R47=0,0,IF(B47=0,0,R47*B47/1000)) -> 1339.3 | T47: 1 | U47: 30.4 | V47: =IF(U47=0,0,(U47*T47)) -> 30.4 | W47: =IF(V47=0,0,IF(B47=0,0,V47*B47/1000)) -> 55.2064 | Z47: =IF(Y47=0,0,IF(B47=0,0,Y47*B47/1000)) -> 0 | AA47: 44 | AB47: =IF(AA47=0,0,IF(B47=0,0,AA47*B47/1000)) -> 79.904 | AC47: 24.34 | AD47: =IF(AC47=0,0,IF(B47=0,0,AC47*B47/1000)) -> 44.20144 | AE47: 0.1 | AF47: =IF(AE47=0,0,IF(B47=0,0,AE47*B47/1000)) -> 0.1816 | AG47: 0.2 | AH47: =IF(AG47=0,0,IF(B47=0,0,AG47*B47/1000)) -> 0.3632 | AI47: =IF(AA47=0,"",SUM(AA47,AE47,AG47)) -> 44.3 | AJ47: =IF(AI47=0,0,IF(B47=0,0,AI47*B47/1000)) -> 80.4488 | AL47: 1.87 | AM47: =IF(AL47=0,0,IF(B47=0,0,AL47*B47/1000)) -> 3.39592 | AO47: 8.9 | AP47: =IF(AO47=""," ",IF(B47=""," ",AO47*B47/1000)) -> 16.1624 | AQ47: < | AR47: 0.05 | AS47: =IF(AR47=""," ",IF(B47=""," ",AR47*B47/1000)) -> 0.0908 | AT47: < | AU47: 0.01 | AV47: =IF(AU47=""," ",IF(B47=""," ",AU47*B47/1000)) -> 0.01816 | AX47: 0.11 | AY47: =IF(AX47=""," ",IF(B47=""," ",AX47*B47/1000)) -> 0.19976 | BA47: 22.27 | BB47: =IF(BA47=""," ",IF(B47=""," ",BA47*B47/1000)) -> 40.44232 | BD47: 3.68 | BE47: =IF(BD47=""," ",IF(B47=""," ",BD47*B47/1000)) -> 6.68288 | BG47: 0.12 | BH47: =IF(BG47=""," ",IF(B47=""," ",BG47*B47/1000)) -> 0.21792 | BI47: < | BJ47: 0.06 | BK47: =IF(BJ47=""," ",IF(B47=""," ",BJ47*B47/1000)) -> 0.10896 | BM47: 28.61 | BN47: =IF(BM47=""," ",IF(B47=""," ",BM47*B47/1000)) -> 51.95576 | BO47: OK | BP47: OK | BQ47: Echantillon chargé MES= 798 mg/L. phosphore= 34,6 mg/L.DCO=1814 mg/L.
A48: =A47+1 -> 42392 | B48: 1246 | C48: 5.29 | D48: 7.57 | E48: 1 | F48: 967 | G48: =IF(F48=0,0,(F48*E48)) -> 967 | H48: =IF(G48=0,0,IF(B48=0,0,(G48*B48/1000))) -> 1204.882 | I48: 1 | J48: 643 | K48: =IF(J48=0,0,(J48*I48)) -> 643 | L48: =IF(K48=0,0,IF(B48=0,0,K48*B48/1000)) -> 801.178 | M48: 173 | N48: =IF(M48=0,0,IF(B48=0,0,M48*B48/1000)) -> 215.558 | O48: 92 | P48: 105.4 | Q48: 37 | R48: =IF(P48=0,0,(P48-O48)*1000/Q48) -> 362.16216 | S48: =IF(R48=0,0,IF(B48=0,0,R48*B48/1000)) -> 451.25405 | T48: 1 | U48: 15 | V48: =IF(U48=0,0,(U48*T48)) -> 15 | W48: =IF(V48=0,0,IF(B48=0,0,V48*B48/1000)) -> 18.69 | Z48: =IF(Y48=0,0,IF(B48=0,0,Y48*B48/1000)) -> 0 | AA48: 23.6 | AB48: =IF(AA48=0,0,IF(B48=0,0,AA48*B48/1000)) -> 29.4056 | AC48: 12.33 | AD48: =IF(AC48=0,0,IF(B48=0,0,AC48*B48/1000)) -> 15.36318 | AE48: 0.812 | AF48: =IF(AE48=0,0,IF(B48=0,0,AE48*B48/1000)) -> 1.011752 | AG48: 0.858 | AH48: =IF(AG48=0,0,IF(B48=0,0,AG48*B48/1000)) -> 1.069068 | AI48: =IF(AA48=0,"",SUM(AA48,AE48,AG48)) -> 25.27 | AJ48: =IF(AI48=0,0,IF(B48=0,0,AI48*B48/1000)) -> 31.48642 | AL48: 1.5 | AM48: =IF(AL48=0,0,IF(B48=0,0,AL48*B48/1000)) -> 1.869 | AO48: 3.3 | AP48: =IF(AO48=""," ",IF(B48=""," ",AO48*B48/1000)) -> 4.1118 | AQ48: < | AR48: 0.05 | AS48: =IF(AR48=""," ",IF(B48=""," ",AR48*B48/1000)) -> 0.0623 | AT48: < | AU48: 0.01 | AV48: =IF(AU48=""," ",IF(B48=""," ",AU48*B48/1000)) -> 0.01246 | AX48: 0.13 | AY48: =IF(AX48=""," ",IF(B48=""," ",AX48*B48/1000)) -> 0.16198 | BA48: 9.47 | BB48: =IF(BA48=""," ",IF(B48=""," ",BA48*B48/1000)) -> 11.79962 | BD48: 1.1 | BE48: =IF(BD48=""," ",IF(B48=""," ",BD48*B48/1000)) -> 1.3706 | BG48: 0.16 | BH48: =IF(BG48=""," ",IF(B48=""," ",BG48*B48/1000)) -> 0.19936 | BI48: < | BJ48: 0.06 | BK48: =IF(BJ48=""," ",IF(B48=""," ",BJ48*B48/1000)) -> 0.07476 | BM48: 9.82 | BN48: =IF(BM48=""," ",IF(B48=""," ",BM48*B48/1000)) -> 12.23572 | BO48: OK | BP48: OK | BQ48: Echantillon chargé phosphore= 16,2mg/L présence d'huile
A49: =A48+1 -> 42393 | B49: 1247 | C49: 5.53 | D49: 7.96 | E49: 1 | F49: 4946 | G49: =IF(F49=0,0,(F49*E49)) -> 4946 | H49: =IF(G49=0,0,IF(B49=0,0,(G49*B49/1000))) -> 6167.662 | I49: 1 | J49: 3366 | K49: =IF(J49=0,0,(J49*I49)) -> 3366 | L49: =IF(K49=0,0,IF(B49=0,0,K49*B49/1000)) -> 4197.402 | M49: 209 | N49: =IF(M49=0,0,IF(B49=0,0,M49*B49/1000)) -> 260.623 | O49: 89 | P49: 142.2 | Q49: 45 | R49: =IF(P49=0,0,(P49-O49)*1000/Q49) -> 1182.2222 | S49: =IF(R49=0,0,IF(B49=0,0,R49*B49/1000)) -> 1474.2311 | T49: 1 | U49: 16.8 | V49: =IF(U49=0,0,(U49*T49)) -> 16.8 | W49: =IF(V49=0,0,IF(B49=0,0,V49*B49/1000)) -> 20.9496 | Z49: =IF(Y49=0,0,IF(B49=0,0,Y49*B49/1000)) -> 0 | AA49: 19.2 | AB49: =IF(AA49=0,0,IF(B49=0,0,AA49*B49/1000)) -> 23.9424 | AC49: 7.02 | AD49: =IF(AC49=0,0,IF(B49=0,0,AC49*B49/1000)) -> 8.75394 | AE49: 0.1 | AF49: =IF(AE49=0,0,IF(B49=0,0,AE49*B49/1000)) -> 0.1247 | AG49: 0.127 | AH49: =IF(AG49=0,0,IF(B49=0,0,AG49*B49/1000)) -> 0.158369 | AI49: =IF(AA49=0,"",SUM(AA49,AE49,AG49)) -> 19.427 | AJ49: =IF(AI49=0,0,IF(B49=0,0,AI49*B49/1000)) -> 24.225469 | AL49: 519 | AM49: =IF(AL49=0,0,IF(B49=0,0,AL49*B49/1000)) -> 647.193 | AO49: 3.8 | AP49: =IF(AO49=""," ",IF(B49=""," ",AO49*B49/1000)) -> 4.7386 | AQ49: < | AR49: 0.05 | AS49: =IF(AR49=""," ",IF(B49=""," ",AR49*B49/1000)) -> 0.06235 | AU49: 0.02 | AV49: =IF(AU49=""," ",IF(B49=""," ",AU49*B49/1000)) -> 0.02494 | AX49: 0.17 | AY49: =IF(AX49=""," ",IF(B49=""," ",AX49*B49/1000)) -> 0.21199 | BA49: 19.24 | BB49: =IF(BA49=""," ",IF(B49=""," ",BA49*B49/1000)) -> 23.99228 | BD49: 1.6 | BE49: =IF(BD49=""," ",IF(B49=""," ",BD49*B49/1000)) -> 1.9952 | BG49: 0.23 | BH49: =IF(BG49=""," ",IF(B49=""," ",BG49*B49/1000)) -> 0.28681 | BI49: < | BJ49: 0.06 | BK49: =IF(BJ49=""," ",IF(B49=""," ",BJ49*B49/1000)) -> 0.07482 | BM49: 14.39 | BN49: =IF(BM49=""," ",IF(B49=""," ",BM49*B49/1000)) -> 17.94433 | BO49: OK | BP49: OK | BQ49: Echantillon chargé MES= 1321 mg/L. phosphore= 18,0 mg/L. DCO= 5238 mg/L. présence d'huile
A50: =A49+1 -> 42394 | B50: 2008 | C50: 6.73 | D50: 7.41 | E50: 1 | F50: 9460 | G50: =IF(F50=0,0,(F50*E50)) -> 9460 | H50: =IF(G50=0,0,IF(B50=0,0,(G50*B50/1000))) -> 18995.68 | I50: 1 | J50: 7150 | K50: =IF(J50=0,0,(J50*I50)) -> 7150 | L50: =IF(K50=0,0,IF(B50=0,0,K50*B50/1000)) -> 14357.2 | M50: 470 | N50: =IF(M50=0,0,IF(B50=0,0,M50*B50/1000)) -> 943.76 | O50: 89.8 | P50: 118.7 | Q50: 7.35 | R50: =IF(P50=0,0,(P50-O50)*1000/Q50) -> 3931.9728 | S50: =IF(R50=0,0,IF(B50=0,0,R50*B50/1000)) -> 7895.4014 | T50: 2 | U50: 14.8 | V50: =IF(U50=0,0,(U50*T50)) -> 29.6 | W50: =IF(V50=0,0,IF(B50=0,0,V50*B50/1000)) -> 59.4368 | Z50: =IF(Y50=0,0,IF(B50=0,0,Y50*B50/1000)) -> 0 | AA50: 52.8 | AB50: =IF(AA50=0,0,IF(B50=0,0,AA50*B50/1000)) -> 106.0224 | AC50: 15.92 | AD50: =IF(AC50=0,0,IF(B50=0,0,AC50*B50/1000)) -> 31.96736 | AE50: 0.135 | AF50: =IF(AE50=0,0,IF(B50=0,0,AE50*B50/1000)) -> 0.27108 | AG50: 0.2 | AH50: =IF(AG50=0,0,IF(B50=0,0,AG50*B50/1000)) -> 0.4016 | AI50: =IF(AA50=0,"",SUM(AA50,AE50,AG50)) -> 53.135 | AJ50: =IF(AI50=0,0,IF(B50=0,0,AI50*B50/1000)) -> 106.69508 | AL50: 620 | AM50: =IF(AL50=0,0,IF(B50=0,0,AL50*B50/1000)) -> 1244.96 | AO50: 6.4 | AP50: =IF(AO50=""," ",IF(B50=""," ",AO50*B50/1000)) -> 12.8512 | AQ50: < | AR50: 0.05 | AS50: =IF(AR50=""," ",IF(B50=""," ",AR50*B50/1000)) -> 0.1004 | AT50: < | AU50: 0.01 | AV50: =IF(AU50=""," ",IF(B50=""," ",AU50*B50/1000)) -> 0.02008 | AX50: 0.29 | AY50: =IF(AX50=""," ",IF(B50=""," ",AX50*B50/1000)) -> 0.58232 | BA50: 22.65 | BB50: =IF(BA50=""," ",IF(B50=""," ",BA50*B50/1000)) -> 45.4812 | BD50: 1.6 | BE50: =IF(BD50=""," ",IF(B50=""," ",BD50*B50/1000)) -> 3.2128 | BG50: 0.45 | BH50: =IF(BG50=""," ",IF(B50=""," ",BG50*B50/1000)) -> 0.9036 | BI50: < | BJ50: 0.06 | BK50: =IF(BJ50=""," ",IF(B50=""," ",BJ50*B50/1000)) -> 0.12048 | BM50: 16.56 | BN50: =IF(BM50=""," ",IF(B50=""," ",BM50*B50/1000)) -> 33.25248 | BO50: OK | BP50: OK | BQ50: Echantillon chargé, noir, huileux DCO = 11626 mg/L. MES = 4033mg/L. phosphore = 31 mg/L.
A51: =A50+1 -> 42395 | B51: 1990 | C51: 8.45 | D51: 7.87 | E51: 1 | F51: 10483 | G51: =IF(F51=0,0,(F51*E51)) -> 10483 | H51: =IF(G51=0,0,IF(B51=0,0,(G51*B51/1000))) -> 20861.17 | I51: 1 | J51: 6408 | K51: =IF(J51=0,0,(J51*I51)) -> 6408 | L51: =IF(K51=0,0,IF(B51=0,0,K51*B51/1000)) -> 12751.92 | M51: 346 | N51: =IF(M51=0,0,IF(B51=0,0,M51*B51/1000)) -> 688.54 | O51: 91.3 | P51: 169.7 | Q51: 36 | R51: =IF(P51=0,0,(P51-O51)*1000/Q51) -> 2177.7778 | S51: =IF(R51=0,0,IF(B51=0,0,R51*B51/1000)) -> 4333.7778 | T51: 2 | U51: 8.55 | V51: =IF(U51=0,0,(U51*T51)) -> 17.1 | W51: =IF(V51=0,0,IF(B51=0,0,V51*B51/1000)) -> 34.029 | Z51: =IF(Y51=0,0,IF(B51=0,0,Y51*B51/1000)) -> 0 | AA51: 36.8 | AB51: =IF(AA51=0,0,IF(B51=0,0,AA51*B51/1000)) -> 73.232 | AC51: 16.06 | AD51: =IF(AC51=0,0,IF(B51=0,0,AC51*B51/1000)) -> 31.9594 | AE51: 0.1 | AF51: =IF(AE51=0,0,IF(B51=0,0,AE51*B51/1000)) -> 0.199 | AG51: 0.2 | AH51: =IF(AG51=0,0,IF(B51=0,0,AG51*B51/1000)) -> 0.398 | AI51: =IF(AA51=0,"",SUM(AA51,AE51,AG51)) -> 37.1 | AJ51: =IF(AI51=0,0,IF(B51=0,0,AI51*B51/1000)) -> 73.829 | AL51: 0.63 | AM51: =IF(AL51=0,0,IF(B51=0,0,AL51*B51/1000)) -> 1.2537 | AO51: 2.6 | AP51: =IF(AO51=""," ",IF(B51=""," ",AO51*B51/1000)) -> 5.174 | AQ51: < | AR51: 0.05 | AS51: =IF(AR51=""," ",IF(B51=""," ",AR51*B51/1000)) -> 0.0995 | AT51: < | AU51: 0.01 | AV51: =IF(AU51=""," ",IF(B51=""," ",AU51*B51/1000)) -> 0.0199 | AX51: 0.16 | AY51: =IF(AX51=""," ",IF(B51=""," ",AX51*B51/1000)) -> 0.3184 | BA51: 11.59 | BB51: =IF(BA51=""," ",IF(B51=""," ",BA51*B51/1000)) -> 23.0641 | BD51: 0.79 | BE51: =IF(BD51=""," ",IF(B51=""," ",BD51*B51/1000)) -> 1.5721 | BG51: 0.11 | BH51: =IF(BG51=""," ",IF(B51=""," ",BG51*B51/1000)) -> 0.2189 | BI51: < | BJ51: 0.06 | BK51: =IF(BJ51=""," ",IF(B51=""," ",BJ51*B51/1000)) -> 0.1194 | BM51: 3.88 | BN51: =IF(BM51=""," ",IF(B51=""," ",BM51*B51/1000)) -> 7.7212 | BO51: OK | BP51: OK | BQ51: Echantillon chargé, noir, huileux DCO = 11278 mg/L. MES = 2549 mg/L. phosphore = 19,80 mg/L.
A52: =A51+1 -> 42396 | B52: 1965 | C52: 9.51 | D52: 7.72 | E52: 1 | F52: 6587 | G52: =IF(F52=0,0,(F52*E52)) -> 6587 | H52: =IF(G52=0,0,IF(B52=0,0,(G52*B52/1000))) -> 12943.455 | I52: 1 | J52: 3276 | K52: =IF(J52=0,0,(J52*I52)) -> 3276 | L52: =IF(K52=0,0,IF(B52=0,0,K52*B52/1000)) -> 6437.34 | M52: 254 | N52: =IF(M52=0,0,IF(B52=0,0,M52*B52/1000)) -> 499.11 | O52: 91 | P52: 120.9 | Q52: 45 | R52: =IF(P52=0,0,(P52-O52)*1000/Q52) -> 664.44444 | S52: =IF(R52=0,0,IF(B52=0,0,R52*B52/1000)) -> 1305.6333 | T52: 2 | U52: 6.48 | V52: =IF(U52=0,0,(U52*T52)) -> 12.96 | W52: =IF(V52=0,0,IF(B52=0,0,V52*B52/1000)) -> 25.4664 | Z52: =IF(Y52=0,0,IF(B52=0,0,Y52*B52/1000)) -> 0 | AA52: 37.6 | AB52: =IF(AA52=0,0,IF(B52=0,0,AA52*B52/1000)) -> 73.884 | AC52: 16.37 | AD52: =IF(AC52=0,0,IF(B52=0,0,AC52*B52/1000)) -> 32.16705 | AE52: 0.107 | AF52: =IF(AE52=0,0,IF(B52=0,0,AE52*B52/1000)) -> 0.210255 | AG52: 0.238 | AH52: =IF(AG52=0,0,IF(B52=0,0,AG52*B52/1000)) -> 0.46767 | AI52: =IF(AA52=0,"",SUM(AA52,AE52,AG52)) -> 37.945 | AJ52: =IF(AI52=0,0,IF(B52=0,0,AI52*B52/1000)) -> 74.561925 | AL52: 0.12 | AM52: =IF(AL52=0,0,IF(B52=0,0,AL52*B52/1000)) -> 0.2358 | AO52: 0.05 | AP52: =IF(AO52=""," ",IF(B52=""," ",AO52*B52/1000)) -> 0.09825 | AQ52: < | AR52: 0.05 | AS52: =IF(AR52=""," ",IF(B52=""," ",AR52*B52/1000)) -> 0.09825 | AT52: < | AU52: 0.01 | AV52: =IF(AU52=""," ",IF(B52=""," ",AU52*B52/1000)) -> 0.01965 | AX52: 0.14 | AY52: =IF(AX52=""," ",IF(B52=""," ",AX52*B52/1000)) -> 0.2751 | BA52: 7.75 | BB52: =IF(BA52=""," ",IF(B52=""," ",BA52*B52/1000)) -> 15.22875 | BD52: 0.6 | BE52: =IF(BD52=""," ",IF(B52=""," ",BD52*B52/1000)) -> 1.179 | BG52: 0.07 | BH52: =IF(BG52=""," ",IF(B52=""," ",BG52*B52/1000)) -> 0.13755 | BI52: < | BJ52: 0.06 | BK52: =IF(BJ52=""," ",IF(B52=""," ",BJ52*B52/1000)) -> 0.1179 | BM52: 2.11 | BN52: =IF(BM52=""," ",IF(B52=""," ",BM52*B52/1000)) -> 4.14615 | BO52: OK | BP52: OK | BQ52: Echantillon chargé,noir DCO= 6640 mg/L. MES = 667 mg/L.
A53: =A52+1 -> 42397 | B53: 1945 | C53: 10.23 | D53: 7.61 | E53: 1 | F53: 3235 | G53: =IF(F53=0,0,(F53*E53)) -> 3235 | H53: =IF(G53=0,0,IF(B53=0,0,(G53*B53/1000))) -> 6292.075 | I53: 1 | J53: 2304 | K53: =IF(J53=0,0,(J53*I53)) -> 2304 | L53: =IF(K53=0,0,IF(B53=0,0,K53*B53/1000)) -> 4481.28 | M53: 272 | N53: =IF(M53=0,0,IF(B53=0,0,M53*B53/1000)) -> 529.04 | O53: 88.8 | P53: 125.7 | Q53: 87 | R53: =IF(P53=0,0,(P53-O53)*1000/Q53) -> 424.13793 | S53: =IF(R53=0,0,IF(B53=0,0,R53*B53/1000)) -> 824.94828 | T53: 1 | U53: 5.54 | V53: =IF(U53=0,0,(U53*T53)) -> 5.54 | W53: =IF(V53=0,0,IF(B53=0,0,V53*B53/1000)) -> 10.7753 | Z53: =IF(Y53=0,0,IF(B53=0,0,Y53*B53/1000)) -> 0 | AA53: 36.5 | AB53: =IF(AA53=0,0,IF(B53=0,0,AA53*B53/1000)) -> 70.9925 | AC53: 19.99 | AD53: =IF(AC53=0,0,IF(B53=0,0,AC53*B53/1000)) -> 38.88055 | AE53: 0.1 | AF53: =IF(AE53=0,0,IF(B53=0,0,AE53*B53/1000)) -> 0.1945 | AG53: 0.2 | AH53: =IF(AG53=0,0,IF(B53=0,0,AG53*B53/1000)) -> 0.389 | AI53: =IF(AA53=0,"",SUM(AA53,AE53,AG53)) -> 36.8 | AJ53: =IF(AI53=0,0,IF(B53=0,0,AI53*B53/1000)) -> 71.576 | AL53: 490 | AM53: =IF(AL53=0,0,IF(B53=0,0,AL53*B53/1000)) -> 953.05 | AO53: 0.86 | AP53: =IF(AO53=""," ",IF(B53=""," ",AO53*B53/1000)) -> 1.6727 | AQ53: < | AR53: 0.05 | AS53: =IF(AR53=""," ",IF(B53=""," ",AR53*B53/1000)) -> 0.09725 | AT53: < | AU53: 0.01 | AV53: =IF(AU53=""," ",IF(B53=""," ",AU53*B53/1000)) -> 0.01945 | AX53: 0.05 | AY53: =IF(AX53=""," ",IF(B53=""," ",AX53*B53/1000)) -> 0.09725 | BA53: 2.1 | BB53: =IF(BA53=""," ",IF(B53=""," ",BA53*B53/1000)) -> 4.0845 | BD53: 0.28 | BE53: =IF(BD53=""," ",IF(B53=""," ",BD53*B53/1000)) -> 0.5446 | BF53: < | BG53: 0.04 | BH53: =IF(BG53=""," ",IF(B53=""," ",BG53*B53/1000)) -> 0.0778 | BI53: < | BJ53: 0.06 | BK53: =IF(BJ53=""," ",IF(B53=""," ",BJ53*B53/1000)) -> 0.1167 | BM53: 1.64 | BN53: =IF(BM53=""," ",IF(B53=""," ",BM53*B53/1000)) -> 3.1898 | BO53: OK | BP53: OK | BQ53: Echantillon chargé DCO = 3682 mg/L.MES = 424 mg/L.
A54: =A53+1 -> 42398 | B54: 2065 | C54: 9.88 | D54: 7.66 | E54: 1 | F54: 2353 | G54: =IF(F54=0,0,(F54*E54)) -> 2353 | H54: =IF(G54=0,0,IF(B54=0,0,(G54*B54/1000))) -> 4858.945 | I54: 1 | J54: 1495 | K54: =IF(J54=0,0,(J54*I54)) -> 1495 | L54: =IF(K54=0,0,IF(B54=0,0,K54*B54/1000)) -> 3087.175 | M54: 284 | N54: =IF(M54=0,0,IF(B54=0,0,M54*B54/1000)) -> 586.46 | O54: 89.6 | P54: 123.3 | Q54: 68 | R54: =IF(P54=0,0,(P54-O54)*1000/Q54) -> 495.58824 | S54: =IF(R54=0,0,IF(B54=0,0,R54*B54/1000)) -> 1023.3897 | T54: 1 | U54: 4.78 | V54: =IF(U54=0,0,(U54*T54)) -> 4.78 | W54: =IF(V54=0,0,IF(B54=0,0,V54*B54/1000)) -> 9.8707 | Z54: =IF(Y54=0,0,IF(B54=0,0,Y54*B54/1000)) -> 0 | AA54: 26.4 | AB54: =IF(AA54=0,0,IF(B54=0,0,AA54*B54/1000)) -> 54.516 | AC54: 10.5 | AD54: =IF(AC54=0,0,IF(B54=0,0,AC54*B54/1000)) -> 21.6825 | AE54: 0.1 | AF54: =IF(AE54=0,0,IF(B54=0,0,AE54*B54/1000)) -> 0.2065 | AG54: 0.2 | AH54: =IF(AG54=0,0,IF(B54=0,0,AG54*B54/1000)) -> 0.413 | AI54: =IF(AA54=0,"",SUM(AA54,AE54,AG54)) -> 26.7 | AJ54: =IF(AI54=0,0,IF(B54=0,0,AI54*B54/1000)) -> 55.1355 | AL54: 73.9 | AM54: =IF(AL54=0,0,IF(B54=0,0,AL54*B54/1000)) -> 152.6035 | AO54: 1.3 | AP54: =IF(AO54=""," ",IF(B54=""," ",AO54*B54/1000)) -> 2.6845 | AQ54: < | AR54: 0.05 | AS54: =IF(AR54=""," ",IF(B54=""," ",AR54*B54/1000)) -> 0.10325 | AT54: < | AU54: 0.01 | AV54: =IF(AU54=""," ",IF(B54=""," ",AU54*B54/1000)) -> 0.02065 | AX54: 0.10419607 | AY54: =IF(AX54=""," ",IF(B54=""," ",AX54*B54/1000)) -> 0.21516489 | BA54: 2.5514925 | BB54: =IF(BA54=""," ",IF(B54=""," ",BA54*B54/1000)) -> 5.2688319 | BD54: 0.28216681 | BE54: =IF(BD54=""," ",IF(B54=""," ",BD54*B54/1000)) -> 0.58267446 | BG54: 0.13421013 | BH54: =IF(BG54=""," ",IF(B54=""," ",BG54*B54/1000)) -> 0.27714391 | BI54: < | BJ54: 0.06 | BK54: =IF(BJ54=""," ",IF(B54=""," ",BJ54*B54/1000)) -> 0.1239 | BM54: 1.7328056 | BN54: =IF(BM54=""," ",IF(B54=""," ",BM54*B54/1000)) -> 3.5782436 | BO54: OK | BP54: OK | BQ54: Echantillon chargé DCO = 2357 mg/L.MES = 510 mg/L.
A55: =A54+1 -> 42399 | B55: 1804 | C55: 8.92 | D55: 7.87 | E55: 1 | F55: 983 | G55: =IF(F55=0,0,(F55*E55)) -> 983 | H55: =IF(G55=0,0,IF(B55=0,0,(G55*B55/1000))) -> 1773.332 | I55: 1 | J55: 788 | K55: =IF(J55=0,0,(J55*I55)) -> 788 | L55: =IF(K55=0,0,IF(B55=0,0,K55*B55/1000)) -> 1421.552 | M55: 155 | N55: =IF(M55=0,0,IF(B55=0,0,M55*B55/1000)) -> 279.62 | O55: 91.4 | P55: 104.4 | Q55: 91 | R55: =IF(P55=0,0,(P55-O55)*1000/Q55) -> 142.85714 | S55: =IF(R55=0,0,IF(B55=0,0,R55*B55/1000)) -> 257.71429 | T55: 1 | U55: 2.55 | V55: =IF(U55=0,0,(U55*T55)) -> 2.55 | W55: =IF(V55=0,0,IF(B55=0,0,V55*B55/1000)) -> 4.6002 | Z55: =IF(Y55=0,0,IF(B55=0,0,Y55*B55/1000)) -> 0 | AA55: 18.4 | AB55: =IF(AA55=0,0,IF(B55=0,0,AA55*B55/1000)) -> 33.1936 | AC55: 5.9 | AD55: =IF(AC55=0,0,IF(B55=0,0,AC55*B55/1000)) -> 10.6436 | AE55: 0.1 | AF55: =IF(AE55=0,0,IF(B55=0,0,AE55*B55/1000)) -> 0.1804 | AG55: 0.2 | AH55: =IF(AG55=0,0,IF(B55=0,0,AG55*B55/1000)) -> 0.3608 | AI55: =IF(AA55=0,"",SUM(AA55,AE55,AG55)) -> 18.7 | AJ55: =IF(AI55=0,0,IF(B55=0,0,AI55*B55/1000)) -> 33.7348 | AL55: 2.06 | AM55: =IF(AL55=0,0,IF(B55=0,0,AL55*B55/1000)) -> 3.71624 | AO55: 0.97 | AP55: =IF(AO55=""," ",IF(B55=""," ",AO55*B55/1000)) -> 1.74988 | AQ55: < | AR55: 0.05 | AS55: =IF(AR55=""," ",IF(B55=""," ",AR55*B55/1000)) -> 0.0902 | AT55: < | AU55: 0.01 | AV55: =IF(AU55=""," ",IF(B55=""," ",AU55*B55/1000)) -> 0.01804 | AX55: 0.083455384 | AY55: =IF(AX55=""," ",IF(B55=""," ",AX55*B55/1000)) -> 0.15055351 | BA55: 2.1828775 | BB55: =IF(BA55=""," ",IF(B55=""," ",BA55*B55/1000)) -> 3.9379111 | BD55: 0.15421216 | BE55: =IF(BD55=""," ",IF(B55=""," ",BD55*B55/1000)) -> 0.27819874 | BF55: < | BG55: 0.04 | BH55: =IF(BG55=""," ",IF(B55=""," ",BG55*B55/1000)) -> 0.07216 | BI55: < | BJ55: 0.06 | BK55: =IF(BJ55=""," ",IF(B55=""," ",BJ55*B55/1000)) -> 0.10824 | BM55: 0.84235644 | BN55: =IF(BM55=""," ",IF(B55=""," ",BM55*B55/1000)) -> 1.519611 | BO55: OK | BP55: OK
A56: =A55+1 -> 42400 | B56: 1396 | C56: 8.68 | D56: 8.03 | E56: 1 | F56: 574 | G56: =IF(F56=0,0,(F56*E56)) -> 574 | H56: =IF(G56=0,0,IF(B56=0,0,(G56*B56/1000))) -> 801.304 | I56: 1 | J56: 453 | K56: =IF(J56=0,0,(J56*I56)) -> 453 | L56: =IF(K56=0,0,IF(B56=0,0,K56*B56/1000)) -> 632.388 | M56: 141 | N56: =IF(M56=0,0,IF(B56=0,0,M56*B56/1000)) -> 196.836 | O56: 91.7 | P56: 97 | Q56: 79 | R56: =IF(P56=0,0,(P56-O56)*1000/Q56) -> 67.088608 | S56: =IF(R56=0,0,IF(B56=0,0,R56*B56/1000)) -> 93.655696 | T56: 1 | U56: 1.46 | V56: =IF(U56=0,0,(U56*T56)) -> 1.46 | W56: =IF(V56=0,0,IF(B56=0,0,V56*B56/1000)) -> 2.03816 | Z56: =IF(Y56=0,0,IF(B56=0,0,Y56*B56/1000)) -> 0 | AA56: 11.2 | AB56: =IF(AA56=0,0,IF(B56=0,0,AA56*B56/1000)) -> 15.6352 | AC56: 2.68 | AD56: =IF(AC56=0,0,IF(B56=0,0,AC56*B56/1000)) -> 3.74128 | AE56: 0.238 | AF56: =IF(AE56=0,0,IF(B56=0,0,AE56*B56/1000)) -> 0.332248 | AG56: 0.708 | AH56: =IF(AG56=0,0,IF(B56=0,0,AG56*B56/1000)) -> 0.988368 | AI56: =IF(AA56=0,"",SUM(AA56,AE56,AG56)) -> 12.146 | AJ56: =IF(AI56=0,0,IF(B56=0,0,AI56*B56/1000)) -> 16.955816 | AL56: 1.64 | AM56: =IF(AL56=0,0,IF(B56=0,0,AL56*B56/1000)) -> 2.28944 | AO56: 0.57 | AP56: =IF(AO56=""," ",IF(B56=""," ",AO56*B56/1000)) -> 0.79572 | AQ56: < | AR56: 0.05 | AS56: =IF(AR56=""," ",IF(B56=""," ",AR56*B56/1000)) -> 0.0698 | AT56: < | AU56: 0.01 | AV56: =IF(AU56=""," ",IF(B56=""," ",AU56*B56/1000)) -> 0.01396 | AX56: 0.088661894 | AY56: =IF(AX56=""," ",IF(B56=""," ",AX56*B56/1000)) -> 0.123772 | BA56: 1.0926188 | BB56: =IF(BA56=""," ",IF(B56=""," ",BA56*B56/1000)) -> 1.5252959 | BD56: 0.084006459 | BE56: =IF(BD56=""," ",IF(B56=""," ",BD56*B56/1000)) -> 0.11727302 | BG56: 0.11300618 | BH56: =IF(BG56=""," ",IF(B56=""," ",BG56*B56/1000)) -> 0.15775662 | BI56: < | BJ56: 0.06 | BK56: =IF(BJ56=""," ",IF(B56=""," ",BJ56*B56/1000)) -> 0.08376 | BM56: 0.68376386 | BN56: =IF(BM56=""," ",IF(B56=""," ",BM56*B56/1000)) -> 0.95453435 | BO56: OK | BP56: OK
A57: =A56+1 -> 42401 | B57: 1970 | C57: 10.51 | D57: 7.84 | E57: 1 | F57: 1128 | G57: =IF(F57=0,0,(F57*E57)) -> 1128 | H57: =IF(G57=0,0,IF(B57=0,0,(G57*B57/1000))) -> 2222.16 | I57: 1 | J57: 947 | K57: =IF(J57=0,0,(J57*I57)) -> 947 | L57: =IF(K57=0,0,IF(B57=0,0,K57*B57/1000)) -> 1865.59 | M57: 204 | N57: =IF(M57=0,0,IF(B57=0,0,M57*B57/1000)) -> 401.88 | O57: 91.5 | P57: 101.6 | Q57: 66 | R57: =IF(P57=0,0,(P57-O57)*1000/Q57) -> 153.0303 | S57: =IF(R57=0,0,IF(B57=0,0,R57*B57/1000)) -> 301.4697 | T57: 1 | U57: 3.53 | V57: =IF(U57=0,0,(U57*T57)) -> 3.53 | W57: =IF(V57=0,0,IF(B57=0,0,V57*B57/1000)) -> 6.9541 | Z57: =IF(Y57=0,0,IF(B57=0,0,Y57*B57/1000)) -> 0 | AA57: 23.2 | AB57: =IF(AA57=0,0,IF(B57=0,0,AA57*B57/1000)) -> 45.704 | AC57: 11.16 | AD57: =IF(AC57=0,0,IF(B57=0,0,AC57*B57/1000)) -> 21.9852 | AE57: 0.277 | AF57: =IF(AE57=0,0,IF(B57=0,0,AE57*B57/1000)) -> 0.54569 | AG57: 1.106 | AH57: =IF(AG57=0,0,IF(B57=0,0,AG57*B57/1000)) -> 2.17882 | AI57: =IF(AA57=0,"",SUM(AA57,AE57,AG57)) -> 24.583 | AJ57: =IF(AI57=0,0,IF(B57=0,0,AI57*B57/1000)) -> 48.42851 | AL57: 2.71 | AM57: =IF(AL57=0,0,IF(B57=0,0,AL57*B57/1000)) -> 5.3387 | AO57: 0.71 | AP57: =IF(AO57=""," ",IF(B57=""," ",AO57*B57/1000)) -> 1.3987 | AQ57: < | AR57: 0.05 | AS57: =IF(AR57=""," ",IF(B57=""," ",AR57*B57/1000)) -> 0.0985 | AT57: < | AU57: 0.01 | AV57: =IF(AU57=""," ",IF(B57=""," ",AU57*B57/1000)) -> 0.0197 | AX57: 0.10328127 | AY57: =IF(AX57=""," ",IF(B57=""," ",AX57*B57/1000)) -> 0.20346411 | BA57: 1.8820118 | BB57: =IF(BA57=""," ",IF(B57=""," ",BA57*B57/1000)) -> 3.7075632 | BD57: 0.16869605 | BE57: =IF(BD57=""," ",IF(B57=""," ",BD57*B57/1000)) -> 0.33233121 | BG57: 0.057061065 | BH57: =IF(BG57=""," ",IF(B57=""," ",BG57*B57/1000)) -> 0.1124103 | BI57: < | BJ57: 0.06 | BK57: =IF(BJ57=""," ",IF(B57=""," ",BJ57*B57/1000)) -> 0.1182 | BM57: 1.0044831 | BN57: =IF(BM57=""," ",IF(B57=""," ",BM57*B57/1000)) -> 1.9788317 | BO57: OK | BP57: OK
A58: =A57+1 -> 42402 | B58: 2076 | C58: 10.97 | D58: 7.71 | E58: 1 | F58: 1361 | G58: =IF(F58=0,0,(F58*E58)) -> 1361 | H58: =IF(G58=0,0,IF(B58=0,0,(G58*B58/1000))) -> 2825.436 | I58: 1 | J58: 1172 | K58: =IF(J58=0,0,(J58*I58)) -> 1172 | L58: =IF(K58=0,0,IF(B58=0,0,K58*B58/1000)) -> 2433.072 | M58: 256 | N58: =IF(M58=0,0,IF(B58=0,0,M58*B58/1000)) -> 531.456 | O58: 91.2 | P58: 105.1 | Q58: 58 | R58: =IF(P58=0,0,(P58-O58)*1000/Q58) -> 239.65517 | S58: =IF(R58=0,0,IF(B58=0,0,R58*B58/1000)) -> 497.52414 | T58: 1 | U58: 5.25 | V58: =IF(U58=0,0,(U58*T58)) -> 5.25 | W58: =IF(V58=0,0,IF(B58=0,0,V58*B58/1000)) -> 10.899 | Z58: =IF(Y58=0,0,IF(B58=0,0,Y58*B58/1000)) -> 0 | AA58: 38.4 | AB58: =IF(AA58=0,0,IF(B58=0,0,AA58*B58/1000)) -> 79.7184 | AC58: 16.58 | AD58: =IF(AC58=0,0,IF(B58=0,0,AC58*B58/1000)) -> 34.42008 | AE58: 0.1 | AF58: =IF(AE58=0,0,IF(B58=0,0,AE58*B58/1000)) -> 0.2076 | AG58: 0.2 | AH58: =IF(AG58=0,0,IF(B58=0,0,AG58*B58/1000)) -> 0.4152 | AI58: =IF(AA58=0,"",SUM(AA58,AE58,AG58)) -> 38.7 | AJ58: =IF(AI58=0,0,IF(B58=0,0,AI58*B58/1000)) -> 80.3412 | AL58: 24.2 | AM58: =IF(AL58=0,0,IF(B58=0,0,AL58*B58/1000)) -> 50.2392 | AO58: 0.92 | AP58: =IF(AO58=""," ",IF(B58=""," ",AO58*B58/1000)) -> 1.90992 | AQ58: < | AR58: 0.05 | AS58: =IF(AR58=""," ",IF(B58=""," ",AR58*B58/1000)) -> 0.1038 | AT58: < | AU58: 0.01 | AV58: =IF(AU58=""," ",IF(B58=""," ",AU58*B58/1000)) -> 0.02076 | AX58: 0.076248966 | AY58: =IF(AX58=""," ",IF(B58=""," ",AX58*B58/1000)) -> 0.15829285 | BA58: 2.9148183 | BB58: =IF(BA58=""," ",IF(B58=""," ",BA58*B58/1000)) -> 6.0511628 | BD58: 0.25503434 | BE58: =IF(BD58=""," ",IF(B58=""," ",BD58*B58/1000)) -> 0.52945129 | BG58: 0.1928872 | BH58: =IF(BG58=""," ",IF(B58=""," ",BG58*B58/1000)) -> 0.40043383 | BI58: < | BJ58: 0.06 | BK58: =IF(BJ58=""," ",IF(B58=""," ",BJ58*B58/1000)) -> 0.12456 | BM58: 1.6634517 | BN58: =IF(BM58=""," ",IF(B58=""," ",BM58*B58/1000)) -> 3.4533257 | BO58: OK | BP58: OK
A59: =A58+1 -> 42403 | B59: 1973 | C59: 10.27 | D59: 7.9 | E59: 1 | F59: 1222 | G59: =IF(F59=0,0,(F59*E59)) -> 1222 | H59: =IF(G59=0,0,IF(B59=0,0,(G59*B59/1000))) -> 2411.006 | I59: 1 | J59: 1063 | K59: =IF(J59=0,0,(J59*I59)) -> 1063 | L59: =IF(K59=0,0,IF(B59=0,0,K59*B59/1000)) -> 2097.299 | M59: 214 | N59: =IF(M59=0,0,IF(B59=0,0,M59*B59/1000)) -> 422.222 | O59: 88.4 | P59: 100 | Q59: 61 | R59: =IF(P59=0,0,(P59-O59)*1000/Q59) -> 190.16393 | S59: =IF(R59=0,0,IF(B59=0,0,R59*B59/1000)) -> 375.19344 | T59: 1 | U59: 3.36 | V59: =IF(U59=0,0,(U59*T59)) -> 3.36 | W59: =IF(V59=0,0,IF(B59=0,0,V59*B59/1000)) -> 6.62928 | Z59: =IF(Y59=0,0,IF(B59=0,0,Y59*B59/1000)) -> 0 | AA59: 34.4 | AB59: =IF(AA59=0,0,IF(B59=0,0,AA59*B59/1000)) -> 67.8712 | AC59: 18.15 | AD59: =IF(AC59=0,0,IF(B59=0,0,AC59*B59/1000)) -> 35.80995 | AE59: 0.222 | AF59: =IF(AE59=0,0,IF(B59=0,0,AE59*B59/1000)) -> 0.438006 | AG59: 0.666 | AH59: =IF(AG59=0,0,IF(B59=0,0,AG59*B59/1000)) -> 1.314018 | AI59: =IF(AA59=0,"",SUM(AA59,AE59,AG59)) -> 35.288 | AJ59: =IF(AI59=0,0,IF(B59=0,0,AI59*B59/1000)) -> 69.623224 | AL59: 20.6 | AM59: =IF(AL59=0,0,IF(B59=0,0,AL59*B59/1000)) -> 40.6438 | AO59: 0.7 | AP59: =IF(AO59=""," ",IF(B59=""," ",AO59*B59/1000)) -> 1.3811 | AQ59: < | AR59: 0.05 | AS59: =IF(AR59=""," ",IF(B59=""," ",AR59*B59/1000)) -> 0.09865 | AT59: < | AU59: 0.01 | AV59: =IF(AU59=""," ",IF(B59=""," ",AU59*B59/1000)) -> 0.01973 | AX59: 0.1007999 | AY59: =IF(AX59=""," ",IF(B59=""," ",AX59*B59/1000)) -> 0.19887819 | BA59: 2.6863332 | BB59: =IF(BA59=""," ",IF(B59=""," ",BA59*B59/1000)) -> 5.3001354 | BD59: 0.14675243 | BE59: =IF(BD59=""," ",IF(B59=""," ",BD59*B59/1000)) -> 0.28954255 | BG59: 0.12222964 | BH59: =IF(BG59=""," ",IF(B59=""," ",BG59*B59/1000)) -> 0.24115909 | BI59: < | BJ59: 0.06 | BK59: =IF(BJ59=""," ",IF(B59=""," ",BJ59*B59/1000)) -> 0.11838 | BM59: 0.883228 | BN59: =IF(BM59=""," ",IF(B59=""," ",BM59*B59/1000)) -> 1.7426089 | BO59: OK | BP59: OK
A60: =A59+1 -> 42404 | B60: 1940 | C60: 7.78 | D60: 7.74 | E60: 1 | F60: 1231 | G60: =IF(F60=0,0,(F60*E60)) -> 1231 | H60: =IF(G60=0,0,IF(B60=0,0,(G60*B60/1000))) -> 2388.14 | I60: 1 | J60: 1138 | K60: =IF(J60=0,0,(J60*I60)) -> 1138 | L60: =IF(K60=0,0,IF(B60=0,0,K60*B60/1000)) -> 2207.72 | M60: 226 | N60: =IF(M60=0,0,IF(B60=0,0,M60*B60/1000)) -> 438.44 | O60: 91.7 | P60: 102.5 | Q60: 55 | R60: =IF(P60=0,0,(P60-O60)*1000/Q60) -> 196.36364 | S60: =IF(R60=0,0,IF(B60=0,0,R60*B60/1000)) -> 380.94545 | T60: 1 | U60: 3.51 | V60: =IF(U60=0,0,(U60*T60)) -> 3.51 | W60: =IF(V60=0,0,IF(B60=0,0,V60*B60/1000)) -> 6.8094 | Z60: =IF(Y60=0,0,IF(B60=0,0,Y60*B60/1000)) -> 0 | AA60: 33.6 | AB60: =IF(AA60=0,0,IF(B60=0,0,AA60*B60/1000)) -> 65.184 | AC60: 15.63 | AD60: =IF(AC60=0,0,IF(B60=0,0,AC60*B60/1000)) -> 30.3222 | AE60: 0.1 | AF60: =IF(AE60=0,0,IF(B60=0,0,AE60*B60/1000)) -> 0.194 | AG60: 0.2 | AH60: =IF(AG60=0,0,IF(B60=0,0,AG60*B60/1000)) -> 0.388 | AI60: =IF(AA60=0,"",SUM(AA60,AE60,AG60)) -> 33.9 | AJ60: =IF(AI60=0,0,IF(B60=0,0,AI60*B60/1000)) -> 65.766 | AL60: 2.46 | AM60: =IF(AL60=0,0,IF(B60=0,0,AL60*B60/1000)) -> 4.7724 | AO60: 0.69 | AP60: =IF(AO60=""," ",IF(B60=""," ",AO60*B60/1000)) -> 1.3386 | AQ60: < | AR60: 0.05 | AS60: =IF(AR60=""," ",IF(B60=""," ",AR60*B60/1000)) -> 0.097 | AT60: < | AU60: 0.01 | AV60: =IF(AU60=""," ",IF(B60=""," ",AU60*B60/1000)) -> 0.0194 | AX60: 0.066453904 | AY60: =IF(AX60=""," ",IF(B60=""," ",AX60*B60/1000)) -> 0.12892057 | BA60: 2.3055203 | BB60: =IF(BA60=""," ",IF(B60=""," ",BA60*B60/1000)) -> 4.4727094 | BD60: 0.20569234 | BE60: =IF(BD60=""," ",IF(B60=""," ",BD60*B60/1000)) -> 0.39904313 | BG60: 0.067355596 | BH60: =IF(BG60=""," ",IF(B60=""," ",BG60*B60/1000)) -> 0.13066986 | BI60: < | BJ60: 0.06 | BK60: =IF(BJ60=""," ",IF(B60=""," ",BJ60*B60/1000)) -> 0.1164 | BM60: 1.0671143 | BN60: =IF(BM60=""," ",IF(B60=""," ",BM60*B60/1000)) -> 2.0702018 | BO60: OK | BP60: OK
A61: =A60+1 -> 42405 | B61: 2069 | C61: 8.25 | D61: 7.55 | E61: 1 | F61: 1467 | G61: =IF(F61=0,0,(F61*E61)) -> 1467 | H61: =IF(G61=0,0,IF(B61=0,0,(G61*B61/1000))) -> 3035.223 | I61: 1 | J61: 1127 | K61: =IF(J61=0,0,(J61*I61)) -> 1127 | L61: =IF(K61=0,0,IF(B61=0,0,K61*B61/1000)) -> 2331.763 | M61: 278 | N61: =IF(M61=0,0,IF(B61=0,0,M61*B61/1000)) -> 575.182 | O61: 91.4 | P61: 101 | Q61: 45 | R61: =IF(P61=0,0,(P61-O61)*1000/Q61) -> 213.33333 | S61: =IF(R61=0,0,IF(B61=0,0,R61*B61/1000)) -> 441.38667 | T61: 1 | U61: 3.72 | V61: =IF(U61=0,0,(U61*T61)) -> 3.72 | W61: =IF(V61=0,0,IF(B61=0,0,V61*B61/1000)) -> 7.69668 | Z61: =IF(Y61=0,0,IF(B61=0,0,Y61*B61/1000)) -> 0 | AA61: 19.2 | AB61: =IF(AA61=0,0,IF(B61=0,0,AA61*B61/1000)) -> 39.7248 | AC61: 13.4 | AD61: =IF(AC61=0,0,IF(B61=0,0,AC61*B61/1000)) -> 27.7246 | AE61: 0.1 | AF61: =IF(AE61=0,0,IF(B61=0,0,AE61*B61/1000)) -> 0.2069 | AG61: 0.2 | AH61: =IF(AG61=0,0,IF(B61=0,0,AG61*B61/1000)) -> 0.4138 | AI61: =IF(AA61=0,"",SUM(AA61,AE61,AG61)) -> 19.5 | AJ61: =IF(AI61=0,0,IF(B61=0,0,AI61*B61/1000)) -> 40.3455 | AL61: 5.32 | AM61: =IF(AL61=0,0,IF(B61=0,0,AL61*B61/1000)) -> 11.00708 | AO61: 1 | AP61: =IF(AO61=""," ",IF(B61=""," ",AO61*B61/1000)) -> 2.069 | AQ61: < | AR61: 0.05 | AS61: =IF(AR61=""," ",IF(B61=""," ",AR61*B61/1000)) -> 0.10345 | AT61: < | AU61: 0.01 | AV61: =IF(AU61=""," ",IF(B61=""," ",AU61*B61/1000)) -> 0.02069 | AX61: 0.093297921 | AY61: =IF(AX61=""," ",IF(B61=""," ",AX61*B61/1000)) -> 0.1930334 | BA61: 3.3169231 | BB61: =IF(BA61=""," ",IF(B61=""," ",BA61*B61/1000)) -> 6.862714 | BD61: 0.20469883 | BE61: =IF(BD61=""," ",IF(B61=""," ",BD61*B61/1000)) -> 0.42352188 | BG61: 0.079314046 | BH61: =IF(BG61=""," ",IF(B61=""," ",BG61*B61/1000)) -> 0.16410076 | BI61: < | BJ61: 0.06 | BK61: =IF(BJ61=""," ",IF(B61=""," ",BJ61*B61/1000)) -> 0.12414 | BM61: 1.167156 | BN61: =IF(BM61=""," ",IF(B61=""," ",BM61*B61/1000)) -> 2.4148457 | BO61: OK | BP61: OK
A62: =A61+1 -> 42406 | B62: 1566 | C62: 9.42 | D62: 7.5 | E62: 1 | F62: 792 | G62: =IF(F62=0,0,(F62*E62)) -> 792 | H62: =IF(G62=0,0,IF(B62=0,0,(G62*B62/1000))) -> 1240.272 | I62: 1 | J62: 652 | K62: =IF(J62=0,0,(J62*I62)) -> 652 | L62: =IF(K62=0,0,IF(B62=0,0,K62*B62/1000)) -> 1021.032 | M62: 174 | N62: =IF(M62=0,0,IF(B62=0,0,M62*B62/1000)) -> 272.484 | O62: 91.7 | P62: 96.6 | Q62: 44 | R62: =IF(P62=0,0,(P62-O62)*1000/Q62) -> 111.36364 | S62: =IF(R62=0,0,IF(B62=0,0,R62*B62/1000)) -> 174.39545 | T62: 1 | U62: 1.75 | V62: =IF(U62=0,0,(U62*T62)) -> 1.75 | W62: =IF(V62=0,0,IF(B62=0,0,V62*B62/1000)) -> 2.7405 | Z62: =IF(Y62=0,0,IF(B62=0,0,Y62*B62/1000)) -> 0 | AA62: 31.2 | AB62: =IF(AA62=0,0,IF(B62=0,0,AA62*B62/1000)) -> 48.8592 | AC62: 4.74 | AD62: =IF(AC62=0,0,IF(B62=0,0,AC62*B62/1000)) -> 7.42284 | AE62: 0.1 | AF62: =IF(AE62=0,0,IF(B62=0,0,AE62*B62/1000)) -> 0.1566 | AG62: 0.2 | AH62: =IF(AG62=0,0,IF(B62=0,0,AG62*B62/1000)) -> 0.3132 | AI62: =IF(AA62=0,"",SUM(AA62,AE62,AG62)) -> 31.5 | AJ62: =IF(AI62=0,0,IF(B62=0,0,AI62*B62/1000)) -> 49.329 | AL62: 0.79 | AM62: =IF(AL62=0,0,IF(B62=0,0,AL62*B62/1000)) -> 1.23714 | AO62: 0.6 | AP62: =IF(AO62=""," ",IF(B62=""," ",AO62*B62/1000)) -> 0.9396 | AQ62: < | AR62: 0.05 | AS62: =IF(AR62=""," ",IF(B62=""," ",AR62*B62/1000)) -> 0.0783 | AT62: < | AU62: 0.01 | AV62: =IF(AU62=""," ",IF(B62=""," ",AU62*B62/1000)) -> 0.01566 | AX62: 0.084949143 | AY62: =IF(AX62=""," ",IF(B62=""," ",AX62*B62/1000)) -> 0.13303036 | BA62: 2.4540758 | BB62: =IF(BA62=""," ",IF(B62=""," ",BA62*B62/1000)) -> 3.8430827 | BD62: 0.12221962 | BE62: =IF(BD62=""," ",IF(B62=""," ",BD62*B62/1000)) -> 0.19139592 | BG62: 0.067987822 | BH62: =IF(BG62=""," ",IF(B62=""," ",BG62*B62/1000)) -> 0.10646893 | BI62: < | BJ62: 0.06 | BK62: =IF(BJ62=""," ",IF(B62=""," ",BJ62*B62/1000)) -> 0.09396 | BM62: 0.90229064 | BN62: =IF(BM62=""," ",IF(B62=""," ",BM62*B62/1000)) -> 1.4129871 | BO62: OK | BP62: OK
A63: =A62+1 -> 42407 | B63: 1177 | C63: 9.38 | D63: 7.99 | E63: 1 | F63: 849 | G63: =IF(F63=0,0,(F63*E63)) -> 849 | H63: =IF(G63=0,0,IF(B63=0,0,(G63*B63/1000))) -> 999.273 | I63: 1 | J63: 658 | K63: =IF(J63=0,0,(J63*I63)) -> 658 | L63: =IF(K63=0,0,IF(B63=0,0,K63*B63/1000)) -> 774.466 | M63: 174 | N63: =IF(M63=0,0,IF(B63=0,0,M63*B63/1000)) -> 204.798 | O63: 91.2 | P63: 105.4 | Q63: 74 | R63: =IF(P63=0,0,(P63-O63)*1000/Q63) -> 191.89189 | S63: =IF(R63=0,0,IF(B63=0,0,R63*B63/1000)) -> 225.85676 | T63: 1 | U63: 3.66 | V63: =IF(U63=0,0,(U63*T63)) -> 3.66 | W63: =IF(V63=0,0,IF(B63=0,0,V63*B63/1000)) -> 4.30782 | Z63: =IF(Y63=0,0,IF(B63=0,0,Y63*B63/1000)) -> 0 | AA63: 28 | AB63: =IF(AA63=0,0,IF(B63=0,0,AA63*B63/1000)) -> 32.956 | AC63: 3.34 | AD63: =IF(AC63=0,0,IF(B63=0,0,AC63*B63/1000)) -> 3.93118 | AE63: 0.244 | AF63: =IF(AE63=0,0,IF(B63=0,0,AE63*B63/1000)) -> 0.287188 | AG63: 0.791 | AH63: =IF(AG63=0,0,IF(B63=0,0,AG63*B63/1000)) -> 0.931007 | AI63: =IF(AA63=0,"",SUM(AA63,AE63,AG63)) -> 29.035 | AJ63: =IF(AI63=0,0,IF(B63=0,0,AI63*B63/1000)) -> 34.174195 | AL63: 1.27 | AM63: =IF(AL63=0,0,IF(B63=0,0,AL63*B63/1000)) -> 1.49479 | AO63: 0.73 | AP63: =IF(AO63=""," ",IF(B63=""," ",AO63*B63/1000)) -> 0.85921 | AQ63: < | AR63: 0.05 | AS63: =IF(AR63=""," ",IF(B63=""," ",AR63*B63/1000)) -> 0.05885 | AT63: < | AU63: 0.01 | AV63: =IF(AU63=""," ",IF(B63=""," ",AU63*B63/1000)) -> 0.01177 | AX63: 0.08910314 | AY63: =IF(AX63=""," ",IF(B63=""," ",AX63*B63/1000)) -> 0.1048744 | BA63: 1.806159 | BB63: =IF(BA63=""," ",IF(B63=""," ",BA63*B63/1000)) -> 2.1258492 | BD63: 0.1102023 | BE63: =IF(BD63=""," ",IF(B63=""," ",BD63*B63/1000)) -> 0.1297081 | BG63: 0.079027899 | BH63: =IF(BG63=""," ",IF(B63=""," ",BG63*B63/1000)) -> 0.093015837 | BI63: < | BJ63: 0.06 | BK63: =IF(BJ63=""," ",IF(B63=""," ",BJ63*B63/1000)) -> 0.07062 | BM63: 0.86169219 | BN63: =IF(BM63=""," ",IF(B63=""," ",BM63*B63/1000)) -> 1.0142117 | BO63: OK | BP63: OK
A64: =A63+1 -> 42408 | B64: 2076 | C64: 8.87 | D64: 7.45 | E64: 1 | F64: 1016 | G64: =IF(F64=0,0,(F64*E64)) -> 1016 | H64: =IF(G64=0,0,IF(B64=0,0,(G64*B64/1000))) -> 2109.216 | I64: 1 | J64: 778 | K64: =IF(J64=0,0,(J64*I64)) -> 778 | L64: =IF(K64=0,0,IF(B64=0,0,K64*B64/1000)) -> 1615.128 | M64: 197 | N64: =IF(M64=0,0,IF(B64=0,0,M64*B64/1000)) -> 408.972 | O64: 90.6 | P64: 106.5 | Q64: 84 | R64: =IF(P64=0,0,(P64-O64)*1000/Q64) -> 189.28571 | S64: =IF(R64=0,0,IF(B64=0,0,R64*B64/1000)) -> 392.95714 | T64: 1 | U64: 3.4 | V64: =IF(U64=0,0,(U64*T64)) -> 3.4 | W64: =IF(V64=0,0,IF(B64=0,0,V64*B64/1000)) -> 7.0584 | Z64: =IF(Y64=0,0,IF(B64=0,0,Y64*B64/1000)) -> 0 | AA64: 28.8 | AB64: =IF(AA64=0,0,IF(B64=0,0,AA64*B64/1000)) -> 59.7888 | AC64: 8.09 | AD64: =IF(AC64=0,0,IF(B64=0,0,AC64*B64/1000)) -> 16.79484 | AE64: 0.1 | AF64: =IF(AE64=0,0,IF(B64=0,0,AE64*B64/1000)) -> 0.2076 | AG64: 0.2 | AH64: =IF(AG64=0,0,IF(B64=0,0,AG64*B64/1000)) -> 0.4152 | AI64: =IF(AA64=0,"",SUM(AA64,AE64,AG64)) -> 29.1 | AJ64: =IF(AI64=0,0,IF(B64=0,0,AI64*B64/1000)) -> 60.4116 | AL64: 1.05 | AM64: =IF(AL64=0,0,IF(B64=0,0,AL64*B64/1000)) -> 2.1798 | AO64: 0.68 | AP64: =IF(AO64=""," ",IF(B64=""," ",AO64*B64/1000)) -> 1.41168 | AQ64: < | AR64: 0.05 | AS64: =IF(AR64=""," ",IF(B64=""," ",AR64*B64/1000)) -> 0.1038 | AT64: < | AU64: 0.01 | AV64: =IF(AU64=""," ",IF(B64=""," ",AU64*B64/1000)) -> 0.02076 | AX64: 0.099117339 | AY64: =IF(AX64=""," ",IF(B64=""," ",AX64*B64/1000)) -> 0.2057676 | BA64: 1.6370903 | BB64: =IF(BA64=""," ",IF(B64=""," ",BA64*B64/1000)) -> 3.3985995 | BD64: 0.12102116 | BE64: =IF(BD64=""," ",IF(B64=""," ",BD64*B64/1000)) -> 0.25123993 | BG64: 0.081188507 | BH64: =IF(BG64=""," ",IF(B64=""," ",BG64*B64/1000)) -> 0.16854734 | BI64: < | BJ64: 0.06 | BK64: =IF(BJ64=""," ",IF(B64=""," ",BJ64*B64/1000)) -> 0.12456 | BM64: 0.73764223 | BN64: =IF(BM64=""," ",IF(B64=""," ",BM64*B64/1000)) -> 1.5313453 | BO64: OK | BP64: OK
A65: =A64+1 -> 42409 | B65: 2316 | C65: 9.38 | D65: 7.99 | E65: 1 | F65: 982 | G65: =IF(F65=0,0,(F65*E65)) -> 982 | H65: =IF(G65=0,0,IF(B65=0,0,(G65*B65/1000))) -> 2274.312 | I65: 1 | J65: 815 | K65: =IF(J65=0,0,(J65*I65)) -> 815 | L65: =IF(K65=0,0,IF(B65=0,0,K65*B65/1000)) -> 1887.54 | M65: 233 | N65: =IF(M65=0,0,IF(B65=0,0,M65*B65/1000)) -> 539.628 | O65: 89.6 | P65: 102.7 | Q65: 79 | R65: =IF(P65=0,0,(P65-O65)*1000/Q65) -> 165.82278 | S65: =IF(R65=0,0,IF(B65=0,0,R65*B65/1000)) -> 384.04557 | T65: 1 | U65: 3.73 | V65: =IF(U65=0,0,(U65*T65)) -> 3.73 | W65: =IF(V65=0,0,IF(B65=0,0,V65*B65/1000)) -> 8.63868 | Z65: =IF(Y65=0,0,IF(B65=0,0,Y65*B65/1000)) -> 0 | AA65: 36 | AB65: =IF(AA65=0,0,IF(B65=0,0,AA65*B65/1000)) -> 83.376 | AC65: 13.8 | AD65: =IF(AC65=0,0,IF(B65=0,0,AC65*B65/1000)) -> 31.9608 | AE65: 0.132 | AF65: =IF(AE65=0,0,IF(B65=0,0,AE65*B65/1000)) -> 0.305712 | AG65: 0.228 | AH65: =IF(AG65=0,0,IF(B65=0,0,AG65*B65/1000)) -> 0.528048 | AI65: =IF(AA65=0,"",SUM(AA65,AE65,AG65)) -> 36.36 | AJ65: =IF(AI65=0,0,IF(B65=0,0,AI65*B65/1000)) -> 84.20976 | AL65: 1.13 | AM65: =IF(AL65=0,0,IF(B65=0,0,AL65*B65/1000)) -> 2.61708 | AO65: 0.79 | AP65: =IF(AO65=""," ",IF(B65=""," ",AO65*B65/1000)) -> 1.82964 | AQ65: < | AR65: 0.05 | AS65: =IF(AR65=""," ",IF(B65=""," ",AR65*B65/1000)) -> 0.1158 | AT65: < | AU65: 0.01 | AV65: =IF(AU65=""," ",IF(B65=""," ",AU65*B65/1000)) -> 0.02316 | AX65: 0.10196918 | AY65: =IF(AX65=""," ",IF(B65=""," ",AX65*B65/1000)) -> 0.23616063 | BA65: 1.8205085 | BB65: =IF(BA65=""," ",IF(B65=""," ",BA65*B65/1000)) -> 4.2162976 | BD65: 0.13680604 | BE65: =IF(BD65=""," ",IF(B65=""," ",BD65*B65/1000)) -> 0.31684279 | BG65: 0.094500147 | BH65: =IF(BG65=""," ",IF(B65=""," ",BG65*B65/1000)) -> 0.21886234 | BI65: < | BJ65: 0.06 | BK65: =IF(BJ65=""," ",IF(B65=""," ",BJ65*B65/1000)) -> 0.13896 | BM65: 1.0830981 | BN65: =IF(BM65=""," ",IF(B65=""," ",BM65*B65/1000)) -> 2.5084551 | BO65: OK | BP65: OK
A66: =A65+1 -> 42410 | B66: 2046 | C66: 7.44 | D66: 7.84 | E66: 1 | F66: 1142 | G66: =IF(F66=0,0,(F66*E66)) -> 1142 | H66: =IF(G66=0,0,IF(B66=0,0,(G66*B66/1000))) -> 2336.532 | I66: 1 | J66: 977 | K66: =IF(J66=0,0,(J66*I66)) -> 977 | L66: =IF(K66=0,0,IF(B66=0,0,K66*B66/1000)) -> 1998.942 | M66: 255 | N66: =IF(M66=0,0,IF(B66=0,0,M66*B66/1000)) -> 521.73 | O66: 87 | P66: 95.7 | Q66: 42 | R66: =IF(P66=0,0,(P66-O66)*1000/Q66) -> 207.14286 | S66: =IF(R66=0,0,IF(B66=0,0,R66*B66/1000)) -> 423.81429 | T66: 1 | U66: 4.05 | V66: =IF(U66=0,0,(U66*T66)) -> 4.05 | W66: =IF(V66=0,0,IF(B66=0,0,V66*B66/1000)) -> 8.2863 | Z66: =IF(Y66=0,0,IF(B66=0,0,Y66*B66/1000)) -> 0 | AA66: 41.6 | AB66: =IF(AA66=0,0,IF(B66=0,0,AA66*B66/1000)) -> 85.1136 | AC66: 16.24 | AD66: =IF(AC66=0,0,IF(B66=0,0,AC66*B66/1000)) -> 33.22704 | AE66: 0.1 | AF66: =IF(AE66=0,0,IF(B66=0,0,AE66*B66/1000)) -> 0.2046 | AG66: 0.2 | AH66: =IF(AG66=0,0,IF(B66=0,0,AG66*B66/1000)) -> 0.4092 | AI66: =IF(AA66=0,"",SUM(AA66,AE66,AG66)) -> 41.9 | AJ66: =IF(AI66=0,0,IF(B66=0,0,AI66*B66/1000)) -> 85.7274 | AM66: =IF(AL66=0,0,IF(B66=0,0,AL66*B66/1000)) -> 0 | AP66: =IF(AO66=""," ",IF(B66=""," ",AO66*B66/1000)) | AQ66: < | AR66: 0.05 | AS66: =IF(AR66=""," ",IF(B66=""," ",AR66*B66/1000)) -> 0.1023 | AT66: < | AU66: 0.01 | AV66: =IF(AU66=""," ",IF(B66=""," ",AU66*B66/1000)) -> 0.02046 | AX66: 0.10966823 | AY66: =IF(AX66=""," ",IF(B66=""," ",AX66*B66/1000)) -> 0.2243812 | BA66: 2.1316495 | BB66: =IF(BA66=""," ",IF(B66=""," ",BA66*B66/1000)) -> 4.3613549 | BD66: 0.1782794 | BE66: =IF(BD66=""," ",IF(B66=""," ",BD66*B66/1000)) -> 0.36475965 | BG66: 0.10421981 | BH66: =IF(BG66=""," ",IF(B66=""," ",BG66*B66/1000)) -> 0.21323373 | BI66: < | BJ66: 0.06 | BK66: =IF(BJ66=""," ",IF(B66=""," ",BJ66*B66/1000)) -> 0.12276 | BM66: 1.575078 | BN66: =IF(BM66=""," ",IF(B66=""," ",BM66*B66/1000)) -> 3.2226096 | BO66: OK | BP66: OK | BQ66: Préleveur bouché à la STEP, environ 200 ml d'échantillon, pas d'envoi à eurofins.
A67: =A66+1 -> 42411 | B67: 1955 | C67: 7.04 | D67: 7.91 | E67: 1 | F67: 1049 | G67: =IF(F67=0,0,(F67*E67)) -> 1049 | H67: =IF(G67=0,0,IF(B67=0,0,(G67*B67/1000))) -> 2050.795 | I67: 1 | J67: 729 | K67: =IF(J67=0,0,(J67*I67)) -> 729 | L67: =IF(K67=0,0,IF(B67=0,0,K67*B67/1000)) -> 1425.195 | M67: 205 | N67: =IF(M67=0,0,IF(B67=0,0,M67*B67/1000)) -> 400.775 | O67: 87.5 | P67: 104.6 | Q67: 96 | R67: =IF(P67=0,0,(P67-O67)*1000/Q67) -> 178.125 | S67: =IF(R67=0,0,IF(B67=0,0,R67*B67/1000)) -> 348.23437 | T67: 1 | U67: 3.16 | V67: =IF(U67=0,0,(U67*T67)) -> 3.16 | W67: =IF(V67=0,0,IF(B67=0,0,V67*B67/1000)) -> 6.1778 | Z67: =IF(Y67=0,0,IF(B67=0,0,Y67*B67/1000)) -> 0 | AA67: 31.2 | AB67: =IF(AA67=0,0,IF(B67=0,0,AA67*B67/1000)) -> 60.996 | AC67: 12.27 | AD67: =IF(AC67=0,0,IF(B67=0,0,AC67*B67/1000)) -> 23.98785 | AE67: 0.473 | AF67: =IF(AE67=0,0,IF(B67=0,0,AE67*B67/1000)) -> 0.924715 | AG67: 1.155 | AH67: =IF(AG67=0,0,IF(B67=0,0,AG67*B67/1000)) -> 2.258025 | AI67: =IF(AA67=0,"",SUM(AA67,AE67,AG67)) -> 32.828 | AJ67: =IF(AI67=0,0,IF(B67=0,0,AI67*B67/1000)) -> 64.17874 | AL67: 2.4 | AM67: =IF(AL67=0,0,IF(B67=0,0,AL67*B67/1000)) -> 4.692 | AO67: 0.72 | AP67: =IF(AO67=""," ",IF(B67=""," ",AO67*B67/1000)) -> 1.4076 | AQ67: < | AR67: 0.05 | AS67: =IF(AR67=""," ",IF(B67=""," ",AR67*B67/1000)) -> 0.09775 | AT67: < | AU67: 0.01 | AV67: =IF(AU67=""," ",IF(B67=""," ",AU67*B67/1000)) -> 0.01955 | AX67: 0.052800756 | AY67: =IF(AX67=""," ",IF(B67=""," ",AX67*B67/1000)) -> 0.10322548 | BA67: 1.4448158 | BB67: =IF(BA67=""," ",IF(B67=""," ",BA67*B67/1000)) -> 2.8246148 | BD67: 0.14068757 | BE67: =IF(BD67=""," ",IF(B67=""," ",BD67*B67/1000)) -> 0.2750442 | BG67: 0.041288599 | BH67: =IF(BG67=""," ",IF(B67=""," ",BG67*B67/1000)) -> 0.080719211 | BI67: < | BJ67: 0.06 | BK67: =IF(BJ67=""," ",IF(B67=""," ",BJ67*B67/1000)) -> 0.1173 | BM67: 1.0777634 | BN67: =IF(BM67=""," ",IF(B67=""," ",BM67*B67/1000)) -> 2.1070275 | BO67: OK | BP67: OK
A68: =A67+1 -> 42412 | B68: 2268 | C68: 7.08 | D68: 7.53 | E68: 2 | F68: 458 | G68: =IF(F68=0,0,(F68*E68)) -> 916 | H68: =IF(G68=0,0,IF(B68=0,0,(G68*B68/1000))) -> 2077.488 | I68: 1 | J68: 825 | K68: =IF(J68=0,0,(J68*I68)) -> 825 | L68: =IF(K68=0,0,IF(B68=0,0,K68*B68/1000)) -> 1871.1 | M68: 182 | N68: =IF(M68=0,0,IF(B68=0,0,M68*B68/1000)) -> 412.776 | O68: 91.8 | P68: 104.3 | Q68: 85 | R68: =IF(P68=0,0,(P68-O68)*1000/Q68) -> 147.05882 | S68: =IF(R68=0,0,IF(B68=0,0,R68*B68/1000)) -> 333.52941 | T68: 1 | U68: 2.31 | V68: =IF(U68=0,0,(U68*T68)) -> 2.31 | W68: =IF(V68=0,0,IF(B68=0,0,V68*B68/1000)) -> 5.23908 | Z68: =IF(Y68=0,0,IF(B68=0,0,Y68*B68/1000)) -> 0 | AA68: 21.6 | AB68: =IF(AA68=0,0,IF(B68=0,0,AA68*B68/1000)) -> 48.9888 | AC68: 9.78 | AD68: =IF(AC68=0,0,IF(B68=0,0,AC68*B68/1000)) -> 22.18104 | AE68: 0.1 | AF68: =IF(AE68=0,0,IF(B68=0,0,AE68*B68/1000)) -> 0.2268 | AG68: 0.2 | AH68: =IF(AG68=0,0,IF(B68=0,0,AG68*B68/1000)) -> 0.4536 | AI68: =IF(AA68=0,"",SUM(AA68,AE68,AG68)) -> 21.9 | AJ68: =IF(AI68=0,0,IF(B68=0,0,AI68*B68/1000)) -> 49.6692 | AL68: 1.21 | AM68: =IF(AL68=0,0,IF(B68=0,0,AL68*B68/1000)) -> 2.74428 | AO68: 0.58 | AP68: =IF(AO68=""," ",IF(B68=""," ",AO68*B68/1000)) -> 1.31544 | AQ68: < | AR68: 0.05 | AS68: =IF(AR68=""," ",IF(B68=""," ",AR68*B68/1000)) -> 0.1134 | AT68: < | AU68: 0.01 | AV68: =IF(AU68=""," ",IF(B68=""," ",AU68*B68/1000)) -> 0.02268 | AX68: 0.096228078 | AY68: =IF(AX68=""," ",IF(B68=""," ",AX68*B68/1000)) -> 0.21824528 | BA68: 1.6556062 | BB68: =IF(BA68=""," ",IF(B68=""," ",BA68*B68/1000)) -> 3.7549147 | BD68: 0.16070949 | BE68: =IF(BD68=""," ",IF(B68=""," ",BD68*B68/1000)) -> 0.36448911 | BG68: 0.17572865 | BH68: =IF(BG68=""," ",IF(B68=""," ",BG68*B68/1000)) -> 0.39855258 | BI68: < | BJ68: 0.06 | BK68: =IF(BJ68=""," ",IF(B68=""," ",BJ68*B68/1000)) -> 0.13608 | BM68: 0.75023037 | BN68: =IF(BM68=""," ",IF(B68=""," ",BM68*B68/1000)) -> 1.7015225 | BO68: OK | BP68: OK | BQ68: échantillon noir
A69: =A68+1 -> 42413 | B69: 1759 | C69: 7.04 | D69: 7.77 | E69: 1 | F69: 557 | G69: =IF(F69=0,0,(F69*E69)) -> 557 | H69: =IF(G69=0,0,IF(B69=0,0,(G69*B69/1000))) -> 979.763 | I69: 1 | J69: 496 | K69: =IF(J69=0,0,(J69*I69)) -> 496 | L69: =IF(K69=0,0,IF(B69=0,0,K69*B69/1000)) -> 872.464 | M69: 107 | N69: =IF(M69=0,0,IF(B69=0,0,M69*B69/1000)) -> 188.213 | O69: 88.9 | P69: 97.9 | Q69: 80 | R69: =IF(P69=0,0,(P69-O69)*1000/Q69) -> 112.5 | S69: =IF(R69=0,0,IF(B69=0,0,R69*B69/1000)) -> 197.8875 | T69: 1 | U69: 1.41 | V69: =IF(U69=0,0,(U69*T69)) -> 1.41 | W69: =IF(V69=0,0,IF(B69=0,0,V69*B69/1000)) -> 2.48019 | Z69: =IF(Y69=0,0,IF(B69=0,0,Y69*B69/1000)) -> 0 | AA69: 15.2 | AB69: =IF(AA69=0,0,IF(B69=0,0,AA69*B69/1000)) -> 26.7368 | AC69: 4.47 | AD69: =IF(AC69=0,0,IF(B69=0,0,AC69*B69/1000)) -> 7.86273 | AE69: 0.586 | AF69: =IF(AE69=0,0,IF(B69=0,0,AE69*B69/1000)) -> 1.030774 | AG69: 0.2 | AH69: =IF(AG69=0,0,IF(B69=0,0,AG69*B69/1000)) -> 0.3518 | AI69: =IF(AA69=0,"",SUM(AA69,AE69,AG69)) -> 15.986 | AJ69: =IF(AI69=0,0,IF(B69=0,0,AI69*B69/1000)) -> 28.119374 | AL69: 0.9 | AM69: =IF(AL69=0,0,IF(B69=0,0,AL69*B69/1000)) -> 1.5831 | AO69: 0.42 | AP69: =IF(AO69=""," ",IF(B69=""," ",AO69*B69/1000)) -> 0.73878 | AQ69: < | AR69: 0.05 | AS69: =IF(AR69=""," ",IF(B69=""," ",AR69*B69/1000)) -> 0.08795 | AT69: < | AU69: 0.01 | AV69: =IF(AU69=""," ",IF(B69=""," ",AU69*B69/1000)) -> 0.01759 | AX69: 0.081560306 | AY69: =IF(AX69=""," ",IF(B69=""," ",AX69*B69/1000)) -> 0.14346458 | BA69: 1.4916909 | BB69: =IF(BA69=""," ",IF(B69=""," ",BA69*B69/1000)) -> 2.6238842 | BD69: 0.117136 | BE69: =IF(BD69=""," ",IF(B69=""," ",BD69*B69/1000)) -> 0.20604223 | BG69: 0.13110571 | BH69: =IF(BG69=""," ",IF(B69=""," ",BG69*B69/1000)) -> 0.23061494 | BI69: < | BJ69: 0.06 | BK69: =IF(BJ69=""," ",IF(B69=""," ",BJ69*B69/1000)) -> 0.10554 | BM69: 0.56253433 | BN69: =IF(BM69=""," ",IF(B69=""," ",BM69*B69/1000)) -> 0.98949789 | BO69: OK | BP69: OK
A70: =A69+1 -> 42414 | B70: 1264 | C70: 7.94 | D70: 8.3 | E70: 1 | F70: 502 | G70: =IF(F70=0,0,(F70*E70)) -> 502 | H70: =IF(G70=0,0,IF(B70=0,0,(G70*B70/1000))) -> 634.528 | I70: 1 | J70: 425 | K70: =IF(J70=0,0,(J70*I70)) -> 425 | L70: =IF(K70=0,0,IF(B70=0,0,K70*B70/1000)) -> 537.2 | M70: 125 | N70: =IF(M70=0,0,IF(B70=0,0,M70*B70/1000)) -> 158 | O70: 91 | P70: 99.8 | Q70: 91 | R70: =IF(P70=0,0,(P70-O70)*1000/Q70) -> 96.703297 | S70: =IF(R70=0,0,IF(B70=0,0,R70*B70/1000)) -> 122.23297 | T70: 1 | U70: 1.82 | V70: =IF(U70=0,0,(U70*T70)) -> 1.82 | W70: =IF(V70=0,0,IF(B70=0,0,V70*B70/1000)) -> 2.30048 | Z70: =IF(Y70=0,0,IF(B70=0,0,Y70*B70/1000)) -> 0 | AA70: 13.6 | AB70: =IF(AA70=0,0,IF(B70=0,0,AA70*B70/1000)) -> 17.1904 | AC70: 3.07 | AD70: =IF(AC70=0,0,IF(B70=0,0,AC70*B70/1000)) -> 3.88048 | AE70: 0.1 | AF70: =IF(AE70=0,0,IF(B70=0,0,AE70*B70/1000)) -> 0.1264 | AG70: 0.2 | AH70: =IF(AG70=0,0,IF(B70=0,0,AG70*B70/1000)) -> 0.2528 | AI70: =IF(AA70=0,"",SUM(AA70,AE70,AG70)) -> 13.9 | AJ70: =IF(AI70=0,0,IF(B70=0,0,AI70*B70/1000)) -> 17.5696 | AL70: 0.75 | AM70: =IF(AL70=0,0,IF(B70=0,0,AL70*B70/1000)) -> 0.948 | AO70: 0.55 | AP70: =IF(AO70=""," ",IF(B70=""," ",AO70*B70/1000)) -> 0.6952 | AQ70: < | AR70: 0.05 | AS70: =IF(AR70=""," ",IF(B70=""," ",AR70*B70/1000)) -> 0.0632 | AT70: < | AU70: 0.01 | AV70: =IF(AU70=""," ",IF(B70=""," ",AU70*B70/1000)) -> 0.01264 | AX70: 0.088250563 | AY70: =IF(AX70=""," ",IF(B70=""," ",AX70*B70/1000)) -> 0.11154871 | BA70: 1.1692737 | BB70: =IF(BA70=""," ",IF(B70=""," ",BA70*B70/1000)) -> 1.477962 | BD70: 0.12538911 | BE70: =IF(BD70=""," ",IF(B70=""," ",BD70*B70/1000)) -> 0.15849184 | BG70: 0.13669606 | BH70: =IF(BG70=""," ",IF(B70=""," ",BG70*B70/1000)) -> 0.17278381 | BI70: < | BJ70: 0.06 | BK70: =IF(BJ70=""," ",IF(B70=""," ",BJ70*B70/1000)) -> 0.07584 | BM70: 0.59909892 | BN70: =IF(BM70=""," ",IF(B70=""," ",BM70*B70/1000)) -> 0.75726104 | BO70: OK | BP70: OK
A71: =A70+1 -> 42415 | B71: 2140 | C71: 6.49 | D71: 7.89 | E71: 1 | F71: 768 | G71: =IF(F71=0,0,(F71*E71)) -> 768 | H71: =IF(G71=0,0,IF(B71=0,0,(G71*B71/1000))) -> 1643.52 | I71: 1 | J71: 670 | K71: =IF(J71=0,0,(J71*I71)) -> 670 | L71: =IF(K71=0,0,IF(B71=0,0,K71*B71/1000)) -> 1433.8 | M71: 155 | N71: =IF(M71=0,0,IF(B71=0,0,M71*B71/1000)) -> 331.7 | O71: 92.4 | P71: 103 | Q71: 70 | R71: =IF(P71=0,0,(P71-O71)*1000/Q71) -> 151.42857 | S71: =IF(R71=0,0,IF(B71=0,0,R71*B71/1000)) -> 324.05714 | T71: 1 | U71: 3.16 | V71: =IF(U71=0,0,(U71*T71)) -> 3.16 | W71: =IF(V71=0,0,IF(B71=0,0,V71*B71/1000)) -> 6.7624 | Z71: =IF(Y71=0,0,IF(B71=0,0,Y71*B71/1000)) -> 0 | AA71: 22.8 | AB71: =IF(AA71=0,0,IF(B71=0,0,AA71*B71/1000)) -> 48.792 | AC71: 9.49 | AD71: =IF(AC71=0,0,IF(B71=0,0,AC71*B71/1000)) -> 20.3086 | AE71: 0.1 | AF71: =IF(AE71=0,0,IF(B71=0,0,AE71*B71/1000)) -> 0.214 | AG71: 0.2 | AH71: =IF(AG71=0,0,IF(B71=0,0,AG71*B71/1000)) -> 0.428 | AI71: =IF(AA71=0,"",SUM(AA71,AE71,AG71)) -> 23.1 | AJ71: =IF(AI71=0,0,IF(B71=0,0,AI71*B71/1000)) -> 49.434 | AL71: 0.79 | AM71: =IF(AL71=0,0,IF(B71=0,0,AL71*B71/1000)) -> 1.6906 | AO71: 0.7 | AP71: =IF(AO71=""," ",IF(B71=""," ",AO71*B71/1000)) -> 1.498 | AQ71: < | AR71: 0.05 | AS71: =IF(AR71=""," ",IF(B71=""," ",AR71*B71/1000)) -> 0.107 | AT71: < | AU71: 0.01 | AV71: =IF(AU71=""," ",IF(B71=""," ",AU71*B71/1000)) -> 0.0214 | AX71: 0.10097813 | AY71: =IF(AX71=""," ",IF(B71=""," ",AX71*B71/1000)) -> 0.2160932 | BA71: 3.0758817 | BB71: =IF(BA71=""," ",IF(B71=""," ",BA71*B71/1000)) -> 6.5823869 | BD71: 0.19421351 | BE71: =IF(BD71=""," ",IF(B71=""," ",BD71*B71/1000)) -> 0.41561691 | BG71: 0.16013931 | BH71: =IF(BG71=""," ",IF(B71=""," ",BG71*B71/1000)) -> 0.34269812 | BI71: < | BJ71: 0.06 | BK71: =IF(BJ71=""," ",IF(B71=""," ",BJ71*B71/1000)) -> 0.1284 | BM71: 0.89430243 | BN71: =IF(BM71=""," ",IF(B71=""," ",BM71*B71/1000)) -> 1.9138072 | BO71: OK | BP71: OK | BQ71: échantillon noir
A72: =A71+1 -> 42416 | B72: 2072 | C72: 5.49 | D72: 7.93 | E72: 2 | F72: 608 | G72: =IF(F72=0,0,(F72*E72)) -> 1216 | H72: =IF(G72=0,0,IF(B72=0,0,(G72*B72/1000))) -> 2519.552 | I72: 2 | J72: 556 | K72: =IF(J72=0,0,(J72*I72)) -> 1112 | L72: =IF(K72=0,0,IF(B72=0,0,K72*B72/1000)) -> 2304.064 | M72: 258 | N72: =IF(M72=0,0,IF(B72=0,0,M72*B72/1000)) -> 534.576 | O72: 90.9 | P72: 99.5 | Q72: 50 | R72: =IF(P72=0,0,(P72-O72)*1000/Q72) -> 172 | S72: =IF(R72=0,0,IF(B72=0,0,R72*B72/1000)) -> 356.384 | T72: 1 | U72: 3.02 | V72: =IF(U72=0,0,(U72*T72)) -> 3.02 | W72: =IF(V72=0,0,IF(B72=0,0,V72*B72/1000)) -> 6.25744 | Z72: =IF(Y72=0,0,IF(B72=0,0,Y72*B72/1000)) -> 0 | AA72: 34 | AB72: =IF(AA72=0,0,IF(B72=0,0,AA72*B72/1000)) -> 70.448 | AC72: 18.15 | AD72: =IF(AC72=0,0,IF(B72=0,0,AC72*B72/1000)) -> 37.6068 | AE72: 0.1 | AF72: =IF(AE72=0,0,IF(B72=0,0,AE72*B72/1000)) -> 0.2072 | AG72: 0.2 | AH72: =IF(AG72=0,0,IF(B72=0,0,AG72*B72/1000)) -> 0.4144 | AI72: =IF(AA72=0,"",SUM(AA72,AE72,AG72)) -> 34.3 | AJ72: =IF(AI72=0,0,IF(B72=0,0,AI72*B72/1000)) -> 71.0696 | AL72: 1.1 | AM72: =IF(AL72=0,0,IF(B72=0,0,AL72*B72/1000)) -> 2.2792 | AO72: 0.7 | AP72: =IF(AO72=""," ",IF(B72=""," ",AO72*B72/1000)) -> 1.4504 | AQ72: < | AR72: 0.05 | AS72: =IF(AR72=""," ",IF(B72=""," ",AR72*B72/1000)) -> 0.1036 | AT72: < | AU72: 0.01 | AV72: =IF(AU72=""," ",IF(B72=""," ",AU72*B72/1000)) -> 0.02072 | AX72: 0.10339302 | AY72: =IF(AX72=""," ",IF(B72=""," ",AX72*B72/1000)) -> 0.21423033 | BA72: 2.9261234 | BB72: =IF(BA72=""," ",IF(B72=""," ",BA72*B72/1000)) -> 6.0629276 | BD72: 0.16859913 | BE72: =IF(BD72=""," ",IF(B72=""," ",BD72*B72/1000)) -> 0.3493374 | BG72: 0.16290583 | BH72: =IF(BG72=""," ",IF(B72=""," ",BG72*B72/1000)) -> 0.33754087 | BI72: < | BJ72: 0.06 | BK72: =IF(BJ72=""," ",IF(B72=""," ",BJ72*B72/1000)) -> 0.12432 | BM72: 0.70912612 | BN72: =IF(BM72=""," ",IF(B72=""," ",BM72*B72/1000)) -> 1.4693093 | BO72: OK | BP72: OK | BQ72: échantillon noir
A73: =A72+1 -> 42417 | B73: 2086 | C73: 5.07 | D73: 7.63 | E73: 1 | F73: 973 | G73: =IF(F73=0,0,(F73*E73)) -> 973 | H73: =IF(G73=0,0,IF(B73=0,0,(G73*B73/1000))) -> 2029.678 | I73: 1 | J73: 870 | K73: =IF(J73=0,0,(J73*I73)) -> 870 | L73: =IF(K73=0,0,IF(B73=0,0,K73*B73/1000)) -> 1814.82 | M73: 203 | N73: =IF(M73=0,0,IF(B73=0,0,M73*B73/1000)) -> 423.458 | O73: 91 | P73: 101.7 | Q73: 80 | R73: =IF(P73=0,0,(P73-O73)*1000/Q73) -> 133.75 | S73: =IF(R73=0,0,IF(B73=0,0,R73*B73/1000)) -> 279.0025 | T73: 1 | U73: 2.88 | V73: =IF(U73=0,0,(U73*T73)) -> 2.88 | W73: =IF(V73=0,0,IF(B73=0,0,V73*B73/1000)) -> 6.00768 | Z73: =IF(Y73=0,0,IF(B73=0,0,Y73*B73/1000)) -> 0 | AA73: 35.2 | AB73: =IF(AA73=0,0,IF(B73=0,0,AA73*B73/1000)) -> 73.4272 | AC73: 14.96 | AD73: =IF(AC73=0,0,IF(B73=0,0,AC73*B73/1000)) -> 31.20656 | AE73: 0.1 | AF73: =IF(AE73=0,0,IF(B73=0,0,AE73*B73/1000)) -> 0.2086 | AG73: 1.141 | AH73: =IF(AG73=0,0,IF(B73=0,0,AG73*B73/1000)) -> 2.380126 | AI73: =IF(AA73=0,"",SUM(AA73,AE73,AG73)) -> 36.441 | AJ73: =IF(AI73=0,0,IF(B73=0,0,AI73*B73/1000)) -> 76.015926 | AL73: 0.88 | AM73: =IF(AL73=0,0,IF(B73=0,0,AL73*B73/1000)) -> 1.83568 | AO73: 0.6 | AP73: =IF(AO73=""," ",IF(B73=""," ",AO73*B73/1000)) -> 1.2516 | AQ73: < | AR73: 0.05 | AS73: =IF(AR73=""," ",IF(B73=""," ",AR73*B73/1000)) -> 0.1043 | AT73: < | AU73: 0.01 | AV73: =IF(AU73=""," ",IF(B73=""," ",AU73*B73/1000)) -> 0.02086 | AX73: 0.10317709 | AY73: =IF(AX73=""," ",IF(B73=""," ",AX73*B73/1000)) -> 0.2152274 | BA73: 2.4645724 | BB73: =IF(BA73=""," ",IF(B73=""," ",BA73*B73/1000)) -> 5.1410981 | BD73: 0.17432821 | BE73: =IF(BD73=""," ",IF(B73=""," ",BD73*B73/1000)) -> 0.36364864 | BG73: 0.1654081 | BH73: =IF(BG73=""," ",IF(B73=""," ",BG73*B73/1000)) -> 0.34504131 | BI73: < | BJ73: 0.06 | BK73: =IF(BJ73=""," ",IF(B73=""," ",BJ73*B73/1000)) -> 0.12516 | BM73: 0.63656545 | BN73: =IF(BM73=""," ",IF(B73=""," ",BM73*B73/1000)) -> 1.3278755 | BO73: OK | BP73: OK
A74: =A73+1 -> 42418 | B74: 2083 | C74: 6.15 | D74: 7.71 | E74: 1 | F74: 818 | G74: =IF(F74=0,0,(F74*E74)) -> 818 | H74: =IF(G74=0,0,IF(B74=0,0,(G74*B74/1000))) -> 1703.894 | I74: 1 | J74: 717 | K74: =IF(J74=0,0,(J74*I74)) -> 717 | L74: =IF(K74=0,0,IF(B74=0,0,K74*B74/1000)) -> 1493.511 | M74: 151 | N74: =IF(M74=0,0,IF(B74=0,0,M74*B74/1000)) -> 314.533 | O74: 90.4 | P74: 102.6 | Q74: 100 | R74: =IF(P74=0,0,(P74-O74)*1000/Q74) -> 122 | S74: =IF(R74=0,0,IF(B74=0,0,R74*B74/1000)) -> 254.126 | T74: 1 | U74: 2.31 | V74: =IF(U74=0,0,(U74*T74)) -> 2.31 | W74: =IF(V74=0,0,IF(B74=0,0,V74*B74/1000)) -> 4.81173 | Z74: =IF(Y74=0,0,IF(B74=0,0,Y74*B74/1000)) -> 0 | AA74: 34 | AB74: =IF(AA74=0,0,IF(B74=0,0,AA74*B74/1000)) -> 70.822 | AC74: 14.13 | AD74: =IF(AC74=0,0,IF(B74=0,0,AC74*B74/1000)) -> 29.43279 | AE74: 0.1 | AF74: =IF(AE74=0,0,IF(B74=0,0,AE74*B74/1000)) -> 0.2083 | AG74: 0.434 | AH74: =IF(AG74=0,0,IF(B74=0,0,AG74*B74/1000)) -> 0.904022 | AI74: =IF(AA74=0,"",SUM(AA74,AE74,AG74)) -> 34.534 | AJ74: =IF(AI74=0,0,IF(B74=0,0,AI74*B74/1000)) -> 71.934322 | AL74: 0.57 | AM74: =IF(AL74=0,0,IF(B74=0,0,AL74*B74/1000)) -> 1.18731 | AO74: 0.63 | AP74: =IF(AO74=""," ",IF(B74=""," ",AO74*B74/1000)) -> 1.31229 | AQ74: < | AR74: 0.05 | AS74: =IF(AR74=""," ",IF(B74=""," ",AR74*B74/1000)) -> 0.10415 | AT74: < | AU74: 0.01 | AV74: =IF(AU74=""," ",IF(B74=""," ",AU74*B74/1000)) -> 0.02083 | AX74: 0.030569835 | AY74: =IF(AX74=""," ",IF(B74=""," ",AX74*B74/1000)) -> 0.063676965 | BA74: 3.3623378 | BB74: =IF(BA74=""," ",IF(B74=""," ",BA74*B74/1000)) -> 7.0037497 | BD74: 0.14203943 | BE74: =IF(BD74=""," ",IF(B74=""," ",BD74*B74/1000)) -> 0.29586814 | BG74: 0.06 | BH74: =IF(BG74=""," ",IF(B74=""," ",BG74*B74/1000)) -> 0.12498 | BI74: < | BJ74: 0.06 | BK74: =IF(BJ74=""," ",IF(B74=""," ",BJ74*B74/1000)) -> 0.12498 | BM74: 0.94837606 | BN74: =IF(BM74=""," ",IF(B74=""," ",BM74*B74/1000)) -> 1.9754673 | BO74: OK | BP74: OK
A75: =A74+1 -> 42419 | B75: 2120 | C75: 7.12 | D75: 7.53 | E75: 1 | F75: 926 | G75: =IF(F75=0,0,(F75*E75)) -> 926 | H75: =IF(G75=0,0,IF(B75=0,0,(G75*B75/1000))) -> 1963.12 | I75: 1 | J75: 699 | K75: =IF(J75=0,0,(J75*I75)) -> 699 | L75: =IF(K75=0,0,IF(B75=0,0,K75*B75/1000)) -> 1481.88 | M75: 171 | N75: =IF(M75=0,0,IF(B75=0,0,M75*B75/1000)) -> 362.52 | O75: 89.5 | P75: 96.5 | Q75: 50 | R75: =IF(P75=0,0,(P75-O75)*1000/Q75) -> 140 | S75: =IF(R75=0,0,IF(B75=0,0,R75*B75/1000)) -> 296.8 | T75: 1 | U75: 2.42 | V75: =IF(U75=0,0,(U75*T75)) -> 2.42 | W75: =IF(V75=0,0,IF(B75=0,0,V75*B75/1000)) -> 5.1304 | Z75: =IF(Y75=0,0,IF(B75=0,0,Y75*B75/1000)) -> 0 | AA75: 34.8 | AB75: =IF(AA75=0,0,IF(B75=0,0,AA75*B75/1000)) -> 73.776 | AC75: 14.84 | AD75: =IF(AC75=0,0,IF(B75=0,0,AC75*B75/1000)) -> 31.4608 | AE75: 0.1 | AF75: =IF(AE75=0,0,IF(B75=0,0,AE75*B75/1000)) -> 0.212 | AG75: 0.2 | AH75: =IF(AG75=0,0,IF(B75=0,0,AG75*B75/1000)) -> 0.424 | AI75: =IF(AA75=0,"",SUM(AA75,AE75,AG75)) -> 35.1 | AJ75: =IF(AI75=0,0,IF(B75=0,0,AI75*B75/1000)) -> 74.412 | AL75: 1.45 | AM75: =IF(AL75=0,0,IF(B75=0,0,AL75*B75/1000)) -> 3.074 | AO75: 0.64 | AP75: =IF(AO75=""," ",IF(B75=""," ",AO75*B75/1000)) -> 1.3568 | AQ75: < | AR75: 0.05 | AS75: =IF(AR75=""," ",IF(B75=""," ",AR75*B75/1000)) -> 0.106 | AT75: < | AU75: 0.01 | AV75: =IF(AU75=""," ",IF(B75=""," ",AU75*B75/1000)) -> 0.0212 | AX75: 0.040306106 | AY75: =IF(AX75=""," ",IF(B75=""," ",AX75*B75/1000)) -> 0.085448945 | BA75: 2.0642879 | BB75: =IF(BA75=""," ",IF(B75=""," ",BA75*B75/1000)) -> 4.3762903 | BD75: 0.14702106 | BE75: =IF(BD75=""," ",IF(B75=""," ",BD75*B75/1000)) -> 0.31168464 | BG75: 0.055129875 | BH75: =IF(BG75=""," ",IF(B75=""," ",BG75*B75/1000)) -> 0.11687534 | BI75: < | BJ75: 0.06 | BK75: =IF(BJ75=""," ",IF(B75=""," ",BJ75*B75/1000)) -> 0.1272 | BM75: 0.67051274 | BN75: =IF(BM75=""," ",IF(B75=""," ",BM75*B75/1000)) -> 1.421487 | BO75: OK | BP75: OK | BQ75: échantillon noir
A76: =A75+1 -> 42420 | B76: 1429 | C76: 6.56 | D76: 7.54 | E76: 1 | F76: 540 | G76: =IF(F76=0,0,(F76*E76)) -> 540 | H76: =IF(G76=0,0,IF(B76=0,0,(G76*B76/1000))) -> 771.66 | I76: 1 | J76: 473 | K76: =IF(J76=0,0,(J76*I76)) -> 473 | L76: =IF(K76=0,0,IF(B76=0,0,K76*B76/1000)) -> 675.917 | M76: 107 | N76: =IF(M76=0,0,IF(B76=0,0,M76*B76/1000)) -> 152.903 | O76: 90.6 | P76: 98.2 | Q76: 75 | R76: =IF(P76=0,0,(P76-O76)*1000/Q76) -> 101.33333 | S76: =IF(R76=0,0,IF(B76=0,0,R76*B76/1000)) -> 144.80533 | T76: 1 | U76: 2.04 | V76: =IF(U76=0,0,(U76*T76)) -> 2.04 | W76: =IF(V76=0,0,IF(B76=0,0,V76*B76/1000)) -> 2.91516 | Z76: =IF(Y76=0,0,IF(B76=0,0,Y76*B76/1000)) -> 0 | AA76: 22.8 | AB76: =IF(AA76=0,0,IF(B76=0,0,AA76*B76/1000)) -> 32.5812 | AC76: 6.05 | AD76: =IF(AC76=0,0,IF(B76=0,0,AC76*B76/1000)) -> 8.64545 | AE76: 0.1 | AF76: =IF(AE76=0,0,IF(B76=0,0,AE76*B76/1000)) -> 0.1429 | AG76: 0.2 | AH76: =IF(AG76=0,0,IF(B76=0,0,AG76*B76/1000)) -> 0.2858 | AI76: =IF(AA76=0,"",SUM(AA76,AE76,AG76)) -> 23.1 | AJ76: =IF(AI76=0,0,IF(B76=0,0,AI76*B76/1000)) -> 33.0099 | AL76: 0.91 | AM76: =IF(AL76=0,0,IF(B76=0,0,AL76*B76/1000)) -> 1.30039 | AO76: 0.4 | AP76: =IF(AO76=""," ",IF(B76=""," ",AO76*B76/1000)) -> 0.5716 | AQ76: < | AR76: 0.05 | AS76: =IF(AR76=""," ",IF(B76=""," ",AR76*B76/1000)) -> 0.07145 | AT76: < | AU76: 0.01 | AV76: =IF(AU76=""," ",IF(B76=""," ",AU76*B76/1000)) -> 0.01429 | AX76: 0.030737089 | AY76: =IF(AX76=""," ",IF(B76=""," ",AX76*B76/1000)) -> 0.0439233 | BA76: 1.0209739 | BB76: =IF(BA76=""," ",IF(B76=""," ",BA76*B76/1000)) -> 1.4589717 | BD76: 0.089795888 | BE76: =IF(BD76=""," ",IF(B76=""," ",BD76*B76/1000)) -> 0.12831832 | BG76: 0.04 | BH76: =IF(BG76=""," ",IF(B76=""," ",BG76*B76/1000)) -> 0.05716 | BI76: < | BJ76: 0.06 | BK76: =IF(BJ76=""," ",IF(B76=""," ",BJ76*B76/1000)) -> 0.08574 | BM76: 0.5790239 | BN76: =IF(BM76=""," ",IF(B76=""," ",BM76*B76/1000)) -> 0.82742515 | BO76: OK | BP76: OK
A77: =A76+1 -> 42421 | B77: 1187 | C77: 8.86 | D77: 7.64 | E77: 1 | F77: 699 | G77: =IF(F77=0,0,(F77*E77)) -> 699 | H77: =IF(G77=0,0,IF(B77=0,0,(G77*B77/1000))) -> 829.713 | I77: 1 | J77: 493 | K77: =IF(J77=0,0,(J77*I77)) -> 493 | L77: =IF(K77=0,0,IF(B77=0,0,K77*B77/1000)) -> 585.191 | M77: 125 | N77: =IF(M77=0,0,IF(B77=0,0,M77*B77/1000)) -> 148.375 | O77: 89.5 | P77: 101.8 | Q77: 79 | R77: =IF(P77=0,0,(P77-O77)*1000/Q77) -> 155.6962 | S77: =IF(R77=0,0,IF(B77=0,0,R77*B77/1000)) -> 184.81139 | T77: 1 | U77: 3.23 | V77: =IF(U77=0,0,(U77*T77)) -> 3.23 | W77: =IF(V77=0,0,IF(B77=0,0,V77*B77/1000)) -> 3.83401 | Z77: =IF(Y77=0,0,IF(B77=0,0,Y77*B77/1000)) -> 0 | AA77: 26.4 | AB77: =IF(AA77=0,0,IF(B77=0,0,AA77*B77/1000)) -> 31.3368 | AC77: 3.42 | AD77: =IF(AC77=0,0,IF(B77=0,0,AC77*B77/1000)) -> 4.05954 | AE77: 0.1 | AF77: =IF(AE77=0,0,IF(B77=0,0,AE77*B77/1000)) -> 0.1187 | AG77: 0.2 | AH77: =IF(AG77=0,0,IF(B77=0,0,AG77*B77/1000)) -> 0.2374 | AI77: =IF(AA77=0,"",SUM(AA77,AE77,AG77)) -> 26.7 | AJ77: =IF(AI77=0,0,IF(B77=0,0,AI77*B77/1000)) -> 31.6929 | AL77: 1.31 | AM77: =IF(AL77=0,0,IF(B77=0,0,AL77*B77/1000)) -> 1.55497 | AO77: 0.42 | AP77: =IF(AO77=""," ",IF(B77=""," ",AO77*B77/1000)) -> 0.49854 | AQ77: < | AR77: 0.05 | AS77: =IF(AR77=""," ",IF(B77=""," ",AR77*B77/1000)) -> 0.05935 | AT77: < | AU77: 0.01 | AV77: =IF(AU77=""," ",IF(B77=""," ",AU77*B77/1000)) -> 0.01187 | AX77: 0.037641656 | AY77: =IF(AX77=""," ",IF(B77=""," ",AX77*B77/1000)) -> 0.044680646 | BA77: 1.3179864 | BB77: =IF(BA77=""," ",IF(B77=""," ",BA77*B77/1000)) -> 1.5644498 | BD77: 0.10921624 | BE77: =IF(BD77=""," ",IF(B77=""," ",BD77*B77/1000)) -> 0.12963968 | BF77: < | BG77: 0.04 | BH77: =IF(BG77=""," ",IF(B77=""," ",BG77*B77/1000)) -> 0.04748 | BI77: < | BJ77: 0.06 | BK77: =IF(BJ77=""," ",IF(B77=""," ",BJ77*B77/1000)) -> 0.07122 | BM77: 0.79454857 | BN77: =IF(BM77=""," ",IF(B77=""," ",BM77*B77/1000)) -> 0.94312915 | BO77: OK | BP77: OK
A78: =A77+1 -> 42422 | B78: 2034 | C78: 10.46 | D78: 7.84 | E78: 1 | F78: 2218 | G78: =IF(F78=0,0,(F78*E78)) -> 2218 | H78: =IF(G78=0,0,IF(B78=0,0,(G78*B78/1000))) -> 4511.412 | I78: 1 | J78: 677 | K78: =IF(J78=0,0,(J78*I78)) -> 677 | L78: =IF(K78=0,0,IF(B78=0,0,K78*B78/1000)) -> 1377.018 | M78: 235 | N78: =IF(M78=0,0,IF(B78=0,0,M78*B78/1000)) -> 477.99 | O78: 90.2 | P78: 113.6 | Q78: 28 | R78: =IF(P78=0,0,(P78-O78)*1000/Q78) -> 835.71429 | S78: =IF(R78=0,0,IF(B78=0,0,R78*B78/1000)) -> 1699.8429 | T78: 1 | U78: 10.9 | V78: =IF(U78=0,0,(U78*T78)) -> 10.9 | W78: =IF(V78=0,0,IF(B78=0,0,V78*B78/1000)) -> 22.1706 | Z78: =IF(Y78=0,0,IF(B78=0,0,Y78*B78/1000)) -> 0 | AA78: 39.4 | AB78: =IF(AA78=0,0,IF(B78=0,0,AA78*B78/1000)) -> 80.1396 | AC78: 25.47 | AD78: =IF(AC78=0,0,IF(B78=0,0,AC78*B78/1000)) -> 51.80598 | AE78: 0.1 | AF78: =IF(AE78=0,0,IF(B78=0,0,AE78*B78/1000)) -> 0.2034 | AG78: 0.731 | AH78: =IF(AG78=0,0,IF(B78=0,0,AG78*B78/1000)) -> 1.486854 | AI78: =IF(AA78=0,"",SUM(AA78,AE78,AG78)) -> 40.231 | AJ78: =IF(AI78=0,0,IF(B78=0,0,AI78*B78/1000)) -> 81.829854 | AL78: 6 | AM78: =IF(AL78=0,0,IF(B78=0,0,AL78*B78/1000)) -> 12.204 | AO78: 5 | AP78: =IF(AO78=""," ",IF(B78=""," ",AO78*B78/1000)) -> 10.17 | AQ78: < | AR78: 0.05 | AS78: =IF(AR78=""," ",IF(B78=""," ",AR78*B78/1000)) -> 0.1017 | AT78: < | AU78: 0.01 | AV78: =IF(AU78=""," ",IF(B78=""," ",AU78*B78/1000)) -> 0.02034 | AY78: =IF(AX78=""," ",IF(B78=""," ",AX78*B78/1000)) | BB78: =IF(BA78=""," ",IF(B78=""," ",BA78*B78/1000)) | BE78: =IF(BD78=""," ",IF(B78=""," ",BD78*B78/1000)) | BH78: =IF(BG78=""," ",IF(B78=""," ",BG78*B78/1000)) | BI78: < | BJ78: 0.06 | BK78: =IF(BJ78=""," ",IF(B78=""," ",BJ78*B78/1000)) -> 0.12204 | BN78: =IF(BM78=""," ",IF(B78=""," ",BM78*B78/1000)) | BO78: OK | BP78: OK | BQ78: échantillon noir, chargé, seulement 1000 ml d'échantillon, problème ptéleveur? MES = 842 mg/L. DCO = 2567 mg/L. résultats métaux confirmés par Eurofins
A79: =A78+1 -> 42423 | B79: 2284 | C79: 10.34 | D79: 7.84 | E79: 1 | F79: 906 | G79: =IF(F79=0,0,(F79*E79)) -> 906 | H79: =IF(G79=0,0,IF(B79=0,0,(G79*B79/1000))) -> 2069.304 | I79: 1 | J79: 635 | K79: =IF(J79=0,0,(J79*I79)) -> 635 | L79: =IF(K79=0,0,IF(B79=0,0,K79*B79/1000)) -> 1450.34 | M79: 235 | N79: =IF(M79=0,0,IF(B79=0,0,M79*B79/1000)) -> 536.74 | O79: 90.4 | P79: 98.9 | Q79: 42 | R79: =IF(P79=0,0,(P79-O79)*1000/Q79) -> 202.38095 | S79: =IF(R79=0,0,IF(B79=0,0,R79*B79/1000)) -> 462.2381 | T79: 1 | U79: 3.9 | V79: =IF(U79=0,0,(U79*T79)) -> 3.9 | W79: =IF(V79=0,0,IF(B79=0,0,V79*B79/1000)) -> 8.9076 | Z79: =IF(Y79=0,0,IF(B79=0,0,Y79*B79/1000)) -> 0 | AA79: 38 | AB79: =IF(AA79=0,0,IF(B79=0,0,AA79*B79/1000)) -> 86.792 | AC79: 19.93 | AD79: =IF(AC79=0,0,IF(B79=0,0,AC79*B79/1000)) -> 45.52012 | AE79: 0.409 | AF79: =IF(AE79=0,0,IF(B79=0,0,AE79*B79/1000)) -> 0.934156 | AG79: 0.092 | AH79: =IF(AG79=0,0,IF(B79=0,0,AG79*B79/1000)) -> 0.210128 | AI79: =IF(AA79=0,"",SUM(AA79,AE79,AG79)) -> 38.501 | AJ79: =IF(AI79=0,0,IF(B79=0,0,AI79*B79/1000)) -> 87.936284 | AL79: 0.9 | AM79: =IF(AL79=0,0,IF(B79=0,0,AL79*B79/1000)) -> 2.0556 | AO79: 1.3 | AP79: =IF(AO79=""," ",IF(B79=""," ",AO79*B79/1000)) -> 2.9692 | AQ79: < | AR79: 0.05 | AS79: =IF(AR79=""," ",IF(B79=""," ",AR79*B79/1000)) -> 0.1142 | AT79: < | AU79: 0.01 | AV79: =IF(AU79=""," ",IF(B79=""," ",AU79*B79/1000)) -> 0.02284 | AX79: 0.059002716 | AY79: =IF(AX79=""," ",IF(B79=""," ",AX79*B79/1000)) -> 0.1347622 | BA79: 3.0096445 | BB79: =IF(BA79=""," ",IF(B79=""," ",BA79*B79/1000)) -> 6.8740281 | BD79: 0.18271008 | BE79: =IF(BD79=""," ",IF(B79=""," ",BD79*B79/1000)) -> 0.41730983 | BG79: 0.064647272 | BH79: =IF(BG79=""," ",IF(B79=""," ",BG79*B79/1000)) -> 0.14765437 | BI79: < | BJ79: 0.06 | BK79: =IF(BJ79=""," ",IF(B79=""," ",BJ79*B79/1000)) -> 0.13704 | BM79: 1.1204526 | BN79: =IF(BM79=""," ",IF(B79=""," ",BM79*B79/1000)) -> 2.5591138 | BO79: OK | BP79: OK | BQ79: échantillon noir
A80: =A79+1 -> 42424 | B80: 2342 | C80: 8.32 | D80: 7.56 | E80: 1 | F80: 904 | G80: =IF(F80=0,0,(F80*E80)) -> 904 | H80: =IF(G80=0,0,IF(B80=0,0,(G80*B80/1000))) -> 2117.168 | I80: 1 | J80: 756 | K80: =IF(J80=0,0,(J80*I80)) -> 756 | L80: =IF(K80=0,0,IF(B80=0,0,K80*B80/1000)) -> 1770.552 | M80: 249 | N80: =IF(M80=0,0,IF(B80=0,0,M80*B80/1000)) -> 583.158 | O80: 89.8 | P80: 99.8 | Q80: 71 | R80: =IF(P80=0,0,(P80-O80)*1000/Q80) -> 140.84507 | S80: =IF(R80=0,0,IF(B80=0,0,R80*B80/1000)) -> 329.85915 | T80: 1 | U80: 3.17 | V80: =IF(U80=0,0,(U80*T80)) -> 3.17 | W80: =IF(V80=0,0,IF(B80=0,0,V80*B80/1000)) -> 7.42414 | Z80: =IF(Y80=0,0,IF(B80=0,0,Y80*B80/1000)) -> 0 | AA80: 35.2 | AB80: =IF(AA80=0,0,IF(B80=0,0,AA80*B80/1000)) -> 82.4384 | AC80: 17.64 | AD80: =IF(AC80=0,0,IF(B80=0,0,AC80*B80/1000)) -> 41.31288 | AE80: 0.1 | AF80: =IF(AE80=0,0,IF(B80=0,0,AE80*B80/1000)) -> 0.2342 | AG80: 0.2 | AH80: =IF(AG80=0,0,IF(B80=0,0,AG80*B80/1000)) -> 0.4684 | AI80: =IF(AA80=0,"",SUM(AA80,AE80,AG80)) -> 35.5 | AJ80: =IF(AI80=0,0,IF(B80=0,0,AI80*B80/1000)) -> 83.141 | AL80: 0.71 | AM80: =IF(AL80=0,0,IF(B80=0,0,AL80*B80/1000)) -> 1.66282 | AO80: 0.75 | AP80: =IF(AO80=""," ",IF(B80=""," ",AO80*B80/1000)) -> 1.7565 | AQ80: < | AR80: 0.05 | AS80: =IF(AR80=""," ",IF(B80=""," ",AR80*B80/1000)) -> 0.1171 | AT80: < | AU80: 0.01 | AV80: =IF(AU80=""," ",IF(B80=""," ",AU80*B80/1000)) -> 0.02342 | AX80: 0.049302951 | AY80: =IF(AX80=""," ",IF(B80=""," ",AX80*B80/1000)) -> 0.11546751 | BA80: 2.3059473 | BB80: =IF(BA80=""," ",IF(B80=""," ",BA80*B80/1000)) -> 5.4005286 | BD80: 0.19508627 | BE80: =IF(BD80=""," ",IF(B80=""," ",BD80*B80/1000)) -> 0.45689205 | BG80: 0.061078105 | BH80: =IF(BG80=""," ",IF(B80=""," ",BG80*B80/1000)) -> 0.14304492 | BI80: < | BJ80: 0.06 | BK80: =IF(BJ80=""," ",IF(B80=""," ",BJ80*B80/1000)) -> 0.14052 | BM80: 0.86597651 | BN80: =IF(BM80=""," ",IF(B80=""," ",BM80*B80/1000)) -> 2.028117 | BO80: OK | BP80: OK | BQ80: échantillon noir
A81: =A80+1 -> 42425 | B81: 2260 | C81: 8.83 | D81: 7.72 | E81: 1 | F81: 658 | G81: =IF(F81=0,0,(F81*E81)) -> 658 | H81: =IF(G81=0,0,IF(B81=0,0,(G81*B81/1000))) -> 1487.08 | I81: 1 | J81: 579 | K81: =IF(J81=0,0,(J81*I81)) -> 579 | L81: =IF(K81=0,0,IF(B81=0,0,K81*B81/1000)) -> 1308.54 | M81: 189 | N81: =IF(M81=0,0,IF(B81=0,0,M81*B81/1000)) -> 427.14 | O81: 91.6 | P81: 100.6 | Q81: 96 | R81: =IF(P81=0,0,(P81-O81)*1000/Q81) -> 93.75 | S81: =IF(R81=0,0,IF(B81=0,0,R81*B81/1000)) -> 211.875 | T81: 1 | U81: 3.38 | V81: =IF(U81=0,0,(U81*T81)) -> 3.38 | W81: =IF(V81=0,0,IF(B81=0,0,V81*B81/1000)) -> 7.6388 | Z81: =IF(Y81=0,0,IF(B81=0,0,Y81*B81/1000)) -> 0 | AA81: 28.4 | AB81: =IF(AA81=0,0,IF(B81=0,0,AA81*B81/1000)) -> 64.184 | AC81: 13.72 | AD81: =IF(AC81=0,0,IF(B81=0,0,AC81*B81/1000)) -> 31.0072 | AE81: 0.119 | AF81: =IF(AE81=0,0,IF(B81=0,0,AE81*B81/1000)) -> 0.26894 | AG81: 0.29 | AH81: =IF(AG81=0,0,IF(B81=0,0,AG81*B81/1000)) -> 0.6554 | AI81: =IF(AA81=0,"",SUM(AA81,AE81,AG81)) -> 28.809 | AJ81: =IF(AI81=0,0,IF(B81=0,0,AI81*B81/1000)) -> 65.10834 | AL81: 0.49 | AM81: =IF(AL81=0,0,IF(B81=0,0,AL81*B81/1000)) -> 1.1074 | AO81: 0.71 | AP81: =IF(AO81=""," ",IF(B81=""," ",AO81*B81/1000)) -> 1.6046 | AQ81: < | AR81: 0.05 | AS81: =IF(AR81=""," ",IF(B81=""," ",AR81*B81/1000)) -> 0.113 | AT81: < | AU81: 0.01 | AV81: =IF(AU81=""," ",IF(B81=""," ",AU81*B81/1000)) -> 0.0226 | AX81: 0.034432761 | AY81: =IF(AX81=""," ",IF(B81=""," ",AX81*B81/1000)) -> 0.07781804 | BA81: 1.732492 | BB81: =IF(BA81=""," ",IF(B81=""," ",BA81*B81/1000)) -> 3.9154319 | BD81: 0.14698164 | BE81: =IF(BD81=""," ",IF(B81=""," ",BD81*B81/1000)) -> 0.33217851 | BG81: 0.043330845 | BH81: =IF(BG81=""," ",IF(B81=""," ",BG81*B81/1000)) -> 0.09792771 | BI81: < | BJ81: 0.06 | BK81: =IF(BJ81=""," ",IF(B81=""," ",BJ81*B81/1000)) -> 0.1356 | BM81: 0.62590194 | BN81: =IF(BM81=""," ",IF(B81=""," ",BM81*B81/1000)) -> 1.4145384 | BO81: OK | BP81: OK
A82: =A81+1 -> 42426 | B82: 2072 | C82: 16.43 | D82: 7.42 | E82: 1 | F82: 974 | G82: =IF(F82=0,0,(F82*E82)) -> 974 | H82: =IF(G82=0,0,IF(B82=0,0,(G82*B82/1000))) -> 2018.128 | I82: 1 | J82: 797 | K82: =IF(J82=0,0,(J82*I82)) -> 797 | L82: =IF(K82=0,0,IF(B82=0,0,K82*B82/1000)) -> 1651.384 | M82: 203 | N82: =IF(M82=0,0,IF(B82=0,0,M82*B82/1000)) -> 420.616 | O82: 90.6 | P82: 99.7 | Q82: 65 | R82: =IF(P82=0,0,(P82-O82)*1000/Q82) -> 140 | S82: =IF(R82=0,0,IF(B82=0,0,R82*B82/1000)) -> 290.08 | T82: 1 | U82: 3.34 | V82: =IF(U82=0,0,(U82*T82)) -> 3.34 | W82: =IF(V82=0,0,IF(B82=0,0,V82*B82/1000)) -> 6.92048 | Z82: =IF(Y82=0,0,IF(B82=0,0,Y82*B82/1000)) -> 0 | AA82: 29.2 | AB82: =IF(AA82=0,0,IF(B82=0,0,AA82*B82/1000)) -> 60.5024 | AC82: 12.59 | AD82: =IF(AC82=0,0,IF(B82=0,0,AC82*B82/1000)) -> 26.08648 | AE82: 0.1 | AF82: =IF(AE82=0,0,IF(B82=0,0,AE82*B82/1000)) -> 0.2072 | AG82: 0.2 | AH82: =IF(AG82=0,0,IF(B82=0,0,AG82*B82/1000)) -> 0.4144 | AI82: =IF(AA82=0,"",SUM(AA82,AE82,AG82)) -> 29.5 | AJ82: =IF(AI82=0,0,IF(B82=0,0,AI82*B82/1000)) -> 61.124 | AL82: 0.72 | AM82: =IF(AL82=0,0,IF(B82=0,0,AL82*B82/1000)) -> 1.49184 | AO82: 0.74 | AP82: =IF(AO82=""," ",IF(B82=""," ",AO82*B82/1000)) -> 1.53328 | AQ82: < | AR82: 0.05 | AS82: =IF(AR82=""," ",IF(B82=""," ",AR82*B82/1000)) -> 0.1036 | AT82: < | AU82: 0.01 | AV82: =IF(AU82=""," ",IF(B82=""," ",AU82*B82/1000)) -> 0.02072 | AX82: 0.041096192 | AY82: =IF(AX82=""," ",IF(B82=""," ",AX82*B82/1000)) -> 0.08515131 | BA82: 2.2401574 | BB82: =IF(BA82=""," ",IF(B82=""," ",BA82*B82/1000)) -> 4.6416061 | BD82: 0.24202058 | BE82: =IF(BD82=""," ",IF(B82=""," ",BD82*B82/1000)) -> 0.50146664 | BG82: 0.18621562 | BH82: =IF(BG82=""," ",IF(B82=""," ",BG82*B82/1000)) -> 0.38583877 | BI82: < | BJ82: 0.06 | BK82: =IF(BJ82=""," ",IF(B82=""," ",BJ82*B82/1000)) -> 0.12432 | BM82: 0.8616069 | BN82: =IF(BM82=""," ",IF(B82=""," ",BM82*B82/1000)) -> 1.7852495 | BO82: OK | BP82: OK | BQ82: échantillon noir
A83: =A82+1 -> 42427 | B83: 1441 | C83: 16.63 | D83: 7.81 | E83: 1 | F83: 387 | G83: =IF(F83=0,0,(F83*E83)) -> 387 | H83: =IF(G83=0,0,IF(B83=0,0,(G83*B83/1000))) -> 557.667 | I83: 1 | J83: 325 | K83: =IF(J83=0,0,(J83*I83)) -> 325 | L83: =IF(K83=0,0,IF(B83=0,0,K83*B83/1000)) -> 468.325 | M83: 91 | N83: =IF(M83=0,0,IF(B83=0,0,M83*B83/1000)) -> 131.131 | O83: 93.1 | P83: 98.2 | Q83: 90 | R83: =IF(P83=0,0,(P83-O83)*1000/Q83) -> 56.666667 | S83: =IF(R83=0,0,IF(B83=0,0,R83*B83/1000)) -> 81.656667 | T83: 1 | U83: 1.31 | V83: =IF(U83=0,0,(U83*T83)) -> 1.31 | W83: =IF(V83=0,0,IF(B83=0,0,V83*B83/1000)) -> 1.88771 | Z83: =IF(Y83=0,0,IF(B83=0,0,Y83*B83/1000)) -> 0 | AA83: 44.8 | AB83: =IF(AA83=0,0,IF(B83=0,0,AA83*B83/1000)) -> 64.5568 | AC83: 7.4 | AD83: =IF(AC83=0,0,IF(B83=0,0,AC83*B83/1000)) -> 10.6634 | AE83: 0.501 | AF83: =IF(AE83=0,0,IF(B83=0,0,AE83*B83/1000)) -> 0.721941 | AG83: 0.2 | AH83: =IF(AG83=0,0,IF(B83=0,0,AG83*B83/1000)) -> 0.2882 | AI83: =IF(AA83=0,"",SUM(AA83,AE83,AG83)) -> 45.501 | AJ83: =IF(AI83=0,0,IF(B83=0,0,AI83*B83/1000)) -> 65.566941 | AL83: 0.4 | AM83: =IF(AL83=0,0,IF(B83=0,0,AL83*B83/1000)) -> 0.5764 | AO83: 0.39 | AP83: =IF(AO83=""," ",IF(B83=""," ",AO83*B83/1000)) -> 0.56199 | AQ83: < | AR83: 0.05 | AS83: =IF(AR83=""," ",IF(B83=""," ",AR83*B83/1000)) -> 0.07205 | AT83: < | AU83: 0.01 | AV83: =IF(AU83=""," ",IF(B83=""," ",AU83*B83/1000)) -> 0.01441 | AX83: 0.03 | AY83: =IF(AX83=""," ",IF(B83=""," ",AX83*B83/1000)) -> 0.04323 | BA83: 0.74162662 | BB83: =IF(BA83=""," ",IF(B83=""," ",BA83*B83/1000)) -> 1.068684 | BD83: 0.21167269 | BE83: =IF(BD83=""," ",IF(B83=""," ",BD83*B83/1000)) -> 0.30502035 | BG83: 0.16199219 | BH83: =IF(BG83=""," ",IF(B83=""," ",BG83*B83/1000)) -> 0.23343075 | BI83: < | BJ83: 0.06 | BK83: =IF(BJ83=""," ",IF(B83=""," ",BJ83*B83/1000)) -> 0.08646 | BM83: 0.46824765 | BN83: =IF(BM83=""," ",IF(B83=""," ",BM83*B83/1000)) -> 0.67474487 | BO83: OK | BP83: OK
A84: =A83+1 -> 42428 | B84: 1100 | C84: 16.47 | D84: 7.99 | E84: 1 | F84: 473 | G84: =IF(F84=0,0,(F84*E84)) -> 473 | H84: =IF(G84=0,0,IF(B84=0,0,(G84*B84/1000))) -> 520.3 | I84: 1 | J84: 435 | K84: =IF(J84=0,0,(J84*I84)) -> 435 | L84: =IF(K84=0,0,IF(B84=0,0,K84*B84/1000)) -> 478.5 | M84: 133 | N84: =IF(M84=0,0,IF(B84=0,0,M84*B84/1000)) -> 146.3 | O84: 89.9 | P84: 95.5 | Q84: 94 | R84: =IF(P84=0,0,(P84-O84)*1000/Q84) -> 59.574468 | S84: =IF(R84=0,0,IF(B84=0,0,R84*B84/1000)) -> 65.531915 | T84: 1 | U84: 1.52 | V84: =IF(U84=0,0,(U84*T84)) -> 1.52 | W84: =IF(V84=0,0,IF(B84=0,0,V84*B84/1000)) -> 1.672 | Z84: =IF(Y84=0,0,IF(B84=0,0,Y84*B84/1000)) -> 0 | AA84: 16 | AB84: =IF(AA84=0,0,IF(B84=0,0,AA84*B84/1000)) -> 17.6 | AC84: 4.33 | AD84: =IF(AC84=0,0,IF(B84=0,0,AC84*B84/1000)) -> 4.763 | AE84: 0.102 | AF84: =IF(AE84=0,0,IF(B84=0,0,AE84*B84/1000)) -> 0.1122 | AG84: 0.244 | AH84: =IF(AG84=0,0,IF(B84=0,0,AG84*B84/1000)) -> 0.2684 | AI84: =IF(AA84=0,"",SUM(AA84,AE84,AG84)) -> 16.346 | AJ84: =IF(AI84=0,0,IF(B84=0,0,AI84*B84/1000)) -> 17.9806 | AL84: 0.23 | AM84: =IF(AL84=0,0,IF(B84=0,0,AL84*B84/1000)) -> 0.253 | AO84: 0.5 | AP84: =IF(AO84=""," ",IF(B84=""," ",AO84*B84/1000)) -> 0.55 | AQ84: < | AR84: 0.05 | AS84: =IF(AR84=""," ",IF(B84=""," ",AR84*B84/1000)) -> 0.055 | AT84: < | AU84: 0.01 | AV84: =IF(AU84=""," ",IF(B84=""," ",AU84*B84/1000)) -> 0.011 | AX84: 0.03 | AY84: =IF(AX84=""," ",IF(B84=""," ",AX84*B84/1000)) -> 0.033 | BA84: 0.74998581 | BB84: =IF(BA84=""," ",IF(B84=""," ",BA84*B84/1000)) -> 0.8249844 | BD84: 0.11276041 | BE84: =IF(BD84=""," ",IF(B84=""," ",BD84*B84/1000)) -> 0.12403645 | BG84: 0.17721438 | BH84: =IF(BG84=""," ",IF(B84=""," ",BG84*B84/1000)) -> 0.19493582 | BI84: < | BJ84: 0.06 | BK84: =IF(BJ84=""," ",IF(B84=""," ",BJ84*B84/1000)) -> 0.066 | BM84: 0.51770848 | BN84: =IF(BM84=""," ",IF(B84=""," ",BM84*B84/1000)) -> 0.56947933 | BO84: OK | BP84: OK
A85: =A84+1 -> 42429 | B85: 1938 | C85: 16.11 | D85: 7.99 | E85: 1 | F85: 957 | G85: =IF(F85=0,0,(F85*E85)) -> 957 | H85: =IF(G85=0,0,IF(B85=0,0,(G85*B85/1000))) -> 1854.666 | I85: 1 | J85: 866 | K85: =IF(J85=0,0,(J85*I85)) -> 866 | L85: =IF(K85=0,0,IF(B85=0,0,K85*B85/1000)) -> 1678.308 | M85: 244 | N85: =IF(M85=0,0,IF(B85=0,0,M85*B85/1000)) -> 472.872 | O85: 90.3 | P85: 99.9 | Q85: 84 | R85: =IF(P85=0,0,(P85-O85)*1000/Q85) -> 114.28571 | S85: =IF(R85=0,0,IF(B85=0,0,R85*B85/1000)) -> 221.48571 | T85: 1 | U85: 2.73 | V85: =IF(U85=0,0,(U85*T85)) -> 2.73 | W85: =IF(V85=0,0,IF(B85=0,0,V85*B85/1000)) -> 5.29074 | Z85: =IF(Y85=0,0,IF(B85=0,0,Y85*B85/1000)) -> 0 | AA85: 29.2 | AB85: =IF(AA85=0,0,IF(B85=0,0,AA85*B85/1000)) -> 56.5896 | AC85: 14.73 | AD85: =IF(AC85=0,0,IF(B85=0,0,AC85*B85/1000)) -> 28.54674 | AE85: 0.341 | AF85: =IF(AE85=0,0,IF(B85=0,0,AE85*B85/1000)) -> 0.660858 | AG85: 1.403 | AH85: =IF(AG85=0,0,IF(B85=0,0,AG85*B85/1000)) -> 2.719014 | AI85: =IF(AA85=0,"",SUM(AA85,AE85,AG85)) -> 30.944 | AJ85: =IF(AI85=0,0,IF(B85=0,0,AI85*B85/1000)) -> 59.969472 | AL85: 0.36 | AM85: =IF(AL85=0,0,IF(B85=0,0,AL85*B85/1000)) -> 0.69768 | AO85: 0.67 | AP85: =IF(AO85=""," ",IF(B85=""," ",AO85*B85/1000)) -> 1.29846 | AQ85: < | AR85: 0.05 | AS85: =IF(AR85=""," ",IF(B85=""," ",AR85*B85/1000)) -> 0.0969 | AT85: < | AU85: 0.01 | AV85: =IF(AU85=""," ",IF(B85=""," ",AU85*B85/1000)) -> 0.01938 | AX85: 0.029650349 | AY85: =IF(AX85=""," ",IF(B85=""," ",AX85*B85/1000)) -> 0.057462376 | BA85: 2.1777294 | BB85: =IF(BA85=""," ",IF(B85=""," ",BA85*B85/1000)) -> 4.2204395 | BD85: 0.094620436 | BE85: =IF(BD85=""," ",IF(B85=""," ",BD85*B85/1000)) -> 0.1833744 | BG85: 0.18653511 | BH85: =IF(BG85=""," ",IF(B85=""," ",BG85*B85/1000)) -> 0.36150503 | BI85: < | BJ85: 0.06 | BK85: =IF(BJ85=""," ",IF(B85=""," ",BJ85*B85/1000)) -> 0.11628 | BM85: 0.52727961 | BN85: =IF(BM85=""," ",IF(B85=""," ",BM85*B85/1000)) -> 1.0218679 | BO85: OK | BP85: OK | BQ85: échantillon noir
A86: =A85+1 -> 42430 | B86: 2096 | C86: 16.15 | D86: 7.78 | E86: 1 | F86: 902 | G86: =IF(F86=0,0,(F86*E86)) -> 902 | H86: =IF(G86=0,0,IF(B86=0,0,(G86*B86/1000))) -> 1890.592 | I86: 1 | J86: 869 | K86: =IF(J86=0,0,(J86*I86)) -> 869 | L86: =IF(K86=0,0,IF(B86=0,0,K86*B86/1000)) -> 1821.424 | M86: 263 | N86: =IF(M86=0,0,IF(B86=0,0,M86*B86/1000)) -> 551.248 | O86: 90.6 | P86: 97.2 | Q86: 65 | R86: =IF(P86=0,0,(P86-O86)*1000/Q86) -> 101.53846 | S86: =IF(R86=0,0,IF(B86=0,0,R86*B86/1000)) -> 212.82462 | T86: 1 | U86: 2.75 | V86: =IF(U86=0,0,(U86*T86)) -> 2.75 | W86: =IF(V86=0,0,IF(B86=0,0,V86*B86/1000)) -> 5.764 | Z86: =IF(Y86=0,0,IF(B86=0,0,Y86*B86/1000)) -> 0 | AA86: 30.4 | AB86: =IF(AA86=0,0,IF(B86=0,0,AA86*B86/1000)) -> 63.7184 | AC86: 16.63 | AD86: =IF(AC86=0,0,IF(B86=0,0,AC86*B86/1000)) -> 34.85648 | AE86: 0.1 | AF86: =IF(AE86=0,0,IF(B86=0,0,AE86*B86/1000)) -> 0.2096 | AG86: 0.2 | AH86: =IF(AG86=0,0,IF(B86=0,0,AG86*B86/1000)) -> 0.4192 | AI86: =IF(AA86=0,"",SUM(AA86,AE86,AG86)) -> 30.7 | AJ86: =IF(AI86=0,0,IF(B86=0,0,AI86*B86/1000)) -> 64.3472 | AL86: 0.36 | AM86: =IF(AL86=0,0,IF(B86=0,0,AL86*B86/1000)) -> 0.75456 | AO86: 1.3 | AP86: =IF(AO86=""," ",IF(B86=""," ",AO86*B86/1000)) -> 2.7248 | AQ86: < | AR86: 0.05 | AS86: =IF(AR86=""," ",IF(B86=""," ",AR86*B86/1000)) -> 0.1048 | AT86: < | AU86: 0.01 | AV86: =IF(AU86=""," ",IF(B86=""," ",AU86*B86/1000)) -> 0.02096 | AX86: 0.026058599 | AY86: =IF(AX86=""," ",IF(B86=""," ",AX86*B86/1000)) -> 0.054618824 | BA86: 1.8468068 | BB86: =IF(BA86=""," ",IF(B86=""," ",BA86*B86/1000)) -> 3.870907 | BD86: 0.11692075 | BE86: =IF(BD86=""," ",IF(B86=""," ",BD86*B86/1000)) -> 0.24506589 | BG86: 0.18244003 | BH86: =IF(BG86=""," ",IF(B86=""," ",BG86*B86/1000)) -> 0.3823943 | BI86: < | BJ86: 0.06 | BK86: =IF(BJ86=""," ",IF(B86=""," ",BJ86*B86/1000)) -> 0.12576 | BM86: 0.568425 | BN86: =IF(BM86=""," ",IF(B86=""," ",BM86*B86/1000)) -> 1.1914188 | BO86: OK | BP86: OK | BQ86: échantillon noir
A87: =A86+1 -> 42431 | B87: 2226 | C87: 16.43 | D87: 7.81 | E87: 1 | F87: 823 | G87: =IF(F87=0,0,(F87*E87)) -> 823 | H87: =IF(G87=0,0,IF(B87=0,0,(G87*B87/1000))) -> 1831.998 | I87: 1 | J87: 697 | K87: =IF(J87=0,0,(J87*I87)) -> 697 | L87: =IF(K87=0,0,IF(B87=0,0,K87*B87/1000)) -> 1551.522 | M87: 191 | N87: =IF(M87=0,0,IF(B87=0,0,M87*B87/1000)) -> 425.166 | O87: 90 | P87: 98 | Q87: 74 | R87: =IF(P87=0,0,(P87-O87)*1000/Q87) -> 108.10811 | S87: =IF(R87=0,0,IF(B87=0,0,R87*B87/1000)) -> 240.64865 | T87: 1 | U87: 2.68 | V87: =IF(U87=0,0,(U87*T87)) -> 2.68 | W87: =IF(V87=0,0,IF(B87=0,0,V87*B87/1000)) -> 5.96568 | Z87: =IF(Y87=0,0,IF(B87=0,0,Y87*B87/1000)) -> 0 | AA87: 24 | AB87: =IF(AA87=0,0,IF(B87=0,0,AA87*B87/1000)) -> 53.424 | AC87: 9.32 | AD87: =IF(AC87=0,0,IF(B87=0,0,AC87*B87/1000)) -> 20.74632 | AE87: 0.222 | AF87: =IF(AE87=0,0,IF(B87=0,0,AE87*B87/1000)) -> 0.494172 | AG87: 1.024 | AH87: =IF(AG87=0,0,IF(B87=0,0,AG87*B87/1000)) -> 2.279424 | AI87: =IF(AA87=0,"",SUM(AA87,AE87,AG87)) -> 25.246 | AJ87: =IF(AI87=0,0,IF(B87=0,0,AI87*B87/1000)) -> 56.197596 | AL87: 0.49 | AM87: =IF(AL87=0,0,IF(B87=0,0,AL87*B87/1000)) -> 1.09074 | AO87: 0.64 | AP87: =IF(AO87=""," ",IF(B87=""," ",AO87*B87/1000)) -> 1.42464 | AQ87: < | AR87: 0.05 | AS87: =IF(AR87=""," ",IF(B87=""," ",AR87*B87/1000)) -> 0.1113 | AT87: < | AU87: 0.01 | AV87: =IF(AU87=""," ",IF(B87=""," ",AU87*B87/1000)) -> 0.02226 | AX87: 0.040289991 | AY87: =IF(AX87=""," ",IF(B87=""," ",AX87*B87/1000)) -> 0.08968552 | BA87: 1.656049 | BB87: =IF(BA87=""," ",IF(B87=""," ",BA87*B87/1000)) -> 3.6863651 | BD87: 0.13915996 | BE87: =IF(BD87=""," ",IF(B87=""," ",BD87*B87/1000)) -> 0.30977008 | BG87: 0.19114721 | BH87: =IF(BG87=""," ",IF(B87=""," ",BG87*B87/1000)) -> 0.42549369 | BI87: < | BJ87: 0.06 | BK87: =IF(BJ87=""," ",IF(B87=""," ",BJ87*B87/1000)) -> 0.13356 | BM87: 0.71636599 | BN87: =IF(BM87=""," ",IF(B87=""," ",BM87*B87/1000)) -> 1.5946307 | BO87: OK | BP87: OK
A88: =A87+1 -> 42432 | B88: 2076 | C88: 16.53 | D88: 7.92 | E88: 1 | F88: 751 | G88: =IF(F88=0,0,(F88*E88)) -> 751 | H88: =IF(G88=0,0,IF(B88=0,0,(G88*B88/1000))) -> 1559.076 | I88: 1 | J88: 664 | K88: =IF(J88=0,0,(J88*I88)) -> 664 | L88: =IF(K88=0,0,IF(B88=0,0,K88*B88/1000)) -> 1378.464 | M88: 213 | N88: =IF(M88=0,0,IF(B88=0,0,M88*B88/1000)) -> 442.188 | O88: 88.8 | P88: 97.8 | Q88: 94 | R88: =IF(P88=0,0,(P88-O88)*1000/Q88) -> 95.744681 | S88: =IF(R88=0,0,IF(B88=0,0,R88*B88/1000)) -> 198.76596 | T88: 1 | U88: 2.54 | V88: =IF(U88=0,0,(U88*T88)) -> 2.54 | W88: =IF(V88=0,0,IF(B88=0,0,V88*B88/1000)) -> 5.27304 | Z88: =IF(Y88=0,0,IF(B88=0,0,Y88*B88/1000)) -> 0 | AA88: 25.6 | AB88: =IF(AA88=0,0,IF(B88=0,0,AA88*B88/1000)) -> 53.1456 | AC88: 9.5 | AD88: =IF(AC88=0,0,IF(B88=0,0,AC88*B88/1000)) -> 19.722 | AE88: 0.1 | AF88: =IF(AE88=0,0,IF(B88=0,0,AE88*B88/1000)) -> 0.2076 | AG88: 0.2 | AH88: =IF(AG88=0,0,IF(B88=0,0,AG88*B88/1000)) -> 0.4152 | AI88: =IF(AA88=0,"",SUM(AA88,AE88,AG88)) -> 25.9 | AJ88: =IF(AI88=0,0,IF(B88=0,0,AI88*B88/1000)) -> 53.7684 | AL88: 0.58 | AM88: =IF(AL88=0,0,IF(B88=0,0,AL88*B88/1000)) -> 1.20408 | AO88: 0.64 | AP88: =IF(AO88=""," ",IF(B88=""," ",AO88*B88/1000)) -> 1.32864 | AQ88: < | AR88: 0.05 | AS88: =IF(AR88=""," ",IF(B88=""," ",AR88*B88/1000)) -> 0.1038 | AT88: < | AU88: 0.01 | AV88: =IF(AU88=""," ",IF(B88=""," ",AU88*B88/1000)) -> 0.02076 | AX88: 0.03 | AY88: =IF(AX88=""," ",IF(B88=""," ",AX88*B88/1000)) -> 0.06228 | BA88: 1.0179036 | BB88: =IF(BA88=""," ",IF(B88=""," ",BA88*B88/1000)) -> 2.1131678 | BD88: 0.13056013 | BE88: =IF(BD88=""," ",IF(B88=""," ",BD88*B88/1000)) -> 0.27104283 | BG88: 0.079597957 | BH88: =IF(BG88=""," ",IF(B88=""," ",BG88*B88/1000)) -> 0.16524536 | BI88: < | BJ88: 0.06 | BK88: =IF(BJ88=""," ",IF(B88=""," ",BJ88*B88/1000)) -> 0.12456 | BM88: 0.58472532 | BN88: =IF(BM88=""," ",IF(B88=""," ",BM88*B88/1000)) -> 1.2138898 | BO88: OK | BP88: OK
A89: =A88+1 -> 42433 | B89: 2330 | C89: 16.64 | D89: 7.7 | E89: 1 | F89: 842 | G89: =IF(F89=0,0,(F89*E89)) -> 842 | H89: =IF(G89=0,0,IF(B89=0,0,(G89*B89/1000))) -> 1961.86 | I89: 1 | J89: 752 | K89: =IF(J89=0,0,(J89*I89)) -> 752 | L89: =IF(K89=0,0,IF(B89=0,0,K89*B89/1000)) -> 1752.16 | M89: 205 | N89: =IF(M89=0,0,IF(B89=0,0,M89*B89/1000)) -> 477.65 | O89: 88.4 | P89: 96.1 | Q89: 60 | R89: =IF(P89=0,0,(P89-O89)*1000/Q89) -> 128.33333 | S89: =IF(R89=0,0,IF(B89=0,0,R89*B89/1000)) -> 299.01667 | T89: 1 | U89: 2.86 | V89: =IF(U89=0,0,(U89*T89)) -> 2.86 | W89: =IF(V89=0,0,IF(B89=0,0,V89*B89/1000)) -> 6.6638 | Z89: =IF(Y89=0,0,IF(B89=0,0,Y89*B89/1000)) -> 0 | AA89: 20.4 | AB89: =IF(AA89=0,0,IF(B89=0,0,AA89*B89/1000)) -> 47.532 | AC89: 8.5 | AD89: =IF(AC89=0,0,IF(B89=0,0,AC89*B89/1000)) -> 19.805 | AE89: 0.1 | AF89: =IF(AE89=0,0,IF(B89=0,0,AE89*B89/1000)) -> 0.233 | AG89: 0.2 | AH89: =IF(AG89=0,0,IF(B89=0,0,AG89*B89/1000)) -> 0.466 | AI89: =IF(AA89=0,"",SUM(AA89,AE89,AG89)) -> 20.7 | AJ89: =IF(AI89=0,0,IF(B89=0,0,AI89*B89/1000)) -> 48.231 | AL89: 0.5 | AM89: =IF(AL89=0,0,IF(B89=0,0,AL89*B89/1000)) -> 1.165 | AO89: 0.83 | AP89: =IF(AO89=""," ",IF(B89=""," ",AO89*B89/1000)) -> 1.9339 | AQ89: < | AR89: 0.05 | AS89: =IF(AR89=""," ",IF(B89=""," ",AR89*B89/1000)) -> 0.1165 | AT89: < | AU89: 0.01 | AV89: =IF(AU89=""," ",IF(B89=""," ",AU89*B89/1000)) -> 0.0233 | AX89: 0.04 | AY89: =IF(AX89=""," ",IF(B89=""," ",AX89*B89/1000)) -> 0.0932 | BA89: 1.88 | BB89: =IF(BA89=""," ",IF(B89=""," ",BA89*B89/1000)) -> 4.3804 | BD89: 0.12 | BE89: =IF(BD89=""," ",IF(B89=""," ",BD89*B89/1000)) -> 0.2796 | BG89: 0.07 | BH89: =IF(BG89=""," ",IF(B89=""," ",BG89*B89/1000)) -> 0.1631 | BI89: < | BJ89: 0.06 | BK89: =IF(BJ89=""," ",IF(B89=""," ",BJ89*B89/1000)) -> 0.1398 | BM89: 1.09 | BN89: =IF(BM89=""," ",IF(B89=""," ",BM89*B89/1000)) -> 2.5397 | BO89: OK | BP89: OK | BQ89: échantillon noir
A90: =A89+1 -> 42434 | B90: 1535 | C90: 16.62 | D90: 8.03 | E90: 1 | F90: 431 | G90: =IF(F90=0,0,(F90*E90)) -> 431 | H90: =IF(G90=0,0,IF(B90=0,0,(G90*B90/1000))) -> 661.585 | I90: 1 | J90: 347 | K90: =IF(J90=0,0,(J90*I90)) -> 347 | L90: =IF(K90=0,0,IF(B90=0,0,K90*B90/1000)) -> 532.645 | M90: 129 | N90: =IF(M90=0,0,IF(B90=0,0,M90*B90/1000)) -> 198.015 | O90: 91.5 | P90: 98 | Q90: 80 | R90: =IF(P90=0,0,(P90-O90)*1000/Q90) -> 81.25 | S90: =IF(R90=0,0,IF(B90=0,0,R90*B90/1000)) -> 124.71875 | T90: 2 | U90: 0.831 | V90: =IF(U90=0,0,(U90*T90)) -> 1.662 | W90: =IF(V90=0,0,IF(B90=0,0,V90*B90/1000)) -> 2.55117 | Z90: =IF(Y90=0,0,IF(B90=0,0,Y90*B90/1000)) -> 0 | AA90: 12.4 | AB90: =IF(AA90=0,0,IF(B90=0,0,AA90*B90/1000)) -> 19.034 | AC90: 3.4 | AD90: =IF(AC90=0,0,IF(B90=0,0,AC90*B90/1000)) -> 5.219 | AE90: 0.1 | AF90: =IF(AE90=0,0,IF(B90=0,0,AE90*B90/1000)) -> 0.1535 | AG90: 0.2 | AH90: =IF(AG90=0,0,IF(B90=0,0,AG90*B90/1000)) -> 0.307 | AI90: =IF(AA90=0,"",SUM(AA90,AE90,AG90)) -> 12.7 | AJ90: =IF(AI90=0,0,IF(B90=0,0,AI90*B90/1000)) -> 19.4945 | AL90: 0.27 | AM90: =IF(AL90=0,0,IF(B90=0,0,AL90*B90/1000)) -> 0.41445 | AO90: 0.9 | AP90: =IF(AO90=""," ",IF(B90=""," ",AO90*B90/1000)) -> 1.3815 | AQ90: < | AR90: 0.05 | AS90: =IF(AR90=""," ",IF(B90=""," ",AR90*B90/1000)) -> 0.07675 | AT90: < | AU90: 0.01 | AV90: =IF(AU90=""," ",IF(B90=""," ",AU90*B90/1000)) -> 0.01535 | AX90: 0.03 | AY90: =IF(AX90=""," ",IF(B90=""," ",AX90*B90/1000)) -> 0.04605 | BA90: 1.16 | BB90: =IF(BA90=""," ",IF(B90=""," ",BA90*B90/1000)) -> 1.7806 | BD90: 0.08 | BE90: =IF(BD90=""," ",IF(B90=""," ",BD90*B90/1000)) -> 0.1228 | BG90: 0.07 | BH90: =IF(BG90=""," ",IF(B90=""," ",BG90*B90/1000)) -> 0.10745 | BI90: < | BJ90: 0.06 | BK90: =IF(BJ90=""," ",IF(B90=""," ",BJ90*B90/1000)) -> 0.0921 | BM90: 0.8 | BN90: =IF(BM90=""," ",IF(B90=""," ",BM90*B90/1000)) -> 1.228 | BO90: OK | BP90: OK
A91: =A90+1 -> 42435 | B91: 1247 | C91: 16.41 | D91: 8.11 | E91: 1 | F91: 413 | G91: =IF(F91=0,0,(F91*E91)) -> 413 | H91: =IF(G91=0,0,IF(B91=0,0,(G91*B91/1000))) -> 515.011 | I91: 1 | J91: 351 | K91: =IF(J91=0,0,(J91*I91)) -> 351 | L91: =IF(K91=0,0,IF(B91=0,0,K91*B91/1000)) -> 437.697 | M91: 88 | N91: =IF(M91=0,0,IF(B91=0,0,M91*B91/1000)) -> 109.736 | O91: 90 | P91: 96.4 | Q91: 91 | R91: =IF(P91=0,0,(P91-O91)*1000/Q91) -> 70.32967 | S91: =IF(R91=0,0,IF(B91=0,0,R91*B91/1000)) -> 87.701099 | T91: 2 | U91: 0.75 | V91: =IF(U91=0,0,(U91*T91)) -> 1.5 | W91: =IF(V91=0,0,IF(B91=0,0,V91*B91/1000)) -> 1.8705 | Z91: =IF(Y91=0,0,IF(B91=0,0,Y91*B91/1000)) -> 0 | AA91: 7.2 | AB91: =IF(AA91=0,0,IF(B91=0,0,AA91*B91/1000)) -> 8.9784 | AC91: 1.4 | AD91: =IF(AC91=0,0,IF(B91=0,0,AC91*B91/1000)) -> 1.7458 | AE91: 0.15 | AF91: =IF(AE91=0,0,IF(B91=0,0,AE91*B91/1000)) -> 0.18705 | AG91: 1.237 | AH91: =IF(AG91=0,0,IF(B91=0,0,AG91*B91/1000)) -> 1.542539 | AI91: =IF(AA91=0,"",SUM(AA91,AE91,AG91)) -> 8.587 | AJ91: =IF(AI91=0,0,IF(B91=0,0,AI91*B91/1000)) -> 10.707989 | AL91: 0.18 | AM91: =IF(AL91=0,0,IF(B91=0,0,AL91*B91/1000)) -> 0.22446 | AO91: 0.51 | AP91: =IF(AO91=""," ",IF(B91=""," ",AO91*B91/1000)) -> 0.63597 | AQ91: < | AR91: 0.05 | AS91: =IF(AR91=""," ",IF(B91=""," ",AR91*B91/1000)) -> 0.06235 | AT91: < | AU91: 0.01 | AV91: =IF(AU91=""," ",IF(B91=""," ",AU91*B91/1000)) -> 0.01247 | AX91: 0.03 | AY91: =IF(AX91=""," ",IF(B91=""," ",AX91*B91/1000)) -> 0.03741 | BA91: 0.66 | BB91: =IF(BA91=""," ",IF(B91=""," ",BA91*B91/1000)) -> 0.82302 | BD91: 0.12 | BE91: =IF(BD91=""," ",IF(B91=""," ",BD91*B91/1000)) -> 0.14964 | BG91: 0.07 | BH91: =IF(BG91=""," ",IF(B91=""," ",BG91*B91/1000)) -> 0.08729 | BI91: < | BJ91: 0.06 | BK91: =IF(BJ91=""," ",IF(B91=""," ",BJ91*B91/1000)) -> 0.07482 | BM91: 0.45 | BN91: =IF(BM91=""," ",IF(B91=""," ",BM91*B91/1000)) -> 0.56115 | BO91: OK | BP91: OK
A92: =A91+1 -> 42436 | B92: 1999 | C92: 16.06 | D92: 8.32 | E92: 1 | F92: 1030 | G92: =IF(F92=0,0,(F92*E92)) -> 1030 | H92: =IF(G92=0,0,IF(B92=0,0,(G92*B92/1000))) -> 2058.97 | I92: 1 | J92: 922 | K92: =IF(J92=0,0,(J92*I92)) -> 922 | L92: =IF(K92=0,0,IF(B92=0,0,K92*B92/1000)) -> 1843.078 | M92: 204 | N92: =IF(M92=0,0,IF(B92=0,0,M92*B92/1000)) -> 407.796 | O92: 92.8 | P92: 100.6 | Q92: 59 | R92: =IF(P92=0,0,(P92-O92)*1000/Q92) -> 132.20339 | S92: =IF(R92=0,0,IF(B92=0,0,R92*B92/1000)) -> 264.27458 | T92: 1 | U92: 2.92 | V92: =IF(U92=0,0,(U92*T92)) -> 2.92 | W92: =IF(V92=0,0,IF(B92=0,0,V92*B92/1000)) -> 5.83708 | Z92: =IF(Y92=0,0,IF(B92=0,0,Y92*B92/1000)) -> 0 | AA92: 24 | AB92: =IF(AA92=0,0,IF(B92=0,0,AA92*B92/1000)) -> 47.976 | AC92: 13 | AD92: =IF(AC92=0,0,IF(B92=0,0,AC92*B92/1000)) -> 25.987 | AE92: 0.1 | AF92: =IF(AE92=0,0,IF(B92=0,0,AE92*B92/1000)) -> 0.1999 | AG92: 0.2 | AH92: =IF(AG92=0,0,IF(B92=0,0,AG92*B92/1000)) -> 0.3998 | AI92: =IF(AA92=0,"",SUM(AA92,AE92,AG92)) -> 24.3 | AJ92: =IF(AI92=0,0,IF(B92=0,0,AI92*B92/1000)) -> 48.5757 | AL92: 0.4 | AM92: =IF(AL92=0,0,IF(B92=0,0,AL92*B92/1000)) -> 0.7996 | AO92: 0.69 | AP92: =IF(AO92=""," ",IF(B92=""," ",AO92*B92/1000)) -> 1.37931 | AQ92: < | AR92: 0.05 | AS92: =IF(AR92=""," ",IF(B92=""," ",AR92*B92/1000)) -> 0.09995 | AT92: < | AU92: 0.01 | AV92: =IF(AU92=""," ",IF(B92=""," ",AU92*B92/1000)) -> 0.01999 | AX92: 0.04 | AY92: =IF(AX92=""," ",IF(B92=""," ",AX92*B92/1000)) -> 0.07996 | BA92: 2.44 | BB92: =IF(BA92=""," ",IF(B92=""," ",BA92*B92/1000)) -> 4.87756 | BD92: 0.19 | BE92: =IF(BD92=""," ",IF(B92=""," ",BD92*B92/1000)) -> 0.37981 | BG92: 0.09 | BH92: =IF(BG92=""," ",IF(B92=""," ",BG92*B92/1000)) -> 0.17991 | BI92: < | BJ92: 0.06 | BK92: =IF(BJ92=""," ",IF(B92=""," ",BJ92*B92/1000)) -> 0.11994 | BM92: 0.75 | BN92: =IF(BM92=""," ",IF(B92=""," ",BM92*B92/1000)) -> 1.49925 | BO92: OK | BP92: OK | BQ92: échantillon noir
A93: =A92+1 -> 42437 | B93: 2065 | C93: 17.03 | D93: 8.5 | E93: 1 | F93: 1323 | G93: =IF(F93=0,0,(F93*E93)) -> 1323 | H93: =IF(G93=0,0,IF(B93=0,0,(G93*B93/1000))) -> 2731.995 | I93: 1 | J93: 1145 | K93: =IF(J93=0,0,(J93*I93)) -> 1145 | L93: =IF(K93=0,0,IF(B93=0,0,K93*B93/1000)) -> 2364.425 | M93: 305 | N93: =IF(M93=0,0,IF(B93=0,0,M93*B93/1000)) -> 629.825 | O93: 91.1 | P93: 101.4 | Q93: 66 | R93: =IF(P93=0,0,(P93-O93)*1000/Q93) -> 156.06061 | S93: =IF(R93=0,0,IF(B93=0,0,R93*B93/1000)) -> 322.26515 | T93: 1 | U93: 3.61 | V93: =IF(U93=0,0,(U93*T93)) -> 3.61 | W93: =IF(V93=0,0,IF(B93=0,0,V93*B93/1000)) -> 7.45465 | Z93: =IF(Y93=0,0,IF(B93=0,0,Y93*B93/1000)) -> 0 | AA93: 37 | AB93: =IF(AA93=0,0,IF(B93=0,0,AA93*B93/1000)) -> 76.405 | AC93: 19 | AD93: =IF(AC93=0,0,IF(B93=0,0,AC93*B93/1000)) -> 39.235 | AE93: 0.26 | AF93: =IF(AE93=0,0,IF(B93=0,0,AE93*B93/1000)) -> 0.5369 | AG93: 1.435 | AH93: =IF(AG93=0,0,IF(B93=0,0,AG93*B93/1000)) -> 2.963275 | AI93: =IF(AA93=0,"",SUM(AA93,AE93,AG93)) -> 38.695 | AJ93: =IF(AI93=0,0,IF(B93=0,0,AI93*B93/1000)) -> 79.905175 | AL93: 0.82 | AM93: =IF(AL93=0,0,IF(B93=0,0,AL93*B93/1000)) -> 1.6933 | AO93: 0.79 | AP93: =IF(AO93=""," ",IF(B93=""," ",AO93*B93/1000)) -> 1.63135 | AQ93: < | AR93: 0.05 | AS93: =IF(AR93=""," ",IF(B93=""," ",AR93*B93/1000)) -> 0.10325 | AT93: < | AU93: 0.01 | AV93: =IF(AU93=""," ",IF(B93=""," ",AU93*B93/1000)) -> 0.02065 | AX93: 0.03 | AY93: =IF(AX93=""," ",IF(B93=""," ",AX93*B93/1000)) -> 0.06195 | BA93: 2.97 | BB93: =IF(BA93=""," ",IF(B93=""," ",BA93*B93/1000)) -> 6.13305 | BD93: 0.17 | BE93: =IF(BD93=""," ",IF(B93=""," ",BD93*B93/1000)) -> 0.35105 | BG93: 0.11 | BH93: =IF(BG93=""," ",IF(B93=""," ",BG93*B93/1000)) -> 0.22715 | BI93: < | BJ93: 0.06 | BK93: =IF(BJ93=""," ",IF(B93=""," ",BJ93*B93/1000)) -> 0.1239 | BM93: 0.74 | BN93: =IF(BM93=""," ",IF(B93=""," ",BM93*B93/1000)) -> 1.5281 | BO93: OK | BP93: OK | BQ93: échantillon noir
A94: =A93+1 -> 42438 | B94: 1991 | C94: 18.24 | D94: 7.82 | E94: 1 | F94: 1627 | G94: =IF(F94=0,0,(F94*E94)) -> 1627 | H94: =IF(G94=0,0,IF(B94=0,0,(G94*B94/1000))) -> 3239.357 | I94: 1 | J94: 1470 | K94: =IF(J94=0,0,(J94*I94)) -> 1470 | L94: =IF(K94=0,0,IF(B94=0,0,K94*B94/1000)) -> 2926.77 | M94: 382 | N94: =IF(M94=0,0,IF(B94=0,0,M94*B94/1000)) -> 760.562 | O94: 89.7 | P94: 107.2 | Q94: 68 | R94: =IF(P94=0,0,(P94-O94)*1000/Q94) -> 257.35294 | S94: =IF(R94=0,0,IF(B94=0,0,R94*B94/1000)) -> 512.38971 | T94: 1 | U94: 7.02 | V94: =IF(U94=0,0,(U94*T94)) -> 7.02 | W94: =IF(V94=0,0,IF(B94=0,0,V94*B94/1000)) -> 13.97682 | Z94: =IF(Y94=0,0,IF(B94=0,0,Y94*B94/1000)) -> 0 | AA94: 38.7 | AB94: =IF(AA94=0,0,IF(B94=0,0,AA94*B94/1000)) -> 77.0517 | AC94: 18 | AD94: =IF(AC94=0,0,IF(B94=0,0,AC94*B94/1000)) -> 35.838 | AE94: 0.1 | AF94: =IF(AE94=0,0,IF(B94=0,0,AE94*B94/1000)) -> 0.1991 | AG94: 0.2 | AH94: =IF(AG94=0,0,IF(B94=0,0,AG94*B94/1000)) -> 0.3982 | AI94: =IF(AA94=0,"",SUM(AA94,AE94,AG94)) -> 39 | AJ94: =IF(AI94=0,0,IF(B94=0,0,AI94*B94/1000)) -> 77.649 | AL94: 4.5 | AM94: =IF(AL94=0,0,IF(B94=0,0,AL94*B94/1000)) -> 8.9595 | AO94: 1.7 | AP94: =IF(AO94=""," ",IF(B94=""," ",AO94*B94/1000)) -> 3.3847 | AQ94: < | AR94: 0.05 | AS94: =IF(AR94=""," ",IF(B94=""," ",AR94*B94/1000)) -> 0.09955 | AT94: < | AU94: 0.01 | AV94: =IF(AU94=""," ",IF(B94=""," ",AU94*B94/1000)) -> 0.01991 | AX94: 0.04 | AY94: =IF(AX94=""," ",IF(B94=""," ",AX94*B94/1000)) -> 0.07964 | BA94: 4.53 | BB94: =IF(BA94=""," ",IF(B94=""," ",BA94*B94/1000)) -> 9.01923 | BD94: 0.36 | BE94: =IF(BD94=""," ",IF(B94=""," ",BD94*B94/1000)) -> 0.71676 | BG94: 0.17 | BH94: =IF(BG94=""," ",IF(B94=""," ",BG94*B94/1000)) -> 0.33847 | BI94: < | BJ94: 0.06 | BK94: =IF(BJ94=""," ",IF(B94=""," ",BJ94*B94/1000)) -> 0.11946 | BM94: 1.4 | BN94: =IF(BM94=""," ",IF(B94=""," ",BM94*B94/1000)) -> 2.7874 | BO94: OK | BP94: OK | BQ94: échantillon noir
A95: =A94+1 -> 42439 | B95: 1792 | C95: 18.49 | D95: 8.1 | E95: 1 | F95: 914 | G95: =IF(F95=0,0,(F95*E95)) -> 914 | H95: =IF(G95=0,0,IF(B95=0,0,(G95*B95/1000))) -> 1637.888 | I95: 1 | J95: 769 | K95: =IF(J95=0,0,(J95*I95)) -> 769 | L95: =IF(K95=0,0,IF(B95=0,0,K95*B95/1000)) -> 1378.048 | M95: 223 | N95: =IF(M95=0,0,IF(B95=0,0,M95*B95/1000)) -> 399.616 | O95: 92.3 | P95: 98.9 | Q95: 50 | R95: =IF(P95=0,0,(P95-O95)*1000/Q95) -> 132 | S95: =IF(R95=0,0,IF(B95=0,0,R95*B95/1000)) -> 236.544 | T95: 1 | U95: 3.61 | V95: =IF(U95=0,0,(U95*T95)) -> 3.61 | W95: =IF(V95=0,0,IF(B95=0,0,V95*B95/1000)) -> 6.46912 | Z95: =IF(Y95=0,0,IF(B95=0,0,Y95*B95/1000)) -> 0 | AA95: 41.6 | AB95: =IF(AA95=0,0,IF(B95=0,0,AA95*B95/1000)) -> 74.5472 | AC95: 22 | AD95: =IF(AC95=0,0,IF(B95=0,0,AC95*B95/1000)) -> 39.424 | AE95: 0.246 | AF95: =IF(AE95=0,0,IF(B95=0,0,AE95*B95/1000)) -> 0.440832 | AG95: 1.455 | AH95: =IF(AG95=0,0,IF(B95=0,0,AG95*B95/1000)) -> 2.60736 | AI95: =IF(AA95=0,"",SUM(AA95,AE95,AG95)) -> 43.301 | AJ95: =IF(AI95=0,0,IF(B95=0,0,AI95*B95/1000)) -> 77.595392 | AL95: 0.26 | AM95: =IF(AL95=0,0,IF(B95=0,0,AL95*B95/1000)) -> 0.46592 | AO95: 0.72 | AP95: =IF(AO95=""," ",IF(B95=""," ",AO95*B95/1000)) -> 1.29024 | AQ95: < | AR95: 0.05 | AS95: =IF(AR95=""," ",IF(B95=""," ",AR95*B95/1000)) -> 0.0896 | AT95: < | AU95: 0.01 | AV95: =IF(AU95=""," ",IF(B95=""," ",AU95*B95/1000)) -> 0.01792 | AX95: 0.04 | AY95: =IF(AX95=""," ",IF(B95=""," ",AX95*B95/1000)) -> 0.07168 | BA95: 1.71 | BB95: =IF(BA95=""," ",IF(B95=""," ",BA95*B95/1000)) -> 3.06432 | BD95: 0.11 | BE95: =IF(BD95=""," ",IF(B95=""," ",BD95*B95/1000)) -> 0.19712 | BF95: < | BG95: 0.04 | BH95: =IF(BG95=""," ",IF(B95=""," ",BG95*B95/1000)) -> 0.07168 | BI95: < | BJ95: 0.06 | BK95: =IF(BJ95=""," ",IF(B95=""," ",BJ95*B95/1000)) -> 0.10752 | BM95: 0.64 | BN95: =IF(BM95=""," ",IF(B95=""," ",BM95*B95/1000)) -> 1.14688 | BO95: OK | BP95: OK
A96: =A95+1 -> 42440 | B96: 1953 | C96: 18.54 | D96: 7.6 | E96: 1 | F96: 1068 | G96: =IF(F96=0,0,(F96*E96)) -> 1068 | H96: =IF(G96=0,0,IF(B96=0,0,(G96*B96/1000))) -> 2085.804 | I96: 1 | J96: 860 | K96: =IF(J96=0,0,(J96*I96)) -> 860 | L96: =IF(K96=0,0,IF(B96=0,0,K96*B96/1000)) -> 1679.58 | M96: 261 | N96: =IF(M96=0,0,IF(B96=0,0,M96*B96/1000)) -> 509.733 | O96: 88.7 | P96: 99.6 | Q96: 80 | R96: =IF(P96=0,0,(P96-O96)*1000/Q96) -> 136.25 | S96: =IF(R96=0,0,IF(B96=0,0,R96*B96/1000)) -> 266.09625 | T96: 1 | U96: 2.63 | V96: =IF(U96=0,0,(U96*T96)) -> 2.63 | W96: =IF(V96=0,0,IF(B96=0,0,V96*B96/1000)) -> 5.13639 | Z96: =IF(Y96=0,0,IF(B96=0,0,Y96*B96/1000)) -> 0 | AA96: 26 | AB96: =IF(AA96=0,0,IF(B96=0,0,AA96*B96/1000)) -> 50.778 | AC96: 12 | AD96: =IF(AC96=0,0,IF(B96=0,0,AC96*B96/1000)) -> 23.436 | AE96: 0.1 | AF96: =IF(AE96=0,0,IF(B96=0,0,AE96*B96/1000)) -> 0.1953 | AG96: 0.2 | AH96: =IF(AG96=0,0,IF(B96=0,0,AG96*B96/1000)) -> 0.3906 | AI96: =IF(AA96=0,"",SUM(AA96,AE96,AG96)) -> 26.3 | AJ96: =IF(AI96=0,0,IF(B96=0,0,AI96*B96/1000)) -> 51.3639 | AL96: 0.83 | AM96: =IF(AL96=0,0,IF(B96=0,0,AL96*B96/1000)) -> 1.62099 | AO96: 0.82 | AP96: =IF(AO96=""," ",IF(B96=""," ",AO96*B96/1000)) -> 1.60146 | AQ96: < | AR96: 0.05 | AS96: =IF(AR96=""," ",IF(B96=""," ",AR96*B96/1000)) -> 0.09765 | AT96: < | AU96: 0.01 | AV96: =IF(AU96=""," ",IF(B96=""," ",AU96*B96/1000)) -> 0.01953 | AX96: 0.0761244 | AY96: =IF(AX96=""," ",IF(B96=""," ",AX96*B96/1000)) -> 0.14867095 | BA96: 2.4777355 | BB96: =IF(BA96=""," ",IF(B96=""," ",BA96*B96/1000)) -> 4.8390175 | BD96: 0.16258202 | BE96: =IF(BD96=""," ",IF(B96=""," ",BD96*B96/1000)) -> 0.31752269 | BF96: < | BG96: 0.04 | BH96: =IF(BG96=""," ",IF(B96=""," ",BG96*B96/1000)) -> 0.07812 | BI96: < | BJ96: 0.06 | BK96: =IF(BJ96=""," ",IF(B96=""," ",BJ96*B96/1000)) -> 0.11718 | BM96: 0.64780265 | BN96: =IF(BM96=""," ",IF(B96=""," ",BM96*B96/1000)) -> 1.2651586 | BO96: OK | BP96: OK
A97: =A96+1 -> 42441 | B97: 1342 | C97: 18.69 | D97: 7.99 | E97: 1 | F97: 375 | G97: =IF(F97=0,0,(F97*E97)) -> 375 | H97: =IF(G97=0,0,IF(B97=0,0,(G97*B97/1000))) -> 503.25 | I97: 1 | J97: 318 | K97: =IF(J97=0,0,(J97*I97)) -> 318 | L97: =IF(K97=0,0,IF(B97=0,0,K97*B97/1000)) -> 426.756 | M97: 92 | N97: =IF(M97=0,0,IF(B97=0,0,M97*B97/1000)) -> 123.464 | O97: 90.9 | P97: 98.4 | Q97: 100 | R97: =IF(P97=0,0,(P97-O97)*1000/Q97) -> 75 | S97: =IF(R97=0,0,IF(B97=0,0,R97*B97/1000)) -> 100.65 | T97: 1 | U97: 1 | V97: =IF(U97=0,0,(U97*T97)) -> 1 | W97: =IF(V97=0,0,IF(B97=0,0,V97*B97/1000)) -> 1.342 | Z97: =IF(Y97=0,0,IF(B97=0,0,Y97*B97/1000)) -> 0 | AA97: 17 | AB97: =IF(AA97=0,0,IF(B97=0,0,AA97*B97/1000)) -> 22.814 | AC97: 6.2 | AD97: =IF(AC97=0,0,IF(B97=0,0,AC97*B97/1000)) -> 8.3204 | AE97: 0.1 | AF97: =IF(AE97=0,0,IF(B97=0,0,AE97*B97/1000)) -> 0.1342 | AG97: 0.2 | AH97: =IF(AG97=0,0,IF(B97=0,0,AG97*B97/1000)) -> 0.2684 | AI97: =IF(AA97=0,"",SUM(AA97,AE97,AG97)) -> 17.3 | AJ97: =IF(AI97=0,0,IF(B97=0,0,AI97*B97/1000)) -> 23.2166 | AL97: 0.45 | AM97: =IF(AL97=0,0,IF(B97=0,0,AL97*B97/1000)) -> 0.6039 | AO97: 0.72 | AP97: =IF(AO97=""," ",IF(B97=""," ",AO97*B97/1000)) -> 0.96624 | AQ97: < | AR97: 0.05 | AS97: =IF(AR97=""," ",IF(B97=""," ",AR97*B97/1000)) -> 0.0671 | AT97: < | AU97: 0.01 | AV97: =IF(AU97=""," ",IF(B97=""," ",AU97*B97/1000)) -> 0.01342 | AX97: 0.063030049 | AY97: =IF(AX97=""," ",IF(B97=""," ",AX97*B97/1000)) -> 0.084586326 | BA97: 1.29198 | BB97: =IF(BA97=""," ",IF(B97=""," ",BA97*B97/1000)) -> 1.7338372 | BD97: 0.12852269 | BE97: =IF(BD97=""," ",IF(B97=""," ",BD97*B97/1000)) -> 0.17247746 | BF97: < | BG97: 0.04 | BH97: =IF(BG97=""," ",IF(B97=""," ",BG97*B97/1000)) -> 0.05368 | BI97: < | BJ97: 0.06 | BK97: =IF(BJ97=""," ",IF(B97=""," ",BJ97*B97/1000)) -> 0.08052 | BM97: 0.57392603 | BN97: =IF(BM97=""," ",IF(B97=""," ",BM97*B97/1000)) -> 0.77020873 | BO97: OK | BP97: OK
A98: =A97+1 -> 42442 | B98: 1008 | C98: 18.23 | D98: 8.14 | E98: 1 | F98: 321 | G98: =IF(F98=0,0,(F98*E98)) -> 321 | H98: =IF(G98=0,0,IF(B98=0,0,(G98*B98/1000))) -> 323.568 | I98: 1 | J98: 268 | K98: =IF(J98=0,0,(J98*I98)) -> 268 | L98: =IF(K98=0,0,IF(B98=0,0,K98*B98/1000)) -> 270.144 | M98: 71 | N98: =IF(M98=0,0,IF(B98=0,0,M98*B98/1000)) -> 71.568 | O98: 89.7 | P98: 94 | Q98: 80 | R98: =IF(P98=0,0,(P98-O98)*1000/Q98) -> 53.75 | S98: =IF(R98=0,0,IF(B98=0,0,R98*B98/1000)) -> 54.18 | T98: 1 | U98: 0.836 | V98: =IF(U98=0,0,(U98*T98)) -> 0.836 | W98: =IF(V98=0,0,IF(B98=0,0,V98*B98/1000)) -> 0.842688 | Z98: =IF(Y98=0,0,IF(B98=0,0,Y98*B98/1000)) -> 0 | AA98: 13.2 | AB98: =IF(AA98=0,0,IF(B98=0,0,AA98*B98/1000)) -> 13.3056 | AC98: 3.1 | AD98: =IF(AC98=0,0,IF(B98=0,0,AC98*B98/1000)) -> 3.1248 | AE98: 0.536 | AF98: =IF(AE98=0,0,IF(B98=0,0,AE98*B98/1000)) -> 0.540288 | AG98: 2.563 | AH98: =IF(AG98=0,0,IF(B98=0,0,AG98*B98/1000)) -> 2.583504 | AI98: =IF(AA98=0,"",SUM(AA98,AE98,AG98)) -> 16.299 | AJ98: =IF(AI98=0,0,IF(B98=0,0,AI98*B98/1000)) -> 16.429392 | AL98: 0.33 | AM98: =IF(AL98=0,0,IF(B98=0,0,AL98*B98/1000)) -> 0.33264 | AO98: 0.6 | AP98: =IF(AO98=""," ",IF(B98=""," ",AO98*B98/1000)) -> 0.6048 | AQ98: < | AR98: 0.05 | AS98: =IF(AR98=""," ",IF(B98=""," ",AR98*B98/1000)) -> 0.0504 | AT98: < | AU98: 0.01 | AV98: =IF(AU98=""," ",IF(B98=""," ",AU98*B98/1000)) -> 0.01008 | AX98: 0.064694688 | AY98: =IF(AX98=""," ",IF(B98=""," ",AX98*B98/1000)) -> 0.065212246 | BA98: 1.3088756 | BB98: =IF(BA98=""," ",IF(B98=""," ",BA98*B98/1000)) -> 1.3193466 | BD98: 0.1202065 | BE98: =IF(BD98=""," ",IF(B98=""," ",BD98*B98/1000)) -> 0.12116815 | BF98: < | BG98: 0.04 | BH98: =IF(BG98=""," ",IF(B98=""," ",BG98*B98/1000)) -> 0.04032 | BI98: < | BJ98: 0.06 | BK98: =IF(BJ98=""," ",IF(B98=""," ",BJ98*B98/1000)) -> 0.06048 | BM98: 0.56487125 | BN98: =IF(BM98=""," ",IF(B98=""," ",BM98*B98/1000)) -> 0.56939022 | BO98: OK | BP98: OK
A99: =A98+1 -> 42443 | B99: 1918 | C99: 17.63 | D99: 8.1 | E99: 1 | F99: 756 | G99: =IF(F99=0,0,(F99*E99)) -> 756 | H99: =IF(G99=0,0,IF(B99=0,0,(G99*B99/1000))) -> 1450.008 | I99: 1 | J99: 707 | K99: =IF(J99=0,0,(J99*I99)) -> 707 | L99: =IF(K99=0,0,IF(B99=0,0,K99*B99/1000)) -> 1356.026 | M99: 177 | N99: =IF(M99=0,0,IF(B99=0,0,M99*B99/1000)) -> 339.486 | O99: 90.9 | P99: 101.8 | Q99: 100 | R99: =IF(P99=0,0,(P99-O99)*1000/Q99) -> 109 | S99: =IF(R99=0,0,IF(B99=0,0,R99*B99/1000)) -> 209.062 | T99: 1 | U99: 3.24 | V99: =IF(U99=0,0,(U99*T99)) -> 3.24 | W99: =IF(V99=0,0,IF(B99=0,0,V99*B99/1000)) -> 6.21432 | Z99: =IF(Y99=0,0,IF(B99=0,0,Y99*B99/1000)) -> 0 | AA99: 25.5 | AB99: =IF(AA99=0,0,IF(B99=0,0,AA99*B99/1000)) -> 48.909 | AC99: 11 | AD99: =IF(AC99=0,0,IF(B99=0,0,AC99*B99/1000)) -> 21.098 | AE99: 0.1 | AF99: =IF(AE99=0,0,IF(B99=0,0,AE99*B99/1000)) -> 0.1918 | AG99: 0.2 | AH99: =IF(AG99=0,0,IF(B99=0,0,AG99*B99/1000)) -> 0.3836 | AI99: =IF(AA99=0,"",SUM(AA99,AE99,AG99)) -> 25.8 | AJ99: =IF(AI99=0,0,IF(B99=0,0,AI99*B99/1000)) -> 49.4844 | AL99: 0.45 | AM99: =IF(AL99=0,0,IF(B99=0,0,AL99*B99/1000)) -> 0.8631 | AO99: 0.62 | AP99: =IF(AO99=""," ",IF(B99=""," ",AO99*B99/1000)) -> 1.18916 | AQ99: < | AR99: 0.05 | AS99: =IF(AR99=""," ",IF(B99=""," ",AR99*B99/1000)) -> 0.0959 | AT99: < | AU99: 0.01 | AV99: =IF(AU99=""," ",IF(B99=""," ",AU99*B99/1000)) -> 0.01918 | AX99: 0.086900361 | AY99: =IF(AX99=""," ",IF(B99=""," ",AX99*B99/1000)) -> 0.16667489 | BA99: 2.0767484 | BB99: =IF(BA99=""," ",IF(B99=""," ",BA99*B99/1000)) -> 3.9832034 | BD99: 0.1678008 | BE99: =IF(BD99=""," ",IF(B99=""," ",BD99*B99/1000)) -> 0.32184193 | BF99: < | BG99: 0.04 | BH99: =IF(BG99=""," ",IF(B99=""," ",BG99*B99/1000)) -> 0.07672 | BI99: < | BJ99: 0.06 | BK99: =IF(BJ99=""," ",IF(B99=""," ",BJ99*B99/1000)) -> 0.11508 | BM99: 0.56706828 | BN99: =IF(BM99=""," ",IF(B99=""," ",BM99*B99/1000)) -> 1.087637 | BO99: OK | BP99: OK | BQ99: échantillon noir
A100: =A99+1 -> 42444 | B100: 1753 | C100: 17.83 | D100: 8.09 | E100: 1 | F100: 1195 | G100: =IF(F100=0,0,(F100*E100)) -> 1195 | H100: =IF(G100=0,0,IF(B100=0,0,(G100*B100/1000))) -> 2094.835 | I100: 1 | J100: 907 | K100: =IF(J100=0,0,(J100*I100)) -> 907 | L100: =IF(K100=0,0,IF(B100=0,0,K100*B100/1000)) -> 1589.971 | M100: 225 | N100: =IF(M100=0,0,IF(B100=0,0,M100*B100/1000)) -> 394.425 | O100: 91.6 | P100: 106.8 | Q100: 100 | R100: =IF(P100=0,0,(P100-O100)*1000/Q100) -> 152 | S100: =IF(R100=0,0,IF(B100=0,0,R100*B100/1000)) -> 266.456 | T100: 1 | U100: 4.09 | V100: =IF(U100=0,0,(U100*T100)) -> 4.09 | W100: =IF(V100=0,0,IF(B100=0,0,V100*B100/1000)) -> 7.16977 | Z100: =IF(Y100=0,0,IF(B100=0,0,Y100*B100/1000)) -> 0 | AA100: 40.4 | AB100: =IF(AA100=0,0,IF(B100=0,0,AA100*B100/1000)) -> 70.8212 | AC100: 24 | AD100: =IF(AC100=0,0,IF(B100=0,0,AC100*B100/1000)) -> 42.072 | AE100: 0.366 | AF100: =IF(AE100=0,0,IF(B100=0,0,AE100*B100/1000)) -> 0.641598 | AG100: 1.305 | AH100: =IF(AG100=0,0,IF(B100=0,0,AG100*B100/1000)) -> 2.287665 | AI100: =IF(AA100=0,"",SUM(AA100,AE100,AG100)) -> 42.071 | AJ100: =IF(AI100=0,0,IF(B100=0,0,AI100*B100/1000)) -> 73.750463 | AK100: < | AL100: 0.1 | AM100: =IF(AL100=0,0,IF(B100=0,0,AL100*B100/1000)) -> 0.1753 | AO100: 0.69 | AP100: =IF(AO100=""," ",IF(B100=""," ",AO100*B100/1000)) -> 1.20957 | AQ100: < | AR100: 0.05 | AS100: =IF(AR100=""," ",IF(B100=""," ",AR100*B100/1000)) -> 0.08765 | AT100: < | AU100: 0.01 | AV100: =IF(AU100=""," ",IF(B100=""," ",AU100*B100/1000)) -> 0.01753 | AX100: 0.10757606 | AY100: =IF(AX100=""," ",IF(B100=""," ",AX100*B100/1000)) -> 0.18858083 | BA100: 2.1355655 | BB100: =IF(BA100=""," ",IF(B100=""," ",BA100*B100/1000)) -> 3.7436464 | BD100: 0.17991905 | BE100: =IF(BD100=""," ",IF(B100=""," ",BD100*B100/1000)) -> 0.31539809 | BG100: 0.041446108 | BH100: =IF(BG100=""," ",IF(B100=""," ",BG100*B100/1000)) -> 0.072655027 | BI100: < | BJ100: 0.06 | BK100: =IF(BJ100=""," ",IF(B100=""," ",BJ100*B100/1000)) -> 0.10518 | BM100: 0.85152101 | BN100: =IF(BM100=""," ",IF(B100=""," ",BM100*B100/1000)) -> 1.4927163 | BO100: OK | BP100: OK
A101: =A100+1 -> 42445 | B101: 1875 | C101: 18.08 | D101: 7.94 | E101: 1 | F101: 918 | G101: =IF(F101=0,0,(F101*E101)) -> 918 | H101: =IF(G101=0,0,IF(B101=0,0,(G101*B101/1000))) -> 1721.25 | I101: 1 | J101: 841 | K101: =IF(J101=0,0,(J101*I101)) -> 841 | L101: =IF(K101=0,0,IF(B101=0,0,K101*B101/1000)) -> 1576.875 | M101: 215 | N101: =IF(M101=0,0,IF(B101=0,0,M101*B101/1000)) -> 403.125 | O101: 90.4 | P101: 98.6 | Q101: 80 | R101: =IF(P101=0,0,(P101-O101)*1000/Q101) -> 102.5 | S101: =IF(R101=0,0,IF(B101=0,0,R101*B101/1000)) -> 192.1875 | T101: 1 | U101: 3.64 | V101: =IF(U101=0,0,(U101*T101)) -> 3.64 | W101: =IF(V101=0,0,IF(B101=0,0,V101*B101/1000)) -> 6.825 | Z101: =IF(Y101=0,0,IF(B101=0,0,Y101*B101/1000)) -> 0 | AA101: 37.6 | AB101: =IF(AA101=0,0,IF(B101=0,0,AA101*B101/1000)) -> 70.5 | AC101: 23.26 | AD101: =IF(AC101=0,0,IF(B101=0,0,AC101*B101/1000)) -> 43.6125 | AE101: 0.1 | AF101: =IF(AE101=0,0,IF(B101=0,0,AE101*B101/1000)) -> 0.1875 | AG101: 0.2 | AH101: =IF(AG101=0,0,IF(B101=0,0,AG101*B101/1000)) -> 0.375 | AI101: =IF(AA101=0,"",SUM(AA101,AE101,AG101)) -> 37.9 | AJ101: =IF(AI101=0,0,IF(B101=0,0,AI101*B101/1000)) -> 71.0625 | AL101: 0.57 | AM101: =IF(AL101=0,0,IF(B101=0,0,AL101*B101/1000)) -> 1.06875 | AO101: 0.73 | AP101: =IF(AO101=""," ",IF(B101=""," ",AO101*B101/1000)) -> 1.36875 | AQ101: < | AR101: 0.05 | AS101: =IF(AR101=""," ",IF(B101=""," ",AR101*B101/1000)) -> 0.09375 | AT101: < | AU101: 0.01 | AV101: =IF(AU101=""," ",IF(B101=""," ",AU101*B101/1000)) -> 0.01875 | AX101: 0.097248256 | AY101: =IF(AX101=""," ",IF(B101=""," ",AX101*B101/1000)) -> 0.18234048 | BA101: 1.8122785 | BB101: =IF(BA101=""," ",IF(B101=""," ",BA101*B101/1000)) -> 3.3980222 | BD101: 0.13741742 | BE101: =IF(BD101=""," ",IF(B101=""," ",BD101*B101/1000)) -> 0.25765766 | BF101: < | BG101: 0.04 | BH101: =IF(BG101=""," ",IF(B101=""," ",BG101*B101/1000)) -> 0.075 | BI101: < | BJ101: 0.06 | BK101: =IF(BJ101=""," ",IF(B101=""," ",BJ101*B101/1000)) -> 0.1125 | BM101: 0.56578463 | BN101: =IF(BM101=""," ",IF(B101=""," ",BM101*B101/1000)) -> 1.0608462 | BO101: OK | BP101: OK
A102: =A101+1 -> 42446 | B102: 1882 | C102: 18.15 | D102: 8.26 | E102: 1 | F102: 804 | G102: =IF(F102=0,0,(F102*E102)) -> 804 | H102: =IF(G102=0,0,IF(B102=0,0,(G102*B102/1000))) -> 1513.128 | I102: 1 | J102: 723 | K102: =IF(J102=0,0,(J102*I102)) -> 723 | L102: =IF(K102=0,0,IF(B102=0,0,K102*B102/1000)) -> 1360.686 | M102: 195 | N102: =IF(M102=0,0,IF(B102=0,0,M102*B102/1000)) -> 366.99 | O102: 89.3 | P102: 97.2 | Q102: 80 | R102: =IF(P102=0,0,(P102-O102)*1000/Q102) -> 98.75 | S102: =IF(R102=0,0,IF(B102=0,0,R102*B102/1000)) -> 185.8475 | T102: 1 | U102: 2.77 | V102: =IF(U102=0,0,(U102*T102)) -> 2.77 | W102: =IF(V102=0,0,IF(B102=0,0,V102*B102/1000)) -> 5.21314 | Z102: =IF(Y102=0,0,IF(B102=0,0,Y102*B102/1000)) -> 0 | AA102: 39.2 | AB102: =IF(AA102=0,0,IF(B102=0,0,AA102*B102/1000)) -> 73.7744 | AC102: 22.47 | AD102: =IF(AC102=0,0,IF(B102=0,0,AC102*B102/1000)) -> 42.28854 | AE102: 0.442 | AF102: =IF(AE102=0,0,IF(B102=0,0,AE102*B102/1000)) -> 0.831844 | AG102: 1.072 | AH102: =IF(AG102=0,0,IF(B102=0,0,AG102*B102/1000)) -> 2.017504 | AI102: =IF(AA102=0,"",SUM(AA102,AE102,AG102)) -> 40.714 | AJ102: =IF(AI102=0,0,IF(B102=0,0,AI102*B102/1000)) -> 76.623748 | AL102: 0.25 | AM102: =IF(AL102=0,0,IF(B102=0,0,AL102*B102/1000)) -> 0.4705 | AO102: 0.72 | AP102: =IF(AO102=""," ",IF(B102=""," ",AO102*B102/1000)) -> 1.35504 | AQ102: < | AR102: 0.05 | AS102: =IF(AR102=""," ",IF(B102=""," ",AR102*B102/1000)) -> 0.0941 | AT102: < | AU102: 0.01 | AV102: =IF(AU102=""," ",IF(B102=""," ",AU102*B102/1000)) -> 0.01882 | AX102: 0.048138179 | AY102: =IF(AX102=""," ",IF(B102=""," ",AX102*B102/1000)) -> 0.090596053 | BA102: 1.2056544 | BB102: =IF(BA102=""," ",IF(B102=""," ",BA102*B102/1000)) -> 2.2690415 | BD102: 0.088276602 | BE102: =IF(BD102=""," ",IF(B102=""," ",BD102*B102/1000)) -> 0.16613656 | BG102: 0.044213682 | BH102: =IF(BG102=""," ",IF(B102=""," ",BG102*B102/1000)) -> 0.08321015 | BI102: < | BJ102: 0.06 | BK102: =IF(BJ102=""," ",IF(B102=""," ",BJ102*B102/1000)) -> 0.11292 | BM102: 0.5407508 | BN102: =IF(BM102=""," ",IF(B102=""," ",BM102*B102/1000)) -> 1.017693 | BO102: OK | BP102: OK
A103: =A102+1 -> 42447 | B103: 1838 | C103: 17.43 | D103: 7.67 | E103: 1 | F103: 989 | G103: =IF(F103=0,0,(F103*E103)) -> 989 | H103: =IF(G103=0,0,IF(B103=0,0,(G103*B103/1000))) -> 1817.782 | I103: 1 | J103: 848 | K103: =IF(J103=0,0,(J103*I103)) -> 848 | L103: =IF(K103=0,0,IF(B103=0,0,K103*B103/1000)) -> 1558.624 | M103: 253 | N103: =IF(M103=0,0,IF(B103=0,0,M103*B103/1000)) -> 465.014 | O103: 91.6 | P103: 101.6 | Q103: 70 | R103: =IF(P103=0,0,(P103-O103)*1000/Q103) -> 142.85714 | S103: =IF(R103=0,0,IF(B103=0,0,R103*B103/1000)) -> 262.57143 | T103: 1 | U103: 3.83 | V103: =IF(U103=0,0,(U103*T103)) -> 3.83 | W103: =IF(V103=0,0,IF(B103=0,0,V103*B103/1000)) -> 7.03954 | Z103: =IF(Y103=0,0,IF(B103=0,0,Y103*B103/1000)) -> 0 | AA103: 33 | AB103: =IF(AA103=0,0,IF(B103=0,0,AA103*B103/1000)) -> 60.654 | AC103: 17 | AD103: =IF(AC103=0,0,IF(B103=0,0,AC103*B103/1000)) -> 31.246 | AE103: 0.1 | AF103: =IF(AE103=0,0,IF(B103=0,0,AE103*B103/1000)) -> 0.1838 | AG103: 0.2 | AH103: =IF(AG103=0,0,IF(B103=0,0,AG103*B103/1000)) -> 0.3676 | AI103: =IF(AA103=0,"",SUM(AA103,AE103,AG103)) -> 33.3 | AJ103: =IF(AI103=0,0,IF(B103=0,0,AI103*B103/1000)) -> 61.2054 | AL103: 1.79 | AM103: =IF(AL103=0,0,IF(B103=0,0,AL103*B103/1000)) -> 3.29002 | AO103: 0.83 | AP103: =IF(AO103=""," ",IF(B103=""," ",AO103*B103/1000)) -> 1.52554 | AQ103: < | AR103: 0.05 | AS103: =IF(AR103=""," ",IF(B103=""," ",AR103*B103/1000)) -> 0.0919 | AT103: < | AU103: 0.01 | AV103: =IF(AU103=""," ",IF(B103=""," ",AU103*B103/1000)) -> 0.01838 | AX103: 0.055149946 | AY103: =IF(AX103=""," ",IF(B103=""," ",AX103*B103/1000)) -> 0.1013656 | BA103: 2.0433741 | BB103: =IF(BA103=""," ",IF(B103=""," ",BA103*B103/1000)) -> 3.7557215 | BD103: 0.1085799 | BE103: =IF(BD103=""," ",IF(B103=""," ",BD103*B103/1000)) -> 0.19956986 | BF103: < | BG103: 0.04 | BH103: =IF(BG103=""," ",IF(B103=""," ",BG103*B103/1000)) -> 0.07352 | BI103: < | BJ103: 0.06 | BK103: =IF(BJ103=""," ",IF(B103=""," ",BJ103*B103/1000)) -> 0.11028 | BM103: 0.63353401 | BN103: =IF(BM103=""," ",IF(B103=""," ",BM103*B103/1000)) -> 1.1644355 | BO103: OK | BP103: OK | BQ103: échantillon noir
A104: =A103+1 -> 42448 | B104: 1289 | C104: 17.5 | D104: 7.66 | E104: 1 | F104: 678 | G104: =IF(F104=0,0,(F104*E104)) -> 678 | H104: =IF(G104=0,0,IF(B104=0,0,(G104*B104/1000))) -> 873.942 | I104: 1 | J104: 678 | K104: =IF(J104=0,0,(J104*I104)) -> 678 | L104: =IF(K104=0,0,IF(B104=0,0,K104*B104/1000)) -> 873.942 | M104: 165 | N104: =IF(M104=0,0,IF(B104=0,0,M104*B104/1000)) -> 212.685 | O104: 90.2 | P104: 98.7 | Q104: 80 | R104: =IF(P104=0,0,(P104-O104)*1000/Q104) -> 106.25 | S104: =IF(R104=0,0,IF(B104=0,0,R104*B104/1000)) -> 136.95625 | T104: 1 | U104: 2.13 | V104: =IF(U104=0,0,(U104*T104)) -> 2.13 | W104: =IF(V104=0,0,IF(B104=0,0,V104*B104/1000)) -> 2.74557 | Z104: =IF(Y104=0,0,IF(B104=0,0,Y104*B104/1000)) -> 0 | AA104: 18 | AB104: =IF(AA104=0,0,IF(B104=0,0,AA104*B104/1000)) -> 23.202 | AC104: 6.6 | AD104: =IF(AC104=0,0,IF(B104=0,0,AC104*B104/1000)) -> 8.5074 | AE104: 1.055 | AF104: =IF(AE104=0,0,IF(B104=0,0,AE104*B104/1000)) -> 1.359895 | AG104: 0.399 | AH104: =IF(AG104=0,0,IF(B104=0,0,AG104*B104/1000)) -> 0.514311 | AI104: =IF(AA104=0,"",SUM(AA104,AE104,AG104)) -> 19.454 | AJ104: =IF(AI104=0,0,IF(B104=0,0,AI104*B104/1000)) -> 25.076206 | AL104: 1.16 | AM104: =IF(AL104=0,0,IF(B104=0,0,AL104*B104/1000)) -> 1.49524 | AO104: 0.53 | AP104: =IF(AO104=""," ",IF(B104=""," ",AO104*B104/1000)) -> 0.68317 | AQ104: < | AR104: 0.05 | AS104: =IF(AR104=""," ",IF(B104=""," ",AR104*B104/1000)) -> 0.06445 | AT104: < | AU104: 0.01 | AV104: =IF(AU104=""," ",IF(B104=""," ",AU104*B104/1000)) -> 0.01289 | AX104: 0.061881598 | AY104: =IF(AX104=""," ",IF(B104=""," ",AX104*B104/1000)) -> 0.07976538 | BA104: 0.9004373 | BB104: =IF(BA104=""," ",IF(B104=""," ",BA104*B104/1000)) -> 1.1606637 | BD104: 0.070306189 | BE104: =IF(BD104=""," ",IF(B104=""," ",BD104*B104/1000)) -> 0.090624678 | BF104: < | BG104: 0.04 | BH104: =IF(BG104=""," ",IF(B104=""," ",BG104*B104/1000)) -> 0.05156 | BI104: < | BJ104: 0.06 | BK104: =IF(BJ104=""," ",IF(B104=""," ",BJ104*B104/1000)) -> 0.07734 | BM104: 0.68876064 | BN104: =IF(BM104=""," ",IF(B104=""," ",BM104*B104/1000)) -> 0.88781246 | BO104: OK | BP104: OK
A105: =A104+1 -> 42449 | B105: 1232 | C105: 17.18 | D105: 8.18 | E105: 1 | F105: 419 | G105: =IF(F105=0,0,(F105*E105)) -> 419 | H105: =IF(G105=0,0,IF(B105=0,0,(G105*B105/1000))) -> 516.208 | I105: 1 | J105: 364 | K105: =IF(J105=0,0,(J105*I105)) -> 364 | L105: =IF(K105=0,0,IF(B105=0,0,K105*B105/1000)) -> 448.448 | M105: 100 | N105: =IF(M105=0,0,IF(B105=0,0,M105*B105/1000)) -> 123.2 | O105: 91.3 | P105: 98.6 | Q105: 100 | R105: =IF(P105=0,0,(P105-O105)*1000/Q105) -> 73 | S105: =IF(R105=0,0,IF(B105=0,0,R105*B105/1000)) -> 89.936 | T105: 1 | U105: 1.02 | V105: =IF(U105=0,0,(U105*T105)) -> 1.02 | W105: =IF(V105=0,0,IF(B105=0,0,V105*B105/1000)) -> 1.25664 | Z105: =IF(Y105=0,0,IF(B105=0,0,Y105*B105/1000)) -> 0 | AA105: 15.2 | AB105: =IF(AA105=0,0,IF(B105=0,0,AA105*B105/1000)) -> 18.7264 | AC105: 3.9 | AD105: =IF(AC105=0,0,IF(B105=0,0,AC105*B105/1000)) -> 4.8048 | AE105: 0.1 | AF105: =IF(AE105=0,0,IF(B105=0,0,AE105*B105/1000)) -> 0.1232 | AG105: 0.201 | AH105: =IF(AG105=0,0,IF(B105=0,0,AG105*B105/1000)) -> 0.247632 | AI105: =IF(AA105=0,"",SUM(AA105,AE105,AG105)) -> 15.501 | AJ105: =IF(AI105=0,0,IF(B105=0,0,AI105*B105/1000)) -> 19.097232 | AL105: 0.15 | AM105: =IF(AL105=0,0,IF(B105=0,0,AL105*B105/1000)) -> 0.1848 | AO105: 0.56 | AP105: =IF(AO105=""," ",IF(B105=""," ",AO105*B105/1000)) -> 0.68992 | AQ105: < | AR105: 0.05 | AS105: =IF(AR105=""," ",IF(B105=""," ",AR105*B105/1000)) -> 0.0616 | AT105: < | AU105: 0.01 | AV105: =IF(AU105=""," ",IF(B105=""," ",AU105*B105/1000)) -> 0.01232 | AX105: 0.044884659 | AY105: =IF(AX105=""," ",IF(B105=""," ",AX105*B105/1000)) -> 0.0552979 | BA105: 0.67904276 | BB105: =IF(BA105=""," ",IF(B105=""," ",BA105*B105/1000)) -> 0.83658068 | BD105: 0.11809096 | BE105: =IF(BD105=""," ",IF(B105=""," ",BD105*B105/1000)) -> 0.14548806 | BF105: < | BG105: 0.04 | BH105: =IF(BG105=""," ",IF(B105=""," ",BG105*B105/1000)) -> 0.04928 | BI105: < | BJ105: 0.06 | BK105: =IF(BJ105=""," ",IF(B105=""," ",BJ105*B105/1000)) -> 0.07392 | BM105: 0.57585937 | BN105: =IF(BM105=""," ",IF(B105=""," ",BM105*B105/1000)) -> 0.70945874 | BO105: OK | BP105: OK
...

Sheet KPI
AG1: http://www.excel-downloads.com/forum/244013-liens-rapides.html
B2: KPI
B4: Année: | C4: 2016
D6: SIVOM | J6: Station Dégrémont Entrée | P6: Station Dégrémont Sortie | V6: Station UF Entrée | AB6: Station UF Sortie | AH6: Station des Huiles
D7: nbres de valeurs | E7: Somme des résultats | F7: Moyenne des résultats | G7: Valeur mini | H7: Valeur maxi | I7: Valeur >au seuil | J7: nbres de valeurs | K7: Somme des résultats | L7: Moyenne des résultats | M7: Valeur mini | N7: Valeur maxi | O7: Valeur >au seuil | P7: nbres de valeurs | Q7: Somme des résultats | R7: Moyenne des résultats | S7: Valeur mini | T7: Valeur maxi | U7: Valeur >au seuil | V7: nbres de valeurs | W7: Somme des résultats | X7: Moyenne des résultats | Y7: Valeur mini | Z7: Valeur maxi | AA7: Valeur >au seuil | AB7: nbres de valeurs | AC7: Somme des résultats | AD7: Moyenne des résultats | AE7: Valeur mini | AF7: Valeur maxi | AG7: Valeur >au seuil | AH7: nbres de valeurs | AI7: Somme des résultats | AJ7: Moyenne des résultats | AK7: Valeur mini | AL7: Valeur maxi | AM7: Valeur >au seuil | AN7: Total Paramètres sur les différentes stations
A8: 1 | B8: =DATE($C$4,A8,1) -> 42370 | C8: Débit | D8: =SUMPRODUCT((MONTH(DatesS)=$A8)*(OFFSET(DatesS,,INDEX(ColS,MATCH($C8,Param,0)))<>0)) -> 31 | E8: =SUMPRODUCT((MONTH(DatesS)=$A8)*(OFFSET(DatesS,,INDEX(ColS,MATCH($C8,Param,0))))) -> 51776 | F8: =IF(D8=0,0,E8/D8) -> 1670.1935 | G8: {=MIN(IF((MONTH(DatesS)=$A8)*(OFFSET(DatesS,,INDEX(ColS,MATCH($C8,Param,0))))>0,OFFSET(DatesS,,INDEX(ColS,MATCH($C8,Param,0)))))} -> 317 | H8: {=MAX(IF((MONTH(DatesS)=$A8)*(OFFSET(DatesS,,INDEX(ColS,MATCH($C8,Param,0))))>0,OFFSET(DatesS,,INDEX(ColS,MATCH($C8,Param,0)))))} -> 2479 | I8: =SUMPRODUCT((MONTH(DatesS)=$A8)*(OFFSET(DatesS,,INDEX(ColS,MATCH($C8,Param,0)))>=INDEX(SeuilS,MATCH($C8,Param,0)))) -> 0 | J8: =SUMPRODUCT((MONTH(DatesD)=$A8)*(OFFSET(DatesD,,INDEX(ColD1,MATCH($C8,Param,0)))<>0)) -> #REF! | K8: =SUMPRODUCT((MONTH(DatesD)=$A8)*(OFFSET(DatesD,,INDEX(ColD1,MATCH($C8,Param,0))))) -> #REF! | L8: =IF(J8=0,0,K8/J8) -> #REF! | M8: {=MIN(IF((MONTH(DatesD)=$A8)*(OFFSET(DatesD,,INDEX(ColD1,MATCH($C8,Param,0))))>0,OFFSET(DatesD,,INDEX(ColD1,MATCH($C8,Param,0)))))} -> #REF! | N8: {=MAX(IF((MONTH(DatesD)=$A8)*(OFFSET(DatesD,,INDEX(ColD1,MATCH($C8,Param,0))))>0,OFFSET(DatesD,,INDEX(ColD1,MATCH($C8,Param,0)))))} -> #REF! | O8: =SUMPRODUCT((MONTH(DatesD)=$A8)*(OFFSET(DatesD,,INDEX(ColD1,MATCH($C8,Param,0)))>=INDEX(SeuilD1,MATCH($C8,Param,0)))) -> #REF! | P8: =SUMPRODUCT((MONTH(DatesD)=$A8)*(OFFSET(DatesD,,INDEX(ColD2,MATCH($C8,Param,0)))<>0)) -> #REF! | Q8: =SUMPRODUCT((MONTH(DatesD)=$A8)*(OFFSET(DatesD,,INDEX(ColD2,MATCH($C8,Param,0))))) -> #REF! | R8: =IF(P8=0,0,Q8/P8) -> #REF! | S8: {=MIN(IF((MONTH(DatesD)=$A8)*(OFFSET(DatesD,,INDEX(ColD2,MATCH($C8,Param,0))))>0,OFFSET(DatesD,,INDEX(ColD2,MATCH($C8,Param,0)))))} -> #REF! | T8: {=MAX(IF((MONTH(DatesD)=$A8)*(OFFSET(DatesD,,INDEX(ColD2,MATCH($C8,Param,0))))>0,OFFSET(DatesD,,INDEX(ColD2,MATCH($C8,Param,0)))))} -> #REF! | U8: =SUMPRODUCT((MONTH(DatesD)=$A8)*(OFFSET(DatesD,,INDEX(ColD2,MATCH($C8,Param,0)))>=INDEX(SeuilD2,MATCH($C8,Param,0)))) -> #REF! | V8: =SUMPRODUCT((MONTH(DatesUF)=$A8)*(OFFSET(DatesUF,,INDEX(ColUF1,MATCH($C8,Param,0)))<>0)) -> #REF! | W8: =SUMPRODUCT((MONTH(DatesUF)=$A8)*(OFFSET(DatesUF,,INDEX(ColUF1,MATCH($C8,Param,0))))) -> #REF! | X8: =IF(V8=0,0,W8/V8) -> #REF! | Y8: {=MIN(IF((MONTH(DatesUF)=$A8)*(OFFSET(DatesUF,,INDEX(ColUF1,MATCH($C8,Param,0))))>0,OFFSET(DatesUF,,INDEX(ColUF1,MATCH($C8,Param,0)))))} -> #REF! | Z8: {=MAX(IF((MONTH(DatesUF)=$A8)*(OFFSET(DatesUF,,INDEX(ColUF1,MATCH($C8,Param,0))))>0,OFFSET(DatesUF,,INDEX(ColUF1,MATCH($C8,Param,0)))))} -> #REF! | AA8: =SUMPRODUCT((MONTH(DatesUF)=$A8)*(OFFSET(DatesUF,,INDEX(ColUF1,MATCH($C8,Param,0)))>=INDEX(SeuilUF1,MATCH($C8,Param,0)))) -> #REF! | AB8: =SUMPRODUCT((MONTH(DatesUF)=$A8)*(OFFSET(DatesUF,,INDEX(ColUF2,MATCH($C8,Param,0)))<>0)) -> #REF! | AC8: =SUMPRODUCT((MONTH(DatesUF)=$A8)*(OFFSET(DatesUF,,INDEX(ColUF2,MATCH($C8,Param,0))))) -> #REF! | AD8: =IF(AB8=0,0,AC8/AB8) -> #REF! | AE8: {=MIN(IF((MONTH(DatesUF)=$A8)*(OFFSET(DatesUF,,INDEX(ColUF2,MATCH($C8,Param,0))))>0,OFFSET(DatesUF,,INDEX(ColUF2,MATCH($C8,Param,0)))))} -> #REF! | AF8: {=MAX(IF((MONTH(DatesUF)=$A8)*(OFFSET(DatesUF,,INDEX(ColUF2,MATCH($C8,Param,0))))>0,OFFSET(DatesUF,,INDEX(ColUF2,MATCH($C8,Param,0)))))} -> #REF! | AG8: =SUMPRODUCT((MONTH(DatesUF)=$A8)*(OFFSET(DatesUF,,INDEX(ColUF2,MATCH($C8,Param,0)))>=INDEX(SeuilUF2,MATCH($C8,Param,0)))) -> #REF! | AH8: =SUMPRODUCT((MONTH(DatesSH)=$A8)*(OFFSET(DatesSH,,INDEX(ColSH,MATCH($C8,Param,0)))<>0)) -> #REF! | AI8: =SUMPRODUCT((MONTH(DatesSH)=$A8)*(OFFSET(DatesSH,,INDEX(ColSH,MATCH($C8,Param,0))))) -> #REF! | AK8: {=MIN(IF((MONTH(DatesSH)=$A8)*(OFFSET(DatesSH,,INDEX(ColSH,MATCH($C8,Param,0))))>0,OFFSET(DatesSH,,INDEX(ColSH,MATCH($C8,Param,0)))))} -> #REF! | AL8: {=MAX(IF((MONTH(DatesSH)=$A8)*(OFFSET(DatesSH,,INDEX(ColSH,MATCH($C8,Param,0))))>0,OFFSET(DatesSH,,INDEX(ColSH,MATCH($C8,Param,0)))))} -> #REF! | AM8: =SUMPRODUCT((MONTH(DatesSH)=$A8)*(OFFSET(DatesSH,,INDEX(ColSH,MATCH($C8,Param,0)))>=INDEX(SeuilSH,MATCH($C8,Param,0)))) -> #REF! | AN8: =SUM(D8+J8+P8+V8+AB8+AH8) -> #REF!
A9: =A8 -> 1 | C9: pH | D9: =SUMPRODUCT((MONTH(DatesS)=$A9)*(OFFSET(DatesS,,INDEX(ColS,MATCH($C9,Param,0)))<>0)) -> 30 | E9: =SUMPRODUCT((MONTH(DatesS)=$A9)*(OFFSET(DatesS,,INDEX(ColS,MATCH($C9,Param,0))))) -> 233.83 | F9: =IF(D9=0,0,E9/D9) -> 7.7943333 | G9: {=MIN(IF((MONTH(DatesS)=$A9)*(OFFSET(DatesS,,INDEX(ColS,MATCH($C9,Param,0))))>0,OFFSET(DatesS,,INDEX(ColS,MATCH($C9,Param,0)))))} -> 7.36 | H9: {=MAX(IF((MONTH(DatesS)=$A9)*(OFFSET(DatesS,,INDEX(ColS,MATCH($C9,Param,0))))>0,OFFSET(DatesS,,INDEX(ColS,MATCH($C9,Param,0)))))} -> 8.3 | I9: =SUMPRODUCT((MONTH(DatesS)=$A9)*(OFFSET(DatesS,,INDEX(ColS,MATCH($C9,Param,0)))>=INDEX(SeuilS,MATCH($C9,Param,0)))) -> 0 | J9: =SUMPRODUCT((MONTH(DatesD)=$A9)*(OFFSET(DatesD,,INDEX(ColD1,MATCH($C9,Param,0)))<>0)) -> #REF! | K9: =SUMPRODUCT((MONTH(DatesD)=$A9)*(OFFSET(DatesD,,INDEX(ColD1,MATCH($C9,Param,0))))) -> #REF! | L9: =IF(J9=0,0,K9/J9) -> #REF! | M9: {=MIN(IF((MONTH(DatesD)=$A9)*(OFFSET(DatesD,,INDEX(ColD1,MATCH($C9,Param,0))))>0,OFFSET(DatesD,,INDEX(ColD1,MATCH($C9,Param,0)))))} -> #REF! | N9: {=MAX(IF((MONTH(DatesD)=$A9)*(OFFSET(DatesD,,INDEX(ColD1,MATCH($C9,Param,0))))>0,OFFSET(DatesD,,INDEX(ColD1,MATCH($C9,Param,0)))))} -> #REF! | O9: =SUMPRODUCT((MONTH(DatesD)=$A9)*(OFFSET(DatesD,,INDEX(ColD1,MATCH($C9,Param,0)))>=INDEX(SeuilD1,MATCH($C9,Param,0)))) -> #REF! | AN9: =SUM(D9+J9+P9+V9+AB9+AH9) -> #REF!
A10: =A9 -> 1 | C10: DCO | D10: =SUMPRODUCT((MONTH(DatesS)=$A10)*(OFFSET(DatesS,,INDEX(ColS,MATCH($C10,Param,0)))<>0)) -> 31 | E10: =SUMPRODUCT((MONTH(DatesS)=$A10)*(OFFSET(DatesS,,INDEX(ColS,MATCH($C10,Param,0))))) -> 31 | F10: =IF(D10=0,0,E10/D10) -> 1 | G10: {=MIN(IF((MONTH(DatesS)=$A10)*(OFFSET(DatesS,,INDEX(ColS,MATCH($C10,Param,0))))>0,OFFSET(DatesS,,INDEX(ColS,MATCH($C10,Param,0)))))} -> 1 | H10: {=MAX(IF((MONTH(DatesS)=$A10)*(OFFSET(DatesS,,INDEX(ColS,MATCH($C10,Param,0))))>0,OFFSET(DatesS,,INDEX(ColS,MATCH($C10,Param,0)))))} -> 1 | I10: =SUMPRODUCT((MONTH(DatesS)=$A10)*(OFFSET(DatesS,,INDEX(ColS,MATCH($C10,Param,0)))>=INDEX(SeuilS,MATCH($C10,Param,0)))) -> 0 | J10: =SUMPRODUCT((MONTH(DatesD)=$A10)*(OFFSET(DatesD,,INDEX(ColD1,MATCH($C10,Param,0)))<>0)) -> #REF! | K10: =SUMPRODUCT((MONTH(DatesD)=$A10)*(OFFSET(DatesD,,INDEX(ColD1,MATCH($C10,Param,0))))) -> #REF! | L10: =IF(J10=0,0,K10/J10) -> #REF! | M10: {=MIN(IF((MONTH(DatesD)=$A10)*(OFFSET(DatesD,,INDEX(ColD1,MATCH($C10,Param,0))))>0,OFFSET(DatesD,,INDEX(ColD1,MATCH($C10,Param,0)))))} -> #REF! | N10: {=MAX(IF((MONTH(DatesD)=$A10)*(OFFSET(DatesD,,INDEX(ColD1,MATCH($C10,Param,0))))>0,OFFSET(DatesD,,INDEX(ColD1,MATCH($C10,Param,0)))))} -> #REF! | O10: =SUMPRODUCT((MONTH(DatesD)=$A10)*(OFFSET(DatesD,,INDEX(ColD1,MATCH($C10,Param,0)))>=INDEX(SeuilD1,MATCH($C10,Param,0)))) -> #REF! | AB10: 0 | AD10: =IF(AB10=0,0,SUMPRODUCT((MONTH(DatesUF)=$A10)*(OFFSET(DatesUF,,INDEX(ColD1,MATCH(U10,Param,0)))))/SUMPRODUCT((MONTH(DatesUF)=$A10)*(OFFSET(DatesUF,,INDEX(ColD1,MATCH(U10,Param,0)))<>0))) -> 0 | AH10: =SUMPRODUCT((MONTH(DatesSH)=$A10)*(OFFSET(DatesSH,,INDEX(ColSH,MATCH($C10,Param,0)))<>0)) -> #REF! | AI10: =SUMPRODUCT((MONTH(DatesSH)=$A10)*(OFFSET(DatesSH,,INDEX(ColSH,MATCH($C10,Param,0))))) -> #REF! | AJ10: =IF(AH10=0,0,AI10/AH10) -> #REF! | AK10: {=MIN(IF((MONTH(DatesSH)=$A10)*(OFFSET(DatesSH,,INDEX(ColSH,MATCH($C10,Param,0))))>0,OFFSET(DatesSH,,INDEX(ColSH,MATCH($C10,Param,0)))))} -> #REF! | AL10: {=MAX(IF((MONTH(DatesSH)=$A10)*(OFFSET(DatesSH,,INDEX(ColSH,MATCH($C10,Param,0))))>0,OFFSET(DatesSH,,INDEX(ColSH,MATCH($C10,Param,0)))))} -> #REF! | AM10: =SUMPRODUCT((MONTH(DatesSH)=$A10)*(OFFSET(DatesSH,,INDEX(ColSH,MATCH($C10,Param,0)))>=INDEX(SeuilSH,MATCH($C10,Param,0)))) -> #REF! | AN10: =SUM(D10+J10+P10+V10+AB10+AH10) -> #REF!
A11: =A10 -> 1 | C11: DCO à D2 | D11: =SUMPRODUCT((MONTH(DatesS)=$A11)*(OFFSET(DatesS,,INDEX(ColS,MATCH($C11,Param,0)))<>0)) -> 31 | E11: =SUMPRODUCT((MONTH(DatesS)=$A11)*(OFFSET(DatesS,,INDEX(ColS,MATCH($C11,Param,0))))) -> 31 | F11: =IF(D11=0,0,E11/D11) -> 1 | G11: {=MIN(IF((MONTH(DatesS)=$A11)*(OFFSET(DatesS,,INDEX(ColS,MATCH($C11,Param,0))))>0,OFFSET(DatesS,,INDEX(ColS,MATCH($C11,Param,0)))))} -> 1 | H11: {=MAX(IF((MONTH(DatesS)=$A11)*(OFFSET(DatesS,,INDEX(ColS,MATCH($C11,Param,0))))>0,OFFSET(DatesS,,INDEX(ColS,MATCH($C11,Param,0)))))} -> 1 | I11: =SUMPRODUCT((MONTH(DatesS)=$A11)*(OFFSET(DatesS,,INDEX(ColS,MATCH($C11,Param,0)))>=INDEX(SeuilS,MATCH($C11,Param,0)))) -> 0 | J11: =SUMPRODUCT((MONTH(DatesD)=$A11)*(OFFSET(DatesD,,INDEX(ColD1,MATCH($C11,Param,0)))<>0)) -> #REF! | K11: =SUMPRODUCT((MONTH(DatesD)=$A11)*(OFFSET(DatesD,,INDEX(ColD1,MATCH($C11,Param,0))))) -> #REF! | L11: =IF(J11=0,0,K11/J11) -> #REF! | M11: {=MIN(IF((MONTH(DatesD)=$A11)*(OFFSET(DatesD,,INDEX(ColD1,MATCH($C11,Param,0))))>0,OFFSET(DatesD,,INDEX(ColD1,MATCH($C11,Param,0)))))} -> #REF! | N11: {=MAX(IF((MONTH(DatesD)=$A11)*(OFFSET(DatesD,,INDEX(ColD1,MATCH($C11,Param,0))))>0,OFFSET(DatesD,,INDEX(ColD1,MATCH($C11,Param,0)))))} -> #REF! | O11: =SUMPRODUCT((MONTH(DatesD)=$A11)*(OFFSET(DatesD,,INDEX(ColD1,MATCH($C11,Param,0)))>=INDEX(SeuilD1,MATCH($C11,Param,0)))) -> #REF! | AN11: =SUM(D11+J11+P11+V11+AB11+AH11) -> #REF!
A12: =A11 -> 1 | C12: MES | D12: =SUMPRODUCT((MONTH(DatesS)=$A12)*(OFFSET(DatesS,,INDEX(ColS,MATCH($C12,Param,0)))<>0)) -> 30 | E12: =SUMPRODUCT((MONTH(DatesS)=$A12)*(OFFSET(DatesS,,INDEX(ColS,MATCH($C12,Param,0))))) -> 2709.6 | F12: =IF(D12=0,0,E12/D12) -> 90.32 | G12: {=MIN(IF((MONTH(DatesS)=$A12)*(OFFSET(DatesS,,INDEX(ColS,MATCH($C12,Param,0))))>0,OFFSET(DatesS,,INDEX(ColS,MATCH($C12,Param,0)))))} -> 85.8 | H12: {=MAX(IF((MONTH(DatesS)=$A12)*(OFFSET(DatesS,,INDEX(ColS,MATCH($C12,Param,0))))>0,OFFSET(DatesS,,INDEX(ColS,MATCH($C12,Param,0)))))} -> 93.7 | I12: =SUMPRODUCT((MONTH(DatesS)=$A12)*(OFFSET(DatesS,,INDEX(ColS,MATCH($C12,Param,0)))>=INDEX(SeuilS,MATCH($C12,Param,0)))) -> 0 | J12: =SUMPRODUCT((MONTH(DatesD)=$A12)*(OFFSET(DatesD,,INDEX(ColD1,MATCH($C12,Param,0)))<>0)) -> #REF! | K12: =SUMPRODUCT((MONTH(DatesD)=$A12)*(OFFSET(DatesD,,INDEX(ColD1,MATCH($C12,Param,0))))) -> #REF! | L12: =IF(J12=0,0,K12/J12) -> #REF! | M12: {=MIN(IF((MONTH(DatesD)=$A12)*(OFFSET(DatesD,,INDEX(ColD1,MATCH($C12,Param,0))))>0,OFFSET(DatesD,,INDEX(ColD1,MATCH($C12,Param,0)))))} -> #REF! | N12: {=MAX(IF((MONTH(DatesD)=$A12)*(OFFSET(DatesD,,INDEX(ColD1,MATCH($C12,Param,0))))>0,OFFSET(DatesD,,INDEX(ColD1,MATCH($C12,Param,0)))))} -> #REF! | O12: =SUMPRODUCT((MONTH(DatesD)=$A12)*(OFFSET(DatesD,,INDEX(ColD1,MATCH($C12,Param,0)))>=INDEX(SeuilD1,MATCH($C12,Param,0)))) -> #REF! | AH12: =SUMPRODUCT((MONTH(DatesSH)=$A12)*(OFFSET(DatesSH,,INDEX(ColSH,MATCH($C12,Param,0)))<>0)) -> #REF! | AI12: =SUMPRODUCT((MONTH(DatesSH)=$A12)*(OFFSET(DatesSH,,INDEX(ColSH,MATCH($C12,Param,0))))) -> #REF! | AJ12: =IF(AH12=0,0,AI12/AH12) -> #REF! | AK12: {=MIN(IF((MONTH(DatesSH)=$A12)*(OFFSET(DatesSH,,INDEX(ColSH,MATCH($C12,Param,0))))>0,OFFSET(DatesSH,,INDEX(ColSH,MATCH($C12,Param,0)))))} -> #REF! | AL12: {=MAX(IF((MONTH(DatesSH)=$A12)*(OFFSET(DatesSH,,INDEX(ColSH,MATCH($C12,Param,0))))>0,OFFSET(DatesSH,,INDEX(ColSH,MATCH($C12,Param,0)))))} -> #REF! | AM12: =SUMPRODUCT((MONTH(DatesSH)=$A12)*(OFFSET(DatesSH,,INDEX(ColSH,MATCH($C12,Param,0)))>=INDEX(SeuilSH,MATCH($C12,Param,0)))) -> #REF! | AN12: =SUM(D12+J12+P12+V12+AB12+AH12) -> #REF!
A13: =A12 -> 1 | C13: Ptotal | D13: =SUMPRODUCT((MONTH(DatesS)=$A13)*(OFFSET(DatesS,,INDEX(ColS,MATCH($C13,Param,0)))<>0)) -> 31 | E13: =SUMPRODUCT((MONTH(DatesS)=$A13)*(OFFSET(DatesS,,INDEX(ColS,MATCH($C13,Param,0))))) -> 34 | F13: =IF(D13=0,0,E13/D13) -> 1.0967742 | G13: {=MIN(IF((MONTH(DatesS)=$A13)*(OFFSET(DatesS,,INDEX(ColS,MATCH($C13,Param,0))))>0,OFFSET(DatesS,,INDEX(ColS,MATCH($C13,Param,0)))))} -> 1 | H13: {=MAX(IF((MONTH(DatesS)=$A13)*(OFFSET(DatesS,,INDEX(ColS,MATCH($C13,Param,0))))>0,OFFSET(DatesS,,INDEX(ColS,MATCH($C13,Param,0)))))} -> 2 | I13: =SUMPRODUCT((MONTH(DatesS)=$A13)*(OFFSET(DatesS,,INDEX(ColS,MATCH($C13,Param,0)))>=INDEX(SeuilS,MATCH($C13,Param,0)))) -> 0 | J13: =SUMPRODUCT((MONTH(DatesD)=$A13)*(OFFSET(DatesD,,INDEX(ColD1,MATCH($C13,Param,0)))<>0)) -> #REF! | K13: =SUMPRODUCT((MONTH(DatesD)=$A13)*(OFFSET(DatesD,,INDEX(ColD1,MATCH($C13,Param,0))))) -> #REF! | L13: =IF(J13=0,0,K13/J13) -> #REF! | M13: {=MIN(IF((MONTH(DatesD)=$A13)*(OFFSET(DatesD,,INDEX(ColD1,MATCH($C13,Param,0))))>0,OFFSET(DatesD,,INDEX(ColD1,MATCH($C13,Param,0)))))} -> #REF! | N13: {=MAX(IF((MONTH(DatesD)=$A13)*(OFFSET(DatesD,,INDEX(ColD1,MATCH($C13,Param,0))))>0,OFFSET(DatesD,,INDEX(ColD1,MATCH($C13,Param,0)))))} -> #REF! | O13: =SUMPRODUCT((MONTH(DatesD)=$A13)*(OFFSET(DatesD,,INDEX(ColD1,MATCH($C13,Param,0)))>=INDEX(SeuilD1,MATCH($C13,Param,0)))) -> #REF! | AN13: =SUM(D13+J13+P13+V13+AB13+AH13) -> #REF!
A14: =A13 -> 1 | C14: NTK | D14: =SUMPRODUCT((MONTH(DatesS)=$A14)*(OFFSET(DatesS,,INDEX(ColS,MATCH($C14,Param,0)))<>0)) -> 31 | E14: =SUMPRODUCT((MONTH(DatesS)=$A14)*(OFFSET(DatesS,,INDEX(ColS,MATCH($C14,Param,0))))) -> 828.62 | F14: =IF(D14=0,0,E14/D14) -> 26.729677 | G14: {=MIN(IF((MONTH(DatesS)=$A14)*(OFFSET(DatesS,,INDEX(ColS,MATCH($C14,Param,0))))>0,OFFSET(DatesS,,INDEX(ColS,MATCH($C14,Param,0)))))} -> 5.8 | H14: {=MAX(IF((MONTH(DatesS)=$A14)*(OFFSET(DatesS,,INDEX(ColS,MATCH($C14,Param,0))))>0,OFFSET(DatesS,,INDEX(ColS,MATCH($C14,Param,0)))))} -> 52.8 | I14: =SUMPRODUCT((MONTH(DatesS)=$A14)*(OFFSET(DatesS,,INDEX(ColS,MATCH($C14,Param,0)))>=INDEX(SeuilS,MATCH($C14,Param,0)))) -> 0 | J14: =SUMPRODUCT((MONTH(DatesD)=$A14)*(OFFSET(DatesD,,INDEX(ColD1,MATCH($C14,Param,0)))<>0)) -> #REF! | K14: =SUMPRODUCT((MONTH(DatesD)=$A14)*(OFFSET(DatesD,,INDEX(ColD1,MATCH($C14,Param,0))))) -> #REF! | L14: =IF(J14=0,0,K14/J14) -> #REF! | M14: {=MIN(IF((MONTH(DatesD)=$A14)*(OFFSET(DatesD,,INDEX(ColD1,MATCH($C14,Param,0))))>0,OFFSET(DatesD,,INDEX(ColD1,MATCH($C14,Param,0)))))} -> #REF! | N14: {=MAX(IF((MONTH(DatesD)=$A14)*(OFFSET(DatesD,,INDEX(ColD1,MATCH($C14,Param,0))))>0,OFFSET(DatesD,,INDEX(ColD1,MATCH($C14,Param,0)))))} -> #REF! | O14: =SUMPRODUCT((MONTH(DatesD)=$A14)*(OFFSET(DatesD,,INDEX(ColD1,MATCH($C14,Param,0)))>=INDEX(SeuilD1,MATCH($C14,Param,0)))) -> #REF! | AN14: =SUM(D14+J14+P14+V14+AB14+AH14) -> #REF!
A15: =A14 -> 1 | C15: NH4 | D15: =SUMPRODUCT((MONTH(DatesS)=$A15)*(OFFSET(DatesS,,INDEX(ColS,MATCH($C15,Param,0)))<>0)) -> 31 | E15: =SUMPRODUCT((MONTH(DatesS)=$A15)*(OFFSET(DatesS,,INDEX(ColS,MATCH($C15,Param,0))))) -> 344.88 | F15: =IF(D15=0,0,E15/D15) -> 11.125161 | G15: {=MIN(IF((MONTH(DatesS)=$A15)*(OFFSET(DatesS,,INDEX(ColS,MATCH($C15,Param,0))))>0,OFFSET(DatesS,,INDEX(ColS,MATCH($C15,Param,0)))))} -> 1.53 | H15: {=MAX(IF((MONTH(DatesS)=$A15)*(OFFSET(DatesS,,INDEX(ColS,MATCH($C15,Param,0))))>0,OFFSET(DatesS,,INDEX(ColS,MATCH($C15,Param,0)))))} -> 24.34 | I15: =SUMPRODUCT((MONTH(DatesS)=$A15)*(OFFSET(DatesS,,INDEX(ColS,MATCH($C15,Param,0)))>=INDEX(SeuilS,MATCH($C15,Param,0)))) -> 0 | AN15: =SUM(D15+J15+P15+V15+AB15+AH15) -> 31
A16: =A15 -> 1 | C16: NO2 | D16: =SUMPRODUCT((MONTH(DatesS)=$A16)*(OFFSET(DatesS,,INDEX(ColS,MATCH($C16,Param,0)))<>0)) -> 31 | E16: =SUMPRODUCT((MONTH(DatesS)=$A16)*(OFFSET(DatesS,,INDEX(ColS,MATCH($C16,Param,0))))) -> 6.471 | F16: =IF(D16=0,0,E16/D16) -> 0.20874194 | G16: {=MIN(IF((MONTH(DatesS)=$A16)*(OFFSET(DatesS,,INDEX(ColS,MATCH($C16,Param,0))))>0,OFFSET(DatesS,,INDEX(ColS,MATCH($C16,Param,0)))))} -> 0.1 | H16: {=MAX(IF((MONTH(DatesS)=$A16)*(OFFSET(DatesS,,INDEX(ColS,MATCH($C16,Param,0))))>0,OFFSET(DatesS,,INDEX(ColS,MATCH($C16,Param,0)))))} -> 0.812 | I16: =SUMPRODUCT((MONTH(DatesS)=$A16)*(OFFSET(DatesS,,INDEX(ColS,MATCH($C16,Param,0)))>=INDEX(SeuilS,MATCH($C16,Param,0)))) -> 0 | AN16: =SUM(D16+J16+P16+V16+AB16+AH16) -> 31
A17: =A16 -> 1 | C17: NO3 | D17: =SUMPRODUCT((MONTH(DatesS)=$A17)*(OFFSET(DatesS,,INDEX(ColS,MATCH($C17,Param,0)))<>0)) -> 31 | E17: =SUMPRODUCT((MONTH(DatesS)=$A17)*(OFFSET(DatesS,,INDEX(ColS,MATCH($C17,Param,0))))) -> 20.702 | F17: =IF(D17=0,0,E17/D17) -> 0.66780645 | G17: {=MIN(IF((MONTH(DatesS)=$A17)*(OFFSET(DatesS,,INDEX(ColS,MATCH($C17,Param,0))))>0,OFFSET(DatesS,,INDEX(ColS,MATCH($C17,Param,0)))))} -> 0.117 | H17: {=MAX(IF((MONTH(DatesS)=$A17)*(OFFSET(DatesS,,INDEX(ColS,MATCH($C17,Param,0))))>0,OFFSET(DatesS,,INDEX(ColS,MATCH($C17,Param,0)))))} -> 2.568 | I17: =SUMPRODUCT((MONTH(DatesS)=$A17)*(OFFSET(DatesS,,INDEX(ColS,MATCH($C17,Param,0)))>=INDEX(SeuilS,MATCH($C17,Param,0)))) -> 0 | AN17: =SUM(D17+J17+P17+V17+AB17+AH17) -> 31
A18: 1 | C18: Hydrocarbure | D18: =SUMPRODUCT((MONTH(DatesS)=$A18)*(OFFSET(DatesS,,INDEX(ColS,MATCH($C18,Param,0)))<>0)) -> 30 | E18: =SUMPRODUCT((MONTH(DatesS)=$A18)*(OFFSET(DatesS,,INDEX(ColS,MATCH($C18,Param,0))))) -> 1734.87 | F18: =IF(D18=0,0,E18/D18) -> 57.829 | G18: {=MIN(IF((MONTH(DatesS)=$A18)*(OFFSET(DatesS,,INDEX(ColS,MATCH($C18,Param,0))))>0,OFFSET(DatesS,,INDEX(ColS,MATCH($C18,Param,0)))))} -> 0.12 | H18: {=MAX(IF((MONTH(DatesS)=$A18)*(OFFSET(DatesS,,INDEX(ColS,MATCH($C18,Param,0))))>0,OFFSET(DatesS,,INDEX(ColS,MATCH($C18,Param,0)))))} -> 620 | I18: =SUMPRODUCT((MONTH(DatesS)=$A18)*(OFFSET(DatesS,,INDEX(ColS,MATCH($C18,Param,0)))>=INDEX(SeuilS,MATCH($C18,Param,0)))) -> 4 | AN18: =SUM(D18+J18+P18+V18+AB18+AH18) -> 30
A19: =A17 -> 1 | C19: Aluminium | D19: =SUMPRODUCT((MONTH(DatesS)=$A19)*(OFFSET(DatesS,,INDEX(ColS,MATCH($C19,Param,0)))<>0)) -> 30 | E19: =SUMPRODUCT((MONTH(DatesS)=$A19)*(OFFSET(DatesS,,INDEX(ColS,MATCH($C19,Param,0))))) -> 71.59 | F19: =IF(D19=0,0,E19/D19) -> 2.3863333 | G19: {=MIN(IF((MONTH(DatesS)=$A19)*(OFFSET(DatesS,,INDEX(ColS,MATCH($C19,Param,0))))>0,OFFSET(DatesS,,INDEX(ColS,MATCH($C19,Param,0)))))} -> 0.05 | H19: {=MAX(IF((MONTH(DatesS)=$A19)*(OFFSET(DatesS,,INDEX(ColS,MATCH($C19,Param,0))))>0,OFFSET(DatesS,,INDEX(ColS,MATCH($C19,Param,0)))))} -> 14 | I19: =SUMPRODUCT((MONTH(DatesS)=$A19)*(OFFSET(DatesS,,INDEX(ColS,MATCH($C19,Param,0)))>=INDEX(SeuilS,MATCH($C19,Param,0)))) -> 3 | J19: =SUMPRODUCT((MONTH(DatesD)=$A19)*(OFFSET(DatesD,,INDEX(ColD1,MATCH($C19,Param,0)))<>0)) -> #REF! | K19: =SUMPRODUCT((MONTH(DatesD)=$A19)*(OFFSET(DatesD,,INDEX(ColD1,MATCH($C19,Param,0))))) -> #REF! | L19: =IF(J19=0,0,K19/J19) -> #REF! | M19: {=MIN(IF((MONTH(DatesD)=$A19)*(OFFSET(DatesD,,INDEX(ColD1,MATCH($C19,Param,0))))>0,OFFSET(DatesD,,INDEX(ColD1,MATCH($C19,Param,0)))))} -> #REF! | N19: {=MAX(IF((MONTH(DatesD)=$A19)*(OFFSET(DatesD,,INDEX(ColD1,MATCH($C19,Param,0))))>0,OFFSET(DatesD,,INDEX(ColD1,MATCH($C19,Param,0)))))} -> #REF! | O19: =SUMPRODUCT((MONTH(DatesD)=$A19)*(OFFSET(DatesD,,INDEX(ColD1,MATCH($C19,Param,0)))>=INDEX(SeuilD1,MATCH($C19,Param,0)))) -> #REF! | AD19: =IF(AB19=0,0,SUMPRODUCT((MONTH(DatesUF)=$A19)*(OFFSET(DatesUF,,INDEX(ColD1,MATCH(U19,Param,0)))))/SUMPRODUCT((MONTH(DatesUF)=$A19)*(OFFSET(DatesUF,,INDEX(ColD1,MATCH(U19,Param,0)))<>0))) -> 0 | AN19: =SUM(D19+J19+P19+V19+AB19+AH19) -> #REF!
A20: =A19 -> 1 | C20: Chrome total | D20: =SUMPRODUCT((MONTH(DatesS)=$A20)*(OFFSET(DatesS,,INDEX(ColS,MATCH($C20,Param,0)))<>0)) -> 30 | E20: =SUMPRODUCT((MONTH(DatesS)=$A20)*(OFFSET(DatesS,,INDEX(ColS,MATCH($C20,Param,0))))) -> #VALUE! | F20: =IF(D20=0,0,E20/D20) -> #VALUE! | G20: {=MIN(IF((MONTH(DatesS)=$A20)*(OFFSET(DatesS,,INDEX(ColS,MATCH($C20,Param,0))))>0,OFFSET(DatesS,,INDEX(ColS,MATCH($C20,Param,0)))))} -> #VALUE! | H20: {=MAX(IF((MONTH(DatesS)=$A20)*(OFFSET(DatesS,,INDEX(ColS,MATCH($C20,Param,0))))>0,OFFSET(DatesS,,INDEX(ColS,MATCH($C20,Param,0)))))} -> #VALUE! | I20: =SUMPRODUCT((MONTH(DatesS)=$A20)*(OFFSET(DatesS,,INDEX(ColS,MATCH($C20,Param,0)))>=INDEX(SeuilS,MATCH($C20,Param,0)))) -> 30 | J20: =SUMPRODUCT((MONTH(DatesD)=$A20)*(OFFSET(DatesD,,INDEX(ColD1,MATCH($C20,Param,0)))<>0)) -> #REF! | K20: =SUMPRODUCT((MONTH(DatesD)=$A20)*(OFFSET(DatesD,,INDEX(ColD1,MATCH($C20,Param,0))))) -> #REF! | L20: =IF(J20=0,0,K20/J20) -> #REF! | M20: {=MIN(IF((MONTH(DatesD)=$A20)*(OFFSET(DatesD,,INDEX(ColD1,MATCH($C20,Param,0))))>0,OFFSET(DatesD,,INDEX(ColD1,MATCH($C20,Param,0)))))} -> #REF! | N20: {=MAX(IF((MONTH(DatesD)=$A20)*(OFFSET(DatesD,,INDEX(ColD1,MATCH($C20,Param,0))))>0,OFFSET(DatesD,,INDEX(ColD1,MATCH($C20,Param,0)))))} -> #REF! | O20: =SUMPRODUCT((MONTH(DatesD)=$A20)*(OFFSET(DatesD,,INDEX(ColD1,MATCH($C20,Param,0)))>=INDEX(SeuilD1,MATCH($C20,Param,0)))) -> #REF! | AD20: =IF(AB20=0,0,SUMPRODUCT((MONTH(DatesUF)=$A20)*(OFFSET(DatesUF,,INDEX(ColD1,MATCH(U20,Param,0)))))/SUMPRODUCT((MONTH(DatesUF)=$A20)*(OFFSET(DatesUF,,INDEX(ColD1,MATCH(U20,Param,0)))<>0))) -> 0 | AN20: =SUM(D20+J20+P20+V20+AB20+AH20) -> #REF!
A21: =A20 -> 1 | C21: Chrome 6+ | D21: =SUMPRODUCT((MONTH(DatesS)=$A21)*(OFFSET(DatesS,,INDEX(ColS,MATCH($C21,Param,0)))<>0)) -> 28 | E21: =SUMPRODUCT((MONTH(DatesS)=$A21)*(OFFSET(DatesS,,INDEX(ColS,MATCH($C21,Param,0))))) -> #VALUE! | F21: =IF(D21=0,0,E21/D21) -> #VALUE! | G21: {=MIN(IF((MONTH(DatesS)=$A21)*(OFFSET(DatesS,,INDEX(ColS,MATCH($C21,Param,0))))>0,OFFSET(DatesS,,INDEX(ColS,MATCH($C21,Param,0)))))} -> #VALUE! | H21: {=MAX(IF((MONTH(DatesS)=$A21)*(OFFSET(DatesS,,INDEX(ColS,MATCH($C21,Param,0))))>0,OFFSET(DatesS,,INDEX(ColS,MATCH($C21,Param,0)))))} -> #VALUE! | I21: =SUMPRODUCT((MONTH(DatesS)=$A21)*(OFFSET(DatesS,,INDEX(ColS,MATCH($C21,Param,0)))>=INDEX(SeuilS,MATCH($C21,Param,0)))) -> 28 | J21: =SUMPRODUCT((MONTH(DatesD)=$A21)*(OFFSET(DatesD,,INDEX(ColD1,MATCH($C21,Param,0)))<>0)) -> #REF! | K21: =SUMPRODUCT((MONTH(DatesD)=$A21)*(OFFSET(DatesD,,INDEX(ColD1,MATCH($C21,Param,0))))) -> #REF! | L21: =IF(J21=0,0,K21/J21) -> #REF! | M21: {=MIN(IF((MONTH(DatesD)=$A21)*(OFFSET(DatesD,,INDEX(ColD1,MATCH($C21,Param,0))))>0,OFFSET(DatesD,,INDEX(ColD1,MATCH($C21,Param,0)))))} -> #REF! | N21: {=MAX(IF((MONTH(DatesD)=$A21)*(OFFSET(DatesD,,INDEX(ColD1,MATCH($C21,Param,0))))>0,OFFSET(DatesD,,INDEX(ColD1,MATCH($C21,Param,0)))))} -> #REF! | O21: =SUMPRODUCT((MONTH(DatesD)=$A21)*(OFFSET(DatesD,,INDEX(ColD1,MATCH($C21,Param,0)))>=INDEX(SeuilD1,MATCH($C21,Param,0)))) -> #REF! | AD21: =IF(AB21=0,0,SUMPRODUCT((MONTH(DatesUF)=$A21)*(OFFSET(DatesUF,,INDEX(ColD1,MATCH(U21,Param,0)))))/SUMPRODUCT((MONTH(DatesUF)=$A21)*(OFFSET(DatesUF,,INDEX(ColD1,MATCH(U21,Param,0)))<>0))) -> 0 | AN21: =SUM(D21+J21+P21+V21+AB21+AH21) -> #REF!
A22: =A21 -> 1 | C22: Cuivre | D22: =SUMPRODUCT((MONTH(DatesS)=$A22)*(OFFSET(DatesS,,INDEX(ColS,MATCH($C22,Param,0)))<>0)) -> 30 | E22: =SUMPRODUCT((MONTH(DatesS)=$A22)*(OFFSET(DatesS,,INDEX(ColS,MATCH($C22,Param,0))))) -> 2.7928611 | F22: =IF(D22=0,0,E22/D22) -> 0.093095369 | G22: {=MIN(IF((MONTH(DatesS)=$A22)*(OFFSET(DatesS,,INDEX(ColS,MATCH($C22,Param,0))))>0,OFFSET(DatesS,,INDEX(ColS,MATCH($C22,Param,0)))))} -> 0.03 | H22: {=MAX(IF((MONTH(DatesS)=$A22)*(OFFSET(DatesS,,INDEX(ColS,MATCH($C22,Param,0))))>0,OFFSET(DatesS,,INDEX(ColS,MATCH($C22,Param,0)))))} -> 0.29 | I22: =SUMPRODUCT((MONTH(DatesS)=$A22)*(OFFSET(DatesS,,INDEX(ColS,MATCH($C22,Param,0)))>=INDEX(SeuilS,MATCH($C22,Param,0)))) -> 0 | J22: =SUMPRODUCT((MONTH(DatesD)=$A22)*(OFFSET(DatesD,,INDEX(ColD1,MATCH($C22,Param,0)))<>0)) -> #REF! | K22: =SUMPRODUCT((MONTH(DatesD)=$A22)*(OFFSET(DatesD,,INDEX(ColD1,MATCH($C22,Param,0))))) -> #REF! | L22: =IF(J22=0,0,K22/J22) -> #REF! | M22: {=MIN(IF((MONTH(DatesD)=$A22)*(OFFSET(DatesD,,INDEX(ColD1,MATCH($C22,Param,0))))>0,OFFSET(DatesD,,INDEX(ColD1,MATCH($C22,Param,0)))))} -> #REF! | N22: {=MAX(IF((MONTH(DatesD)=$A22)*(OFFSET(DatesD,,INDEX(ColD1,MATCH($C22,Param,0))))>0,OFFSET(DatesD,,INDEX(ColD1,MATCH($C22,Param,0)))))} -> #REF! | O22: =SUMPRODUCT((MONTH(DatesD)=$A22)*(OFFSET(DatesD,,INDEX(ColD1,MATCH($C22,Param,0)))>=INDEX(SeuilD1,MATCH($C22,Param,0)))) -> #REF! | AD22: =IF(AB22=0,0,SUMPRODUCT((MONTH(DatesUF)=$A22)*(OFFSET(DatesUF,,INDEX(ColD1,MATCH(U22,Param,0)))))/SUMPRODUCT((MONTH(DatesUF)=$A22)*(OFFSET(DatesUF,,INDEX(ColD1,MATCH(U22,Param,0)))<>0))) -> 0 | AN22: =SUM(D22+J22+P22+V22+AB22+AH22) -> #REF!
A23: =A22 -> 1 | C23: Fer | D23: =SUMPRODUCT((MONTH(DatesS)=$A23)*(OFFSET(DatesS,,INDEX(ColS,MATCH($C23,Param,0)))<>0)) -> 30 | E23: =SUMPRODUCT((MONTH(DatesS)=$A23)*(OFFSET(DatesS,,INDEX(ColS,MATCH($C23,Param,0))))) -> 163.73448 | F23: =IF(D23=0,0,E23/D23) -> 5.4578159 | G23: {=MIN(IF((MONTH(DatesS)=$A23)*(OFFSET(DatesS,,INDEX(ColS,MATCH($C23,Param,0))))>0,OFFSET(DatesS,,INDEX(ColS,MATCH($C23,Param,0)))))} -> 0.75599927 | H23: {=MAX(IF((MONTH(DatesS)=$A23)*(OFFSET(DatesS,,INDEX(ColS,MATCH($C23,Param,0))))>0,OFFSET(DatesS,,INDEX(ColS,MATCH($C23,Param,0)))))} -> 22.65 | I23: =SUMPRODUCT((MONTH(DatesS)=$A23)*(OFFSET(DatesS,,INDEX(ColS,MATCH($C23,Param,0)))>=INDEX(SeuilS,MATCH($C23,Param,0)))) -> 9 | J23: =SUMPRODUCT((MONTH(DatesD)=$A23)*(OFFSET(DatesD,,INDEX(ColD1,MATCH($C23,Param,0)))<>0)) -> #REF! | K23: =SUMPRODUCT((MONTH(DatesD)=$A23)*(OFFSET(DatesD,,INDEX(ColD1,MATCH($C23,Param,0))))) -> #REF! | L23: =IF(J23=0,0,K23/J23) -> #REF! | M23: {=MIN(IF((MONTH(DatesD)=$A23)*(OFFSET(DatesD,,INDEX(ColD1,MATCH($C23,Param,0))))>0,OFFSET(DatesD,,INDEX(ColD1,MATCH($C23,Param,0)))))} -> #REF! | N23: {=MAX(IF((MONTH(DatesD)=$A23)*(OFFSET(DatesD,,INDEX(ColD1,MATCH($C23,Param,0))))>0,OFFSET(DatesD,,INDEX(ColD1,MATCH($C23,Param,0)))))} -> #REF! | O23: =SUMPRODUCT((MONTH(DatesD)=$A23)*(OFFSET(DatesD,,INDEX(ColD1,MATCH($C23,Param,0)))>=INDEX(SeuilD1,MATCH($C23,Param,0)))) -> #REF! | AD23: =IF(AB23=0,0,SUMPRODUCT((MONTH(DatesUF)=$A23)*(OFFSET(DatesUF,,INDEX(ColD1,MATCH(U23,Param,0)))))/SUMPRODUCT((MONTH(DatesUF)=$A23)*(OFFSET(DatesUF,,INDEX(ColD1,MATCH(U23,Param,0)))<>0))) -> 0 | AN23: =SUM(D23+J23+P23+V23+AB23+AH23) -> #REF!
A24: =A23 -> 1 | C24: Manganèse | D24: =SUMPRODUCT((MONTH(DatesS)=$A24)*(OFFSET(DatesS,,INDEX(ColS,MATCH($C24,Param,0)))<>0)) -> 30 | E24: =SUMPRODUCT((MONTH(DatesS)=$A24)*(OFFSET(DatesS,,INDEX(ColS,MATCH($C24,Param,0))))) -> 17.07955 | F24: =IF(D24=0,0,E24/D24) -> 0.56931834 | G24: {=MIN(IF((MONTH(DatesS)=$A24)*(OFFSET(DatesS,,INDEX(ColS,MATCH($C24,Param,0))))>0,OFFSET(DatesS,,INDEX(ColS,MATCH($C24,Param,0)))))} -> 0.058004096 | H24: {=MAX(IF((MONTH(DatesS)=$A24)*(OFFSET(DatesS,,INDEX(ColS,MATCH($C24,Param,0))))>0,OFFSET(DatesS,,INDEX(ColS,MATCH($C24,Param,0)))))} -> 3.68 | I24: =SUMPRODUCT((MONTH(DatesS)=$A24)*(OFFSET(DatesS,,INDEX(ColS,MATCH($C24,Param,0)))>=INDEX(SeuilS,MATCH($C24,Param,0)))) -> 5 | J24: =SUMPRODUCT((MONTH(DatesD)=$A24)*(OFFSET(DatesD,,INDEX(ColD1,MATCH($C24,Param,0)))<>0)) -> #REF! | K24: =SUMPRODUCT((MONTH(DatesD)=$A24)*(OFFSET(DatesD,,INDEX(ColD1,MATCH($C24,Param,0))))) -> #REF! | L24: =IF(J24=0,0,K24/J24) -> #REF! | M24: {=MIN(IF((MONTH(DatesD)=$A24)*(OFFSET(DatesD,,INDEX(ColD1,MATCH($C24,Param,0))))>0,OFFSET(DatesD,,INDEX(ColD1,MATCH($C24,Param,0)))))} -> #REF! | N24: {=MAX(IF((MONTH(DatesD)=$A24)*(OFFSET(DatesD,,INDEX(ColD1,MATCH($C24,Param,0))))>0,OFFSET(DatesD,,INDEX(ColD1,MATCH($C24,Param,0)))))} -> #REF! | O24: =SUMPRODUCT((MONTH(DatesD)=$A24)*(OFFSET(DatesD,,INDEX(ColD1,MATCH($C24,Param,0)))>=INDEX(SeuilD1,MATCH($C24,Param,0)))) -> #REF! | AD24: =IF(AB24=0,0,SUMPRODUCT((MONTH(DatesUF)=$A24)*(OFFSET(DatesUF,,INDEX(ColD1,MATCH(U24,Param,0)))))/SUMPRODUCT((MONTH(DatesUF)=$A24)*(OFFSET(DatesUF,,INDEX(ColD1,MATCH(U24,Param,0)))<>0))) -> 0 | AN24: =SUM(D24+J24+P24+V24+AB24+AH24) -> #REF!
A25: =A24 -> 1 | C25: Nickel | D25: =SUMPRODUCT((MONTH(DatesS)=$A25)*(OFFSET(DatesS,,INDEX(ColS,MATCH($C25,Param,0)))<>0)) -> 5 | E25: =SUMPRODUCT((MONTH(DatesS)=$A25)*(OFFSET(DatesS,,INDEX(ColS,MATCH($C25,Param,0))))) -> #VALUE! | F25: =IF(D25=0,0,E25/D25) -> #VALUE! | G25: {=MIN(IF((MONTH(DatesS)=$A25)*(OFFSET(DatesS,,INDEX(ColS,MATCH($C25,Param,0))))>0,OFFSET(DatesS,,INDEX(ColS,MATCH($C25,Param,0)))))} -> #VALUE! | H25: {=MAX(IF((MONTH(DatesS)=$A25)*(OFFSET(DatesS,,INDEX(ColS,MATCH($C25,Param,0))))>0,OFFSET(DatesS,,INDEX(ColS,MATCH($C25,Param,0)))))} -> #VALUE! | I25: =SUMPRODUCT((MONTH(DatesS)=$A25)*(OFFSET(DatesS,,INDEX(ColS,MATCH($C25,Param,0)))>=INDEX(SeuilS,MATCH($C25,Param,0)))) -> 5 | J25: =SUMPRODUCT((MONTH(DatesD)=$A25)*(OFFSET(DatesD,,INDEX(ColD1,MATCH($C25,Param,0)))<>0)) -> #REF! | K25: =SUMPRODUCT((MONTH(DatesD)=$A25)*(OFFSET(DatesD,,INDEX(ColD1,MATCH($C25,Param,0))))) -> #REF! | L25: =IF(J25=0,0,K25/J25) -> #REF! | M25: {=MIN(IF((MONTH(DatesD)=$A25)*(OFFSET(DatesD,,INDEX(ColD1,MATCH($C25,Param,0))))>0,OFFSET(DatesD,,INDEX(ColD1,MATCH($C25,Param,0)))))} -> #REF! | N25: {=MAX(IF((MONTH(DatesD)=$A25)*(OFFSET(DatesD,,INDEX(ColD1,MATCH($C25,Param,0))))>0,OFFSET(DatesD,,INDEX(ColD1,MATCH($C25,Param,0)))))} -> #REF! | O25: =SUMPRODUCT((MONTH(DatesD)=$A25)*(OFFSET(DatesD,,INDEX(ColD1,MATCH($C25,Param,0)))>=INDEX(SeuilD1,MATCH($C25,Param,0)))) -> #REF! | AD25: =IF(AB25=0,0,SUMPRODUCT((MONTH(DatesUF)=$A25)*(OFFSET(DatesUF,,INDEX(ColD1,MATCH(U25,Param,0)))))/SUMPRODUCT((MONTH(DatesUF)=$A25)*(OFFSET(DatesUF,,INDEX(ColD1,MATCH(U25,Param,0)))<>0))) -> 0 | AN25: =SUM(D25+J25+P25+V25+AB25+AH25) -> #REF!
