Workbook
Name ColD1: OFFSET(Param,,6)
Name ColD2: OFFSET(Param,,11)
Name ColS: OFFSET(Param,,1)
Name ColSH: OFFSET(Param,,26)
Name ColUF1: OFFSET(Param,,16)
Name ColUF2: OFFSET(Param,,21)
Name DatesD: OFFSET(#REF!,,,COUNTA(#REF!))
Name DatesS: OFFSET(#REF!,,,COUNTA(#REF!))
Name DatesSH: OFFSET('Station des huiles'!$A$15,,,COUNTA('Station des huiles'!$A$15:$A$394))
Name DatesUF: OFFSET(#REF!,,,COUNTA(#REF!))
Name Param: OFFSET(Parametres!$B$5,,,COUNTA(Parametres!$B:$B))
Name Seuil2D1: OFFSET(Param,,8)
Name Seuil2D2: OFFSET(Param,,13)
Name Seuil2SH: OFFSET(Param,,28)
Name Seuil2UF1: OFFSET(Param,,18)
Name Seuil2UF2: OFFSET(Param,,23)
Name SeuilD1: OFFSET(Param,,7)
Name SeuilD2: OFFSET(Param,,12)
Name SeuilS: OFFSET(Param,,2)
Name SeuilS2: OFFSET(Param,,3)
Name SeuilSH: OFFSET(Param,,26)
Name SeuilUF1: OFFSET(Param,,17)
Name SeuilUF2: OFFSET(Param,,22)

Sheet Parametres
B1: Paramètres
B2: Année : | C2: 42370
B3: Sivom | H3: Station des Huiles
B4: Intitulés | C4: N° colonne | D4: Seuil | E4: Seuil 2 | H4: Intitulés | I4: N° colonne | J4: Seuil | K4: Seuil 2
B5: Débit | C5: =COLUMN(#REF!)-1 -> #REF! | D5: 4800 | E5: 100000000 | H5: =B5 -> Débit | I5: =COLUMN('Station des huiles'!B6)-1 -> 1
B6: pH | C6: =COLUMN(#REF!)-1 -> #REF! | D6: 5,5-8,5 | E6: 100000000 | H6: =B6 -> pH
B7: DCO | C7: =COLUMN(#REF!)-1 -> #REF! | D7: 1750 | E7: 100000000 | H7: =B7 -> DCO | I7: =COLUMN('Station des huiles'!U6)-1 -> 20 | J7: 17000 | K7: 26000
B8: DCO à D2 | C8: =COLUMN(#REF!)-1 -> #REF! | D8: 100000000 | E8: 100000000 | H8: =B8 -> DCO à D2
B9: MES | C9: =COLUMN(#REF!)-1 -> #REF! | D9: 400 | E9: 100000000 | H9: =B9 -> MES | I9: =COLUMN('Station des huiles'!U6)-1 -> 20 | J9: 2600 | K9: 5000
B10: Ptotal | C10: =COLUMN(#REF!)-1 -> #REF! | D10: 15 | E10: 100000000 | H10: =B10 -> Ptotal
B11: NTK | C11: =COLUMN(#REF!)-1 -> #REF! | D11: 100000000 | E11: 100000000 | H11: =B11 -> NTK
B12: NH4 | C12: =COLUMN(#REF!)-1 -> #REF! | D12: 100000000 | E12: 100000000 | H12: =B12 -> NH4
B13: NO2 | C13: =COLUMN(#REF!)-1 -> #REF! | D13: 100000000 | E13: 100000000 | H13: =B13 -> NO2
B14: NO3 | C14: =COLUMN(#REF!)-1 -> #REF! | D14: 100000000 | E14: 100000000 | H14: =B14 -> NO3
B15: Aluminium | C15: =COLUMN(#REF!)-1 -> #REF! | D15: 5 | E15: 100000000 | H15: =B15 -> Aluminium
B16: Chrome total | C16: =COLUMN(#REF!)-1 -> #REF! | D16: 5 | E16: 100000000 | H16: =B16 -> Chrome total
B17: Chrome 6+ | C17: =COLUMN(#REF!)-1 -> #REF! | D17: 3 | E17: 100000000 | H17: =B17 -> Chrome 6+
B18: Cuivre | C18: =COLUMN(#REF!)-1 -> #REF! | D18: 0.5 | E18: 100000000 | H18: =B18 -> Cuivre
B19: Fer | C19: =COLUMN(#REF!)-1 -> #REF! | D19: 5 | E19: 100000000 | H19: =B19 -> Fer
B20: Manganèse | C20: =COLUMN(#REF!)-1 -> #REF! | D20: 1 | E20: 100000000 | H20: =B20 -> Manganèse
B21: Nickel | C21: =COLUMN(#REF!)-1 -> #REF! | D21: 0.5 | E21: 100000000 | H21: =B21 -> Nickel
... B23: Zinc | C23: =COLUMN(#REF!)-1 -> #REF! | D23: 2 | E23: 100000000 | H23: =B23 -> Zinc
B24: Hydrocarbure | C24: =COLUMN(#REF!)-1 -> #REF! | D24: 10 | E24: 20 | H24: =B24 -> Hydrocarbure | I24: =COLUMN('Station des huiles'!M23)-1 -> 12 | J24: 500 | K24: 700
B25: N global | C25: =COLUMN(#REF!)-1 -> #REF! | D25: 75 | E25: 100000000 | H25: =B25 -> N global
B26: DBO 5 | C26: =COLUMN(#REF!)-1 -> #REF! | D26: 450 | E26: 100000000 | H26: =B26 -> DBO 5
B27: température | C27: =COLUMN(#REF!)-1 -> #REF! | D27: 30 | E27: 100000000 | H27: =B27 -> température
B28: Fluorure | C28: =COLUMN(#REF!)-1 -> #REF! | D28: 10 | E28: 100000000 | H28: =B28 -> Fluorure
B29: Somme total métaux | E29: 100000000 | H29: =B29 -> Somme total métaux
B30: Rendement DCO | E30: 100000000 | H30: =B30 -> Rendement DCO
B31: Rendement MES | E31: 100000000 | H31: =B31 -> Rendement MES
B33: 1 | C33: 2 | D33: 3 | E33: 4 | F33: 5 | G33: 25 | H33: 26 | I33: 27 | J33: 28 | K33: 29

Sheet Station des huiles
A1: Station des huiles | B1: Suivi des analyses de la Station des Huiles
A3: Année: | B3: =Parametres!C2 -> 42370
A5: Station des huiles | P5: Temps de recirculation > 3H | Q5: Validation | R5: Observations
A6: Paramètre | B6: Débit | C6: DCO | E6: eb | G6: MES | L6: Hydrocarbure
A7: Date | B7: Canal de mesure m³/j | C7: Dilution | D7: Valeur lue mg/L | E7: Résultat mg/L | F7: kg/j | G7: Masse filtre vide mg | H7: Masse filtre après séchage mg | I7: Volume filtré ml ou g | J7: Résultat mg/L | K7: kg/j | L7: Résultat mg/L | N7: kg/j | O7: kg/sem
A8: Seuil | B8: =INDEX(SeuilSH,MATCH(B$6,Param,0)) -> 0 | C8: =INDEX(SeuilSH,MATCH(C$6,Param,0)) -> 0 | G8: =INDEX(SeuilSH,MATCH(G$6,Param,0)) -> 0 | L8: =INDEX(SeuilS,MATCH(L$6,Param,0)) -> 10
A9: Seuil 2 | B9: =INDEX(Seuil2SH,MATCH(B$6,Param,0)) -> 0 | C9: =INDEX(Seuil2SH,MATCH(C$6,Param,0)) -> 0 | G9: =INDEX(Seuil2SH,MATCH(G$6,Param,0)) -> 0 | L9: =INDEX(Seuil2SH,MATCH(L$6,Param,0)) -> 0
A10: Echantillon. | B10: 24H | C10: 24H | G10: 24H | L10: 24H
A11: Fréq. ana. | B11: J | C11: Journalier VIGS | G11: Journalier VIGS | L11: Hebdo Laboratoire ext
A12: Normes | C12: Microméthode | G12: NF EN 872
A13: Normes AP | R13: analytiques | S13: générales
A14: Normes CR
A15: =EOMONTH($B$3,-1)+1 -> 42370 | C15: 1 | E15: =IF(D15="","",(D15*C15)) | F15: =IF(E15=""," ",IF(B15=""," ",E15*B15/1000)) | J15: =IF(H15="","",(H15-G15)*1000/I15) | K15: =IF(J15=""," ",IF(B15=""," ",J15*B15/1000)) | N15: =IF(M15=""," ",IF(B15=""," ",M15*B15/1000)) | O15: =IF(M15=""," ",IF(COUNT(B15)=""," ",(AVERAGE(B15)*M15/1000)))
A16: =A15+1 -> 42371 | C16: 1 | E16: =IF(D16="","",(D16*C16)) | F16: =IF(E16=""," ",IF(B16=""," ",E16*B16/1000)) | J16: =IF(H16="","",(H16-G16)*1000/I16) | K16: =IF(J16=""," ",IF(B16=""," ",J16*B16/1000)) | N16: =IF(M16=""," ",IF(B16=""," ",M16*B16/1000)) | O16: =IF(M16=""," ",IF(COUNT(B16)=""," ",(AVERAGE(B16)*M16/1000)))
A17: =A16+1 -> 42372 | C17: 1 | E17: =IF(D17="","",(D17*C17)) | F17: =IF(E17=""," ",IF(B17=""," ",E17*B17/1000)) | J17: =IF(H17="","",(H17-G17)*1000/I17) | K17: =IF(J17=""," ",IF(B17=""," ",J17*B17/1000)) | N17: =IF(M17=""," ",IF(B17=""," ",M17*B17/1000)) | O17: =IF(M17=""," ",IF(COUNT(B17)=""," ",(AVERAGE(B17)*M17/1000)))
A18: =A17+1 -> 42373 | B18: 30 | C18: 1 | D18: 13500 | E18: =IF(D18="","",(D18*C18)) -> 13500 | F18: =IF(E18=""," ",IF(B18=""," ",E18*B18/1000)) -> 405 | G18: 88.8 | H18: 103.3 | I18: 6.6047 | J18: =IF(H18="","",(H18-G18)*1000/I18) -> 2195.4063 | K18: =IF(J18=""," ",IF(B18=""," ",J18*B18/1000)) -> 65.862189 | M18: 1.53 | N18: =IF(M18=""," ",IF(B18=""," ",M18*B18/1000)) -> 0.0459 | O18: =IF(M18=""," ",IF(COUNT(B18)=""," ",(AVERAGE(B18)*M18/1000))) -> 0.0459
A19: =A18+1 -> 42374 | B19: 46 | C19: 1 | D19: 13400 | E19: =IF(D19="","",(D19*C19)) -> 13400 | F19: =IF(E19=""," ",IF(B19=""," ",E19*B19/1000)) -> 616.4 | G19: 90.6 | H19: 106.3 | I19: 7.4506 | J19: =IF(H19="","",(H19-G19)*1000/I19) -> 2107.2128 | K19: =IF(J19=""," ",IF(B19=""," ",J19*B19/1000)) -> 96.931791 | M19: 4.58 | N19: =IF(M19=""," ",IF(B19=""," ",M19*B19/1000)) -> 0.21068 | O19: =IF(M19=""," ",IF(COUNT(B19)=""," ",(AVERAGE(B19)*M19/1000))) -> 0.21068
A20: =A19+1 -> 42375 | B20: 40 | C20: 1 | D20: 13100 | E20: =IF(D20="","",(D20*C20)) -> 13100 | F20: =IF(E20=""," ",IF(B20=""," ",E20*B20/1000)) -> 524 | G20: 87.3 | H20: 94.5 | I20: 5.2431 | J20: =IF(H20="","",(H20-G20)*1000/I20) -> 1373.2334 | K20: =IF(J20=""," ",IF(B20=""," ",J20*B20/1000)) -> 54.929336 | M20: 15.2 | N20: =IF(M20=""," ",IF(B20=""," ",M20*B20/1000)) -> 0.608 | O20: =IF(M20=""," ",IF(COUNT(B20)=""," ",(AVERAGE(B20)*M20/1000))) -> 0.608
A21: =A20+1 -> 42376 | B21: 17 | C21: 1 | D21: 15800 | E21: =IF(D21="","",(D21*C21)) -> 15800 | F21: =IF(E21=""," ",IF(B21=""," ",E21*B21/1000)) -> 268.6 | G21: 91.5 | H21: 99.5 | I21: 4.474 | J21: =IF(H21="","",(H21-G21)*1000/I21) -> 1788.1091 | K21: =IF(J21=""," ",IF(B21=""," ",J21*B21/1000)) -> 30.397854 | M21: 15.7 | N21: =IF(M21=""," ",IF(B21=""," ",M21*B21/1000)) -> 0.2669 | O21: =IF(M21=""," ",IF(COUNT(B21)=""," ",(AVERAGE(B21)*M21/1000))) -> 0.2669
A22: =A21+1 -> 42377 | B22: 52 | C22: 1 | D22: 16200 | E22: =IF(D22="","",(D22*C22)) -> 16200 | F22: =IF(E22=""," ",IF(B22=""," ",E22*B22/1000)) -> 842.4 | G22: 87.6 | H22: 96.4 | I22: 5.4563 | J22: =IF(H22="","",(H22-G22)*1000/I22) -> 1612.8145 | K22: =IF(J22=""," ",IF(B22=""," ",J22*B22/1000)) -> 83.866356 | M22: 20.7 | N22: =IF(M22=""," ",IF(B22=""," ",M22*B22/1000)) -> 1.0764 | O22: =IF(M22=""," ",IF(COUNT(B22)=""," ",(AVERAGE(B22)*M22/1000))) -> 1.0764
A23: =A22+1 -> 42378 | C23: 1 | E23: =IF(D23="","",(D23*C23)) | F23: =IF(E23=""," ",IF(B23=""," ",E23*B23/1000)) | J23: =IF(H23="","",(H23-G23)*1000/I23) | K23: =IF(J23=""," ",IF(B23=""," ",J23*B23/1000)) | N23: =IF(M23=""," ",IF(B23=""," ",M23*B23/1000)) | O23: =IF(M23=""," ",IF(COUNT(B23)=""," ",(AVERAGE(B23)*M23/1000)))
A24: =A23+1 -> 42379 | C24: 1 | E24: =IF(D24="","",(D24*C24)) | F24: =IF(E24=""," ",IF(B24=""," ",E24*B24/1000)) | J24: =IF(H24="","",(H24-G24)*1000/I24) | K24: =IF(J24=""," ",IF(B24=""," ",J24*B24/1000)) | N24: =IF(M24=""," ",IF(B24=""," ",M24*B24/1000)) | O24: =IF(M24=""," ",IF(COUNT(B24)=""," ",(AVERAGE(B24)*M24/1000)))
A25: =A24+1 -> 42380 | B25: 37 | C25: 1 | D25: 13100 | E25: =IF(D25="","",(D25*C25)) -> 13100 | F25: =IF(E25=""," ",IF(B25=""," ",E25*B25/1000)) -> 484.7 | G25: 88.4 | H25: 98 | I25: 6.7688 | J25: =IF(H25="","",(H25-G25)*1000/I25) -> 1418.2721 | K25: =IF(J25=""," ",IF(B25=""," ",J25*B25/1000)) -> 52.476067 | M25: 10.1 | N25: =IF(M25=""," ",IF(B25=""," ",M25*B25/1000)) -> 0.3737 | O25: =IF(M25=""," ",IF(COUNT(B25)=""," ",(AVERAGE(B25)*M25/1000))) -> 0.3737
A26: =A25+1 -> 42381 | B26: 34 | C26: 1 | D26: 12200 | E26: =IF(D26="","",(D26*C26)) -> 12200 | F26: =IF(E26=""," ",IF(B26=""," ",E26*B26/1000)) -> 414.8 | G26: 90.3 | H26: 102.3 | I26: 6.7994 | J26: =IF(H26="","",(H26-G26)*1000/I26) -> 1764.8616 | K26: =IF(J26=""," ",IF(B26=""," ",J26*B26/1000)) -> 60.005295 | M26: 1.04 | N26: =IF(M26=""," ",IF(B26=""," ",M26*B26/1000)) -> 0.03536 | O26: =IF(M26=""," ",IF(COUNT(B26)=""," ",(AVERAGE(B26)*M26/1000))) -> 0.03536
A27: =A26+1 -> 42382 | B27: 33 | C27: 1 | D27: 12000 | E27: =IF(D27="","",(D27*C27)) -> 12000 | F27: =IF(E27=""," ",IF(B27=""," ",E27*B27/1000)) -> 396 | G27: 87.8 | H27: 102.1 | I27: 7.0435 | J27: =IF(H27="","",(H27-G27)*1000/I27) -> 2030.2406 | K27: =IF(J27=""," ",IF(B27=""," ",J27*B27/1000)) -> 66.997941 | M27: 6.75 | N27: =IF(M27=""," ",IF(B27=""," ",M27*B27/1000)) -> 0.22275 | O27: =IF(M27=""," ",IF(COUNT(B27)=""," ",(AVERAGE(B27)*M27/1000))) -> 0.22275
A28: =A27+1 -> 42383 | C28: 1 | E28: =IF(D28="","",(D28*C28)) | F28: =IF(E28=""," ",IF(B28=""," ",E28*B28/1000)) | J28: =IF(H28="","",(H28-G28)*1000/I28) | K28: =IF(J28=""," ",IF(B28=""," ",J28*B28/1000)) | N28: =IF(M28=""," ",IF(B28=""," ",M28*B28/1000)) | O28: =IF(M28=""," ",IF(COUNT(B28)=""," ",(AVERAGE(B28)*M28/1000)))
A29: =A28+1 -> 42384 | B29: 19 | C29: 1 | D29: 12900 | E29: =IF(D29="","",(D29*C29)) -> 12900 | F29: =IF(E29=""," ",IF(B29=""," ",E29*B29/1000)) -> 245.1 | G29: 91.1 | H29: 104 | I29: 5.0493 | J29: =IF(H29="","",(H29-G29)*1000/I29) -> 2554.8096 | K29: =IF(J29=""," ",IF(B29=""," ",J29*B29/1000)) -> 48.541382 | M29: 9.89 | N29: =IF(M29=""," ",IF(B29=""," ",M29*B29/1000)) -> 0.18791 | O29: =IF(M29=""," ",IF(COUNT(B29)=""," ",(AVERAGE(B29)*M29/1000))) -> 0.18791
A30: =A29+1 -> 42385 | C30: 1 | E30: =IF(D30="","",(D30*C30)) | F30: =IF(E30=""," ",IF(B30=""," ",E30*B30/1000)) | J30: =IF(H30="","",(H30-G30)*1000/I30) | K30: =IF(J30=""," ",IF(B30=""," ",J30*B30/1000)) | N30: =IF(M30=""," ",IF(B30=""," ",M30*B30/1000)) | O30: =IF(M30=""," ",IF(COUNT(B30)=""," ",(AVERAGE(B30)*M30/1000)))
A31: =A30+1 -> 42386 | C31: 1 | E31: =IF(D31="","",(D31*C31)) | F31: =IF(E31=""," ",IF(B31=""," ",E31*B31/1000)) | J31: =IF(H31="","",(H31-G31)*1000/I31) | K31: =IF(J31=""," ",IF(B31=""," ",J31*B31/1000)) | N31: =IF(M31=""," ",IF(B31=""," ",M31*B31/1000)) | O31: =IF(M31=""," ",IF(COUNT(B31)=""," ",(AVERAGE(B31)*M31/1000)))
A32: =A31+1 -> 42387 | B32: 27 | C32: 1 | D32: 13600 | E32: =IF(D32="","",(D32*C32)) -> 13600 | F32: =IF(E32=""," ",IF(B32=""," ",E32*B32/1000)) -> 367.2 | G32: 89.4 | H32: 95.3 | I32: 3.9712 | J32: =IF(H32="","",(H32-G32)*1000/I32) -> 1485.697 | K32: =IF(J32=""," ",IF(B32=""," ",J32*B32/1000)) -> 40.11382 | M32: 3.46 | N32: =IF(M32=""," ",IF(B32=""," ",M32*B32/1000)) -> 0.09342 | O32: =IF(M32=""," ",IF(COUNT(B32)=""," ",(AVERAGE(B32)*M32/1000))) -> 0.09342
A33: =A32+1 -> 42388 | B33: 40 | C33: 1 | D33: 12600 | E33: =IF(D33="","",(D33*C33)) -> 12600 | F33: =IF(E33=""," ",IF(B33=""," ",E33*B33/1000)) -> 504 | G33: 90.9 | H33: 96.6 | I33: 4.1357 | J33: =IF(H33="","",(H33-G33)*1000/I33) -> 1378.2431 | K33: =IF(J33=""," ",IF(B33=""," ",J33*B33/1000)) -> 55.129724 | M33: 8.84 | N33: =IF(M33=""," ",IF(B33=""," ",M33*B33/1000)) -> 0.3536 | O33: =IF(M33=""," ",IF(COUNT(B33)=""," ",(AVERAGE(B33)*M33/1000))) -> 0.3536
A34: =A33+1 -> 42389 | B34: 11 | C34: 1 | D34: 15200 | E34: =IF(D34="","",(D34*C34)) -> 15200 | F34: =IF(E34=""," ",IF(B34=""," ",E34*B34/1000)) -> 167.2 | G34: 90.9 | H34: 105.3 | I34: 6.8956 | J34: =IF(H34="","",(H34-G34)*1000/I34) -> 2088.2882 | K34: =IF(J34=""," ",IF(B34=""," ",J34*B34/1000)) -> 22.97117 | M34: 6.34 | N34: =IF(M34=""," ",IF(B34=""," ",M34*B34/1000)) -> 0.06974 | O34: =IF(M34=""," ",IF(COUNT(B34)=""," ",(AVERAGE(B34)*M34/1000))) -> 0.06974
A35: =A34+1 -> 42390 | C35: 1 | E35: =IF(D35="","",(D35*C35)) | F35: =IF(E35=""," ",IF(B35=""," ",E35*B35/1000)) | J35: =IF(H35="","",(H35-G35)*1000/I35) | K35: =IF(J35=""," ",IF(B35=""," ",J35*B35/1000)) | N35: =IF(M35=""," ",IF(B35=""," ",M35*B35/1000)) | O35: =IF(M35=""," ",IF(COUNT(B35)=""," ",(AVERAGE(B35)*M35/1000)))
A36: =A35+1 -> 42391 | B36: 13 | C36: 1 | D36: 15100 | E36: =IF(D36="","",(D36*C36)) -> 15100 | F36: =IF(E36=""," ",IF(B36=""," ",E36*B36/1000)) -> 196.3 | G36: 88.8 | H36: 100 | I36: 5.5813 | J36: =IF(H36="","",(H36-G36)*1000/I36) -> 2006.7009 | K36: =IF(J36=""," ",IF(B36=""," ",J36*B36/1000)) -> 26.087112 | M36: 5.23 | N36: =IF(M36=""," ",IF(B36=""," ",M36*B36/1000)) -> 0.06799 | O36: =IF(M36=""," ",IF(COUNT(B36)=""," ",(AVERAGE(B36)*M36/1000))) -> 0.06799
A37: =A36+1 -> 42392 | C37: 1 | E37: =IF(D37="","",(D37*C37)) | F37: =IF(E37=""," ",IF(B37=""," ",E37*B37/1000)) | J37: =IF(H37="","",(H37-G37)*1000/I37) | K37: =IF(J37=""," ",IF(B37=""," ",J37*B37/1000)) | N37: =IF(M37=""," ",IF(B37=""," ",M37*B37/1000)) | O37: =IF(M37=""," ",IF(COUNT(B37)=""," ",(AVERAGE(B37)*M37/1000)))
A38: =A37+1 -> 42393 | C38: 1 | E38: =IF(D38="","",(D38*C38)) | F38: =IF(E38=""," ",IF(B38=""," ",E38*B38/1000)) | J38: =IF(H38="","",(H38-G38)*1000/I38) | K38: =IF(J38=""," ",IF(B38=""," ",J38*B38/1000)) | N38: =IF(M38=""," ",IF(B38=""," ",M38*B38/1000)) | O38: =IF(M38=""," ",IF(COUNT(B38)=""," ",(AVERAGE(B38)*M38/1000)))
A39: =A38+1 -> 42394 | B39: 24 | C39: 1 | D39: 14800 | E39: =IF(D39="","",(D39*C39)) -> 14800 | F39: =IF(E39=""," ",IF(B39=""," ",E39*B39/1000)) -> 355.2 | G39: 89 | H39: 98.8 | I39: 5.5529 | J39: =IF(H39="","",(H39-G39)*1000/I39) -> 1764.8436 | K39: =IF(J39=""," ",IF(B39=""," ",J39*B39/1000)) -> 42.356246 | M39: 2.37 | N39: =IF(M39=""," ",IF(B39=""," ",M39*B39/1000)) -> 0.05688 | O39: =IF(M39=""," ",IF(COUNT(B39)=""," ",(AVERAGE(B39)*M39/1000))) -> 0.05688
A40: =A39+1 -> 42395 | B40: 12 | C40: 1 | D40: 15100 | E40: =IF(D40="","",(D40*C40)) -> 15100 | F40: =IF(E40=""," ",IF(B40=""," ",E40*B40/1000)) -> 181.2 | G40: 91.6 | H40: 107 | I40: 7.421 | J40: =IF(H40="","",(H40-G40)*1000/I40) -> 2075.192 | K40: =IF(J40=""," ",IF(B40=""," ",J40*B40/1000)) -> 24.902304 | M40: 3.41 | N40: =IF(M40=""," ",IF(B40=""," ",M40*B40/1000)) -> 0.04092 | O40: =IF(M40=""," ",IF(COUNT(B40)=""," ",(AVERAGE(B40)*M40/1000))) -> 0.04092
A41: =A40+1 -> 42396 | B41: 25 | C41: 1 | D41: 16400 | E41: =IF(D41="","",(D41*C41)) -> 16400 | F41: =IF(E41=""," ",IF(B41=""," ",E41*B41/1000)) -> 410 | G41: 89.8 | H41: 107.9 | I41: 7.1459 | J41: =IF(H41="","",(H41-G41)*1000/I41) -> 2532.921 | K41: =IF(J41=""," ",IF(B41=""," ",J41*B41/1000)) -> 63.323024 | M41: 0.87 | N41: =IF(M41=""," ",IF(B41=""," ",M41*B41/1000)) -> 0.02175 | O41: =IF(M41=""," ",IF(COUNT(B41)=""," ",(AVERAGE(B41)*M41/1000))) -> 0.02175
A42: =A41+1 -> 42397 | C42: 1 | E42: =IF(D42="","",(D42*C42)) | F42: =IF(E42=""," ",IF(B42=""," ",E42*B42/1000)) | J42: =IF(H42="","",(H42-G42)*1000/I42) | K42: =IF(J42=""," ",IF(B42=""," ",J42*B42/1000)) | N42: =IF(M42=""," ",IF(B42=""," ",M42*B42/1000)) | O42: =IF(M42=""," ",IF(COUNT(B42)=""," ",(AVERAGE(B42)*M42/1000)))
A43: =A42+1 -> 42398 | B43: 47 | C43: 1 | D43: 16200 | E43: =IF(D43="","",(D43*C43)) -> 16200 | F43: =IF(E43=""," ",IF(B43=""," ",E43*B43/1000)) -> 761.4 | G43: 92.4 | H43: 107.4 | I43: 5.9877 | J43: =IF(H43="","",(H43-G43)*1000/I43) -> 2505.1355 | K43: =IF(J43=""," ",IF(B43=""," ",J43*B43/1000)) -> 117.74137 | M43: 17.4 | N43: =IF(M43=""," ",IF(B43=""," ",M43*B43/1000)) -> 0.8178 | O43: =IF(M43=""," ",IF(COUNT(B43)=""," ",(AVERAGE(B43)*M43/1000))) -> 0.8178
A44: =A43+1 -> 42399 | C44: 1 | E44: =IF(D44="","",(D44*C44)) | F44: =IF(E44=""," ",IF(B44=""," ",E44*B44/1000)) | J44: =IF(H44="","",(H44-G44)*1000/I44) | K44: =IF(J44=""," ",IF(B44=""," ",J44*B44/1000)) | N44: =IF(M44=""," ",IF(B44=""," ",M44*B44/1000)) | O44: =IF(M44=""," ",IF(COUNT(B44)=""," ",(AVERAGE(B44)*M44/1000)))
A45: =A44+1 -> 42400 | C45: 1 | E45: =IF(D45="","",(D45*C45)) | F45: =IF(E45=""," ",IF(B45=""," ",E45*B45/1000)) | J45: =IF(H45="","",(H45-G45)*1000/I45) | K45: =IF(J45=""," ",IF(B45=""," ",J45*B45/1000)) | N45: =IF(M45=""," ",IF(B45=""," ",M45*B45/1000)) | O45: =IF(M45=""," ",IF(COUNT(B45)=""," ",(AVERAGE(B45)*M45/1000)))
A46: =A45+1 -> 42401 | B46: 28 | C46: 1 | D46: 17700 | E46: =IF(D46="","",(D46*C46)) -> 17700 | F46: =IF(E46=""," ",IF(B46=""," ",E46*B46/1000)) -> 495.6 | G46: 91 | H46: 98.8 | I46: 5.0199 | J46: =IF(H46="","",(H46-G46)*1000/I46) -> 1553.8158 | K46: =IF(J46=""," ",IF(B46=""," ",J46*B46/1000)) -> 43.506843 | M46: 44.1 | N46: =IF(M46=""," ",IF(B46=""," ",M46*B46/1000)) -> 1.2348 | O46: =IF(M46=""," ",IF(COUNT(B46)=""," ",(AVERAGE(B46)*M46/1000))) -> 1.2348
A47: =A46+1 -> 42402 | B47: 22 | C47: 1 | D47: 16500 | E47: =IF(D47="","",(D47*C47)) -> 16500 | F47: =IF(E47=""," ",IF(B47=""," ",E47*B47/1000)) -> 363 | G47: 89.6 | H47: 100.5 | I47: 5.4735 | J47: =IF(H47="","",(H47-G47)*1000/I47) -> 1991.4132 | K47: =IF(J47=""," ",IF(B47=""," ",J47*B47/1000)) -> 43.81109 | M47: 8.59 | N47: =IF(M47=""," ",IF(B47=""," ",M47*B47/1000)) -> 0.18898 | O47: =IF(M47=""," ",IF(COUNT(B47)=""," ",(AVERAGE(B47)*M47/1000))) -> 0.18898
A48: =A47+1 -> 42403 | B48: 28 | C48: 1 | D48: 17500 | E48: =IF(D48="","",(D48*C48)) -> 17500 | F48: =IF(E48=""," ",IF(B48=""," ",E48*B48/1000)) -> 490 | G48: 92 | H48: 101.8 | I48: 4.9308 | J48: =IF(H48="","",(H48-G48)*1000/I48) -> 1987.5071 | K48: =IF(J48=""," ",IF(B48=""," ",J48*B48/1000)) -> 55.650199 | M48: 4.08 | N48: =IF(M48=""," ",IF(B48=""," ",M48*B48/1000)) -> 0.11424 | O48: =IF(M48=""," ",IF(COUNT(B48)=""," ",(AVERAGE(B48)*M48/1000))) -> 0.11424
A49: =A48+1 -> 42404 | B49: 30 | C49: 1 | D49: 15300 | E49: =IF(D49="","",(D49*C49)) -> 15300 | F49: =IF(E49=""," ",IF(B49=""," ",E49*B49/1000)) -> 459 | G49: 90.4 | H49: 97.1 | I49: 4.9591 | J49: =IF(H49="","",(H49-G49)*1000/I49) -> 1351.0516 | K49: =IF(J49=""," ",IF(B49=""," ",J49*B49/1000)) -> 40.531548 | M49: 7.6 | N49: =IF(M49=""," ",IF(B49=""," ",M49*B49/1000)) -> 0.228 | O49: =IF(M49=""," ",IF(COUNT(B49)=""," ",(AVERAGE(B49)*M49/1000))) -> 0.228
A50: =A49+1 -> 42405 | B50: 41 | C50: 1 | D50: 18000 | E50: =IF(D50="","",(D50*C50)) -> 18000 | F50: =IF(E50=""," ",IF(B50=""," ",E50*B50/1000)) -> 738 | G50: 91.3 | H50: 100.1 | I50: 4.7896 | J50: =IF(H50="","",(H50-G50)*1000/I50) -> 1837.3142 | K50: =IF(J50=""," ",IF(B50=""," ",J50*B50/1000)) -> 75.329881 | M50: 4.97 | N50: =IF(M50=""," ",IF(B50=""," ",M50*B50/1000)) -> 0.20377 | O50: =IF(M50=""," ",IF(COUNT(B50)=""," ",(AVERAGE(B50)*M50/1000))) -> 0.20377
A51: =A50+1 -> 42406 | C51: 1 | E51: =IF(D51="","",(D51*C51)) | F51: =IF(E51=""," ",IF(B51=""," ",E51*B51/1000)) | J51: =IF(H51="","",(H51-G51)*1000/I51) | K51: =IF(J51=""," ",IF(B51=""," ",J51*B51/1000)) | N51: =IF(M51=""," ",IF(B51=""," ",M51*B51/1000)) | O51: =IF(M51=""," ",IF(COUNT(B51)=""," ",(AVERAGE(B51)*M51/1000)))
A52: =A51+1 -> 42407 | C52: 1 | E52: =IF(D52="","",(D52*C52)) | F52: =IF(E52=""," ",IF(B52=""," ",E52*B52/1000)) | J52: =IF(H52="","",(H52-G52)*1000/I52) | K52: =IF(J52=""," ",IF(B52=""," ",J52*B52/1000)) | N52: =IF(M52=""," ",IF(B52=""," ",M52*B52/1000)) | O52: =IF(M52=""," ",IF(COUNT(B52)=""," ",(AVERAGE(B52)*M52/1000)))
A53: =A52+1 -> 42408 | B53: 16 | C53: 1 | D53: 16700 | E53: =IF(D53="","",(D53*C53)) -> 16700 | F53: =IF(E53=""," ",IF(B53=""," ",E53*B53/1000)) -> 267.2 | G53: 89.8 | H53: 100.7 | I53: 3.923 | J53: =IF(H53="","",(H53-G53)*1000/I53) -> 2778.4859 | K53: =IF(J53=""," ",IF(B53=""," ",J53*B53/1000)) -> 44.455774 | M53: 8.54 | N53: =IF(M53=""," ",IF(B53=""," ",M53*B53/1000)) -> 0.13664 | O53: =IF(M53=""," ",IF(COUNT(B53)=""," ",(AVERAGE(B53)*M53/1000))) -> 0.13664
A54: =A53+1 -> 42409 | B54: 19 | C54: 1 | D54: 14500 | E54: =IF(D54="","",(D54*C54)) -> 14500 | F54: =IF(E54=""," ",IF(B54=""," ",E54*B54/1000)) -> 275.5 | G54: 90.4 | H54: 100.9 | I54: 3.5601 | J54: =IF(H54="","",(H54-G54)*1000/I54) -> 2949.3554 | K54: =IF(J54=""," ",IF(B54=""," ",J54*B54/1000)) -> 56.037752 | M54: 4.69 | N54: =IF(M54=""," ",IF(B54=""," ",M54*B54/1000)) -> 0.08911 | O54: =IF(M54=""," ",IF(COUNT(B54)=""," ",(AVERAGE(B54)*M54/1000))) -> 0.08911
A55: =A54+1 -> 42410 | B55: 47 | C55: 1 | D55: 15300 | E55: =IF(D55="","",(D55*C55)) -> 15300 | F55: =IF(E55=""," ",IF(B55=""," ",E55*B55/1000)) -> 719.1 | G55: 90.4 | H55: 99.7 | I55: 4.4026 | J55: =IF(H55="","",(H55-G55)*1000/I55) -> 2112.3881 | K55: =IF(J55=""," ",IF(B55=""," ",J55*B55/1000)) -> 99.282242 | M55: 6.32 | N55: =IF(M55=""," ",IF(B55=""," ",M55*B55/1000)) -> 0.29704 | O55: =IF(M55=""," ",IF(COUNT(B55)=""," ",(AVERAGE(B55)*M55/1000))) -> 0.29704
A56: =A55+1 -> 42411 | C56: 1 | E56: =IF(D56="","",(D56*C56)) | F56: =IF(E56=""," ",IF(B56=""," ",E56*B56/1000)) | J56: =IF(H56="","",(H56-G56)*1000/I56) | K56: =IF(J56=""," ",IF(B56=""," ",J56*B56/1000)) | N56: =IF(M56=""," ",IF(B56=""," ",M56*B56/1000)) | O56: =IF(M56=""," ",IF(COUNT(B56)=""," ",(AVERAGE(B56)*M56/1000)))
A57: =A56+1 -> 42412 | B57: 32 | C57: 1 | D57: 19000 | E57: =IF(D57="","",(D57*C57)) -> 19000 | F57: =IF(E57=""," ",IF(B57=""," ",E57*B57/1000)) -> 608 | G57: 91.9 | H57: 106.8 | I57: 4.8644 | J57: =IF(H57="","",(H57-G57)*1000/I57) -> 3063.0705 | K57: =IF(J57=""," ",IF(B57=""," ",J57*B57/1000)) -> 98.018255 | M57: 6.09 | N57: =IF(M57=""," ",IF(B57=""," ",M57*B57/1000)) -> 0.19488 | O57: =IF(M57=""," ",IF(COUNT(B57)=""," ",(AVERAGE(B57)*M57/1000))) -> 0.19488
A58: =A57+1 -> 42413 | C58: 1 | E58: =IF(D58="","",(D58*C58)) | F58: =IF(E58=""," ",IF(B58=""," ",E58*B58/1000)) | J58: =IF(H58="","",(H58-G58)*1000/I58) | K58: =IF(J58=""," ",IF(B58=""," ",J58*B58/1000)) | N58: =IF(M58=""," ",IF(B58=""," ",M58*B58/1000)) | O58: =IF(M58=""," ",IF(COUNT(B58)=""," ",(AVERAGE(B58)*M58/1000)))
A59: =A58+1 -> 42414 | C59: 1 | E59: =IF(D59="","",(D59*C59)) | F59: =IF(E59=""," ",IF(B59=""," ",E59*B59/1000)) | J59: =IF(H59="","",(H59-G59)*1000/I59) | K59: =IF(J59=""," ",IF(B59=""," ",J59*B59/1000)) | N59: =IF(M59=""," ",IF(B59=""," ",M59*B59/1000)) | O59: =IF(M59=""," ",IF(COUNT(B59)=""," ",(AVERAGE(B59)*M59/1000)))
A60: =A59+1 -> 42415 | B60: 22 | C60: 1 | D60: 17400 | E60: =IF(D60="","",(D60*C60)) -> 17400 | F60: =IF(E60=""," ",IF(B60=""," ",E60*B60/1000)) -> 382.8 | G60: 93 | H60: 102.3 | I60: 3.9787 | J60: =IF(H60="","",(H60-G60)*1000/I60) -> 2337.4469 | K60: =IF(J60=""," ",IF(B60=""," ",J60*B60/1000)) -> 51.423832 | M60: 10 | N60: =IF(M60=""," ",IF(B60=""," ",M60*B60/1000)) -> 0.22 | O60: =IF(M60=""," ",IF(COUNT(B60)=""," ",(AVERAGE(B60)*M60/1000))) -> 0.22
A61: =A60+1 -> 42416 | B61: 16 | C61: 1 | D61: 16900 | E61: =IF(D61="","",(D61*C61)) -> 16900 | F61: =IF(E61=""," ",IF(B61=""," ",E61*B61/1000)) -> 270.4 | G61: 92.7 | H61: 97.8 | I61: 1.995 | J61: =IF(H61="","",(H61-G61)*1000/I61) -> 2556.391 | K61: =IF(J61=""," ",IF(B61=""," ",J61*B61/1000)) -> 40.902256 | M61: 6.15 | N61: =IF(M61=""," ",IF(B61=""," ",M61*B61/1000)) -> 0.0984 | O61: =IF(M61=""," ",IF(COUNT(B61)=""," ",(AVERAGE(B61)*M61/1000))) -> 0.0984
A62: =A61+1 -> 42417 | B62: 48 | C62: 1 | D62: 15300 | E62: =IF(D62="","",(D62*C62)) -> 15300 | F62: =IF(E62=""," ",IF(B62=""," ",E62*B62/1000)) -> 734.4 | G62: 87.9 | H62: 98 | I62: 4.9592 | J62: =IF(H62="","",(H62-G62)*1000/I62) -> 2036.6188 | K62: =IF(J62=""," ",IF(B62=""," ",J62*B62/1000)) -> 97.757703 | M62: 5.8 | N62: =IF(M62=""," ",IF(B62=""," ",M62*B62/1000)) -> 0.2784 | O62: =IF(M62=""," ",IF(COUNT(B62)=""," ",(AVERAGE(B62)*M62/1000))) -> 0.2784
A63: =A62+1 -> 42418 | B63: 23 | C63: 1 | D63: 11700 | E63: =IF(D63="","",(D63*C63)) -> 11700 | F63: =IF(E63=""," ",IF(B63=""," ",E63*B63/1000)) -> 269.1 | G63: 90.4 | H63: 96 | I63: 4.1156 | J63: =IF(H63="","",(H63-G63)*1000/I63) -> 1360.6765 | K63: =IF(J63=""," ",IF(B63=""," ",J63*B63/1000)) -> 31.295558 | N63: =IF(M63=""," ",IF(B63=""," ",M63*B63/1000)) | O63: =IF(M63=""," ",IF(COUNT(B63)=""," ",(AVERAGE(B63)*M63/1000)))
A64: =A63+1 -> 42419 | B64: 40 | C64: 1 | D64: 12300 | E64: =IF(D64="","",(D64*C64)) -> 12300 | F64: =IF(E64=""," ",IF(B64=""," ",E64*B64/1000)) -> 492 | G64: 89.2 | H64: 93.7 | I64: 2.2219 | J64: =IF(H64="","",(H64-G64)*1000/I64) -> 2025.2937 | K64: =IF(J64=""," ",IF(B64=""," ",J64*B64/1000)) -> 81.011747 | M64: 6.58 | N64: =IF(M64=""," ",IF(B64=""," ",M64*B64/1000)) -> 0.2632 | O64: =IF(M64=""," ",IF(COUNT(B64)=""," ",(AVERAGE(B64)*M64/1000))) -> 0.2632
A65: =A64+1 -> 42420 | C65: 1 | E65: =IF(D65="","",(D65*C65)) | F65: =IF(E65=""," ",IF(B65=""," ",E65*B65/1000)) | J65: =IF(H65="","",(H65-G65)*1000/I65) | K65: =IF(J65=""," ",IF(B65=""," ",J65*B65/1000)) | N65: =IF(M65=""," ",IF(B65=""," ",M65*B65/1000)) | O65: =IF(M65=""," ",IF(COUNT(B65)=""," ",(AVERAGE(B65)*M65/1000)))
A66: =A65+1 -> 42421 | C66: 1 | E66: =IF(D66="","",(D66*C66)) | F66: =IF(E66=""," ",IF(B66=""," ",E66*B66/1000)) | J66: =IF(H66="","",(H66-G66)*1000/I66) | K66: =IF(J66=""," ",IF(B66=""," ",J66*B66/1000)) | N66: =IF(M66=""," ",IF(B66=""," ",M66*B66/1000)) | O66: =IF(M66=""," ",IF(COUNT(B66)=""," ",(AVERAGE(B66)*M66/1000)))
A67: =A66+1 -> 42422 | B67: 32 | C67: 1 | D67: 12200 | E67: =IF(D67="","",(D67*C67)) -> 12200 | F67: =IF(E67=""," ",IF(B67=""," ",E67*B67/1000)) -> 390.4 | G67: 88.1 | H67: 93.4 | I67: 4.3517 | J67: =IF(H67="","",(H67-G67)*1000/I67) -> 1217.9148 | K67: =IF(J67=""," ",IF(B67=""," ",J67*B67/1000)) -> 38.973275 | M67: 7.44 | N67: =IF(M67=""," ",IF(B67=""," ",M67*B67/1000)) -> 0.23808 | O67: =IF(M67=""," ",IF(COUNT(B67)=""," ",(AVERAGE(B67)*M67/1000))) -> 0.23808
A68: =A67+1 -> 42423 | B68: 31 | C68: 1 | D68: 11800 | E68: =IF(D68="","",(D68*C68)) -> 11800 | F68: =IF(E68=""," ",IF(B68=""," ",E68*B68/1000)) -> 365.8 | G68: 90.1 | H68: 99.4 | I68: 5.0144 | J68: =IF(H68="","",(H68-G68)*1000/I68) -> 1854.6586 | K68: =IF(J68=""," ",IF(B68=""," ",J68*B68/1000)) -> 57.494416 | M68: 3.97 | N68: =IF(M68=""," ",IF(B68=""," ",M68*B68/1000)) -> 0.12307 | O68: =IF(M68=""," ",IF(COUNT(B68)=""," ",(AVERAGE(B68)*M68/1000))) -> 0.12307
A69: =A68+1 -> 42424 | B69: 17 | C69: 1 | D69: 10600 | E69: =IF(D69="","",(D69*C69)) -> 10600 | F69: =IF(E69=""," ",IF(B69=""," ",E69*B69/1000)) -> 180.2 | G69: 89.7 | H69: 98.6 | I69: 4.8896 | J69: =IF(H69="","",(H69-G69)*1000/I69) -> 1820.1898 | K69: =IF(J69=""," ",IF(B69=""," ",J69*B69/1000)) -> 30.943226 | M69: 1.03 | N69: =IF(M69=""," ",IF(B69=""," ",M69*B69/1000)) -> 0.01751 | O69: =IF(M69=""," ",IF(COUNT(B69)=""," ",(AVERAGE(B69)*M69/1000))) -> 0.01751
A70: =A69+1 -> 42425 | C70: 1 | E70: =IF(D70="","",(D70*C70)) | F70: =IF(E70=""," ",IF(B70=""," ",E70*B70/1000)) | J70: =IF(H70="","",(H70-G70)*1000/I70) | K70: =IF(J70=""," ",IF(B70=""," ",J70*B70/1000)) | N70: =IF(M70=""," ",IF(B70=""," ",M70*B70/1000)) | O70: =IF(M70=""," ",IF(COUNT(B70)=""," ",(AVERAGE(B70)*M70/1000)))
A71: =A70+1 -> 42426 | B71: 46 | C71: 1 | D71: 15100 | E71: =IF(D71="","",(D71*C71)) -> 15100 | F71: =IF(E71=""," ",IF(B71=""," ",E71*B71/1000)) -> 694.6 | G71: 89.6 | H71: 100.3 | I71: 4.8179 | J71: =IF(H71="","",(H71-G71)*1000/I71) -> 2220.8846 | K71: =IF(J71=""," ",IF(B71=""," ",J71*B71/1000)) -> 102.16069 | M71: 3.35 | N71: =IF(M71=""," ",IF(B71=""," ",M71*B71/1000)) -> 0.1541 | O71: =IF(M71=""," ",IF(COUNT(B71)=""," ",(AVERAGE(B71)*M71/1000))) -> 0.1541
A72: =A71+1 -> 42427 | C72: 1 | E72: =IF(D72="","",(D72*C72)) | F72: =IF(E72=""," ",IF(B72=""," ",E72*B72/1000)) | J72: =IF(H72="","",(H72-G72)*1000/I72) | K72: =IF(J72=""," ",IF(B72=""," ",J72*B72/1000)) | N72: =IF(M72=""," ",IF(B72=""," ",M72*B72/1000)) | O72: =IF(M72=""," ",IF(COUNT(B72)=""," ",(AVERAGE(B72)*M72/1000)))
A73: =A72+1 -> 42428 | C73: 1 | E73: =IF(D73="","",(D73*C73)) | F73: =IF(E73=""," ",IF(B73=""," ",E73*B73/1000)) | J73: =IF(H73="","",(H73-G73)*1000/I73) | K73: =IF(J73=""," ",IF(B73=""," ",J73*B73/1000)) | N73: =IF(M73=""," ",IF(B73=""," ",M73*B73/1000)) | O73: =IF(M73=""," ",IF(COUNT(B73)=""," ",(AVERAGE(B73)*M73/1000)))
A74: =A73+1 -> 42429 | B74: 44 | C74: 1 | D74: 14300 | E74: =IF(D74="","",(D74*C74)) -> 14300 | F74: =IF(E74=""," ",IF(B74=""," ",E74*B74/1000)) -> 629.2 | G74: 91.1 | H74: 100 | I74: 4.9098 | J74: =IF(H74="","",(H74-G74)*1000/I74) -> 1812.7011 | K74: =IF(J74=""," ",IF(B74=""," ",J74*B74/1000)) -> 79.75885 | M74: 11.8 | N74: =IF(M74=""," ",IF(B74=""," ",M74*B74/1000)) -> 0.5192 | O74: =IF(M74=""," ",IF(COUNT(B74)=""," ",(AVERAGE(B74)*M74/1000))) -> 0.5192
A75: =A74+1 -> 42430 | B75: 44 | C75: 1 | D75: 8780 | E75: =IF(D75="","",(D75*C75)) -> 8780 | F75: =IF(E75=""," ",IF(B75=""," ",E75*B75/1000)) -> 386.32 | G75: 90.6 | H75: 97.1 | I75: 5.525 | J75: =IF(H75="","",(H75-G75)*1000/I75) -> 1176.4706 | K75: =IF(J75=""," ",IF(B75=""," ",J75*B75/1000)) -> 51.764706 | M75: 10.2 | N75: =IF(M75=""," ",IF(B75=""," ",M75*B75/1000)) -> 0.4488 | O75: =IF(M75=""," ",IF(COUNT(B75)=""," ",(AVERAGE(B75)*M75/1000))) -> 0.4488
A76: =A75+1 -> 42431 | B76: 25 | C76: 1 | D76: 11600 | E76: =IF(D76="","",(D76*C76)) -> 11600 | F76: =IF(E76=""," ",IF(B76=""," ",E76*B76/1000)) -> 290 | G76: 90 | H76: 97.9 | I76: 4.9513 | J76: =IF(H76="","",(H76-G76)*1000/I76) -> 1595.5406 | K76: =IF(J76=""," ",IF(B76=""," ",J76*B76/1000)) -> 39.888514 | M76: 3.72 | N76: =IF(M76=""," ",IF(B76=""," ",M76*B76/1000)) -> 0.093 | O76: =IF(M76=""," ",IF(COUNT(B76)=""," ",(AVERAGE(B76)*M76/1000))) -> 0.093
A77: =A76+1 -> 42432 | C77: 1 | E77: =IF(D77="","",(D77*C77)) | F77: =IF(E77=""," ",IF(B77=""," ",E77*B77/1000)) | J77: =IF(H77="","",(H77-G77)*1000/I77) | K77: =IF(J77=""," ",IF(B77=""," ",J77*B77/1000)) | N77: =IF(M77=""," ",IF(B77=""," ",M77*B77/1000)) | O77: =IF(M77=""," ",IF(COUNT(B77)=""," ",(AVERAGE(B77)*M77/1000)))
A78: =A77+1 -> 42433 | B78: 26 | C78: 1 | D78: 12700 | E78: =IF(D78="","",(D78*C78)) -> 12700 | F78: =IF(E78=""," ",IF(B78=""," ",E78*B78/1000)) -> 330.2 | G78: 89.7 | H78: 97.3 | I78: 4.3869 | J78: =IF(H78="","",(H78-G78)*1000/I78) -> 1732.4306 | K78: =IF(J78=""," ",IF(B78=""," ",J78*B78/1000)) -> 45.043197 | M78: 4.27 | N78: =IF(M78=""," ",IF(B78=""," ",M78*B78/1000)) -> 0.11102 | O78: =IF(M78=""," ",IF(COUNT(B78)=""," ",(AVERAGE(B78)*M78/1000))) -> 0.11102
A79: =A78+1 -> 42434 | C79: 1 | E79: =IF(D79="","",(D79*C79)) | F79: =IF(E79=""," ",IF(B79=""," ",E79*B79/1000)) | J79: =IF(H79="","",(H79-G79)*1000/I79) | K79: =IF(J79=""," ",IF(B79=""," ",J79*B79/1000)) | N79: =IF(M79=""," ",IF(B79=""," ",M79*B79/1000)) | O79: =IF(M79=""," ",IF(COUNT(B79)=""," ",(AVERAGE(B79)*M79/1000)))
A80: =A79+1 -> 42435 | C80: 1 | E80: =IF(D80="","",(D80*C80)) | F80: =IF(E80=""," ",IF(B80=""," ",E80*B80/1000)) | J80: =IF(H80="","",(H80-G80)*1000/I80) | K80: =IF(J80=""," ",IF(B80=""," ",J80*B80/1000)) | N80: =IF(M80=""," ",IF(B80=""," ",M80*B80/1000)) | O80: =IF(M80=""," ",IF(COUNT(B80)=""," ",(AVERAGE(B80)*M80/1000)))
A81: =A80+1 -> 42436 | B81: 41 | C81: 1 | D81: 16600 | E81: =IF(D81="","",(D81*C81)) -> 16600 | F81: =IF(E81=""," ",IF(B81=""," ",E81*B81/1000)) -> 680.6 | G81: 91.4 | H81: 104.2 | I81: 4.9697 | J81: =IF(H81="","",(H81-G81)*1000/I81) -> 2575.6082 | K81: =IF(J81=""," ",IF(B81=""," ",J81*B81/1000)) -> 105.59994 | M81: 13.7 | N81: =IF(M81=""," ",IF(B81=""," ",M81*B81/1000)) -> 0.5617 | O81: =IF(M81=""," ",IF(COUNT(B81)=""," ",(AVERAGE(B81)*M81/1000))) -> 0.5617
A82: =A81+1 -> 42437 | B82: 40 | C82: 1 | D82: 16900 | E82: =IF(D82="","",(D82*C82)) -> 16900 | F82: =IF(E82=""," ",IF(B82=""," ",E82*B82/1000)) -> 676 | G82: 91 | H82: 99.9 | I82: 3.5807 | J82: =IF(H82="","",(H82-G82)*1000/I82) -> 2485.5475 | K82: =IF(J82=""," ",IF(B82=""," ",J82*B82/1000)) -> 99.421901 | M82: 13.7 | N82: =IF(M82=""," ",IF(B82=""," ",M82*B82/1000)) -> 0.548 | O82: =IF(M82=""," ",IF(COUNT(B82)=""," ",(AVERAGE(B82)*M82/1000))) -> 0.548
A83: =A82+1 -> 42438 | B83: 33 | C83: 1 | D83: 19900 | E83: =IF(D83="","",(D83*C83)) -> 19900 | F83: =IF(E83=""," ",IF(B83=""," ",E83*B83/1000)) -> 656.7 | G83: 91.6 | H83: 101.3 | I83: 3.974 | J83: =IF(H83="","",(H83-G83)*1000/I83) -> 2440.8656 | K83: =IF(J83=""," ",IF(B83=""," ",J83*B83/1000)) -> 80.548566 | M83: 9.37 | N83: =IF(M83=""," ",IF(B83=""," ",M83*B83/1000)) -> 0.30921 | O83: =IF(M83=""," ",IF(COUNT(B83)=""," ",(AVERAGE(B83)*M83/1000))) -> 0.30921
A84: =A83+1 -> 42439 | C84: 1 | E84: =IF(D84="","",(D84*C84)) | F84: =IF(E84=""," ",IF(B84=""," ",E84*B84/1000)) | J84: =IF(H84="","",(H84-G84)*1000/I84) | K84: =IF(J84=""," ",IF(B84=""," ",J84*B84/1000)) | N84: =IF(M84=""," ",IF(B84=""," ",M84*B84/1000)) | O84: =IF(M84=""," ",IF(COUNT(B84)=""," ",(AVERAGE(B84)*M84/1000)))
A85: =A84+1 -> 42440 | B85: 52 | C85: 1 | D85: 12700 | E85: =IF(D85="","",(D85*C85)) -> 12700 | F85: =IF(E85=""," ",IF(B85=""," ",E85*B85/1000)) -> 660.4 | G85: 92 | H85: 95.6 | I85: 2 | J85: =IF(H85="","",(H85-G85)*1000/I85) -> 1800 | K85: =IF(J85=""," ",IF(B85=""," ",J85*B85/1000)) -> 93.6 | M85: 2.84 | N85: =IF(M85=""," ",IF(B85=""," ",M85*B85/1000)) -> 0.14768 | O85: =IF(M85=""," ",IF(COUNT(B85)=""," ",(AVERAGE(B85)*M85/1000))) -> 0.14768
A86: =A85+1 -> 42441 | C86: 1 | E86: =IF(D86="","",(D86*C86)) | F86: =IF(E86=""," ",IF(B86=""," ",E86*B86/1000)) | J86: =IF(H86="","",(H86-G86)*1000/I86) | K86: =IF(J86=""," ",IF(B86=""," ",J86*B86/1000)) | N86: =IF(M86=""," ",IF(B86=""," ",M86*B86/1000)) | O86: =IF(M86=""," ",IF(COUNT(B86)=""," ",(AVERAGE(B86)*M86/1000)))
A87: =A86+1 -> 42442 | C87: 1 | E87: =IF(D87="","",(D87*C87)) | F87: =IF(E87=""," ",IF(B87=""," ",E87*B87/1000)) | J87: =IF(H87="","",(H87-G87)*1000/I87) | K87: =IF(J87=""," ",IF(B87=""," ",J87*B87/1000)) | N87: =IF(M87=""," ",IF(B87=""," ",M87*B87/1000)) | O87: =IF(M87=""," ",IF(COUNT(B87)=""," ",(AVERAGE(B87)*M87/1000)))
A88: =A87+1 -> 42443 | B88: 35 | C88: 1 | D88: 13000 | E88: =IF(D88="","",(D88*C88)) -> 13000 | F88: =IF(E88=""," ",IF(B88=""," ",E88*B88/1000)) -> 455 | G88: 91.2 | H88: 96 | I88: 2.9582 | J88: =IF(H88="","",(H88-G88)*1000/I88) -> 1622.6083 | K88: =IF(J88=""," ",IF(B88=""," ",J88*B88/1000)) -> 56.791292 | M88: 8.63 | N88: =IF(M88=""," ",IF(B88=""," ",M88*B88/1000)) -> 0.30205 | O88: =IF(M88=""," ",IF(COUNT(B88)=""," ",(AVERAGE(B88)*M88/1000))) -> 0.30205
A89: =A88+1 -> 42444 | B89: 25 | C89: 1 | D89: 14000 | E89: =IF(D89="","",(D89*C89)) -> 14000 | F89: =IF(E89=""," ",IF(B89=""," ",E89*B89/1000)) -> 350 | G89: 90 | H89: 95.5 | I89: 2.9862 | J89: =IF(H89="","",(H89-G89)*1000/I89) -> 1841.8056 | K89: =IF(J89=""," ",IF(B89=""," ",J89*B89/1000)) -> 46.045141 | M89: 0.37 | N89: =IF(M89=""," ",IF(B89=""," ",M89*B89/1000)) -> 0.00925 | O89: =IF(M89=""," ",IF(COUNT(B89)=""," ",(AVERAGE(B89)*M89/1000))) -> 0.00925
A90: =A89+1 -> 42445 | B90: 20 | C90: 1 | D90: 13100 | E90: =IF(D90="","",(D90*C90)) -> 13100 | F90: =IF(E90=""," ",IF(B90=""," ",E90*B90/1000)) -> 262 | G90: 90.8 | H90: 98.6 | I90: 4.2698 | J90: =IF(H90="","",(H90-G90)*1000/I90) -> 1826.7835 | K90: =IF(J90=""," ",IF(B90=""," ",J90*B90/1000)) -> 36.535669 | M90: 9.31 | N90: =IF(M90=""," ",IF(B90=""," ",M90*B90/1000)) -> 0.1862 | O90: =IF(M90=""," ",IF(COUNT(B90)=""," ",(AVERAGE(B90)*M90/1000))) -> 0.1862
A91: =A90+1 -> 42446 | B91: 8 | C91: 1 | D91: 13400 | E91: =IF(D91="","",(D91*C91)) -> 13400 | F91: =IF(E91=""," ",IF(B91=""," ",E91*B91/1000)) -> 107.2 | G91: 91 | H91: 98.6 | I91: 4.3234 | J91: =IF(H91="","",(H91-G91)*1000/I91) -> 1757.8757 | K91: =IF(J91=""," ",IF(B91=""," ",J91*B91/1000)) -> 14.063006 | M91: 11.1 | N91: =IF(M91=""," ",IF(B91=""," ",M91*B91/1000)) -> 0.0888 | O91: =IF(M91=""," ",IF(COUNT(B91)=""," ",(AVERAGE(B91)*M91/1000))) -> 0.0888
A92: =A91+1 -> 42447 | C92: 1 | E92: =IF(D92="","",(D92*C92)) | F92: =IF(E92=""," ",IF(B92=""," ",E92*B92/1000)) | J92: =IF(H92="","",(H92-G92)*1000/I92) | K92: =IF(J92=""," ",IF(B92=""," ",J92*B92/1000)) | N92: =IF(M92=""," ",IF(B92=""," ",M92*B92/1000)) | O92: =IF(M92=""," ",IF(COUNT(B92)=""," ",(AVERAGE(B92)*M92/1000)))
A93: =A92+1 -> 42448 | C93: 1 | E93: =IF(D93="","",(D93*C93)) | F93: =IF(E93=""," ",IF(B93=""," ",E93*B93/1000)) | J93: =IF(H93="","",(H93-G93)*1000/I93) | K93: =IF(J93=""," ",IF(B93=""," ",J93*B93/1000)) | N93: =IF(M93=""," ",IF(B93=""," ",M93*B93/1000)) | O93: =IF(M93=""," ",IF(COUNT(B93)=""," ",(AVERAGE(B93)*M93/1000)))
A94: =A93+1 -> 42449 | C94: 1 | E94: =IF(D94="","",(D94*C94)) | F94: =IF(E94=""," ",IF(B94=""," ",E94*B94/1000)) | J94: =IF(H94="","",(H94-G94)*1000/I94) | K94: =IF(J94=""," ",IF(B94=""," ",J94*B94/1000)) | N94: =IF(M94=""," ",IF(B94=""," ",M94*B94/1000)) | O94: =IF(M94=""," ",IF(COUNT(B94)=""," ",(AVERAGE(B94)*M94/1000)))
A95: =A94+1 -> 42450 | B95: 35 | C95: 1 | D95: 11000 | E95: =IF(D95="","",(D95*C95)) -> 11000 | F95: =IF(E95=""," ",IF(B95=""," ",E95*B95/1000)) -> 385 | G95: 91.4 | H95: 94 | I95: 2.0064 | J95: =IF(H95="","",(H95-G95)*1000/I95) -> 1295.8533 | K95: =IF(J95=""," ",IF(B95=""," ",J95*B95/1000)) -> 45.354864 | M95: 9.68 | N95: =IF(M95=""," ",IF(B95=""," ",M95*B95/1000)) -> 0.3388 | O95: =IF(M95=""," ",IF(COUNT(B95)=""," ",(AVERAGE(B95)*M95/1000))) -> 0.3388
A96: =A95+1 -> 42451 | B96: 21 | C96: 1 | D96: 10600 | E96: =IF(D96="","",(D96*C96)) -> 10600 | F96: =IF(E96=""," ",IF(B96=""," ",E96*B96/1000)) -> 222.6 | G96: 92.4 | H96: 96.1 | I96: 2.0082 | J96: =IF(H96="","",(H96-G96)*1000/I96) -> 1842.446 | K96: =IF(J96=""," ",IF(B96=""," ",J96*B96/1000)) -> 38.691365 | M96: 8.59 | N96: =IF(M96=""," ",IF(B96=""," ",M96*B96/1000)) -> 0.18039 | O96: =IF(M96=""," ",IF(COUNT(B96)=""," ",(AVERAGE(B96)*M96/1000))) -> 0.18039
A97: =A96+1 -> 42452 | B97: 21 | C97: 1 | D97: 8430 | E97: =IF(D97="","",(D97*C97)) -> 8430 | F97: =IF(E97=""," ",IF(B97=""," ",E97*B97/1000)) -> 177.03 | G97: 90.7 | H97: 93.3 | I97: 2.0353 | J97: =IF(H97="","",(H97-G97)*1000/I97) -> 1277.453 | K97: =IF(J97=""," ",IF(B97=""," ",J97*B97/1000)) -> 26.826512 | M97: 6.31 | N97: =IF(M97=""," ",IF(B97=""," ",M97*B97/1000)) -> 0.13251 | O97: =IF(M97=""," ",IF(COUNT(B97)=""," ",(AVERAGE(B97)*M97/1000))) -> 0.13251
A98: =A97+1 -> 42453 | B98: 42 | C98: 1 | D98: 16100 | E98: =IF(D98="","",(D98*C98)) -> 16100 | F98: =IF(E98=""," ",IF(B98=""," ",E98*B98/1000)) -> 676.2 | G98: 90.6 | H98: 94 | I98: 1.9823 | J98: =IF(H98="","",(H98-G98)*1000/I98) -> 1715.1793 | K98: =IF(J98=""," ",IF(B98=""," ",J98*B98/1000)) -> 72.037532 | M98: 17.7 | N98: =IF(M98=""," ",IF(B98=""," ",M98*B98/1000)) -> 0.7434 | O98: =IF(M98=""," ",IF(COUNT(B98)=""," ",(AVERAGE(B98)*M98/1000))) -> 0.7434
A99: =A98+1 -> 42454 | C99: 1 | E99: =IF(D99="","",(D99*C99)) | F99: =IF(E99=""," ",IF(B99=""," ",E99*B99/1000)) | J99: =IF(H99="","",(H99-G99)*1000/I99) | K99: =IF(J99=""," ",IF(B99=""," ",J99*B99/1000)) | N99: =IF(M99=""," ",IF(B99=""," ",M99*B99/1000)) | O99: =IF(M99=""," ",IF(COUNT(B99)=""," ",(AVERAGE(B99)*M99/1000)))
A100: =A99+1 -> 42455 | C100: 1 | E100: =IF(D100="","",(D100*C100)) | F100: =IF(E100=""," ",IF(B100=""," ",E100*B100/1000)) | J100: =IF(H100="","",(H100-G100)*1000/I100) | K100: =IF(J100=""," ",IF(B100=""," ",J100*B100/1000)) | N100: =IF(M100=""," ",IF(B100=""," ",M100*B100/1000)) | O100: =IF(M100=""," ",IF(COUNT(B100)=""," ",(AVERAGE(B100)*M100/1000)))
A101: =A100+1 -> 42456 | C101: 1 | E101: =IF(D101="","",(D101*C101)) | F101: =IF(E101=""," ",IF(B101=""," ",E101*B101/1000)) | J101: =IF(H101="","",(H101-G101)*1000/I101) | K101: =IF(J101=""," ",IF(B101=""," ",J101*B101/1000)) | N101: =IF(M101=""," ",IF(B101=""," ",M101*B101/1000)) | O101: =IF(M101=""," ",IF(COUNT(B101)=""," ",(AVERAGE(B101)*M101/1000)))
A102: =A101+1 -> 42457 | C102: 1 | E102: =IF(D102="","",(D102*C102)) | F102: =IF(E102=""," ",IF(B102=""," ",E102*B102/1000)) | J102: =IF(H102="","",(H102-G102)*1000/I102) | K102: =IF(J102=""," ",IF(B102=""," ",J102*B102/1000)) | N102: =IF(M102=""," ",IF(B102=""," ",M102*B102/1000)) | O102: =IF(M102=""," ",IF(COUNT(B102)=""," ",(AVERAGE(B102)*M102/1000)))
...

Sheet KPI
B2: KPI
B4: Année: | C4: 2016
D7: Somme des résultats | E7: Moyenne des résultats | F7: Valeur mini | G7: Valeur maxi | H7: Valeur >au seuil
A8: 1 | B8: =DATE($C$4,A8,1) -> 42370 | C8: Débit | D8: =SUMPRODUCT((MONTH(DatesSH)=$A8)*(OFFSET(DatesSH,,INDEX(ColSH,MATCH($C8,Param,0))))) -> 1313935 | F8: {=MIN(IF((MONTH(DatesSH)=$A8)*(OFFSET(DatesSH,,INDEX(ColSH,MATCH($C8,Param,0))))>0,OFFSET(DatesSH,,INDEX(ColSH,MATCH($C8,Param,0)))))} -> 42370 | G8: {=MAX(IF((MONTH(DatesSH)=$A8)*(OFFSET(DatesSH,,INDEX(ColSH,MATCH($C8,Param,0))))>0,OFFSET(DatesSH,,INDEX(ColSH,MATCH($C8,Param,0)))))} -> 42400 | H8: =SUMPRODUCT((MONTH(DatesSH)=$A8)*(OFFSET(DatesSH,,INDEX(ColSH,MATCH($C8,Param,0)))>=INDEX(SeuilSH,MATCH($C8,Param,0)))) -> 31
A9: =A8 -> 1 | C9: pH
A10: =A9 -> 1 | C10: DCO | D10: =SUMPRODUCT((MONTH(DatesSH)=$A10)*(OFFSET(DatesSH,,INDEX(ColSH,MATCH($C10,Param,0))))) -> 1313935 | E10: =IF(#REF!=0,0,D10/#REF!) -> #REF! | F10: {=MIN(IF((MONTH(DatesSH)=$A10)*(OFFSET(DatesSH,,INDEX(ColSH,MATCH($C10,Param,0))))>0,OFFSET(DatesSH,,INDEX(ColSH,MATCH($C10,Param,0)))))} -> 42370 | G10: {=MAX(IF((MONTH(DatesSH)=$A10)*(OFFSET(DatesSH,,INDEX(ColSH,MATCH($C10,Param,0))))>0,OFFSET(DatesSH,,INDEX(ColSH,MATCH($C10,Param,0)))))} -> 42400 | H10: =SUMPRODUCT((MONTH(DatesSH)=$A10)*(OFFSET(DatesSH,,INDEX(ColSH,MATCH($C10,Param,0)))>=INDEX(SeuilSH,MATCH($C10,Param,0)))) -> 31
A11: =A10 -> 1 | C11: DCO à D2
A12: =A11 -> 1 | C12: MES | D12: =SUMPRODUCT((MONTH(DatesSH)=$A12)*(OFFSET(DatesSH,,INDEX(ColSH,MATCH($C12,Param,0))))) -> 1313935 | E12: =IF(#REF!=0,0,D12/#REF!) -> #REF! | F12: {=MIN(IF((MONTH(DatesSH)=$A12)*(OFFSET(DatesSH,,INDEX(ColSH,MATCH($C12,Param,0))))>0,OFFSET(DatesSH,,INDEX(ColSH,MATCH($C12,Param,0)))))} -> 42370 | G12: {=MAX(IF((MONTH(DatesSH)=$A12)*(OFFSET(DatesSH,,INDEX(ColSH,MATCH($C12,Param,0))))>0,OFFSET(DatesSH,,INDEX(ColSH,MATCH($C12,Param,0)))))} -> 42400 | H12: =SUMPRODUCT((MONTH(DatesSH)=$A12)*(OFFSET(DatesSH,,INDEX(ColSH,MATCH($C12,Param,0)))>=INDEX(SeuilSH,MATCH($C12,Param,0)))) -> 31
A13: =A12 -> 1 | C13: Ptotal
A14: =A13 -> 1 | C14: NTK
A15: =A14 -> 1 | C15: NH4
A16: =A15 -> 1 | C16: NO2
A17: =A16 -> 1 | C17: NO3
A18: 1 | C18: Hydrocarbure
A19: =A17 -> 1 | C19: Aluminium
A20: =A19 -> 1 | C20: Chrome total
A21: =A20 -> 1 | C21: Chrome 6+
A22: =A21 -> 1 | C22: Cuivre
A23: =A22 -> 1 | C23: Fer
A24: =A23 -> 1 | C24: Manganèse
A25: =A24 -> 1 | C25: Nickel
A26: =A25 -> 1 | C26: Plomb
A27: =A26 -> 1 | C27: Zinc
A28: =A27 -> 1 | C28: Total Métaux | D28: =SUM(D8:D27) -> 3941805 | E28: =SUM(E8:E27) -> #REF! | F28: =SUM(F8:F27) -> 127110 | G28: =SUM(G8:G27) -> 127200 | H28: =SUM(H8:H27) -> 93
B29: =DATE($C$4,A8,1) -> 42370
A30: 2 | B30: =DATE($C$4,A30,1) -> 42401 | C30: Débit | D30: =SUMPRODUCT((MONTH(DatesSH)=$A30)*(OFFSET(DatesSH,,INDEX(ColSH,MATCH($C30,Param,0))))) -> 1230035 | F30: {=MIN(IF((MONTH(DatesSH)=$A30)*(OFFSET(DatesSH,,INDEX(ColSH,MATCH($C30,Param,0))))>0,OFFSET(DatesSH,,INDEX(ColSH,MATCH($C30,Param,0)))))} -> 42401 | G30: {=MAX(IF((MONTH(DatesSH)=$A30)*(OFFSET(DatesSH,,INDEX(ColSH,MATCH($C30,Param,0))))>0,OFFSET(DatesSH,,INDEX(ColSH,MATCH($C30,Param,0)))))} -> 42429 | H30: =SUMPRODUCT((MONTH(DatesSH)=$A30)*(OFFSET(DatesSH,,INDEX(ColSH,MATCH($C30,Param,0)))>=INDEX(SeuilSH,MATCH($C30,Param,0)))) -> 29
A31: =A30 -> 2 | C31: pH
A32: =A31 -> 2 | C32: DCO | D32: =SUMPRODUCT((MONTH(DatesSH)=$A32)*(OFFSET(DatesSH,,INDEX(ColSH,MATCH($C32,Param,0))))) -> 1230035 | E32: =IF(#REF!=0,0,D32/#REF!) -> #REF! | F32: {=MIN(IF((MONTH(DatesSH)=$A32)*(OFFSET(DatesSH,,INDEX(ColSH,MATCH($C32,Param,0))))>0,OFFSET(DatesSH,,INDEX(ColSH,MATCH($C32,Param,0)))))} -> 42401 | G32: {=MAX(IF((MONTH(DatesSH)=$A32)*(OFFSET(DatesSH,,INDEX(ColSH,MATCH($C32,Param,0))))>0,OFFSET(DatesSH,,INDEX(ColSH,MATCH($C32,Param,0)))))} -> 42429 | H32: =SUMPRODUCT((MONTH(DatesSH)=$A32)*(OFFSET(DatesSH,,INDEX(ColSH,MATCH($C32,Param,0)))>=INDEX(SeuilSH,MATCH($C32,Param,0)))) -> 29
A33: =A32 -> 2 | C33: DCO à D2
A34: =A33 -> 2 | C34: MES | D34: =SUMPRODUCT((MONTH(DatesSH)=$A34)*(OFFSET(DatesSH,,INDEX(ColSH,MATCH($C34,Param,0))))) -> 1230035 | E34: =IF(#REF!=0,0,D34/#REF!) -> #REF! | F34: {=MIN(IF((MONTH(DatesSH)=$A34)*(OFFSET(DatesSH,,INDEX(ColSH,MATCH($C34,Param,0))))>0,OFFSET(DatesSH,,INDEX(ColSH,MATCH($C34,Param,0)))))} -> 42401 | G34: {=MAX(IF((MONTH(DatesSH)=$A34)*(OFFSET(DatesSH,,INDEX(ColSH,MATCH($C34,Param,0))))>0,OFFSET(DatesSH,,INDEX(ColSH,MATCH($C34,Param,0)))))} -> 42429 | H34: =SUMPRODUCT((MONTH(DatesSH)=$A34)*(OFFSET(DatesSH,,INDEX(ColSH,MATCH($C34,Param,0)))>=INDEX(SeuilSH,MATCH($C34,Param,0)))) -> 29
A35: =A34 -> 2 | C35: P
A36: =A35 -> 2 | C36: NTK
A37: =A36 -> 2 | C37: NH4
A38: =A37 -> 2 | C38: NO2
A39: =A38 -> 2 | C39: NO3
A40: 1 | C40: Hydrocarbure
A41: =A39 -> 2 | C41: Aluminium
A42: =A41 -> 2 | C42: Chrome total
A43: =A42 -> 2 | C43: Chrome 6+
A44: =A43 -> 2 | C44: Cuivre
A45: =A44 -> 2 | C45: Fer
A46: =A45 -> 2 | C46: Manganèse
A47: =A46 -> 2 | C47: Nickel
A48: =A47 -> 2 | C48: Plomb
A49: =A48 -> 2 | C49: Zinc
A50: =A49 -> 2 | C50: Total Métaux | D50: =SUM(D30:D49) -> 3690105 | E50: =SUM(E30:E49) -> #REF! | F50: =SUM(F30:F49) -> 127203 | G50: =SUM(G30:G49) -> 127287 | H50: =SUM(H30:H49) -> 87
B51: =DATE($C$4,A30,1) -> 42401
A52: 3 | B52: =DATE($C$4,A52,1) -> 42430 | C52: Débit | D52: =SUMPRODUCT((MONTH(DatesSH)=$A52)*(OFFSET(DatesSH,,INDEX(ColSH,MATCH($C52,Param,0))))) -> 1315795 | F52: {=MIN(IF((MONTH(DatesSH)=$A52)*(OFFSET(DatesSH,,INDEX(ColSH,MATCH($C52,Param,0))))>0,OFFSET(DatesSH,,INDEX(ColSH,MATCH($C52,Param,0)))))} -> 42430 | G52: {=MAX(IF((MONTH(DatesSH)=$A52)*(OFFSET(DatesSH,,INDEX(ColSH,MATCH($C52,Param,0))))>0,OFFSET(DatesSH,,INDEX(ColSH,MATCH($C52,Param,0)))))} -> 42460 | H52: =SUMPRODUCT((MONTH(DatesSH)=$A52)*(OFFSET(DatesSH,,INDEX(ColSH,MATCH($C52,Param,0)))>=INDEX(SeuilSH,MATCH($C52,Param,0)))) -> 31
A53: =A52 -> 3 | C53: pH
A54: =A53 -> 3 | C54: DCO | D54: =SUMPRODUCT((MONTH(DatesSH)=$A54)*(OFFSET(DatesSH,,INDEX(ColSH,MATCH($C54,Param,0))))) -> 1315795 | E54: =IF(#REF!=0,0,D54/#REF!) -> #REF! | F54: {=MIN(IF((MONTH(DatesSH)=$A54)*(OFFSET(DatesSH,,INDEX(ColSH,MATCH($C54,Param,0))))>0,OFFSET(DatesSH,,INDEX(ColSH,MATCH($C54,Param,0)))))} -> 42430 | G54: {=MAX(IF((MONTH(DatesSH)=$A54)*(OFFSET(DatesSH,,INDEX(ColSH,MATCH($C54,Param,0))))>0,OFFSET(DatesSH,,INDEX(ColSH,MATCH($C54,Param,0)))))} -> 42460 | H54: =SUMPRODUCT((MONTH(DatesSH)=$A54)*(OFFSET(DatesSH,,INDEX(ColSH,MATCH($C54,Param,0)))>=INDEX(SeuilSH,MATCH($C54,Param,0)))) -> 31
A55: =A54 -> 3 | C55: DCO à D2
A56: =A55 -> 3 | C56: MES | D56: =SUMPRODUCT((MONTH(DatesSH)=$A56)*(OFFSET(DatesSH,,INDEX(ColSH,MATCH($C56,Param,0))))) -> 1315795 | E56: =IF(#REF!=0,0,D56/#REF!) -> #REF! | F56: {=MIN(IF((MONTH(DatesSH)=$A56)*(OFFSET(DatesSH,,INDEX(ColSH,MATCH($C56,Param,0))))>0,OFFSET(DatesSH,,INDEX(ColSH,MATCH($C56,Param,0)))))} -> 42430 | G56: {=MAX(IF((MONTH(DatesSH)=$A56)*(OFFSET(DatesSH,,INDEX(ColSH,MATCH($C56,Param,0))))>0,OFFSET(DatesSH,,INDEX(ColSH,MATCH($C56,Param,0)))))} -> 42460 | H56: =SUMPRODUCT((MONTH(DatesSH)=$A56)*(OFFSET(DatesSH,,INDEX(ColSH,MATCH($C56,Param,0)))>=INDEX(SeuilSH,MATCH($C56,Param,0)))) -> 31
A57: =A56 -> 3 | C57: P
A58: =A57 -> 3 | C58: NTK
A59: =A58 -> 3 | C59: NH4
A60: =A59 -> 3 | C60: NO2
A61: =A60 -> 3 | C61: NO3
A62: 1 | C62: Hydrocarbure
A63: =A61 -> 3 | C63: Aluminium
A64: =A63 -> 3 | C64: Chrome total
A65: =A64 -> 3 | C65: Chrome 6+
A66: =A65 -> 3 | C66: Cuivre
A67: =A66 -> 3 | C67: Fer
A68: =A67 -> 3 | C68: Manganèse
A69: =A68 -> 3 | C69: Nickel
A70: =A69 -> 3 | C70: Plomb
A71: =A70 -> 3 | C71: Zinc
A72: =A71 -> 3 | C72: Total Métaux | D72: =SUM(D52:D71) -> 3947385 | E72: =SUM(E52:E71) -> #REF! | F72: =SUM(F52:F71) -> 127290 | G72: =SUM(G52:G71) -> 127380 | H72: =SUM(H52:H71) -> 93
B73: =DATE($C$4,A52,1) -> 42430
A74: 4 | B74: =DATE($C$4,A74,1) -> 42461 | C74: Débit | D74: =SUMPRODUCT((MONTH(DatesSH)=$A74)*(OFFSET(DatesSH,,INDEX(ColSH,MATCH($C74,Param,0))))) -> 1274265 | F74: {=MIN(IF((MONTH(DatesSH)=$A74)*(OFFSET(DatesSH,,INDEX(ColSH,MATCH($C74,Param,0))))>0,OFFSET(DatesSH,,INDEX(ColSH,MATCH($C74,Param,0)))))} -> 42461 | G74: {=MAX(IF((MONTH(DatesSH)=$A74)*(OFFSET(DatesSH,,INDEX(ColSH,MATCH($C74,Param,0))))>0,OFFSET(DatesSH,,INDEX(ColSH,MATCH($C74,Param,0)))))} -> 42490 | H74: =SUMPRODUCT((MONTH(DatesSH)=$A74)*(OFFSET(DatesSH,,INDEX(ColSH,MATCH($C74,Param,0)))>=INDEX(SeuilSH,MATCH($C74,Param,0)))) -> 30
A75: =A74 -> 4 | C75: pH
A76: =A75 -> 4 | C76: DCO | D76: =SUMPRODUCT((MONTH(DatesSH)=$A76)*(OFFSET(DatesSH,,INDEX(ColSH,MATCH($C76,Param,0))))) -> 1274265 | E76: =IF(#REF!=0,0,D76/#REF!) -> #REF! | F76: {=MIN(IF((MONTH(DatesSH)=$A76)*(OFFSET(DatesSH,,INDEX(ColSH,MATCH($C76,Param,0))))>0,OFFSET(DatesSH,,INDEX(ColSH,MATCH($C76,Param,0)))))} -> 42461 | G76: {=MAX(IF((MONTH(DatesSH)=$A76)*(OFFSET(DatesSH,,INDEX(ColSH,MATCH($C76,Param,0))))>0,OFFSET(DatesSH,,INDEX(ColSH,MATCH($C76,Param,0)))))} -> 42490 | H76: =SUMPRODUCT((MONTH(DatesSH)=$A76)*(OFFSET(DatesSH,,INDEX(ColSH,MATCH($C76,Param,0)))>=INDEX(SeuilSH,MATCH($C76,Param,0)))) -> 30
A77: =A76 -> 4 | C77: DCO à D2
A78: =A77 -> 4 | C78: MES | D78: =SUMPRODUCT((MONTH(DatesSH)=$A78)*(OFFSET(DatesSH,,INDEX(ColSH,MATCH($C78,Param,0))))) -> 1274265 | E78: =IF(#REF!=0,0,D78/#REF!) -> #REF! | F78: {=MIN(IF((MONTH(DatesSH)=$A78)*(OFFSET(DatesSH,,INDEX(ColSH,MATCH($C78,Param,0))))>0,OFFSET(DatesSH,,INDEX(ColSH,MATCH($C78,Param,0)))))} -> 42461 | G78: {=MAX(IF((MONTH(DatesSH)=$A78)*(OFFSET(DatesSH,,INDEX(ColSH,MATCH($C78,Param,0))))>0,OFFSET(DatesSH,,INDEX(ColSH,MATCH($C78,Param,0)))))} -> 42490 | H78: =SUMPRODUCT((MONTH(DatesSH)=$A78)*(OFFSET(DatesSH,,INDEX(ColSH,MATCH($C78,Param,0)))>=INDEX(SeuilSH,MATCH($C78,Param,0)))) -> 30
A79: =A78 -> 4 | C79: P
A80: =A79 -> 4 | C80: NTK
A81: =A80 -> 4 | C81: NH4
A82: =A81 -> 4 | C82: NO2
A83: =A82 -> 4 | C83: NO3
A84: 1 | C84: Hydrocarbure
A85: =A83 -> 4 | C85: Aluminium
A86: =A85 -> 4 | C86: Chrome total
A87: =A86 -> 4 | C87: Chrome 6+
A88: =A87 -> 4 | C88: Cuivre
A89: =A88 -> 4 | C89: Fer
A90: =A89 -> 4 | C90: Manganèse
A91: =A90 -> 4 | C91: Nickel
A92: =A91 -> 4 | C92: Plomb
A93: =A92 -> 4 | C93: Zinc
A94: =A93 -> 4 | C94: Total Métaux | D94: =SUM(D74:D93) -> 3822795 | E94: =SUM(E74:E93) -> #REF! | F94: =SUM(F74:F93) -> 127383 | G94: =SUM(G74:G93) -> 127470 | H94: =SUM(H74:H93) -> 90
B95: =DATE($C$4,A74,1) -> 42461
A96: 5 | B96: =DATE($C$4,A96,1) -> 42491 | C96: Débit | D96: =SUMPRODUCT((MONTH(DatesSH)=$A96)*(OFFSET(DatesSH,,INDEX(ColSH,MATCH($C96,Param,0))))) -> 1317686 | F96: {=MIN(IF((MONTH(DatesSH)=$A96)*(OFFSET(DatesSH,,INDEX(ColSH,MATCH($C96,Param,0))))>0,OFFSET(DatesSH,,INDEX(ColSH,MATCH($C96,Param,0)))))} -> 42491 | G96: {=MAX(IF((MONTH(DatesSH)=$A96)*(OFFSET(DatesSH,,INDEX(ColSH,MATCH($C96,Param,0))))>0,OFFSET(DatesSH,,INDEX(ColSH,MATCH($C96,Param,0)))))} -> 42521 | H96: =SUMPRODUCT((MONTH(DatesSH)=$A96)*(OFFSET(DatesSH,,INDEX(ColSH,MATCH($C96,Param,0)))>=INDEX(SeuilSH,MATCH($C96,Param,0)))) -> 31
A97: =A96 -> 5 | C97: pH
A98: =A97 -> 5 | C98: DCO | D98: =SUMPRODUCT((MONTH(DatesSH)=$A98)*(OFFSET(DatesSH,,INDEX(ColSH,MATCH($C98,Param,0))))) -> 1317686 | E98: =IF(#REF!=0,0,D98/#REF!) -> #REF! | F98: {=MIN(IF((MONTH(DatesSH)=$A98)*(OFFSET(DatesSH,,INDEX(ColSH,MATCH($C98,Param,0))))>0,OFFSET(DatesSH,,INDEX(ColSH,MATCH($C98,Param,0)))))} -> 42491 | G98: {=MAX(IF((MONTH(DatesSH)=$A98)*(OFFSET(DatesSH,,INDEX(ColSH,MATCH($C98,Param,0))))>0,OFFSET(DatesSH,,INDEX(ColSH,MATCH($C98,Param,0)))))} -> 42521 | H98: =SUMPRODUCT((MONTH(DatesSH)=$A98)*(OFFSET(DatesSH,,INDEX(ColSH,MATCH($C98,Param,0)))>=INDEX(SeuilSH,MATCH($C98,Param,0)))) -> 31
A99: =A98 -> 5 | C99: DCO à D2
A100: =A99 -> 5 | C100: MES | D100: =SUMPRODUCT((MONTH(DatesSH)=$A100)*(OFFSET(DatesSH,,INDEX(ColSH,MATCH($C100,Param,0))))) -> 1317686 | E100: =IF(#REF!=0,0,D100/#REF!) -> #REF! | F100: {=MIN(IF((MONTH(DatesSH)=$A100)*(OFFSET(DatesSH,,INDEX(ColSH,MATCH($C100,Param,0))))>0,OFFSET(DatesSH,,INDEX(ColSH,MATCH($C100,Param,0)))))} -> 42491 | G100: {=MAX(IF((MONTH(DatesSH)=$A100)*(OFFSET(DatesSH,,INDEX(ColSH,MATCH($C100,Param,0))))>0,OFFSET(DatesSH,,INDEX(ColSH,MATCH($C100,Param,0)))))} -> 42521 | H100: =SUMPRODUCT((MONTH(DatesSH)=$A100)*(OFFSET(DatesSH,,INDEX(ColSH,MATCH($C100,Param,0)))>=INDEX(SeuilSH,MATCH($C100,Param,0)))) -> 31
A101: =A100 -> 5 | C101: P
A102: =A101 -> 5 | C102: NTK
A103: =A102 -> 5 | C103: NH4
A104: =A103 -> 5 | C104: NO2
...
