Workbook
Name ColD1: OFFSET(Param,,6)
Name ColD2: OFFSET(Param,,11)
Name ColS: OFFSET(Param,,1)
Name ColSH: OFFSET(Param,,26)
Name ColUF1: OFFSET(Param,,16)
Name ColUF2: OFFSET(Param,,21)
Name DatesD: OFFSET(#REF!,,,COUNTA(#REF!))
Name DatesS: OFFSET(#REF!,,,COUNTA(#REF!))
Name DatesSH: OFFSET('Station des huiles'!$A$15,,,COUNTA('Station des huiles'!$A$15:$A$394))
Name DatesUF: OFFSET(#REF!,,,COUNTA(#REF!))
Name Param: OFFSET(Parametres!$B$5,,,COUNTA(Parametres!$B:$B))
Name Seuil2D1: OFFSET(Param,,8)
Name Seuil2D2: OFFSET(Param,,13)
Name Seuil2SH: OFFSET(Param,,28)
Name Seuil2UF1: OFFSET(Param,,18)
Name Seuil2UF2: OFFSET(Param,,23)
Name SeuilD1: OFFSET(Param,,7)
Name SeuilD2: OFFSET(Param,,12)
Name SeuilS: OFFSET(Param,,2)
Name SeuilS2: OFFSET(Param,,3)
Name SeuilSH: OFFSET(Param,,26)
Name SeuilUF1: OFFSET(Param,,17)
Name SeuilUF2: OFFSET(Param,,22)

Sheet Parametres
B1: Paramètres
B2: Année : | C2: 42370
B3: Sivom | H3: Station des Huiles
B4: Intitulés | C4: N° colonne | D4: Seuil | E4: Seuil 2 | H4: Intitulés | I4: N° colonne | J4: Seuil | K4: Seuil 2
B5: Débit | C5: =COLUMN(#REF!)-1 -> #REF! | D5: 4800 | E5: 100000000 | H5: =B5 -> Débit | I5: =COLUMN('Station des huiles'!B6)-1 -> 1
B6: pH | C6: =COLUMN(#REF!)-1 -> #REF! | D6: 5,5-8,5 | E6: 100000000 | H6: =B6 -> pH
B7: DCO | C7: =COLUMN(#REF!)-1 -> #REF! | D7: 1750 | E7: 100000000 | H7: =B7 -> DCO | I7: =COLUMN('Station des huiles'!U6)-1 -> 20 | J7: 17000 | K7: 26000
B8: DCO à D2 | C8: =COLUMN(#REF!)-1 -> #REF! | D8: 100000000 | E8: 100000000 | H8: =B8 -> DCO à D2
B9: MES | C9: =COLUMN(#REF!)-1 -> #REF! | D9: 400 | E9: 100000000 | H9: =B9 -> MES | I9: =COLUMN('Station des huiles'!U6)-1 -> 20 | J9: 2600 | K9: 5000
B10: Ptotal | C10: =COLUMN(#REF!)-1 -> #REF! | D10: 15 | E10: 100000000 | H10: =B10 -> Ptotal
B11: NTK | C11: =COLUMN(#REF!)-1 -> #REF! | D11: 100000000 | E11: 100000000 | H11: =B11 -> NTK
B12: NH4 | C12: =COLUMN(#REF!)-1 -> #REF! | D12: 100000000 | E12: 100000000 | H12: =B12 -> NH4
B13: NO2 | C13: =COLUMN(#REF!)-1 -> #REF! | D13: 100000000 | E13: 100000000 | H13: =B13 -> NO2
B14: NO3 | C14: =COLUMN(#REF!)-1 -> #REF! | D14: 100000000 | E14: 100000000 | H14: =B14 -> NO3
B15: Aluminium | C15: =COLUMN(#REF!)-1 -> #REF! | D15: 5 | E15: 100000000 | H15: =B15 -> Aluminium
B16: Chrome total | C16: =COLUMN(#REF!)-1 -> #REF! | D16: 5 | E16: 100000000 | H16: =B16 -> Chrome total
B17: Chrome 6+ | C17: =COLUMN(#REF!)-1 -> #REF! | D17: 3 | E17: 100000000 | H17: =B17 -> Chrome 6+
B18: Cuivre | C18: =COLUMN(#REF!)-1 -> #REF! | D18: 0.5 | E18: 100000000 | H18: =B18 -> Cuivre
B19: Fer | C19: =COLUMN(#REF!)-1 -> #REF! | D19: 5 | E19: 100000000 | H19: =B19 -> Fer
B20: Manganèse | C20: =COLUMN(#REF!)-1 -> #REF! | D20: 1 | E20: 100000000 | H20: =B20 -> Manganèse
B21: Nickel | C21: =COLUMN(#REF!)-1 -> #REF! | D21: 0.5 | E21: 100000000 | H21: =B21 -> Nickel
... B23: Zinc | C23: =COLUMN(#REF!)-1 -> #REF! | D23: 2 | E23: 100000000 | H23: =B23 -> Zinc
B24: Hydrocarbure | C24: =COLUMN(#REF!)-1 -> #REF! | D24: 10 | E24: 20 | H24: =B24 -> Hydrocarbure | I24: =COLUMN('Station des huiles'!M23)-1 -> 12 | J24: 500 | K24: 700
B25: N global | C25: =COLUMN(#REF!)-1 -> #REF! | D25: 75 | E25: 100000000 | H25: =B25 -> N global
B26: DBO 5 | C26: =COLUMN(#REF!)-1 -> #REF! | D26: 450 | E26: 100000000 | H26: =B26 -> DBO 5
B27: température | C27: =COLUMN(#REF!)-1 -> #REF! | D27: 30 | E27: 100000000 | H27: =B27 -> température
B28: Fluorure | C28: =COLUMN(#REF!)-1 -> #REF! | D28: 10 | E28: 100000000 | H28: =B28 -> Fluorure
B29: Somme total métaux | E29: 100000000 | H29: =B29 -> Somme total métaux
B30: Rendement DCO | E30: 100000000 | H30: =B30 -> Rendement DCO
B31: Rendement MES | E31: 100000000 | H31: =B31 -> Rendement MES
B33: 1 | C33: 2 | D33: 3 | E33: 4 | F33: 5 | G33: 25 | H33: 26 | I33: 27 | J33: 28 | K33: 29

Sheet Station des huiles
A1: Station des huiles | B1: Suivi des analyses de la Station des Huiles
A3: Année: | B3: =Parametres!C2 -> 42370
A5: Station des huiles | P5: Temps de recirculation > 3H | Q5: Validation | R5: Observations
A6: Paramètre | B6: Débit | C6: DCO | E6: eb | G6: MES | L6: Hydrocarbure
A7: Date | B7: Canal de mesure m³/j | C7: Dilution | D7: Valeur lue mg/L | E7: Résultat mg/L | F7: kg/j | G7: Masse filtre vide mg | H7: Masse filtre après séchage mg | I7: Volume filtré ml ou g | J7: Résultat mg/L | K7: kg/j | L7: Résultat mg/L | N7: kg/j | O7: kg/sem
A8: Seuil | B8: =INDEX(SeuilSH,MATCH(B$6,Param,0)) -> 0 | C8: =INDEX(SeuilSH,MATCH(C$6,Param,0)) -> 0 | G8: =INDEX(SeuilSH,MATCH(G$6,Param,0)) -> 0 | L8: =INDEX(SeuilS,MATCH(L$6,Param,0)) -> 10
A9: Seuil 2 | B9: =INDEX(Seuil2SH,MATCH(B$6,Param,0)) -> 0 | C9: =INDEX(Seuil2SH,MATCH(C$6,Param,0)) -> 0 | G9: =INDEX(Seuil2SH,MATCH(G$6,Param,0)) -> 0 | L9: =INDEX(Seuil2SH,MATCH(L$6,Param,0)) -> 0
A10: Echantillon. | B10: 24H | C10: 24H | G10: 24H | L10: 24H
A11: Fréq. ana. | B11: J | C11: Journalier VIGS | G11: Journalier VIGS | L11: Hebdo Laboratoire ext
A12: Normes | C12: Microméthode | G12: NF EN 872
A13: Normes AP | R13: analytiques | S13: générales
A14: Normes CR
A15: =EOMONTH($B$3,-1)+1 -> 42370 | C15: 1 | E15: =IF(D15="","",(D15*C15)) | F15: =IF(E15=""," ",IF(B15=""," ",E15*B15/1000)) | J15: =IF(H15="","",(H15-G15)*1000/I15) | K15: =IF(J15=""," ",IF(B15=""," ",J15*B15/1000)) | N15: =IF(M15=""," ",IF(B15=""," ",M15*B15/1000)) | O15: =IF(M15=""," ",IF(COUNT(B15)=""," ",(AVERAGE(B15)*M15/1000)))
A16: =A15+1 -> 42371 | C16: 1 | E16: =IF(D16="","",(D16*C16)) | F16: =IF(E16=""," ",IF(B16=""," ",E16*B16/1000)) | J16: =IF(H16="","",(H16-G16)*1000/I16) | K16: =IF(J16=""," ",IF(B16=""," ",J16*B16/1000)) | N16: =IF(M16=""," ",IF(B16=""," ",M16*B16/1000)) | O16: =IF(M16=""," ",IF(COUNT(B16)=""," ",(AVERAGE(B16)*M16/1000)))
A17: =A16+1 -> 42372 | C17: 1 | E17: =IF(D17="","",(D17*C17)) | F17: =IF(E17=""," ",IF(B17=""," ",E17*B17/1000)) | J17: =IF(H17="","",(H17-G17)*1000/I17) | K17: =IF(J17=""," ",IF(B17=""," ",J17*B17/1000)) | N17: =IF(M17=""," ",IF(B17=""," ",M17*B17/1000)) | O17: =IF(M17=""," ",IF(COUNT(B17)=""," ",(AVERAGE(B17)*M17/1000)))
A18: =A17+1 -> 42373 | B18: 30 | C18: 1 | D18: 13500 | E18: =IF(D18="","",(D18*C18)) -> 13500 | F18: =IF(E18=""," ",IF(B18=""," ",E18*B18/1000)) -> 405 | G18: 88.8 | H18: 103.3 | I18: 6.6047 | J18: =IF(H18="","",(H18-G18)*1000/I18) -> 2195.4063 | K18: =IF(J18=""," ",IF(B18=""," ",J18*B18/1000)) -> 65.862189 | M18: 1.53 | N18: =IF(M18=""," ",IF(B18=""," ",M18*B18/1000)) -> 0.0459 | O18: =IF(M18=""," ",IF(COUNT(B18)=""," ",(AVERAGE(B18)*M18/1000))) -> 0.0459
A19: =A18+1 -> 42374 | B19: 46 | C19: 1 | D19: 13400 | E19: =IF(D19="","",(D19*C19)) -> 13400 | F19: =IF(E19=""," ",IF(B19=""," ",E19*B19/1000)) -> 616.4 | G19: 90.6 | H19: 106.3 | I19: 7.4506 | J19: =IF(H19="","",(H19-G19)*1000/I19) -> 2107.2128 | K19: =IF(J19=""," ",IF(B19=""," ",J19*B19/1000)) -> 96.931791 | M19: 4.58 | N19: =IF(M19=""," ",IF(B19=""," ",M19*B19/1000)) -> 0.21068 | O19: =IF(M19=""," ",IF(COUNT(B19)=""," ",(AVERAGE(B19)*M19/1000))) -> 0.21068
A20: =A19+1 -> 42375 | B20: 40 | C20: 1 | D20: 13100 | E20: =IF(D20="","",(D20*C20)) -> 13100 | F20: =IF(E20=""," ",IF(B20=""," ",E20*B20/1000)) -> 524 | G20: 87.3 | H20: 94.5 | I20: 5.2431 | J20: =IF(H20="","",(H20-G20)*1000/I20) -> 1373.2334 | K20: =IF(J20=""," ",IF(B20=""," ",J20*B20/1000)) -> 54.929336 | M20: 15.2 | N20: =IF(M20=""," ",IF(B20=""," ",M20*B20/1000)) -> 0.608 | O20: =IF(M20=""," ",IF(COUNT(B20)=""," ",(AVERAGE(B20)*M20/1000))) -> 0.608
A21: =A20+1 -> 42376 | B21: 17 | C21: 1 | D21: 15800 | E21: =IF(D21="","",(D21*C21)) -> 15800 | F21: =IF(E21=""," ",IF(B21=""," ",E21*B21/1000)) -> 268.6 | G21: 91.5 | H21: 99.5 | I21: 4.474 | J21: =IF(H21="","",(H21-G21)*1000/I21) -> 1788.1091 | K21: =IF(J21=""," ",IF(B21=""," ",J21*B21/1000)) -> 30.397854 | M21: 15.7 | N21: =IF(M21=""," ",IF(B21=""," ",M21*B21/1000)) -> 0.2669 | O21: =IF(M21=""," ",IF(COUNT(B21)=""," ",(AVERAGE(B21)*M21/1000))) -> 0.2669
A22: =A21+1 -> 42377 | B22: 52 | C22: 1 | D22: 16200 | E22: =IF(D22="","",(D22*C22)) -> 16200 | F22: =IF(E22=""," ",IF(B22=""," ",E22*B22/1000)) -> 842.4 | G22: 87.6 | H22: 96.4 | I22: 5.4563 | J22: =IF(H22="","",(H22-G22)*1000/I22) -> 1612.8145 | K22: =IF(J22=""," ",IF(B22=""," ",J22*B22/1000)) -> 83.866356 | M22: 20.7 | N22: =IF(M22=""," ",IF(B22=""," ",M22*B22/1000)) -> 1.0764 | O22: =IF(M22=""," ",IF(COUNT(B22)=""," ",(AVERAGE(B22)*M22/1000))) -> 1.0764
A23: =A22+1 -> 42378 | C23: 1 | E23: =IF(D23="","",(D23*C23)) | F23: =IF(E23=""," ",IF(B23=""," ",E23*B23/1000)) | J23: =IF(H23="","",(H23-G23)*1000/I23) | K23: =IF(J23=""," ",IF(B23=""," ",J23*B23/1000)) | N23: =IF(M23=""," ",IF(B23=""," ",M23*B23/1000)) | O23: =IF(M23=""," ",IF(COUNT(B23)=""," ",(AVERAGE(B23)*M23/1000)))
A24: =A23+1 -> 42379 | C24: 1 | E24: =IF(D24="","",(D24*C24)) | F24: =IF(E24=""," ",IF(B24=""," ",E24*B24/1000)) | J24: =IF(H24="","",(H24-G24)*1000/I24) | K24: =IF(J24=""," ",IF(B24=""," ",J24*B24/1000)) | N24: =IF(M24=""," ",IF(B24=""," ",M24*B24/1000)) | O24: =IF(M24=""," ",IF(COUNT(B24)=""," ",(AVERAGE(B24)*M24/1000)))
A25: =A24+1 -> 42380 | B25: 37 | C25: 1 | D25: 13100 | E25: =IF(D25="","",(D25*C25)) -> 13100 | F25: =IF(E25=""," ",IF(B25=""," ",E25*B25/1000)) -> 484.7 | G25: 88.4 | H25: 98 | I25: 6.7688 | J25: =IF(H25="","",(H25-G25)*1000/I25) -> 1418.2721 | K25: =IF(J25=""," ",IF(B25=""," ",J25*B25/1000)) -> 52.476067 | M25: 10.1 | N25: =IF(M25=""," ",IF(B25=""," ",M25*B25/1000)) -> 0.3737 | O25: =IF(M25=""," ",IF(COUNT(B25)=""," ",(AVERAGE(B25)*M25/1000))) -> 0.3737
A26: =A25+1 -> 42381 | B26: 34 | C26: 1 | D26: 12200 | E26: =IF(D26="","",(D26*C26)) -> 12200 | F26: =IF(E26=""," ",IF(B26=""," ",E26*B26/1000)) -> 414.8 | G26: 90.3 | H26: 102.3 | I26: 6.7994 | J26: =IF(H26="","",(H26-G26)*1000/I26) -> 1764.8616 | K26: =IF(J26=""," ",IF(B26=""," ",J26*B26/1000)) -> 60.005295 | M26: 1.04 | N26: =IF(M26=""," ",IF(B26=""," ",M26*B26/1000)) -> 0.03536 | O26: =IF(M26=""," ",IF(COUNT(B26)=""," ",(AVERAGE(B26)*M26/1000))) -> 0.03536
A27: =A26+1 -> 42382 | B27: 33 | C27: 1 | D27: 12000 | E27: =IF(D27="","",(D27*C27)) -> 12000 | F27: =IF(E27=""," ",IF(B27=""," ",E27*B27/1000)) -> 396 | G27: 87.8 | H27: 102.1 | I27: 7.0435 | J27: =IF(H27="","",(H27-G27)*1000/I27) -> 2030.2406 | K27: =IF(J27=""," ",IF(B27=""," ",J27*B27/1000)) -> 66.997941 | M27: 6.75 | N27: =IF(M27=""," ",IF(B27=""," ",M27*B27/1000)) -> 0.22275 | O27: =IF(M27=""," ",IF(COUNT(B27)=""," ",(AVERAGE(B27)*M27/1000))) -> 0.22275
A28: =A27+1 -> 42383 | C28: 1 | E28: =IF(D28="","",(D28*C28)) | F28: =IF(E28=""," ",IF(B28=""," ",E28*B28/1000)) | J28: =IF(H28="","",(H28-G28)*1000/I28) | K28: =IF(J28=""," ",IF(B28=""," ",J28*B28/1000)) | N28: =IF(M28=""," ",IF(B28=""," ",M28*B28/1000)) | O28: =IF(M28=""," ",IF(COUNT(B28)=""," ",(AVERAGE(B28)*M28/1000)))
A29: =A28+1 -> 42384 | B29: 19 | C29: 1 | D29: 12900 | E29: =IF(D29="","",(D29*C29)) -> 12900 | F29: =IF(E29=""," ",IF(B29=""," ",E29*B29/1000)) -> 245.1 | G29: 91.1 | H29: 104 | I29: 5.0493 | J29: =IF(H29="","",(H29-G29)*1000/I29) -> 2554.8096 | K29: =IF(J29=""," ",IF(B29=""," ",J29*B29/1000)) -> 48.541382 | M29: 9.89 | N29: =IF(M29=""," ",IF(B29=""," ",M29*B29/1000)) -> 0.18791 | O29: =IF(M29=""," ",IF(COUNT(B29)=""," ",(AVERAGE(B29)*M29/1000))) -> 0.18791
A30: =A29+1 -> 42385 | C30: 1 | E30: =IF(D30="","",(D30*C30)) | F30: =IF(E30=""," ",IF(B30=""," ",E30*B30/1000)) | J30: =IF(H30="","",(H30-G30)*1000/I30) | K30: =IF(J30=""," ",IF(B30=""," ",J30*B30/1000)) | N30: =IF(M30=""," ",IF(B30=""," ",M30*B30/1000)) | O30: =IF(M30=""," ",IF(COUNT(B30)=""," ",(AVERAGE(B30)*M30/1000)))
A31: =A30+1 -> 42386 | C31: 1 | E31: =IF(D31="","",(D31*C31)) | F31: =IF(E31=""," ",IF(B31=""," ",E31*B31/1000)) | J31: =IF(H31="","",(H31-G31)*1000/I31) | K31: =IF(J31=""," ",IF(B31=""," ",J31*B31/1000)) | N31: =IF(M31=""," ",IF(B31=""," ",M31*B31/1000)) | O31: =IF(M31=""," ",IF(COUNT(B31)=""," ",(AVERAGE(B31)*M31/1000)))
A32: =A31+1 -> 42387 | B32: 27 | C32: 1 | D32: 13600 | E32: =IF(D32="","",(D32*C32)) -> 13600 | F32: =IF(E32=""," ",IF(B32=""," ",E32*B32/1000)) -> 367.2 | G32: 89.4 | H32: 95.3 | I32: 3.9712 | J32: =IF(H32="","",(H32-G32)*1000/I32) -> 1485.697 | K32: =IF(J32=""," ",IF(B32=""," ",J32*B32/1000)) -> 40.11382 | M32: 3.46 | N32: =IF(M32=""," ",IF(B32=""," ",M32*B32/1000)) -> 0.09342 | O32: =IF(M32=""," ",IF(COUNT(B32)=""," ",(AVERAGE(B32)*M32/1000))) -> 0.09342
A33: =A32+1 -> 42388 | B33: 40 | C33: 1 | D33: 12600 | E33: =IF(D33="","",(D33*C33)) -> 12600 | F33: =IF(E33=""," ",IF(B33=""," ",E33*B33/1000)) -> 504 | G33: 90.9 | H33: 96.6 | I33: 4.1357 | J33: =IF(H33="","",(H33-G33)*1000/I33) -> 1378.2431 | K33: =IF(J33=""," ",IF(B33=""," ",J33*B33/1000)) -> 55.129724 | M33: 8.84 | N33: =IF(M33=""," ",IF(B33=""," ",M33*B33/1000)) -> 0.3536 | O33: =IF(M33=""," ",IF(COUNT(B33)=""," ",(AVERAGE(B33)*M33/1000))) -> 0.3536
A34: =A33+1 -> 42389 | B34: 11 | C34: 1 | D34: 15200 | E34: =IF(D34="","",(D34*C34)) -> 15200 | F34: =IF(E34=""," ",IF(B34=""," ",E34*B34/1000)) -> 167.2 | G34: 90.9 | H34: 105.3 | I34: 6.8956 | J34: =IF(H34="","",(H34-G34)*1000/I34) -> 2088.2882 | K34: =IF(J34=""," ",IF(B34=""," ",J34*B34/1000)) -> 22.97117 | M34: 6.34 | N34: =IF(M34=""," ",IF(B34=""," ",M34*B34/1000)) -> 0.06974 | O34: =IF(M34=""," ",IF(COUNT(B34)=""," ",(AVERAGE(B34)*M34/1000))) -> 0.06974
A35: =A34+1 -> 42390 | C35: 1 | E35: =IF(D35="","",(D35*C35)) | F35: =IF(E35=""," ",IF(B35=""," ",E35*B35/1000)) | J35: =IF(H35="","",(H35-G35)*1000/I35) | K35: =IF(J35=""," ",IF(B35=""," ",J35*B35/1000)) | N35: =IF(M35=""," ",IF(B35=""," ",M35*B35/1000)) | O35: =IF(M35=""," ",IF(COUNT(B35)=""," ",(AVERAGE(B35)*M35/1000)))
A36: =A35+1 -> 42391 | B36: 13 | C36: 1 | D36: 15100 | E36: =IF(D36="","",(D36*C36)) -> 15100 | F36: =IF(E36=""," ",IF(B36=""," ",E36*B36/1000)) -> 196.3 | G36: 88.8 | H36: 100 | I36: 5.5813 | J36: =IF(H36="","",(H36-G36)*1000/I36) -> 2006.7009 | K36: =IF(J36=""," ",IF(B36=""," ",J36*B36/1000)) -> 26.087112 | M36: 5.23 | N36: =IF(M36=""," ",IF(B36=""," ",M36*B36/1000)) -> 0.06799 | O36: =IF(M36=""," ",IF(COUNT(B36)=""," ",(AVERAGE(B36)*M36/1000))) -> 0.06799
A37: =A36+1 -> 42392 | C37: 1 | E37: =IF(D37="","",(D37*C37)) | F37: =IF(E37=""," ",IF(B37=""," ",E37*B37/1000)) | J37: =IF(H37="","",(H37-G37)*1000/I37) | K37: =IF(J37=""," ",IF(B37=""," ",J37*B37/1000)) | N37: =IF(M37=""," ",IF(B37=""," ",M37*B37/1000)) | O37: =IF(M37=""," ",IF(COUNT(B37)=""," ",(AVERAGE(B37)*M37/1000)))
A38: =A37+1 -> 42393 | C38: 1 | E38: =IF(D38="","",(D38*C38)) | F38: =IF(E38=""," ",IF(B38=""," ",E38*B38/1000)) | J38: =IF(H38="","",(H38-G38)*1000/I38) | K38: =IF(J38=""," ",IF(B38=""," ",J38*B38/1000)) | N38: =IF(M38=""," ",IF(B38=""," ",M38*B38/1000)) | O38: =IF(M38=""," ",IF(COUNT(B38)=""," ",(AVERAGE(B38)*M38/1000)))
A39: =A38+1 -> 42394 | B39: 24 | C39: 1 | D39: 14800 | E39: =IF(D39="","",(D39*C39)) -> 14800 | F39: =IF(E39=""," ",IF(B39=""," ",E39*B39/1000)) -> 355.2 | G39: 89 | H39: 98.8 | I39: 5.5529 | J39: =IF(H39="","",(H39-G39)*1000/I39) -> 1764.8436 | K39: =IF(J39=""," ",IF(B39=""," ",J39*B39/1000)) -> 42.356246 | M39: 2.37 | N39: =IF(M39=""," ",IF(B39=""," ",M39*B39/1000)) -> 0.05688 | O39: =IF(M39=""," ",IF(COUNT(B39)=""," ",(AVERAGE(B39)*M39/1000))) -> 0.05688
A40: =A39+1 -> 42395 | B40: 12 | C40: 1 | D40: 15100 | E40: =IF(D40="","",(D40*C40)) -> 15100 | F40: =IF(E40=""," ",IF(B40=""," ",E40*B40/1000)) -> 181.2 | G40: 91.6 | H40: 107 | I40: 7.421 | J40: =IF(H40="","",(H40-G40)*1000/I40) -> 2075.192 | K40: =IF(J40=""," ",IF(B40=""," ",J40*B40/1000)) -> 24.902304 | M40: 3.41 | N40: =IF(M40=""," ",IF(B40=""," ",M40*B40/1000)) -> 0.04092 | O40: =IF(M40=""," ",IF(COUNT(B40)=""," ",(AVERAGE(B40)*M40/1000))) -> 0.04092
A41: =A40+1 -> 42396 | B41: 25 | C41: 1 | D41: 16400 | E41: =IF(D41="","",(D41*C41)) -> 16400 | F41: =IF(E41=""," ",IF(B41=""," ",E41*B41/1000)) -> 410 | G41: 89.8 | H41: 107.9 | I41: 7.1459 | J41: =IF(H41="","",(H41-G41)*1000/I41) -> 2532.921 | K41: =IF(J41=""," ",IF(B41=""," ",J41*B41/1000)) -> 63.323024 | M41: 0.87 | N41: =IF(M41=""," ",IF(B41=""," ",M41*B41/1000)) -> 0.02175 | O41: =IF(M41=""," ",IF(COUNT(B41)=""," ",(AVERAGE(B41)*M41/1000))) -> 0.02175
A42: =A41+1 -> 42397 | C42: 1 | E42: =IF(D42="","",(D42*C42)) | F42: =IF(E42=""," ",IF(B42=""," ",E42*B42/1000)) | J42: =IF(H42="","",(H42-G42)*1000/I42) | K42: =IF(J42=""," ",IF(B42=""," ",J42*B42/1000)) | N42: =IF(M42=""," ",IF(B42=""," ",M42*B42/1000)) | O42: =IF(M42=""," ",IF(COUNT(B42)=""," ",(AVERAGE(B42)*M42/1000)))
...

Sheet KPI
B2: KPI
B4: Année: | C4: 2016
D7: Somme des résultats | E7: Moyenne des résultats | F7: Valeur mini | G7: Valeur maxi | H7: Valeur >au seuil
A8: 1 | B8: =DATE($C$4,A8,1) -> 42370 | C8: Débit | D8: =SUMPRODUCT((MONTH(DatesSH)=$A8)*(OFFSET(DatesSH,,INDEX(ColSH,MATCH($C8,Param,0))))) -> 1313935 | F8: {=MIN(IF((MONTH(DatesSH)=$A8)*(OFFSET(DatesSH,,INDEX(ColSH,MATCH($C8,Param,0))))>0,OFFSET(DatesSH,,INDEX(ColSH,MATCH($C8,Param,0)))))} -> 42370 | G8: {=MAX(IF((MONTH(DatesSH)=$A8)*(OFFSET(DatesSH,,INDEX(ColSH,MATCH($C8,Param,0))))>0,OFFSET(DatesSH,,INDEX(ColSH,MATCH($C8,Param,0)))))} -> 42400 | H8: =SUMPRODUCT((MONTH(DatesSH)=$A8)*(OFFSET(DatesSH,,INDEX(ColSH,MATCH($C8,Param,0)))>=INDEX(SeuilSH,MATCH($C8,Param,0)))) -> 31
A9: =A8 -> 1 | C9: pH
A10: =A9 -> 1 | C10: DCO | D10: =SUMPRODUCT((MONTH(DatesSH)=$A10)*(OFFSET(DatesSH,,INDEX(ColSH,MATCH($C10,Param,0))))) -> 1313935 | E10: =IF(#REF!=0,0,D10/#REF!) -> #REF! | F10: {=MIN(IF((MONTH(DatesSH)=$A10)*(OFFSET(DatesSH,,INDEX(ColSH,MATCH($C10,Param,0))))>0,OFFSET(DatesSH,,INDEX(ColSH,MATCH($C10,Param,0)))))} -> 42370 | G10: {=MAX(IF((MONTH(DatesSH)=$A10)*(OFFSET(DatesSH,,INDEX(ColSH,MATCH($C10,Param,0))))>0,OFFSET(DatesSH,,INDEX(ColSH,MATCH($C10,Param,0)))))} -> 42400 | H10: =SUMPRODUCT((MONTH(DatesSH)=$A10)*(OFFSET(DatesSH,,INDEX(ColSH,MATCH($C10,Param,0)))>=INDEX(SeuilSH,MATCH($C10,Param,0)))) -> 31
A11: =A10 -> 1 | C11: DCO à D2
A12: =A11 -> 1 | C12: MES | D12: =SUMPRODUCT((MONTH(DatesSH)=$A12)*(OFFSET(DatesSH,,INDEX(ColSH,MATCH($C12,Param,0))))) -> 1313935 | E12: =IF(#REF!=0,0,D12/#REF!) -> #REF! | F12: {=MIN(IF((MONTH(DatesSH)=$A12)*(OFFSET(DatesSH,,INDEX(ColSH,MATCH($C12,Param,0))))>0,OFFSET(DatesSH,,INDEX(ColSH,MATCH($C12,Param,0)))))} -> 42370 | G12: {=MAX(IF((MONTH(DatesSH)=$A12)*(OFFSET(DatesSH,,INDEX(ColSH,MATCH($C12,Param,0))))>0,OFFSET(DatesSH,,INDEX(ColSH,MATCH($C12,Param,0)))))} -> 42400 | H12: =SUMPRODUCT((MONTH(DatesSH)=$A12)*(OFFSET(DatesSH,,INDEX(ColSH,MATCH($C12,Param,0)))>=INDEX(SeuilSH,MATCH($C12,Param,0)))) -> 31
A13: =A12 -> 1 | C13: Ptotal
A14: =A13 -> 1 | C14: NTK
A15: =A14 -> 1 | C15: NH4
A16: =A15 -> 1 | C16: NO2
A17: =A16 -> 1 | C17: NO3
A18: 1 | C18: Hydrocarbure
A19: =A17 -> 1 | C19: Aluminium
A20: =A19 -> 1 | C20: Chrome total
A21: =A20 -> 1 | C21: Chrome 6+
A22: =A21 -> 1 | C22: Cuivre
A23: =A22 -> 1 | C23: Fer
A24: =A23 -> 1 | C24: Manganèse
A25: =A24 -> 1 | C25: Nickel
A26: =A25 -> 1 | C26: Plomb
A27: =A26 -> 1 | C27: Zinc
A28: =A27 -> 1 | C28: Total Métaux | D28: =SUM(D8:D27) -> 3941805 | E28: =SUM(E8:E27) -> #REF! | F28: =SUM(F8:F27) -> 127110 | G28: =SUM(G8:G27) -> 127200 | H28: =SUM(H8:H27) -> 93
B29: =DATE($C$4,A8,1) -> 42370
A30: 2 | B30: =DATE($C$4,A30,1) -> 42401 | C30: Débit | D30: =SUMPRODUCT((MONTH(DatesSH)=$A30)*(OFFSET(DatesSH,,INDEX(ColSH,MATCH($C30,Param,0))))) -> 1230035 | F30: {=MIN(IF((MONTH(DatesSH)=$A30)*(OFFSET(DatesSH,,INDEX(ColSH,MATCH($C30,Param,0))))>0,OFFSET(DatesSH,,INDEX(ColSH,MATCH($C30,Param,0)))))} -> 42401 | G30: {=MAX(IF((MONTH(DatesSH)=$A30)*(OFFSET(DatesSH,,INDEX(ColSH,MATCH($C30,Param,0))))>0,OFFSET(DatesSH,,INDEX(ColSH,MATCH($C30,Param,0)))))} -> 42429 | H30: =SUMPRODUCT((MONTH(DatesSH)=$A30)*(OFFSET(DatesSH,,INDEX(ColSH,MATCH($C30,Param,0)))>=INDEX(SeuilSH,MATCH($C30,Param,0)))) -> 29
A31: =A30 -> 2 | C31: pH
A32: =A31 -> 2 | C32: DCO | D32: =SUMPRODUCT((MONTH(DatesSH)=$A32)*(OFFSET(DatesSH,,INDEX(ColSH,MATCH($C32,Param,0))))) -> 1230035 | E32: =IF(#REF!=0,0,D32/#REF!) -> #REF! | F32: {=MIN(IF((MONTH(DatesSH)=$A32)*(OFFSET(DatesSH,,INDEX(ColSH,MATCH($C32,Param,0))))>0,OFFSET(DatesSH,,INDEX(ColSH,MATCH($C32,Param,0)))))} -> 42401 | G32: {=MAX(IF((MONTH(DatesSH)=$A32)*(OFFSET(DatesSH,,INDEX(ColSH,MATCH($C32,Param,0))))>0,OFFSET(DatesSH,,INDEX(ColSH,MATCH($C32,Param,0)))))} -> 42429 | H32: =SUMPRODUCT((MONTH(DatesSH)=$A32)*(OFFSET(DatesSH,,INDEX(ColSH,MATCH($C32,Param,0)))>=INDEX(SeuilSH,MATCH($C32,Param,0)))) -> 29
A33: =A32 -> 2 | C33: DCO à D2
A34: =A33 -> 2 | C34: MES | D34: =SUMPRODUCT((MONTH(DatesSH)=$A34)*(OFFSET(DatesSH,,INDEX(ColSH,MATCH($C34,Param,0))))) -> 1230035 | E34: =IF(#REF!=0,0,D34/#REF!) -> #REF! | F34: {=MIN(IF((MONTH(DatesSH)=$A34)*(OFFSET(DatesSH,,INDEX(ColSH,MATCH($C34,Param,0))))>0,OFFSET(DatesSH,,INDEX(ColSH,MATCH($C34,Param,0)))))} -> 42401 | G34: {=MAX(IF((MONTH(DatesSH)=$A34)*(OFFSET(DatesSH,,INDEX(ColSH,MATCH($C34,Param,0))))>0,OFFSET(DatesSH,,INDEX(ColSH,MATCH($C34,Param,0)))))} -> 42429 | H34: =SUMPRODUCT((MONTH(DatesSH)=$A34)*(OFFSET(DatesSH,,INDEX(ColSH,MATCH($C34,Param,0)))>=INDEX(SeuilSH,MATCH($C34,Param,0)))) -> 29
A35: =A34 -> 2 | C35: P
A36: =A35 -> 2 | C36: NTK
A37: =A36 -> 2 | C37: NH4
A38: =A37 -> 2 | C38: NO2
A39: =A38 -> 2 | C39: NO3
A40: 1 | C40: Hydrocarbure
A41: =A39 -> 2 | C41: Aluminium
A42: =A41 -> 2 | C42: Chrome total
A43: =A42 -> 2 | C43: Chrome 6+
A44: =A43 -> 2 | C44: Cuivre
...
