Workbook
Name liste: #REF!

Sheet VIERGE
B2: Feuille de présence/Absence
B4: Nom: | E4: Sandrine | H4: Petit Déjeuner | J4: 0.5 | K4: Frais entretien <7H45 : | L4: 2,65
H5: Déjeuner | J5: 3 | K5: Tarif à l'heure : | L5: 3
B6: Salaire net: | E6: 201.18 | H6: Goûter: | J6: 0.5 | K6: Frais entretien 10H: | L6: 3,42
H7: Total : | J7: 4
H8: Total hors déjeuner : | J8: 1 | K8: M: Matin
B9: 2021 | E9: Mois: | F9: Janvier | K9: AM: Après midi
K10: R: Réveil
B11: Date | C11: Jour | D11: Planning Guillaume | E11: Présence | F11: Absence | G11: Frais D'entretien | H11: Repas | K11: heure Supplémentaire | M11: Remarque
H12: Petit Déjeuner | I12: Petit déjeuner Gouter | J12: Petit déjeuner Déjeuner Gouter | K12: Heure | L12: Minute
B13: =Date($B$9,MATCH($F$9, Liste!$A$3:$A$14,0),1) -> 44197 | C13: {=INDEX(Liste!$C$3:$C$9,WEEKDAY(B13))} -> vendredi | G13: =IF(D13="M",Liste!$F$3,IF(D13="AP",Liste!$F$4,IF(D13="R",Liste!$F$5,""))) | J13: =IF(E13="","",IF(WEEKDAY(B13,1)=4,$J$7,""))
B14: =B13+1 -> 44198 | C14: {=INDEX(Liste!$C$3:$C$9,WEEKDAY(B14))} -> samedi | G14: =IF(D14="M",Liste!$F$3,IF(D14="AP",Liste!$F$4,IF(D14="R",Liste!$F$5,""))) | J14: =IF(E14="","",IF(WEEKDAY(B14,1)=4,$J$7,""))
B15: =B14+1 -> 44199 | C15: {=INDEX(Liste!$C$3:$C$9,WEEKDAY(B15))} -> Dimanche | G15: =IF(D15="M",Liste!$F$3,IF(D15="AP",Liste!$F$4,IF(D15="R",Liste!$F$5,""))) | J15: =IF(E15="","",IF(WEEKDAY(B15,1)=4,$J$7,""))
B16: =B15+1 -> 44200 | C16: {=INDEX(Liste!$C$3:$C$9,WEEKDAY(B16))} -> lundi | D16: M | E16: X | G16: =IF(D16="M",Liste!$F$3,IF(D16="AP",Liste!$F$4,IF(D16="R",Liste!$F$5,""))) -> 2,65 | J16: =IF(E16="","",IF(WEEKDAY(B16,1)=4,$J$7,""))
B17: =B16+1 -> 44201 | C17: {=INDEX(Liste!$C$3:$C$9,WEEKDAY(B17))} -> mardi | D17: M | E17: X | G17: =IF(D17="M",Liste!$F$3,IF(D17="AP",Liste!$F$4,IF(D17="R",Liste!$F$5,""))) -> 2,65 | J17: =IF(E17="","",IF(WEEKDAY(B17,1)=4,$J$7,""))
B18: =B17+1 -> 44202 | C18: {=INDEX(Liste!$C$3:$C$9,WEEKDAY(B18))} -> mercredi | D18: M | E18: X | G18: =IF(D18="M",Liste!$F$3,IF(D18="AP",Liste!$F$4,IF(D18="R",Liste!$F$5,""))) -> 2,65 | J18: =IF(E18="","",IF(WEEKDAY(B18,1)=4,$J$7,"")) -> 4
B19: =B18+1 -> 44203 | C19: {=INDEX(Liste!$C$3:$C$9,WEEKDAY(B19))} -> jeudi | D19: M | E19: X | G19: =IF(D19="M",Liste!$F$3,IF(D19="AP",Liste!$F$4,IF(D19="R",Liste!$F$5,""))) -> 2,65 | J19: =IF(E19="","",IF(WEEKDAY(B19,1)=4,$J$7,""))
B20: =B19+1 -> 44204 | C20: {=INDEX(Liste!$C$3:$C$9,WEEKDAY(B20))} -> vendredi | D20: M | E20: X | G20: =IF(D20="M",Liste!$F$3,IF(D20="AP",Liste!$F$4,IF(D20="R",Liste!$F$5,""))) -> 2,65 | J20: =IF(E20="","",IF(WEEKDAY(B20,1)=4,$J$7,""))
B21: =B20+1 -> 44205 | C21: {=INDEX(Liste!$C$3:$C$9,WEEKDAY(B21))} -> samedi | G21: =IF(D21="M",Liste!$F$3,IF(D21="AP",Liste!$F$4,IF(D21="R",Liste!$F$5,""))) | J21: =IF(E21="","",IF(WEEKDAY(B21,1)=4,$J$7,""))
B22: =B21+1 -> 44206 | C22: {=INDEX(Liste!$C$3:$C$9,WEEKDAY(B22))} -> Dimanche | G22: =IF(D22="M",Liste!$F$3,IF(D22="AP",Liste!$F$4,IF(D22="R",Liste!$F$5,""))) | J22: =IF(E22="","",IF(WEEKDAY(B22,1)=4,$J$7,""))
B23: =B22+1 -> 44207 | C23: {=INDEX(Liste!$C$3:$C$9,WEEKDAY(B23))} -> lundi | G23: =IF(D23="M",Liste!$F$3,IF(D23="AP",Liste!$F$4,IF(D23="R",Liste!$F$5,""))) | J23: =IF(E23="","",IF(WEEKDAY(B23,1)=4,$J$7,""))
B24: =B23+1 -> 44208 | C24: {=INDEX(Liste!$C$3:$C$9,WEEKDAY(B24))} -> mardi | G24: =IF(D24="M",Liste!$F$3,IF(D24="AP",Liste!$F$4,IF(D24="R",Liste!$F$5,""))) | J24: =IF(E24="","",IF(WEEKDAY(B24,1)=4,$J$7,""))
B25: =B24+1 -> 44209 | C25: {=INDEX(Liste!$C$3:$C$9,WEEKDAY(B25))} -> mercredi | G25: =IF(D25="M",Liste!$F$3,IF(D25="AP",Liste!$F$4,IF(D25="R",Liste!$F$5,""))) | J25: =IF(E25="","",IF(WEEKDAY(B25,1)=4,$J$7,""))
B26: =B25+1 -> 44210 | C26: {=INDEX(Liste!$C$3:$C$9,WEEKDAY(B26))} -> jeudi | G26: =IF(D26="M",Liste!$F$3,IF(D26="AP",Liste!$F$4,IF(D26="R",Liste!$F$5,""))) | J26: =IF(E26="","",IF(WEEKDAY(B26,1)=4,$J$7,""))
B27: =B26+1 -> 44211 | C27: {=INDEX(Liste!$C$3:$C$9,WEEKDAY(B27))} -> vendredi | G27: =IF(D27="M",Liste!$F$3,IF(D27="AP",Liste!$F$4,IF(D27="R",Liste!$F$5,""))) | J27: =IF(E27="","",IF(WEEKDAY(B27,1)=4,$J$7,""))
B28: =B27+1 -> 44212 | C28: {=INDEX(Liste!$C$3:$C$9,WEEKDAY(B28))} -> samedi | G28: =IF(D28="M",Liste!$F$3,IF(D28="AP",Liste!$F$4,IF(D28="R",Liste!$F$5,""))) | J28: =IF(E28="","",IF(WEEKDAY(B28,1)=4,$J$7,""))
B29: =B28+1 -> 44213 | C29: {=INDEX(Liste!$C$3:$C$9,WEEKDAY(B29))} -> Dimanche | G29: =IF(D29="M",Liste!$F$3,IF(D29="AP",Liste!$F$4,IF(D29="R",Liste!$F$5,""))) | J29: =IF(E29="","",IF(WEEKDAY(B29,1)=4,$J$7,""))
B30: =B29+1 -> 44214 | C30: {=INDEX(Liste!$C$3:$C$9,WEEKDAY(B30))} -> lundi | G30: =IF(D30="M",Liste!$F$3,IF(D30="AP",Liste!$F$4,IF(D30="R",Liste!$F$5,""))) | J30: =IF(E30="","",IF(WEEKDAY(B30,1)=4,$J$7,""))
B31: =B30+1 -> 44215 | C31: {=INDEX(Liste!$C$3:$C$9,WEEKDAY(B31))} -> mardi | G31: =IF(D31="M",Liste!$F$3,IF(D31="AP",Liste!$F$4,IF(D31="R",Liste!$F$5,""))) | J31: =IF(E31="","",IF(WEEKDAY(B31,1)=4,$J$7,""))
B32: =B31+1 -> 44216 | C32: {=INDEX(Liste!$C$3:$C$9,WEEKDAY(B32))} -> mercredi | G32: =IF(D32="M",Liste!$F$3,IF(D32="AP",Liste!$F$4,IF(D32="R",Liste!$F$5,""))) | J32: =IF(E32="","",IF(WEEKDAY(B32,1)=4,$J$7,""))
... B43: =B42+1 -> 44227 | C43: {=INDEX(Liste!$C$3:$C$9,WEEKDAY(B43))} -> Dimanche | G43: =IF(D43="M",Liste!$F$3,IF(D43="AP",Liste!$F$4,IF(D43="R",Liste!$F$5,""))) | J43: =IF(E43="","",IF(WEEKDAY(B43,1)=4,$J$7,""))
B44: Sous Total | E44: =COUNTIF(E13:E43,"x") -> 5 | F44: =COUNTIF(F13:F43,"x") -> 0 | G44: =SUM(G13:G43) -> 0 | H44: =SUM(H13:H43) -> 0 | I44: =SUM(I13:I43) -> 0 | J44: =SUM(J13:J43) -> 4 | K44: =SUM(K13:K43) -> 0 | L44: =SUM(L13:L43) -> 0
B45: Total Salaire+frais entretien+repas+heure supp | G45: =SUM(G44:J44)+(K44*L5)+((L44*L5)/60)+E6 -> 205.18
E46: =E44*2 -> 10 | F46: =F44*2 -> 0 | H46: =H44+I44+J44 -> 4
B48: Nombre de jours d'activité | E48: 44 | M48: 267,43
B49: Nombre d'heures normales | E49: 264
B50: Salaire net déclaré | E50: 793

Sheet Calcul_salaire
A3: Tarif de l'heure
A4: Nombre d'heure par semaine
A5: Nombre de semaine par an
A6: Salaire net | B6: 0
A7: 10% Congés | B7: 0
A8: Salaire net avec congé | B8: 0

Sheet Liste
A2: MOIS | C2: Jour de la semaine | E2: Planning Guillaume
A3: Janvier | C3: Dimanche | E3: M | F3: 2,65
A4: Février | C4: lundi | E4: AP | F4: 3
A5: Mars | C5: mardi | E5: R | F5: 2
A6: Avril | C6: mercredi
A7: Mai | C7: jeudi
A8: Juin | C8: vendredi
A9: Juilllet | C9: samedi
A10: Aout
A11: Septembre
A12: Octobre
A13: Novembre
A14: Décembre
