Workbook

Sheet thomas
G4: RAPPORT DE VISITE
D7: Client : | E7: VIGS - DU PONT DE NEMOURS
D9: Site : | E9: Cernay (68)
C11: ANALYSE ET RELEVE DES CHAUFFERIES
A15: 1) RESULTATS ANALYTIQUES
C17: Circuits fermés de chauffage
A18: Echantillon | C18: Appoint Eau ville | D18: S10 | E18: S20 | F18: Bureaux | G18: Valeurs Guides | I18: HYDREX 2610= 6,6%molybdate
A19: Turbidité | C19: - | D19: Limpide | E19: Limpide | F19: Limpide | G19: Limpide
A20: Couleur | C20: - | D20: Jaunâtre | E20: Jaunâtre | F20: Orangée | G20: Incolore
A21: pH | C21: - | D21: 10.6 | E21: 9.4 | F21: 10.3 | G21: > 9
A22: Conduc. (µS/cm) | D22: 901 | E22: 490 | F22: 1327 | G22: > Appoint
A23: Salinité (mg/l) | C23: - | D23: 630.7 | E23: 343 | F23: 928.9 | G23: -
A24: TH (°f) | C24: - | D24: 0.8 | E24: 1.7 | F24: 0 | G24: = Appoint
A25: TA (°f) | C25: - | D25: 3.4 | E25: 1 | F25: 12 | G25: > 5°f
A26: TAC (°f) | C26: - | D26: 30 | E26: 10.5 | F26: 45 | G26: > Appoint
A27: Cl- (°f) | C27: - | D27: 3.8194444 | E27: 12.152778 | F27: 10.069444 | G27: =Appoint
A28: Molybdates (mg/L) | C28: - | D28: 136 | E28: 63.3 | F28: 286.5 | G28: > 80 mg/l
A29: H2610 (mg/l) | C29: - | D29: 1658.5366 | E29: 771.95122 | F29: 3493.9024 | G29: ~ 1000 ppm
A30: Choc H2610 (kg) | C30: - | D30: 0 | E30: 2.2804878 | F30: 0 | G30: -
A31: Volume circuit esti. (m3) | C31: - | D31: 6 | E31: 10 | F31: 5 | G31: -
A32: Fer (mg/l) | C32: - | D32: 6.1 | E32: 6.85 | F32: 26 | G32: < 1 mg/l
A33: Cu (mg/l) | C33: - | D33: 0.08 | E33: 0.02 | F33: 0 | G33: < 0,5 mg/l
C35: Chaudières NORD - Tubes d'eau 20 bars
A36: Echantillon | C36: Eau Brute Ville | D36: Eau Adoucie | E36: Bâche Alimentaire | F36: Valeurs Guides | G36: Chaudière 2 | H36: Chaudière 3 | I36: Valeurs Guides | J36: Condensât | K36: Valeurs Guides | L36: EAU BRUTE POUR LE FER CHLORURE | N36: Echantillon | O36: Turbidité | P36: Couleur | Q36: pH | R36: Conduc. (µS/cm) | S36: Salinité (mg/l) | T36: Rc (SiO2) | U36: % Retour Condensats | V36: TH (°f) | W36: TA (°f) | X36: TAC (°f) | Y36: Cl- (°f) | Z36: Phosphates (mg/L) | AA36: Sulfites (mg/l) | AB36: SiO2 (mg/l) | AC36: SiO2 / TAC | AD36: Fer (mg/l) | AE36: Cu (mg/l)
A37: Turbidité | C37: Limpide | D37: Limpide | E37: Limpide | F37: Limpide | G37: Limpide | H37: Limpide | I37: Limpide | J37: Limpide | K37: Limpide
A38: Couleur | C38: Incolore | D38: Incolore | E38: Incolore | F38: Incolore | G38: Orangée | H38: Incolore | I38: Incolore | J38: Incolore | K38: Incolore | N38: Eau Brute Ville | O38: Limpide | P38: Incolore | Q38: 7.1 | R38: 512 | S38: 358.4 | T38: - | U38: - | V38: 15.4 | W38: 0 | X38: 5.7 | Y38: 13.194444 | Z38: - | AA38: - | AB38: - | AC38: - | AD38: 0.13 | AE38: -
A39: pH | C39: 7.1 | D39: 7.3 | E39: 8.9 | F39: > 9,2 | G39: 11.5 | H39: 11.7 | I39: 10,5 - 12 | J39: 9.6 | K39: > 8,7 | N39: Eau Adoucie | O39: Limpide | P39: Incolore | Q39: 7.3 | R39: 514 | S39: 359.8 | T39: - | U39: - | V39: 0 | W39: 0 | X39: 5.8 | Y39: 13.541667 | Z39: - | AA39: - | AB39: 15.5 | AC39: - | AD39: 0.25 | AE39: -
A40: Conduc. (µS/cm) | C40: 512 | D40: 514 | E40: 47.7 | F40: - | G40: 2442 | H40: 3900 | I40: < 6000 µS/cm | J40: 21.3 | K40: < 50 µS/cm | N40: Bâche Alimentaire | O40: Limpide | P40: Incolore | Q40: 8.9 | R40: 47.7 | S40: 33.39 | T40: - | U40: 0.92258065 | V40: 0.1 | W40: 0.5 | X40: 1.5 | Y40: 2.7777778 | Z40: 0.5 | AA40: 8 | AB40: 1.2 | AC40: - | AD40: 0.11 | AE40: 0
A41: Salinité (mg/l) | C41: 358.4 | D41: 359.8 | E41: 33.39 | F41: - | G41: 1709.4 | H41: 2730 | I41: < 4200 mg/l | J41: 14.91 | K41: < 35 mg/l | N41: Valeurs Guides | O41: Limpide | P41: Incolore | Q41: > 9,2 | R41: - | S41: - | T41: - | U41: sur SiO2 | V41: < 0,1°f | W41: > 0°f | X41: - | Y41: - | Z41: > 0 mg/l | AA41: - | AB41: - | AC41: - | AD41: < 0,05 mg/l | AE41: < 0,02 mg/l
A42: Rc (SiO2) | C42: - | D42: - | E42: - | F42: - | G42: 3.5483871 | H42: 12.916667 | I42: - | J42: - | K42: - | N42: Chaudière 2 | O42: Limpide | P42: Orangée | Q42: 11.5 | R42: 2442 | S42: 1709.4 | T42: 3.5483871 | U42: - | V42: 0.9 | W42: 14 | X42: 21 | Y42: 48.611111 | Z42: 6.8 | AA42: 5 | AB42: 55 | AC42: 2.6190476 | AD42: 0.19 | AE42: 0
A43: % Retour Condensats | C43: - | D43: - | E43: 0.92258065 | F43: sur SiO2 | G43: - | H43: - | I43: - | J43: - | K43: - | N43: Chaudière 3 | O43: Limpide | P43: Incolore | Q43: 11.7 | R43: 3900 | S43: 2730 | T43: 12.916667 | U43: - | V43: 0.2 | W43: 19.8 | X43: 34.2 | Y43: 77.430556 | Z43: 26.4 | AA43: 18 | AB43: 65.8 | AC43: 1.9239766 | AD43: 0.15 | AE43: 0.16
A44: TH (°f) | C44: 15.4 | D44: 0 | E44: 0.1 | F44: < 0,1°f | G44: 0.9 | H44: 0.2 | I44: 0°f | J44: 0 | K44: 0°f | N44: Valeurs Guides | O44: Limpide | P44: Incolore | Q44: 10,5 - 12 | R44: < 6000 µS/cm | S44: < 4200 mg/l | T44: - | U44: - | V44: 0°f | W44: 5 - 75°f | X44: < 100°f | Y44: < 85°f | Z44: 10 à 20 mg/l | AA44: 30 à 60 mg/l | AB44: < 160 mg/l | AC44: < 1,6 | AD44: <0,5 mg/l | AE44: <0,5 mg/l
A45: TA (°f) | C45: 0 | D45: 0 | E45: 0.5 | F45: > 0°f | G45: 14 | H45: 19.8 | I45: 5 - 75°f | J45: 0.5 | K45: - | N45: Condensât | O45: Limpide | P45: Incolore | Q45: 9.6 | R45: 21.3 | S45: 14.91 | T45: - | U45: - | V45: 0 | W45: 0.5 | X45: 1 | Y45: - | Z45: - | AA45: - | AB45: - | AC45: - | AD45: 0.04 | AE45: 0.09
A46: TAC (°f) | C46: 5.7 | D46: 5.8 | E46: 1.5 | F46: - | G46: 21 | H46: 34.2 | I46: < 100°f | J46: 1 | K46: - | N46: Valeurs Guides | O46: Limpide | P46: Incolore | Q46: > 8,7 | R46: < 50 µS/cm | S46: < 35 mg/l | T46: - | U46: - | V46: 0°f | W46: - | X46: - | Y46: - | Z46: - | AA46: - | AB46: - | AC46: - | AD46: < 0,5 mg/l | AE46: < 0,5 mg/l
A47: Cl- (°f) | C47: 13.194444 | D47: 13.541667 | E47: 2.7777778 | F47: - | G47: 48.611111 | H47: 77.430556 | I47: < 85°f | J47: - | K47: -
A48: Phosphates (mg/L) | C48: - | D48: - | E48: 0.5 | F48: > 0 mg/l | G48: 6.8 | H48: 26.4 | I48: 10 à 20 mg/l | J48: - | K48: -
A49: Sulfites (mg/l) | C49: - | D49: - | E49: 8 | F49: - | G49: 5 | H49: 18 | I49: 30 à 60 mg/l | J49: - | K49: -
A50: SiO2 (mg/l) | C50: - | D50: 15.5 | E50: 1.2 | F50: - | G50: 55 | H50: 65.8 | I50: < 160 mg/l | J50: - | K50: -
A51: SiO2 / TAC | C51: - | D51: - | E51: - | F51: - | G51: 2.6190476 | H51: 1.9239766 | I51: < 1,6 | J51: - | K51: -
A52: Fer (mg/l) | C52: 0.13 | D52: 0.25 | E52: 0.11 | F52: < 0,05 mg/l | G52: 0.19 | H52: 0.15 | I52: <0,5 mg/l | J52: 0.04 | K52: < 0,5 mg/l
A53: Cu (mg/l) | C53: - | D53: - | E53: 0 | F53: < 0,02 mg/l | G53: 0 | H53: 0.16 | I53: <0,5 mg/l | J53: 0.09 | K53: < 0,5 mg/l
A54: * Normes AFNOR | D54: * Normes Constructeurs | F54: * Normes STI
C65: Chaudières SUD - Tubes d'eau 20 bars
A66: Echantillon | C66: Eau Brute Forage | D66: Eau Adoucie | E66: Bâche Alimentaire | F66: Valeurs Guides | G66: Chaudière | H66: Valeurs Guides | I66: Condensât | J66: Valeurs Guides | O66: Chaudières UFFOLTZ - Fluide thermique de 8 bars
A67: Turbidité | C67: Limpide | D67: Limpide | E67: Limpide | F67: Limpide | G67: Limpide | H67: Limpide | I67: Limpide | J67: Limpide | M67: Echantillon | O67: Eau Brute | P67: Eau Adoucie S10 | Q67: Bâche Alimentaire S10 | R67: Valeurs Guides | S67: Chaudière S10 | T67: Valeurs Guides | U67: HYDREX1350 | V67: PHOSPHATE SULFITE AMINE
A68: Couleur | C68: Incolore | D68: Incolore | E68: Incolore | F68: Incolore | G68: Incolore | H68: Incolore | I68: Incolore | J68: Incolore | M68: Turbidité | O68: Limpide | P68: Limpide | Q68: Limpide | R68: Limpide | S68: Limpide | T68: Limpide
A69: pH | C69: 7.6 | D69: 7.5 | E69: 9.2 | F69: > 9,2 | G69: 11.7 | H69: 10,5 - 11,8 | I69: 9.6 | J69: > 8,7 | M69: Couleur | O69: Incolore | P69: Incolore | Q69: Incolore | R69: Incolore | S69: Incolore | T69: Incolore
A70: Conduc. (µS/cm) | C70: 347 | D70: 318 | E70: 125 | F70: - | G70: 3880 | H70: < 6000 µS/cm | I70: 21.3 | J70: < 50 µS/cm | M70: pH | O70: - | P70: 7.2 | Q70: - | R70: > 9,2 | S70: - | T70: 10,5 - 12,0
A71: Salinité (mg/l) | C71: 242.9 | D71: 222.6 | E71: 87.5 | F71: - | G71: 2716 | H71: < 4200 mg/l | I71: 14.91 | J71: < 35 mg/l | M71: Conduc. (µS/cm) | O71: - | P71: 356 | Q71: - | R71: - | S71: - | T71: < 6000 µS/cm
A72: Rc (SiO2) | C72: - | D72: - | E72: - | F72: - | G72: 19.785714 | H72: - | I72: - | J72: - | M72: Salinité (mg/l) | O72: - | P72: 249.2 | Q72: - | R72: - | S72: - | T72: < 4200 mg/l
A73: % Retour Condensats | C73: - | D73: - | E73: 0.68715084 | F73: sur SiO2 | G73: - | H73: - | I73: - | J73: - | M73: Rc (SiO2) | O73: - | P73: - | Q73: - | R73: - | S73: - | T73: -
A74: TH (°f) | C74: 9.2 | D74: 0.2 | E74: 0.6 | F74: < 0,05°f | G74: 0 | H74: 0°f | I74: 0 | J74: 0°f | M74: % Retour Condensats | O74: - | P74: - | Q74: - | R74: sur SiO2 | S74: - | T74: -
A75: TA (°f) | C75: 0 | D75: 0 | E75: 1 | F75: > 0°f | G75: 25 | H75: 5 - 50°f | I75: 0.5 | J75: - | M75: TH (°f) | O75: - | P75: 0 | Q75: - | R75: < 0,05°f | S75: - | T75: 0°f
A76: TAC (°f) | C76: 8.8 | D76: 4.5 | E76: 7.5 | F76: - | G76: 38 | H76: < 70°f | I76: 1 | J76: - | M76: TA (°f) | O76: - | P76: 0 | Q76: - | R76: > 0°f | S76: - | T76: 5 - 75°f
A77: Cl- (°f) | C77: 7.9861111 | D77: 9.0277778 | E77: 3.8194444 | F77: - | G77: 70.486111 | H77: < 85°f | I77: - | J77: - | M77: TAC (°f) | O77: - | P77: 7.1 | Q77: - | R77: - | S77: - | T77: 50 - 100°f
A78: Phosphates (mg/L) | C78: - | D78: - | E78: 1 | F78: > 0 mg/l | G78: 3.8 | H78: 8 à 15 mg/l | I78: - | J78: - | M78: Cl- (°f) | O78: - | P78: 8.6805556 | Q78: - | R78: - | S78: - | T78: < 85°f
A79: Sulfites (mg/l) | C79: - | D79: - | E79: 9 | F79: - | G79: 8 | H79: 30 à 60 mg/l | I79: - | J79: - | M79: Phosphates (mg/L) | O79: - | P79: - | Q79: - | R79: > 0 mg/l | S79: - | T79: 10 à 30 mg/l
A80: SiO2 (mg/l) | C80: - | D80: 8.95 | E80: 2.8 | F80: - | G80: 55.4 | H80: < 105 mg/l | I80: - | J80: - | M80: Sulfites (mg/l) | O80: - | P80: - | Q80: - | R80: - | S80: - | T80: 30 à 60 mg/l
A81: SiO2 / TAC | C81: - | D81: - | E81: - | F81: - | G81: 1.4578947 | H81: < 1,5 | I81: - | J81: - | M81: SiO2 (mg/l) | O81: - | P81: - | Q81: - | R81: - | S81: - | T81: < 160 mg/l
A82: Fer (mg/l) | C82: 0.73 | D82: 0.77 | E82: 0.27 | F82: < 0,03 mg/l | G82: 0.16 | H82: <0,5 mg/l | I82: 0.04 | J82: < 0,5 mg/l | M82: SiO2 / TAC | O82: - | P82: - | Q82: - | R82: - | S82: - | T82: < 1,6
A83: Cu (mg/l) | C83: - | D83: - | E83: 0 | F83: < 0,01 mg/l | G83: 0.24 | H83: <0,5 mg/l | I83: - | J83: < 0,5 mg/l | M83: Fer (mg/l) | O83: - | P83: 0.13 | Q83: - | R83: < 0,3 mg/l | S83: - | T83: <0,5 mg/l
A84: * Normes AFNOR | D84: * Normes Constructeurs | F84: * Normes STI | M84: Cu (mg/l) | O84: - | P84: - | Q84: - | R84: < 0,05 mg/l | S84: - | T84: <0,5 mg/l
M85: * Normes AFNOR | P85: * Normes Constructeurs | R85: * Normes STI
C107: Chaudières UFFOLTZ - Fluide thermique de 8 bars
A108: Echantillon | C108: Eau Brute | D108: Eau Adoucie S20 | E108: Bâche Alimentaire S20 | F108: Valeurs Guides | G108: Chaudière S20 | H108: Valeurs Guides | I108: HYDREX1350
A109: Turbidité | C109: Limpide | D109: Limpide | E109: Limpide | F109: Limpide | G109: Limpide | H109: Limpide
A110: Couleur | C110: Incolore | D110: Incolore | E110: Grisâtre | F110: Incolore | G110: Grisâtre | H110: Incolore
A111: pH | C111: 7.4 | D111: 7.2 | E111: 8.7 | F111: > 9,2 | G111: 8.8 | H111: 10,5 - 12,0
A112: Conduc. (µS/cm) | C112: 339 | D112: 338 | E112: 915 | F112: - | G112: 922 | H112: < 6000 µS/cm
A113: Salinité (mg/l) | C113: 237.3 | D113: 236.6 | E113: 640.5 | F113: - | G113: 645.4 | H113: < 4200 mg/l
A114: Rc (SiO2) | C114: - | D114: - | E114: - | F114: - | G114: 1.033557 | H114: -
A115: % Retour Condensats | C115: - | D115: - | E115: - | F115: sur SiO2 | G115: - | H115: -
A116: TH (°f) | C116: 9 | D116: 0 | E116: 0 | F116: < 0,05°f | G116: 0 | H116: 0°f
A117: TA (°f) | C117: 0 | D117: 0 | E117: 0 | F117: > 0°f | G117: 0 | H117: 5 - 75°f
A118: TAC (°f) | C118: 8.7 | D118: 8.4 | E118: 2.9 | F118: - | G118: 4.8 | H118: 50 - 100°f
A119: Cl- (°f) | C119: 8.6805556 | D119: 8.6805556 | E119: 11.458333 | F119: - | G119: 11.458333 | H119: < 85°f
A120: Phosphates (mg/L) | C120: - | D120: - | E120: 34.3 | F120: > 0 mg/l | G120: 35.3 | H120: 10 à 30 mg/l
A121: Sulfites (mg/l) | C121: - | D121: - | E121: 53 | F121: - | G121: 51 | H121: 30 à 60 mg/l
A122: SiO2 (mg/l) | C122: - | D122: 8.5 | E122: 14.9 | F122: - | G122: 15.4 | H122: < 160 mg/l
A123: SiO2 / TAC | C123: - | D123: - | E123: - | F123: - | G123: 3.2083333 | H123: < 1,6
A124: Fer (mg/l) | C124: 0.4 | D124: 0.17 | E124: 2.44 | F124: < 0,3 mg/l | G124: 2.45 | H124: <0,5 mg/l
A125: Cu (mg/l) | C125: - | D125: - | E125: 0.02 | F125: < 0,05 mg/l | G125: 0 | H125: <0,5 mg/l
A126: * Normes AFNOR | D126: * Normes Constructeurs | F126: * Normes STI
A130: 2) RELEVE D'INSTALLATION
A132: Relevé compteur:
A133: Date dernière visite : | C133: 42404
A134: Date de la visite | C134: 42452
A135: Nombre de jour depuis la dernière visite : | E135: 48
D137: Chaudières NORD | G137: Chaudières SUD | I137: Chaudières UFFOLTZ
A138: Compteur | D138: Eau adoucie | E138: Tonne Vapeur | G138: Eau adoucie | H138: Tonne Vapeur | I138: Eau adoucie S10 | J138: Eau adoucie S20 | O138: Chaudières SUD
A139: Nouveau | C139: (m3) | D139: 413974 | E139: 91005 | F139: 1272 | G139: 334950 | H139: 320361 | I139: 8852 | J139: 23294 | M139: Produits | O139: Hydrex 1461 | Q139: Hydrex 1908 | S139: Hydrex 1644
A140: Ancien | C140: (m3) | D140: 303775 | E140: 90742 | F140: 217 | G140: 328767 | H140: 313788 | I140: 8666 | J140: 22844 | M140: Densité | O140: 1.13 | Q140: 1.44 | S140: 1
A141: Consommation | C141: (m3/j) | D141: 2295.8125 | E141: 5.4791667 | F141: 21.979167 | G141: 128.8125 | H141: 136.9375 | I141: 9.375 | J141: 9.375 | M141: Pompe | O141: 9.5 | P141: l/h 10 bars | Q141: 3.8 | R141: l/h 10 bars | S141: 3.8 | T141: l/h 10 bars
C142: (m3) | D142: 110199 | E142: 263 | F142: 1055 | G142: 6183 | H142: 6573 | I142: 186 | J142: 450 | O142: ml/coup : | P142: 1.5833333 | Q142: ml/coup : | R142: 0.63333333 | S142: ml/coup : | T142: 0.63333333
O143: imp/min : | P143: 100 | Q143: imp/min : | R143: 100 | S143: imp/min : | T143: 100
A144: Dosage produits : | M144: Course | O144: 1 | Q144: 0.7 | S144: 0.7
C145: Chaudières NORD | M145: Fréquence | O145: EXT | Q145: EXT | S145: EXT
A146: Produits | C146: Hydrex 1461 | E146: Hydrex 1908 | G146: Hydrex 1644 | J146: 1461 PHOSPHATE | M146: Impulsion | O146: 23 | P146: cpi | Q146: 2 | R146: cpi | S146: 3 | T146: cpi
A147: Densité | C147: 1.13 | E147: 1.44 | G147: 1 | M147: Impulsion/m3 | O147: 10 | P147: imp/m3 | Q147: 10 | R147: imp/m3 | S147: 10 | T147: imp/m3
A148: Pompe | C148: 3.8 | D148: l/h 10 bars | E148: 3.8 | F148: l/h 10 bars | G148: 1.6 | H148: l/h 10 bars | J148: 1908 SULFITE | M148: Dosage pompe | O148: 4115.0833 | P148: ppm | Q148: 127.68 | R148: ppm | S148: 133 | T148: ppm
...

Sheet 1 EAU BRUTE DE VILLE
D1: 2017
H2: EAU BRUTE
A4: VOLUME EN M3 | B4: COMPTEUR | C4: CONSO | D4: Paramètres physico-chimiques | K4: SALINITE
D5: pH | E5: TH | F5: TAC | G5: TA | H5: Conductivité | I5: Cl | L5: Fer
E6: Circuit | F6: Circuit | L6: mg/l
E7: °f | F7: °f | G7: °f | I7: °f | J7: mg/L | K7: mg/l
A8: 6 | C8: m3
A9: DATE | D9: AFNOR | E9: AFNOR | G9: NORME STI | H9: <50µs/cm | L9: AFNOR
A10: 42807 | C10: 0 | D10: 7.4 | E10: 9.6 | F10: 6.4 | G10: 0 | H10: 504 | I10: 10.7 | J10: 39 | K10: =H10*0.7 -> 352.8 | L10: 0.1 | M10: thomas
A11: 42809 | C11: 0 | D11: 7.3 | E11: 15.5 | F11: 6.7 | G11: 0 | H11: 343 | I11: 5.49 | J11: =I11*7.1 -> 38.979 | K11: =H11*0.7 -> 240.1 | L11: 0.1
A12: 42814 | C12: 0 | D12: 7.4 | E12: 16.2 | F12: 5.5 | G12: 0 | H12: 526 | I12: 10.8 | J12: =I12*7.1 -> 76.68 | K12: =H12*0.7 -> 368.2 | L12: 0.12
A13: 42816 | C13: 0 | D13: 7.3 | E13: 16 | F13: 5.1 | G13: 0 | H13: 523 | I13: 11.1 | J13: =I13*7.1 -> 78.81 | K13: =H13*0.7 -> 366.1 | L13: 0.1
A14: 42818 | C14: 0 | D14: 7.4 | E14: 15.9 | F14: 5.6 | G14: 0 | H14: 524 | I14: 10.4 | J14: =I14*7.1 -> 73.84 | K14: =H14*0.7 -> 366.8 | L14: 0.36
A15: 42821 | C15: 0 | D15: 7.4 | E15: 15.7 | F15: 5.6 | G15: 0 | H15: 517 | I15: 10.56 | J15: 75 | K15: =H15*0.7 -> 361.9
A16: 42823 | C16: 0 | D16: 7.2 | E16: 16.3 | F16: 5.7 | G16: 0 | H16: 526 | I16: 10.7 | J16: =I16*7.1 -> 75.97 | K16: =H16*0.7 -> 368.2
A17: 42825 | C17: 0 | D17: 7.2 | E17: 15.6 | F17: 5.8 | G17: 0 | H17: 522 | I17: 10.5 | J17: =I17*7.1 -> 74.55 | K17: =H17*0.7 -> 365.4
A18: 42828 | C18: 0 | D18: 7.2 | E18: 15.7 | F18: 5.7 | G18: 0 | H18: 515 | I18: 11.15 | J18: =I18*7.1 -> 79.165 | K18: =H18*0.7 -> 360.5
A19: 43560 | C19: 0 | D19: 7.3 | E19: 15.3 | F19: 4.9 | G19: 0 | H19: 512 | I19: 15.2 | J19: =I19*7.1 -> 107.92 | K19: =H19*0.7 -> 358.4
A20: 42832 | C20: 0 | E20: 10 | F20: 5 | G20: 0 | J20: 85 | K20: =H20*0.7 -> 0
A21: 42835 | C21: 0 | E21: 20 | F21: 5.3 | G21: 0 | J21: 80 | K21: =H21*0.7 -> 0
A22: 42837 | C22: 0 | E22: 15 | F22: 5 | G22: 0 | J22: 71 | K22: =H22*0.7 -> 0
A23: 42839 | C23: 0 | E23: 12 | F23: 5 | G23: 0 | J23: 70 | K23: =H23*0.7 -> 0
A24: 42842 | C24: 0 | E24: 11 | F24: 5 | G24: 0 | J24: 70 | K24: =H24*0.7 -> 0
A25: 42844 | C25: 0 | E25: 14 | F25: 6 | G25: 0 | J25: 78 | K25: =H25*0.7 -> 0
A26: 42849 | C26: 0 | E26: 16 | F26: 4.5 | G26: 0 | J26: 50 | K26: =H26*0.7 -> 0
A27: 42851 | C27: 0 | E27: 14.5 | F27: 5 | G27: 0 | J27: 77 | K27: =H27*0.7 -> 0
A28: 42853 | C28: 0 | E28: 13.2 | F28: 7 | G28: 0 | J28: 83.78 | K28: =H28*0.7 -> 0
A29: 42858 | C29: 0 | E29: 14 | F29: 10 | G29: 0 | J29: 284 | K29: =H29*0.7 -> 0
A30: 42860 | C30: 0 | E30: 13.5 | F30: 5 | G30: 0 | J30: 71 | K30: =H30*0.7 -> 0
A31: 42863 | C31: 0 | E31: 12.5 | F31: 5 | G31: 0 | J31: 71 | K31: =H31*0.7 -> 0
... A48: 42902 | C48: 0 | E48: 12 | F48: 6 | G48: 0 | J48: 77 | K48: =H48*0.7 -> 0
A49: reprise | C49: 0 | K49: =H49*0.7 -> 0
A50: 42905 | C50: 0 | D50: 7.2 | E50: 17 | F50: 6.2 | G50: 0 | H50: 491 | I50: 10.6 | J50: 77 | K50: =H50*0.7 -> 343.7 | L50: 0.08
A51: 42907 | C51: 0 | D51: 7.32 | E51: 16 | F51: 7.2 | G51: 0 | H51: 538 | I51: 10.4 | J51: 77 | K51: =H51*0.7 -> 376.6 | L51: 0.08 | M51: thomas
A52: 42909 | C52: 0 | D52: 7.4 | E52: 15.5 | F52: 6 | G52: 0 | H52: 500 | I52: 10.4 | J52: =I52*7.1 -> 73.84 | K52: =H52*0.7 -> 350 | L52: 0.42
A53: 42912 | C53: 0 | D53: 7.3 | E53: 15.3 | F53: 6.7 | G53: 0 | H53: 540 | I53: 10.4 | J53: =I53*7.1 -> 73.84 | K53: =H53*0.7 -> 378 | L53: 0.22
A54: 42914 | C54: 0 | D54: 7.05 | E54: 19 | F54: 10.5 | G54: 0 | H54: 490 | I54: 9.92 | J54: =I54*7.1 -> 70.432 | K54: =H54*0.7 -> 343 | L54: 0.17
A55: 42916 | C55: 0 | D55: 7.05 | E55: 16 | F55: 10.2 | G55: 0 | H55: 529 | I55: 10.5 | J55: =I55*7.1 -> 74.55 | K55: =H55*0.7 -> 370.3 | L55: 0.16
A56: 42919 | C56: 0 | D56: 6.3 | E56: 15.3 | F56: 6.4 | G56: 0 | H56: 500 | I56: 10.6 | J56: =I56*7.1 -> 75.26 | K56: =H56*0.7 -> 350 | L56: 0.17
A57: 42921 | C57: 0 | D57: 6.8 | F57: 6.8 | G57: 0 | H57: 491 | I57: 10.3 | J57: =I57*7.1 -> 73.13 | K57: =H57*0.7 -> 343.7 | L57: 0.14
A58: 42923 | C58: 0 | D58: 6.54 | E58: 15.8 | F58: 6.6 | G58: 0 | H58: 537 | I58: 10 | J58: =I58*7.1 -> 71 | K58: =H58*0.7 -> 375.9 | L58: 0.4
A59: 42926 | C59: 0 | D59: 6.22 | E59: 15.9 | F59: 5.6 | G59: 0 | H59: 539 | I59: 9.3 | J59: =I59*7.1 -> 66.03 | K59: =H59*0.7 -> 377.3 | L59: 0.14
A60: 42928 | C60: 0 | D60: 7.1 | E60: 15.7 | F60: 5.5 | G60: 0 | H60: 508 | I60: 10.4 | J60: =I60*7.1 -> 73.84 | K60: =H60*0.7 -> 355.6 | L60: 0.28
A61: 42933 | C61: 0 | D61: 7.25 | E61: 15 | F61: 5.5 | G61: 0 | H61: 511 | I61: 9.7 | J61: =I61*7.1 -> 68.87 | K61: =H61*0.7 -> 357.7 | L61: 0.12
A62: 42935 | C62: 0 | E62: 14.8 | F62: 5.4 | G62: 0 | J62: 82 | K62: =H62*0.7 -> 0
A63: 42937 | C63: 0 | D63: 7.52 | E63: 15.5 | F63: 7.1 | G63: 0 | H63: 516 | I63: 11.8 | J63: =I63*7.1 -> 83.78 | K63: =H63*0.7 -> 361.2 | L63: 0.03
A64: 42940 | C64: 0 | D64: 7.66 | E64: 14.8 | F64: 5.5 | G64: 0 | H64: 507 | I64: 10.8 | J64: =I64*7.1 -> 76.68 | K64: =H64*0.7 -> 354.9 | L64: 0.24
A65: 42942 | C65: 0 | D65: 8.82 | E65: 15.2 | F65: 6.6 | G65: 0.8 | H65: 650 | I65: 10.03 | J65: =I65*7.1 -> 71.213 | K65: =H65*0.7 -> 455 | L65: 0.24
A66: 42944 | C66: 0 | D66: 6.93 | E66: 16 | F66: 5.6 | G66: 0 | H66: 536 | I66: 10.4 | J66: =I66*7.1 -> 73.84 | K66: =H66*0.7 -> 375.2 | L66: 0.15
A67: 42947 | C67: 0 | D67: 7.31 | E67: 18 | F67: 5.8 | G67: 0 | H67: 429 | I67: 10.4 | J67: =I67*7.1 -> 73.84 | K67: =H67*0.7 -> 300.3 | L67: 0.1
A68: 42949 | C68: 0 | D68: 7.3 | E68: 18 | F68: 5.6 | G68: 0 | H68: 438 | I68: 10.07 | J68: =I68*7.1 -> 71.497 | K68: =H68*0.7 -> 306.6 | L68: 0.17
A69: 42951 | C69: 0 | D69: 7.3 | E69: 17 | F69: 5.9 | G69: 0 | H69: 446 | I69: 10.65 | J69: =I69*7.1 -> 75.615 | K69: =H69*0.7 -> 312.2 | L69: 0.17
A70: 42954 | C70: 0 | D70: 7.4 | E70: 16 | F70: 6.2 | G70: 0 | H70: 514 | I70: 9.95 | J70: =I70*7.1 -> 70.645 | K70: =H70*0.7 -> 359.8 | L70: 0.17
A71: 42956 | C71: 0 | D71: 7.5 | E71: 18 | F71: 6 | G71: 0 | H71: 504 | I71: 15.9 | J71: =I71*7.1 -> 112.89 | K71: =H71*0.7 -> 352.8 | L71: 0.14
A72: 42958 | C72: 0 | D72: 8.1 | E72: 16 | F72: 6 | G72: 0 | H72: 544 | I72: 15.8 | J72: =I72*7.1 -> 112.18 | K72: =H72*0.7 -> 380.8 | L72: 0.1
A73: 42961 | C73: 0 | E73: 7 | F73: 7 | G73: 0 | J73: 71 | K73: =H73*0.7 -> 0
A74: 42963 | C74: 0 | D74: 7.4 | E74: 21 | F74: 5.6 | G74: 0 | H74: 514 | I74: 9.5 | J74: =I74*7.1 -> 67.45 | K74: =H74*0.7 -> 359.8 | L74: 0.1
A75: 42965 | C75: 0 | D75: 7.4 | E75: 19 | F75: 6.5 | G75: 0 | H75: 516 | I75: 10.3 | J75: =I75*7.1 -> 73.13 | K75: =H75*0.7 -> 361.2 | L75: 0.09
A76: 42993 | C76: 0 | D76: 7.2 | E76: 15.2 | F76: 5.9 | G76: 0 | H76: 500 | I76: 10.6 | J76: =I76*7.1 -> 75.26 | K76: =H76*0.7 -> 350 | L76: 0.3
A77: 42996 | C77: 0 | D77: 7.4 | E77: 16 | F77: 6.4 | G77: 0 | H77: 513 | I77: 10.4 | J77: =I77*7.1 -> 73.84 | K77: =H77*0.7 -> 359.1 | L77: 1.2
A78: 43003 | C78: 0 | D78: 8.1 | E78: 15.9 | F78: 9.4 | G78: 0 | H78: 529 | I78: 10.6 | J78: =I78*7.1 -> 75.26 | K78: =H78*0.7 -> 370.3 | L78: 1.34
A79: 43005 | C79: 0 | D79: 7.7 | E79: 15.6 | F79: 5.7 | G79: 0 | H79: 474 | I79: 10.4 | J79: =I79*7.1 -> 73.84 | K79: =H79*0.7 -> 331.8 | L79: 0.82
C80: 0 | K80: =H80*0.7 -> 0
C81: 0 | K81: =H81*0.7 -> 0
C82: 0 | K82: =H82*0.7 -> 0
C83: 0 | K83: =H83*0.7 -> 0
C84: 0 | K84: =H84*0.7 -> 0
C85: 0 | K85: =H85*0.7 -> 0
C86: 0 | K86: =H86*0.7 -> 0
C87: 0 | K87: =H87*0.7 -> 0
C88: 0 | K88: =H88*0.7 -> 0
C89: 0 | K89: =H89*0.7 -> 0
C90: 0 | K90: =H90*0.7 -> 0
C91: 0 | K91: =H91*0.7 -> 0
... C164: 0 | K164: =H164*0.7 -> 0

Sheet 2 EA nord
D1: 2017
H2: EA nord
A3: EAU ADOUCIE
A4: VOLUME EN M3 | B4: COMPTEUR | C4: CONSO | D4: Paramètres physico-chimiques | K4: SALINITE | L4: SILICE | M4: METAUX | N4: Observations & actions correctives
D5: pH | E5: TH | F5: TAC | G5: TA | H5: Conductivité | I5: Cl- | J5: Cl- | L5: SiO2 | M5: Fer
E6: Circuit | F6: Circuit | M6: mg/l
E7: °f | F7: °f | G7: °f | H7: µs/cm | I7: °f | J7: mg/l | K7: mg/l | L7: mg/l
C8: m3 | D8: >9,2 | E8: <0,1 | M8: < 0,05mg/l
A9: DATE | D9: norme afnor | E9: norme afnor | G9: NORME STI | M9: norme afnor
A10: 42811 | C10: 0 | D10: 7.6 | E10: 0 | F10: 5.6 | G10: 0 | H10: 508 | I10: 9.9 | J10: 30.7 | K10: =H10*0.7 -> 355.6 | L10: 10.4 | M10: 0.16
C11: 0 | D11: 7.05 | E11: 0 | F11: 5.6 | G11: 0 | H11: 523 | I11: 4.32 | J11: 30.7 | K11: =H11*0.7 -> 366.1 | M11: 0.16
A12: 42814 | C12: 0 | D12: 7.3 | E12: 0 | F12: 5.5 | G12: 0 | H12: 527 | I12: 10.5 | J12: =I12*7.1 -> 74.55 | K12: =H12*0.7 -> 368.9 | M12: 0.12
A13: 42817 | C13: 0 | D13: 7.22 | E13: 0 | F13: 5.8 | G13: 0 | H13: 520 | I13: 9.6 | J13: =I13*7.1 -> 68.16 | K13: =H13*0.7 -> 364 | L13: 14.7 | M13: 0.9
A14: 42818 | C14: 0 | D14: 7.5 | E14: 0 | F14: 5.4 | G14: 0 | H14: 530 | I14: 10.7 | J14: =I14*7.1 -> 75.97 | K14: =H14*0.7 -> 371 | L14: 10.6 | M14: 0.05
A15: 42821 | C15: 0 | D15: 7.42 | E15: 0 | F15: 5.6 | G15: 0 | H15: 527 | I15: 9.98 | J15: =I15*7.1 -> 70.858 | K15: =H15*0.7 -> 368.9
A16: 42823 | C16: 0 | D16: 7.1 | E16: 0 | F16: 5.7 | G16: 0 | H16: 528 | I16: 10.3 | J16: =I16*7.1 -> 73.13 | K16: =H16*0.7 -> 369.6
A17: 42825 | C17: 0 | D17: 7.2 | E17: 0 | F17: 5.9 | G17: 0 | H17: 530 | I17: 10.09 | J17: =I17*7.1 -> 71.639 | K17: =H17*0.7 -> 371
A18: 42828 | C18: 0 | D18: 7.1 | E18: 0 | F18: 5.6 | G18: 0 | H18: 516 | I18: 12.3 | J18: =I18*7.1 -> 87.33 | K18: =H18*0.7 -> 361.2
A19: ='1 EAU BRUTE DE VILLE'!A19 -> 43560 | C19: 0 | D19: 7.1 | E19: 0 | F19: 5.4 | G19: 0 | H19: 518 | I19: 13.6 | J19: =I19*7.1 -> 96.56 | K19: =H19*0.7 -> 362.6
A20: 42832 | C20: 0 | E20: 0 | F20: 6 | G20: 0 | J20: 75
A21: 42835 | C21: 0 | E21: 0 | F21: 5.2 | G21: 0 | J21: 75
A22: 42837 | C22: 0 | E22: 0 | F22: 6 | G22: 0 | J22: 71
A23: 42839 | C23: 0 | E23: 0 | F23: 6 | G23: 0 | J23: 70
A24: 42842 | C24: 0 | E24: 0 | F24: 6 | G24: 0 | J24: 70
A25: 42844 | C25: 0 | E25: 0 | F25: 6 | G25: 0 | J25: 74
A26: 42846 | C26: 0 | E26: 0
A27: 42849 | C27: 0 | E27: 0 | F27: 5.5 | G27: 0 | J27: 80
A28: 42851 | C28: 0 | E28: 0 | F28: 5 | G28: 0 | J28: 73
A29: 42853 | C29: 0 | E29: 0 | F29: 6.5 | G29: 0 | J29: 80.23
A30: 42858 | C30: 0 | E30: 0 | F30: 8 | G30: 0 | J30: 177.5
A31: 42860 | C31: 0 | E31: 0 | F31: 5 | G31: 0 | J31: 71
A32: 42863 | C32: 0 | E32: 0 | F32: 5 | G32: 0 | J32: 71
A33: 42865 | C33: 0 | E33: 0 | F33: 5 | G33: 0 | J33: 71
A34: 42867 | C34: 0 | E34: 0 | F34: 5 | G34: 0 | J34: 71
A35: 42870 | C35: 0 | E35: 0 | F35: 5 | G35: 0 | J35: 71
A36: 42872 | C36: 0 | E36: 0 | F36: 6 | G36: 0 | J36: 85.2
A37: 42874 | C37: 0 | E37: 0 | F37: 6 | G37: 0 | J37: 85
A38: 42877 | C38: 0 | E38: 0 | F38: 5 | G38: 0 | J38: 77
... A49: 42902 | C49: 0 | E49: 0 | F49: 6 | G49: 0 | J49: 85
C50: 0
A51: 42905 | C51: 0 | D51: 7.2 | E51: 0 | F51: 6.1 | G51: 0 | H51: 487 | I51: 9.94 | J51: 85 | L51: 15.4 | M51: 1.58
A52: 42906 | C52: 0 | D52: 7.3 | E52: 0 | F52: 6.8 | G52: 0 | H52: 506 | I52: 9.5 | J52: 85 | L52: 9.3 | M52: 2.79
A53: 42909 | C53: 0 | D53: 7.35 | E53: 0 | F53: 6.5 | G53: 0 | H53: 516 | I53: 10.1 | J53: =I53*7.1 -> 71.71 | L53: 10.8 | M53: 0.97
A54: 42912 | C54: 0 | D54: 7 | E54: 0 | F54: 5.9 | G54: 0 | H54: 499 | I54: 9.95 | J54: =I54*7.1 -> 70.645 | L54: 7.9 | M54: 0.3
A55: 42914 | C55: 0 | D55: 6.52 | E55: 0 | F55: 7.6 | G55: 0 | H55: 496 | I55: 9.83 | J55: =I55*7.1 -> 69.793 | L55: 14 | M55: 0.15
A56: 42916 | C56: 0 | D56: 6.74 | E56: 0 | F56: 8.4 | G56: 0 | H56: 506 | I56: 9.91 | J56: =I56*7.1 -> 70.361 | L56: 6.5 | M56: 0.09
A57: 42919 | C57: 0 | D57: 6.56 | E57: 0 | F57: 7.1 | G57: 0 | H57: 497 | I57: 9.87 | J57: =I57*7.1 -> 70.077 | L57: 21.2 | M57: 2.38
A58: 42921 | C58: 0 | D58: 6.6 | E58: 0 | F58: 7.6 | G58: 0 | H58: 504 | I58: 9.62 | J58: =I58*7.1 -> 68.302 | L58: 16.4 | M58: 1.11
A59: 42923 | C59: 0 | D59: 6.2 | E59: 0 | F59: 5 | G59: 0 | H59: 489 | I59: 9 | J59: =I59*7.1 -> 63.9 | M59: 0.05
A60: 42926 | C60: 0 | D60: 6.13 | E60: 0 | F60: 5.6 | G60: 0 | H60: 492 | I60: 8.9 | J60: =I60*7.1 -> 63.19 | L60: 12 | M60: 0.44
A61: 42928 | C61: 0 | D61: 7.26 | E61: 0 | F61: 5.3 | G61: 0 | H61: 511 | I61: 10.4 | J61: =I61*7.1 -> 73.84 | L61: 12.3 | M61: 0.1
A62: 42933 | C62: 0 | D62: 6.96 | E62: 0 | F62: 5.9 | G62: 0 | H62: 516 | I62: 9.7 | J62: =I62*7.1 -> 68.87 | L62: 11.5 | M62: 0.1
A63: 42935 | C63: 0 | E63: 0 | F63: 6.8 | G63: 0 | J63: 77
A64: 42937 | C64: 0 | D64: 7.26 | E64: 0.1 | F64: 6.6 | G64: 0 | H64: 521 | I64: 9.8 | J64: =I64*7.1 -> 69.58 | L64: 13.2 | M64: 0.03
A65: 42940 | C65: 0 | D65: 7.29 | E65: 0 | F65: 5.6 | G65: 0 | H65: 466 | I65: 10.8 | J65: =I65*7.1 -> 76.68 | L65: 13.5 | M65: 0.08
A66: 42942 | C66: 0 | D66: 7.24 | E66: 0 | F66: 5.7 | G66: 0 | H66: 511 | I66: 7.83 | J66: =I66*7.1 -> 55.593 | L66: 13.1 | M66: 0.22
A67: 42944 | C67: 0 | D67: 6.96 | E67: 0 | F67: 5.7 | G67: 0 | H67: 527 | I67: 10.3 | J67: =I67*7.1 -> 73.13 | L67: 12.3 | M67: 0.13
A68: 42947 | C68: 0 | D68: 7.03 | E68: 0 | F68: 6.1 | G68: 0 | H68: 439 | I68: 9.74 | J68: =I68*7.1 -> 69.154 | L68: 16.2 | M68: 0.44
A69: 42949 | C69: 0 | D69: 7.1 | E69: 0 | F69: 6.3 | G69: 0 | H69: 450 | I69: 9.57 | J69: =I69*7.1 -> 67.947 | L69: 15.8 | M69: 0.26
A70: 42951 | C70: 0 | D70: 7.1 | E70: 0 | F70: 5.9 | G70: 0 | H70: 453 | I70: 10.1 | J70: =I70*7.1 -> 71.71 | L70: 13.6 | M70: 0.53
A71: 42954 | C71: 0 | D71: 7.3 | E71: 0 | F71: 6.4 | G71: 0 | H71: 503 | I71: 9.04 | J71: =I71*7.1 -> 64.184 | L71: 35.2 | M71: 2.92
A72: 42956 | C72: 0 | D72: 7.2 | E72: 0 | F72: 6.2 | G72: 0 | H72: 514 | I72: 13.8 | J72: =I72*7.1 -> 97.98 | L72: 13.7 | M72: 0.75
A73: 42958 | C73: 0 | D73: 7.2 | E73: 0 | F73: 6.1 | G73: 0 | H73: 509 | I73: 14.41 | J73: =I73*7.1 -> 102.311 | L73: 16.2 | M73: 0.5
A74: 42961 | C74: 0 | D74: 9.2 | E74: 0 | F74: 5 | G74: 0 | J74: 71
A75: 42964 | C75: 0 | D75: 7.5 | E75: 0 | F75: 6.9 | G75: 0 | H75: 491 | I75: 10.1 | J75: =I75*7.1 -> 71.71 | L75: 41.2 | M75: 4.2 | N75: silice en augmentation verifier le retour des condensats
A76: 42965 | C76: 0 | D76: 7.1 | E76: 0 | F76: 6.4 | G76: 0 | H76: 540 | I76: 10 | J76: =I76*7.1 -> 71 | L76: 14.1 | M76: 0.1
A77: 42993 | C77: 0 | D77: 7.2 | E77: 0 | F77: 7 | G77: 0 | H77: 491 | I77: 10 | J77: =I77*7.1 -> 71 | L77: 54 | M77: 6.2 | N77: faire purge pour le fer
A78: 42996 | C78: 0 | D78: 7.4 | E78: 0 | F78: 7 | G78: 0 | H78: 482 | I78: 10.4 | J78: =I78*7.1 -> 73.84 | L78: 40 | M78: 3.49 | N78: faire purge pour le fer
C79: 0
C80: 0
C81: 0
C82: 0
C83: 0
C84: 0
C85: 0
C86: 0
C87: 0
C88: 0
C89: 0
C90: 0
... C173: 0

Sheet 3 Condensât
D1: 2017
H2: CHAUDIERE NORD tubes d'eau 20 bars
A3: CONDENSÂT | K3: 1x par mois
A4: VOLUME EN M3 | B4: COMPTEUR | C4: CONSO | D4: Paramètres physico-chimiques | I4: SALINITE | J4: METAUX | L4: purge | N4: Observations & actions correctives
D5: pH | E5: TH | F5: TAC | G5: TA | H5: Conductivité | J5: Fer | K5: Cu | L5: M3
E6: Circuit | F6: Circuit | J6: mg/l | K6: mg/l
E7: °f | F7: °f | G7: °f | I7: mg/l
C8: m3 | D8: >8,7 | E8: 0 | H8: <50µs/cm | I8: <60 | J8: < 0,5 mg/l | K8: < 0,5mg/l | L8: Demandé | M8: réalisé le
A9: DATE | D9: NORME STI | E9: NORME STI | H9: NORME STI | I9: NORME STI | J9: NORME STI | K9: NORME STI
A10: 42797 | C10: 0 | D10: 7.9 | E10: 0 | F10: 0.4 | G10: 0.2 | H10: 18 | I10: =H10*0.7 -> 12.6 | J10: 0.23
A11: 42811 | C11: 0 | D11: 7.3 | E11: 0 | F11: 1 | G11: 0 | H11: 34.6 | I11: =H11*0.7 -> 24.22
C12: 0 | I12: =H12*0.7 -> 0 | J12: 4.49
C13: 0 | I13: =H13*0.7 -> 0
A14: 42818 | C14: 0 | D14: 6.97 | E14: 0 | F14: 1 | G14: 0 | H14: 53 | I14: =H14*0.7 -> 37.1 | N14: attention conductivite en tres legere hausse faire petite purge
A15: 42823 | C15: 0 | D15: 6.3 | E15: 0 | F15: 1 | G15: 0 | H15: 34.6 | I15: =H15*0.7 -> 24.22
A16: 42825 | C16: 0 | D16: 7.4 | E16: 0 | F16: 1.6 | G16: 0 | H16: 85.6 | I16: =H16*0.7 -> 59.92
A17: 42828 | C17: 0 | D17: 6.85 | E17: 0 | F17: 1.3 | G17: 0 | H17: 63.4 | I17: =H17*0.7 -> 44.38
A18: ='1 EAU BRUTE DE VILLE'!A19 -> 43560 | C18: 0 | D18: 6.9 | E18: 0 | F18: 0.7 | G18: 0 | H18: 25.1 | I18: =H18*0.7 -> 17.57
A19: 42832 | C19: 0 | E19: 0 | F19: 0.4 | G19: 0 | H19: 20.79 | I19: =H19*0.7 -> 14.553
A20: 42835 | C20: 0 | E20: 0 | F20: 0.8 | G20: 0 | I20: 3.5
A21: 42837 | C21: 0 | D21: 9.01 | E21: 0 | F21: 1.5 | G21: 0 | H21: 15.42 | I21: 3
A22: 42839 | C22: 0 | D22: 9.17 | E22: 0 | F22: 1 | G22: 0 | I22: =H22*0.7 -> 0
A23: 42842 | C23: 0 | D23: 9.6 | E23: 0 | F23: 1 | G23: 0 | I23: =H23*0.7 -> 0
A24: 42844 | C24: 0 | D24: 8.32 | E24: 0 | F24: 0.4 | G24: 0 | H24: 10.5 | I24: =H24*0.7 -> 7.35
A25: 42846 | C25: 0 | D25: 8.3 | E25: 0 | F25: 0.2 | G25: 0 | H25: 14 | I25: =H25*0.7 -> 9.8
A26: 42849 | C26: 0 | E26: 0 | F26: 1 | G26: 0 | H26: 7 | I26: =H26*0.7 -> 4.9
A27: 42851 | C27: 0 | D27: 8.21 | E27: 0 | F27: 0.2 | G27: 0 | H27: 11.23 | I27: =H27*0.7 -> 7.861
A28: 42853 | C28: 0 | D28: 6.7 | E28: 0 | F28: 0.7 | G28: 0 | H28: 12.78 | I28: =H28*0.7 -> 8.946
A29: 42858 | C29: 0 | D29: 9.18 | E29: 0 | F29: 5 | G29: 0 | H29: 42.6 | I29: =H29*0.7 -> 29.82
A30: 42860 | C30: 0 | D30: 9.23 | E30: 0 | F30: 0.2 | G30: 0 | H30: 0.7 | I30: =H30*0.7 -> 0.49
A31: 42863 | C31: 0 | D31: 8.49 | E31: 0 | F31: 0.4 | G31: 0 | H31: 3 | I31: =H31*0.7 -> 2.1
A32: 42865 | C32: 0 | D32: 8.57 | E32: 0 | F32: 0.6 | G32: 0 | H32: 4.9 | I32: =H32*0.7 -> 3.43
A33: 42136 | C33: 0 | D33: 8.68 | E33: 0 | F33: 0.7 | G33: 0 | H33: 3 | I33: =H33*0.7 -> 2.1
A34: 42870 | C34: 0 | D34: 8.53 | E34: 0 | F34: 0.4 | G34: 0 | H34: 15 | I34: =H34*0.7 -> 10.5
A35: 42872 | C35: 0 | D35: 8.5 | E35: 0 | F35: 1 | G35: 0 | H35: 42 | I35: =H35*0.7 -> 29.4
A36: 42874 | C36: 0 | D36: 8.6 | E36: 0 | F36: 1 | G36: 0 | H36: 40 | I36: =H36*0.7 -> 28
A37: 41051 | C37: 0 | D37: 7.7 | E37: 0 | F37: 1 | G37: 0 | H37: 70 | I37: =H37*0.7 -> 49
A38: 42879 | C38: 0 | D38: 9 | E38: 0 | F38: 0.7 | G38: 0 | H38: 40 | I38: =H38*0.7 -> 28
... A48: 42902 | C48: 0 | D48: 8.4 | E48: 0 | F48: 1 | G48: 0 | H48: 4 | I48: =H48*0.7 -> 2.8
C49: 0 | I49: =H49*0.7 -> 0
A50: 42905 | C50: 0 | D50: 6.85 | E50: 0 | F50: 1 | G50: 0 | H50: 29.8 | I50: =H50*0.7 -> 20.86
A51: 42907 | C51: 0 | D51: 7.1 | E51: 0 | F51: 1.2 | G51: 0 | H51: 47.4 | I51: =H51*0.7 -> 33.18 | J51: 1.27 | N51: th trop bas ( donc fer en hausse) mettre amine
A52: 42909 | C52: 0 | D52: 8.2 | E52: 0 | F52: 1.2 | G52: 0 | H52: 14.3 | I52: =H52*0.7 -> 10.01 | J52: 1.49
A53: 42912 | C53: 0 | D53: 7.4 | E53: 0 | F53: 1.3 | G53: 0 | H53: 56.8 | I53: =H53*0.7 -> 39.76 | J53: 1.72
A54: 42914 | C54: 0 | D54: 6.1 | E54: 0 | F54: 2.5 | G54: 0 | H54: 48 | I54: =H54*0.7 -> 33.6 | J54: 7 | N54: Echantillon tres charge en fer
A55: 42916 | C55: 0 | D55: 6.01 | E55: 0 | F55: 3.5 | G55: 0 | H55: 74.4 | I55: =H55*0.7 -> 52.08 | J55: 11 | N55: Echantillon tres charge en fer
A56: 42919 | C56: 0 | D56: 8.22 | E56: 0 | F56: 2.1 | G56: 0 | H56: 32.9 | I56: =H56*0.7 -> 23.03 | J56: 0.82
A57: 42921 | C57: 0 | D57: 5.8 | E57: 0 | F57: 8.3 | G57: 0 | H57: 208 | I57: =H57*0.7 -> 145.6 | J57: 22.6 | N57: trop de fer ph trop bas
A58: 42923 | C58: 0 | D58: 6.04 | E58: 0 | F58: 1.8 | G58: 0 | H58: 45.3 | I58: =H58*0.7 -> 31.71 | J58: 17.3
A59: 42926 | C59: 0 | D59: 6.94 | E59: 0 | F59: 1.8 | G59: 0 | H59: 30.7 | I59: =H59*0.7 -> 21.49 | J59: 1.71
A60: 42928 | C60: 0 | D60: 8.99 | E60: 0 | F60: 1.9 | G60: 0.6 | H60: 39.5 | I60: =H60*0.7 -> 27.65 | J60: 0.11
A61: 42933 | C61: 0 | D61: 8.3 | E61: 0 | F61: 1.5 | G61: 0 | H61: 27.8 | I61: =H61*0.7 -> 19.46 | J61: 0.56
A62: 42935 | C62: 0 | D62: 7.7 | E62: 0 | F62: 1.6 | G62: 0 | H62: 12 | I62: =H62*0.7 -> 8.4
A63: 42937 | C63: 0 | D63: 9.32 | E63: 0 | F63: 1.9 | G63: 0.9 | H63: 31.1 | I63: =H63*0.7 -> 21.77 | J63: 0.1
A64: 42940 | C64: 0 | D64: 8.5 | E64: 0 | F64: 2.3 | G64: 0.1 | H64: 62.2 | I64: =H64*0.7 -> 43.54 | J64: 0.61
A65: 42942 | C65: 0 | D65: 7.95 | E65: 0 | F65: 1.8 | G65: 0 | H65: 22.2 | I65: =H65*0.7 -> 15.54 | J65: 0.43
A66: 42944 | C66: 0 | D66: 6.32 | E66: 0 | F66: 2.4 | G66: 0 | H66: 144 | I66: =H66*0.7 -> 100.8 | J66: 18.6 | N66: échantillon coloré
A67: 42947 | C67: 0 | D67: 8.33 | E67: 0 | F67: 1.8 | G67: 0.2 | H67: 50 | I67: =H67*0.7 -> 35 | J67: 1.24 | N67: ph un peu faible
A68: 42949 | C68: 0 | D68: 8.8 | E68: 0 | F68: 1.5 | G68: 0.2 | H68: 46 | I68: =H68*0.7 -> 32.2 | J68: 0.22
A69: 42586 | C69: 0 | D69: 7.2 | E69: 0 | F69: 1.9 | G69: 0 | H69: 64 | I69: =H69*0.7 -> 44.8 | J69: 0.79
A70: 42954 | C70: 0 | D70: 8.2 | E70: 0 | F70: 2 | G70: 0 | H70: 71 | I70: =H70*0.7 -> 49.7 | J70: 1.34 | N70: COND ELEVE RISQUE PRIMAGE PURGER
A71: 42956 | C71: 0 | D71: 7.4 | E71: 0 | F71: 1.8 | G71: 0 | H71: 50.8 | I71: =H71*0.7 -> 35.56 | J71: 1.75 | N71: ph un peu faible
A72: 42958 | C72: 0 | D72: 9 | E72: 0 | F72: 1.8 | G72: 0.5 | H72: 41.6 | I72: =H72*0.7 -> 29.12 | J72: 0.86
A73: 42961 | C73: 0 | D73: 9.61 | E73: 0 | F73: 5 | G73: 1 | H73: 36 | I73: =H73*0.7 -> 25.2
A74: 42964 | C74: 0 | D74: 7.8 | E74: 0 | F74: 1.9 | G74: 0 | H74: 39 | I74: =H74*0.7 -> 27.3 | J74: 1.33 | N74: ph un peu faible attention au fer
A75: 42965 | C75: 0 | D75: 7.1 | E75: 0 | F75: 2 | G75: 0.7 | H75: 41 | I75: =H75*0.7 -> 28.7 | J75: 0.39
A76: 42993 | C76: 0 | D76: 7.3 | E76: 0 | F76: 7.3 | G76: 0 | H76: 593 | I76: =H76*0.7 -> 415.1 | J76: 2.7 | N76: ph faible, faire purge importante
A77: 42996 | C77: 0 | D77: 7.5 | E77: 0 | F77: 4.8 | G77: 0 | H77: 238 | I77: =H77*0.7 -> 166.6 | J77: 3.78 | N77: continuer la purge pour le fer et conductivite AJOUTER AMINE
A78: 43003 | C78: 0 | D78: 9.2 | E78: 0.2 | F78: 4 | G78: 1.4 | H78: 81.8 | I78: =H78*0.7 -> 57.26 | J78: 1.88 | N78: continuer la purge pour le fer et conductivite
A79: 43005 | C79: 0 | D79: 9.8 | E79: 0 | F79: 13.4 | G79: 7.1 | H79: 76.8 | I79: =H79*0.7 -> 53.76 | J79: 0.72
C80: 0 | I80: =H80*0.7 -> 0
C81: 0 | I81: =H81*0.7 -> 0
C82: 0 | I82: =H82*0.7 -> 0
C83: 0 | I83: =H83*0.7 -> 0
C84: 0 | I84: =H84*0.7 -> 0
C85: 0 | I85: =H85*0.7 -> 0
C86: 0 | I86: =H86*0.7 -> 0
C87: 0 | I87: =H87*0.7 -> 0
C88: 0 | I88: =H88*0.7 -> 0
C89: 0 | I89: =H89*0.7 -> 0
C90: 0 | I90: =H90*0.7 -> 0
C91: 0 | I91: =H91*0.7 -> 0
... C173: 0 | I173: =H173*0.7 -> 0

Sheet 4 BÂCHE NORD
D1: 2017
H2: CHAUDIERE NORD tubes d'eau 20 bars
A3: BÂCHE ALIMENTAIRE
A4: VOLUME EN M3 | B4: COMPTEUR | C4: CONSO | D4: Paramètres physico-chimiques | K4: SALINITE | L4: Hydrex 1461 | M4: Hydrex 1908 | N4: Observations & actions correctives
D5: pH | E5: TH | F5: TAC | G5: TA | H5: Conductivité | I5: Cl | J5: Cl | L5: Orthophosphate | M5: sulfite
E6: Circuit | F6: Circuit | L6: lecture mg/l | M6: lecture mg/l
E7: °f | F7: °f | G7: °f | I7: °f | J7: mg/l | K7: mg/l
A8: 14.5 | C8: m3 | D8: >9,2 | E8: <0,1 | G8: >0 | L8: >0 | M8: >0
A9: DATE | D9: AFNOR | E9: AFNOR | G9: NORME STI
A10: 42797 | C10: 0 | D10: 8.2 | E10: 0 | F10: 0.4 | G10: 0.2 | H10: 107 | I10: 2.3 | J10: =I10*7.1 -> 16.33 | K10: =H10*0.7 -> 74.9 | L10: 0.1 | M10: 0.1 | N10: thomas
A11: 42809 | C11: 0 | D11: 7.55 | E11: 0 | F11: 2.1 | G11: 0 | H11: 179.9 | I11: 3.7 | J11: =I11*7.1 -> 26.27 | K11: =H11*0.7 -> 125.93
A12: 42814 | C12: 0 | D12: 9.55 | E12: 0 | F12: 3.9 | G12: 1.3 | H12: 392 | I12: 0.7 | J12: =I12*7.1 -> 4.97 | K12: 392
A13: 42816 | C13: 0 | D13: 9.46 | E13: 0 | F13: 4 | G13: 1.1 | H13: 417 | I13: 7.4 | J13: =I13*7.1 -> 52.54 | K13: 417
A14: 42818 | C14: 0 | D14: 9.37 | E14: 0 | F14: 5.5 | G14: 1.3 | H14: 558 | I14: 10.46 | J14: =I14*7.1 -> 74.266 | K14: =H14*0.7 -> 390.6 | L14: 0.147 | M14: 0.147
A15: 42821 | C15: 0 | D15: 6.96 | E15: 0 | F15: 0.9 | H15: 91 | I15: 0.96 | J15: =I15*7.1 -> 6.816 | K15: =H15*0.7 -> 63.7
A16: 42823 | C16: 0 | D16: 8.8 | E16: 0 | F16: 1.6 | G16: 0.1 | H16: 78 | I16: 0.79 | J16: =I16*7.1 -> 5.609 | K16: =H16*0.7 -> 54.6
A17: 42825 | C17: 0 | D17: 11.19 | E17: 0 | F17: 26 | G17: 23.7 | H17: 2810 | I17: 3.28 | J17: =I17*7.1 -> 23.288 | K17: =H17*0.7 -> 1967
A18: 42828 | C18: 0 | D18: 8.2 | E18: 0 | F18: 1.6 | G18: 0 | H18: 100 | I18: 1.4 | J18: =I18*7.1 -> 9.94 | K18: =H18*0.7 -> 70
A19: ='1 EAU BRUTE DE VILLE'!A19 -> 43560 | C19: 0 | D19: 8.5 | E19: 0 | F19: 2.7 | G19: 0.1 | H19: 218 | I19: 5.8 | J19: =I19*7.1 -> 41.18 | K19: =H19*0.7 -> 152.6
A20: 42832 | C20: 0 | E20: 0 | F20: 1 | G20: 0 | J20: 7.1 | K20: =H20*0.7 -> 0
A21: 42835 | C21: 0 | E21: 0 | F21: 1.1 | G21: 0 | J21: 7.1 | K21: =H21*0.7 -> 0
A22: 42837 | C22: 0 | E22: 0 | F22: 2 | G22: 0 | J22: 10 | K22: =H22*0.7 -> 0
A23: 42839 | C23: 0 | E23: 0 | F23: 2 | G23: 0.4 | J23: 15 | K23: =H23*0.7 -> 0
A24: 42842 | C24: 0 | E24: 0 | F24: 1 | G24: 0 | J24: 7 | K24: =H24*0.7 -> 0
A25: 42844 | C25: 0 | E25: 0 | F25: 1 | G25: 0 | J25: 9 | K25: =H25*0.7 -> 0
A26: 42846 | C26: 0 | E26: 0 | F26: 4 | G26: 1 | K26: =H26*0.7 -> 0
A27: 42849 | C27: 0 | E27: 0 | F27: 3 | G27: 1 | J27: 11 | K27: =H27*0.7 -> 0
A28: 42851 | C28: 0 | E28: 0 | F28: 1 | G28: 0 | J28: 14 | K28: =H28*0.7 -> 0
A29: 42853 | C29: 0 | E29: 0 | F29: 1.7 | G29: 1.1 | J29: 36.92 | K29: =H29*0.7 -> 0
A30: 42858 | C30: 0 | E30: 0 | F30: 0 | G30: 0 | J30: 71 | K30: =H30*0.7 -> 0
A31: 42860 | C31: 0 | E31: 0 | F31: 1 | G31: 0 | J31: 7 | K31: =H31*0.7 -> 0
A32: 42863 | C32: 0 | E32: 0 | F32: 1 | G32: 0.1 | J32: 18 | K32: =H32*0.7 -> 0
A33: 42865 | C33: 0 | E33: 0 | F33: 1 | G33: 0 | J33: 14.2 | K33: =H33*0.7 -> 0
A34: 42867 | C34: 0 | E34: 0 | F34: 2 | G34: 0 | J34: 28 | K34: =H34*0.7 -> 0
A35: 42870 | C35: 0 | E35: 0 | F35: 1.4 | G35: 0 | J35: 21 | K35: =H35*0.7 -> 0
A36: 42872 | C36: 0 | E36: 0 | F36: 2 | G36: 0 | J36: 42 | K36: =H36*0.7 -> 0
A37: 42874 | C37: 0 | E37: 0 | F37: 2 | G37: 0 | J37: 40 | K37: =H37*0.7 -> 0
A38: 42877 | C38: 0 | E38: 0 | F38: 2 | G38: 0 | J38: 70 | K38: =H38*0.7 -> 0
... A48: 42900 | C48: 0 | E48: 0 | F48: 4 | G48: 2 | J48: 35 | K48: =H48*0.7 -> 0
A49: 42902 | C49: 0 | E49: 0 | F49: 2 | G49: 0 | K49: =H49*0.7 -> 0
C50: 0 | K50: =H50*0.7 -> 0
A51: 42905 | C51: 0 | D51: 8.08 | E51: 0 | F51: 3 | G51: 0 | H51: 248 | I51: 5.21 | J51: 42 | K51: =H51*0.7 -> 173.6 | L51: 0.14
A52: 39254 | C52: 0 | D52: 8.7 | E52: 0 | F52: 3.2 | G52: 0.2 | H52: 241 | I52: 4.16 | J52: =I52*7.1 -> 29.536 | K52: =H52*0.7 -> 168.7 | L52: 0.108 | N52: trop faible en phosphate donc faible en th
A53: 42909 | C53: 0 | D53: 8.8 | E53: 0 | F53: 2.1 | G53: 0.2 | H53: 93.3 | I53: 1.7 | J53: =I53*7.1 -> 12.07 | K53: =H53*0.7 -> 65.31
A54: 42912 | C54: 0 | D54: 9 | E54: 0 | F54: 4.2 | G54: 0.9 | H54: 249 | I54: 4.05 | J54: =I54*7.1 -> 28.755 | K54: =H54*0.7 -> 174.3 | L54: 0.64 | N54: trop faible en phosphate
A55: 42914 | C55: 0 | D55: 7.8 | E55: 0 | F55: 4.7 | G55: 0 | H55: 216 | I55: 3.7 | J55: =I55*7.1 -> 26.27 | K55: =H55*0.7 -> 151.2 | L55: 0.93 | N55: trop faible en phosphate
A56: 42916 | C56: 0 | D56: 7.7 | E56: 0 | F56: 3.8 | G56: 0 | H56: 148 | I56: 2.65 | J56: =I56*7.1 -> 18.815 | K56: =H56*0.7 -> 103.6 | L56: 0.73 | N56: trop faible en phosphate
A57: 42919 | C57: 0 | D57: 8.25 | E57: 0 | F57: 4.1 | G57: 0 | H57: 188.6 | I57: 3.1 | J57: =I57*7.1 -> 22.01 | K57: =H57*0.7 -> 132.02 | L57: 0.82 | N57: trop faible en phosphate
C58: 0 | D58: 7.6 | E58: 0 | F58: 3.4 | G58: 0 | H58: 201 | I58: 3.43 | J58: =I58*7.1 -> 24.353 | K58: =H58*0.7 -> 140.7 | L58: 0.21 | N58: trop faible en phosphate
A59: 42923 | C59: 0 | D59: 8.02 | E59: 0 | F59: 1.8 | G59: 0 | H59: 59.4 | I59: 2.7 | J59: =I59*7.1 -> 19.17 | K59: =H59*0.7 -> 41.58 | L59: 0.03
A60: 42926 | C60: 0 | D60: 8.37 | E60: 0 | F60: 4.1 | G60: 0.2 | H60: 179.2 | I60: 2.956 | J60: =I60*7.1 -> 20.9876 | K60: =H60*0.7 -> 125.44 | L60: 0.12
A61: 42928 | C61: 0 | D61: 9.2 | E61: 0 | F61: 2.7 | G61: 0.5 | H61: 72.8 | I61: 1 | J61: =I61*7.1 -> 7.1 | K61: =H61*0.7 -> 50.96 | L61: 0.09
A62: 42933 | C62: 0 | D62: 9.28 | E62: 0 | F62: 2.7 | G62: 0.8 | H62: 120.5 | I62: 2.3 | J62: =I62*7.1 -> 16.33 | K62: =H62*0.7 -> 84.35 | L62: 0.2036
A63: 42935 | C63: 0 | E63: 0 | F63: 10.6 | G63: 8 | J63: 51 | K63: =H63*0.7 -> 0
A64: 42937 | C64: 0 | D64: 9.49 | E64: 0 | F64: 5.3 | G64: 2.3 | H64: 404 | I64: 7.5 | J64: =I64*7.1 -> 53.25 | K64: =H64*0.7 -> 282.8 | L64: 0.132
A65: 42940 | C65: 0 | D65: 9.58 | E65: 0 | F65: 5.9 | G65: 2.2 | H65: 473 | I65: 9 | J65: =I65*7.1 -> 63.9 | K65: =H65*0.7 -> 331.1 | L65: 0.167
A66: 42942 | C66: 0 | D66: 9.34 | E66: 0 | F66: 5.2 | G66: 1.1 | H66: 439 | I66: 7.04 | J66: =I66*7.1 -> 49.984 | K66: =H66*0.7 -> 307.3 | L66: 0.109
A67: 42944 | C67: 0 | D67: 8.45 | E67: 0 | F67: 3.2 | G67: 0.1 | H67: 220 | I67: 2.6 | J67: =I67*7.1 -> 18.46 | K67: =H67*0.7 -> 154 | L67: 0
A68: 42947 | C68: 0 | D68: 9.46 | E68: 0 | F68: 5.7 | G68: 2.1 | H68: 373 | I68: 7.82 | J68: =I68*7.1 -> 55.522 | K68: =H68*0.7 -> 261.1 | L68: 0
A69: 42949 | C69: 0 | D69: 9.5 | E69: 0 | F69: 3.3 | G69: 0.1 | H69: 186 | I69: 4.6 | J69: =I69*7.1 -> 32.66 | K69: =H69*0.7 -> 130.2 | L69: 0.24 | N69: ajouter du 1461
A70: 42956 | C70: 0 | D70: 9.4 | E70: 0 | F70: 5.5 | G70: 1.6 | H70: 328 | I70: 5.42 | J70: =I70*7.1 -> 38.482 | K70: =H70*0.7 -> 229.6 | L70: 0.08 | N70: ajouter du 1461
A71: 42954 | C71: 0 | D71: 9.4 | E71: 0 | F71: 4.8 | G71: 1.4 | H71: 365 | I71: 6.02 | J71: =I71*7.1 -> 42.742 | K71: =H71*0.7 -> 255.5 | L71: 0.08 | N71: ajouter du 1461
A72: 42956 | C72: 0 | D72: 9.45 | E72: 0 | F72: 5.4 | G72: 1.8 | H72: 362 | I72: 8.2 | J72: =I72*7.1 -> 58.22 | K72: =H72*0.7 -> 253.4 | L72: 0.76 | N72: ajouter du 1461
A73: 42958 | C73: 0 | D73: 8.2 | E73: 0 | F73: 5 | G73: 0 | H73: 356 | I73: 6.95 | J73: =I73*7.1 -> 49.345 | K73: =H73*0.7 -> 249.2 | L73: 0.1 | N73: ajouter du 1461
A74: 42961 | C74: 0 | E74: 0 | F74: 7.5 | G74: 2 | J74: 71 | K74: =H74*0.7 -> 0 | N74: ajout 5 litres 1461
A75: 42963 | C75: 0 | D75: 11.6 | E75: 0 | F75: 6.9 | G75: 1.6 | H75: 349 | I75: 5.9 | J75: =I75*7.1 -> 41.89 | K75: =H75*0.7 -> 244.3 | L75: 1.81
A76: 42965 | C76: 0 | D76: 9.6 | E76: 0 | F76: 7.4 | G76: 2.5 | H76: 503 | I76: 8.4 | J76: =I76*7.1 -> 59.64 | K76: =H76*0.7 -> 352.1 | L76: 2.75
A77: 42993 | C77: 0 | D77: 8.8 | E77: 0 | F77: 3.7 | G77: 0.4 | H77: 117 | I77: 1.4 | J77: =I77*7.1 -> 9.94 | K77: =H77*0.7 -> 81.9 | L77: 0.3
A78: 42996 | C78: 0 | D78: 9.2 | E78: 0 | F78: 3.5 | G78: 0.9 | H78: 96 | I78: 2.4 | J78: =I78*7.1 -> 17.04 | K78: =H78*0.7 -> 67.2 | L78: 1.77
A79: 43003 | C79: 0 | D79: 9.7 | E79: 0.05 | F79: 10.4 | G79: 5.6 | H79: 96 | I79: 0.86 | J79: =I79*7.1 -> 6.106 | K79: =H79*0.7 -> 67.2 | L79: 0.65
A80: 43005 | C80: 0 | D80: 9.77 | E80: 0 | F80: 10.7 | G80: 5.8 | H80: 71.2 | I80: 0.94 | J80: =I80*7.1 -> 6.674 | K80: =H80*0.7 -> 49.84 | L80: 0.97
C81: 0 | K81: =H81*0.7 -> 0
C82: 0 | K82: =H82*0.7 -> 0
C83: 0 | K83: =H83*0.7 -> 0
C84: 0 | K84: =H84*0.7 -> 0
C85: 0 | K85: =H85*0.7 -> 0
C86: 0 | K86: =H86*0.7 -> 0
C87: 0 | K87: =H87*0.7 -> 0
C88: 0 | K88: =H88*0.7 -> 0
C89: 0 | K89: =H89*0.7 -> 0
C90: 0 | K90: =H90*0.7 -> 0
C91: 0 | K91: =H91*0.7 -> 0
C92: 0 | K92: =H92*0.7 -> 0
... C173: 0 | K173: =H173*0.7 -> 0

Sheet 5 Chaudiere 2
D1: 2017
H2: CHAUDIERE NORD tubes d'eau 20 bars
A3: CHAUDIERE 2
A4: VOLUME EN M3 | B4: COMPTEUR | C4: CONSO | D4: Paramètres physico-chimiques | K4: SALINITE | L4: SILICE | M4: Hydrex1461 | P4: Hydrex 1908 | T4: METAUX | V4: purge | X4: Observations & actions correctives
D5: pH | E5: TH | F5: TAC | G5: TA | H5: Conductivité | I5: Cl | J5: Cl | L5: SiO2 | M5: ORTHOPHOSPHATE | P5: sulfite | S5: SiO2/TAC | T5: Fer | U5: Cu | V5: M3
E6: Circuit | F6: Circuit | M6: lecture | N6: mg/l | O6: Volume ajouté | P6: lecture | Q6: mg/l | R6: Volume ajouté | T6: mg/l | U6: mg/l
E7: °f | F7: °f | G7: °f | H7: µs/cm | I7: °f | J7: mg/l | K7: mg/l | L7: mg/l
A8: 4 | C8: m3 | D8: 10,5-12 | E8: 0 | F8: <100°f | G8: 5-75 | H8: <6000 | I8: < 85 | J8: <603,5 | K8: <4200 | L8: <160 | N8: 10-20 | O8: litres | Q8: 30-60 | R8: litres | S8: <1,6 | T8: < 0,5 mg/l | U8: < 0,5mg/l | V8: Demandé | W8: réalisé le
A9: DATE | D9: AFNOR | E9: AFNOR | F9: CONSTRUCTEUR | G9: AFNOR | H9: AFNOR | I9: CONSTRUCTEUR | K9: NORME STI | L9: AFNOR | N9: AFNOR | Q9: CONSTRUCTEUR | S9: NORME STI | T9: NORME STI | U9: NORME STI
A10: 42797 | C10: 0 | D10: 10.3 | E10: 0.3 | F10: 1.2 | G10: 1 | H10: 272 | I10: 3.9 | J10: 28.1 | K10: =H10*0.7 -> 190.4 | N10: 1.5 | O10: =IF(N10="","",IF((15-N10)*$A$8/(1480*0.114)<0,0,(15-M10)*$A$8/(1480*0.114))) -> 0.35561878 | Q10: 6 | R10: =IF((100-P10)*$A$8/(1480*0.114)<0,0,(100-P10)*$A$8/(1480*0.114)) -> 2.3707918 | S10: =L10/F10 -> 0 | T10: 2.15 | X10: petite purge pour la diminution du fer et de la salinite
A11: 42811 | C11: 0 | D11: 11.74 | E11: 0 | F11: 60.7 | G11: 55.1 | H11: 7710 | I11: 3.96 | J11: =I11*7.1 -> 28.116 | K11: =H11*0.7 -> 5397 | N11: 0.073 | O11: =IF(N11="","",IF((15-N11)*$A$8/(1480*0.114)<0,0,(15-M11)*$A$8/(1480*0.114))) -> 0.35561878 | R11: =IF((100-P11)*$A$8/(1480*0.114)<0,0,(100-P11)*$A$8/(1480*0.114)) -> 2.3707918 | S11: =L11/F11 -> 0 | T11: 2.15 | X11: petite purge pour la diminution du fer et de la salinite
A12: 42814 | C12: 0 | D12: 7.02 | E12: 0 | F12: 60.6 | G12: 55.7 | H12: 7020 | I12: 10.48 | J12: =I12*7.1 -> 74.408 | K12: =H12*0.7 -> 4914 | N12: 2.54 | X12: petite purge pour la diminution du fer et de la salinite
A13: 42817 | C13: 0 | D13: 11.8 | E13: 0 | F13: 59.3 | G13: 54.3 | H13: 7110 | I13: 122.5 | J13: =I13*7.1 -> 869.75 | K13: =H13*0.7 -> 4977 | L13: 88.9 | N13: 1.03 | S13: =L13/F13 -> 1.4991568 | T13: 2.5 | X13: petite purge pour la diminution du fer et de la salinite
A14: 42818 | C14: 0 | D14: 11.8 | E14: 0 | F14: 61.6 | G14: 56.4 | H14: 6950 | I14: 119.5 | J14: =I14*7.1 -> 848.45 | K14: =H14*0.7 -> 4865 | L14: 99.2 | N14: 0.424 | S14: =L14/F14 -> 1.6103896 | T14: 1.28 | X14: purge obligatoire
A15: 42821 | C15: 0 | D15: 11.06 | E15: 0 | F15: 19.2 | G15: 16.4 | H15: 1611 | I15: 23 | J15: =I15*7.1 -> 163.3 | K15: =H15*0.7 -> 1127.7
A16: 42823 | C16: 0 | D16: 11.2 | E16: 0 | F16: 23.5 | G16: 21.3 | H16: 2470 | J16: =I16*7.1 -> 0 | K16: =H16*0.7 -> 1729
A17: 42825 | C17: 0 | D17: 11.2 | E17: 0 | F17: 25.6 | G17: 23.4 | H17: 2810 | I17: 40.1 | J17: =I17*7.1 -> 284.71 | K17: =H17*0.7 -> 1967 | N17: 0.71 | Q17: 10
A18: 42828 | C18: 0 | K18: =H18*0.7 -> 0 | X18: augmenter la pompe hydrex 1461
A19: ='1 EAU BRUTE DE VILLE'!A19 -> 43560 | C19: 0 | K19: =H19*0.7 -> 0 | X19: pas d'echantillon
A20: 42832 | C20: 0 | E20: 0 | F20: 28 | G20: 25 | H20: 3460 | J20: 390 | K20: =H20*0.7 -> 2422 | M20: 10 | P20: 10
A21: 42853 | C21: 0 | D21: 10.7 | E21: 0.6 | F21: 9 | G21: 7.5 | H21: 403 | J21: 24.85 | K21: =H21*0.7 -> 282.1 | M21: 1.2 | P21: 10
A22: 42858 | C22: 0 | D22: 10.89 | E22: 0 | F22: 0 | G22: 0 | H22: 3660 | J22: 390 | K22: =H22*0.7 -> 2562 | M22: 0 | P22: 10
A23: 42860 | C23: 0 | D23: 11.25 | E23: 0 | F23: 20 | G23: 19 | H23: 2630 | J23: 280 | K23: =H23*0.7 -> 1841 | M23: 20 | P23: 40
A24: 42863 | C24: 0 | D24: 11.58 | E24: 0 | F24: 27 | G24: 25 | H24: 3030 | J24: 426 | K24: =H24*0.7 -> 2121 | M24: 10 | P24: 40
A25: 42870 | C25: 0 | D25: 11.17 | E25: 0 | F25: 15 | G25: 15 | H25: 2560 | J25: 210 | K25: =H25*0.7 -> 1792
A26: 42872 | C26: 0 | D26: 11.04 | E26: 0 | F26: 35 | G26: 25 | H26: 5430 | J26: 490 | K26: =H26*0.7 -> 3801
A27: 42874 | C27: 0 | D27: 11.8 | E27: 0 | F27: 35 | G27: 30 | H27: 4800 | J27: 630 | K27: =H27*0.7 -> 3360 | M27: 10 | P27: 40
A28: 42877 | C28: 0 | D28: 11 | E28: 0 | F28: 35 | G28: 30 | H28: 7000 | J28: 490 | K28: =H28*0.7 -> 4900 | M28: 0 | P28: 40
A29: 42879 | C29: 0 | D29: 11.77 | E29: 0 | F29: 35 | G29: 30 | H29: 4350 | J29: 490 | K29: =H29*0.7 -> 3045 | M29: 0 | P29: 60
A30: 42881 | C30: 0 | D30: 11.78 | E30: 0 | F30: 38 | G30: 36 | H30: 6730 | J30: 710 | K30: =H30*0.7 -> 4711 | M30: 5 | P30: 40
A31: 42884 | C31: 0 | D31: 11.07 | E31: 0 | F31: 38 | G31: 37 | H31: 11980 | J31: 887.5 | K31: =H31*0.7 -> 8386 | M31: 10 | P31: 10
A32: 42886 | C32: 0 | D32: 11.66 | E32: 0 | F32: 33 | G32: 30 | H32: 4888 | J32: 560 | K32: =H32*0.7 -> 3421.6 | M32: 25 | P32: 40
C33: 0 | K33: =H33*0.7 -> 0 | X33: ne tourne pas
C34: 0 | K34: =H34*0.7 -> 0
C35: 0 | K35: =H35*0.7 -> 0
C36: 0 | K36: =H36*0.7 -> 0
C37: 0 | K37: =H37*0.7 -> 0
C38: 0 | K38: =H38*0.7 -> 0
C39: 0 | K39: =H39*0.7 -> 0
C40: 0 | K40: =H40*0.7 -> 0
C41: 0 | K41: =H41*0.7 -> 0
C42: 0 | K42: =H42*0.7 -> 0
C43: 0 | K43: =H43*0.7 -> 0
C44: 0 | K44: =H44*0.7 -> 0
C45: 0 | K45: =H45*0.7 -> 0
... C173: 0 | K173: =H173*0.7 -> 0

Sheet 6 CHAUDIERE 3
D1: 2017
H2: CHAUDIERE NORD tubes d'eau 20 bars
A3: CHAUDIERE 2
A4: VOLUME EN M3 | B4: COMPTEUR | C4: CONSO | D4: Paramètres physico-chimiques | K4: SALINITE | L4: SILICE | M4: Hydrex1461 | P4: Hydrex 1908 | T4: METAUX | V4: purge | X4: Observations & actions correctives
D5: pH | E5: TH | F5: TAC | G5: TA | H5: Conductivité | I5: Cl | J5: Cl | L5: SiO2 | M5: ORTHOPHOSPHATE | P5: sulfite | S5: SiO2/TAC | T5: Fer | U5: Cu | V5: M3
E6: Circuit | F6: Circuit | M6: lecture mg/l | N6: mg/l | O6: Volume ajouté | P6: lecture | Q6: SO3 | R6: Volume ajouté | T6: mg/l | U6: mg/l
E7: °f | F7: °f | G7: °f | I7: °f | J7: mg/l | K7: mg/l | L7: mg/l
A8: 4 | C8: m3 | D8: 10,5-12 | E8: 0 | F8: <100°f | G8: 5-75 | H8: <6000 | I8: < 85 | J8: <603 | K8: <4200 | L8: <160 | M8: 10-20 | N8: 10-20 | O8: litres | Q8: 30-60 | R8: litres | S8: <1,6 | T8: < 0,5 mg/l | U8: < 0,5mg/l | V8: Demandé | W8: réalisé le
A9: DATE | D9: AFNOR | E9: AFNOR | F9: CONSTRUCTEUR | G9: AFNOR | H9: AFNOR | I9: CONSTRUCTEUR | K9: NORME STI | L9: AFNOR | N9: AFNOR | Q9: CONSTRUCTEUR | S9: NORME STI | T9: NORME STI | U9: NORME STI
A10: 42797 | C10: 0 | D10: 11.4 | E10: 0 | F10: 17.6 | G10: 15 | H10: 5370 | I10: 102.1 | J10: =I10*7.1 -> 724.91 | K10: 5370 | M10: 7 | O10: =IF(N10="","",IF((55-N10)*$A$8/(1480*0.114)<0,0,(55-M10)*$A$8/(1480*0.114))) | P10: 22 | Q10: 0 | R10: =IF((100-P10)*$A$8/(1480*0.114)<0,0,(100-P10)*$A$8/(1480*0.114)) -> 1.8492176 | S10: =L10/F10 -> 0 | T10: 0.2 | X10: thomas
A11: 42811 | C11: 0 | D11: 11.76 | E11: 0 | F11: 66.6 | G11: 60.6 | H11: 7830 | I11: 5.87 | J11: =I11*7.1 -> 41.677 | K11: =H11*0.7 -> 5481 | M11: 11.3 | O11: =IF(N11="","",IF((55-N11)*$A$8/(1480*0.114)<0,0,(55-M11)*$A$8/(1480*0.114))) | S11: =L11/F11 -> 0 | T11: 1.75 | X11: petite purge pour la diminution du fer et de la salinite
A12: 42814 | C12: 0 | D12: 11.9 | E12: 0 | F12: 90.3 | G12: 83.2 | H12: 9900 | I12: 168 | J12: =I12*7.1 -> 1192.8 | K12: =H12*0.7 -> 6930 | M12: 5.36 | S12: =L12/F12 -> 0 | T12: 1.59 | X12: une purge est necessaire beaucoup trop de salinité
A13: 42817 | C13: 0 | D13: 11.9 | E13: 0 | F13: 74.4 | G13: 68.2 | H13: 9020 | I13: 161.2 | J13: =I13*7.1 -> 1144.52 | K13: =H13*0.7 -> 6314 | L13: 98.5 | M13: 1.37 | S13: =L13/F13 -> 1.3239247 | T13: 1 | X13: une purge est necessaire beaucoup trop de salinité
A14: 42818 | C14: 0 | D14: 11.82 | E14: 0 | F14: 63.4 | G14: 57.8 | H14: 7150 | I14: 133 | J14: =I14*7.1 -> 944.3 | K14: =H14*0.7 -> 5005 | L14: 129.3 | M14: 0.384 | S14: =L14/F14 -> 2.0394322 | T14: 1.43 | X14: une purge est necessaire beaucoup trop de salinité
A15: 42821 | C15: 0 | K15: =H15*0.7 -> 0
A16: 42823 | C16: 0 | K16: =H16*0.7 -> 0
A17: 42825 | C17: 0 | K17: =H17*0.7 -> 0
A18: 42798 | C18: 0 | K18: =H18*0.7 -> 0
A19: ='1 EAU BRUTE DE VILLE'!A19 -> 43560 | C19: 0 | K19: =H19*0.7 -> 0
A20: 42832 | C20: 0 | E20: 0 | F20: 18 | G20: 16 | H20: 1792 | J20: 241 | K20: =H20*0.7 -> 1254.4 | M20: 10 | P20: 0
A21: 42846 | C21: 0 | E21: 0 | F21: 45 | G21: 30 | H21: 4540 | J21: 490 | K21: =H21*0.7 -> 3178 | M21: 10 | P21: 180
A22: 42849 | C22: 0 | E22: 0 | F22: 45 | G22: 30 | H22: 1941 | J22: 180 | K22: =H22*0.7 -> 1358.7 | M22: 30 | P22: 40
A23: 42851 | C23: 0 | D23: 11.63 | E23: 0 | F23: 21 | G23: 20 | H23: 2520 | J23: 310 | K23: =H23*0.7 -> 1764 | M23: 5 | P23: 5
A24: 42853 | C24: 0 | D24: 11.5 | E24: 0 | F24: 33 | G24: 29 | H24: 4230 | K24: =H24*0.7 -> 2961 | M24: 4.4 | P24: 11.5
A25: 42865 | C25: 0 | D25: 11.8 | E25: 0 | F25: 45 | H25: 5630 | J25: 641 | K25: =H25*0.7 -> 3941
A26: 42870 | C26: 0 | D26: 11.53 | E26: 0 | F26: 32 | G26: 30 | H26: 4750 | J26: 468 | K26: =H26*0.7 -> 3325 | M26: 5 | P26: 40
A27: 42872 | C27: 0 | D27: 11.45 | E27: 0 | F27: 40 | G27: 25 | H27: 4110 | J27: 425 | K27: =H27*0.7 -> 2877 | M27: 10 | P27: 10
A28: 42874 | C28: 0 | D28: 11.7 | E28: 0 | F28: 25 | G28: 20 | H28: 3800 | J28: 350 | K28: =H28*0.7 -> 2660 | M28: 10 | P28: 40
A29: 42877 | C29: 0 | D29: 11 | E29: 0 | F29: 30 | G29: 25 | H29: 4390 | J29: 350 | K29: =H29*0.7 -> 3073 | M29: 0 | P29: 40
A30: 42879 | C30: 0 | D30: 11.85 | E30: 0 | F30: 30 | G30: 25 | H30: 6250 | J30: 420 | K30: =H30*0.7 -> 4375 | M30: 0 | P30: 40
A31: 42881 | C31: 0 | D31: 11.86 | E31: 0 | F31: 31 | G31: 30 | H31: 4520 | J31: 603.5 | K31: =H31*0.7 -> 3164 | M31: 5 | P31: 40
A32: 42884 | C32: 0 | D32: 11.1 | E32: 0 | F32: 32 | G32: 29 | H32: 7710 | J32: 674.5 | K32: =H32*0.7 -> 5397 | M32: 0 | P32: 10
A33: 42886 | C33: 0 | D33: 11.67 | E33: 0 | F33: 32 | G33: 30 | H33: 4090 | J33: 610 | K33: =H33*0.7 -> 2863 | M33: 25 | P33: 40
C34: 0 | K34: =H34*0.7 -> 0
A35: 42905 | C35: 0 | K35: =H35*0.7 -> 0 | X35: ne tourne pas
A36: 42933 | C36: 0 | D36: 11.77 | E36: 0 | F36: 60.9 | G36: 55.5 | H36: 6740 | I36: 145 | J36: =I36*7.1 -> 1029.5 | K36: =H36*0.7 -> 4718 | L36: 106.2 | M36: 0.07 | P36: 60 | S36: =L37/F37 -> 0 | T36: 0.26
A37: 42935 | C37: 0 | D37: 11.6 | E37: 0 | F37: 64 | G37: 58 | H37: 7080 | K37: =H37*0.7 -> 4956 | M37: 14.6 | P37: 57 | S37: =L37/F37 -> 0
A38: 42937 | C38: 0 | D38: 11.69 | E38: 0.1 | F38: 61.5 | G38: 54.6 | H38: 6580 | I38: 135 | J38: =I38*7.1 -> 958.5 | K38: =H38*0.7 -> 4606 | L38: 114 | M38: 0.065 | P38: 80 | S38: =L38/F38 -> 1.8536585 | T38: 0.42
A39: 42940 | C39: 0 | D39: 11.83 | E39: 0 | F39: 65.5 | G39: 57.5 | H39: 6880 | I39: 137 | J39: =I39*7.1 -> 972.7 | K39: =H39*0.7 -> 4816 | L39: 114.2 | M39: 0.035 | P39: 80 | S39: =L39/F39 -> 1.7435115 | T39: 0.05
A40: 42942 | C40: 0 | D40: 11.76 | E40: 0 | F40: 67.3 | G40: 60 | H40: 7270 | I40: 160 | J40: =I40*7.1 -> 1136 | K40: =H40*0.7 -> 5089 | L40: 143.6 | M40: 0.866 | P40: 80 | S40: =L40/F40 -> 2.1337296 | T40: 0.49
A41: 42944 | C41: 0 | D41: 11.73 | E41: 0 | F41: 72 | G41: 65.7 | H41: 7440 | I41: 136 | J41: =I41*7.1 -> 965.6 | K41: =H41*0.7 -> 5208 | L41: 130 | M41: 0.121 | N41: 0 | P41: 80 | S41: =L41/F41 -> 1.8055556
A42: 42947 | C42: 0 | D42: 11.7 | E42: 0 | F42: 64.7 | G42: 57.9 | H42: 5420 | I42: 119 | J42: =I42*7.1 -> 844.9 | K42: =H42*0.7 -> 3794 | L42: 113 | M42: 0 | N42: 0 | P42: 80 | S42: =L42/F42 -> 1.7465224 | X42: augmenter la pompe hydrex 1461
A43: 42949 | C43: 0 | D43: 11.6 | E43: 0 | F43: 78 | G43: 71.9 | H43: 6510 | I43: 149 | J43: =I43*7.1 -> 1057.9 | K43: =H43*0.7 -> 4557 | L43: 142 | M43: 0.32 | P43: 80 | S43: =L43/F43 -> 1.8205128 | T43: 0.74 | X43: augmenter la pompe hydrex 1461 risque corrosion
A44: 42951 | C44: 0 | D44: 11.48 | E44: 0 | F44: 58.6 | G44: 52 | H44: 4970 | I44: 99.4 | J44: =I44*7.1 -> 705.74 | K44: =H44*0.7 -> 3479 | L44: 93.4 | M44: 0.1 | P44: 80 | S44: =L44/F44 -> 1.5938567 | T44: 0.31 | X44: augmenter la pompe hydrex 1461 risque corrosion, tcl un peu fort
A45: 42954 | C45: 0 | D45: 11.5 | E45: 0 | F45: 67.6 | G45: 60.7 | H45: 6630 | I45: 168 | J45: =I45*7.1 -> 1192.8 | K45: =H45*0.7 -> 4641 | L45: 129.3 | M45: 0.01 | P45: 80 | S45: =L45/F45 -> 1.9127219 | T45: 0.2 | X45: faire une purge trop chlorure et ajouter hydrex1461
A46: 42956 | C46: 0 | D46: 11.46 | E46: 0 | F46: 47 | G46: 40.3 | H46: 4800 | I46: 85 | J46: =I46*7.1 -> 603.5 | K46: =H46*0.7 -> 3360 | L46: 92.8 | M46: 0.62 | P46: 80 | S46: =L46/F46 -> 1.9744681 | T46: 0.62 | X46: faire une petite purge pour tcl ,silice et ajouter encore hydrex 1461
A47: 42958 | C47: 0 | D47: 11.6 | E47: 0 | F47: 57.2 | G47: 51.7 | H47: 5740 | I47: 93.5 | J47: =I47*7.1 -> 663.85 | K47: =H47*0.7 -> 4018 | L47: 111 | M47: 0.1 | P47: 80 | S47: =L47/F47 -> 1.9405594 | X47: faire une purge silice trop forte ajouter un peu d'alcalin hydrex 1644
A48: 42961 | C48: 0 | D48: 12.18 | E48: 0 | F48: 51 | G48: 44 | H48: 7450 | J48: 810 | K48: =H48*0.7 -> 5215 | M48: 5 | P48: 80 | S48: =L48/F48 -> 0 | X48: ajout amines
A49: 42964 | C49: 0 | D49: 11.6 | E49: 0 | F49: 85.4 | G49: 73.1 | H49: 7180 | I49: 258 | J49: =I49*7.1 -> 1831.8 | K49: =H49*0.7 -> 5026 | L49: 143 | M49: 8 | P49: 80 | S49: =L49/F49 -> 1.6744731 | T49: 0.84 | X49: faire une petite purge
A50: 42965 | C50: 0 | D50: 11.7 | E50: 0 | F50: 74.8 | G50: 64.8 | H50: 6800 | I50: 119 | J50: =I50*7.1 -> 844.9 | K50: =H50*0.7 -> 4760 | L50: 136 | M50: 12.6 | P50: 80 | S50: =L50/F50 -> 1.8181818 | X50: faire une petite purge
C51: 0 | K51: =H51*0.7 -> 0
C52: 0 | K52: =H52*0.7 -> 0
C53: 0 | K53: =H53*0.7 -> 0
C54: 0 | K54: =H54*0.7 -> 0
C55: 0 | K55: =H55*0.7 -> 0
C56: 0 | K56: =H56*0.7 -> 0
C57: 0 | K57: =H57*0.7 -> 0
C58: 0 | K58: =H58*0.7 -> 0
C59: 0 | K59: =H59*0.7 -> 0
C60: 0 | K60: =H60*0.7 -> 0
C61: 0 | K61: =H61*0.7 -> 0
C62: 0 | K62: =H62*0.7 -> 0
... C173: 0 | K173: =H173*0.7 -> 0

Sheet 7= 15 EAU brute s20
D1: 2017
H2: CHAUDIERE Sat 20
A3: EAU DE FORAGE
A4: VOLUME EN M3 | B4: COMPTEUR | C4: CONSO | D4: Paramètres physico-chimiques | K4: SALINITE | L4: METAUX | M4: Observations & actions correctives
D5: pH | E5: TH | F5: TAC | G5: TA | H5: Conductivité | I5: Cl | J5: Cl | L5: Fer
E6: Circuit | F6: Circuit | L6: mg/l
E7: °f | F7: °f | G7: °f | H7: µs/cm | I7: °f | J7: mg/l | K7: mg/l
C8: m3
A9: DATE | D9: norme afnor | E9: norme afnor | G9: NORME STI | L9: norme afnor
A10: 42797 | C10: 0 | D10: 7.4 | E10: 7.8 | F10: 6 | G10: 0 | H10: 344 | I10: 11.3 | J10: =I10*7.1 -> 80.23 | K10: =H10*0.7 -> 240.8 | L10: 0.48
A11: 42811 | C11: 0 | D11: 7.38 | E11: 10.5 | F11: 6.7 | G11: 0 | H11: 343 | I11: 5.49 | J11: =I11*7.1 -> 38.979 | K11: =H11*0.7 -> 240.1
A12: 41718 | C12: 0 | D12: 7.43 | E12: 11 | F12: 6.9 | G12: 0 | H12: 352 | I12: 9.2 | J12: =I12*7.1 -> 65.32 | K12: =H12*0.7 -> 246.4
A13: 42817 | C13: 0 | D13: 7.43 | E13: 4 | F13: 7.3 | G13: 0 | H13: 362 | I13: 1.8 | J13: =I13*7.1 -> 12.78 | K13: =H13*0.7 -> 253.4
A14: 42818 | C14: 0 | D14: 8.08 | E14: 10.4 | F14: 7 | G14: 0 | H14: 417 | I14: 6.3 | J14: =I14*7.1 -> 44.73 | K14: =H14*0.7 -> 291.9 | L14: 1.76 | M14: eau brute tres ferreuse
A15: 42821 | C15: 0 | D15: 7.8 | E15: 10.4 | F15: 6.7 | G15: 0 | H15: 372 | I15: 6.08 | J15: =I15*7.1 -> 43.168 | K15: =H15*0.7 -> 260.4
A16: 42823 | C16: 0 | D16: 7.3 | E16: 10.9 | F16: 6 | G16: 0 | H16: 352 | I16: 6.7 | J16: =I16*7.1 -> 47.57 | K16: =H16*0.7 -> 246.4
A17: 42825 | C17: 0 | D17: 7.3 | E17: 10.2 | F17: 5.9 | G17: 0 | H17: 345 | I17: 5.64 | J17: =I17*7.1 -> 40.044 | K17: =H17*0.7 -> 241.5
A18: 42798 | C18: 0 | D18: 7.2 | E18: 10.4 | F18: 6.5 | G18: 0 | H18: 343 | I18: 8.63 | J18: =I18*7.1 -> 61.273 | K18: =H18*0.7 -> 240.1
A19: ='1 EAU BRUTE DE VILLE'!A19 -> 43560 | C19: 0 | D19: 7.4 | E19: 10.3 | F19: 6.1 | G19: 0 | H19: 341 | I19: 8 | J19: =I19*7.1 -> 56.8 | K19: =H19*0.7 -> 238.7
A20: 42832 | C20: 0 | E20: 15 | F20: 7 | G20: 0 | J20: 35 | K20: =H20*0.7 -> 0
A21: 42835 | C21: 0 | E21: 26 | F21: 10 | G21: 0 | J21: 49 | K21: =H21*0.7 -> 0
A22: 42837 | C22: 0 | E22: 10 | F22: 5 | G22: 0 | J22: 35 | K22: =H22*0.7 -> 0
A23: 42844 | C23: 0 | E23: 10 | F23: 5 | G23: 0 | J23: 56 | K23: =H23*0.7 -> 0
A24: 42849 | C24: 0 | E24: 13 | F24: 6 | G24: 0 | J24: 50 | K24: =H24*0.7 -> 0
A25: 42851 | C25: 0 | E25: 9.5 | F25: 6 | G25: 0 | J25: 35 | K25: =H25*0.7 -> 0
A26: 42853 | C26: 0 | E26: 10.2 | F26: 9 | G26: 0 | J26: 51.83 | K26: =H26*0.7 -> 0
A27: 42858 | C27: 0 | E27: 14 | F27: 4 | G27: 0 | J27: 78.1 | K27: =H27*0.7 -> 0
A28: 42860 | C28: 0 | E28: 8.5 | F28: 5 | G28: 0 | J28: 71 | K28: =H28*0.7 -> 0
A29: 42863 | C29: 0 | E29: 9 | F29: 6 | G29: 0 | J29: 45 | K29: =H29*0.7 -> 0
A30: 42865 | C30: 0 | E30: 9 | F30: 5 | G30: 0 | J30: 42.6 | K30: =H30*0.7 -> 0
A31: 42867 | C31: 0 | E31: 8 | F31: 6 | G31: 0 | J31: 49.7 | K31: =H31*0.7 -> 0
... A36: 42879 | C36: 0 | E36: 8 | F36: 5 | G36: 0 | J36: 71 | K36: =H36*0.7 -> 0
A37: 42881 | C37: 0 | E37: 9 | F37: 5 | G37: 0 | J37: =I37*7.1 -> 0 | K37: =H37*0.7 -> 0
A38: 42884 | C38: 0 | E38: 12 | F38: 10 | G38: 0 | J38: =I38*7.1 -> 0 | K38: =H38*0.7 -> 0
A39: 42886 | C39: 0 | E39: 8.5 | F39: 9 | G39: 0 | J39: =I39*7.1 -> 0 | K39: =H39*0.7 -> 0
A40: 42888 | C40: 0 | E40: 7.5 | F40: 7 | G40: 0 | J40: =I40*7.1 -> 0 | K40: =H40*0.7 -> 0
A41: 42891 | C41: 0 | E41: 8.8 | F41: 5 | G41: 0 | J41: =I41*7.1 -> 0 | K41: =H41*0.7 -> 0
A42: 42893 | C42: 0 | E42: 8 | F42: 6 | G42: 0 | J42: =I42*7.1 -> 0 | K42: =H42*0.7 -> 0
A43: 42895 | C43: 0 | E43: 10 | F43: 6.4 | G43: 0 | J43: =I43*7.1 -> 0 | K43: =H43*0.7 -> 0
A44: 42898 | C44: 0 | E44: 12 | F44: 9 | G44: 0 | J44: =I44*7.1 -> 0 | K44: =H44*0.7 -> 0
A45: 42900 | C45: 0 | E45: 8.5 | F45: 3 | G45: 0 | J45: =I45*7.1 -> 0 | K45: =H45*0.7 -> 0
A46: 42902 | C46: 0 | E46: 10 | F46: 10 | G46: 0 | J46: =I46*7.1 -> 0 | K46: =H46*0.7 -> 0
C47: 0 | J47: =I47*7.1 -> 0 | K47: =H47*0.7 -> 0
A48: 42905 | C48: 0 | D48: 7.49 | E48: 10.6 | F48: 6.9 | G48: 0 | H48: 369 | I48: 7.58 | J48: =I48*7.1 -> 53.818 | K48: =H48*0.7 -> 258.3 | L48: 0.32
A49: 42907 | C49: 0 | D49: 7.4 | E49: 14 | F49: 6.9 | G49: 0 | H49: 386 | I49: 6.78 | J49: =I49*7.1 -> 48.138 | K49: =H49*0.7 -> 270.2 | L49: 1.19
A50: 42909 | C50: 0 | D50: 7.73 | E50: 10.5 | F50: 6.5 | G50: 0 | H50: 350 | I50: 6.6 | J50: =I50*7.1 -> 46.86 | K50: =H50*0.7 -> 245 | L50: 0.189
A51: 42912 | C51: 0 | D51: 7.4 | E51: 11.2 | F51: 7 | G51: 0 | H51: 354 | I51: 6.57 | J51: =I51*7.1 -> 46.647 | K51: =H51*0.7 -> 247.8 | L51: 1.03
A52: 42914 | C52: 0 | D52: 6.5 | E52: 12 | F52: 9.9 | G52: 0 | H52: 356 | I52: 6.7 | J52: =I52*7.1 -> 47.57 | K52: =H52*0.7 -> 249.2 | L52: 0.05
A53: 42916 | C53: 0 | D53: 6.6 | E53: 10.5 | F53: 7.5 | G53: 0 | H53: 341 | I53: 6.19 | J53: =I53*7.1 -> 43.949 | K53: =H53*0.7 -> 238.7 | L53: 0.45
A54: 42919 | C54: 0 | D54: 6.3 | E54: 13 | F54: 9.7 | G54: 0 | H54: 394 | I54: 3.36 | J54: =I54*7.1 -> 23.856 | K54: =H54*0.7 -> 275.8 | L54: 1.37
A55: 42921 | C55: 0 | D55: 6.4 | E55: 10.1 | F55: 3.4 | G55: 0 | H55: 416 | I55: 6.1 | J55: =I55*7.1 -> 43.31 | K55: =H55*0.7 -> 291.2 | L55: 0.27
A56: 42923 | C56: 0 | D56: 6.65 | E56: 16.9 | F56: 12.6 | G56: 0 | H56: 440 | I56: 8 | J56: =I56*7.1 -> 56.8 | K56: =H56*0.7 -> 308 | L56: 0.24
A57: 42926 | C57: 0 | D57: 6.58 | E57: 16.9 | F57: 11.5 | G57: 0 | H57: 430 | I57: 4.7 | J57: =I57*7.1 -> 33.37 | K57: =H57*0.7 -> 301 | L57: 0.28
A58: 42928 | C58: 0 | D58: 7.71 | E58: 18.8 | F58: 13.8 | G58: 0 | H58: 472 | I58: 5.9 | J58: =I58*7.1 -> 41.89 | K58: =H58*0.7 -> 330.4 | L58: 2.61
A59: 42977 | C59: 0 | E59: 5 | F59: 5 | G59: 0 | J59: 49 | K59: =H59*0.7 -> 0 | M59: analyse terrain
A60: 42979 | C60: 0 | D60: 7.9 | E60: 12 | F60: 8.9 | G60: 0 | H60: 381 | I60: 9.37 | J60: =I60*7.1 -> 66.527 | K60: =H60*0.7 -> 266.7 | L60: 0.45
A61: 42982 | C61: 0 | D61: 8 | E61: 12 | F61: 8 | G61: 0 | H61: 387 | I61: 6.79 | J61: =I61*7.1 -> 48.209 | K61: =H61*0.7 -> 270.9 | L61: 1.07
A62: 42984 | C62: 0 | D62: 8.3 | E62: 11 | F62: 9.5 | G62: 0 | H62: 410 | I62: 9.5 | J62: =I62*7.1 -> 67.45 | K62: =H62*0.7 -> 287 | L62: 0.07
A63: 42986 | C63: 0 | D63: 7.9 | E63: 11.8 | F63: 7.4 | G63: 0 | H63: 383 | I63: 7 | J63: =I63*7.1 -> 49.7 | K63: =H63*0.7 -> 268.1 | L63: 0.4
A64: 42989 | C64: 0 | D64: 7.8 | E64: 11.9 | F64: 8.2 | G64: 0 | H64: 386 | I64: 6.8 | J64: =I64*7.1 -> 48.28 | K64: =H64*0.7 -> 270.2 | L64: 0.42
A65: 42991 | C65: 0 | D65: 7.6 | E65: 13 | F65: 8 | G65: 0 | H65: 388 | I65: 5.89 | J65: =I65*7.1 -> 41.819 | K65: =H65*0.7 -> 271.6 | L65: 0.41
A66: 42993 | C66: 0 | D66: 7.4 | E66: 12 | F66: 7 | G66: 0 | H66: 359 | I66: 6.1 | J66: =I66*7.1 -> 43.31 | K66: =H66*0.7 -> 251.3 | L66: 0.3
A67: 42996 | C67: 0 | D67: 9.2 | E67: 12 | F67: 3.5 | G67: 0 | H67: 377 | I67: 6.5 | J67: =I67*7.1 -> 46.15 | K67: =H67*0.7 -> 263.9 | L67: 2.22 | M67: trop de fer bien purger pour faire l echantillon
A68: 42998 | C68: 0 | D68: 7.62 | E68: 17 | F68: 8.1 | G68: 0 | H68: 383 | I68: 6.32 | J68: =I68*7.1 -> 44.872 | K68: =H68*0.7 -> 268.1 | L68: 0.26
A69: 43003 | C69: 0 | D69: 7.85 | E69: 12 | F69: 8 | G69: 0 | H69: 391 | I69: 6.54 | J69: =I69*7.1 -> 46.434 | K69: =H69*0.7 -> 273.7 | L69: 0.22
A70: 43005 | C70: 0 | D70: 7.7 | E70: 11.8 | F70: 7 | G70: 0 | H70: 342 | I70: 6.31 | J70: =I70*7.1 -> 44.801 | K70: =H70*0.7 -> 239.4 | L70: 0.31
C71: 0 | K71: =H71*0.7 -> 0
C72: 0 | K72: =H72*0.7 -> 0
C73: 0 | K73: =H73*0.7 -> 0
C74: 0 | K74: =H74*0.7 -> 0
C75: 0 | K75: =H75*0.7 -> 0
C76: 0 | K76: =H76*0.7 -> 0
C77: 0 | K77: =H77*0.7 -> 0
C78: 0 | K78: =H78*0.7 -> 0
C79: 0 | K79: =H79*0.7 -> 0
C80: 0 | K80: =H80*0.7 -> 0
C81: 0 | K81: =H81*0.7 -> 0
C82: 0 | K82: =H82*0.7 -> 0
... C172: 0 | K172: =H172*0.7 -> 0

Sheet 8 EA SAT 20
D1: 2017 | H1: Dupont Nemours
H2: EA sat 20
A3: EAU ADOUCIE | M3: 1x/mois
A4: VOLUME EN M3 | B4: COMPTEUR | C4: CONSO | D4: Paramètres physico-chimiques | J4: SALINITE | K4: SILICE | L4: METAUX | N4: Observations & actions correctives
D5: pH | E5: TH | F5: TAC | G5: TA | H5: Conductivité | I5: Cl- | K5: SiO2 | L5: Fer | M5: Cu
E6: Circuit | F6: Circuit | L6: mg/l | M6: mg/l
E7: °f | F7: °f | G7: °f | H7: µs/cm | I7: °f | J7: mg/l | K7: mg/l
C8: m3 | E8: <0,05 | L8: < 0,3 mg/l | M8: < 0,05mg/l
A9: DATE | D9: norme afnor | E9: norme afnor | G9: NORME STI | L9: norme afnor | M9: norme afnor
A10: 42797 | C10: 0 | D10: 7.7 | E10: 0 | F10: 3.2 | G10: 0 | H10: 332 | I10: 0 | J10: =H10*0.7 -> 232.4 | K10: 4.5 | L10: 0.34 | N10: thomas
A11: 42811 | C11: 0 | D11: 7.34 | E11: 0 | F11: 6.4 | G11: 0 | H11: 346 | I11: 0 | J11: =H11*0.7 -> 242.2 | L11: 0.15
A12: 42814 | C12: 0 | D12: 7.3 | E12: 0 | F12: 6.4 | G12: 0 | H12: 349 | I12: 6.3 | J12: =H12*0.7 -> 244.3 | L12: 0.1
A13: 42817 | C13: 0 | D13: 7.33 | E13: 0 | F13: 5 | G13: 0 | H13: 345 | I13: 5.8 | J13: =H13*0.7 -> 241.5 | K13: 13.5 | L13: 0.29
A14: 42818 | C14: 0 | D14: 7.6 | E14: 0 | F14: 6.2 | G14: 0 | H14: 351 | I14: 6.35 | J14: =H14*0.7 -> 245.7 | K14: 12.4 | L14: 1.49
A15: 42821 | C15: 0 | D15: 7.6 | E15: 0 | F15: 6.6 | G15: 0 | H15: 470 | I15: 6.3 | J15: =H15*0.7 -> 329
A16: 42823 | C16: 0 | D16: 7.2 | E16: 0 | F16: 6 | G16: 0 | H16: 346 | I16: 5.59 | J16: =H16*0.7 -> 242.2
A17: 42825 | C17: 0 | D17: 7.2 | E17: 0 | F17: 5.9 | G17: 0 | H17: 350 | I17: 5.77 | J17: =H17*0.7 -> 245
A18: 42828 | C18: 0 | D18: 7.6 | E18: 0 | F18: 6.3 | G18: 0 | H18: 343 | I18: 8.48 | J18: =H18*0.7 -> 240.1
A19: ='1 EAU BRUTE DE VILLE'!A19 -> 43560 | C19: 0 | D19: 7.3 | E19: 0 | F19: 6.1 | G19: 0 | H19: 343 | I19: 8.1 | J19: =H19*0.7 -> 240.1
A20: 42832 | C20: 0 | E20: 0 | F20: 5 | G20: 0 | J20: 42.6
A21: 42835 | C21: 0 | E21: 0 | F21: 10 | G21: 0 | J21: 56
A22: 42837 | C22: 0 | E22: 0 | F22: 5 | G22: 0 | J22: 56
A23: 42844 | C23: 0 | E23: 0 | F23: 6 | G23: 0 | J23: 49
A24: 42846 | C24: 0 | E24: 0
A25: 42849 | C25: 0 | E25: 13 | F25: 6 | G25: 0 | J25: 50
A26: 42851 | C26: 0 | E26: 0 | F26: 5 | G26: 0 | J26: 42
A27: 42853 | C27: 0 | E27: 0 | F27: 6 | G27: 0 | J27: 51.12
A28: 42858 | C28: 0 | E28: 0 | F28: 5 | G28: 0 | J28: 113.6
A29: 42860 | C29: 0 | E29: 0 | F29: 5 | G29: 0 | J29: 70
A30: 42863 | C30: 0 | E30: 0 | F30: 6 | G30: 0 | J30: 56
A31: 42865 | C31: 0 | E31: 0 | F31: 6 | G31: 0 | J31: 56
A32: 42867 | C32: 0 | E32: 0 | F32: 6 | G32: 0 | J32: 42.6
A33: 42870 | C33: 0 | E33: 0 | F33: 6 | G33: 0 | J33: 51
A34: 42872 | C34: 0 | E34: 0 | F34: 6 | G34: 0 | J34: 85.2
A35: 42874 | C35: 0 | E35: 0 | F35: 6 | G35: 0 | J35: 77
A36: 42877 | C36: 0 | E36: 0 | F36: 4 | G36: 0 | J36: 70
... A47: 42902 | C47: 0 | E47: 0 | F47: 8 | G47: 0 | J47: 77
C48: 0
A49: 42905 | C49: 0 | D49: 7.5 | E49: 0 | F49: 6.6 | G49: 0 | H49: 363 | I49: 6.84 | J49: =H49*0.7 -> 254.1 | K49: 10.7 | L49: 0.05
A50: 42907 | C50: 0 | D50: 7.5 | E50: 0 | F50: 7.5 | G50: 0 | H50: 386 | I50: 6.68 | J50: =H50*0.7 -> 270.2 | K50: 10.7 | L50: 5
A51: 42909 | C51: 0 | D51: 7.7 | E51: 0 | F51: 6.6 | G51: 0 | H51: 350 | I51: 7 | J51: =H51*0.7 -> 245 | K51: 10.6 | L51: 0.19
A52: 42912 | C52: 0 | D52: 7.5 | E52: 0 | F52: 7 | G52: 0 | H52: 358 | I52: 6.55 | J52: =H52*0.7 -> 250.6 | K52: 10.1 | L52: 0.13
A53: 42914 | C53: 0 | J53: =H53*0.7 -> 0 | N53: pas d echantillon
A54: 42916 | C54: 0 | D54: 6.9 | E54: 0 | F54: 7.1 | G54: 0 | H54: 338 | I54: 6.11 | J54: =H54*0.7 -> 236.6 | K54: 50 | L54: 2.13
A55: 42919 | C55: 0 | D55: 6.6 | E55: 0 | F55: 9.1 | G55: 0 | H55: 405 | I55: 5.86 | J55: =H55*0.7 -> 283.5 | K55: 10.7 | L55: 0.35
A56: 42921 | C56: 0 | D56: 6.8 | E56: 0 | F56: 12.8 | G56: 0 | H56: 473 | I56: 5.49 | J56: =H56*0.7 -> 331.1 | K56: 11.6 | L56: 0.1
A57: 42923 | C57: 0 | D57: 6.73 | E57: 0 | F57: 11.8 | G57: 0 | H57: 448 | I57: 5.5 | J57: =H57*0.7 -> 313.6 | K57: 10.4 | L57: <0,01
A58: 42926 | C58: 0 | D58: 6.69 | E58: 0 | F58: 9.3 | G58: 0 | H58: 420 | I58: 5.4 | J58: =H58*0.7 -> 294 | K58: 11.1 | L58: 0.37
A59: 42928 | C59: 0 | D59: 7.73 | E59: 0 | F59: 15.2 | G59: 0 | H59: 510 | I59: 5.5 | J59: =H59*0.7 -> 357 | K59: 12.6 | L59: 0.28
A60: 42977 | C60: 0 | E60: 0 | F60: 7 | G60: 0 | I60: 56 | J60: =H60*0.7 -> 0 | N60: analyse terrain
A61: 42979 | C61: 0 | D61: 7.7 | E61: 0 | F61: 7.7 | G61: 0 | H61: 376 | I61: 9.9 | J61: =H61*0.7 -> 263.2 | K61: 13.3 | L61: 0.2
A62: 42986 | C62: 0 | D62: 7.4 | E62: 0 | F62: 6.8 | G62: 0 | H62: 387 | I62: 6.6 | J62: =H62*0.7 -> 270.9 | K62: 13.1 | L62: 0.5
A63: 42989 | C63: 0 | D63: 7.8 | E63: 0 | F63: 7.4 | G63: 0 | H63: 381 | I63: 6.6 | J63: =H63*0.7 -> 266.7 | K63: 11.2 | L63: 0.17
A64: 42991 | C64: 0 | D64: 7.6 | E64: 0 | F64: 7.3 | G64: 0 | H64: 381 | I64: 6.7 | J64: =H64*0.7 -> 266.7 | K64: 11 | L64: 0.07
A65: 42993 | C65: 0 | D65: 7.6 | E65: 0 | F65: 7 | G65: 0 | H65: 358 | I65: 6.5 | J65: =H65*0.7 -> 250.6 | K65: 10.4 | L65: 0.05
A66: 42996 | C66: 0 | D66: 7.7 | E66: 0 | F66: 7.9 | G66: 0 | H66: 380 | I66: 6.5 | J66: =H66*0.7 -> 266 | K66: 9.7 | L66: 0.09
A67: 42998 | C67: 0 | D67: 7.51 | E67: 3 | F67: 7.9 | G67: 0 | H67: 380 | I67: 6.92 | J67: =H67*0.7 -> 266 | K67: 10.8 | L67: 0.09
A68: 43003 | C68: 0 | D68: 7.8 | E68: 0.05 | F68: 6.9 | G68: 0 | H68: 387 | I68: 6.45 | J68: =H68*0.7 -> 270.9 | K68: 11.3 | L68: 0.1
A69: 43005 | C69: 0 | D69: 7.7 | E69: 0 | F69: 7.1 | G69: 0 | H69: 343 | I69: 6.89 | J69: =H69*0.7 -> 240.1 | K69: 12.1 | L69: 0.16
C70: 0 | J70: =H70*0.7 -> 0
C71: 0 | J71: =H71*0.7 -> 0
C72: 0 | J72: =H72*0.7 -> 0
C73: 0 | J73: =H73*0.7 -> 0
C74: 0 | J74: =H74*0.7 -> 0
C75: 0 | J75: =H75*0.7 -> 0
C76: 0 | J76: =H76*0.7 -> 0
C77: 0 | J77: =H77*0.7 -> 0
C78: 0 | J78: =H78*0.7 -> 0
C79: 0 | J79: =H79*0.7 -> 0
C80: 0 | J80: =H80*0.7 -> 0
C81: 0 | J81: =H81*0.7 -> 0
... C155: 0 | J155: =H155*0.7 -> 0
C156: 0
C157: 0
C158: 0
C159: 0
C160: 0
C161: 0
C162: 0
C163: 0
C164: 0
C165: 0
C166: 0
C167: 0
... C173: 0

Sheet 9 BÂCHE SAT 20
D1: 2017 | H1: Dupont Nemours
H2: BACHE SAT 20
A3: BÂCHE ALIM SUD
A4: VOLUME EN M3 | B4: COMPTEUR | C4: CONSO | D4: Paramètres physico-chimiques | K4: SALINITE | L4: Hydrex 1461 | M4: Hydrex 1908 | N4: Observations & actions correctives
D5: pH | E5: TH | F5: TAC | G5: TA | H5: Conductivité | I5: Cl | J5: Cl | L5: orthophosphate | M5: sulfite
E6: Circuit | F6: Circuit | L6: lecture mg/l | M6: lecture mg/l
E7: °f | F7: °f | G7: °f | I7: °f | J7: mg/l | K7: mg/l
A8: 20 | C8: m3 | D8: >9,2 | E8: <0,05 | G8: >0 | H8: µs/cm | L8: >0 | M8: >0
A9: DATE | D9: norme afnor | E9: norme afnor | G9: NORME STI
A10: 42797 | C10: 0 | D10: 9 | E10: 0 | F10: 0.6 | G10: 0.3 | H10: 68 | I10: 4.5 | J10: =I10*7.1 -> 31.95 | K10: =H10*0.7 -> 47.6 | L10: 3 | M10: 3
A11: 42811 | C11: 0 | D11: 10.29 | E11: 0 | F11: 20.7 | G11: 9.8 | H11: 790 | J11: =I11*7.1 -> 0 | K11: =H11*0.7 -> 553
A12: 42814 | C12: 0 | D12: 10.3 | E12: 0 | F12: 22.2 | G12: 10.9 | H12: 881 | I12: 14.2 | J12: =I12*7.1 -> 100.82 | K12: =H12*0.7 -> 616.7
A13: 42817 | C13: 0 | D13: 8.4 | E13: 0 | F13: 9 | G13: 0.1 | H13: 451 | I13: 6.5 | J13: =I13*7.1 -> 46.15 | K13: =H13*0.7 -> 315.7
A14: 42818 | C14: 0 | D14: 8.9 | E14: 0 | F14: 9.5 | G14: 0.9 | H14: 472 | I14: 6.35 | J14: =I14*7.1 -> 45.085 | K14: =H14*0.7 -> 330.4
A15: 42821 | C15: 0 | D15: 8.43 | E15: 0 | F15: 9 | G15: 0.1 | H15: 468 | I15: 5.9 | J15: =I15*7.1 -> 41.89 | K15: =H15*0.7 -> 327.6
A16: 42823 | C16: 0 | D16: 9.6 | E16: 0 | F16: 12.4 | G16: 4.2 | H16: 554 | I16: 2.25 | J16: =I16*7.1 -> 15.975 | K16: =H16*0.7 -> 387.8
A17: 42825 | C17: 0 | D17: 9.8 | E17: 0 | F17: 5.9 | G17: 2.2 | H17: 358 | I17: 5.77 | J17: =I17*7.1 -> 40.967 | K17: =H17*0.7 -> 250.6
A18: 42828 | C18: 0 | D18: 9.3 | E18: 0 | F18: 8.2 | G18: 2 | H18: 398 | I18: 7.5 | J18: =I18*7.1 -> 53.25 | K18: =H18*0.7 -> 278.6
A19: ='1 EAU BRUTE DE VILLE'!A19 -> 43560 | C19: 0 | D19: 9.95 | E19: 0 | F19: 14.3 | G19: 5.6 | H19: 616 | I19: 11.8 | J19: =I19*7.1 -> 83.78 | K19: =H19*0.7 -> 431.2
A20: 42832 | C20: 0 | D20: 10.36 | E20: 0 | F20: 10 | G20: 5 | H20: 621 | J20: 71 | K20: =H20*0.7 -> 434.7
A21: 42835 | C21: 0 | D21: 11.2 | E21: 0 | F21: 42 | G21: 25 | H21: 1650 | J21: 71 | K21: =H21*0.7 -> 1155
A22: 42837 | C22: 0 | D22: 10.69 | E22: 0 | F22: 11 | G22: 8 | H22: 680 | J22: 106 | K22: =H22*0.7 -> 476
A23: 42844 | C23: 0 | D23: 10.93 | E23: 0 | F23: 20 | G23: 12 | H23: 903 | J23: 95 | K23: =H23*0.7 -> 632.1 | N23: arrêt pompe doseuse
A24: 42846 | C24: 0 | D24: 11.25 | E24: 0 | F24: 45 | G24: 25 | H24: 2000 | J24: 210 | K24: =H24*0.7 -> 1400
A25: 42849 | C25: 0 | D25: 11.11 | E25: 0 | F25: 40 | G25: 26.5 | H25: 1478 | J25: 140 | K25: =H25*0.7 -> 1034.6
A26: 42851 | C26: 0 | D26: 10.93 | E26: 0 | F26: 15 | G26: 10 | H26: 961 | J26: 106 | K26: =H26*0.7 -> 672.7
A27: 42853 | C27: 0 | D27: 11 | E27: 0 | F27: 30 | G27: 19 | H27: 1519 | J27: 131.35 | K27: =H27*0.7 -> 1063.3
A28: 42858 | C28: 0 | D28: 11.25 | E28: 0 | F28: 0 | G28: 0 | H28: 1460 | J28: 220.1 | K28: =H28*0.7 -> 1022
A29: 42860 | C29: 0 | D29: 10.79 | E29: 0 | F29: 20 | G29: 10 | H29: 871 | J29: 100 | K29: =H29*0.7 -> 609.7 | N29: arrêt pompe doseuse
A30: 42863 | C30: 0 | D30: 11.22 | E30: 0 | F30: 28 | G30: 20 | H30: 1624 | J30: 145 | K30: =H30*0.7 -> 1136.8
A31: 42865 | C31: 0 | D31: 10.62 | E31: 0 | F31: 14 | G31: 7 | H31: 726 | J31: 72.5 | K31: =H31*0.7 -> 508.2
A32: 42867 | C32: 0 | D32: 11.19 | E32: 0 | F32: 47 | G32: 23 | H32: 1913 | J32: 177.5 | K32: =H32*0.7 -> 1339.1 | N32: arret pompe doseuse
A33: 42870 | C33: 0 | D33: 10.85 | E33: 0 | F33: 17 | G33: 10 | H33: 892 | J33: 78.1 | K33: =H33*0.7 -> 624.4
A34: 42872 | C34: 0 | D34: 11 | E34: 0 | F34: 8 | G34: 4 | H34: 2360 | J34: 85 | K34: =H34*0.7 -> 1652
A35: 42874 | C35: 0 | D35: 11.33 | E35: 0 | F35: 8 | G35: 4 | H35: 1268 | J35: 77 | K35: =H35*0.7 -> 887.6
A36: 42877 | C36: 0 | D36: 11 | E36: 0 | F36: 13 | G36: 7 | H36: 975 | J36: 70 | K36: =H36*0.7 -> 682.5
A37: 42879 | C37: 0 | D37: 11.32 | E37: 0 | F37: 18 | G37: 10 | H37: 2178 | J37: 77 | K37: =H37*0.7 -> 1524.6 | N37: arret pompe doseuse
A38: 42881 | C38: 0 | D38: 11.06 | E38: 0 | F38: 18 | G38: 10 | H38: 937 | J38: 99.4 | K38: =H38*0.7 -> 655.9
A39: 42884 | C39: 0 | D39: 10.93 | E39: 0 | F39: 0 | G39: 0 | H39: 1256 | J39: 163.3 | K39: =H39*0.7 -> 879.2
A40: 42886 | C40: 0 | D40: 11.26 | E40: 0 | F40: 55 | G40: 30 | H40: 2450 | J40: 210 | K40: =H40*0.7 -> 1715 | N40: arret pompe doseuse
A41: 42888 | C41: 0 | D41: 10.93 | E41: 0 | F41: 18 | G41: 12 | H41: 1012 | J41: 86 | K41: =H41*0.7 -> 708.4 | N41: mise en marche pompe doseuse
A42: 42891 | C42: 0 | D42: 10.68 | E42: 0 | F42: 17 | G42: 10 | H42: 977 | J42: 75 | K42: =H42*0.7 -> 683.9
A43: 42893 | C43: 0 | D43: 11.26 | E43: 0 | F43: 45 | G43: 25 | H43: 2031 | J43: 195 | K43: =H43*0.7 -> 1421.7
A44: 42895 | C44: 0 | D44: 10.62 | E44: 0 | F44: 27 | G44: 16 | H44: 1204 | J44: 115.1 | K44: =H44*0.7 -> 842.8
A45: 42898 | C45: 0 | D45: 10.85 | E45: 0 | F45: 20 | G45: 10 | H45: 1280 | J45: 64 | K45: =H45*0.7 -> 896
A46: 42900 | C46: 0 | D46: 11.01 | E46: 0 | F46: 17 | G46: 10 | H46: 1117 | J46: 81 | K46: =H46*0.7 -> 781.9
A47: 42902 | C47: 0 | D47: 10.6 | E47: 0 | F47: 18 | G47: 10 | H47: 877 | K47: =H47*0.7 -> 613.9
C48: 0 | K48: =H48*0.7 -> 0
A49: 42905 | C49: 0 | D49: 10.42 | E49: 0 | F49: 12.2 | G49: 8.1 | H49: 694 | I49: 11.48 | J49: =I49*7.1 -> 81.508 | K49: =H49*0.7 -> 485.8 | L49: 0.56
A50: 42907 | C50: 0 | D50: 10.7 | E50: 0 | F50: 33.5 | G50: 20.3 | H50: 1332 | I50: 20.5 | J50: =I50*7.1 -> 145.55 | K50: =H50*0.7 -> 932.4 | L50: 22.4 | M50: 74 | N50: fer 20,72
A51: 42909 | C51: 0 | D51: 10.7 | E51: 0 | F51: 33 | G51: 19.3 | H51: 1390 | I51: 20 | J51: =I51*7.1 -> 142 | K51: =H51*0.7 -> 973 | L51: 4.45
A52: 42912 | C52: 0 | D52: 7.7 | E52: 0 | F52: 7.5 | G52: 0 | H52: 381 | I52: 6.4 | J52: =I52*7.1 -> 45.44 | K52: =H52*0.7 -> 266.7 | N52: L'unité de production est en nettoyage donc moins de conso vapeur donc moins d’ajout de produits.
A53: 42916 | C53: 0 | D53: 10.4 | E53: 0 | F53: 21.6 | G53: 16.2 | H53: 848 | I53: 13.97 | J53: =I53*7.1 -> 99.187 | K53: =H53*0.7 -> 593.6 | L53: 7.69
A54: 42919 | C54: 0 | D54: 9.94 | E54: 0 | F54: 19.5 | G54: 9.8 | H54: 785 | I54: 12.4 | J54: =I54*7.1 -> 88.04 | K54: =H54*0.7 -> 549.5 | L54: 7.72
A55: 42921 | C55: 0 | D55: 9.9 | E55: 0 | F55: 29.7 | G55: 13.8 | H55: 1176 | I55: 16.9 | J55: =I55*7.1 -> 119.99 | K55: =H55*0.7 -> 823.2 | L55: 10.6
A56: 42923 | C56: 0 | D56: 9.37 | E56: 0 | F56: 19.7 | G56: 6.5 | H56: 723 | I56: 9.7 | J56: =I56*7.1 -> 68.87 | K56: =H56*0.7 -> 506.1 | L56: 9
A57: 42926 | C57: 0 | D57: 10.57 | E57: 0 | F57: 28.5 | G57: 15.9 | H57: 1355 | I57: 15.56 | J57: =I57*7.1 -> 110.476 | K57: =H57*0.7 -> 948.5 | L57: 9.2
A58: 42928 | C58: 0 | D58: 10.09 | E58: 0 | F58: 27.8 | G58: 10.9 | H58: 972 | I58: 8.9 | J58: =I58*7.1 -> 63.19 | K58: =H58*0.7 -> 680.4 | L58: 1.44 | N58: attention Hydrex1461
A59: 42977 | C59: 0 | D59: 10.06 | E59: 0 | F59: 6 | G59: 2 | H59: 413 | J59: 54 | K59: =H59*0.7 -> 289.1 | N59: analyse terrain
A60: 42979 | C60: 0 | D60: 10.5 | E60: 0 | F60: 48.1 | G60: 22.6 | H60: 1439 | I60: 17.7 | J60: =I60*7.1 -> 125.67 | K60: =H60*0.7 -> 1007.3 | L60: 3.66
A61: 42986 | C61: 0 | D61: 8.8 | E61: 0 | F61: 6.6 | G61: 0.7 | H61: 391 | I61: 5.85 | J61: =I61*7.1 -> 41.535 | K61: =H61*0.7 -> 273.7 | L61: 1.21
A62: 42989 | C62: 0 | D62: 9.8 | E62: 0 | F62: 6.5 | G62: 2.5 | H62: 344 | I62: 5.3 | J62: =I62*7.1 -> 37.63 | K62: =H62*0.7 -> 240.8 | L62: 0.27
A63: 42991 | C63: 0 | D63: 9.8 | E63: 0 | F63: 6.7 | G63: 2.4 | H63: 356 | I63: 5.72 | J63: =I63*7.1 -> 40.612 | K63: =H63*0.7 -> 249.2 | L63: 0.05
A64: 42993 | C64: 0 | D64: 9.8 | E64: 0 | F64: 6.5 | G64: 2.5 | H64: 333 | I64: 5.8 | J64: =I64*7.1 -> 41.18 | K64: =H64*0.7 -> 233.1 | L64: 0.1
A65: 42996 | C65: 0 | D65: 9.7 | E65: 0 | F65: 7.4 | G65: 2.1 | H65: 363 | I65: 5.9 | J65: =I65*7.1 -> 41.89 | K65: =H65*0.7 -> 254.1 | L65: 0.7
A66: 42998 | C66: 0 | D66: 9.12 | E66: 1 | F66: 7.9 | G66: 1.9 | H66: 371 | I66: 6.37 | J66: =I66*7.1 -> 45.227 | K66: =H66*0.7 -> 259.7 | L66: 0.587
A67: 43003 | C67: 0 | D67: 9.4 | E67: 0.1 | F67: 15.5 | G67: 3.5 | H67: 627 | I67: 8.45 | J67: =I67*7.1 -> 59.995 | K67: =H67*0.7 -> 438.9 | L67: 9.88
A68: 43005 | C68: 0 | D68: 9.4 | E68: 0.1 | F68: 11.3 | G68: 2.6 | H68: 467 | I68: 6.48 | J68: =I68*7.1 -> 46.008 | K68: =H68*0.7 -> 326.9 | L68: 7.54
C69: 0 | K69: =H69*0.7 -> 0
C70: 0 | K70: =H70*0.7 -> 0
C71: 0 | K71: =H71*0.7 -> 0
C72: 0 | K72: =H72*0.7 -> 0
C73: 0 | K73: =H73*0.7 -> 0
C74: 0 | K74: =H74*0.7 -> 0
C75: 0 | K75: =H75*0.7 -> 0
C76: 0 | K76: =H76*0.7 -> 0
C77: 0 | K77: =H77*0.7 -> 0
C78: 0 | K78: =H78*0.7 -> 0
C79: 0 | K79: =H79*0.7 -> 0
C80: 0 | K80: =H80*0.7 -> 0
... C173: 0 | K173: =H173*0.7 -> 0

Sheet 10 VAPO S20
A1: 2017
E2: VAPO S20
A3: EAU BRUTE UFFOLTZ | Q3: 1x/mois
A4: VOLUME EN M3 | B4: COMPTEUR | C4: CONSO | D4: Paramètres physico-chimiques | K4: SALINITE | L4: SILICE | M4: Hydrex1461 | N4: Hydrex 1908 | P4: METAUX | R4: purge | T4: Observations & actions correctives
D5: pH | E5: TH | F5: TAC | G5: TA | H5: Conductivité | I5: Cl | J5: Cl | L5: SiO2 | M5: orthophosphate | N5: sulfite | O5: SiO2/TAC | P5: Fer | Q5: Cu | R5: M3
E6: Circuit | F6: Circuit | M6: lecture mg/l | N6: lecture mg/l | P6: mg/l | Q6: mg/l
E7: °f | F7: °f | G7: °f | I7: °f | J7: mg/l | K7: mg/l | L7: mg/l
C8: m3 | D8: 10,5-12 | E8: =0 -> 0 | F8: 50-100 | G8: 5-75 | H8: inf 6000 | I8: <85 | J8: <600 | K8: inf 4200 | L8: <160 | M8: 10-30 mg/l | N8: 30-60mg/l | O8: inf 1,6 | P8: < 0,5 mg/l | Q8: < 0,5mg/l | R8: Demandé | S8: réalisé le
A9: DATE | D9: AFNOR | E9: AFNOR | G9: NORME STI | H9: a verif const | K9: a verif const | P9: AFNOR | Q9: AFNOR
A10: 42811 | C10: 0 | D10: 10.26 | E10: 0 | F10: 21.3 | G10: 10.2 | H10: 800 | I10: 2.26 | J10: 16.1 | K10: =H10*0.7 -> 560 | M10: 11.3 | O10: =L10/F10 -> 0
C11: 0 | K11: =H11*0.7 -> 0
A12: 42814 | C12: 0 | D12: 10.34 | E12: 0 | F12: 22.9 | G12: 10.8 | H12: 899 | I12: 13.8 | J12: =I12*7.1 -> 97.98 | K12: =H12*0.7 -> 629.3 | M12: 10.3
A13: 42817 | C13: 0 | D13: 9.54 | E13: 0 | F13: 9.8 | G13: 2.8 | H13: 565 | I13: 6.8 | J13: =I13*7.1 -> 48.28 | K13: =H13*0.7 -> 395.5 | L13: 19 | M13: 4.82 | O13: =L13/F13 -> 1.9387755 | P13: 0.41 | T13: augmenter les pompe H 1461 et H 1908
A14: 42818 | C14: 0 | D14: 10.78 | E14: 0 | F14: 12.6 | G14: 8.8 | H14: 754 | I14: 9 | J14: =I14*7.1 -> 63.9 | K14: =H14*0.7 -> 527.8 | L14: 16.8 | M14: 1.7 | O14: =L14/F14 -> 1.3333333 | P14: 0.68
A15: 42821 | C15: 0 | D15: 9.3 | E15: 0 | F15: 9.5 | G15: 2.6 | H15: 468 | I15: 6.46 | J15: =I15*7.1 -> 45.866 | K15: =H15*0.7 -> 327.6
A16: 42823 | C16: 0 | D16: 9.6 | E16: 0 | F16: 13.1 | G16: 4.2 | H16: 575 | I16: 6.28 | J16: =I16*7.1 -> 44.588 | K16: =H16*0.7 -> 402.5
A17: 42825 | C17: 0 | D17: 9.73 | E17: 0 | F17: 5.8 | G17: 2.1 | H17: 357 | I17: 5.98 | J17: =I17*7.1 -> 42.458 | K17: =H17*0.7 -> 249.9 | M17: 1.14 | N17: 10
A18: 42798 | C18: 0 | D18: 10.07 | E18: 0 | F18: 9.8 | G18: 4.9 | H18: 488 | I18: 2 | J18: =I18*7.1 -> 14.2 | K18: =H18*0.7 -> 341.6 | M18: 4.77
A19: ='1 EAU BRUTE DE VILLE'!A19 -> 43560 | C19: 0 | D19: 10.07 | E19: 0 | F19: 14.6 | G19: 6.2 | H19: 639 | I19: 16.5 | J19: =I19*7.1 -> 117.15 | K19: =H19*0.7 -> 447.3 | M19: 7.04 | N19: 60
A20: 42832 | C20: 0 | E20: 0 | F20: 12 | G20: 5 | J20: 72 | K20: =H20*0.7 -> 0 | M20: 10 | N20: 60
A21: 42835 | C21: 0 | E21: 0 | F21: 57 | G21: 32 | J21: 67 | K21: =H21*0.7 -> 0 | M21: 10 | N21: 300
A22: 42837 | C22: 0 | E22: 0 | F22: 15 | G22: 10 | J22: 107 | K22: =H22*0.7 -> 0 | M22: 8 | N22: 0
A23: 42844 | C23: 0 | E23: 0 | F23: 20 | G23: 12 | J23: 102 | K23: =H23*0.7 -> 0 | M23: 30 | N23: 180
A24: 42846 | C24: 0 | E24: 0 | F24: 49 | G24: 25 | J24: 212 | K24: =H24*0.7 -> 0 | M24: 15 | N24: 180
A25: 42849 | C25: 0 | E25: 0 | F25: 45 | G25: 30 | J25: 140 | K25: =H25*0.7 -> 0 | M25: 20 | N25: 0
A26: 42851 | C26: 0 | E26: 0 | F26: 17 | G26: 12 | J26: 110 | K26: =H26*0.7 -> 0 | M26: 5 | N26: 0
A27: 42853 | C27: 0 | E27: 0 | F27: 36 | G27: 26 | J27: 156.2 | K27: =H27*0.7 -> 0 | M27: 34.6 | N27: 27.9
A28: 42858 | C28: 0 | E28: 0 | F28: 0 | G28: 0 | J28: 170.4 | K28: =H28*0.7 -> 0 | M28: 10 | N28: 80
A29: 42860 | C29: 0 | E29: 0 | F29: 20 | G29: 11 | J29: 100 | K29: =H29*0.7 -> 0 | M29: 20 | N29: 80
A30: 42863 | C30: 0 | E30: 0 | F30: 32 | G30: 24 | J30: 177.5 | K30: =H30*0.7 -> 0 | M30: 25 | N30: 180
A31: 42865 | C31: 0 | E31: 0 | F31: 21 | G31: 15 | J31: 74 | K31: =H31*0.7 -> 0 | M31: 10 | N31: 10
A32: 42867 | C32: 0 | E32: 0 | F32: 45 | G32: 25 | J32: 191.7 | K32: =H32*0.7 -> 0 | M32: 50 | N32: 180 | T32: arret pompe doseeuse
A33: 42870 | C33: 0 | E33: 0 | F33: 20 | G33: 10 | J33: 79 | K33: =H33*0.7 -> 0 | M33: 15 | N33: 90
A34: 42872 | C34: 0 | E34: 0 | F34: 55 | G34: 30 | J34: 210 | K34: =H34*0.7 -> 0 | M34: 10 | N34: 80
A35: 42874 | C35: 0 | E35: 0 | F35: 22 | G35: 15 | J35: 140 | K35: =H35*0.7 -> 0 | M35: 10 | N35: 10
A36: 42877 | C36: 0 | E36: 0 | F36: 15 | G36: 10 | J36: 70 | K36: =H36*0.7 -> 0 | M36: 0 | N36: 40
A37: 42879 | C37: 0 | E37: 0 | F37: 20 | G37: 12 | J37: 170 | K37: =H37*0.7 -> 0 | M37: 0 | N37: 200
A38: 42881 | C38: 0 | E38: 0 | F38: 15 | G38: 10 | J38: 99 | K38: =H38*0.7 -> 0 | M38: 5 | N38: 0
A39: 42884 | C39: 0 | E39: 0 | F39: 0 | G39: 0 | J39: 191.7 | K39: =H39*0.7 -> 0 | M39: 40 | N39: 0
A40: 42886 | C40: 0 | E40: 0 | F40: 52 | G40: 32 | J40: 210 | K40: =H40*0.7 -> 0 | M40: 50 | N40: 180 | T40: arret pompe doseeuse
A41: 42888 | C41: 0 | E41: 0 | F41: 18 | G41: 13 | J41: 106.5 | K41: =H41*0.7 -> 0 | M41: 25 | N41: 0
A42: 42891 | C42: 0 | E42: 0 | F42: 18 | G42: 11 | J42: 75 | K42: =H42*0.7 -> 0 | M42: 15 | N42: 0
A43: 42893 | C43: 0 | E43: 0 | F43: 45 | G43: 25 | J43: 192 | K43: =H43*0.7 -> 0 | M43: 15 | N43: 200
A44: 42895 | C44: 0 | E44: 0 | F44: 29 | G44: 18 | J44: 150.3 | K44: =H44*0.7 -> 0 | M44: 25 | N44: 0
A45: 42898 | C45: 0 | E45: 0 | F45: 24 | G45: 11 | J45: 72 | K45: =H45*0.7 -> 0 | M45: 15 | N45: 40
A46: 42900 | C46: 0 | E46: 0 | F46: 17 | G46: 10 | J46: 83 | K46: =H46*0.7 -> 0 | M46: 15 | N46: 40 | T46: allumer pompe doseuse
A47: 42902 | C47: 0 | E47: 0 | F47: 20 | G47: 12 | J47: 177 | K47: =H47*0.7 -> 0 | M47: 10 | N47: 40
C48: 0 | K48: =H48*0.7 -> 0
A49: 42905 | C49: 0 | D49: 10.64 | E49: 0 | F49: 13.6 | G49: 8.9 | H49: 799 | I49: 12.3 | J49: =I49*7.1 -> 87.33 | K49: =H49*0.7 -> 559.3 | M49: 9.2
A50: 42907 | C50: 0 | D50: 10.74 | E50: 0 | F50: 31.6 | G50: 19.1 | H50: 1291 | I50: 21 | J50: =I50*7.1 -> 149.1 | K50: =H50*0.7 -> 903.7 | L50: 21.1 | M50: 23.3 | N50: 74 | O50: =L50/F49 -> 1.5514706 | P50: 2.73
A51: 42909 | C51: 0 | D51: 10.79 | E51: 0 | F51: 48.1 | G51: 33.2 | H51: 2190 | I51: 13 | J51: =I51*7.1 -> 92.3 | K51: =H51*0.7 -> 1533 | L51: 72.2 | M51: 11.2 | N51: 80 | O51: =L51/F50 -> 2.2848101 | P51: 1.84 | T51: arret pompe
A52: 42912 | C52: 0 | D52: 9.07 | E52: 0 | F52: 8.3 | G52: 1.3 | H52: 410 | I52: 6.74 | J52: =I52*7.1 -> 47.854 | K52: =H52*0.7 -> 287 | L52: 11.9 | M52: 0.71 | N52: 0 | O52: =L52/F51 -> 0.24740125 | P52: 0.3 | T52: L'unité de production est en nettoyage donc moins de conso vapeur donc moins d’ajout de produits.
A53: 42916 | C53: 0 | D53: 10.77 | E53: 0 | F53: 27.3 | G53: 20.6 | H53: 1088 | I53: 16 | J53: =I53*7.1 -> 113.6 | K53: =H53*0.7 -> 761.6 | L53: 50.2 | M53: 3 | O53: =L53/F52 -> 6.0481928 | P53: 6.1 | T53: trop faible en phosphate trop de silice
A54: 42919 | C54: 0 | D54: 9.9 | E54: 0 | F54: 18.9 | G54: 9 | H54: 850 | I54: 12.7 | J54: =I54*7.1 -> 90.17 | K54: =H54*0.7 -> 595 | L54: 33.9 | M54: 7.84 | O54: =L54/F53 -> 1.2417582 | P54: 2.55 | T54: trop faible en phosphate
A55: 42921 | C55: 0 | D55: 10.9 | E55: 0 | F55: 43.8 | G55: 31.6 | H55: 2110 | I55: 26.3 | J55: =I55*7.1 -> 186.73 | K55: =H55*0.7 -> 1477 | L55: 59.7 | M55: 18.5 | O55: =L55/F54 -> 3.1587302 | P55: 1.97
A56: 42923 | C56: 0 | D56: 9.8 | E56: 0 | F56: 24.3 | G56: 9.6 | H56: 870 | I56: 9.8 | J56: =I56*7.1 -> 69.58 | K56: =H56*0.7 -> 609 | L56: 25 | M56: 6.23 | N56: 10 | P56: 0.74
A57: 42926 | C57: 0 | D57: 10.58 | E57: 0 | F57: 29 | G57: 16.7 | H57: 1393 | I57: 16 | J57: =I57*7.1 -> 113.6 | K57: =H57*0.7 -> 975.1 | L57: 30.7 | M57: 9.21 | N57: 80 | P57: 0.16 | T57: arret pompe doseuse
A58: 42928 | C58: 0 | D58: 10.06 | E58: 0 | F58: 27.6 | G58: 10.5 | H58: 973 | I58: 8.9 | J58: =I58*7.1 -> 63.19 | K58: =H58*0.7 -> 681.1 | L58: 21.9 | M58: 1.37 | N58: 0 | P58: 0.53 | T58: attention Hydrex1461
A59: 42977 | C59: 0 | D59: 10.8 | E59: 0 | F59: 6.5 | G59: 3 | J59: 42.6 | K59: =H59*0.7 -> 0 | M59: 5 | N59: 0 | T59: analyse terrain
A60: 42979 | C60: 0 | D60: 10.8 | E60: 0 | F60: 59.2 | G60: 29.6 | H60: 1834 | I60: 9.4 | J60: =I60*7.1 -> 66.74 | K60: =H60*0.7 -> 1283.8 | L60: 18.7 | M60: 3.75 | N60: 180 | O60: =L60/F60 -> 0.31587838 | P60: 0.65
A61: 42986 | C61: 0 | D61: 9.7 | E61: 0 | F61: 7.7 | G61: 2.9 | H61: 381 | I61: 6.4 | J61: =I61*7.1 -> 45.44 | K61: =H61*0.7 -> 266.7 | L61: 14.6 | M61: 0.6 | O61: =L61/F61 -> 1.8961039
A62: 42989 | C62: 0 | D62: 9.8 | E62: 0 | F62: 6.7 | G62: 2.8 | H62: 352 | I62: 5.6 | J62: =I62*7.1 -> 39.76 | K62: =H62*0.7 -> 246.4 | L62: 6.3 | M62: 0.31 | N62: 0 | O62: =L62/F62 -> 0.94029851 | T62: (sulfite pompe hs )
A63: 42991 | C63: 0 | D63: 9.9 | E63: 0 | F63: 6.8 | G63: 3 | H63: 368 | I63: 4.56 | J63: =I63*7.1 -> 32.376 | K63: =H63*0.7 -> 257.6 | L63: 32 | M63: 0.06 | N63: 0 | O63: =L63/F63 -> 4.7058824 | P63: 3.52 | T63: mettre les pompes en manu ou changement des pompes ajouter 2 litres de reactifs
A64: 42993 | C64: 0 | D64: 9.7 | E64: 0 | F64: 6.5 | G64: 2.3 | H64: 333 | I64: 5.8 | J64: =I64*7.1 -> 41.18 | K64: =H64*0.7 -> 233.1 | L64: 32.8 | M64: 0.1 | N64: 5 | O64: =L64/F64 -> 5.0461538 | P64: 3.8 | T64: faire une purge fer trop haut
A65: 42996 | C65: 0 | D65: 9.8 | E65: 0 | F65: 6.7 | G65: 2.1 | H65: 346 | I65: 5.9 | J65: =I65*7.1 -> 41.89 | K65: =H65*0.7 -> 242.2 | L65: 36 | M65: 0.6 | O65: =L65/F65 -> 5.3731343 | P65: 3.6 | T65: faire une purge fer trop haut
A66: 42998 | C66: 0 | D66: 10.67 | E66: 2 | F66: 10.2 | G66: 7.3 | H66: 565 | I66: 8.79 | J66: =I66*7.1 -> 62.409 | K66: =H66*0.7 -> 395.5 | L66: 20.2 | M66: 0.766 | N66: 0 | O66: =L66/F66 -> 1.9803922 | P66: 1.08 | T66: attention pas de sulfite =corrosion faire purge
A67: 43003 | C67: 0 | D67: 9.66 | E67: 0.3 | F67: 16.4 | G67: 4.5 | H67: 662 | I67: 4.5 | J67: =I67*7.1 -> 31.95 | K67: =H67*0.7 -> 463.4 | L67: 20.5 | M67: 10.3 | N67: 40 | O67: =L67/F67 -> 1.25 | P67: 0.76 | T67: continuer la purge ---> Fait purge le 26/09/2017)
A68: 43005 | C68: 0 | D68: 10.4 | E68: 0 | F68: 16.6 | G68: 9.1 | H68: 698 | I68: 8.98 | J68: =I68*7.1 -> 63.758 | K68: =H68*0.7 -> 488.6 | L68: 26.6 | M68: 14.9 | N68: 40 | O68: =L68/F68 -> 1.6024096
C69: 0 | K69: =H69*0.7 -> 0
C70: 0 | K70: =H70*0.7 -> 0
C71: 0 | K71: =H71*0.7 -> 0
C72: 0 | K72: =H72*0.7 -> 0
C73: 0 | K73: =H73*0.7 -> 0
C74: 0 | K74: =H74*0.7 -> 0
C75: 0 | K75: =H75*0.7 -> 0
C76: 0 | K76: =H76*0.7 -> 0
C77: 0 | K77: =H77*0.7 -> 0
C78: 0 | K78: =H78*0.7 -> 0
C79: 0 | K79: =H79*0.7 -> 0
C80: 0 | K80: =H80*0.7 -> 0
... C173: 0 | K173: =H173*0.7 -> 0

Sheet 11 EAU brute sud 
D1: 2017
H2: CHAUDIERE Sud
A3: EAU DE FORAGE
A4: VOLUME EN M3 | B4: COMPTEUR | C4: CONSO | D4: Paramètres physico-chimiques | K4: SALINITE | L4: METAUX | N4: Observations & actions correctives
D5: pH | E5: TH | F5: TAC | G5: TA | H5: Conductivité | I5: Cl | J5: Cl | L5: Fer | M5: Cu
E6: Circuit | F6: Circuit | L6: mg/l | M6: mg/l
E7: °f | F7: °f | G7: °f | H7: µs/cm | I7: °f | J7: mg/l | K7: mg/l
C8: m3
A9: DATE | D9: norme afnor | E9: norme afnor | G9: NORME STI | L9: norme afnor | M9: norme afnor
C10: 0
C11: 0
C12: 0
C13: 0
A14: 42818 | C14: 0 | D14: 7.93 | E14: 13 | F14: 9.4 | G14: 0 | H14: 395 | I14: 5.64 | J14: =I14*7.1 -> 40.044 | K14: =H14*0.7 -> 276.5 | L14: 1.9
A15: 42821 | C15: 0 | D15: 8 | E15: 12 | F15: 9.5 | G15: 0 | H15: 390 | I15: 5.95 | J15: =I15*7.1 -> 42.245 | K15: =H15*0.7 -> 273
A16: 42823 | C16: 0 | D16: 8 | E16: 13 | F16: 9.4 | G16: 0 | H16: 397 | I16: 6.7 | J16: =I16*7.1 -> 47.57 | K16: =H16*0.7 -> 277.9
A17: 42825 | C17: 0 | D17: 7.85 | E17: 12.7 | F17: 8.7 | G17: 0 | H17: 389 | I17: 6.7 | J17: =I17*7.1 -> 47.57 | K17: =H17*0.7 -> 272.3
A18: 42828 | C18: 0 | D18: 7.78 | E18: 16.3 | F18: 11.3 | G18: 0 | H18: 432 | I18: 7.7 | J18: =I18*7.1 -> 54.67 | K18: =H18*0.7 -> 302.4
A19: ='1 EAU BRUTE DE VILLE'!A19 -> 43560 | C19: 0 | D19: 8 | E19: 14.2 | F19: 10.3 | G19: 0 | H19: 404 | I19: 8.5 | J19: =I19*7.1 -> 60.35 | K19: =H19*0.7 -> 282.8
A20: 42835 | C20: 0 | E20: 12 | F20: 11 | G20: 0 | J20: 50 | K20: =H20*0.7 -> 0
A21: 42837 | C21: 0 | E21: 11.5 | F21: 7 | G21: 0 | J21: 65 | K21: =H21*0.7 -> 0
A22: 42839 | C22: 0 | E22: 10 | F22: 11 | G22: 0 | J22: 60 | K22: =H22*0.7 -> 0
A23: 42842 | C23: 0 | E23: 10 | F23: 11 | G23: 0 | J23: 60 | K23: =H23*0.7 -> 0
A24: 42844 | C24: 0 | E24: 10.5 | F24: 8 | G24: 0 | J24: 42 | K24: =H24*0.7 -> 0
A25: 42849 | C25: 0 | E25: 13 | F25: 6.5 | G25: 0 | J25: 80 | K25: =H25*0.7 -> 0
A26: 42851 | C26: 0 | E26: 8.5 | F26: 7 | G26: 0 | J26: 58 | K26: =H26*0.7 -> 0
A27: 42853 | C27: 0 | E27: 16.4 | F27: 11 | G27: 0 | J27: 81.65 | K27: =H27*0.7 -> 0
A28: 42856 | C28: 0 | E28: 14 | F28: 11 | G28: 0 | J28: 60 | K28: =H28*0.7 -> 0
A29: 42858 | C29: 0 | E29: 14.5 | F29: 7.1 | G29: 0 | J29: 106.5 | K29: =H29*0.7 -> 0
A30: 42860 | C30: 0 | E30: 9.5 | F30: 5 | G30: 0 | J30: 53.5 | K30: =H30*0.7 -> 0
A31: 42860 | C31: 0 | E31: 8.5 | F31: 6 | G31: 0 | J31: 71 | K31: =H31*0.7 -> 0
... A41: 42902 | C41: 0 | E41: 9.5 | F41: 7 | G41: 0 | J41: 56 | K41: =H41*0.7 -> 0
C42: 0 | K42: =H42*0.7 -> 0
A43: 42905 | C43: 0 | D43: 8 | E43: 12 | F43: 7.3 | G43: 0 | H43: 371 | I43: 7.58 | J43: =I43*7.1 -> 53.818 | K43: =H43*0.7 -> 259.7 | L43: 0.32
A44: 42907 | C44: 0 | D44: 8 | E44: 13 | F44: 7.3 | G44: 0 | H44: 380 | I44: 7.1 | J44: =7.1*7.1 -> 50.41 | K44: =H44*0.7 -> 266 | L44: 0.32
A45: 42909 | C45: 0 | D45: 8.3 | E45: 12 | F45: 8.4 | G45: 0 | H45: 379 | I45: 6.89 | J45: =7.1*7.1 -> 50.41 | K45: =H45*0.7 -> 265.3 | L45: 0.4
A46: 42912 | C46: 0 | D46: 7.5 | E46: 11.7 | F46: 7.7 | G46: 0 | H46: 367 | I46: 6.44 | J46: =I46*7.1 -> 45.724 | K46: =H46*0.7 -> 256.9 | L46: 0.2
A47: 42914 | C47: 0 | D47: 7.6 | E47: 2 | F47: 11.3 | G47: 0 | H47: 336 | I47: 6.42 | J47: =I47*7.1 -> 45.582 | K47: =H47*0.7 -> 235.2 | L47: 0.45 | N47: probleme de prise d echantillon
A48: 42916 | C48: 0 | D48: 6.94 | E48: 11 | F48: 9.7 | G48: 0 | H48: 368 | I48: 6.5 | J48: =I48*7.1 -> 46.15 | K48: =H48*0.7 -> 257.6 | L48: 0.009
A49: 42919 | C49: 0 | D49: 6.56 | E49: 10.6 | F49: 7.8 | G49: 0 | H49: 350 | I49: 6.46 | J49: =I49*7.1 -> 45.866 | K49: =H49*0.7 -> 245 | L49: 0.4
A50: 42921 | C50: 0 | D50: 10.9 | E50: 0 | F50: 8.3 | G50: 0 | H50: 361 | I50: 6.49 | J50: =I50*7.1 -> 46.079 | K50: =H50*0.7 -> 252.7 | L50: 0.4
A51: 42923 | C51: 0 | D51: 6.91 | E51: 22.3 | F51: 17.4 | G51: 0 | H51: 526 | I51: 4.6 | J51: =I51*7.1 -> 32.66 | K51: =H51*0.7 -> 368.2 | L51: 0
A52: 42926 | C52: 0 | D52: 7.081 | E52: 27 | F52: 20.3 | G52: 0 | H52: 590 | I52: 3.9 | J52: =I52*7.1 -> 27.69 | K52: =H52*0.7 -> 413 | L52: 0.06
A53: 42928 | C53: 0 | D53: 8.04 | E53: 24 | F53: 20.9 | G53: 0 | H53: 604 | I53: 4.7 | J53: =I53*7.1 -> 33.37 | K53: =H53*0.7 -> 422.8 | L53: 0.06
A54: 42935 | C54: 0 | E54: 14.6 | F54: 11 | G54: 0 | J54: 55 | K54: =H54*0.7 -> 0
A55: 42991 | C55: 0 | D55: 7.8 | E55: 12 | F55: 8.5 | G55: 0 | H55: 398 | I55: 6.45 | J55: =I55*7.1 -> 45.795 | K55: =H55*0.7 -> 278.6 | L55: 0.19
A56: 42993 | C56: 0 | D56: 7.8 | E56: 12 | F56: 7.9 | G56: 0 | H56: 372 | I56: 6.3 | J56: =I56*7.1 -> 44.73 | K56: =H56*0.7 -> 260.4 | L56: 0.5
A57: 42996 | C57: 0 | D57: 7.9 | E57: 12 | F57: 7.5 | G57: 0 | H57: 376 | I57: 6.2 | J57: =I57*7.1 -> 44.02 | K57: =H57*0.7 -> 263.2 | L57: 0.24
A58: 42998 | C58: 0 | D58: 7.97 | E58: 15 | F58: 12.1 | G58: 0 | H58: 441 | I58: 5.85 | J58: =I58*7.1 -> 41.535 | K58: =H58*0.7 -> 308.7 | L58: 0.22
A59: 43003 | C59: 0 | D59: 7.65 | E59: 11.3 | F59: 6.9 | G59: 0 | H59: 388 | I59: 6.61 | J59: =I59*7.1 -> 46.931 | K59: =H59*0.7 -> 271.6 | L59: 0.06
A60: 43005 | C60: 0 | D60: 7.7 | E60: 10.8 | F60: 6.6 | G60: 0 | H60: 350 | I60: 6.87 | J60: =I60*7.1 -> 48.777 | K60: =H60*0.7 -> 245 | L60: 0.04
C61: 0 | J61: =I61*7.1 -> 0 | K61: =H61*0.7 -> 0
C62: 0 | J62: =I62*7.1 -> 0 | K62: =H62*0.7 -> 0
C63: 0 | J63: =I63*7.1 -> 0 | K63: =H63*0.7 -> 0
C64: 0 | J64: =I64*7.1 -> 0 | K64: =H64*0.7 -> 0
C65: 0 | J65: =I65*7.1 -> 0 | K65: =H65*0.7 -> 0
C66: 0 | J66: =I66*7.1 -> 0 | K66: =H66*0.7 -> 0
C67: 0 | J67: =I67*7.1 -> 0 | K67: =H67*0.7 -> 0
C68: 0 | J68: =I68*7.1 -> 0 | K68: =H68*0.7 -> 0
C69: 0 | J69: =I69*7.1 -> 0 | K69: =H69*0.7 -> 0
C70: 0 | J70: =I70*7.1 -> 0 | K70: =H70*0.7 -> 0
C71: 0 | J71: =I71*7.1 -> 0 | K71: =H71*0.7 -> 0
C72: 0 | J72: =I72*7.1 -> 0 | K72: =H72*0.7 -> 0
... C137: 0 | J137: =I137*7.1 -> 0 | K137: =H137*0.7 -> 0
C138: 0 | K138: =H138*0.7 -> 0
C139: 0 | K139: =H139*0.7 -> 0
C140: 0 | K140: =H140*0.7 -> 0
C141: 0 | K141: =H141*0.7 -> 0
C142: 0 | K142: =H142*0.7 -> 0
C143: 0 | K143: =H143*0.7 -> 0
C144: 0 | K144: =H144*0.7 -> 0
C145: 0 | K145: =H145*0.7 -> 0
C146: 0 | K146: =H146*0.7 -> 0
C147: 0 | K147: =H147*0.7 -> 0
C148: 0 | K148: =H148*0.7 -> 0
C149: 0 | K149: =H149*0.7 -> 0
... C173: 0 | K173: =H173*0.7 -> 0

Sheet 12 EA SUD 
D1: 2017
H2: EA SUD
A3: EAU ADOUCIE S10 | N3: 1x/mois
A4: VOLUME EN M3 | B4: COMPTEUR | C4: CONSO | D4: Paramètres physico-chimiques | K4: SALINITE | L4: SILICE | M4: METAUX | O4: purge | Q4: Observations & actions correctives
D5: pH | E5: TH | F5: TAC | G5: TA | H5: Conductivité | I5: Cl- | J5: Cl- | L5: SiO2 | M5: Fer | N5: Cu | O5: M3
E6: Circuit | F6: Circuit | M6: mg/l | N6: mg/l
E7: °f | F7: °f | G7: °f | I7: °f | J7: mg/l | K7: mg/l | L7: mg/l
C8: m3 | E8: <0,05 | M8: < 0,03 mg/l | N8: < 0,01mg/l | O8: Demandé | P8: réalisé le
A9: DATE | D9: AFNOR | E9: AFNOR | G9: NORME STI | M9: AFNOR | N9: AFNOR
C10: 0 | K10: =G10*0.7 -> 0
C11: 0 | K11: =G11*0.7 -> 0
C12: 0 | K12: =G12*0.7 -> 0
C13: 0 | K13: =G13*0.7 -> 0
A14: 42818 | C14: 0 | D14: 8.15 | E14: 0 | F14: 8.8 | G14: 0 | H14: 387 | I14: 6.24 | J14: =I14*7.1 -> 44.304 | K14: =H14*0.7 -> 270.9 | L14: 12.5 | M14: 1.49
A15: 42821 | C15: 0 | D15: 9.7 | E15: 0 | F15: 6.2 | G15: 2.6 | H15: 424 | I15: 2.88 | J15: =I15*7.1 -> 20.448 | K15: =H15*0.7 -> 296.8
A16: 42823 | C16: 0 | D16: 7.96 | E16: 0 | F16: 9.4 | G16: 0 | H16: 400 | I16: 5.6 | J16: =I16*7.1 -> 39.76 | K16: =H16*0.7 -> 280
A17: 42825 | C17: 0 | D17: 7.9 | E17: 0 | F17: 9.1 | G17: 0 | H17: 391 | I17: 5.89 | J17: =I17*7.1 -> 41.819 | K17: =H17*0.7 -> 273.7
A18: 42828 | C18: 0 | D18: 7.8 | E18: 0 | F18: 8.4 | G18: 0 | H18: 362 | I18: 7.9 | J18: =I18*7.1 -> 56.09 | K18: =H18*0.7 -> 253.4
A19: ='1 EAU BRUTE DE VILLE'!A19 -> 43560 | C19: 0 | D19: 8 | E19: 0 | F19: 8.7 | G19: 0 | H19: 364 | I19: 8.6 | J19: =I19*7.1 -> 61.06 | K19: =H19*0.7 -> 254.8
A20: 42835 | C20: 0 | E20: 0 | F20: 8.2 | G20: 0 | J20: 52 | K20: =G20*0.7 -> 0
A21: 42837 | C21: 0 | E21: 0 | F21: 6 | G21: 0 | J21: 90 | K21: =G21*0.7 -> 0
A22: 42839 | C22: 0 | E22: 0 | F22: 6 | G22: 0 | J22: 80 | K22: =G22*0.7 -> 0
A23: 42842 | C23: 0 | E23: 0 | F23: 6 | G23: 0 | J23: 80 | K23: =G23*0.7 -> 0
A24: 42844 | C24: 0 | E24: 0.4 | F24: 8 | G24: 0 | J24: 42 | K24: =G24*0.7 -> 0 | Q24: nettoyage des résine U1 avec Res clean + régé
A25: 42849 | C25: 0 | E25: 0 | F25: 6.5 | G25: 0 | J25: 60 | K25: =G25*0.7 -> 0
A26: 42851 | C26: 0 | E26: 0 | F26: 7 | G26: 0 | J26: 55 | K26: =G26*0.7 -> 0
A27: 42853 | C27: 0 | E27: 0 | F27: 7 | G27: 0 | J27: 41.89 | K27: =G27*0.7 -> 0
A28: 42856 | C28: 0 | E28: 0 | F28: 6 | G28: 0 | J28: 80 | K28: =G28*0.7 -> 0
A29: 42858 | C29: 0 | E29: 0 | F29: 7 | G29: 0 | J29: 71 | K29: =G29*0.7 -> 0
A30: 42860 | C30: 0 | E30: 0.1 | F30: 7 | G30: 0 | J30: 49.1 | K30: =G30*0.7 -> 0
A31: 42863 | C31: 0 | E31: 0 | F31: 5 | G31: 0 | J31: 49.1 | K31: =G31*0.7 -> 0
A32: 42865 | C32: 0 | E32: 0 | F32: 2.4 | G32: 0.8 | J32: 21 | K32: =G32*0.7 -> 0.56
A33: 42867 | C33: 0 | E33: 0 | F33: 6 | G33: 0 | J33: 58 | K33: =G33*0.7 -> 0
A34: 42888 | C34: 0 | E34: 0 | F34: 6 | G34: 0 | J34: 49.7 | K34: =G34*0.7 -> 0
A35: 42891 | C35: 0 | E35: 0.05 | F35: 9 | G35: 0 | J35: 71 | K35: =G35*0.7 -> 0
A36: 42893 | C36: 0 | E36: 0 | F36: 6 | G36: 0 | J36: 50 | K36: =G36*0.7 -> 0
... A40: 42902 | C40: 0 | E40: 0 | F40: 6 | G40: 0 | J40: 58 | K40: =G40*0.7 -> 0
C41: 0 | K41: =G41*0.7 -> 0
A42: 42905 | C42: 0 | D42: 7.6 | E42: 0 | F42: 6.7 | G42: 0 | H42: 357 | I42: 6.53 | J42: =I42*7.1 -> 46.363 | K42: =H42*0.7 -> 249.9 | L42: 4.3 | M42: 0.08
A43: 42907 | C43: 0 | D43: 7.8 | E43: 0 | F43: 6.5 | G43: 0 | H43: 347 | I43: 6.85 | J43: =I43*7.1 -> 48.635 | K43: =H43*0.7 -> 242.9 | L43: 8.9 | M43: 0.13
A44: 42909 | C44: 0 | D44: 8.1 | E44: 0 | F44: 6.8 | G44: 0 | H44: 334 | I44: 7 | J44: =I44*7.1 -> 49.7 | K44: =G44*0.7 -> 0 | L44: 7.9 | M44: 0.15
A45: 42912 | C45: 0 | D45: 7.8 | E45: 0 | F45: 6.9 | G45: 0 | H45: 342 | I45: 6.51 | J45: =I45*7.1 -> 46.221 | K45: =G45*0.7 -> 0 | L45: 4.8 | M45: 0.09
A46: 42914 | C46: 0 | D46: 6.8 | E46: 0 | F46: 12.8 | G46: 0 | H46: 334 | I46: 6.7 | J46: =I46*7.1 -> 47.57 | K46: =G46*0.7 -> 0 | L46: 10.5 | M46: 0.57
A47: 42916 | C47: 0 | D47: 7.14 | E47: 0 | F47: 8.9 | G47: 0 | H47: 358 | I47: 6.45 | J47: =I47*7.1 -> 45.795 | K47: =G47*0.7 -> 0 | L47: 3.6 | M47: 0.21
A48: 42919 | C48: 0 | D48: 6.8 | E48: 0 | F48: 8.3 | G48: 0 | H48: 365 | I48: 6.59 | J48: =I48*7.1 -> 46.789 | K48: =G48*0.7 -> 0 | L48: 10.1 | M48: 0.13
A49: 42921 | C49: 0 | D49: 6.8 | E49: 0 | F49: 7.6 | G49: 0 | H49: 356 | I49: 6.92 | J49: =I49*7.1 -> 49.132 | K49: =G49*0.7 -> 0 | L49: 8.7 | M49: 0.53
A50: 42923 | C50: 0 | D50: 6.8 | E50: 0 | F50: 7 | G50: 0 | H50: 349 | I50: 6.4 | J50: =I50*7.1 -> 45.44 | K50: =G50*0.7 -> 0 | L50: 8.7 | M50: <0,01
A51: 42926 | C51: 0 | D51: 6.89 | E51: 0 | F51: 8 | G51: 0 | H51: 379 | I51: 5.2 | J51: =I51*7.1 -> 36.92 | K51: =G51*0.7 -> 0 | L51: 7.3 | M51: 0.1
A52: 42928 | C52: 0 | D52: 8.18 | E52: 0 | F52: 12.4 | G52: 0 | H52: 447 | I52: 5.7 | J52: =I52*7.1 -> 40.47 | K52: =G52*0.7 -> 0 | L52: 8.9 | M52: 0.16
A53: 42935 | C53: 0 | J53: =I53*7.1 -> 0 | K53: =G53*0.7 -> 0
A54: 42991 | C54: 0 | D54: 7.3 | E54: 0 | F54: 7.6 | G54: 0 | H54: 395 | I54: 6.59 | J54: =I54*7.1 -> 46.789 | K54: =G54*0.7 -> 0 | L54: 9.8 | M54: 0.09
A55: 42993 | C55: 0 | D55: 7.4 | E55: 0 | F55: 7.9 | G55: 0 | H55: 360 | I55: 6.4 | J55: =I55*7.1 -> 45.44 | K55: =G55*0.7 -> 0 | L55: 10.1 | M55: 0.08
A56: 42996 | C56: 0 | D56: 7.8 | E56: 0 | F56: 8.2 | G56: 0 | H56: 346 | I56: 5.5 | J56: =I56*7.1 -> 39.05 | K56: =G56*0.7 -> 0 | L56: 9.8 | M56: 0.53
A57: 42998 | C57: 0 | D57: 7.92 | F57: 12.1 | G57: 2 | H57: 450 | I57: 6 | J57: =I57*7.1 -> 42.6 | K57: =G57*0.7 -> 1.4 | L57: 10.8 | M57: 0.03
A58: 43003 | C58: 0 | D58: 7.94 | E58: 0.3 | F58: 7 | G58: 0 | H58: 387 | I58: 6.62 | J58: =I58*7.1 -> 47.002 | K58: =G58*0.7 -> 0 | L58: 10.7 | M58: 0.06 | Q58: faire petite purge
A59: 43005 | C59: 0 | D59: 7.7 | E59: 0 | F59: 6.4 | G59: 0 | H59: 334 | I59: 6.9 | J59: =I59*7.1 -> 48.99 | K59: =G59*0.7 -> 0 | L59: 10.5 | M59: 0.08
C60: 0 | K60: =G60*0.7 -> 0
C61: 0 | K61: =G61*0.7 -> 0
C62: 0 | K62: =G62*0.7 -> 0
C63: 0 | K63: =G63*0.7 -> 0
C64: 0 | K64: =G64*0.7 -> 0
C65: 0 | K65: =G65*0.7 -> 0
C66: 0 | K66: =G66*0.7 -> 0
C67: 0 | K67: =G67*0.7 -> 0
C68: 0 | K68: =G68*0.7 -> 0
C69: 0 | K69: =G69*0.7 -> 0
C70: 0 | K70: =G70*0.7 -> 0
C71: 0 | K71: =G71*0.7 -> 0
... C154: 0 | K154: =G154*0.7 -> 0

Sheet 13 Bâche SUD 
A1: BACHE ALIM S10 | D1: 2017
A2: EAU ADOUCIE S20 | H2: BACHE SUD
A3: Bache alim S10
A4: VOLUME EN M3 | B4: COMPTEUR | C4: CONSO | D4: Paramètres physico-chimiques | K4: SALINITE | L4: Hydrex1461 | M4: Hydrex 1908 | N4: METAUX | P4: Observations & actions correctives
D5: pH | E5: TH | F5: TAC | G5: TA | H5: Conductivité | I5: Cl | J5: Cl | L5: ORTHOPHOSPHATE | M5: sulfite | N5: Fer | O5: Cu
E6: Circuit | F6: Circuit | L6: lecture mg/l | M6: lecture mg/l | N6: mg/l | O6: mg/l
E7: °f | F7: °f | G7: °f | I7: °f | J7: mg/l | K7: mg/l
A8: 0.8 | C8: m3 | D8: >9,2 | E8: <0,05 | G8: >0 | L8: >0 | M8: >0 | N8: < 0,03 mg/l | O8: < 0,01mg/l
A9: DATE | N9: veolia | O9: veolia
C10: 0 | K10: =H10*0.7 -> 0
C11: 0 | K11: =H11*0.7 -> 0
C12: 0 | K12: =H12*0.7 -> 0
C13: 0 | K13: =H13*0.7 -> 0
A14: 42818 | C14: 0 | D14: 9.87 | E14: 0 | F14: 8 | G14: 2.7 | H14: 619 | I14: 2.94 | J14: =I14*7.1 -> 20.874 | K14: =H14*0.7 -> 433.3 | L14: 0.582 | N14: 5.71
A15: 42821 | C15: 0 | D15: 9.74 | E15: 0 | F15: 48.3 | G15: 42.5 | H15: 836 | I15: 2.88 | J15: =I15*7.1 -> 20.448 | K15: =H15*0.7 -> 585.2
A16: 42823 | C16: 0 | D16: 9.86 | E16: 0 | F16: 4.6 | G16: 1.9 | H16: 256 | I16: 2.05 | J16: =I16*7.1 -> 14.555 | K16: =H16*0.7 -> 179.2
A17: 42825 | C17: 0 | D17: 9.8 | E17: 0 | F17: 3.3 | G17: 1.6 | H17: 199.2 | I17: 1.86 | J17: =I17*7.1 -> 13.206 | K17: =H17*0.7 -> 139.44
A18: 42828 | C18: 0 | D18: 8 | E18: 0 | F18: 1.8 | G18: 0 | H18: 152 | I18: 3.5 | J18: =I18*7.1 -> 24.85 | K18: =H18*0.7 -> 106.4
A19: ='1 EAU BRUTE DE VILLE'!A19 -> 43560 | C19: 0 | D19: 9.8 | E19: 0 | F19: 3 | G19: 1.2 | H19: 161.2 | I19: 2.5 | J19: =I19*7.1 -> 17.75 | K19: =H19*0.7 -> 112.84
A20: 42835 | C20: 0 | E20: 0 | F20: 3 | G20: 1.5 | J20: 25 | K20: =H20*0.7 -> 0
A21: 42837 | C21: 0 | E21: 0 | F21: 2 | G21: 1 | J21: 9 | K21: =H21*0.7 -> 0
A22: 42839 | C22: 0 | E22: 0 | F22: 3 | G22: 1 | J22: 15 | K22: =H22*0.7 -> 0
A23: 42842 | C23: 0 | E23: 0 | F23: 2 | G23: 1 | J23: 17.5 | K23: =H23*0.7 -> 0
A24: 42844 | C24: 0 | E24: 0 | F24: 2.4 | G24: 1 | J24: 16 | K24: =H24*0.7 -> 0
A25: 42846 | C25: 0 | E25: 0 | F25: 4 | G25: 1 | K25: =H25*0.7 -> 0
A26: 42849 | C26: 0 | E26: 0 | F26: 4 | G26: 1 | J26: 21 | K26: =H26*0.7 -> 0
A27: 42486 | C27: 0 | E27: 0 | F27: 2 | G27: 1 | J27: 17 | K27: =H27*0.7 -> 0
A28: 42853 | C28: 0 | E28: 0.1 | F28: 3 | G28: 2.2 | J28: 19.88 | K28: =H28*0.7 -> 0
A29: 42856 | C29: 0 | E29: 0 | F29: 3 | G29: 1 | J29: 16 | K29: =H29*0.7 -> 0
A30: 42858 | C30: 0 | E30: 0 | F30: 0 | G30: 0 | J30: 49.7 | K30: =H30*0.7 -> 0
A31: 42860 | C31: 0 | E31: 0 | F31: 6 | G31: 0 | J31: 47.57 | K31: =H31*0.7 -> 0
A32: 42863 | C32: 0 | E32: 0 | F32: 3.2 | G32: 1 | J32: 28 | K32: =H32*0.7 -> 0
A33: 42865 | C33: 0 | E33: 0 | F33: 2.4 | G33: 0.8 | J33: 21 | K33: =H33*0.7 -> 0
A34: 42867 | C34: 0 | E34: 0 | F34: 3 | G34: 1.2 | J34: 17 | K34: =H34*0.7 -> 0
A35: 42888 | C35: 0 | E35: 0 | F35: 2.2 | G35: 0.1 | J35: 11.36 | K35: =H35*0.7 -> 0
A36: 42891 | C36: 0 | E36: 0 | F36: 3 | G36: 1 | J36: 14 | K36: =H36*0.7 -> 0
A37: 42893 | C37: 0 | E37: 0 | F37: 2.5 | G37: 0.2 | J37: 15 | K37: =H37*0.7 -> 0
... A41: 42902 | C41: 0 | E41: 0 | F41: 2.4 | G41: 1 | J41: 21 | K41: =H41*0.7 -> 0
C42: 0 | K42: =H42*0.7 -> 0
A43: 42935 | C43: 0 | D43: 8.8 | E43: 0 | F43: 2.8 | G43: 0.3 | H43: 216 | I43: 2.88 | J43: =I43*7.1 -> 20.448 | K43: =H43*0.7 -> 151.2 | L43: 0.56
A44: 42907 | C44: 0 | D44: 10 | E44: 0 | F44: 4.8 | G44: 2.4 | H44: 311 | I44: 2.98 | J44: =I44*7.1 -> 21.158 | K44: =H44*0.7 -> 217.7 | L44: 3.2 | M44: 6 | N44: 0.41
A45: 42909 | C45: 0 | D45: 9.3 | E45: 0 | F45: 3.5 | G45: 0.7 | H45: 231 | I45: 6.75 | J45: =I45*7.1 -> 47.925 | K45: =H45*0.7 -> 161.7 | L45: 0.61
A46: 42912 | C46: 0 | D46: 9.74 | E46: 0 | F46: 3.7 | G46: 1.4 | H46: 215 | I46: 2.64 | J46: =I46*7.1 -> 18.744 | K46: =H46*0.7 -> 150.5 | L46: 2.1
A47: 42913 | C47: 0 | D47: 7.2 | E47: 0 | F47: 6.8 | G47: 0 | H47: 265 | I47: 3.9 | J47: =I47*7.1 -> 27.69 | K47: =H47*0.7 -> 185.5 | N47: 0.57
A48: 42916 | C48: 0 | D48: 7.65 | E48: 0 | F48: 3.8 | G48: 0 | H48: 206 | I48: 2.06 | J48: =I48*7.1 -> 14.626 | K48: =H48*0.7 -> 144.2 | L48: 1.85
A49: 42919 | C49: 0 | D49: 7.3 | E49: 0 | F49: 3.5 | G49: 0 | H49: 193.2 | I49: 2.35 | J49: =I49*7.1 -> 16.685 | K49: =H49*0.7 -> 135.24 | L49: 1.31
A50: 42921 | C50: 0 | D50: 7.5 | E50: 0 | F50: 3.5 | G50: 0 | H50: 204 | I50: 0.2 | J50: =I50*7.1 -> 1.42 | K50: =H50*0.7 -> 142.8 | L50: 1.3
A51: 42923 | C51: 0 | D51: 9.4 | E51: 0 | F51: 5 | G51: 1.7 | H51: 241 | I51: 2 | J51: =I51*7.1 -> 14.2 | K51: =H51*0.7 -> 168.7 | L51: 0.601
A52: 42926 | C52: 0 | D52: 8.93 | E52: 0 | F52: 3.9 | G52: 0.7 | H52: 190.2 | I52: 2.3 | J52: =I52*7.1 -> 16.33 | K52: =H52*0.7 -> 133.14 | L52: 1.169
A53: 42928 | C53: 0 | D53: 9.91 | E53: 0 | F53: 4.8 | G53: 2.2 | H53: 222 | I53: 2.46 | J53: =I53*7.1 -> 17.466 | K53: =H53*0.7 -> 155.4 | L53: 1.62
A54: 42935 | C54: 0 | K54: =H54*0.7 -> 0
A55: 42991 | C55: 0 | D55: 10.4 | E55: 0 | F55: 7.9 | G55: 4.7 | H55: 301 | I55: 1.02 | J55: =I55*7.1 -> 7.242 | K55: =H55*0.7 -> 210.7 | L55: 0.95 | M55: 0 | P55: ajout manuel des reactifs ou augmenter les pompes
A56: 42993 | C56: 0 | D56: 9.4 | E56: 0 | F56: 7.9 | G56: 2.2 | H56: 415 | I56: 5.5 | J56: =I56*7.1 -> 39.05 | K56: =H56*0.7 -> 290.5 | L56: 1.6
A57: 42996 | C57: 0 | D57: 7.3 | E57: 0 | F57: 1.5 | G57: 0 | H57: 674 | I57: 1 | J57: =I57*7.1 -> 7.1 | K57: =H57*0.7 -> 471.8 | L57: 0.88
A58: 42998 | C58: 0 | D58: 8.823 | E58: 2 | F58: 2.2 | G58: 0.3 | H58: 71.8 | I58: 0.8 | J58: =I58*7.1 -> 5.68 | K58: =H58*0.7 -> 50.26 | L58: 0.367
A59: 43003 | C59: 0 | D59: 9.55 | E59: 0.2 | F59: 13.1 | G59: 5.1 | H59: 396 | I59: 5.54 | J59: =I59*7.1 -> 39.334 | K59: =H59*0.7 -> 277.2 | L59: 1.38
A60: 43005 | C60: 0 | D60: 9.6 | E60: 0 | F60: 13.3 | G60: 5.8 | H60: 283 | I60: 5.2 | J60: =I60*7.1 -> 36.92 | K60: =H60*0.7 -> 198.1 | L60: 1.95
C61: 0 | K61: =H61*0.7 -> 0
C62: 0 | K62: =H62*0.7 -> 0
C63: 0 | K63: =H63*0.7 -> 0
C64: 0 | K64: =H64*0.7 -> 0
C65: 0 | K65: =H65*0.7 -> 0
C66: 0 | K66: =H66*0.7 -> 0
C67: 0 | K67: =H67*0.7 -> 0
C68: 0 | K68: =H68*0.7 -> 0
C69: 0 | K69: =H69*0.7 -> 0
C70: 0 | K70: =H70*0.7 -> 0
C71: 0 | K71: =H71*0.7 -> 0
C72: 0 | K72: =H72*0.7 -> 0
... C173: 0 | K173: =H173*0.7 -> 0

Sheet 14 CHAUDIERE SUD 
A1: 2017
E2: CHAUDIERE SUD
A3: CHAUDIERE S10
A4: VOLUME EN M3 | B4: COMPTEUR | C4: CONSO | D4: Paramètres physico-chimiques | K4: SALINITE | L4: SILICE | M4: Hydrex1461 | N4: Hydrex 1908 | P4: METAUX | R4: purge | T4: Observations & actions correctives
D5: pH | E5: TH | F5: TAC | G5: TA | H5: Conductivité | I5: Cl | J5: Cl | L5: SiO2 | M5: ORTHOPHOSPHATE | N5: sulfite | O5: SiO2/TAC | P5: Fer | Q5: Cu | R5: M3
E6: Circuit | F6: Circuit | M6: lecture mg/l | N6: lecture mg/l | P6: mg/l | Q6: mg/l
E7: °f | F7: °f | G7: °f | I7: °f | J7: mg/l | K7: mg/l | L7: mg/l
A8: 6.9 | C8: m3 | D8: 10,5-11,8 | E8: 0 | F8: INF 70 | G8: 5-50 | H8: <6000 | I8: <85 | J8: <603 | K8: <4200 | L8: <1,6 | M8: 8-15mg/l | N8: 30-60 | O8: <1,5 | P8: < 0,5 mg/l | Q8: < 0,5mg/l | R8: Demandé | S8: réalisé le
A9: DATE | P9: veolia | Q9: veolia
C10: 0 | K10: =H10*0.7 -> 0
C11: 0 | K11: =H11*0.7 -> 0
C12: 0 | K12: =H12*0.7 -> 0
C13: 0 | K13: =H13*0.7 -> 0
A14: 42818 | C14: 0 | D14: 10.7 | E14: 0 | F14: 21.1 | G14: 15.7 | H14: 2070 | I14: 6.02 | J14: =I14*7.1 -> 42.742 | K14: =H14*0.7 -> 1449 | L14: 15.3 | M14: 1.84 | O14: =L14/F14 -> 0.72511848 | P14: 1.84
A15: 42821 | C15: 0 | D15: 8.4 | E15: 0 | F15: 9.5 | G15: 0.2 | H15: 2020 | I15: 124 | J15: =I15*7.1 -> 880.4 | K15: =H15*0.7 -> 1414
A16: 42823 | C16: 0 | D16: 11.65 | E16: 0 | F16: 53 | G16: 46.7 | H16: 7360 | I16: 136.4 | J16: =I16*7.1 -> 968.44 | K16: =H16*0.7 -> 5152
A17: 42825 | C17: 0 | D17: 11.57 | E17: 0 | F17: 61.5 | G17: 56.6 | H17: 8710 | I17: 162.5 | J17: =I17*7.1 -> 1153.75 | K17: =H17*0.7 -> 6097 | M17: 3 | N17: 0 | T17: augmenter la pompe hydrex 1908
A18: 42828 | C18: 0 | D18: 11.6 | E18: 0 | F18: 48.1 | G18: 43.6 | H18: 6490 | I18: 181 | J18: =I18*7.1 -> 1285.1 | K18: =H18*0.7 -> 4543 | M18: 0.43 | T18: augmenter la pompe hydrex 1461
A19: ='1 EAU BRUTE DE VILLE'!A19 -> 43560 | C19: 0 | D19: 11.6 | E19: 0 | F19: 42.5 | G19: 38.5 | H19: 5170 | I19: 113.5 | J19: =I19*7.1 -> 805.85 | K19: =H19*0.7 -> 3619
A20: 42835 | C20: 0 | D20: 11.7 | E20: 0 | F20: 45 | G20: 38 | H20: 6210 | J20: 1050 | K20: =H20*0.7 -> 4347 | M20: 10 | N20: 0
A21: 42837 | C21: 0 | D21: 11.71 | E21: 0 | F21: 37 | G21: 32 | H21: 5280 | J21: 745 | K21: =H21*0.7 -> 3696 | M21: 15 | N21: 10 | T21: augmenter cadanse 1908 a 12 imp
A22: 42839 | C22: 0 | D22: 11.43 | E22: 0 | F22: 35 | G22: 30 | H22: 7500 | J22: 490 | K22: =H22*0.7 -> 5250 | M22: 15 | N22: 10
A23: 42842 | C23: 0 | D23: 11.46 | E23: 0 | F23: 55 | G23: 50 | H23: 8100 | J23: 710 | K23: =H23*0.7 -> 5670 | M23: 15 | N23: 0
A24: 42844 | C24: 0 | D24: 11.91 | E24: 0.1 | F24: 45 | G24: 43 | H24: 5890 | J24: 780 | K24: =H24*0.7 -> 4123 | M24: 5 | N24: 10
A25: 42846 | C25: 0 | D25: 11.89 | E25: 0 | F25: 45 | G25: 43 | H25: 6230 | J25: 710 | K25: =H25*0.7 -> 4361 | M25: 15 | N25: 10
A26: 42849 | C26: 0 | D26: 11.6 | E26: 0.3 | F26: 50 | G26: 45 | H26: 5750 | J26: 600 | K26: =H26*0.7 -> 4025 | M26: 20 | N26: 0
A27: 42851 | C27: 0 | D27: 11.81 | E27: 0 | F27: 36 | G27: 33 | H27: 5200 | J27: 525 | K27: =H27*0.7 -> 3640 | M27: 10 | N27: 10
A28: 42853 | C28: 0 | D28: 11.6 | E28: 0.2 | F28: 42 | G28: 39 | H28: 4870 | K28: =H28*0.7 -> 3409 | M28: 12.9 | N28: 2
A29: 42856 | C29: 0 | D29: 11.6 | E29: 0 | F29: 4 | G29: 5 | H29: 40 | J29: 700 | K29: =H29*0.7 -> 28 | M29: 5 | N29: 10
A30: 42858 | C30: 0 | D30: 11.06 | E30: 0 | F30: 0 | G30: 0 | H30: 12490 | J30: 745.5 | K30: =H30*0.7 -> 8743 | M30: 0 | N30: 10
A31: 42860 | C31: 0 | D31: 12.01 | E31: 0 | F31: 54 | G31: 50 | H31: 4450 | J31: 431 | K31: =H31*0.7 -> 3115 | M31: 10 | N31: 0
A32: 42863 | C32: 0 | D32: 11.91 | E32: 0 | F32: 57 | G32: 55 | H32: 7130 | J32: 710 | K32: =H32*0.7 -> 4991 | M32: 20 | N32: 10
A33: 42865 | C33: 0 | D33: 11.96 | E33: 0 | F33: 46 | G33: 44 | H33: 5730 | J33: 710 | K33: =H33*0.7 -> 4011 | M33: 10 | N33: 5
A34: 42867 | C34: 0 | D34: 11.88 | E34: 0 | F34: 48 | G34: 44 | H34: 6190 | J34: 639 | K34: =H34*0.7 -> 4333 | M34: 25 | N34: 10
A35: 42888 | C35: 0 | D35: 11.69 | E35: 0 | F35: 38 | G35: 35 | H35: 4570 | J35: 319.5 | K35: =H35*0.7 -> 3199 | M35: 100 | N35: 40 | T35: mise en route après arret
A36: 42891 | C36: 0 | D36: 11.85 | E36: 0 | F36: 48 | G36: 42 | H36: 7230 | J36: 603 | K36: =H36*0.7 -> 5061 | M36: 30 | N36: 5
A37: 42893 | C37: 0 | D37: 11.92 | E37: 0 | F37: 40 | G37: 35 | H37: 5650 | J37: 480 | K37: =H37*0.7 -> 3955 | M37: 45 | N37: 0
A38: 42895 | C38: 0 | D38: 11.87 | E38: 0 | F38: 50 | G38: 45 | H38: 5840 | J38: 660.3 | K38: =H38*0.7 -> 4088 | M38: 30 | N38: 10
A39: 42898 | C39: 0 | D39: 11.32 | E39: 0 | F39: 50 | G39: 45 | H39: 8740 | J39: 730 | K39: =H39*0.7 -> 6118 | M39: 30 | N39: 10
A40: 42900 | C40: 0 | D40: 11.82 | E40: 0.01 | F40: 40 | G40: 35 | H40: 6460 | J40: 490 | K40: =H40*0.7 -> 4522 | M40: 50 | N40: 0
A41: 42902 | C41: 0 | D41: 11.61 | E41: 0 | F41: 46 | G41: 35 | H41: 7350 | J41: 710 | K41: =H41*0.7 -> 5145 | M41: 10 | N41: 10 | O41: =L41/F41 -> 0
C42: 0 | K42: =H42*0.7 -> 0
A43: 42905 | C43: 0 | D43: 11.33 | E43: 0 | F43: 44.4 | G43: 36.9 | H43: 5340 | I43: 80 | J43: =I43*7.1 -> 568 | K43: =H43*0.7 -> 3738 | O43: =L43/F43 -> 0
A44: 42907 | C44: 0 | D44: 11.42 | E44: 0 | F44: 44.3 | G44: 38.1 | H44: 5270 | I44: 79 | J44: =I44*7.1 -> 560.9 | K44: =H44*0.7 -> 3689 | L44: 41.1 | M44: 20.2 | N44: 5 | O44: =L44/F44 -> 0.92776524 | P44: 0.38 | T44: sulfite un peu bas
A45: 42909 | C45: 0 | D45: 11.44 | E45: 0 | F45: 46.3 | G45: 38.5 | H45: 5480 | I45: 84 | J45: =I45*7.1 -> 596.4 | K45: =H45*0.7 -> 3836 | M45: 23.6 | N45: 0 | O45: =L45/F45 -> 0 | P45: 0.89
A46: 42912 | C46: 0 | D46: 11.5 | E46: 0 | F46: 43.3 | G46: 37.7 | H46: 5190 | I46: 82 | J46: =I46*7.1 -> 582.2 | K46: =H46*0.7 -> 3633 | L46: 107 | M46: 22.5 | N46: 0 | O46: =L46/F46 -> 2.4711316 | P46: 0.71
A47: 42914 | C47: 0 | D47: 11.66 | E47: 0 | F47: 67.5 | G47: 61.3 | H47: 5280 | I47: 84 | J47: =I47*7.1 -> 596.4 | K47: =H47*0.7 -> 3696 | L47: 23.8 | M47: 23.1 | O47: =L47/F47 -> 0.35259259 | P47: 0.75
A48: 42916 | C48: 0 | D48: 11.68 | E48: 0 | F48: 49.6 | G48: 46.8 | H48: 5170 | I48: 74.6 | J48: =I48*7.1 -> 529.66 | K48: =H48*0.7 -> 3619 | L48: 72 | M48: 19.7 | O48: =L48/F48 -> 1.4516129 | P48: 0.18
A49: 42919 | C49: 0 | D49: 11.06 | E49: 0 | F49: 45.7 | G49: 39.7 | H49: 5210 | I49: 65.3 | J49: =I49*7.1 -> 463.63 | K49: =H49*0.7 -> 3647 | L49: 95 | M49: 15.4 | O49: =L49/F49 -> 2.0787746 | P49: 0.23
A50: 42921 | C50: 0 | D50: 11.07 | E50: 0 | F50: 44.5 | G50: 34.1 | H50: 5310 | I50: 8.4 | J50: =I50*7.1 -> 59.64 | K50: =H50*0.7 -> 3717 | L50: 97.6 | M50: 12.4 | O50: =L50/F50 -> 2.1932584 | P50: 0.13
A51: 42923 | C51: 0 | D51: 11 | E51: 0 | F51: 44.2 | G51: 33.9 | H51: 5230 | I51: 113 | J51: =I51*7.1 -> 802.3 | K51: =H51*0.7 -> 3661 | L51: 101.2 | M51: 14.7 | N51: 0 | O51: =L51/F51 -> 2.2895928 | P51: <0,01
A52: 42926 | C52: 0 | D52: 11.14 | E52: 0 | F52: 55 | G52: 40.7 | H52: 6200 | I52: 110 | J52: =I52*7.1 -> 781 | K52: =H52*0.7 -> 4340 | L52: 137.2 | M52: 26.7 | N52: 0 | O52: =L52/F52 -> 2.4945455 | P52: 0.15
A53: 42928 | C53: 0 | D53: 11.63 | E53: 0 | F53: 60.9 | G53: 47.5 | H53: 6860 | I53: 105 | J53: =I53*7.1 -> 745.5 | K53: =H53*0.7 -> 4802 | L53: 147.2 | M53: 30 | N53: 40 | O53: =L53/F53 -> 2.4170772 | P53: 0.15
A54: 42935 | C54: 0 | D54: 11.3 | E54: 0 | F54: 58.4 | G54: 44.8 | H54: 6170 | K54: =H54*0.7 -> 4319 | M54: 34 | N54: 32 | O54: =L54/F54 -> 0
A55: 42991 | C55: 0 | D55: 11.5 | E55: 0 | F55: 58.2 | G55: 46.8 | H55: 5880 | I55: 85.5 | J55: =I55*7.1 -> 607.05 | K55: =H55*0.7 -> 4116 | L55: 121 | M55: 3.51 | N55: 0 | O55: =L55/F55 -> 2.0790378 | P55: 0.06 | T55: ajout manuel des reactifs ou augmenter les pompes
A56: 42993 | C56: 0 | D56: 11.7 | E56: 0 | F56: 62 | G56: 52 | H56: 6350 | I56: 93.7 | J56: =I56*7.1 -> 665.27 | K56: =H56*0.7 -> 4445 | L56: 113 | M56: 4.67 | N56: 40 | O56: =L56/F56 -> 1.8225806 | P56: 0.4
A57: 42996 | C57: 0 | D57: 11.8 | E57: 0 | F57: 72 | G57: 65.5 | H57: 6530 | I57: 91.5 | J57: =I57*7.1 -> 649.65 | K57: =H57*0.7 -> 4571 | L57: 80 | M57: 24.2 | O57: =L57/F57 -> 1.1111111 | P57: 0.23
A58: 42998 | C58: 0 | D58: 11.88 | E58: 2 | F58: 76.2 | G58: 70.6 | H58: 6430 | I58: 92 | J58: =I58*7.1 -> 653.2 | K58: =H58*0.7 -> 4501 | L58: 126 | M58: 15.2 | N58: 0 | O58: =L58/F58 -> 1.6535433 | P58: 0.14 | T58: attention pas de sulfite =corrosion
A59: 43003 | C59: 0 | D59: 11.81 | E59: 0.3 | F59: 83.4 | G59: 71.5 | H59: 5960 | I59: 80 | J59: =I59*7.1 -> 568 | K59: =H59*0.7 -> 4172 | L59: 114.8 | M59: 22.8 | N59: 40 | O59: =L59/F59 -> 1.3764988 | P59: 0.28
A60: 43005 | C60: 0 | D60: 11.8 | E60: 0 | F60: 85.8 | G60: 72 | H60: 5460 | I60: 67.8 | J60: =I60*7.1 -> 481.38 | K60: =H60*0.7 -> 3822 | L60: 127 | M60: 46.5 | N60: 40 | O60: =L60/F60 -> 1.4801865 | P60: 0.31
C61: 0 | K61: =H61*0.7 -> 0
C62: 0 | K62: =H62*0.7 -> 0
C63: 0 | K63: =H63*0.7 -> 0
C64: 0 | K64: =H64*0.7 -> 0
C65: 0 | K65: =H65*0.7 -> 0
C66: 0 | K66: =H66*0.7 -> 0
C67: 0 | K67: =H67*0.7 -> 0
C68: 0 | K68: =H68*0.7 -> 0
C69: 0 | K69: =H69*0.7 -> 0
C70: 0 | K70: =H70*0.7 -> 0
C71: 0 | K71: =H71*0.7 -> 0
C72: 0 | K72: =H72*0.7 -> 0
... C173: 0 | K173: =H173*0.7 -> 0

Sheet 15 =7 EAU brute s10
D1: 2017 | H1: Dupont Nemours
H2: CHAUDIERE Sat 10
A3: EAU DE FORAGE
A4: VOLUME EN M3 | B4: COMPTEUR | C4: CONSO | D4: Paramètres physico-chimiques | K4: SALINITE | L4: METAUX | M4: Observations & actions correctives
D5: pH | E5: TH | F5: TAC | G5: TA | H5: Conductivité | I5: Cl | J5: Cl | L5: Fer
E6: Circuit | F6: Circuit | L6: mg/l
E7: °f | F7: °f | G7: °f | H7: µs/cm | I7: °f | J7: mg/l | K7: mg/l
C8: m3
A9: DATE | D9: norme afnor | E9: norme afnor | G9: NORME STI | L9: norme afnor
A10: 42797 | C10: 0 | D10: 7.4 | E10: 7.8 | F10: 6 | G10: 0 | H10: 344 | I10: 11.3 | J10: =I10*7.1 -> 80.23 | K10: =H10*0.7 -> 240.8 | L10: 0.48
A11: 42811 | C11: 0 | D11: 7.38 | E11: 10.5 | F11: 6.7 | G11: 0 | H11: 343 | I11: 5.49 | J11: =I11*7.1 -> 38.979 | K11: =H11*0.7 -> 240.1
A12: 41718 | C12: 0 | D12: 7.43 | E12: 11 | F12: 6.9 | G12: 0 | H12: 352 | I12: 9.2 | J12: =I12*7.1 -> 65.32 | K12: =H12*0.7 -> 246.4
A13: 42817 | C13: 0 | D13: 7.43 | E13: 4 | F13: 7.3 | G13: 0 | H13: 362 | I13: 1.8 | J13: =I13*7.1 -> 12.78 | K13: =H13*0.7 -> 253.4
A14: 42818 | C14: 0 | D14: 8.08 | E14: 10.4 | F14: 7 | G14: 0 | H14: 417 | I14: 6.3 | J14: =I14*7.1 -> 44.73 | K14: =H14*0.7 -> 291.9 | L14: 1.76 | M14: eau brute tres ferreuse
A15: 42821 | C15: 0 | D15: 7.8 | E15: 10.4 | F15: 6.7 | G15: 0 | H15: 372 | I15: 6.08 | J15: =I15*7.1 -> 43.168 | K15: =H15*0.7 -> 260.4
A16: 42823 | C16: 0 | D16: 7.3 | E16: 10.9 | F16: 6 | G16: 0 | H16: 352 | I16: 6.7 | J16: =I16*7.1 -> 47.57 | K16: =H16*0.7 -> 246.4
A17: 42825 | C17: 0 | D17: 7.3 | E17: 10.2 | F17: 5.9 | G17: 0 | H17: 345 | I17: 5.64 | J17: =I17*7.1 -> 40.044 | K17: =H17*0.7 -> 241.5
A18: 42798 | C18: 0 | D18: 7.2 | E18: 10.4 | F18: 6.5 | G18: 0 | H18: 343 | I18: 8.63 | J18: =I18*7.1 -> 61.273 | K18: =H18*0.7 -> 240.1
A19: ='1 EAU BRUTE DE VILLE'!A19 -> 43560 | C19: 0 | D19: 7.4 | E19: 10.3 | F19: 6.1 | G19: 0 | H19: 341 | I19: 8 | J19: =I19*7.1 -> 56.8 | K19: =H19*0.7 -> 238.7
A20: 42832 | C20: 0 | E20: 15 | F20: 7 | G20: 0 | J20: 35 | K20: =H20*0.7 -> 0
A21: 42837 | C21: 0 | E21: 10 | F21: 5 | G21: 0 | J21: 35 | K21: =H21*0.7 -> 0
A22: 42844 | C22: 0 | E22: 10 | F22: 5 | G22: 0 | J22: 56 | K22: =H22*0.7 -> 0
A23: 24/04/04/17 | C23: 0 | E23: 13 | F23: 6 | G23: 0 | J23: 50 | K23: =H23*0.7 -> 0
A24: 42851 | C24: 0 | E24: 9.5 | F24: 6 | G24: 0 | J24: 35 | K24: =H24*0.7 -> 0
A25: 42853 | C25: 0 | E25: 10.2 | F25: 9 | G25: 0 | J25: 51.83 | K25: =H25*0.7 -> 0
A26: 42856 | C26: 0 | E26: 18 | F26: 5 | G26: 0 | J26: 71 | K26: =H26*0.7 -> 0
A27: 42858 | C27: 0 | E27: 14 | F27: 4 | G27: 0 | J27: 78.1 | K27: =H27*0.7 -> 0
A28: 42860 | C28: 0 | E28: 8.5 | F28: 5 | G28: 0 | J28: 71 | K28: =H28*0.7 -> 0
A29: 42863 | C29: 0 | E29: 9 | F29: 6 | G29: 0 | J29: 45 | K29: =H29*0.7 -> 0
A30: 42865 | C30: 0 | E30: 9 | F30: 5 | G30: 0 | J30: 42.6 | K30: =H30*0.7 -> 0
A31: 42867 | C31: 0 | E31: 8 | F31: 6 | G31: 0 | J31: 49.7 | K31: =H31*0.7 -> 0
A32: 42870 | C32: 0 | E32: 9.5 | F32: 4 | G32: 0 | J32: 51 | K32: =H32*0.7 -> 0
A33: 42872 | C33: 0 | E33: 9 | F33: 8 | G33: 0 | J33: 71 | K33: =H33*0.7 -> 0
A34: 42874 | C34: 0 | E34: 7.5 | F34: 8 | G34: 0 | J34: 71 | K34: =H34*0.7 -> 0
A35: 42884 | C35: 0 | E35: 12 | F35: 10 | G35: 0 | J35: 142 | K35: =H35*0.7 -> 0
... A43: 42902 | C43: 0 | E43: 10 | F43: 7 | G43: 0 | J43: 71 | K43: =H43*0.7 -> 0
C44: 0 | K44: =H44*0.7 -> 0
A45: 42905 | C45: 0 | D45: 7.5 | E45: 11 | F45: 7 | G45: 0 | H45: 367 | I45: 6.51 | J45: =I45*7.1 -> 46.221 | K45: =H45*0.7 -> 256.9 | L45: 0.17
A46: 42907 | C46: 0 | D46: 7.7 | E46: 12 | F46: 6.8 | G46: 0 | H46: 375 | I46: 7.04 | J46: =I46*7.1 -> 49.984 | K46: =H46*0.7 -> 262.5 | L46: 0.09
A47: 42909 | C47: 0 | M47: pas d'echantillon
A48: 42912 | C48: 0 | D48: 7.4 | E48: 11.2 | F48: 7 | G48: 0 | H48: 354 | I48: 6.57 | J48: =I48*7.1 -> 46.647 | K48: =H48*0.7 -> 247.8 | L48: 1.03
A49: 42914 | C49: 0 | D49: 6.5 | E49: 12 | F49: 9.9 | G49: 0 | H49: 356 | I49: 6.7 | J49: =I49*7.1 -> 47.57 | K49: =H49*0.7 -> 249.2 | L49: 0.05
A50: 42916 | C50: 0 | D50: 6.6 | E50: 10.5 | F50: 7.5 | G50: 0 | H50: 341 | I50: 6.19 | J50: =I50*7.1 -> 43.949 | K50: =H50*0.7 -> 238.7 | L50: 0.45
A51: 42919 | C51: 0 | D51: ='7= 15 EAU brute s20'!D54 -> 6.3 | E51: ='7= 15 EAU brute s20'!E54:M54 -> 13 | F51: ='7= 15 EAU brute s20'!F54:N54 -> 9.7 | G51: ='7= 15 EAU brute s20'!G54:O54 -> 0 | H51: ='7= 15 EAU brute s20'!H54:P54 -> 394 | I51: ='7= 15 EAU brute s20'!I54:Q54 -> 3.36 | J51: ='7= 15 EAU brute s20'!J54:R54 -> 23.856 | K51: ='7= 15 EAU brute s20'!K54:S54 -> 275.8 | L51: ='7= 15 EAU brute s20'!L54:T54 -> 1.37
A52: 42921 | C52: 0 | D52: ='7= 15 EAU brute s20'!D55 -> 6.4 | E52: ='7= 15 EAU brute s20'!E55:M55 -> 10.1 | F52: ='7= 15 EAU brute s20'!F55:N55 -> 3.4 | G52: ='7= 15 EAU brute s20'!G55:O55 -> 0 | H52: ='7= 15 EAU brute s20'!H55:P55 -> 416 | I52: ='7= 15 EAU brute s20'!I55:Q55 -> 6.1 | J52: ='7= 15 EAU brute s20'!J55:R55 -> 43.31 | K52: ='7= 15 EAU brute s20'!K55:S55 -> 291.2 | L52: ='7= 15 EAU brute s20'!L53 -> 0.45
A53: 42977 | C53: 0 | E53: 5 | F53: 5 | G53: ='7= 15 EAU brute s20'!G56:O56 -> 0 | I53: ='7= 15 EAU brute s20'!I56:Q56 -> 8 | J53: 49 | L53: ='7= 15 EAU brute s20'!L54 -> 1.37
C54: 0 | D54: ='7= 15 EAU brute s20'!D57 -> 6.58 | E54: ='7= 15 EAU brute s20'!E57:M57 -> 16.9 | F54: ='7= 15 EAU brute s20'!F57:N57 -> 11.5 | G54: ='7= 15 EAU brute s20'!G57:O57 -> 0 | H54: ='7= 15 EAU brute s20'!H57:P57 -> 430 | I54: ='7= 15 EAU brute s20'!I57:Q57 -> 4.7 | J54: ='7= 15 EAU brute s20'!J57:R57 -> 33.37 | K54: ='7= 15 EAU brute s20'!K57:S57 -> 301 | L54: ='7= 15 EAU brute s20'!L55 -> 0.27
C55: 0 | D55: ='7= 15 EAU brute s20'!D58 -> 7.71 | E55: ='7= 15 EAU brute s20'!E58:M58 -> 18.8 | F55: ='7= 15 EAU brute s20'!F58:N58 -> 13.8 | G55: ='7= 15 EAU brute s20'!G58:O58 -> 0 | H55: ='7= 15 EAU brute s20'!H58:P58 -> 472 | I55: ='7= 15 EAU brute s20'!I58:Q58 -> 5.9 | J55: ='7= 15 EAU brute s20'!J58:R58 -> 41.89 | K55: ='7= 15 EAU brute s20'!K58:S58 -> 330.4 | L55: ='7= 15 EAU brute s20'!L56 -> 0.24
C56: 0 | D56: ='7= 15 EAU brute s20'!D59 -> 0 | E56: ='7= 15 EAU brute s20'!E59:M59 -> 5 | F56: ='7= 15 EAU brute s20'!F59:N59 -> 5 | G56: ='7= 15 EAU brute s20'!G59:O59 -> 0 | H56: ='7= 15 EAU brute s20'!H59:P59 -> 0 | I56: ='7= 15 EAU brute s20'!I59:Q59 -> 0 | J56: ='7= 15 EAU brute s20'!J59:R59 -> 49 | K56: ='7= 15 EAU brute s20'!K59:S59 -> 0 | L56: ='7= 15 EAU brute s20'!L57 -> 0.28
A57: 42979 | C57: 0 | D57: ='7= 15 EAU brute s20'!D60 -> 7.9 | E57: ='7= 15 EAU brute s20'!E60:M60 -> 12 | F57: ='7= 15 EAU brute s20'!F60:N60 -> 8.9 | G57: ='7= 15 EAU brute s20'!G60:O60 -> 0 | H57: ='7= 15 EAU brute s20'!H60:P60 -> 381 | I57: ='7= 15 EAU brute s20'!I60:Q60 -> 9.37 | J57: ='7= 15 EAU brute s20'!J60:R60 -> 66.527 | K57: ='7= 15 EAU brute s20'!K60:S60 -> 266.7 | L57: ='7= 15 EAU brute s20'!L58 -> 2.61
C58: 0 | D58: ='7= 15 EAU brute s20'!D61 -> 8 | E58: ='7= 15 EAU brute s20'!E61:M61 -> 12 | F58: ='7= 15 EAU brute s20'!F61:N61 -> 8 | G58: ='7= 15 EAU brute s20'!G61:O61 -> 0 | H58: ='7= 15 EAU brute s20'!H61:P61 -> 387 | I58: ='7= 15 EAU brute s20'!I61:Q61 -> 6.79 | J58: ='7= 15 EAU brute s20'!J61:R61 -> 48.209 | K58: ='7= 15 EAU brute s20'!K61:S61 -> 270.9 | L58: ='7= 15 EAU brute s20'!L59 -> 0
C59: 0 | D59: ='7= 15 EAU brute s20'!D59 -> 0 | E59: ='7= 15 EAU brute s20'!E59 -> 5 | F59: ='7= 15 EAU brute s20'!F59 -> 5 | G59: ='7= 15 EAU brute s20'!G59 -> 0 | H59: ='7= 15 EAU brute s20'!H59 -> 0 | I59: ='7= 15 EAU brute s20'!I59 -> 0 | J59: ='7= 15 EAU brute s20'!J59 -> 49 | L59: ='7= 15 EAU brute s20'!L60 -> 0.45
A60: ='7= 15 EAU brute s20'!A60 -> 42979 | C60: 0 | D60: ='7= 15 EAU brute s20'!D60 -> 7.9 | E60: ='7= 15 EAU brute s20'!E60 -> 12 | F60: ='7= 15 EAU brute s20'!F60 -> 8.9 | G60: ='7= 15 EAU brute s20'!G60 -> 0 | H60: ='7= 15 EAU brute s20'!H60 -> 381 | I60: ='7= 15 EAU brute s20'!I60 -> 9.37 | J60: ='7= 15 EAU brute s20'!J60 -> 66.527 | K60: ='7= 15 EAU brute s20'!K60 -> 266.7 | L60: ='7= 15 EAU brute s20'!L61 -> 1.07
A61: ='7= 15 EAU brute s20'!A61 -> 42982 | C61: 0 | D61: ='7= 15 EAU brute s20'!D61 -> 8 | E61: ='7= 15 EAU brute s20'!E61 -> 12 | F61: ='7= 15 EAU brute s20'!F61 -> 8 | G61: ='7= 15 EAU brute s20'!G61 -> 0 | H61: ='7= 15 EAU brute s20'!H61 -> 387 | I61: ='7= 15 EAU brute s20'!I61 -> 6.79 | J61: ='7= 15 EAU brute s20'!J61 -> 48.209 | K61: ='7= 15 EAU brute s20'!K61 -> 270.9 | L61: ='7= 15 EAU brute s20'!L62 -> 0.07
A62: ='7= 15 EAU brute s20'!A62 -> 42984 | C62: 0 | D62: ='7= 15 EAU brute s20'!D62 -> 8.3 | E62: ='7= 15 EAU brute s20'!E62 -> 11 | F62: ='7= 15 EAU brute s20'!F62 -> 9.5 | G62: ='7= 15 EAU brute s20'!G62 -> 0 | H62: ='7= 15 EAU brute s20'!H62 -> 410 | I62: ='7= 15 EAU brute s20'!I62 -> 9.5 | J62: ='7= 15 EAU brute s20'!J62 -> 67.45 | K62: ='7= 15 EAU brute s20'!K62 -> 287 | L62: ='7= 15 EAU brute s20'!L63 -> 0.4
A63: ='7= 15 EAU brute s20'!A63 -> 42986 | C63: 0 | D63: ='7= 15 EAU brute s20'!D63 -> 7.9 | E63: ='7= 15 EAU brute s20'!E63 -> 11.8 | F63: ='7= 15 EAU brute s20'!F63 -> 7.4 | G63: ='7= 15 EAU brute s20'!G63 -> 0 | H63: ='7= 15 EAU brute s20'!H63 -> 383 | I63: ='7= 15 EAU brute s20'!I63 -> 7 | J63: ='7= 15 EAU brute s20'!J63 -> 49.7 | K63: ='7= 15 EAU brute s20'!K63 -> 268.1 | L63: ='7= 15 EAU brute s20'!L64 -> 0.42
A64: ='7= 15 EAU brute s20'!A64 -> 42989 | C64: 0 | D64: ='7= 15 EAU brute s20'!D64 -> 7.8 | E64: ='7= 15 EAU brute s20'!E64 -> 11.9 | F64: ='7= 15 EAU brute s20'!F64 -> 8.2 | G64: ='7= 15 EAU brute s20'!G64 -> 0 | H64: ='7= 15 EAU brute s20'!H64 -> 386 | I64: ='7= 15 EAU brute s20'!I64 -> 6.8 | J64: ='7= 15 EAU brute s20'!J64 -> 48.28 | K64: ='7= 15 EAU brute s20'!K64 -> 270.2 | L64: ='7= 15 EAU brute s20'!L65 -> 0.41
A65: ='7= 15 EAU brute s20'!A65 -> 42991 | C65: 0 | D65: ='7= 15 EAU brute s20'!D65 -> 7.6 | E65: ='7= 15 EAU brute s20'!E65 -> 13 | F65: ='7= 15 EAU brute s20'!F65 -> 8 | G65: ='7= 15 EAU brute s20'!G65 -> 0 | H65: ='7= 15 EAU brute s20'!H65 -> 388 | I65: ='7= 15 EAU brute s20'!I65 -> 5.89 | J65: ='7= 15 EAU brute s20'!J65 -> 41.819 | K65: ='7= 15 EAU brute s20'!K65 -> 271.6 | L65: ='7= 15 EAU brute s20'!L66 -> 0.3
A66: ='7= 15 EAU brute s20'!A66 -> 42993 | C66: 0 | D66: ='7= 15 EAU brute s20'!D66 -> 7.4 | E66: ='7= 15 EAU brute s20'!E66 -> 12 | F66: ='7= 15 EAU brute s20'!F66 -> 7 | G66: ='7= 15 EAU brute s20'!G66 -> 0 | H66: ='7= 15 EAU brute s20'!H66 -> 359 | I66: ='7= 15 EAU brute s20'!I66 -> 6.1 | J66: ='7= 15 EAU brute s20'!J66 -> 43.31 | K66: ='7= 15 EAU brute s20'!K66 -> 251.3 | L66: ='7= 15 EAU brute s20'!L67 -> 2.22 | M66: attention au fer
A67: ='7= 15 EAU brute s20'!A67 -> 42996 | C67: 0 | D67: ='7= 15 EAU brute s20'!D67 -> 9.2 | E67: ='7= 15 EAU brute s20'!E67 -> 12 | F67: ='7= 15 EAU brute s20'!F67 -> 3.5 | G67: ='7= 15 EAU brute s20'!G67 -> 0 | H67: ='7= 15 EAU brute s20'!H67 -> 377 | I67: ='7= 15 EAU brute s20'!I67 -> 6.5 | J67: ='7= 15 EAU brute s20'!J67 -> 46.15 | K67: ='7= 15 EAU brute s20'!K67 -> 263.9 | L67: ='7= 15 EAU brute s20'!L68 -> 0.26
A68: ='7= 15 EAU brute s20'!A68 -> 42998 | C68: 0 | D68: ='7= 15 EAU brute s20'!D68 -> 7.62 | E68: ='7= 15 EAU brute s20'!E68 -> 17 | F68: ='7= 15 EAU brute s20'!F68 -> 8.1 | G68: ='7= 15 EAU brute s20'!G68 -> 0 | H68: ='7= 15 EAU brute s20'!H68 -> 383 | I68: ='7= 15 EAU brute s20'!I68 -> 6.32 | J68: ='7= 15 EAU brute s20'!J68 -> 44.872 | K68: ='7= 15 EAU brute s20'!K68 -> 268.1
A69: ='7= 15 EAU brute s20'!A69 -> 43003 | C69: 0 | D69: ='7= 15 EAU brute s20'!D69 -> 7.85 | E69: ='7= 15 EAU brute s20'!E69 -> 12 | F69: ='7= 15 EAU brute s20'!F69 -> 8 | G69: ='7= 15 EAU brute s20'!G69 -> 0 | H69: ='7= 15 EAU brute s20'!H69 -> 391 | I69: ='7= 15 EAU brute s20'!I69 -> 6.54 | J69: ='7= 15 EAU brute s20'!J69 -> 46.434 | K69: ='7= 15 EAU brute s20'!K69 -> 273.7
A70: ='7= 15 EAU brute s20'!A70 -> 43005 | C70: 1 | D70: ='7= 15 EAU brute s20'!D70 -> 7.7 | E70: ='7= 15 EAU brute s20'!E70 -> 11.8 | F70: ='7= 15 EAU brute s20'!F70 -> 7 | G70: ='7= 15 EAU brute s20'!G70 -> 0 | H70: ='7= 15 EAU brute s20'!H70 -> 342 | I70: ='7= 15 EAU brute s20'!I70 -> 6.31 | J70: ='7= 15 EAU brute s20'!J70 -> 44.801 | K70: ='7= 15 EAU brute s20'!K70 -> 239.4
A71: ='7= 15 EAU brute s20'!A71 | C71: 2
C72: 0
C73: 0
C74: 0
C75: 0
C76: 0
C77: 0
C78: 0
C79: 0
C80: 0
C81: 0
C82: 0
C83: 0
... C476: 302

Sheet 16 EA SAT 10
D1: 2017 | H1: Dupont Nemours
H2: EA sat 10
A3: EAU ADOUCIE | M3: 1x/mois
A4: VOLUME EN M3 | B4: COMPTEUR | C4: CONSO | D4: Paramètres physico-chimiques | J4: SALINITE | K4: SILICE | L4: METAUX | N4: Observations & actions correctives
D5: pH | E5: TH | F5: TAC | G5: TA | H5: Conductivité | I5: Cl- | K5: SiO2 | L5: Fer | M5: Cu
E6: Circuit | F6: Circuit | L6: mg/l | M6: mg/l
E7: °f | F7: °f | G7: °f | H7: µs/cm | I7: °f | J7: mg/l | K7: mg/l
C8: m3 | E8: <0,05 | L8: < 0,3 mg/l | M8: < 0,05mg/l
A9: DATE | D9: norme afnor | E9: norme afnor | G9: NORME STI | L9: norme afnor | M9: norme afnor
A10: 42797 | C10: 0 | D10: 7.7 | E10: 0 | F10: 3.2 | G10: 0 | H10: 332 | I10: 0 | J10: =H10*0.7 -> 232.4 | K10: 4.5 | L10: 0.34 | N10: thomas
A11: 42811 | C11: 0 | D11: 7.34 | E11: 0 | F11: 6.4 | G11: 0 | H11: 346 | I11: 0 | J11: =H11*0.7 -> 242.2 | L11: 0.15
A12: 42814 | C12: 0 | D12: 7.3 | E12: 0 | F12: 6.4 | G12: 0 | H12: 349 | I12: 6.3 | J12: =H12*0.7 -> 244.3 | L12: 0.1
A13: 42817 | C13: 0 | D13: 7.33 | E13: 0 | F13: 5 | G13: 0 | H13: 345 | I13: 5.8 | J13: =H13*0.7 -> 241.5 | K13: 13.5 | L13: 0.29
A14: 42818 | C14: 0 | D14: 7.6 | E14: 0 | F14: 6.2 | G14: 0 | H14: 351 | I14: 6.35 | J14: =H14*0.7 -> 245.7 | K14: 12.4 | L14: 1.49
A15: 42821 | C15: 0 | D15: 7.6 | E15: 0 | F15: 6.6 | G15: 0 | H15: 470 | I15: 6.3 | J15: =H15*0.7 -> 329
A16: 42823 | C16: 0 | D16: 7.2 | E16: 0 | F16: 6 | G16: 0 | H16: 346 | I16: 5.59 | J16: =H16*0.7 -> 242.2
A17: 42825 | C17: 0 | D17: 7.2 | E17: 0 | F17: 5.9 | G17: 0 | H17: 350 | I17: 5.77 | J17: =H17*0.7 -> 245
A18: 42828 | C18: 0 | D18: 7.6 | E18: 0 | F18: 6.3 | G18: 0 | H18: 343 | I18: 8.48 | J18: =H18*0.7 -> 240.1
A19: ='1 EAU BRUTE DE VILLE'!A19 -> 43560 | C19: 0 | D19: 7.3 | E19: 0 | F19: 6.1 | G19: 0 | H19: 343 | I19: 8.1 | J19: =H19*0.7 -> 240.1
A20: 42832 | C20: 0 | E20: 0 | F20: 5 | G20: 0 | J20: 42.6
A21: 42837 | C21: 0 | E21: 0 | F21: 5 | G21: 0 | J21: 47
A22: 42844 | C22: 0 | E22: 0 | F22: 7 | G22: 0 | J22: 44
A23: 42849 | C23: 0 | E23: 0 | F23: 6 | G23: 0 | J23: 53
A24: 42851 | C24: 0 | E24: 0 | F24: 7 | G24: 0 | J24: 42
A25: 42853 | C25: 0 | E25: 0 | F25: 7 | G25: 0 | J25: 53.96
A26: 42856 | C26: 0 | E26: 0 | F26: 5 | G26: 0 | J26: 40
A27: 42858 | C27: 0 | E27: 0 | F27: 7 | G27: 0 | J27: 92.3
A28: 42860 | C28: 0 | E28: 0 | F28: 5 | G28: 0 | J28: 49.7
A29: 42863 | C29: 0 | E29: 0 | F29: 6 | G29: 0 | J29: 42.5
A30: 42865 | C30: 0 | E30: 0 | F30: 6 | G30: 0 | J30: 42.6
A31: 42867 | C31: 0 | E31: 0 | F31: 6 | G31: 0 | J31: 35.5
... A43: 42902 | C43: 0 | E43: 0 | F43: 8 | G43: 0 | J43: 71
C44: 0
A45: 42905 | C45: 0 | D45: 7.5 | E45: 0 | F45: 6.8 | G45: 0 | H45: 365 | I45: 7.02 | J45: =H45*0.7 -> 255.5 | K45: 8.4 | L45: 0.43
A46: 42907 | C46: 0 | D46: 7.59 | E46: 0 | F46: 6.9 | G46: 0 | H46: 376 | I46: 6.76 | J46: =H46*0.7 -> 263.2 | K46: 10.5 | L46: 0.24
A47: 42909 | C47: 0 | D47: 8.25 | E47: 0 | F47: 7.8 | G47: 0 | H47: 357 | I47: 7.7 | J47: =H47*0.7 -> 249.9 | K47: 11.8 | L47: 0.05
A48: 42912 | C48: 0 | D48: 7.5 | E48: 0 | F48: 6.7 | G48: 0 | H48: 392 | I48: 6.24 | J48: =H48*0.7 -> 274.4 | K48: 9 | L48: 0.01
A49: 42914 | C49: 0 | D49: 6.7 | E49: 0 | F49: 11.6 | G49: 0 | H49: 335 | I49: 7.2 | J49: =H49*0.7 -> 234.5 | K49: 13.9 | L49: 0.1
A50: 42916 | C50: 0 | D50: 6.9 | E50: 0 | F50: 10.1 | G50: 0 | H50: 428 | I50: 5.95 | J50: =H50*0.7 -> 299.6 | L50: 0.28
A51: 42919 | C51: 0 | D51: 6.7 | E51: 0 | F51: 11.8 | G51: 0 | H51: 491 | I51: 5.99 | J51: =H51*0.7 -> 343.7
A52: 42921 | C52: 0 | D52: 6.9 | E52: 0 | F52: 10.4 | G52: 0 | H52: 494 | I52: 5.89 | J52: =H52*0.7 -> 345.8 | K52: 11.9 | L52: 0.29
A53: 42977 | C53: 0 | E53: 0 | F53: 7 | G53: 0 | I53: 42 | J53: =H53*0.7 -> 0
A54: 42979 | C54: 0 | D54: 7.4 | E54: 0 | F54: 6.8 | G54: 0 | H54: 416 | I54: 9.2 | J54: =H54*0.7 -> 291.2 | K54: 12.8 | L54: 0.21
A55: 42982 | C55: 0 | D55: 7.8 | E55: 0 | F55: 7.7 | G55: 0 | H55: 396 | I55: 6.8 | J55: =H55*0.7 -> 277.2 | K55: 11.4 | L55: 0.09
A56: 42984 | C56: 0 | D56: 7.8 | E56: 0 | F56: 7.8 | G56: 0 | H56: 385 | I56: 9.5 | J56: =H56*0.7 -> 269.5 | K56: 10.6 | L56: 0.26
A57: 42986 | C57: 0 | D57: 7.1 | E57: 0 | F57: 5.9 | G57: 0 | H57: 401 | I57: 6.61 | J57: =H57*0.7 -> 280.7 | K57: 11.6 | L57: 0.4
A58: 42989 | C58: 0 | D58: 7.8 | E58: 0 | F58: 6.7 | G58: 0 | H58: 381 | I58: 6.4 | J58: =H58*0.7 -> 266.7 | K58: 11.1 | L58: 0.03
A59: 42991 | C59: 0 | D59: 8.3 | E59: 0 | F59: 7.9 | G59: 0 | H59: 470 | I59: 6.48 | J59: =H59*0.7 -> 329 | K59: 10.8 | L59: 0.03
A60: 42993 | C60: 0 | D60: 7.6 | E60: 0 | F60: 7.3 | G60: 0 | H60: 363 | I60: 7.8 | J60: =H60*0.7 -> 254.1 | K60: 10.8 | L60: 0.05
A61: 42997 | C61: 0 | D61: 7.7 | E61: 0 | F61: 8.3 | G61: 0 | H61: 399 | I61: 6.8 | J61: =H61*0.7 -> 279.3 | K61: 10.2 | L61: 0.04
A62: 42998 | C62: 0 | D62: 7.69 | E62: 2 | F62: 7.4 | G62: 0 | H62: 378 | I62: 6.55 | J62: =H62*0.7 -> 264.6 | K62: 11.3 | L62: 0.03
A63: 43003 | C63: 0 | D63: 7.75 | E63: 0.2 | F63: 7.2 | G63: 0 | H63: 392 | I63: 6.95 | J63: =H63*0.7 -> 274.4 | K63: 10.8 | L63: 0.06
A64: 43005 | C64: 0 | D64: 8.4 | E64: 0 | F64: 7.6 | G64: 0.1 | H64: 402 | I64: 6.98 | J64: =H64*0.7 -> 281.4 | K64: 16.8 | L64: 0.32
C65: 0
C66: 0
C67: 0
C68: 0
C69: 0
C70: 0
C71: 0
C72: 0
C73: 0
C74: 0
C75: 0
C76: 0
... C174: 0

Sheet 17 BÂCHE SAT 10
D1: 2017 | H1: Dupont Nemours
H2: BACHE SAT 10
A3: BÂCHE ALIM SUD
A4: VOLUME EN M3 | B4: COMPTEUR | C4: CONSO | D4: Paramètres physico-chimiques | K4: SALINITE | L4: Hydrex 1461 | M4: Observations & actions correctives | N4: 1350 melange amine phosphate et sulfite
D5: pH | E5: TH | F5: TAC | G5: TA | H5: Conductivité | I5: Cl | J5: Cl | L5: CORROSION ET DISPERTION
E6: Circuit | F6: Circuit | L6: lecture mg/l
E7: °f | F7: °f | G7: °f | I7: °f | J7: mg/l | K7: mg/l
A8: 20 | C8: m3 | D8: >9,2 | E8: <0,05 | G8: >0 | H8: µs/cm | L8: >0
A9: DATE | D9: norme afnor | E9: norme afnor | G9: NORME STI
A10: 42797 | C10: 0 | D10: 9 | E10: 0 | F10: 0.6 | G10: 0.3 | H10: 68 | I10: 4.5 | J10: =I10*7.1 -> 31.95 | K10: =H10*0.7 -> 47.6 | L10: 3
A11: 42811 | C11: 0 | D11: 10.29 | E11: 0 | F11: 20.7 | G11: 9.8 | H11: 790 | J11: =I11*7.1 -> 0 | K11: =H11*0.7 -> 553
A12: 42814 | C12: 0 | D12: 10.3 | E12: 0 | F12: 22.2 | G12: 10.9 | H12: 881 | I12: 14.2 | J12: =I12*7.1 -> 100.82 | K12: =H12*0.7 -> 616.7
A13: 42817 | C13: 0 | D13: 8.4 | E13: 0 | F13: 9 | G13: 0.1 | H13: 451 | I13: 6.5 | J13: =I13*7.1 -> 46.15 | K13: =H13*0.7 -> 315.7
A14: 42818 | C14: 0 | D14: 8.9 | E14: 0 | F14: 9.5 | G14: 0.9 | H14: 472 | I14: 6.35 | J14: =I14*7.1 -> 45.085 | K14: =H14*0.7 -> 330.4
A15: 42821 | C15: 0 | D15: 8.43 | E15: 0 | F15: 9 | G15: 0.1 | H15: 468 | I15: 5.9 | J15: =I15*7.1 -> 41.89 | K15: =H15*0.7 -> 327.6
A16: 42823 | C16: 0 | D16: 9.6 | E16: 0 | F16: 12.4 | G16: 4.2 | H16: 554 | I16: 2.25 | J16: =I16*7.1 -> 15.975 | K16: =H16*0.7 -> 387.8
A17: 42825 | C17: 0 | D17: 9.8 | E17: 0 | F17: 5.9 | G17: 2.2 | H17: 358 | I17: 5.77 | J17: =I17*7.1 -> 40.967 | K17: =H17*0.7 -> 250.6
A18: 42828 | C18: 0 | D18: 9.3 | E18: 0 | F18: 8.2 | G18: 2 | H18: 398 | I18: 7.5 | J18: =I18*7.1 -> 53.25 | K18: =H18*0.7 -> 278.6
A19: ='1 EAU BRUTE DE VILLE'!A19 -> 43560 | C19: 0 | D19: 9.95 | E19: 0 | F19: 14.3 | G19: 5.6 | H19: 616 | I19: 11.8 | J19: =I19*7.1 -> 83.78 | K19: =H19*0.7 -> 431.2
A20: 42832 | C20: 0 | D20: 10.36 | E20: 0 | F20: 10 | G20: 5 | H20: 621 | J20: 71 | K20: =H20*0.7 -> 434.7
A21: 42837 | C21: 0 | D21: 9.87 | E21: 0 | F21: 10 | G21: 5 | H21: 479 | J21: 63.9 | K21: =H21*0.7 -> 335.3
A22: 42844 | C22: 0 | D22: 10.5 | E22: 0 | F22: 12 | G22: 7 | H22: 563 | J22: 49 | K22: =H22*0.7 -> 394.1
A23: 42846 | C23: 0 | D23: 10.59 | E23: 0 | F23: 16 | G23: 6 | H23: 908 | J23: 81 | K23: =H23*0.7 -> 635.6
A24: 42849 | C24: 0 | D24: 10.7 | E24: 0 | F24: 25 | G24: 15 | H24: 665 | J24: 71 | K24: =H24*0.7 -> 465.5
A25: 42851 | C25: 0 | D25: 10.85 | E25: 0 | F25: 15 | G25: 10 | H25: 692 | J25: 71 | K25: =H25*0.7 -> 484.4
A26: 42853 | C26: 0 | D26: 10.4 | E26: 0 | F26: 13 | G26: 10 | H26: 769 | J26: 75.97 | K26: =H26*0.7 -> 538.3
A27: 42856 | C27: 0 | D27: 10.5 | E27: 0 | F27: 11 | G27: 5 | H27: 610 | J27: 56 | K27: =H27*0.7 -> 427
A28: 42858 | C28: 0 | D28: 10.06 | E28: 0 | F28: 0 | G28: 0 | H28: 597 | J28: 113.6 | K28: =H28*0.7 -> 417.9
A29: 42860 | C29: 0 | D29: 10.46 | E29: 0 | F29: 10 | G29: 5 | H29: 556 | J29: 70 | K29: =H29*0.7 -> 389.2
A30: 42863 | C30: 0 | D30: 10.65 | E30: 0 | F30: 13 | G30: 7 | H30: 730 | J30: 78.1 | K30: =H30*0.7 -> 511
A31: 42865 | C31: 0 | D31: 10.5 | E31: 0 | F31: 11 | G31: 6 | H31: 600 | J31: 71 | K31: =H31*0.7 -> 420
... A44: 42902 | C44: 0 | D44: 10.4 | E44: 0 | F44: 14 | G44: 11 | H44: 750 | J44: 73 | K44: =H44*0.7 -> 525
C45: 0 | K45: =H45*0.7 -> 0
A46: 42905 | C46: 0 | D46: 9.92 | E46: 0 | F46: 10.6 | G46: 4.5 | H46: 511 | I46: 7.11 | J46: =I46*7.1 -> 50.481 | K46: =H46*0.7 -> 357.7
A47: 42907 | C47: 0 | D47: 9.7 | E47: 0 | F47: 9.3 | G47: 3.2 | H47: 462 | I47: 6.76 | J47: =I47*7.1 -> 47.996 | K47: =H47*0.7 -> 323.4 | L47: 6.4 | M47: 2 fer augmenter injection hydrex 1350
A48: 42909 | C48: 0 | D48: 9.9 | E48: 0 | F48: 11.6 | G48: 4.6 | H48: 537 | I48: 7 | J48: =I48*7.1 -> 49.7 | K48: =H48*0.7 -> 375.9 | L48: 1.92
A49: 42912 | C49: 0 | D49: 9.55 | E49: 0 | F49: 9.4 | G49: 2.8 | H49: 455 | I49: 6.95 | J49: =I49*7.1 -> 49.345 | K49: =H49*0.7 -> 318.5 | L49: 3.8
A50: 42914 | C50: 0 | D50: 9.6 | E50: 0 | F50: 14.4 | G50: 10.4 | H50: 401 | I50: 5.96 | J50: =I50*7.1 -> 42.316 | K50: =H50*0.7 -> 280.7 | L50: 3.64
A51: 42916 | C51: 0 | D51: 9.6 | E51: 0 | F51: 12.3 | G51: 8.2 | H51: 462 | I51: 5.49 | J51: =I51*7.1 -> 38.979 | K51: =H51*0.7 -> 323.4 | L51: 4.27
A52: 42919 | C52: 0 | D52: 8.9 | E52: 0 | F52: 12.7 | G52: 3.1 | H52: 478 | I52: 5.3 | J52: =I52*7.1 -> 37.63 | K52: =H52*0.7 -> 334.6 | L52: 4
A53: 42921 | C53: 0 | D53: 9.11 | E53: 0 | F53: 12.8 | G53: 3.1 | H53: 506 | I53: 5.38 | J53: =I53*7.1 -> 38.198 | K53: =H53*0.7 -> 354.2 | L53: 3.65
A54: 42977 | C54: 0 | D54: 10 | E54: 0 | F54: 6 | G54: 1.4 | J54: 42 | K54: =H54*0.7 -> 0 | M54: analyse terrain
A55: 42979 | C55: 0 | D55: 10 | E55: 0 | F55: 10.7 | G55: 4.7 | H55: 502 | I55: 10.5 | J55: =I55*7.1 -> 74.55 | K55: =H55*0.7 -> 351.4 | L55: 1.62
A56: 42982 | C56: 0 | D56: 10.3 | E56: 0 | F56: 7.4 | G56: 4.1 | H56: 405 | I56: 4.3 | J56: =I56*7.1 -> 30.53 | K56: =H56*0.7 -> 283.5 | L56: 4.46
A57: 42984 | C57: 0 | D57: 10.4 | E57: 0 | F57: 7.7 | G57: 4.4 | H57: 434 | I57: 6.2 | J57: =I57*7.1 -> 44.02 | K57: =H57*0.7 -> 303.8 | L57: 4.39
A58: 42986 | C58: 0 | D58: 11.01 | E58: 0 | F58: 44.4 | G58: 27 | H58: 1704 | I58: 10.8 | J58: =I58*7.1 -> 76.68 | K58: =H58*0.7 -> 1192.8 | L58: 57.2 | M58: trop de 1461
A59: 42989 | C59: 0 | D59: 10 | E59: 0 | F59: 8.7 | G59: 4.3 | H59: 439 | I59: 6 | J59: =I59*7.1 -> 42.6 | K59: =H59*0.7 -> 307.3 | L59: 2.9
A60: 42991 | C60: 0 | D60: 10 | E60: 0 | F60: 9 | G60: 4.4 | H60: 472 | I60: 5.4 | J60: =I60*7.1 -> 38.34 | K60: =H60*0.7 -> 330.4 | L60: 1.69
A61: 42962 | C61: 0 | D61: 10.2 | E61: 0 | F61: 14.8 | G61: 7.7 | H61: 710 | I61: 7.4 | J61: =I61*7.1 -> 52.54 | K61: =H61*0.7 -> 497 | L61: 2.8
A62: 42996 | C62: 0 | D62: 10.5 | E62: 0 | F62: 30.2 | G62: 14.6 | H62: 1094 | I62: 10.9 | J62: =I62*7.1 -> 77.39 | K62: =H62*0.7 -> 765.8 | L62: 30
A63: 42998 | C63: 0 | D63: 10.02 | E63: 1 | F63: 10 | G63: 4.5 | H63: 474 | I63: 6.45 | J63: =I63*7.1 -> 45.795 | K63: =H63*0.7 -> 331.8 | L63: 3.91
A64: 43003 | C64: 0 | D64: 8.96 | E64: 0.2 | F64: 5.5 | G64: 0.9 | H64: 289 | I64: 3.84 | J64: =I64*7.1 -> 27.264 | K64: =H64*0.7 -> 202.3 | L64: 2.34
A65: 43005 | C65: 0 | D65: 9.83 | E65: 0 | F65: 5.8 | G65: 2.1 | H65: 305 | I65: 5.66 | J65: =I65*7.1 -> 40.186 | K65: =H65*0.7 -> 213.5 | L65: 0.78
C66: 0 | K66: =H66*0.7 -> 0
C67: 0 | K67: =H67*0.7 -> 0
C68: 0 | K68: =H68*0.7 -> 0
C69: 0 | K69: =H69*0.7 -> 0
C70: 0 | K70: =H70*0.7 -> 0
C71: 0 | K71: =H71*0.7 -> 0
C72: 0 | K72: =H72*0.7 -> 0
C73: 0 | K73: =H73*0.7 -> 0
C74: 0 | K74: =H74*0.7 -> 0
C75: 0 | K75: =H75*0.7 -> 0
C76: 0 | K76: =H76*0.7 -> 0
C77: 0 | K77: =H77*0.7 -> 0
... C174: 0 | K174: =H174*0.7 -> 0

Sheet 18 VAPO S10
A1: 2017
E2: VAPO S10
A3: EAU BRUTE UFFOLTZ | Q3: 1x/mois
A4: VOLUME EN M3 | B4: COMPTEUR | C4: CONSO | D4: Paramètres physico-chimiques | K4: SALINITE | L4: SILICE | M4: Hydrex1350 | N4: Hydrex 1908 | P4: METAUX | R4: purge | T4: Observations & actions correctives
D5: pH | E5: TH | F5: TAC | G5: TA | H5: Conductivité | I5: Cl | J5: Cl | L5: SiO2 | M5: orthophosphate | N5: sulfite | O5: SiO2/TAC | P5: Fer | Q5: Cu | R5: M3
E6: Circuit | F6: Circuit | M6: lecture mg/l | N6: lecture mg/l | P6: mg/l | Q6: mg/l
E7: °f | F7: °f | G7: °f | I7: °f | J7: mg/l | K7: mg/l | L7: mg/l
C8: m3 | D8: 10,5-12 | E8: =0 -> 0 | F8: 50-100 | G8: 5-75 | H8: inf 6000 | I8: <85 | J8: <600 | K8: inf 4200 | L8: <160 | M8: 10-30 mg/l | N8: 30-60mg/l | O8: inf 1,6 | P8: < 0,5 mg/l | Q8: < 0,5mg/l | R8: Demandé | S8: réalisé le
A9: DATE | D9: AFNOR | E9: AFNOR | G9: NORME STI | H9: a verif const | K9: a verif const | P9: AFNOR | Q9: AFNOR
A10: 42811 | C10: 0 | D10: 10.26 | E10: 0 | F10: 21.3 | G10: 10.2 | H10: 800 | I10: 2.26 | J10: 16.1 | K10: =H10*0.7 -> 560 | M10: 11.3 | O10: =L10/F10 -> 0
C11: 0 | K11: =H11*0.7 -> 0
A12: 42814 | C12: 0 | D12: 10.34 | E12: 0 | F12: 22.9 | G12: 10.8 | H12: 899 | I12: 13.8 | J12: =I12*7.1 -> 97.98 | K12: =H12*0.7 -> 629.3 | M12: 10.3
A13: 42817 | C13: 0 | D13: 9.54 | E13: 0 | F13: 9.8 | G13: 2.8 | H13: 565 | I13: 6.8 | J13: =I13*7.1 -> 48.28 | K13: =H13*0.7 -> 395.5 | L13: 19 | M13: 4.82 | O13: =L13/F13 -> 1.9387755 | P13: 0.41 | T13: augmenter les pompe H 1461 et H 1908
A14: 42818 | C14: 0 | D14: 10.78 | E14: 0 | F14: 12.6 | G14: 8.8 | H14: 754 | I14: 9 | J14: =I14*7.1 -> 63.9 | K14: =H14*0.7 -> 527.8 | L14: 16.8 | M14: 1.7 | O14: =L14/F14 -> 1.3333333 | P14: 0.68
A15: 42821 | C15: 0 | D15: 9.3 | E15: 0 | F15: 9.5 | G15: 2.6 | H15: 468 | I15: 6.46 | J15: =I15*7.1 -> 45.866 | K15: =H15*0.7 -> 327.6
A16: 42823 | C16: 0 | D16: 9.6 | E16: 0 | F16: 13.1 | G16: 4.2 | H16: 575 | I16: 6.28 | J16: =I16*7.1 -> 44.588 | K16: =H16*0.7 -> 402.5
A17: 42825 | C17: 0 | D17: 9.73 | E17: 0 | F17: 5.8 | G17: 2.1 | H17: 357 | I17: 5.98 | J17: =I17*7.1 -> 42.458 | K17: =H17*0.7 -> 249.9 | M17: 1.14 | N17: 10
A18: 42798 | C18: 0 | D18: 10.07 | E18: 0 | F18: 9.8 | G18: 4.9 | H18: 488 | I18: 2 | J18: =I18*7.1 -> 14.2 | K18: =H18*0.7 -> 341.6 | M18: 4.77
A19: ='1 EAU BRUTE DE VILLE'!A19 -> 43560 | C19: 0 | D19: 10.07 | E19: 0 | F19: 14.6 | G19: 6.2 | H19: 639 | I19: 16.5 | J19: =I19*7.1 -> 117.15 | K19: =H19*0.7 -> 447.3 | M19: 7.04 | N19: 60
A20: 42832 | C20: 0 | E20: 0 | F20: 12 | G20: 5 | J20: 72 | K20: =H20*0.7 -> 0 | M20: 10 | N20: 60
A21: 42837 | C21: 0 | E21: 0 | F21: 10 | G21: 5 | J21: 56.8 | K21: =H21*0.7 -> 0 | M21: 7 | N21: 10
A22: 42844 | C22: 0 | E22: 0 | F22: 12 | G22: 7 | J22: 60 | K22: =H22*0.7 -> 0 | M22: 15 | N22: 10
A23: 42846 | C23: 0 | E23: 0 | F23: 20 | G23: 10 | J23: 98 | K23: =H23*0.7 -> 0 | M23: 20 | N23: 40
A24: 42849 | C24: 0 | E24: 0 | F24: 24 | G24: 15 | J24: 80 | K24: =H24*0.7 -> 0 | M24: 20 | N24: 10
A25: 42851 | C25: 0 | E25: 0 | F25: 14 | G25: 10 | J25: 71 | K25: =H25*0.7 -> 0 | M25: 10 | N25: 40
A26: 42853 | C26: 0 | E26: 0 | F26: 17 | G26: 10 | J26: 68.87 | K26: =H26*0.7 -> 0 | M26: 8.2 | N26: 3
A27: 42856 | C27: 0 | E27: 0 | F27: 10 | G27: 5 | J27: 63 | K27: =H27*0.7 -> 0 | M27: 10 | N27: 20
A28: 42858 | C28: 0 | E28: 0 | F28: 0 | G28: 0 | J28: 85.2 | K28: =H28*0.7 -> 0 | M28: 0 | N28: 10
A29: 42860 | C29: 0 | E29: 0 | F29: 10 | G29: 7 | J29: 70 | K29: =H29*0.7 -> 0 | M29: 10 | N29: 10
A30: 42863 | C30: 0 | E30: 0 | F30: 12 | G30: 9 | J30: 78.5 | K30: =H30*0.7 -> 0 | M30: 10 | N30: 10
A31: 42865 | C31: 0 | E31: 0 | F31: 11 | G31: 5 | J31: 73 | K31: =H31*0.7 -> 0 | M31: 10 | N31: 25
... A44: 42902 | C44: 0 | E44: 0 | F44: 16 | G44: 12 | J44: 71 | K44: =H44*0.7 -> 0 | M44: 10 | N44: 40
C45: 0 | K45: =H45*0.7 -> 0
A46: 42905 | C46: 0 | D46: 10 | E46: 0 | F46: 10.6 | G46: 4.8 | H46: 532 | I46: 7.33 | J46: =I46*7.1 -> 52.043 | K46: =H46*0.7 -> 372.4 | L46: 9.2 | M46: 1.71 | O46: =L46/F46 -> 0.86792453
A47: 42907 | C47: 0 | D47: 9.63 | E47: 0 | F47: 9.3 | G47: 3.3 | H47: 492 | I47: 1.42 | J47: =I47*7.1 -> 10.082 | K47: =H47*0.7 -> 344.4 | L47: 11.3 | M47: 8.3 | N47: 7 | O47: =L47/F47 -> 1.2150538
A48: 42909 | C48: 0 | D48: 9.95 | E48: 0 | F48: 11.3 | G48: 4.8 | H48: 537 | I48: 2.21 | J48: =I48*7.1 -> 15.691 | K48: =H48*0.7 -> 375.9 | L48: 13.4 | M48: 1.89 | N48: 15 | O48: =L48/F48 -> 1.1858407 | P48: 0.56
A49: 42912 | C49: 0 | D49: 9.6 | E49: 0 | F49: 9.7 | G49: 2.7 | H49: 469 | I49: 6.98 | J49: =I49*7.1 -> 49.558 | K49: =H49*0.7 -> 328.3 | L49: 10.7 | M49: 4.73 | N49: 10 | O49: =L49/F49 -> 1.1030928
A50: 42914 | C50: 0 | D50: 9.7 | E50: 0 | F50: 13.2 | G50: 8.8 | H50: 412 | I50: 6.03 | J50: =I50*7.1 -> 42.813 | K50: =H50*0.7 -> 288.4 | L50: 13.6 | M50: 3.56 | O50: =L50/F50 -> 1.030303 | P50: 0.67
A51: 42946 | C51: 0 | D51: 9.86 | E51: 0 | F51: 12.5 | G51: 11 | H51: 487 | I51: 5.64 | J51: =I51*7.1 -> 40.044 | K51: =H51*0.7 -> 340.9 | L51: 11.9 | M51: 4.5 | O51: =L51/F51 -> 0.952 | P51: 3.72
A52: 42919 | C52: 0 | D52: 8.95 | E52: 0 | F52: 11.8 | G52: 3.3 | H52: 454 | I52: 5.43 | J52: =I52*7.1 -> 38.553 | K52: =H52*0.7 -> 317.8 | L52: 11.4 | M52: 3.69 | O52: =L52/F52 -> 0.96610169 | P52: 0.76
A53: 5/072017 | C53: 0 | D53: 9.16 | E53: 0 | F53: 12.5 | G53: 3.9 | H53: 506 | I53: 5.56 | J53: =I53*7.1 -> 39.476 | K53: =H53*0.7 -> 354.2 | L53: 17.3 | M53: 3.6 | O53: =L53/F53 -> 1.384
A54: 42977 | C54: 0 | E54: 0 | F54: 6 | G54: 3 | J54: 37 | K54: =H54*0.7 -> 0 | M54: 5 | N54: 0 | O54: =L54/F54 -> 0 | T54: analyse terrain
A55: 42979 | C55: 0 | D55: 9.9 | E55: 0 | F55: 10.4 | G55: 5.1 | H55: 564 | I55: 10.8 | J55: =I55*7.1 -> 76.68 | K55: =H55*0.7 -> 394.8 | L55: 13.8 | M55: 1.69 | N55: 0 | O55: =L55/F55 -> 1.3269231 | P55: 0.69
A56: 42982 | C56: 0 | D56: 10.4 | E56: 0 | F56: 7.7 | G56: 4.5 | H56: 439 | I56: 4.7 | J56: =I56*7.1 -> 33.37 | K56: =H56*0.7 -> 307.3 | L56: 18 | M56: 4.88 | O56: =L56/F56 -> 2.3376623 | P56: 0.61 | T56: attention sio2/tac un peu fort :ajoute 1350
A57: 42984 | C57: 0 | D57: 10.5 | E57: 0 | F57: 8.6 | G57: 5.4 | H57: 487 | I57: 6.8 | J57: =I57*7.1 -> 48.28 | K57: =H57*0.7 -> 340.9 | L57: 18.9 | M57: 4.83 | O57: =L57/F57 -> 2.1976744 | P57: 1.8
A58: 42986 | C58: 0 | D58: 11 | E58: 0 | F58: 45.9 | G58: 27.4 | H58: 1768 | I58: 11.9 | J58: =I58*7.1 -> 84.49 | K58: =H58*0.7 -> 1237.6 | L58: 17.3 | M58: 59 | O58: =L58/F58 -> 0.37690632 | P58: 0.58 | T58: trop de 1350
A59: 42989 | C59: 0 | D59: 10 | E59: 0 | F59: 8.9 | G59: 4.7 | H59: 454 | I59: 6.2 | J59: =I59*7.1 -> 44.02 | K59: =H59*0.7 -> 317.8 | L59: 14.6 | M59: 2.9 | N59: 0 | O59: =L59/F59 -> 1.6404494 | P59: 0.95 | T59: pompe hs
A60: 42991 | C60: 0 | D60: 10 | E60: 0 | F60: 9 | G60: 4.5 | H60: 478 | I60: 5.43 | J60: =I60*7.1 -> 38.553 | K60: =H60*0.7 -> 334.6 | L60: 17 | M60: 1.71 | N60: 0 | O60: =L60/F60 -> 1.8888889 | T60: ajout manuel pour les reactifs env 2 litres
A61: 42993 | C61: 0 | D61: 10.4 | E61: 0 | F61: 16.8 | G61: 9.8 | H61: 767 | I61: 7.8 | J61: =I61*7.1 -> 55.38 | K61: =H61*0.7 -> 536.9 | L61: 16.2 | M61: 2.8 | N61: 40 | O61: =L61/F61 -> 0.96428571 | P61: 0.82
A62: 42996 | C62: 0 | D62: 10.5 | E62: 0 | F62: 49 | G62: 23 | H62: 1535 | I62: 8.7 | J62: =I62*7.1 -> 61.77 | K62: =H62*0.7 -> 1074.5 | L62: 15.7 | M62: 50 | O62: =L62/F62 -> 0.32040816 | P62: 1.55 | T62: trop de fer purge
A63: 42998 | C63: 0 | D63: 10.8 | E63: 2 | F63: 10.8 | G63: 8.1 | H63: 638 | I63: 8.42 | J63: =I63*7.1 -> 59.782 | K63: =H63*0.7 -> 446.6 | L63: 30.1 | M63: 2.65 | N63: 0 | O63: =L63/F63 -> 2.787037 | P63: 1.2 | T63: pas de sulfite = corrosion
A64: 43003 | C64: 0 | D64: 8.7 | E64: 0.2 | F64: 5 | G64: 0.2 | H64: 284 | I64: 4.2 | J64: =I64*7.1 -> 29.82 | K64: =H64*0.7 -> 198.8 | L64: 23.8 | M64: 2.29 | O64: =L64/F64 -> 4.76 | P64: 2.67 | T64: continuer la purge, relever le ph , risque corrosion
A65: 43005 | C65: 0 | D65: 10.9 | E65: 0 | F65: 10.8 | G65: 7.6 | H65: 669 | I65: 11.08 | J65: =I65*7.1 -> 78.668 | K65: =H65*0.7 -> 468.3 | L65: 25.1 | M65: 1.08 | N65: 0 | O65: =L65/F65 -> 2.3240741 | P65: 1
C66: 0 | K66: =H66*0.7 -> 0
C67: 0 | K67: =H67*0.7 -> 0
C68: 0 | K68: =H68*0.7 -> 0
C69: 0 | K69: =H69*0.7 -> 0
C70: 0 | K70: =H70*0.7 -> 0
C71: 0 | K71: =H71*0.7 -> 0
C72: 0 | K72: =H72*0.7 -> 0
C73: 0 | K73: =H73*0.7 -> 0
C74: 0 | K74: =H74*0.7 -> 0
C75: 0 | K75: =H75*0.7 -> 0
C76: 0 | K76: =H76*0.7 -> 0
C77: 0 | K77: =H77*0.7 -> 0
... C174: 0 | K174: =H174*0.7 -> 0

Sheet circuit chauffage s10
A1: resultat thomas uniquement | D1: 2017
H2: circuits fermés de chauffage
A4: VOLUME EN M3 | B4: COMPTEUR | C4: CONSO | D4: Paramètres physico-chimiques | J4: SALINITE | K4: H2610 | P4: purge | R4: Observations & actions correctives
D5: pH | E5: TH | F5: TAC | G5: TA | H5: Conductivité | I5: Cl | N5: Fer | O5: Cu | P5: M3
E6: Circuit | F6: Circuit | K6: lecture MoO4 | L6: mg/l | M6: Volume ajouté | N6: mg/l | O6: mg/l
E7: °f | F7: °f | G7: °f | H7: µs/cm | I7: °f | J7: mg/l
A8: 6 | C8: m3 | D8: >9 | E8: = Appoint | F8: > Appoint | G8: > 5 | H8: > Appoint | I8: = Appoint | K8: > 80 | L8: > 1000 | N8: < 1 | O8: < 0,5 | P8: Demandé | Q8: réalisé le
A9: DATE | D9: norme STI | E9: norme STI | F9: norme STI | G9: norme STI | H9: norme STI | K9: 80 | M9: litre | N9: veolia | O9: veolia
A10: 42797 | C10: 0 | D10: 10.5 | E10: 3.8 | F10: 22.8 | G10: 7.8 | H10: 752 | I10: 8.5 | J10: =H10*0.7 -> 526.4 | K10: 119.5 | L10: =IF(K10="","",K10*100)/8.2 -> 1457.3171 | M10: =IF(L10="","",IF((1200-L10)*$A$8/(1290)<0,0,(1200-L10)*$A$8/(1290))) -> 0 | R10: thomas
A11: 42907 | C11: 0 | D11: 10.29 | E11: 0.1 | F11: 22.3 | G11: 6.2 | H11: 746 | I11: 0.2 | J11: =H11*0.7 -> 522.2 | K11: 120 | N11: 22.5
A12: 42909 | C12: 0 | J12: =H12*0.7 -> 0
C13: 0 | J13: =H13*0.7 -> 0
C14: 0 | J14: =H14*0.7 -> 0
C15: 0 | J15: =H15*0.7 -> 0
C16: 0 | J16: =H16*0.7 -> 0
C17: 0 | J17: =H17*0.7 -> 0
C18: 0 | J18: =H18*0.7 -> 0
C19: 0 | J19: =H19*0.7 -> 0
C20: 0 | J20: =H20*0.7 -> 0
C21: 0 | J21: =H21*0.7 -> 0
C22: 0 | J22: =H22*0.7 -> 0
C23: 0 | J23: =H23*0.7 -> 0
C24: 0 | J24: =H24*0.7 -> 0
... C174: 0 | J174: =H174*0.7 -> 0

Sheet chauffage s20
A1: resultat thomas uniquement | D1: 2017 | H1: Dupont Nemours S20
H2: circuits fermés de chauffage
A4: VOLUME EN M3 | B4: COMPTEUR | C4: CONSO | D4: Paramètres physico-chimiques | J4: SALINITE | K4: H2610 | P4: purge | R4: Observations & actions correctives
D5: pH | E5: TH | F5: TAC | G5: TA | H5: Conductivité | I5: Cl | N5: Fer | O5: Cu | P5: M3
E6: Circuit | F6: Circuit | K6: lecture MoO4 | L6: mg/l | M6: Volume ajouté | N6: mg/l | O6: mg/l
E7: °f | F7: °f | G7: °f | I7: °f | J7: mg/l
A8: 10 | C8: m3 | D8: >9 | E8: = Appoint | F8: > Appoint | G8: > 5 | H8: > Appoint | I8: = Appoint | K8: > 80 | L8: > 1000 | N8: < 1 | O8: < 0,5 | P8: Demandé | Q8: réalisé le
A9: DATE | B9: 881 | D9: norme STI | E9: norme STI | F9: norme STI | G9: norme STI | H9: norme STI | K9: 80 | M9: litre | N9: veolia | O9: veolia
A10: 39144 | C10: 0 | D10: 9.2 | E10: 3.8 | F10: 13.6 | G10: 3 | H10: 527 | I10: 10.1 | J10: =H10*0.7 -> 368.9 | K10: 70.5 | L10: =IF(K10="","",K10*100)/8.2 -> 859.7561 | M10: =IF(L10="","",IF((1200-L10)*$A$8/(1290)<0,0,(1200-L10)*$A$8/(1290))) -> 2.6375496 | N10: 13.25 | R10: thomas
A11: 42907 | C11: 0 | D11: 9.45 | E11: 0.1 | F11: 28.3 | G11: 3.7 | H11: 968 | I11: 12 | J11: =H11*0.7 -> 677.6 | K11: 108.5 | N11: 20
A12: 42909 | C12: 0 | J12: =H12*0.7 -> 0
C13: 0 | J13: =H13*0.7 -> 0
C14: 0 | J14: =H14*0.7 -> 0
C15: 0 | J15: =H15*0.7 -> 0
C16: 0 | J16: =H16*0.7 -> 0
C17: 0 | J17: =H17*0.7 -> 0
C18: 0 | J18: =H18*0.7 -> 0
C19: 0 | J19: =H19*0.7 -> 0
C20: 0 | J20: =H20*0.7 -> 0
C21: 0 | J21: =H21*0.7 -> 0
C22: 0 | J22: =H22*0.7 -> 0
C23: 0 | J23: =H23*0.7 -> 0
C24: 0 | J24: =H24*0.7 -> 0
... C168: 0 | J168: =H168*0.7 -> 0

Sheet chauffage bureaux
A1: resultat thomas uniquement | D1: 2017 | H1: Dupont Nemours
H2: Bureau
A4: VOLUME EN M3 | B4: COMPTEUR | C4: CONSO | D4: Paramètres physico-chimiques | J4: SALINITE | K4: H2610 | P4: purge | R4: Observations & actions correctives
D5: pH | E5: TH | F5: TAC | G5: TA | H5: Conductivité | I5: Cl | N5: Fer | O5: Cu | P5: M3
E6: Circuit | F6: Circuit | K6: lecture MoO4 | L6: mg/l | M6: Volume ajouté | N6: mg/l | O6: mg/l
E7: °f | F7: °f | G7: °f | I7: °f | J7: mg/l
A8: 5 | C8: m3 | D8: >9 | E8: = Appoint | F8: > Appoint | G8: > 5 | H8: > Appoint | I8: = Appoint | K8: > 80 | L8: > 1000 | N8: < 1 | O8: < 0,5 | P8: Demandé | Q8: réalisé le
A9: DATE | B9: 881 | D9: norme STI | E9: norme STI | F9: norme STI | G9: norme STI | H9: norme STI | K9: 80 | M9: litre | N9: veolia | O9: veolia
A10: 42807 | C10: 0 | D10: 10 | E10: 0 | F10: 41.6 | G10: 6.8 | H10: 1183 | J10: =H10*0.7 -> 828.1 | K10: 247.5 | L10: =IF(K10="","",K10*100)/8.2 -> 3018.2927 | M10: =IF(L10="","",IF((1200-L10)*$A$8/(1290)<0,0,(1200-L10)*$A$8/(1290))) -> 0 | N10: 47
C11: 0 | D11: 9.2 | E11: 0.1 | F11: 26.1 | G11: 3.2 | H11: 748 | J11: =H11*0.7 -> 523.6 | K11: 119 | N11: <50
C12: 0 | J12: =H12*0.7 -> 0
C13: 0 | J13: =H13*0.7 -> 0
C14: 0 | J14: =H14*0.7 -> 0
C15: 0 | J15: =H15*0.7 -> 0
C16: 0 | J16: =H16*0.7 -> 0
C17: 0 | J17: =H17*0.7 -> 0
C18: 0 | J18: =H18*0.7 -> 0
C19: 0 | J19: =H19*0.7 -> 0
C20: 0 | J20: =H20*0.7 -> 0
C21: 0 | J21: =H21*0.7 -> 0
C22: 0 | J22: =H22*0.7 -> 0
C23: 0 | J23: =H23*0.7 -> 0
... C174: 0 | J174: =H174*0.7 -> 0

Sheet feuille de paillasse
A1: eau brute
A3: pH | B3: TH | C3: TAC | D3: TA | E3: Conductivité | F3: Cl | I3: Fer
B4: Circuit | C4: Circuit | I4: mg/l
B5: °f | C5: °f | D5: °f | F5: °f | G5: mg/L | H5: mg/l

Sheet Feuil1
