Workbook

Sheet thomas
G4: RAPPORT DE VISITE
D7: Client : | E7: VIGS - DU PONT DE NEMOURS
D9: Site : | E9: Cernay (68)
C11: ANALYSE ET RELEVE DES CHAUFFERIES
A15: 1) RESULTATS ANALYTIQUES
C17: Circuits fermés de chauffage
A18: Echantillon | C18: Appoint Eau ville | D18: S10 | E18: S20 | F18: Bureaux | G18: Valeurs Guides | I18: HYDREX 2610= 6,6%molybdate
A19: Turbidité | C19: - | D19: Limpide | E19: Limpide | F19: Limpide | G19: Limpide
A20: Couleur | C20: - | D20: Jaunâtre | E20: Jaunâtre | F20: Orangée | G20: Incolore
A21: pH | C21: - | D21: 10.6 | E21: 9.4 | F21: 10.3 | G21: > 9
A22: Conduc. (µS/cm) | D22: 901 | E22: 490 | F22: 1327 | G22: > Appoint
A23: Salinité (mg/l) | C23: - | D23: 630.7 | E23: 343 | F23: 928.9 | G23: -
A24: TH (°f) | C24: - | D24: 0.8 | E24: 1.7 | F24: 0 | G24: = Appoint
A25: TA (°f) | C25: - | D25: 3.4 | E25: 1 | F25: 12 | G25: > 5°f
A26: TAC (°f) | C26: - | D26: 30 | E26: 10.5 | F26: 45 | G26: > Appoint
A27: Cl- (°f) | C27: - | D27: 3.8194444 | E27: 12.152778 | F27: 10.069444 | G27: =Appoint
A28: Molybdates (mg/L) | C28: - | D28: 136 | E28: 63.3 | F28: 286.5 | G28: > 80 mg/l
A29: H2610 (mg/l) | C29: - | D29: 1658.5366 | E29: 771.95122 | F29: 3493.9024 | G29: ~ 1000 ppm
A30: Choc H2610 (kg) | C30: - | D30: 0 | E30: 2.2804878 | F30: 0 | G30: -
A31: Volume circuit esti. (m3) | C31: - | D31: 6 | E31: 10 | F31: 5 | G31: -
A32: Fer (mg/l) | C32: - | D32: 6.1 | E32: 6.85 | F32: 26 | G32: < 1 mg/l
A33: Cu (mg/l) | C33: - | D33: 0.08 | E33: 0.02 | F33: 0 | G33: < 0,5 mg/l
C35: Chaudières NORD - Tubes d'eau 20 bars
A36: Echantillon | C36: Eau Brute Ville | D36: Eau Adoucie | E36: Bâche Alimentaire | F36: Valeurs Guides | G36: Chaudière 2 | H36: Chaudière 3 | I36: Valeurs Guides | J36: Condensât | K36: Valeurs Guides | L36: EAU BRUTE POUR LE FER CHLORURE | N36: Echantillon | O36: Turbidité | P36: Couleur | Q36: pH | R36: Conduc. (µS/cm) | S36: Salinité (mg/l) | T36: Rc (SiO2) | U36: % Retour Condensats | V36: TH (°f) | W36: TA (°f) | X36: TAC (°f) | Y36: Cl- (°f) | Z36: Phosphates (mg/L) | AA36: Sulfites (mg/l) | AB36: SiO2 (mg/l) | AC36: SiO2 / TAC | AD36: Fer (mg/l) | AE36: Cu (mg/l)
A37: Turbidité | C37: Limpide | D37: Limpide | E37: Limpide | F37: Limpide | G37: Limpide | H37: Limpide | I37: Limpide | J37: Limpide | K37: Limpide
A38: Couleur | C38: Incolore | D38: Incolore | E38: Incolore | F38: Incolore | G38: Orangée | H38: Incolore | I38: Incolore | J38: Incolore | K38: Incolore | N38: Eau Brute Ville | O38: Limpide | P38: Incolore | Q38: 7.1 | R38: 512 | S38: 358.4 | T38: - | U38: - | V38: 15.4 | W38: 0 | X38: 5.7 | Y38: 13.194444 | Z38: - | AA38: - | AB38: - | AC38: - | AD38: 0.13 | AE38: -
A39: pH | C39: 7.1 | D39: 7.3 | E39: 8.9 | F39: > 9,2 | G39: 11.5 | H39: 11.7 | I39: 10,5 - 12 | J39: 9.6 | K39: > 8,7 | N39: Eau Adoucie | O39: Limpide | P39: Incolore | Q39: 7.3 | R39: 514 | S39: 359.8 | T39: - | U39: - | V39: 0 | W39: 0 | X39: 5.8 | Y39: 13.541667 | Z39: - | AA39: - | AB39: 15.5 | AC39: - | AD39: 0.25 | AE39: -
A40: Conduc. (µS/cm) | C40: 512 | D40: 514 | E40: 47.7 | F40: - | G40: 2442 | H40: 3900 | I40: < 6000 µS/cm | J40: 21.3 | K40: < 50 µS/cm | N40: Bâche Alimentaire | O40: Limpide | P40: Incolore | Q40: 8.9 | R40: 47.7 | S40: 33.39 | T40: - | U40: 0.92258065 | V40: 0.1 | W40: 0.5 | X40: 1.5 | Y40: 2.7777778 | Z40: 0.5 | AA40: 8 | AB40: 1.2 | AC40: - | AD40: 0.11 | AE40: 0
A41: Salinité (mg/l) | C41: 358.4 | D41: 359.8 | E41: 33.39 | F41: - | G41: 1709.4 | H41: 2730 | I41: < 4200 mg/l | J41: 14.91 | K41: < 35 mg/l | N41: Valeurs Guides | O41: Limpide | P41: Incolore | Q41: > 9,2 | R41: - | S41: - | T41: - | U41: sur SiO2 | V41: < 0,1°f | W41: > 0°f | X41: - | Y41: - | Z41: > 0 mg/l | AA41: - | AB41: - | AC41: - | AD41: < 0,05 mg/l | AE41: < 0,02 mg/l
A42: Rc (SiO2) | C42: - | D42: - | E42: - | F42: - | G42: 3.5483871 | H42: 12.916667 | I42: - | J42: - | K42: - | N42: Chaudière 2 | O42: Limpide | P42: Orangée | Q42: 11.5 | R42: 2442 | S42: 1709.4 | T42: 3.5483871 | U42: - | V42: 0.9 | W42: 14 | X42: 21 | Y42: 48.611111 | Z42: 6.8 | AA42: 5 | AB42: 55 | AC42: 2.6190476 | AD42: 0.19 | AE42: 0
A43: % Retour Condensats | C43: - | D43: - | E43: 0.92258065 | F43: sur SiO2 | G43: - | H43: - | I43: - | J43: - | K43: - | N43: Chaudière 3 | O43: Limpide | P43: Incolore | Q43: 11.7 | R43: 3900 | S43: 2730 | T43: 12.916667 | U43: - | V43: 0.2 | W43: 19.8 | X43: 34.2 | Y43: 77.430556 | Z43: 26.4 | AA43: 18 | AB43: 65.8 | AC43: 1.9239766 | AD43: 0.15 | AE43: 0.16
A44: TH (°f) | C44: 15.4 | D44: 0 | E44: 0.1 | F44: < 0,1°f | G44: 0.9 | H44: 0.2 | I44: 0°f | J44: 0 | K44: 0°f | N44: Valeurs Guides | O44: Limpide | P44: Incolore | Q44: 10,5 - 12 | R44: < 6000 µS/cm | S44: < 4200 mg/l | T44: - | U44: - | V44: 0°f | W44: 5 - 75°f | X44: < 100°f | Y44: < 85°f | Z44: 10 à 20 mg/l | AA44: 30 à 60 mg/l | AB44: < 160 mg/l | AC44: < 1,6 | AD44: <0,5 mg/l | AE44: <0,5 mg/l
A45: TA (°f) | C45: 0 | D45: 0 | E45: 0.5 | F45: > 0°f | G45: 14 | H45: 19.8 | I45: 5 - 75°f | J45: 0.5 | K45: - | N45: Condensât | O45: Limpide | P45: Incolore | Q45: 9.6 | R45: 21.3 | S45: 14.91 | T45: - | U45: - | V45: 0 | W45: 0.5 | X45: 1 | Y45: - | Z45: - | AA45: - | AB45: - | AC45: - | AD45: 0.04 | AE45: 0.09
A46: TAC (°f) | C46: 5.7 | D46: 5.8 | E46: 1.5 | F46: - | G46: 21 | H46: 34.2 | I46: < 100°f | J46: 1 | K46: - | N46: Valeurs Guides | O46: Limpide | P46: Incolore | Q46: > 8,7 | R46: < 50 µS/cm | S46: < 35 mg/l | T46: - | U46: - | V46: 0°f | W46: - | X46: - | Y46: - | Z46: - | AA46: - | AB46: - | AC46: - | AD46: < 0,5 mg/l | AE46: < 0,5 mg/l
A47: Cl- (°f) | C47: 13.194444 | D47: 13.541667 | E47: 2.7777778 | F47: - | G47: 48.611111 | H47: 77.430556 | I47: < 85°f | J47: - | K47: -
A48: Phosphates (mg/L) | C48: - | D48: - | E48: 0.5 | F48: > 0 mg/l | G48: 6.8 | H48: 26.4 | I48: 10 à 20 mg/l | J48: - | K48: -
A49: Sulfites (mg/l) | C49: - | D49: - | E49: 8 | F49: - | G49: 5 | H49: 18 | I49: 30 à 60 mg/l | J49: - | K49: -
A50: SiO2 (mg/l) | C50: - | D50: 15.5 | E50: 1.2 | F50: - | G50: 55 | H50: 65.8 | I50: < 160 mg/l | J50: - | K50: -
A51: SiO2 / TAC | C51: - | D51: - | E51: - | F51: - | G51: 2.6190476 | H51: 1.9239766 | I51: < 1,6 | J51: - | K51: -
A52: Fer (mg/l) | C52: 0.13 | D52: 0.25 | E52: 0.11 | F52: < 0,05 mg/l | G52: 0.19 | H52: 0.15 | I52: <0,5 mg/l | J52: 0.04 | K52: < 0,5 mg/l
...

Sheet 1 EAU BRUTE DE VILLE
D1: 2017
H2: EAU BRUTE
A4: VOLUME EN M3 | B4: COMPTEUR | C4: CONSO | D4: Paramètres physico-chimiques | K4: SALINITE
D5: pH | E5: TH | F5: TAC | G5: TA | H5: Conductivité | I5: Cl | L5: Fer
E6: Circuit | F6: Circuit | L6: mg/l
E7: °f | F7: °f | G7: °f | I7: °f | J7: mg/L | K7: mg/l
A8: 6 | C8: m3
A9: DATE | D9: AFNOR | E9: AFNOR | G9: NORME STI | H9: <50µs/cm | L9: AFNOR
A10: 42807 | C10: 0 | D10: 7.4 | E10: 9.6 | F10: 6.4 | G10: 0 | H10: 504 | I10: 10.7 | J10: 39 | K10: =H10*0.7 -> 352.8 | L10: 0.1 | M10: thomas
A11: 42809 | C11: 0 | D11: 7.3 | E11: 15.5 | F11: 6.7 | G11: 0 | H11: 343 | I11: 5.49 | J11: =I11*7.1 -> 38.979 | K11: =H11*0.7 -> 240.1 | L11: 0.1
A12: 42814 | C12: 0 | D12: 7.4 | E12: 16.2 | F12: 5.5 | G12: 0 | H12: 526 | I12: 10.8 | J12: =I12*7.1 -> 76.68 | K12: =H12*0.7 -> 368.2 | L12: 0.12
A13: 42816 | C13: 0 | D13: 7.3 | E13: 16 | F13: 5.1 | G13: 0 | H13: 523 | I13: 11.1 | J13: =I13*7.1 -> 78.81 | K13: =H13*0.7 -> 366.1 | L13: 0.1
A14: 42818 | C14: 0 | D14: 7.4 | E14: 15.9 | F14: 5.6 | G14: 0 | H14: 524 | I14: 10.4 | J14: =I14*7.1 -> 73.84 | K14: =H14*0.7 -> 366.8 | L14: 0.36
A15: 42821 | C15: 0 | D15: 7.4 | E15: 15.7 | F15: 5.6 | G15: 0 | H15: 517 | I15: 10.56 | J15: 75 | K15: =H15*0.7 -> 361.9
A16: 42823 | C16: 0 | D16: 7.2 | E16: 16.3 | F16: 5.7 | G16: 0 | H16: 526 | I16: 10.7 | J16: =I16*7.1 -> 75.97 | K16: =H16*0.7 -> 368.2
A17: 42825 | C17: 0 | D17: 7.2 | E17: 15.6 | F17: 5.8 | G17: 0 | H17: 522 | I17: 10.5 | J17: =I17*7.1 -> 74.55 | K17: =H17*0.7 -> 365.4
A18: 42828 | C18: 0 | D18: 7.2 | E18: 15.7 | F18: 5.7 | G18: 0 | H18: 515 | I18: 11.15 | J18: =I18*7.1 -> 79.165 | K18: =H18*0.7 -> 360.5
A19: 43560 | C19: 0 | D19: 7.3 | E19: 15.3 | F19: 4.9 | G19: 0 | H19: 512 | I19: 15.2 | J19: =I19*7.1 -> 107.92 | K19: =H19*0.7 -> 358.4
A20: 42832 | C20: 0 | E20: 10 | F20: 5 | G20: 0 | J20: 85 | K20: =H20*0.7 -> 0
A21: 42835 | C21: 0 | E21: 20 | F21: 5.3 | G21: 0 | J21: 80 | K21: =H21*0.7 -> 0
A22: 42837 | C22: 0 | E22: 15 | F22: 5 | G22: 0 | J22: 71 | K22: =H22*0.7 -> 0
A23: 42839 | C23: 0 | E23: 12 | F23: 5 | G23: 0 | J23: 70 | K23: =H23*0.7 -> 0
A24: 42842 | C24: 0 | E24: 11 | F24: 5 | G24: 0 | J24: 70 | K24: =H24*0.7 -> 0
A25: 42844 | C25: 0 | E25: 14 | F25: 6 | G25: 0 | J25: 78 | K25: =H25*0.7 -> 0
A26: 42849 | C26: 0 | E26: 16 | F26: 4.5 | G26: 0 | J26: 50 | K26: =H26*0.7 -> 0
A27: 42851 | C27: 0 | E27: 14.5 | F27: 5 | G27: 0 | J27: 77 | K27: =H27*0.7 -> 0
A28: 42853 | C28: 0 | E28: 13.2 | F28: 7 | G28: 0 | J28: 83.78 | K28: =H28*0.7 -> 0
A29: 42858 | C29: 0 | E29: 14 | F29: 10 | G29: 0 | J29: 284 | K29: =H29*0.7 -> 0
A30: 42860 | C30: 0 | E30: 13.5 | F30: 5 | G30: 0 | J30: 71 | K30: =H30*0.7 -> 0
A31: 42863 | C31: 0 | E31: 12.5 | F31: 5 | G31: 0 | J31: 71 | K31: =H31*0.7 -> 0
... A48: 42902 | C48: 0 | E48: 12 | F48: 6 | G48: 0 | J48: 77 | K48: =H48*0.7 -> 0
A49: reprise | C49: 0 | K49: =H49*0.7 -> 0
A50: 42905 | C50: 0 | D50: 7.2 | E50: 17 | F50: 6.2 | G50: 0 | H50: 491 | I50: 10.6 | J50: 77 | K50: =H50*0.7 -> 343.7 | L50: 0.08
A51: 42907 | C51: 0 | D51: 7.32 | E51: 16 | F51: 7.2 | G51: 0 | H51: 538 | I51: 10.4 | J51: 77 | K51: =H51*0.7 -> 376.6 | L51: 0.08 | M51: thomas
A52: 42909 | C52: 0 | D52: 7.4 | E52: 15.5 | F52: 6 | G52: 0 | H52: 500 | I52: 10.4 | J52: =I52*7.1 -> 73.84 | K52: =H52*0.7 -> 350 | L52: 0.42
A53: 42912 | C53: 0 | D53: 7.3 | E53: 15.3 | F53: 6.7 | G53: 0 | H53: 540 | I53: 10.4 | J53: =I53*7.1 -> 73.84 | K53: =H53*0.7 -> 378 | L53: 0.22
A54: 42914 | C54: 0 | D54: 7.05 | E54: 19 | F54: 10.5 | G54: 0 | H54: 490 | I54: 9.92 | J54: =I54*7.1 -> 70.432 | K54: =H54*0.7 -> 343 | L54: 0.17
A55: 42916 | C55: 0 | D55: 7.05 | E55: 16 | F55: 10.2 | G55: 0 | H55: 529 | I55: 10.5 | J55: =I55*7.1 -> 74.55 | K55: =H55*0.7 -> 370.3 | L55: 0.16
A56: 42919 | C56: 0 | D56: 6.3 | E56: 15.3 | F56: 6.4 | G56: 0 | H56: 500 | I56: 10.6 | J56: =I56*7.1 -> 75.26 | K56: =H56*0.7 -> 350 | L56: 0.17
A57: 42921 | C57: 0 | D57: 6.8 | F57: 6.8 | G57: 0 | H57: 491 | I57: 10.3 | J57: =I57*7.1 -> 73.13 | K57: =H57*0.7 -> 343.7 | L57: 0.14
...

Sheet 2 EA nord
D1: 2017
H2: EA nord
A3: EAU ADOUCIE
A4: VOLUME EN M3 | B4: COMPTEUR | C4: CONSO | D4: Paramètres physico-chimiques | K4: SALINITE | L4: SILICE | M4: METAUX | N4: Observations & actions correctives
D5: pH | E5: TH | F5: TAC | G5: TA | H5: Conductivité | I5: Cl- | J5: Cl- | L5: SiO2 | M5: Fer
E6: Circuit | F6: Circuit | M6: mg/l
E7: °f | F7: °f | G7: °f | H7: µs/cm | I7: °f | J7: mg/l | K7: mg/l | L7: mg/l
C8: m3 | D8: >9,2 | E8: <0,1 | M8: < 0,05mg/l
A9: DATE | D9: norme afnor | E9: norme afnor | G9: NORME STI | M9: norme afnor
A10: 42811 | C10: 0 | D10: 7.6 | E10: 0 | F10: 5.6 | G10: 0 | H10: 508 | I10: 9.9 | J10: 30.7 | K10: =H10*0.7 -> 355.6 | L10: 10.4 | M10: 0.16
C11: 0 | D11: 7.05 | E11: 0 | F11: 5.6 | G11: 0 | H11: 523 | I11: 4.32 | J11: 30.7 | K11: =H11*0.7 -> 366.1 | M11: 0.16
A12: 42814 | C12: 0 | D12: 7.3 | E12: 0 | F12: 5.5 | G12: 0 | H12: 527 | I12: 10.5 | J12: =I12*7.1 -> 74.55 | K12: =H12*0.7 -> 368.9 | M12: 0.12
A13: 42817 | C13: 0 | D13: 7.22 | E13: 0 | F13: 5.8 | G13: 0 | H13: 520 | I13: 9.6 | J13: =I13*7.1 -> 68.16 | K13: =H13*0.7 -> 364 | L13: 14.7 | M13: 0.9
A14: 42818 | C14: 0 | D14: 7.5 | E14: 0 | F14: 5.4 | G14: 0 | H14: 530 | I14: 10.7 | J14: =I14*7.1 -> 75.97 | K14: =H14*0.7 -> 371 | L14: 10.6 | M14: 0.05
A15: 42821 | C15: 0 | D15: 7.42 | E15: 0 | F15: 5.6 | G15: 0 | H15: 527 | I15: 9.98 | J15: =I15*7.1 -> 70.858 | K15: =H15*0.7 -> 368.9
A16: 42823 | C16: 0 | D16: 7.1 | E16: 0 | F16: 5.7 | G16: 0 | H16: 528 | I16: 10.3 | J16: =I16*7.1 -> 73.13 | K16: =H16*0.7 -> 369.6
A17: 42825 | C17: 0 | D17: 7.2 | E17: 0 | F17: 5.9 | G17: 0 | H17: 530 | I17: 10.09 | J17: =I17*7.1 -> 71.639 | K17: =H17*0.7 -> 371
A18: 42828 | C18: 0 | D18: 7.1 | E18: 0 | F18: 5.6 | G18: 0 | H18: 516 | I18: 12.3 | J18: =I18*7.1 -> 87.33 | K18: =H18*0.7 -> 361.2
A19: ='1 EAU BRUTE DE VILLE'!A19 -> 43560 | C19: 0 | D19: 7.1 | E19: 0 | F19: 5.4 | G19: 0 | H19: 518 | I19: 13.6 | J19: =I19*7.1 -> 96.56 | K19: =H19*0.7 -> 362.6
A20: 42832 | C20: 0 | E20: 0 | F20: 6 | G20: 0 | J20: 75
A21: 42835 | C21: 0 | E21: 0 | F21: 5.2 | G21: 0 | J21: 75
A22: 42837 | C22: 0 | E22: 0 | F22: 6 | G22: 0 | J22: 71
A23: 42839 | C23: 0 | E23: 0 | F23: 6 | G23: 0 | J23: 70
A24: 42842 | C24: 0 | E24: 0 | F24: 6 | G24: 0 | J24: 70
A25: 42844 | C25: 0 | E25: 0 | F25: 6 | G25: 0 | J25: 74
A26: 42846 | C26: 0 | E26: 0
A27: 42849 | C27: 0 | E27: 0 | F27: 5.5 | G27: 0 | J27: 80
A28: 42851 | C28: 0 | E28: 0 | F28: 5 | G28: 0 | J28: 73
A29: 42853 | C29: 0 | E29: 0 | F29: 6.5 | G29: 0 | J29: 80.23
A30: 42858 | C30: 0 | E30: 0 | F30: 8 | G30: 0 | J30: 177.5
A31: 42860 | C31: 0 | E31: 0 | F31: 5 | G31: 0 | J31: 71
A32: 42863 | C32: 0 | E32: 0 | F32: 5 | G32: 0 | J32: 71
A33: 42865 | C33: 0 | E33: 0 | F33: 5 | G33: 0 | J33: 71
A34: 42867 | C34: 0 | E34: 0 | F34: 5 | G34: 0 | J34: 71
A35: 42870 | C35: 0 | E35: 0 | F35: 5 | G35: 0 | J35: 71
A36: 42872 | C36: 0 | E36: 0 | F36: 6 | G36: 0 | J36: 85.2
A37: 42874 | C37: 0 | E37: 0 | F37: 6 | G37: 0 | J37: 85
A38: 42877 | C38: 0 | E38: 0 | F38: 5 | G38: 0 | J38: 77
... A49: 42902 | C49: 0 | E49: 0 | F49: 6 | G49: 0 | J49: 85
C50: 0
...

Sheet 3 Condensât
D1: 2017
H2: CHAUDIERE NORD tubes d'eau 20 bars
A3: CONDENSÂT | K3: 1x par mois
A4: VOLUME EN M3 | B4: COMPTEUR | C4: CONSO | D4: Paramètres physico-chimiques | I4: SALINITE | J4: METAUX | L4: purge | N4: Observations & actions correctives
D5: pH | E5: TH | F5: TAC | G5: TA | H5: Conductivité | J5: Fer | K5: Cu | L5: M3
E6: Circuit | F6: Circuit | J6: mg/l | K6: mg/l
E7: °f | F7: °f | G7: °f | I7: mg/l
C8: m3 | D8: >8,7 | E8: 0 | H8: <50µs/cm | I8: <60 | J8: < 0,5 mg/l | K8: < 0,5mg/l | L8: Demandé | M8: réalisé le
A9: DATE | D9: NORME STI | E9: NORME STI | H9: NORME STI | I9: NORME STI | J9: NORME STI | K9: NORME STI
A10: 42797 | C10: 0 | D10: 7.9 | E10: 0 | F10: 0.4 | G10: 0.2 | H10: 18 | I10: =H10*0.7 -> 12.6 | J10: 0.23
A11: 42811 | C11: 0 | D11: 7.3 | E11: 0 | F11: 1 | G11: 0 | H11: 34.6 | I11: =H11*0.7 -> 24.22
C12: 0 | I12: =H12*0.7 -> 0 | J12: 4.49
C13: 0 | I13: =H13*0.7 -> 0
A14: 42818 | C14: 0 | D14: 6.97 | E14: 0 | F14: 1 | G14: 0 | H14: 53 | I14: =H14*0.7 -> 37.1 | N14: attention conductivite en tres legere hausse faire petite purge
A15: 42823 | C15: 0 | D15: 6.3 | E15: 0 | F15: 1 | G15: 0 | H15: 34.6 | I15: =H15*0.7 -> 24.22
A16: 42825 | C16: 0 | D16: 7.4 | E16: 0 | F16: 1.6 | G16: 0 | H16: 85.6 | I16: =H16*0.7 -> 59.92
A17: 42828 | C17: 0 | D17: 6.85 | E17: 0 | F17: 1.3 | G17: 0 | H17: 63.4 | I17: =H17*0.7 -> 44.38
A18: ='1 EAU BRUTE DE VILLE'!A19 -> 43560 | C18: 0 | D18: 6.9 | E18: 0 | F18: 0.7 | G18: 0 | H18: 25.1 | I18: =H18*0.7 -> 17.57
A19: 42832 | C19: 0 | E19: 0 | F19: 0.4 | G19: 0 | H19: 20.79 | I19: =H19*0.7 -> 14.553
A20: 42835 | C20: 0 | E20: 0 | F20: 0.8 | G20: 0 | I20: 3.5
A21: 42837 | C21: 0 | D21: 9.01 | E21: 0 | F21: 1.5 | G21: 0 | H21: 15.42 | I21: 3
A22: 42839 | C22: 0 | D22: 9.17 | E22: 0 | F22: 1 | G22: 0 | I22: =H22*0.7 -> 0
A23: 42842 | C23: 0 | D23: 9.6 | E23: 0 | F23: 1 | G23: 0 | I23: =H23*0.7 -> 0
A24: 42844 | C24: 0 | D24: 8.32 | E24: 0 | F24: 0.4 | G24: 0 | H24: 10.5 | I24: =H24*0.7 -> 7.35
A25: 42846 | C25: 0 | D25: 8.3 | E25: 0 | F25: 0.2 | G25: 0 | H25: 14 | I25: =H25*0.7 -> 9.8
A26: 42849 | C26: 0 | E26: 0 | F26: 1 | G26: 0 | H26: 7 | I26: =H26*0.7 -> 4.9
A27: 42851 | C27: 0 | D27: 8.21 | E27: 0 | F27: 0.2 | G27: 0 | H27: 11.23 | I27: =H27*0.7 -> 7.861
A28: 42853 | C28: 0 | D28: 6.7 | E28: 0 | F28: 0.7 | G28: 0 | H28: 12.78 | I28: =H28*0.7 -> 8.946
A29: 42858 | C29: 0 | D29: 9.18 | E29: 0 | F29: 5 | G29: 0 | H29: 42.6 | I29: =H29*0.7 -> 29.82
A30: 42860 | C30: 0 | D30: 9.23 | E30: 0 | F30: 0.2 | G30: 0 | H30: 0.7 | I30: =H30*0.7 -> 0.49
A31: 42863 | C31: 0 | D31: 8.49 | E31: 0 | F31: 0.4 | G31: 0 | H31: 3 | I31: =H31*0.7 -> 2.1
A32: 42865 | C32: 0 | D32: 8.57 | E32: 0 | F32: 0.6 | G32: 0 | H32: 4.9 | I32: =H32*0.7 -> 3.43
A33: 42136 | C33: 0 | D33: 8.68 | E33: 0 | F33: 0.7 | G33: 0 | H33: 3 | I33: =H33*0.7 -> 2.1
A34: 42870 | C34: 0 | D34: 8.53 | E34: 0 | F34: 0.4 | G34: 0 | H34: 15 | I34: =H34*0.7 -> 10.5
A35: 42872 | C35: 0 | D35: 8.5 | E35: 0 | F35: 1 | G35: 0 | H35: 42 | I35: =H35*0.7 -> 29.4
A36: 42874 | C36: 0 | D36: 8.6 | E36: 0 | F36: 1 | G36: 0 | H36: 40 | I36: =H36*0.7 -> 28
A37: 41051 | C37: 0 | D37: 7.7 | E37: 0 | F37: 1 | G37: 0 | H37: 70 | I37: =H37*0.7 -> 49
A38: 42879 | C38: 0 | D38: 9 | E38: 0 | F38: 0.7 | G38: 0 | H38: 40 | I38: =H38*0.7 -> 28
... A48: 42902 | C48: 0 | D48: 8.4 | E48: 0 | F48: 1 | G48: 0 | H48: 4 | I48: =H48*0.7 -> 2.8
C49: 0 | I49: =H49*0.7 -> 0
...

Sheet 4 BÂCHE NORD
D1: 2017
H2: CHAUDIERE NORD tubes d'eau 20 bars
A3: BÂCHE ALIMENTAIRE
A4: VOLUME EN M3 | B4: COMPTEUR | C4: CONSO | D4: Paramètres physico-chimiques | K4: SALINITE | L4: Hydrex 1461 | M4: Hydrex 1908 | N4: Observations & actions correctives
D5: pH | E5: TH | F5: TAC | G5: TA | H5: Conductivité | I5: Cl | J5: Cl | L5: Orthophosphate | M5: sulfite
E6: Circuit | F6: Circuit | L6: lecture mg/l | M6: lecture mg/l
E7: °f | F7: °f | G7: °f | I7: °f | J7: mg/l | K7: mg/l
A8: 14.5 | C8: m3 | D8: >9,2 | E8: <0,1 | G8: >0 | L8: >0 | M8: >0
A9: DATE | D9: AFNOR | E9: AFNOR | G9: NORME STI
A10: 42797 | C10: 0 | D10: 8.2 | E10: 0 | F10: 0.4 | G10: 0.2 | H10: 107 | I10: 2.3 | J10: =I10*7.1 -> 16.33 | K10: =H10*0.7 -> 74.9 | L10: 0.1 | M10: 0.1 | N10: thomas
A11: 42809 | C11: 0 | D11: 7.55 | E11: 0 | F11: 2.1 | G11: 0 | H11: 179.9 | I11: 3.7 | J11: =I11*7.1 -> 26.27 | K11: =H11*0.7 -> 125.93
A12: 42814 | C12: 0 | D12: 9.55 | E12: 0 | F12: 3.9 | G12: 1.3 | H12: 392 | I12: 0.7 | J12: =I12*7.1 -> 4.97 | K12: 392
A13: 42816 | C13: 0 | D13: 9.46 | E13: 0 | F13: 4 | G13: 1.1 | H13: 417 | I13: 7.4 | J13: =I13*7.1 -> 52.54 | K13: 417
A14: 42818 | C14: 0 | D14: 9.37 | E14: 0 | F14: 5.5 | G14: 1.3 | H14: 558 | I14: 10.46 | J14: =I14*7.1 -> 74.266 | K14: =H14*0.7 -> 390.6 | L14: 0.147 | M14: 0.147
A15: 42821 | C15: 0 | D15: 6.96 | E15: 0 | F15: 0.9 | H15: 91 | I15: 0.96 | J15: =I15*7.1 -> 6.816 | K15: =H15*0.7 -> 63.7
A16: 42823 | C16: 0 | D16: 8.8 | E16: 0 | F16: 1.6 | G16: 0.1 | H16: 78 | I16: 0.79 | J16: =I16*7.1 -> 5.609 | K16: =H16*0.7 -> 54.6
A17: 42825 | C17: 0 | D17: 11.19 | E17: 0 | F17: 26 | G17: 23.7 | H17: 2810 | I17: 3.28 | J17: =I17*7.1 -> 23.288 | K17: =H17*0.7 -> 1967
A18: 42828 | C18: 0 | D18: 8.2 | E18: 0 | F18: 1.6 | G18: 0 | H18: 100 | I18: 1.4 | J18: =I18*7.1 -> 9.94 | K18: =H18*0.7 -> 70
A19: ='1 EAU BRUTE DE VILLE'!A19 -> 43560 | C19: 0 | D19: 8.5 | E19: 0 | F19: 2.7 | G19: 0.1 | H19: 218 | I19: 5.8 | J19: =I19*7.1 -> 41.18 | K19: =H19*0.7 -> 152.6
A20: 42832 | C20: 0 | E20: 0 | F20: 1 | G20: 0 | J20: 7.1 | K20: =H20*0.7 -> 0
A21: 42835 | C21: 0 | E21: 0 | F21: 1.1 | G21: 0 | J21: 7.1 | K21: =H21*0.7 -> 0
A22: 42837 | C22: 0 | E22: 0 | F22: 2 | G22: 0 | J22: 10 | K22: =H22*0.7 -> 0
A23: 42839 | C23: 0 | E23: 0 | F23: 2 | G23: 0.4 | J23: 15 | K23: =H23*0.7 -> 0
A24: 42842 | C24: 0 | E24: 0 | F24: 1 | G24: 0 | J24: 7 | K24: =H24*0.7 -> 0
A25: 42844 | C25: 0 | E25: 0 | F25: 1 | G25: 0 | J25: 9 | K25: =H25*0.7 -> 0
A26: 42846 | C26: 0 | E26: 0 | F26: 4 | G26: 1 | K26: =H26*0.7 -> 0
A27: 42849 | C27: 0 | E27: 0 | F27: 3 | G27: 1 | J27: 11 | K27: =H27*0.7 -> 0
A28: 42851 | C28: 0 | E28: 0 | F28: 1 | G28: 0 | J28: 14 | K28: =H28*0.7 -> 0
A29: 42853 | C29: 0 | E29: 0 | F29: 1.7 | G29: 1.1 | J29: 36.92 | K29: =H29*0.7 -> 0
A30: 42858 | C30: 0 | E30: 0 | F30: 0 | G30: 0 | J30: 71 | K30: =H30*0.7 -> 0
A31: 42860 | C31: 0 | E31: 0 | F31: 1 | G31: 0 | J31: 7 | K31: =H31*0.7 -> 0
A32: 42863 | C32: 0 | E32: 0 | F32: 1 | G32: 0.1 | J32: 18 | K32: =H32*0.7 -> 0
A33: 42865 | C33: 0 | E33: 0 | F33: 1 | G33: 0 | J33: 14.2 | K33: =H33*0.7 -> 0
A34: 42867 | C34: 0 | E34: 0 | F34: 2 | G34: 0 | J34: 28 | K34: =H34*0.7 -> 0
A35: 42870 | C35: 0 | E35: 0 | F35: 1.4 | G35: 0 | J35: 21 | K35: =H35*0.7 -> 0
A36: 42872 | C36: 0 | E36: 0 | F36: 2 | G36: 0 | J36: 42 | K36: =H36*0.7 -> 0
A37: 42874 | C37: 0 | E37: 0 | F37: 2 | G37: 0 | J37: 40 | K37: =H37*0.7 -> 0
A38: 42877 | C38: 0 | E38: 0 | F38: 2 | G38: 0 | J38: 70 | K38: =H38*0.7 -> 0
... A48: 42900 | C48: 0 | E48: 0 | F48: 4 | G48: 2 | J48: 35 | K48: =H48*0.7 -> 0
A49: 42902 | C49: 0 | E49: 0 | F49: 2 | G49: 0 | K49: =H49*0.7 -> 0
...

Sheet 5 Chaudiere 2
D1: 2017
H2: CHAUDIERE NORD tubes d'eau 20 bars
A3: CHAUDIERE 2
A4: VOLUME EN M3 | B4: COMPTEUR | C4: CONSO | D4: Paramètres physico-chimiques | K4: SALINITE | L4: SILICE | M4: Hydrex1461 | P4: Hydrex 1908 | T4: METAUX | V4: purge | X4: Observations & actions correctives
D5: pH | E5: TH | F5: TAC | G5: TA | H5: Conductivité | I5: Cl | J5: Cl | L5: SiO2 | M5: ORTHOPHOSPHATE | P5: sulfite | S5: SiO2/TAC | T5: Fer | U5: Cu | V5: M3
E6: Circuit | F6: Circuit | M6: lecture | N6: mg/l | O6: Volume ajouté | P6: lecture | Q6: mg/l | R6: Volume ajouté | T6: mg/l | U6: mg/l
E7: °f | F7: °f | G7: °f | H7: µs/cm | I7: °f | J7: mg/l | K7: mg/l | L7: mg/l
A8: 4 | C8: m3 | D8: 10,5-12 | E8: 0 | F8: <100°f | G8: 5-75 | H8: <6000 | I8: < 85 | J8: <603,5 | K8: <4200 | L8: <160 | N8: 10-20 | O8: litres | Q8: 30-60 | R8: litres | S8: <1,6 | T8: < 0,5 mg/l | U8: < 0,5mg/l | V8: Demandé | W8: réalisé le
A9: DATE | D9: AFNOR | E9: AFNOR | F9: CONSTRUCTEUR | G9: AFNOR | H9: AFNOR | I9: CONSTRUCTEUR | K9: NORME STI | L9: AFNOR | N9: AFNOR | Q9: CONSTRUCTEUR | S9: NORME STI | T9: NORME STI | U9: NORME STI
A10: 42797 | C10: 0 | D10: 10.3 | E10: 0.3 | F10: 1.2 | G10: 1 | H10: 272 | I10: 3.9 | J10: 28.1 | K10: =H10*0.7 -> 190.4 | N10: 1.5 | O10: =IF(N10="","",IF((15-N10)*$A$8/(1480*0.114)<0,0,(15-M10)*$A$8/(1480*0.114))) -> 0.35561878 | Q10: 6 | R10: =IF((100-P10)*$A$8/(1480*0.114)<0,0,(100-P10)*$A$8/(1480*0.114)) -> 2.3707918 | S10: =L10/F10 -> 0 | T10: 2.15 | X10: petite purge pour la diminution du fer et de la salinite
A11: 42811 | C11: 0 | D11: 11.74 | E11: 0 | F11: 60.7 | G11: 55.1 | H11: 7710 | I11: 3.96 | J11: =I11*7.1 -> 28.116 | K11: =H11*0.7 -> 5397 | N11: 0.073 | O11: =IF(N11="","",IF((15-N11)*$A$8/(1480*0.114)<0,0,(15-M11)*$A$8/(1480*0.114))) -> 0.35561878 | R11: =IF((100-P11)*$A$8/(1480*0.114)<0,0,(100-P11)*$A$8/(1480*0.114)) -> 2.3707918 | S11: =L11/F11 -> 0 | T11: 2.15 | X11: petite purge pour la diminution du fer et de la salinite
A12: 42814 | C12: 0 | D12: 7.02 | E12: 0 | F12: 60.6 | G12: 55.7 | H12: 7020 | I12: 10.48 | J12: =I12*7.1 -> 74.408 | K12: =H12*0.7 -> 4914 | N12: 2.54 | X12: petite purge pour la diminution du fer et de la salinite
A13: 42817 | C13: 0 | D13: 11.8 | E13: 0 | F13: 59.3 | G13: 54.3 | H13: 7110 | I13: 122.5 | J13: =I13*7.1 -> 869.75 | K13: =H13*0.7 -> 4977 | L13: 88.9 | N13: 1.03 | S13: =L13/F13 -> 1.4991568 | T13: 2.5 | X13: petite purge pour la diminution du fer et de la salinite
A14: 42818 | C14: 0 | D14: 11.8 | E14: 0 | F14: 61.6 | G14: 56.4 | H14: 6950 | I14: 119.5 | J14: =I14*7.1 -> 848.45 | K14: =H14*0.7 -> 4865 | L14: 99.2 | N14: 0.424 | S14: =L14/F14 -> 1.6103896 | T14: 1.28 | X14: purge obligatoire
A15: 42821 | C15: 0 | D15: 11.06 | E15: 0 | F15: 19.2 | G15: 16.4 | H15: 1611 | I15: 23 | J15: =I15*7.1 -> 163.3 | K15: =H15*0.7 -> 1127.7
A16: 42823 | C16: 0 | D16: 11.2 | E16: 0 | F16: 23.5 | G16: 21.3 | H16: 2470 | J16: =I16*7.1 -> 0 | K16: =H16*0.7 -> 1729
A17: 42825 | C17: 0 | D17: 11.2 | E17: 0 | F17: 25.6 | G17: 23.4 | H17: 2810 | I17: 40.1 | J17: =I17*7.1 -> 284.71 | K17: =H17*0.7 -> 1967 | N17: 0.71 | Q17: 10
A18: 42828 | C18: 0 | K18: =H18*0.7 -> 0 | X18: augmenter la pompe hydrex 1461
A19: ='1 EAU BRUTE DE VILLE'!A19 -> 43560 | C19: 0 | K19: =H19*0.7 -> 0 | X19: pas d'echantillon
A20: 42832 | C20: 0 | E20: 0 | F20: 28 | G20: 25 | H20: 3460 | J20: 390 | K20: =H20*0.7 -> 2422 | M20: 10 | P20: 10
A21: 42853 | C21: 0 | D21: 10.7 | E21: 0.6 | F21: 9 | G21: 7.5 | H21: 403 | J21: 24.85 | K21: =H21*0.7 -> 282.1 | M21: 1.2 | P21: 10
A22: 42858 | C22: 0 | D22: 10.89 | E22: 0 | F22: 0 | G22: 0 | H22: 3660 | J22: 390 | K22: =H22*0.7 -> 2562 | M22: 0 | P22: 10
A23: 42860 | C23: 0 | D23: 11.25 | E23: 0 | F23: 20 | G23: 19 | H23: 2630 | J23: 280 | K23: =H23*0.7 -> 1841 | M23: 20 | P23: 40
A24: 42863 | C24: 0 | D24: 11.58 | E24: 0 | F24: 27 | G24: 25 | H24: 3030 | J24: 426 | K24: =H24*0.7 -> 2121 | M24: 10 | P24: 40
A25: 42870 | C25: 0 | D25: 11.17 | E25: 0 | F25: 15 | G25: 15 | H25: 2560 | J25: 210 | K25: =H25*0.7 -> 1792
A26: 42872 | C26: 0 | D26: 11.04 | E26: 0 | F26: 35 | G26: 25 | H26: 5430 | J26: 490 | K26: =H26*0.7 -> 3801
A27: 42874 | C27: 0 | D27: 11.8 | E27: 0 | F27: 35 | G27: 30 | H27: 4800 | J27: 630 | K27: =H27*0.7 -> 3360 | M27: 10 | P27: 40
A28: 42877 | C28: 0 | D28: 11 | E28: 0 | F28: 35 | G28: 30 | H28: 7000 | J28: 490 | K28: =H28*0.7 -> 4900 | M28: 0 | P28: 40
A29: 42879 | C29: 0 | D29: 11.77 | E29: 0 | F29: 35 | G29: 30 | H29: 4350 | J29: 490 | K29: =H29*0.7 -> 3045 | M29: 0 | P29: 60
A30: 42881 | C30: 0 | D30: 11.78 | E30: 0 | F30: 38 | G30: 36 | H30: 6730 | J30: 710 | K30: =H30*0.7 -> 4711 | M30: 5 | P30: 40
A31: 42884 | C31: 0 | D31: 11.07 | E31: 0 | F31: 38 | G31: 37 | H31: 11980 | J31: 887.5 | K31: =H31*0.7 -> 8386 | M31: 10 | P31: 10
A32: 42886 | C32: 0 | D32: 11.66 | E32: 0 | F32: 33 | G32: 30 | H32: 4888 | J32: 560 | K32: =H32*0.7 -> 3421.6 | M32: 25 | P32: 40
C33: 0 | K33: =H33*0.7 -> 0 | X33: ne tourne pas
C34: 0 | K34: =H34*0.7 -> 0
C35: 0 | K35: =H35*0.7 -> 0
C36: 0 | K36: =H36*0.7 -> 0
C37: 0 | K37: =H37*0.7 -> 0
C38: 0 | K38: =H38*0.7 -> 0
C39: 0 | K39: =H39*0.7 -> 0
C40: 0 | K40: =H40*0.7 -> 0
...

Sheet 6 CHAUDIERE 3
D1: 2017
H2: CHAUDIERE NORD tubes d'eau 20 bars
A3: CHAUDIERE 2
A4: VOLUME EN M3 | B4: COMPTEUR | C4: CONSO | D4: Paramètres physico-chimiques | K4: SALINITE | L4: SILICE | M4: Hydrex1461 | P4: Hydrex 1908 | T4: METAUX | V4: purge | X4: Observations & actions correctives
D5: pH | E5: TH | F5: TAC | G5: TA | H5: Conductivité | I5: Cl | J5: Cl | L5: SiO2 | M5: ORTHOPHOSPHATE | P5: sulfite | S5: SiO2/TAC | T5: Fer | U5: Cu | V5: M3
E6: Circuit | F6: Circuit | M6: lecture mg/l | N6: mg/l | O6: Volume ajouté | P6: lecture | Q6: SO3 | R6: Volume ajouté | T6: mg/l | U6: mg/l
E7: °f | F7: °f | G7: °f | I7: °f | J7: mg/l | K7: mg/l | L7: mg/l
A8: 4 | C8: m3 | D8: 10,5-12 | E8: 0 | F8: <100°f | G8: 5-75 | H8: <6000 | I8: < 85 | J8: <603 | K8: <4200 | L8: <160 | M8: 10-20 | N8: 10-20 | O8: litres | Q8: 30-60 | R8: litres | S8: <1,6 | T8: < 0,5 mg/l | U8: < 0,5mg/l | V8: Demandé | W8: réalisé le
A9: DATE | D9: AFNOR | E9: AFNOR | F9: CONSTRUCTEUR | G9: AFNOR | H9: AFNOR | I9: CONSTRUCTEUR | K9: NORME STI | L9: AFNOR | N9: AFNOR | Q9: CONSTRUCTEUR | S9: NORME STI | T9: NORME STI | U9: NORME STI
A10: 42797 | C10: 0 | D10: 11.4 | E10: 0 | F10: 17.6 | G10: 15 | H10: 5370 | I10: 102.1 | J10: =I10*7.1 -> 724.91 | K10: 5370 | M10: 7 | O10: =IF(N10="","",IF((55-N10)*$A$8/(1480*0.114)<0,0,(55-M10)*$A$8/(1480*0.114))) | P10: 22 | Q10: 0 | R10: =IF((100-P10)*$A$8/(1480*0.114)<0,0,(100-P10)*$A$8/(1480*0.114)) -> 1.8492176 | S10: =L10/F10 -> 0 | T10: 0.2 | X10: thomas
A11: 42811 | C11: 0 | D11: 11.76 | E11: 0 | F11: 66.6 | G11: 60.6 | H11: 7830 | I11: 5.87 | J11: =I11*7.1 -> 41.677 | K11: =H11*0.7 -> 5481 | M11: 11.3 | O11: =IF(N11="","",IF((55-N11)*$A$8/(1480*0.114)<0,0,(55-M11)*$A$8/(1480*0.114))) | S11: =L11/F11 -> 0 | T11: 1.75 | X11: petite purge pour la diminution du fer et de la salinite
A12: 42814 | C12: 0 | D12: 11.9 | E12: 0 | F12: 90.3 | G12: 83.2 | H12: 9900 | I12: 168 | J12: =I12*7.1 -> 1192.8 | K12: =H12*0.7 -> 6930 | M12: 5.36 | S12: =L12/F12 -> 0 | T12: 1.59 | X12: une purge est necessaire beaucoup trop de salinité
A13: 42817 | C13: 0 | D13: 11.9 | E13: 0 | F13: 74.4 | G13: 68.2 | H13: 9020 | I13: 161.2 | J13: =I13*7.1 -> 1144.52 | K13: =H13*0.7 -> 6314 | L13: 98.5 | M13: 1.37 | S13: =L13/F13 -> 1.3239247 | T13: 1 | X13: une purge est necessaire beaucoup trop de salinité
A14: 42818 | C14: 0 | D14: 11.82 | E14: 0 | F14: 63.4 | G14: 57.8 | H14: 7150 | I14: 133 | J14: =I14*7.1 -> 944.3 | K14: =H14*0.7 -> 5005 | L14: 129.3 | M14: 0.384 | S14: =L14/F14 -> 2.0394322 | T14: 1.43 | X14: une purge est necessaire beaucoup trop de salinité
A15: 42821 | C15: 0 | K15: =H15*0.7 -> 0
A16: 42823 | C16: 0 | K16: =H16*0.7 -> 0
A17: 42825 | C17: 0 | K17: =H17*0.7 -> 0
A18: 42798 | C18: 0 | K18: =H18*0.7 -> 0
A19: ='1 EAU BRUTE DE VILLE'!A19 -> 43560 | C19: 0 | K19: =H19*0.7 -> 0
A20: 42832 | C20: 0 | E20: 0 | F20: 18 | G20: 16 | H20: 1792 | J20: 241 | K20: =H20*0.7 -> 1254.4 | M20: 10 | P20: 0
A21: 42846 | C21: 0 | E21: 0 | F21: 45 | G21: 30 | H21: 4540 | J21: 490 | K21: =H21*0.7 -> 3178 | M21: 10 | P21: 180
A22: 42849 | C22: 0 | E22: 0 | F22: 45 | G22: 30 | H22: 1941 | J22: 180 | K22: =H22*0.7 -> 1358.7 | M22: 30 | P22: 40
A23: 42851 | C23: 0 | D23: 11.63 | E23: 0 | F23: 21 | G23: 20 | H23: 2520 | J23: 310 | K23: =H23*0.7 -> 1764 | M23: 5 | P23: 5
A24: 42853 | C24: 0 | D24: 11.5 | E24: 0 | F24: 33 | G24: 29 | H24: 4230 | K24: =H24*0.7 -> 2961 | M24: 4.4 | P24: 11.5
A25: 42865 | C25: 0 | D25: 11.8 | E25: 0 | F25: 45 | H25: 5630 | J25: 641 | K25: =H25*0.7 -> 3941
A26: 42870 | C26: 0 | D26: 11.53 | E26: 0 | F26: 32 | G26: 30 | H26: 4750 | J26: 468 | K26: =H26*0.7 -> 3325 | M26: 5 | P26: 40
A27: 42872 | C27: 0 | D27: 11.45 | E27: 0 | F27: 40 | G27: 25 | H27: 4110 | J27: 425 | K27: =H27*0.7 -> 2877 | M27: 10 | P27: 10
A28: 42874 | C28: 0 | D28: 11.7 | E28: 0 | F28: 25 | G28: 20 | H28: 3800 | J28: 350 | K28: =H28*0.7 -> 2660 | M28: 10 | P28: 40
A29: 42877 | C29: 0 | D29: 11 | E29: 0 | F29: 30 | G29: 25 | H29: 4390 | J29: 350 | K29: =H29*0.7 -> 3073 | M29: 0 | P29: 40
A30: 42879 | C30: 0 | D30: 11.85 | E30: 0 | F30: 30 | G30: 25 | H30: 6250 | J30: 420 | K30: =H30*0.7 -> 4375 | M30: 0 | P30: 40
A31: 42881 | C31: 0 | D31: 11.86 | E31: 0 | F31: 31 | G31: 30 | H31: 4520 | J31: 603.5 | K31: =H31*0.7 -> 3164 | M31: 5 | P31: 40
A32: 42884 | C32: 0 | D32: 11.1 | E32: 0 | F32: 32 | G32: 29 | H32: 7710 | J32: 674.5 | K32: =H32*0.7 -> 5397 | M32: 0 | P32: 10
A33: 42886 | C33: 0 | D33: 11.67 | E33: 0 | F33: 32 | G33: 30 | H33: 4090 | J33: 610 | K33: =H33*0.7 -> 2863 | M33: 25 | P33: 40
C34: 0 | K34: =H34*0.7 -> 0
A35: 42905 | C35: 0 | K35: =H35*0.7 -> 0 | X35: ne tourne pas
A36: 42933 | C36: 0 | D36: 11.77 | E36: 0 | F36: 60.9 | G36: 55.5 | H36: 6740 | I36: 145 | J36: =I36*7.1 -> 1029.5 | K36: =H36*0.7 -> 4718 | L36: 106.2 | M36: 0.07 | P36: 60 | S36: =L37/F37 -> 0 | T36: 0.26
A37: 42935 | C37: 0 | D37: 11.6 | E37: 0 | F37: 64 | G37: 58 | H37: 7080 | K37: =H37*0.7 -> 4956 | M37: 14.6 | P37: 57 | S37: =L37/F37 -> 0
A38: 42937 | C38: 0 | D38: 11.69 | E38: 0.1 | F38: 61.5 | G38: 54.6 | H38: 6580 | I38: 135 | J38: =I38*7.1 -> 958.5 | K38: =H38*0.7 -> 4606 | L38: 114 | M38: 0.065 | P38: 80 | S38: =L38/F38 -> 1.8536585 | T38: 0.42
A39: 42940 | C39: 0 | D39: 11.83 | E39: 0 | F39: 65.5 | G39: 57.5 | H39: 6880 | I39: 137 | J39: =I39*7.1 -> 972.7 | K39: =H39*0.7 -> 4816 | L39: 114.2 | M39: 0.035 | P39: 80 | S39: =L39/F39 -> 1.7435115 | T39: 0.05
A40: 42942 | C40: 0 | D40: 11.76 | E40: 0 | F40: 67.3 | G40: 60 | H40: 7270 | I40: 160 | J40: =I40*7.1 -> 1136 | K40: =H40*0.7 -> 5089 | L40: 143.6 | M40: 0.866 | P40: 80 | S40: =L40/F40 -> 2.1337296 | T40: 0.49
...

Sheet 7= 15 EAU brute s20
D1: 2017
H2: CHAUDIERE Sat 20
A3: EAU DE FORAGE
A4: VOLUME EN M3 | B4: COMPTEUR | C4: CONSO | D4: Paramètres physico-chimiques | K4: SALINITE | L4: METAUX | M4: Observations & actions correctives
D5: pH | E5: TH | F5: TAC | G5: TA | H5: Conductivité | I5: Cl | J5: Cl | L5: Fer
E6: Circuit | F6: Circuit | L6: mg/l
E7: °f | F7: °f | G7: °f | H7: µs/cm | I7: °f | J7: mg/l | K7: mg/l
C8: m3
A9: DATE | D9: norme afnor | E9: norme afnor | G9: NORME STI | L9: norme afnor
A10: 42797 | C10: 0 | D10: 7.4 | E10: 7.8 | F10: 6 | G10: 0 | H10: 344 | I10: 11.3 | J10: =I10*7.1 -> 80.23 | K10: =H10*0.7 -> 240.8 | L10: 0.48
A11: 42811 | C11: 0 | D11: 7.38 | E11: 10.5 | F11: 6.7 | G11: 0 | H11: 343 | I11: 5.49 | J11: =I11*7.1 -> 38.979 | K11: =H11*0.7 -> 240.1
A12: 41718 | C12: 0 | D12: 7.43 | E12: 11 | F12: 6.9 | G12: 0 | H12: 352 | I12: 9.2 | J12: =I12*7.1 -> 65.32 | K12: =H12*0.7 -> 246.4
A13: 42817 | C13: 0 | D13: 7.43 | E13: 4 | F13: 7.3 | G13: 0 | H13: 362 | I13: 1.8 | J13: =I13*7.1 -> 12.78 | K13: =H13*0.7 -> 253.4
A14: 42818 | C14: 0 | D14: 8.08 | E14: 10.4 | F14: 7 | G14: 0 | H14: 417 | I14: 6.3 | J14: =I14*7.1 -> 44.73 | K14: =H14*0.7 -> 291.9 | L14: 1.76 | M14: eau brute tres ferreuse
A15: 42821 | C15: 0 | D15: 7.8 | E15: 10.4 | F15: 6.7 | G15: 0 | H15: 372 | I15: 6.08 | J15: =I15*7.1 -> 43.168 | K15: =H15*0.7 -> 260.4
A16: 42823 | C16: 0 | D16: 7.3 | E16: 10.9 | F16: 6 | G16: 0 | H16: 352 | I16: 6.7 | J16: =I16*7.1 -> 47.57 | K16: =H16*0.7 -> 246.4
A17: 42825 | C17: 0 | D17: 7.3 | E17: 10.2 | F17: 5.9 | G17: 0 | H17: 345 | I17: 5.64 | J17: =I17*7.1 -> 40.044 | K17: =H17*0.7 -> 241.5
A18: 42798 | C18: 0 | D18: 7.2 | E18: 10.4 | F18: 6.5 | G18: 0 | H18: 343 | I18: 8.63 | J18: =I18*7.1 -> 61.273 | K18: =H18*0.7 -> 240.1
A19: ='1 EAU BRUTE DE VILLE'!A19 -> 43560 | C19: 0 | D19: 7.4 | E19: 10.3 | F19: 6.1 | G19: 0 | H19: 341 | I19: 8 | J19: =I19*7.1 -> 56.8 | K19: =H19*0.7 -> 238.7
A20: 42832 | C20: 0 | E20: 15 | F20: 7 | G20: 0 | J20: 35 | K20: =H20*0.7 -> 0
A21: 42835 | C21: 0 | E21: 26 | F21: 10 | G21: 0 | J21: 49 | K21: =H21*0.7 -> 0
A22: 42837 | C22: 0 | E22: 10 | F22: 5 | G22: 0 | J22: 35 | K22: =H22*0.7 -> 0
A23: 42844 | C23: 0 | E23: 10 | F23: 5 | G23: 0 | J23: 56 | K23: =H23*0.7 -> 0
A24: 42849 | C24: 0 | E24: 13 | F24: 6 | G24: 0 | J24: 50 | K24: =H24*0.7 -> 0
A25: 42851 | C25: 0 | E25: 9.5 | F25: 6 | G25: 0 | J25: 35 | K25: =H25*0.7 -> 0
A26: 42853 | C26: 0 | E26: 10.2 | F26: 9 | G26: 0 | J26: 51.83 | K26: =H26*0.7 -> 0
A27: 42858 | C27: 0 | E27: 14 | F27: 4 | G27: 0 | J27: 78.1 | K27: =H27*0.7 -> 0
A28: 42860 | C28: 0 | E28: 8.5 | F28: 5 | G28: 0 | J28: 71 | K28: =H28*0.7 -> 0
A29: 42863 | C29: 0 | E29: 9 | F29: 6 | G29: 0 | J29: 45 | K29: =H29*0.7 -> 0
A30: 42865 | C30: 0 | E30: 9 | F30: 5 | G30: 0 | J30: 42.6 | K30: =H30*0.7 -> 0
A31: 42867 | C31: 0 | E31: 8 | F31: 6 | G31: 0 | J31: 49.7 | K31: =H31*0.7 -> 0
... A36: 42879 | C36: 0 | E36: 8 | F36: 5 | G36: 0 | J36: 71 | K36: =H36*0.7 -> 0
A37: 42881 | C37: 0 | E37: 9 | F37: 5 | G37: 0 | J37: =I37*7.1 -> 0 | K37: =H37*0.7 -> 0
A38: 42884 | C38: 0 | E38: 12 | F38: 10 | G38: 0 | J38: =I38*7.1 -> 0 | K38: =H38*0.7 -> 0
A39: 42886 | C39: 0 | E39: 8.5 | F39: 9 | G39: 0 | J39: =I39*7.1 -> 0 | K39: =H39*0.7 -> 0
A40: 42888 | C40: 0 | E40: 7.5 | F40: 7 | G40: 0 | J40: =I40*7.1 -> 0 | K40: =H40*0.7 -> 0
A41: 42891 | C41: 0 | E41: 8.8 | F41: 5 | G41: 0 | J41: =I41*7.1 -> 0 | K41: =H41*0.7 -> 0
A42: 42893 | C42: 0 | E42: 8 | F42: 6 | G42: 0 | J42: =I42*7.1 -> 0 | K42: =H42*0.7 -> 0
A43: 42895 | C43: 0 | E43: 10 | F43: 6.4 | G43: 0 | J43: =I43*7.1 -> 0 | K43: =H43*0.7 -> 0
A44: 42898 | C44: 0 | E44: 12 | F44: 9 | G44: 0 | J44: =I44*7.1 -> 0 | K44: =H44*0.7 -> 0
...

Sheet 8 EA SAT 20
D1: 2017 | H1: Dupont Nemours
H2: EA sat 20
A3: EAU ADOUCIE | M3: 1x/mois
A4: VOLUME EN M3 | B4: COMPTEUR | C4: CONSO | D4: Paramètres physico-chimiques | J4: SALINITE | K4: SILICE | L4: METAUX | N4: Observations & actions correctives
D5: pH | E5: TH | F5: TAC | G5: TA | H5: Conductivité | I5: Cl- | K5: SiO2 | L5: Fer | M5: Cu
E6: Circuit | F6: Circuit | L6: mg/l | M6: mg/l
E7: °f | F7: °f | G7: °f | H7: µs/cm | I7: °f | J7: mg/l | K7: mg/l
C8: m3 | E8: <0,05 | L8: < 0,3 mg/l | M8: < 0,05mg/l
A9: DATE | D9: norme afnor | E9: norme afnor | G9: NORME STI | L9: norme afnor | M9: norme afnor
A10: 42797 | C10: 0 | D10: 7.7 | E10: 0 | F10: 3.2 | G10: 0 | H10: 332 | I10: 0 | J10: =H10*0.7 -> 232.4 | K10: 4.5 | L10: 0.34 | N10: thomas
A11: 42811 | C11: 0 | D11: 7.34 | E11: 0 | F11: 6.4 | G11: 0 | H11: 346 | I11: 0 | J11: =H11*0.7 -> 242.2 | L11: 0.15
A12: 42814 | C12: 0 | D12: 7.3 | E12: 0 | F12: 6.4 | G12: 0 | H12: 349 | I12: 6.3 | J12: =H12*0.7 -> 244.3 | L12: 0.1
A13: 42817 | C13: 0 | D13: 7.33 | E13: 0 | F13: 5 | G13: 0 | H13: 345 | I13: 5.8 | J13: =H13*0.7 -> 241.5 | K13: 13.5 | L13: 0.29
A14: 42818 | C14: 0 | D14: 7.6 | E14: 0 | F14: 6.2 | G14: 0 | H14: 351 | I14: 6.35 | J14: =H14*0.7 -> 245.7 | K14: 12.4 | L14: 1.49
A15: 42821 | C15: 0 | D15: 7.6 | E15: 0 | F15: 6.6 | G15: 0 | H15: 470 | I15: 6.3 | J15: =H15*0.7 -> 329
A16: 42823 | C16: 0 | D16: 7.2 | E16: 0 | F16: 6 | G16: 0 | H16: 346 | I16: 5.59 | J16: =H16*0.7 -> 242.2
A17: 42825 | C17: 0 | D17: 7.2 | E17: 0 | F17: 5.9 | G17: 0 | H17: 350 | I17: 5.77 | J17: =H17*0.7 -> 245
A18: 42828 | C18: 0 | D18: 7.6 | E18: 0 | F18: 6.3 | G18: 0 | H18: 343 | I18: 8.48 | J18: =H18*0.7 -> 240.1
A19: ='1 EAU BRUTE DE VILLE'!A19 -> 43560 | C19: 0 | D19: 7.3 | E19: 0 | F19: 6.1 | G19: 0 | H19: 343 | I19: 8.1 | J19: =H19*0.7 -> 240.1
A20: 42832 | C20: 0 | E20: 0 | F20: 5 | G20: 0 | J20: 42.6
A21: 42835 | C21: 0 | E21: 0 | F21: 10 | G21: 0 | J21: 56
A22: 42837 | C22: 0 | E22: 0 | F22: 5 | G22: 0 | J22: 56
A23: 42844 | C23: 0 | E23: 0 | F23: 6 | G23: 0 | J23: 49
A24: 42846 | C24: 0 | E24: 0
A25: 42849 | C25: 0 | E25: 13 | F25: 6 | G25: 0 | J25: 50
A26: 42851 | C26: 0 | E26: 0 | F26: 5 | G26: 0 | J26: 42
A27: 42853 | C27: 0 | E27: 0 | F27: 6 | G27: 0 | J27: 51.12
A28: 42858 | C28: 0 | E28: 0 | F28: 5 | G28: 0 | J28: 113.6
A29: 42860 | C29: 0 | E29: 0 | F29: 5 | G29: 0 | J29: 70
A30: 42863 | C30: 0 | E30: 0 | F30: 6 | G30: 0 | J30: 56
A31: 42865 | C31: 0 | E31: 0 | F31: 6 | G31: 0 | J31: 56
A32: 42867 | C32: 0 | E32: 0 | F32: 6 | G32: 0 | J32: 42.6
A33: 42870 | C33: 0 | E33: 0 | F33: 6 | G33: 0 | J33: 51
A34: 42872 | C34: 0 | E34: 0 | F34: 6 | G34: 0 | J34: 85.2
A35: 42874 | C35: 0 | E35: 0 | F35: 6 | G35: 0 | J35: 77
A36: 42877 | C36: 0 | E36: 0 | F36: 4 | G36: 0 | J36: 70
... A47: 42902 | C47: 0 | E47: 0 | F47: 8 | G47: 0 | J47: 77
C48: 0
A49: 42905 | C49: 0 | D49: 7.5 | E49: 0 | F49: 6.6 | G49: 0 | H49: 363 | I49: 6.84 | J49: =H49*0.7 -> 254.1 | K49: 10.7 | L49: 0.05
A50: 42907 | C50: 0 | D50: 7.5 | E50: 0 | F50: 7.5 | G50: 0 | H50: 386 | I50: 6.68 | J50: =H50*0.7 -> 270.2 | K50: 10.7 | L50: 5
...

Sheet 9 BÂCHE SAT 20
D1: 2017 | H1: Dupont Nemours
H2: BACHE SAT 20
A3: BÂCHE ALIM SUD
A4: VOLUME EN M3 | B4: COMPTEUR | C4: CONSO | D4: Paramètres physico-chimiques | K4: SALINITE | L4: Hydrex 1461 | M4: Hydrex 1908 | N4: Observations & actions correctives
D5: pH | E5: TH | F5: TAC | G5: TA | H5: Conductivité | I5: Cl | J5: Cl | L5: orthophosphate | M5: sulfite
E6: Circuit | F6: Circuit | L6: lecture mg/l | M6: lecture mg/l
E7: °f | F7: °f | G7: °f | I7: °f | J7: mg/l | K7: mg/l
A8: 20 | C8: m3 | D8: >9,2 | E8: <0,05 | G8: >0 | H8: µs/cm | L8: >0 | M8: >0
A9: DATE | D9: norme afnor | E9: norme afnor | G9: NORME STI
A10: 42797 | C10: 0 | D10: 9 | E10: 0 | F10: 0.6 | G10: 0.3 | H10: 68 | I10: 4.5 | J10: =I10*7.1 -> 31.95 | K10: =H10*0.7 -> 47.6 | L10: 3 | M10: 3
A11: 42811 | C11: 0 | D11: 10.29 | E11: 0 | F11: 20.7 | G11: 9.8 | H11: 790 | J11: =I11*7.1 -> 0 | K11: =H11*0.7 -> 553
A12: 42814 | C12: 0 | D12: 10.3 | E12: 0 | F12: 22.2 | G12: 10.9 | H12: 881 | I12: 14.2 | J12: =I12*7.1 -> 100.82 | K12: =H12*0.7 -> 616.7
A13: 42817 | C13: 0 | D13: 8.4 | E13: 0 | F13: 9 | G13: 0.1 | H13: 451 | I13: 6.5 | J13: =I13*7.1 -> 46.15 | K13: =H13*0.7 -> 315.7
A14: 42818 | C14: 0 | D14: 8.9 | E14: 0 | F14: 9.5 | G14: 0.9 | H14: 472 | I14: 6.35 | J14: =I14*7.1 -> 45.085 | K14: =H14*0.7 -> 330.4
A15: 42821 | C15: 0 | D15: 8.43 | E15: 0 | F15: 9 | G15: 0.1 | H15: 468 | I15: 5.9 | J15: =I15*7.1 -> 41.89 | K15: =H15*0.7 -> 327.6
A16: 42823 | C16: 0 | D16: 9.6 | E16: 0 | F16: 12.4 | G16: 4.2 | H16: 554 | I16: 2.25 | J16: =I16*7.1 -> 15.975 | K16: =H16*0.7 -> 387.8
A17: 42825 | C17: 0 | D17: 9.8 | E17: 0 | F17: 5.9 | G17: 2.2 | H17: 358 | I17: 5.77 | J17: =I17*7.1 -> 40.967 | K17: =H17*0.7 -> 250.6
A18: 42828 | C18: 0 | D18: 9.3 | E18: 0 | F18: 8.2 | G18: 2 | H18: 398 | I18: 7.5 | J18: =I18*7.1 -> 53.25 | K18: =H18*0.7 -> 278.6
A19: ='1 EAU BRUTE DE VILLE'!A19 -> 43560 | C19: 0 | D19: 9.95 | E19: 0 | F19: 14.3 | G19: 5.6 | H19: 616 | I19: 11.8 | J19: =I19*7.1 -> 83.78 | K19: =H19*0.7 -> 431.2
A20: 42832 | C20: 0 | D20: 10.36 | E20: 0 | F20: 10 | G20: 5 | H20: 621 | J20: 71 | K20: =H20*0.7 -> 434.7
A21: 42835 | C21: 0 | D21: 11.2 | E21: 0 | F21: 42 | G21: 25 | H21: 1650 | J21: 71 | K21: =H21*0.7 -> 1155
A22: 42837 | C22: 0 | D22: 10.69 | E22: 0 | F22: 11 | G22: 8 | H22: 680 | J22: 106 | K22: =H22*0.7 -> 476
A23: 42844 | C23: 0 | D23: 10.93 | E23: 0 | F23: 20 | G23: 12 | H23: 903 | J23: 95 | K23: =H23*0.7 -> 632.1 | N23: arrêt pompe doseuse
A24: 42846 | C24: 0 | D24: 11.25 | E24: 0 | F24: 45 | G24: 25 | H24: 2000 | J24: 210 | K24: =H24*0.7 -> 1400
A25: 42849 | C25: 0 | D25: 11.11 | E25: 0 | F25: 40 | G25: 26.5 | H25: 1478 | J25: 140 | K25: =H25*0.7 -> 1034.6
A26: 42851 | C26: 0 | D26: 10.93 | E26: 0 | F26: 15 | G26: 10 | H26: 961 | J26: 106 | K26: =H26*0.7 -> 672.7
A27: 42853 | C27: 0 | D27: 11 | E27: 0 | F27: 30 | G27: 19 | H27: 1519 | J27: 131.35 | K27: =H27*0.7 -> 1063.3
A28: 42858 | C28: 0 | D28: 11.25 | E28: 0 | F28: 0 | G28: 0 | H28: 1460 | J28: 220.1 | K28: =H28*0.7 -> 1022
A29: 42860 | C29: 0 | D29: 10.79 | E29: 0 | F29: 20 | G29: 10 | H29: 871 | J29: 100 | K29: =H29*0.7 -> 609.7 | N29: arrêt pompe doseuse
A30: 42863 | C30: 0 | D30: 11.22 | E30: 0 | F30: 28 | G30: 20 | H30: 1624 | J30: 145 | K30: =H30*0.7 -> 1136.8
A31: 42865 | C31: 0 | D31: 10.62 | E31: 0 | F31: 14 | G31: 7 | H31: 726 | J31: 72.5 | K31: =H31*0.7 -> 508.2
A32: 42867 | C32: 0 | D32: 11.19 | E32: 0 | F32: 47 | G32: 23 | H32: 1913 | J32: 177.5 | K32: =H32*0.7 -> 1339.1 | N32: arret pompe doseuse
A33: 42870 | C33: 0 | D33: 10.85 | E33: 0 | F33: 17 | G33: 10 | H33: 892 | J33: 78.1 | K33: =H33*0.7 -> 624.4
A34: 42872 | C34: 0 | D34: 11 | E34: 0 | F34: 8 | G34: 4 | H34: 2360 | J34: 85 | K34: =H34*0.7 -> 1652
A35: 42874 | C35: 0 | D35: 11.33 | E35: 0 | F35: 8 | G35: 4 | H35: 1268 | J35: 77 | K35: =H35*0.7 -> 887.6
A36: 42877 | C36: 0 | D36: 11 | E36: 0 | F36: 13 | G36: 7 | H36: 975 | J36: 70 | K36: =H36*0.7 -> 682.5
A37: 42879 | C37: 0 | D37: 11.32 | E37: 0 | F37: 18 | G37: 10 | H37: 2178 | J37: 77 | K37: =H37*0.7 -> 1524.6 | N37: arret pompe doseuse
A38: 42881 | C38: 0 | D38: 11.06 | E38: 0 | F38: 18 | G38: 10 | H38: 937 | J38: 99.4 | K38: =H38*0.7 -> 655.9
A39: 42884 | C39: 0 | D39: 10.93 | E39: 0 | F39: 0 | G39: 0 | H39: 1256 | J39: 163.3 | K39: =H39*0.7 -> 879.2
A40: 42886 | C40: 0 | D40: 11.26 | E40: 0 | F40: 55 | G40: 30 | H40: 2450 | J40: 210 | K40: =H40*0.7 -> 1715 | N40: arret pompe doseuse
...

Sheet 10 VAPO S20
A1: 2017
E2: VAPO S20
A3: EAU BRUTE UFFOLTZ | Q3: 1x/mois
A4: VOLUME EN M3 | B4: COMPTEUR | C4: CONSO | D4: Paramètres physico-chimiques | K4: SALINITE | L4: SILICE | M4: Hydrex1461 | N4: Hydrex 1908 | P4: METAUX | R4: purge | T4: Observations & actions correctives
D5: pH | E5: TH | F5: TAC | G5: TA | H5: Conductivité | I5: Cl | J5: Cl | L5: SiO2 | M5: orthophosphate | N5: sulfite | O5: SiO2/TAC | P5: Fer | Q5: Cu | R5: M3
E6: Circuit | F6: Circuit | M6: lecture mg/l | N6: lecture mg/l | P6: mg/l | Q6: mg/l
E7: °f | F7: °f | G7: °f | I7: °f | J7: mg/l | K7: mg/l | L7: mg/l
C8: m3 | D8: 10,5-12 | E8: =0 -> 0 | F8: 50-100 | G8: 5-75 | H8: inf 6000 | I8: <85 | J8: <600 | K8: inf 4200 | L8: <160 | M8: 10-30 mg/l | N8: 30-60mg/l | O8: inf 1,6 | P8: < 0,5 mg/l | Q8: < 0,5mg/l | R8: Demandé | S8: réalisé le
A9: DATE | D9: AFNOR | E9: AFNOR | G9: NORME STI | H9: a verif const | K9: a verif const | P9: AFNOR | Q9: AFNOR
A10: 42811 | C10: 0 | D10: 10.26 | E10: 0 | F10: 21.3 | G10: 10.2 | H10: 800 | I10: 2.26 | J10: 16.1 | K10: =H10*0.7 -> 560 | M10: 11.3 | O10: =L10/F10 -> 0
C11: 0 | K11: =H11*0.7 -> 0
A12: 42814 | C12: 0 | D12: 10.34 | E12: 0 | F12: 22.9 | G12: 10.8 | H12: 899 | I12: 13.8 | J12: =I12*7.1 -> 97.98 | K12: =H12*0.7 -> 629.3 | M12: 10.3
A13: 42817 | C13: 0 | D13: 9.54 | E13: 0 | F13: 9.8 | G13: 2.8 | H13: 565 | I13: 6.8 | J13: =I13*7.1 -> 48.28 | K13: =H13*0.7 -> 395.5 | L13: 19 | M13: 4.82 | O13: =L13/F13 -> 1.9387755 | P13: 0.41 | T13: augmenter les pompe H 1461 et H 1908
A14: 42818 | C14: 0 | D14: 10.78 | E14: 0 | F14: 12.6 | G14: 8.8 | H14: 754 | I14: 9 | J14: =I14*7.1 -> 63.9 | K14: =H14*0.7 -> 527.8 | L14: 16.8 | M14: 1.7 | O14: =L14/F14 -> 1.3333333 | P14: 0.68
A15: 42821 | C15: 0 | D15: 9.3 | E15: 0 | F15: 9.5 | G15: 2.6 | H15: 468 | I15: 6.46 | J15: =I15*7.1 -> 45.866 | K15: =H15*0.7 -> 327.6
A16: 42823 | C16: 0 | D16: 9.6 | E16: 0 | F16: 13.1 | G16: 4.2 | H16: 575 | I16: 6.28 | J16: =I16*7.1 -> 44.588 | K16: =H16*0.7 -> 402.5
A17: 42825 | C17: 0 | D17: 9.73 | E17: 0 | F17: 5.8 | G17: 2.1 | H17: 357 | I17: 5.98 | J17: =I17*7.1 -> 42.458 | K17: =H17*0.7 -> 249.9 | M17: 1.14 | N17: 10
A18: 42798 | C18: 0 | D18: 10.07 | E18: 0 | F18: 9.8 | G18: 4.9 | H18: 488 | I18: 2 | J18: =I18*7.1 -> 14.2 | K18: =H18*0.7 -> 341.6 | M18: 4.77
A19: ='1 EAU BRUTE DE VILLE'!A19 -> 43560 | C19: 0 | D19: 10.07 | E19: 0 | F19: 14.6 | G19: 6.2 | H19: 639 | I19: 16.5 | J19: =I19*7.1 -> 117.15 | K19: =H19*0.7 -> 447.3 | M19: 7.04 | N19: 60
A20: 42832 | C20: 0 | E20: 0 | F20: 12 | G20: 5 | J20: 72 | K20: =H20*0.7 -> 0 | M20: 10 | N20: 60
A21: 42835 | C21: 0 | E21: 0 | F21: 57 | G21: 32 | J21: 67 | K21: =H21*0.7 -> 0 | M21: 10 | N21: 300
A22: 42837 | C22: 0 | E22: 0 | F22: 15 | G22: 10 | J22: 107 | K22: =H22*0.7 -> 0 | M22: 8 | N22: 0
A23: 42844 | C23: 0 | E23: 0 | F23: 20 | G23: 12 | J23: 102 | K23: =H23*0.7 -> 0 | M23: 30 | N23: 180
A24: 42846 | C24: 0 | E24: 0 | F24: 49 | G24: 25 | J24: 212 | K24: =H24*0.7 -> 0 | M24: 15 | N24: 180
A25: 42849 | C25: 0 | E25: 0 | F25: 45 | G25: 30 | J25: 140 | K25: =H25*0.7 -> 0 | M25: 20 | N25: 0
A26: 42851 | C26: 0 | E26: 0 | F26: 17 | G26: 12 | J26: 110 | K26: =H26*0.7 -> 0 | M26: 5 | N26: 0
A27: 42853 | C27: 0 | E27: 0 | F27: 36 | G27: 26 | J27: 156.2 | K27: =H27*0.7 -> 0 | M27: 34.6 | N27: 27.9
A28: 42858 | C28: 0 | E28: 0 | F28: 0 | G28: 0 | J28: 170.4 | K28: =H28*0.7 -> 0 | M28: 10 | N28: 80
A29: 42860 | C29: 0 | E29: 0 | F29: 20 | G29: 11 | J29: 100 | K29: =H29*0.7 -> 0 | M29: 20 | N29: 80
A30: 42863 | C30: 0 | E30: 0 | F30: 32 | G30: 24 | J30: 177.5 | K30: =H30*0.7 -> 0 | M30: 25 | N30: 180
A31: 42865 | C31: 0 | E31: 0 | F31: 21 | G31: 15 | J31: 74 | K31: =H31*0.7 -> 0 | M31: 10 | N31: 10
A32: 42867 | C32: 0 | E32: 0 | F32: 45 | G32: 25 | J32: 191.7 | K32: =H32*0.7 -> 0 | M32: 50 | N32: 180 | T32: arret pompe doseeuse
A33: 42870 | C33: 0 | E33: 0 | F33: 20 | G33: 10 | J33: 79 | K33: =H33*0.7 -> 0 | M33: 15 | N33: 90
A34: 42872 | C34: 0 | E34: 0 | F34: 55 | G34: 30 | J34: 210 | K34: =H34*0.7 -> 0 | M34: 10 | N34: 80
A35: 42874 | C35: 0 | E35: 0 | F35: 22 | G35: 15 | J35: 140 | K35: =H35*0.7 -> 0 | M35: 10 | N35: 10
A36: 42877 | C36: 0 | E36: 0 | F36: 15 | G36: 10 | J36: 70 | K36: =H36*0.7 -> 0 | M36: 0 | N36: 40
A37: 42879 | C37: 0 | E37: 0 | F37: 20 | G37: 12 | J37: 170 | K37: =H37*0.7 -> 0 | M37: 0 | N37: 200
A38: 42881 | C38: 0 | E38: 0 | F38: 15 | G38: 10 | J38: 99 | K38: =H38*0.7 -> 0 | M38: 5 | N38: 0
A39: 42884 | C39: 0 | E39: 0 | F39: 0 | G39: 0 | J39: 191.7 | K39: =H39*0.7 -> 0 | M39: 40 | N39: 0
A40: 42886 | C40: 0 | E40: 0 | F40: 52 | G40: 32 | J40: 210 | K40: =H40*0.7 -> 0 | M40: 50 | N40: 180 | T40: arret pompe doseeuse
...

Sheet 11 EAU brute sud 
D1: 2017
H2: CHAUDIERE Sud
A3: EAU DE FORAGE
A4: VOLUME EN M3 | B4: COMPTEUR | C4: CONSO | D4: Paramètres physico-chimiques | K4: SALINITE | L4: METAUX | N4: Observations & actions correctives
D5: pH | E5: TH | F5: TAC | G5: TA | H5: Conductivité | I5: Cl | J5: Cl | L5: Fer | M5: Cu
E6: Circuit | F6: Circuit | L6: mg/l | M6: mg/l
E7: °f | F7: °f | G7: °f | H7: µs/cm | I7: °f | J7: mg/l | K7: mg/l
C8: m3
A9: DATE | D9: norme afnor | E9: norme afnor | G9: NORME STI | L9: norme afnor | M9: norme afnor
C10: 0
C11: 0
C12: 0
C13: 0
A14: 42818 | C14: 0 | D14: 7.93 | E14: 13 | F14: 9.4 | G14: 0 | H14: 395 | I14: 5.64 | J14: =I14*7.1 -> 40.044 | K14: =H14*0.7 -> 276.5 | L14: 1.9
A15: 42821 | C15: 0 | D15: 8 | E15: 12 | F15: 9.5 | G15: 0 | H15: 390 | I15: 5.95 | J15: =I15*7.1 -> 42.245 | K15: =H15*0.7 -> 273
A16: 42823 | C16: 0 | D16: 8 | E16: 13 | F16: 9.4 | G16: 0 | H16: 397 | I16: 6.7 | J16: =I16*7.1 -> 47.57 | K16: =H16*0.7 -> 277.9
A17: 42825 | C17: 0 | D17: 7.85 | E17: 12.7 | F17: 8.7 | G17: 0 | H17: 389 | I17: 6.7 | J17: =I17*7.1 -> 47.57 | K17: =H17*0.7 -> 272.3
A18: 42828 | C18: 0 | D18: 7.78 | E18: 16.3 | F18: 11.3 | G18: 0 | H18: 432 | I18: 7.7 | J18: =I18*7.1 -> 54.67 | K18: =H18*0.7 -> 302.4
A19: ='1 EAU BRUTE DE VILLE'!A19 -> 43560 | C19: 0 | D19: 8 | E19: 14.2 | F19: 10.3 | G19: 0 | H19: 404 | I19: 8.5 | J19: =I19*7.1 -> 60.35 | K19: =H19*0.7 -> 282.8
A20: 42835 | C20: 0 | E20: 12 | F20: 11 | G20: 0 | J20: 50 | K20: =H20*0.7 -> 0
A21: 42837 | C21: 0 | E21: 11.5 | F21: 7 | G21: 0 | J21: 65 | K21: =H21*0.7 -> 0
A22: 42839 | C22: 0 | E22: 10 | F22: 11 | G22: 0 | J22: 60 | K22: =H22*0.7 -> 0
A23: 42842 | C23: 0 | E23: 10 | F23: 11 | G23: 0 | J23: 60 | K23: =H23*0.7 -> 0
A24: 42844 | C24: 0 | E24: 10.5 | F24: 8 | G24: 0 | J24: 42 | K24: =H24*0.7 -> 0
A25: 42849 | C25: 0 | E25: 13 | F25: 6.5 | G25: 0 | J25: 80 | K25: =H25*0.7 -> 0
A26: 42851 | C26: 0 | E26: 8.5 | F26: 7 | G26: 0 | J26: 58 | K26: =H26*0.7 -> 0
A27: 42853 | C27: 0 | E27: 16.4 | F27: 11 | G27: 0 | J27: 81.65 | K27: =H27*0.7 -> 0
A28: 42856 | C28: 0 | E28: 14 | F28: 11 | G28: 0 | J28: 60 | K28: =H28*0.7 -> 0
A29: 42858 | C29: 0 | E29: 14.5 | F29: 7.1 | G29: 0 | J29: 106.5 | K29: =H29*0.7 -> 0
A30: 42860 | C30: 0 | E30: 9.5 | F30: 5 | G30: 0 | J30: 53.5 | K30: =H30*0.7 -> 0
A31: 42860 | C31: 0 | E31: 8.5 | F31: 6 | G31: 0 | J31: 71 | K31: =H31*0.7 -> 0
... A41: 42902 | C41: 0 | E41: 9.5 | F41: 7 | G41: 0 | J41: 56 | K41: =H41*0.7 -> 0
C42: 0 | K42: =H42*0.7 -> 0
A43: 42905 | C43: 0 | D43: 8 | E43: 12 | F43: 7.3 | G43: 0 | H43: 371 | I43: 7.58 | J43: =I43*7.1 -> 53.818 | K43: =H43*0.7 -> 259.7 | L43: 0.32
A44: 42907 | C44: 0 | D44: 8 | E44: 13 | F44: 7.3 | G44: 0 | H44: 380 | I44: 7.1 | J44: =7.1*7.1 -> 50.41 | K44: =H44*0.7 -> 266 | L44: 0.32
A45: 42909 | C45: 0 | D45: 8.3 | E45: 12 | F45: 8.4 | G45: 0 | H45: 379 | I45: 6.89 | J45: =7.1*7.1 -> 50.41 | K45: =H45*0.7 -> 265.3 | L45: 0.4
A46: 42912 | C46: 0 | D46: 7.5 | E46: 11.7 | F46: 7.7 | G46: 0 | H46: 367 | I46: 6.44 | J46: =I46*7.1 -> 45.724 | K46: =H46*0.7 -> 256.9 | L46: 0.2
A47: 42914 | C47: 0 | D47: 7.6 | E47: 2 | F47: 11.3 | G47: 0 | H47: 336 | I47: 6.42 | J47: =I47*7.1 -> 45.582 | K47: =H47*0.7 -> 235.2 | L47: 0.45 | N47: probleme de prise d echantillon
A48: 42916 | C48: 0 | D48: 6.94 | E48: 11 | F48: 9.7 | G48: 0 | H48: 368 | I48: 6.5 | J48: =I48*7.1 -> 46.15 | K48: =H48*0.7 -> 257.6 | L48: 0.009
A49: 42919 | C49: 0 | D49: 6.56 | E49: 10.6 | F49: 7.8 | G49: 0 | H49: 350 | I49: 6.46 | J49: =I49*7.1 -> 45.866 | K49: =H49*0.7 -> 245 | L49: 0.4
...

Sheet 12 EA SUD 
D1: 2017
H2: EA SUD
A3: EAU ADOUCIE S10 | N3: 1x/mois
A4: VOLUME EN M3 | B4: COMPTEUR | C4: CONSO | D4: Paramètres physico-chimiques | K4: SALINITE | L4: SILICE | M4: METAUX | O4: purge | Q4: Observations & actions correctives
D5: pH | E5: TH | F5: TAC | G5: TA | H5: Conductivité | I5: Cl- | J5: Cl- | L5: SiO2 | M5: Fer | N5: Cu | O5: M3
E6: Circuit | F6: Circuit | M6: mg/l | N6: mg/l
E7: °f | F7: °f | G7: °f | I7: °f | J7: mg/l | K7: mg/l | L7: mg/l
C8: m3 | E8: <0,05 | M8: < 0,03 mg/l | N8: < 0,01mg/l | O8: Demandé | P8: réalisé le
A9: DATE | D9: AFNOR | E9: AFNOR | G9: NORME STI | M9: AFNOR | N9: AFNOR
C10: 0 | K10: =G10*0.7 -> 0
C11: 0 | K11: =G11*0.7 -> 0
C12: 0 | K12: =G12*0.7 -> 0
C13: 0 | K13: =G13*0.7 -> 0
A14: 42818 | C14: 0 | D14: 8.15 | E14: 0 | F14: 8.8 | G14: 0 | H14: 387 | I14: 6.24 | J14: =I14*7.1 -> 44.304 | K14: =H14*0.7 -> 270.9 | L14: 12.5 | M14: 1.49
A15: 42821 | C15: 0 | D15: 9.7 | E15: 0 | F15: 6.2 | G15: 2.6 | H15: 424 | I15: 2.88 | J15: =I15*7.1 -> 20.448 | K15: =H15*0.7 -> 296.8
A16: 42823 | C16: 0 | D16: 7.96 | E16: 0 | F16: 9.4 | G16: 0 | H16: 400 | I16: 5.6 | J16: =I16*7.1 -> 39.76 | K16: =H16*0.7 -> 280
A17: 42825 | C17: 0 | D17: 7.9 | E17: 0 | F17: 9.1 | G17: 0 | H17: 391 | I17: 5.89 | J17: =I17*7.1 -> 41.819 | K17: =H17*0.7 -> 273.7
A18: 42828 | C18: 0 | D18: 7.8 | E18: 0 | F18: 8.4 | G18: 0 | H18: 362 | I18: 7.9 | J18: =I18*7.1 -> 56.09 | K18: =H18*0.7 -> 253.4
A19: ='1 EAU BRUTE DE VILLE'!A19 -> 43560 | C19: 0 | D19: 8 | E19: 0 | F19: 8.7 | G19: 0 | H19: 364 | I19: 8.6 | J19: =I19*7.1 -> 61.06 | K19: =H19*0.7 -> 254.8
A20: 42835 | C20: 0 | E20: 0 | F20: 8.2 | G20: 0 | J20: 52 | K20: =G20*0.7 -> 0
A21: 42837 | C21: 0 | E21: 0 | F21: 6 | G21: 0 | J21: 90 | K21: =G21*0.7 -> 0
A22: 42839 | C22: 0 | E22: 0 | F22: 6 | G22: 0 | J22: 80 | K22: =G22*0.7 -> 0
A23: 42842 | C23: 0 | E23: 0 | F23: 6 | G23: 0 | J23: 80 | K23: =G23*0.7 -> 0
A24: 42844 | C24: 0 | E24: 0.4 | F24: 8 | G24: 0 | J24: 42 | K24: =G24*0.7 -> 0 | Q24: nettoyage des résine U1 avec Res clean + régé
A25: 42849 | C25: 0 | E25: 0 | F25: 6.5 | G25: 0 | J25: 60 | K25: =G25*0.7 -> 0
A26: 42851 | C26: 0 | E26: 0 | F26: 7 | G26: 0 | J26: 55 | K26: =G26*0.7 -> 0
A27: 42853 | C27: 0 | E27: 0 | F27: 7 | G27: 0 | J27: 41.89 | K27: =G27*0.7 -> 0
A28: 42856 | C28: 0 | E28: 0 | F28: 6 | G28: 0 | J28: 80 | K28: =G28*0.7 -> 0
A29: 42858 | C29: 0 | E29: 0 | F29: 7 | G29: 0 | J29: 71 | K29: =G29*0.7 -> 0
A30: 42860 | C30: 0 | E30: 0.1 | F30: 7 | G30: 0 | J30: 49.1 | K30: =G30*0.7 -> 0
A31: 42863 | C31: 0 | E31: 0 | F31: 5 | G31: 0 | J31: 49.1 | K31: =G31*0.7 -> 0
A32: 42865 | C32: 0 | E32: 0 | F32: 2.4 | G32: 0.8 | J32: 21 | K32: =G32*0.7 -> 0.56
A33: 42867 | C33: 0 | E33: 0 | F33: 6 | G33: 0 | J33: 58 | K33: =G33*0.7 -> 0
A34: 42888 | C34: 0 | E34: 0 | F34: 6 | G34: 0 | J34: 49.7 | K34: =G34*0.7 -> 0
A35: 42891 | C35: 0 | E35: 0.05 | F35: 9 | G35: 0 | J35: 71 | K35: =G35*0.7 -> 0
A36: 42893 | C36: 0 | E36: 0 | F36: 6 | G36: 0 | J36: 50 | K36: =G36*0.7 -> 0
... A40: 42902 | C40: 0 | E40: 0 | F40: 6 | G40: 0 | J40: 58 | K40: =G40*0.7 -> 0
C41: 0 | K41: =G41*0.7 -> 0
A42: 42905 | C42: 0 | D42: 7.6 | E42: 0 | F42: 6.7 | G42: 0 | H42: 357 | I42: 6.53 | J42: =I42*7.1 -> 46.363 | K42: =H42*0.7 -> 249.9 | L42: 4.3 | M42: 0.08
A43: 42907 | C43: 0 | D43: 7.8 | E43: 0 | F43: 6.5 | G43: 0 | H43: 347 | I43: 6.85 | J43: =I43*7.1 -> 48.635 | K43: =H43*0.7 -> 242.9 | L43: 8.9 | M43: 0.13
...

Sheet 13 Bâche SUD 
A1: BACHE ALIM S10 | D1: 2017
A2: EAU ADOUCIE S20 | H2: BACHE SUD
A3: Bache alim S10
A4: VOLUME EN M3 | B4: COMPTEUR | C4: CONSO | D4: Paramètres physico-chimiques | K4: SALINITE | L4: Hydrex1461 | M4: Hydrex 1908 | N4: METAUX | P4: Observations & actions correctives
D5: pH | E5: TH | F5: TAC | G5: TA | H5: Conductivité | I5: Cl | J5: Cl | L5: ORTHOPHOSPHATE | M5: sulfite | N5: Fer | O5: Cu
E6: Circuit | F6: Circuit | L6: lecture mg/l | M6: lecture mg/l | N6: mg/l | O6: mg/l
E7: °f | F7: °f | G7: °f | I7: °f | J7: mg/l | K7: mg/l
A8: 0.8 | C8: m3 | D8: >9,2 | E8: <0,05 | G8: >0 | L8: >0 | M8: >0 | N8: < 0,03 mg/l | O8: < 0,01mg/l
A9: DATE | N9: veolia | O9: veolia
C10: 0 | K10: =H10*0.7 -> 0
C11: 0 | K11: =H11*0.7 -> 0
C12: 0 | K12: =H12*0.7 -> 0
C13: 0 | K13: =H13*0.7 -> 0
A14: 42818 | C14: 0 | D14: 9.87 | E14: 0 | F14: 8 | G14: 2.7 | H14: 619 | I14: 2.94 | J14: =I14*7.1 -> 20.874 | K14: =H14*0.7 -> 433.3 | L14: 0.582 | N14: 5.71
A15: 42821 | C15: 0 | D15: 9.74 | E15: 0 | F15: 48.3 | G15: 42.5 | H15: 836 | I15: 2.88 | J15: =I15*7.1 -> 20.448 | K15: =H15*0.7 -> 585.2
A16: 42823 | C16: 0 | D16: 9.86 | E16: 0 | F16: 4.6 | G16: 1.9 | H16: 256 | I16: 2.05 | J16: =I16*7.1 -> 14.555 | K16: =H16*0.7 -> 179.2
A17: 42825 | C17: 0 | D17: 9.8 | E17: 0 | F17: 3.3 | G17: 1.6 | H17: 199.2 | I17: 1.86 | J17: =I17*7.1 -> 13.206 | K17: =H17*0.7 -> 139.44
A18: 42828 | C18: 0 | D18: 8 | E18: 0 | F18: 1.8 | G18: 0 | H18: 152 | I18: 3.5 | J18: =I18*7.1 -> 24.85 | K18: =H18*0.7 -> 106.4
A19: ='1 EAU BRUTE DE VILLE'!A19 -> 43560 | C19: 0 | D19: 9.8 | E19: 0 | F19: 3 | G19: 1.2 | H19: 161.2 | I19: 2.5 | J19: =I19*7.1 -> 17.75 | K19: =H19*0.7 -> 112.84
A20: 42835 | C20: 0 | E20: 0 | F20: 3 | G20: 1.5 | J20: 25 | K20: =H20*0.7 -> 0
A21: 42837 | C21: 0 | E21: 0 | F21: 2 | G21: 1 | J21: 9 | K21: =H21*0.7 -> 0
A22: 42839 | C22: 0 | E22: 0 | F22: 3 | G22: 1 | J22: 15 | K22: =H22*0.7 -> 0
A23: 42842 | C23: 0 | E23: 0 | F23: 2 | G23: 1 | J23: 17.5 | K23: =H23*0.7 -> 0
A24: 42844 | C24: 0 | E24: 0 | F24: 2.4 | G24: 1 | J24: 16 | K24: =H24*0.7 -> 0
A25: 42846 | C25: 0 | E25: 0 | F25: 4 | G25: 1 | K25: =H25*0.7 -> 0
A26: 42849 | C26: 0 | E26: 0 | F26: 4 | G26: 1 | J26: 21 | K26: =H26*0.7 -> 0
A27: 42486 | C27: 0 | E27: 0 | F27: 2 | G27: 1 | J27: 17 | K27: =H27*0.7 -> 0
A28: 42853 | C28: 0 | E28: 0.1 | F28: 3 | G28: 2.2 | J28: 19.88 | K28: =H28*0.7 -> 0
A29: 42856 | C29: 0 | E29: 0 | F29: 3 | G29: 1 | J29: 16 | K29: =H29*0.7 -> 0
A30: 42858 | C30: 0 | E30: 0 | F30: 0 | G30: 0 | J30: 49.7 | K30: =H30*0.7 -> 0
A31: 42860 | C31: 0 | E31: 0 | F31: 6 | G31: 0 | J31: 47.57 | K31: =H31*0.7 -> 0
A32: 42863 | C32: 0 | E32: 0 | F32: 3.2 | G32: 1 | J32: 28 | K32: =H32*0.7 -> 0
A33: 42865 | C33: 0 | E33: 0 | F33: 2.4 | G33: 0.8 | J33: 21 | K33: =H33*0.7 -> 0
A34: 42867 | C34: 0 | E34: 0 | F34: 3 | G34: 1.2 | J34: 17 | K34: =H34*0.7 -> 0
A35: 42888 | C35: 0 | E35: 0 | F35: 2.2 | G35: 0.1 | J35: 11.36 | K35: =H35*0.7 -> 0
A36: 42891 | C36: 0 | E36: 0 | F36: 3 | G36: 1 | J36: 14 | K36: =H36*0.7 -> 0
A37: 42893 | C37: 0 | E37: 0 | F37: 2.5 | G37: 0.2 | J37: 15 | K37: =H37*0.7 -> 0
... A41: 42902 | C41: 0 | E41: 0 | F41: 2.4 | G41: 1 | J41: 21 | K41: =H41*0.7 -> 0
C42: 0 | K42: =H42*0.7 -> 0
A43: 42935 | C43: 0 | D43: 8.8 | E43: 0 | F43: 2.8 | G43: 0.3 | H43: 216 | I43: 2.88 | J43: =I43*7.1 -> 20.448 | K43: =H43*0.7 -> 151.2 | L43: 0.56
...

Sheet 14 CHAUDIERE SUD 
A1: 2017
E2: CHAUDIERE SUD
A3: CHAUDIERE S10
A4: VOLUME EN M3 | B4: COMPTEUR | C4: CONSO | D4: Paramètres physico-chimiques | K4: SALINITE | L4: SILICE | M4: Hydrex1461 | N4: Hydrex 1908 | P4: METAUX | R4: purge | T4: Observations & actions correctives
D5: pH | E5: TH | F5: TAC | G5: TA | H5: Conductivité | I5: Cl | J5: Cl | L5: SiO2 | M5: ORTHOPHOSPHATE | N5: sulfite | O5: SiO2/TAC | P5: Fer | Q5: Cu | R5: M3
E6: Circuit | F6: Circuit | M6: lecture mg/l | N6: lecture mg/l | P6: mg/l | Q6: mg/l
E7: °f | F7: °f | G7: °f | I7: °f | J7: mg/l | K7: mg/l | L7: mg/l
A8: 6.9 | C8: m3 | D8: 10,5-11,8 | E8: 0 | F8: INF 70 | G8: 5-50 | H8: <6000 | I8: <85 | J8: <603 | K8: <4200 | L8: <1,6 | M8: 8-15mg/l | N8: 30-60 | O8: <1,5 | P8: < 0,5 mg/l | Q8: < 0,5mg/l | R8: Demandé | S8: réalisé le
A9: DATE | P9: veolia | Q9: veolia
C10: 0 | K10: =H10*0.7 -> 0
C11: 0 | K11: =H11*0.7 -> 0
C12: 0 | K12: =H12*0.7 -> 0
C13: 0 | K13: =H13*0.7 -> 0
A14: 42818 | C14: 0 | D14: 10.7 | E14: 0 | F14: 21.1 | G14: 15.7 | H14: 2070 | I14: 6.02 | J14: =I14*7.1 -> 42.742 | K14: =H14*0.7 -> 1449 | L14: 15.3 | M14: 1.84 | O14: =L14/F14 -> 0.72511848 | P14: 1.84
A15: 42821 | C15: 0 | D15: 8.4 | E15: 0 | F15: 9.5 | G15: 0.2 | H15: 2020 | I15: 124 | J15: =I15*7.1 -> 880.4 | K15: =H15*0.7 -> 1414
A16: 42823 | C16: 0 | D16: 11.65 | E16: 0 | F16: 53 | G16: 46.7 | H16: 7360 | I16: 136.4 | J16: =I16*7.1 -> 968.44 | K16: =H16*0.7 -> 5152
A17: 42825 | C17: 0 | D17: 11.57 | E17: 0 | F17: 61.5 | G17: 56.6 | H17: 8710 | I17: 162.5 | J17: =I17*7.1 -> 1153.75 | K17: =H17*0.7 -> 6097 | M17: 3 | N17: 0 | T17: augmenter la pompe hydrex 1908
A18: 42828 | C18: 0 | D18: 11.6 | E18: 0 | F18: 48.1 | G18: 43.6 | H18: 6490 | I18: 181 | J18: =I18*7.1 -> 1285.1 | K18: =H18*0.7 -> 4543 | M18: 0.43 | T18: augmenter la pompe hydrex 1461
A19: ='1 EAU BRUTE DE VILLE'!A19 -> 43560 | C19: 0 | D19: 11.6 | E19: 0 | F19: 42.5 | G19: 38.5 | H19: 5170 | I19: 113.5 | J19: =I19*7.1 -> 805.85 | K19: =H19*0.7 -> 3619
A20: 42835 | C20: 0 | D20: 11.7 | E20: 0 | F20: 45 | G20: 38 | H20: 6210 | J20: 1050 | K20: =H20*0.7 -> 4347 | M20: 10 | N20: 0
A21: 42837 | C21: 0 | D21: 11.71 | E21: 0 | F21: 37 | G21: 32 | H21: 5280 | J21: 745 | K21: =H21*0.7 -> 3696 | M21: 15 | N21: 10 | T21: augmenter cadanse 1908 a 12 imp
A22: 42839 | C22: 0 | D22: 11.43 | E22: 0 | F22: 35 | G22: 30 | H22: 7500 | J22: 490 | K22: =H22*0.7 -> 5250 | M22: 15 | N22: 10
