Workbook

Sheet Disponibilité
A1: CIS MONTIGNY - PLANNING DE DISPO - EQUIPE 3 - Février 2015 | B1: CIS MONTIGNY VIGILI DEL FUEGO – FORZA LA 3 - PLANNING DE GARDE – JUIN 2008 | C1: CIS MONTIGNY VIGILI DEL FUEGO – FORZA LA 3 - PLANNING DE GARDE – JUIN 2008 | D1: CIS MONTIGNY VIGILI DEL FUEGO – FORZA LA 3 - PLANNING DE GARDE – JUIN 2008 | E1: CIS MONTIGNY VIGILI DEL FUEGO – FORZA LA 3 - PLANNING DE GARDE – JUIN 2008 | F1: CIS MONTIGNY VIGILI DEL FUEGO – FORZA LA 3 - PLANNING DE GARDE – JUIN 2008 | G1: CIS MONTIGNY VIGILI DEL FUEGO – FORZA LA 3 - PLANNING DE GARDE – JUIN 2008 | H1: CIS MONTIGNY VIGILI DEL FUEGO – FORZA LA 3 - PLANNING DE GARDE – JUIN 2008 | I1: CIS MONTIGNY VIGILI DEL FUEGO – FORZA LA 3 - PLANNING DE GARDE – JUIN 2008 | J1: CIS MONTIGNY VIGILI DEL FUEGO – FORZA LA 3 - PLANNING DE GARDE – JUIN 2008 | O1: CIS MONTIGNY VIGILI DEL FUEGO – FORZA LA 3 - PLANNING DE GARDE – JUIN 2008
B3: Cd SV | C3: PL | D3: Inc div | E3: CA1 | F3: INC2 | G3: mercredi | H3: dimanche j | I3: dimanche n | J3: jeudi | K3: lundi | L3: vendredi | M3: mardi | N3: samedi j | O3: samedi n
G4: 4 | H4: 8 | I4: 8 | J4: 12 | K4: 16 | L4: 20 | M4: 24 | N4: 28 | O4: 28
A5: henry j | B5: X | C5: X | D5: X | E5: X | F5: X | G5: 18H A 7H | H5: VACANCES | I5: VACANCES | J5: VACANCES | K5: 20H A 6H | L5: ASTREINTE | M5: ASTREINTE | N5: 7H A 18H | O5: 18H A 7H
A7: saum m | B7: X | C7: X | D7: X | E7: X | F7: X | G7: VACANCES | H7: 7H A 18H | I7: 18H A 7H | J7: ABS | K7: 18H A 7H | L7: 18H A 7H | M7: 18H A 7H | N7: 7H A 18H | O7: 18H A 7H | Q7: A REMPLIR RAPIDEMENT
A9: biotti a | B9: X | C9: X | D9: X | E9: X | F9: X | G9: 18H A 7H | H9: 7H A 18H | I9: ABS | J9: 18H A 7H | K9: 18H A 7H | L9: 18H A 7H | M9: 18H A 7H | N9: 7H A 18H | O9: ABS
A11: corte m | B11: X | C11: X | D11: X | E11: X | G11: 19H A 6H | H11: ABS | I11: 18H A 6H | J11: 19H A 6H | K11: 19H A 6H | L11: 19H A 7H | M11: 19H A 6H | N11: 7H A 18H | O11: 18H A 7H
A14: wunsch d | B14: X | C14: X | D14: X | E14: X | G14: ABS | H14: 7H A 18H | I14: 18H A 7H | J14: ABS | K14: ABS | L14: ABS | M14: ABS | N14: ABS | O14: 18H A 7H
A16: reygrobellet | B16: X | C16: X | D16: X | E16: X | G16: 19H A 6H | H16: 7H A 18H | I16: 18H A 6H | J16: 19H A 6H | K16: 19H A 6H | L16: 19H A 7H | M16: 19H A 6H | N16: 7H A 18H | O16: 18H A 7H
A18: ferrier g | B18: X | D18: X | E18: X | G18: 19H A 6H | H18: 7H A 18H | I18: 18H A 6H | J18: 19H A 6H | K18: 19H A 6H | L18: 19H A 7H | M18: 19H A 6H | N18: 7H A 18H | O18: 18H A 7H
A20: archen p | B20: X | C20: X | D20: X | E20: X | G20: 19H A 6H | H20: 7H A 18H | I20: 18H A 6H | J20: 19H A 6H | K20: 19H A 6H | L20: 19H A 7H | M20: 19H A 6H | N20: 7H A 18H | O20: 18H A 7H
A22: clausse k | B22: X | C22: X | D22: X | E22: X
G23: ABS | H23: ABS | I23: ABS | J23: ABS | K23: ABS | L23: ABS | M23: 18H A 7H | N23: ABS | O23: ABS
A25: moses c | B25: X | C25: X | D25: X | G25: ABS | H25: 7H A 18H | I25: 18H A 7H | J25: 18H A 7H | K25: 18H A 7H | L25: 18H A 7H | M25: ABS | N25: ABS | O25: ABS
A27: amann l | B27: X | D27: X | E27: X | G27: ABS | H27: VACANCES | I27: VACANCES | J27: VACANCES | K27: ABS | L27: ABS | M27: ABS | N27: 7H A 18H | O27: 18H A 7H
A29: mahe j | B29: X | D29: X | E29: X | G29: ABS | H29: ABS | I29: ABS | J29: ABS | K29: ABS | L29: ABS | M29: ABS | N29: ABS | O29: ABS
A31: wagner j | B31: X | D31: X | G31: 18H A 7H | H31: 7H A 18H | I31: 18H A 7H | J31: 18H A 7H | K31: 18H A 7H | L31: 18H A 7H | M31: 18H A 7H | N31: 7H A 18H | O31: 18H A 7H
A33: lopes d | B33: X | C33: X | D33: X
A35: lopes d | B35: X | C35: X | D35: X | G35: 18H A 7H | H35: 7H A 18H | I35: 18H A 3H | J35: 18H A 3H | K35: 18H A 3H | L35: 18H A 5H | M35: 18H A 3H | N35: ABS | O35: 18H A 7H
U36: Merci
A37: collin c | B37: X | D37: X | G37: 22H15 A 7H | H37: 7H A 18H | I37: 18H A 7H | J37: 18H A 3H | K37: 18H A 7H | L37: 18H A 7H | M37: 23H30 A 7H | N37: ABS | O37: 20H15 A 7H
A39: parmentelat | D39: X | G39: ABS | H39: ABS | I39: ABS | J39: ABS | K39: ABS | L39: ABS | M39: ABS | N39: ABS | O39: ABS
A41: devillard m | B41: X | D41: X | G41: ABS | H41: 7H A 18H | I41: 18H A 7H | J41: ABS | K41: 18H A 7H | L41: 18H A 7H | M41: 20H A 7H | N41: 11H A 18H | O41: 18H A 7H
A43: clevenot m | B43: X | D43: X | G43: ABS | H43: 7H A 18H | I43: 18H A 6H | J43: 18H A 6H | K43: 18H A 6H | L43: 18H A 7H | M43: 18H A 6H | N43: 7H A 18H | O43: 18H A 7H
A45: rahi l | D45: X | G45: 18H A 6H | H45: 7H A 18H | I45: 18H A 6H | J45: 18H A 6H | K45: 18H A 7H | L45: 18H A 7H | M45: 21H A 7H | N45: 7H A 18H | O45: 18H A 7H
A47: delrieu p | B47: X | D47: X | G47: 19H30 A 7H | H47: ABS | I47: ABS | J47: 19H30 A 7H | K47: 19H30 A 7H | L47: 19H30 A 7H | M47: 19H30 A 7H | N47: ABS | O47: 19H30 A 7H
A49: marcilly m | D49: X | G49: 18H A 22H | H49: 7H A 18H | I49: 18H A 22H | J49: 18H A 22H | K49: 18H A 22H | L49: 18H A 22H | M49: 18H A 6H | N49: 7H A 18H | O49: 18H A 7H
A51: masson | G51: ABS | H51: ABS | I51: ABS | J51: ABS | K51: ABS | L51: ABS | M51: ABS | N51: ABS | O51: ABS
A53: segura p | B53: X | C53: X | D53: X | G53: 22H A 4H | H53: ABS | I53: ABS | J53: ABS | K53: 22H A 4H | L53: 22H A 4H | M53: 18H A 6H | N53: ABS | O53: ABS
A55: Effectif | G55: 13 | H55: 14 | I55: 13 | J55: 13 | K55: 16 | L55: 16 | M55: 17 | N55: 13 | O55: 16
A56: Repas | G56: marcilly | H56: archen | I56: ferrier | J56: rahi | K56: collin | L56: delrieu | M56: corte | N56: reygrobellet | O56: wagner
A57: ISP | G57: ? | H57: ? | I57: ? | J57: ? | K57: ? | L57: ? | M57: ? | N57: ? | O57: ?
A58: Chef de Groupe | G58: ? | H58: ? | I58: ? | J58: ? | K58: ? | L58: ? | M58: ? | N58: ? | O58: ?
A59: SPP | G59: SIMON | J59: SIMON | L59: SIMON | M59: BELLO 18H A 7H

Sheet Mensuel
A1: CIS MONTIGNY - PLANNING DE GARDE - EQUIPE 3 - Mars 2015 | B1: CIS MONTIGNY VIGILI DEL FUEGO – FORZA LA 3 - PLANNING DE GARDE – JUIN 2008 | C1: CIS MONTIGNY VIGILI DEL FUEGO – FORZA LA 3 - PLANNING DE GARDE – JUIN 2008 | D1: CIS MONTIGNY VIGILI DEL FUEGO – FORZA LA 3 - PLANNING DE GARDE – JUIN 2008 | E1: CIS MONTIGNY VIGILI DEL FUEGO – FORZA LA 3 - PLANNING DE GARDE – JUIN 2008 | F1: CIS MONTIGNY VIGILI DEL FUEGO – FORZA LA 3 - PLANNING DE GARDE – JUIN 2008 | G1: CIS MONTIGNY VIGILI DEL FUEGO – FORZA LA 3 - PLANNING DE GARDE – JUIN 2008 | H1: CIS MONTIGNY VIGILI DEL FUEGO – FORZA LA 3 - PLANNING DE GARDE – JUIN 2008 | I1: CIS MONTIGNY VIGILI DEL FUEGO – FORZA LA 3 - PLANNING DE GARDE – JUIN 2008 | J1: CIS MONTIGNY VIGILI DEL FUEGO – FORZA LA 3 - PLANNING DE GARDE – JUIN 2008 | O1: CIS MONTIGNY VIGILI DEL FUEGO – FORZA LA 3 - PLANNING DE GARDE – JUIN 2008
B3: Cd SV | C3: PL | D3: Inc div | E3: CA1 | F3: INC2 | G3: mercredi | H3: dimanche j | I3: dimanche n | J3: jeudi | K3: lundi | L3: vendredi | M3: mardi | N3: samedi j | O3: samedi n
G4: 4 | H4: 8 | I4: 8 | J4: 12 | K4: 16 | L4: 20 | M4: 24 | N4: 28 | O4: 28
A5: henry j | B5: X | C5: X | D5: X | E5: X | F5: X | G5: =Disponibilité!G5 -> 18H A 7H | H5: =Disponibilité!H5 -> VACANCES | I5: =Disponibilité!I5 -> VACANCES | J5: =Disponibilité!J5 -> VACANCES | K5: =Disponibilité!K5 -> 20H A 6H | L5: =Disponibilité!L5 -> ASTREINTE | M5: =Disponibilité!M5 -> ASTREINTE | N5: =Disponibilité!N5 -> 7H A 18H | O5: =Disponibilité!O5 -> 18H A 7H
H6: repos | I6: repos | J6: repos | L6: travail | M6: travail | N6: c/a 2
A7: saum m | B7: X | C7: X | D7: X | E7: X | F7: X | G7: =Disponibilité!G7 -> VACANCES | H7: =Disponibilité!H7 -> 7H A 18H | I7: =Disponibilité!I7 -> 18H A 7H | J7: =Disponibilité!J7 -> ABS | K7: =Disponibilité!K7 -> 18H A 7H | L7: =Disponibilité!L7 -> 18H A 7H | M7: =Disponibilité!M7 -> 18H A 7H | N7: =Disponibilité!N7 -> 7H A 18H | O7: =Disponibilité!O7 -> 18H A 7H
G8: repos | J8: travail | M8: c/a 2
A9: biotti a | B9: X | C9: X | D9: X | E9: X | F9: X | G9: =Disponibilité!G9 -> 18H A 7H | H9: =Disponibilité!H9 -> 7H A 18H | I9: =Disponibilité!I9 -> ABS | J9: =Disponibilité!J9 -> 18H A 7H | K9: =Disponibilité!K9 -> 18H A 7H | L9: =Disponibilité!L9 -> 18H A 7H | M9: =Disponibilité!M9 -> 18H A 7H | N9: =Disponibilité!N9 -> 7H A 18H | O9: =Disponibilité!O9 -> ABS
G10: std | H10: std | I10: repos | J10: std | K10: std | L10: std | M10: std | N10: std | O10: repos
A11: corte m | B11: X | C11: X | D11: X | E11: X | G11: =Disponibilité!G11 -> 19H A 6H | H11: =Disponibilité!H11 -> ABS | I11: =Disponibilité!I11 -> 18H A 6H | J11: =Disponibilité!J11 -> 19H A 6H | K11: =Disponibilité!K11 -> 19H A 6H | L11: =Disponibilité!L11 -> 19H A 7H | M11: =Disponibilité!M11 -> 19H A 6H | N11: =Disponibilité!N11 -> 7H A 18H | O11: =Disponibilité!O11 -> 18H A 7H
G12: c/a 2 | H12: repos | I12: c/a 1 | K12: c/a 1 | O12: c/a vtu
A14: wunsch d | B14: X | C14: X | D14: X | E14: X | G14: =Disponibilité!G14 -> ABS | H14: =Disponibilité!H14 -> 7H A 18H | I14: =Disponibilité!I14 -> 18H A 7H | J14: =Disponibilité!J14 -> ABS | K14: =Disponibilité!K14 -> ABS | L14: =Disponibilité!L14 -> ABS | M14: =Disponibilité!M14 -> ABS | N14: =Disponibilité!N14 -> ABS | O14: =Disponibilité!O14 -> 18H A 7H
G15: travail | H15: c/a 1 | I15: cd 2 | J15: travail | K15: travail | L15: travail | M15: travail | N15: travail | O15: c/a 1
A16: reygrobellet | B16: X | C16: X | D16: X | E16: X | G16: =Disponibilité!G16 -> 19H A 6H | H16: =Disponibilité!H16 -> 7H A 18H | I16: =Disponibilité!I16 -> 18H A 6H | J16: =Disponibilité!J16 -> 19H A 6H | K16: =Disponibilité!K16 -> 19H A 6H | L16: =Disponibilité!L16 -> 19H A 7H | M16: =Disponibilité!M16 -> 19H A 6H | N16: =Disponibilité!N16 -> 7H A 18H | O16: =Disponibilité!O16 -> 18H A 7H
H17: c/a 2 | I17: c/a vtu | J17: c/a 2 | L17: c/a 1 | M17: c/a vtu | O17: vls
A18: ferrier g | B18: X | D18: X | E18: X | G18: =Disponibilité!G18 -> 19H A 6H | H18: =Disponibilité!H18 -> 7H A 18H | I18: =Disponibilité!I18 -> 18H A 6H | J18: =Disponibilité!J18 -> 19H A 6H | K18: =Disponibilité!K18 -> 19H A 6H | L18: =Disponibilité!L18 -> 19H A 7H | M18: =Disponibilité!M18 -> 19H A 6H | N18: =Disponibilité!N18 -> 7H A 18H | O18: =Disponibilité!O18 -> 18H A 7H
G19: c/a 1 | H19: repos | I19: c/a 2 | K19: vls | L19: c/a vtu | M19: c/a 1 | N19: c/a vtu
A20: archen p | B20: X | C20: X | D20: X | E20: X | G20: =Disponibilité!G20 -> 19H A 6H | H20: =Disponibilité!H20 -> 7H A 18H | I20: =Disponibilité!I20 -> 18H A 6H | J20: =Disponibilité!J20 -> 19H A 6H | K20: =Disponibilité!K20 -> 19H A 6H | L20: =Disponibilité!L20 -> 19H A 7H | M20: =Disponibilité!M20 -> 19H A 6H | N20: =Disponibilité!N20 -> 7H A 18H | O20: =Disponibilité!O20 -> 18H A 7H
G21: cd 2 | H21: c/a vtu | I21: std | J21: c/a 1 | K21: c/a 2 | L21: cd 2 | N21: cd vtu | O21: repos
A22: clausse k | B22: X | C22: X | D22: X | E22: X
G23: =Disponibilité!G23 -> ABS | H23: =Disponibilité!H23 -> ABS | I23: =Disponibilité!I23 -> ABS | J23: =Disponibilité!J23 -> ABS | K23: =Disponibilité!K23 -> ABS | L23: =Disponibilité!L23 -> ABS | M23: =Disponibilité!M23 -> 18H A 7H | N23: =Disponibilité!N23 -> ABS | O23: =Disponibilité!O23 -> ABS
G24: travail | H24: travail | I24: travail | J24: travail | K24: travail | L24: travail | M24: vls | N24: travail | O24: travail
A25: moses c | B25: X | C25: X | D25: X | G25: =Disponibilité!G25 -> ABS | H25: =Disponibilité!H25 -> 7H A 18H | I25: =Disponibilité!I25 -> 18H A 7H | J25: =Disponibilité!J25 -> 18H A 7H | K25: =Disponibilité!K25 -> 18H A 7H | L25: =Disponibilité!L25 -> 18H A 7H | M25: =Disponibilité!M25 -> ABS | N25: =Disponibilité!N25 -> ABS | O25: =Disponibilité!O25 -> ABS
G26: travail | H26: cd vtu | J26: cd 1 | K26: c/a vtu | M26: travail | N26: travail | O26: travail
A27: amann l | B27: X | D27: X | E27: X | G27: =Disponibilité!G27 -> ABS | H27: =Disponibilité!H27 -> VACANCES | I27: =Disponibilité!I27 -> VACANCES | J27: =Disponibilité!J27 -> VACANCES | K27: =Disponibilité!K27 -> ABS | L27: =Disponibilité!L27 -> ABS | M27: =Disponibilité!M27 -> ABS | N27: =Disponibilité!N27 -> 7H A 18H | O27: =Disponibilité!O27 -> 18H A 7H
G28: travail | H28: repos | I28: repos | J28: repos | K28: travail | L28: travail | M28: travail | N28: c/a 1 | O28: c/a 2
A29: mahe j | B29: X | D29: X | E29: X | G29: =Disponibilité!G29 -> ABS | H29: =Disponibilité!H29 -> ABS | I29: =Disponibilité!I29 -> ABS | J29: =Disponibilité!J29 -> ABS | K29: =Disponibilité!K29 -> ABS | L29: =Disponibilité!L29 -> ABS | M29: =Disponibilité!M29 -> ABS | N29: =Disponibilité!N29 -> ABS | O29: =Disponibilité!O29 -> ABS
G30: repos | H30: repos | I30: repos | J30: repos | K30: repos | L30: repos | M30: repos | N30: repos | O30: repos
A31: wagner j | B31: X | D31: X | G31: =Disponibilité!G31 -> 18H A 7H | H31: =Disponibilité!H31 -> 7H A 18H | I31: =Disponibilité!I31 -> 18H A 7H | J31: =Disponibilité!J31 -> 18H A 7H | K31: =Disponibilité!K31 -> 18H A 7H | L31: =Disponibilité!L31 -> 18H A 7H | M31: =Disponibilité!M31 -> 18H A 7H | N31: =Disponibilité!N31 -> 7H A 18H | O31: =Disponibilité!O31 -> 18H A 7H
G32: c/a vtu | H32: cd 1 | I32: cd vtu | J32: c/a vtu | K32: cd 2 | L32: vls | N32: cd 1 | O32: std
A33: lopes d | B33: X | C33: X | D33: X
A35: lopes d | B35: X | C35: X | D35: X | G35: =Disponibilité!G35 -> 18H A 7H | H35: =Disponibilité!H35 -> 7H A 18H | I35: =Disponibilité!I35 -> 18H A 3H | J35: =Disponibilité!J35 -> 18H A 3H | K35: =Disponibilité!K35 -> 18H A 3H | L35: =Disponibilité!L35 -> 18H A 5H | M35: =Disponibilité!M35 -> 18H A 3H | N35: =Disponibilité!N35 -> ABS | O35: =Disponibilité!O35 -> 18H A 7H
G36: cd 1 | H36: cd 2 | I36: eq vtu | J36: cd 2 | K36: cd vtu | L36: cd 1 | M36: cd vtu | N36: repos
A37: collin c | B37: X | D37: X | G37: =Disponibilité!G37 -> 22H15 A 7H | H37: =Disponibilité!H37 -> 7H A 18H | I37: =Disponibilité!I37 -> 18H A 7H | J37: =Disponibilité!J37 -> 18H A 3H | K37: =Disponibilité!K37 -> 18H A 7H | L37: =Disponibilité!L37 -> 18H A 7H | M37: =Disponibilité!M37 -> 23H30 A 7H | N37: =Disponibilité!N37 -> ABS | O37: =Disponibilité!O37 -> 20H15 A 7H
G38: cd vtu | H38: eq 1 | J38: cd vtu | K38: eq 2 | L38: eq 1 | M38: repos | N38: travail | O38: cd 1
A39: parmentelat | D39: X | G39: =Disponibilité!G39 -> ABS | H39: =Disponibilité!H39 -> ABS | I39: =Disponibilité!I39 -> ABS | J39: =Disponibilité!J39 -> ABS | K39: =Disponibilité!K39 -> ABS | L39: =Disponibilité!L39 -> ABS | M39: =Disponibilité!M39 -> ABS | N39: =Disponibilité!N39 -> ABS | O39: =Disponibilité!O39 -> ABS
G40: travail | H40: travail | I40: travail | J40: travail | K40: travail | L40: travail | M40: travail | N40: travail | O40: travail
A41: devillard m | B41: X | D41: X | G41: =Disponibilité!G41 -> ABS | H41: =Disponibilité!H41 -> 7H A 18H | I41: =Disponibilité!I41 -> 18H A 7H | J41: =Disponibilité!J41 -> ABS | K41: =Disponibilité!K41 -> 18H A 7H | L41: =Disponibilité!L41 -> 18H A 7H | M41: =Disponibilité!M41 -> 20H A 7H | N41: =Disponibilité!N41 -> 11H A 18H | O41: =Disponibilité!O41 -> 18H A 7H
G42: travail | H42: vls | I42: cd 1 | J42: travail | K42: cd 1 | M42: repos | N42: cd 2 | O42: cd vtu
A43: clevenot m | B43: X | D43: X | G43: =Disponibilité!G43 -> ABS | H43: =Disponibilité!H43 -> 7H A 18H | I43: =Disponibilité!I43 -> 18H A 6H | J43: =Disponibilité!J43 -> 18H A 6H | K43: =Disponibilité!K43 -> 18H A 6H | L43: =Disponibilité!L43 -> 18H A 7H | M43: =Disponibilité!M43 -> 18H A 6H | N43: =Disponibilité!N43 -> 7H A 18H | O43: =Disponibilité!O43 -> 18H A 7H
G44: eq 1 | I44: eq 2 | J44: eq vtu | K44: eq 1 | L44: cd vtu | M44: cd 2 | N44: eq 2 | O44: eq vtu
A45: rahi l | D45: X | G45: =Disponibilité!G45 -> 18H A 6H | H45: =Disponibilité!H45 -> 7H A 18H | I45: =Disponibilité!I45 -> 18H A 6H | J45: =Disponibilité!J45 -> 18H A 6H | K45: =Disponibilité!K45 -> 18H A 7H | L45: =Disponibilité!L45 -> 18H A 7H | M45: =Disponibilité!M45 -> 21H A 7H | N45: =Disponibilité!N45 -> 7H A 18H | O45: =Disponibilité!O45 -> 18H A 7H
G46: eq 2 | H46: eq vtu | I46: eq 1 | J46: eq 2 | K46: repos | L46: eq vtu | M46: eq vtu | N46: eq 1 | O46: eq 2
A47: delrieu p | B47: X | D47: X | G47: =Disponibilité!G47 -> 19H30 A 7H | H47: =Disponibilité!H47 -> ABS | I47: =Disponibilité!I47 -> ABS | J47: =Disponibilité!J47 -> 19H30 A 7H | K47: =Disponibilité!K47 -> 19H30 A 7H | L47: =Disponibilité!L47 -> 19H30 A 7H | M47: =Disponibilité!M47 -> 19H30 A 7H | N47: =Disponibilité!N47 -> ABS | O47: =Disponibilité!O47 -> 19H30 A 7H
G48: eq vtu | H48: repos | I48: repos | J48: eq 1 | K48: eq vtu | L48: eq 2 | M48: eq 1 | N48: travail | O48: cd 2
A49: marcilly m | D49: X | G49: =Disponibilité!G49 -> 18H A 22H | H49: =Disponibilité!H49 -> 7H A 18H | I49: =Disponibilité!I49 -> 18H A 22H | J49: =Disponibilité!J49 -> 18H A 22H | K49: =Disponibilité!K49 -> 18H A 22H | L49: =Disponibilité!L49 -> 18H A 22H | M49: =Disponibilité!M49 -> 18H A 6H | N49: =Disponibilité!N49 -> 7H A 18H | O49: =Disponibilité!O49 -> 18H A 7H
G50: doub std | H50: eq 2 | I50: doub std | J50: 4ème | K50: doub std | L50: 4ème | M50: eq 2 | N50: eq vtu | O50: eq 1
A51: masson | G51: =Disponibilité!G51 -> ABS | H51: =Disponibilité!H51 -> ABS | I51: =Disponibilité!I51 -> ABS | J51: =Disponibilité!J51 -> ABS | K51: =Disponibilité!K51 -> ABS | L51: =Disponibilité!L51 -> ABS | M51: =Disponibilité!M51 -> ABS | N51: =Disponibilité!N51 -> ABS | O51: =Disponibilité!O51 -> ABS
G52: travail | H52: travail | I52: travail | J52: travail | K52: travail | L52: travail | M52: travail | N52: travail | O52: travail
A53: segura p | B53: X | C53: X | D53: X | G53: =Disponibilité!G53 -> 22H A 4H | H53: =Disponibilité!H53 -> ABS | I53: =Disponibilité!I53 -> ABS | J53: =Disponibilité!J53 -> ABS | K53: =Disponibilité!K53 -> 22H A 4H | L53: =Disponibilité!L53 -> 22H A 4H | M53: =Disponibilité!M53 -> 18H A 6H | N53: =Disponibilité!N53 -> ABS | O53: =Disponibilité!O53 -> ABS
H54: travail | I54: travail | J54: travail | K54: repos | L54: repos | M54: cd 1 | N54: travail | O54: travail
A55: Effectif | G55: 13 | H55: 13 | I55: 13 | J55: 13 | K55: 14 | L55: 14 | M55: 14 | N55: 13 | O55: 14
A56: Repas | G56: marcilly | H56: archen | I56: ferrier | J56: rahi | K56: collin | L56: delireu | M56: corte | N56: reygrobellet | O56: wagner
A57: ISP
A58: Chef de Groupe
A59: SPP | G59: simon vls | J59: simon | L59: simon c/a 2 | M59: bello
A62: AFFECTATIONS PROVISOIRE - EQUIPE 3 - FEVRIER 2015
A64: STD | G64: =INDIRECT("A"&MATCH($A64,G2:G54,0)) -> biotti a | H64: =INDIRECT("A"&MATCH($A64,H2:H54,0)) -> biotti a | I64: =INDIRECT("A"&MATCH($A64,I2:I54,0)) -> archen p | J64: =INDIRECT("A"&MATCH($A64,J2:J54,0)) -> biotti a | K64: =INDIRECT("A"&MATCH($A64,K2:K54,0)) -> biotti a | L64: =INDIRECT("A"&MATCH($A64,L2:L54,0)) -> biotti a | M64: =INDIRECT("A"&MATCH($A64,M2:M54,0)) -> biotti a | N64: =INDIRECT("A"&MATCH($A64,N2:N54,0)) -> biotti a | O64: =INDIRECT("A"&MATCH($A64,O2:O54,0)) -> wagner j
A65: doub std | G65: =INDIRECT("A"&MATCH($A65,G2:G54,0)) -> marcilly m | H65: =INDIRECT("A"&MATCH($A65,H2:H54,0)) -> #N/A | I65: =INDIRECT("A"&MATCH($A65,I2:I54,0)) -> marcilly m | J65: =INDIRECT("A"&MATCH($A65,J2:J54,0)) -> #N/A | K65: =INDIRECT("A"&MATCH($A65,K2:K54,0)) -> marcilly m | L65: =INDIRECT("A"&MATCH($A65,L2:L54,0)) -> #N/A | M65: =INDIRECT("A"&MATCH($A65,M2:M54,0)) -> #N/A | N65: =INDIRECT("A"&MATCH($A65,N2:N54,0)) -> #N/A | O65: =INDIRECT("A"&MATCH($A65,O2:O54,0)) -> #N/A
A67: c/a 1 | B67: C/A 1 | G67: =INDIRECT("A"&MATCH($A67,G2:G54,0)) -> ferrier g | H67: =INDIRECT("A"&MATCH($A67,H2:H54,0)) -> wunsch d | I67: =INDIRECT("A"&MATCH($A67,I2:I54,0)) -> corte m | J67: =INDIRECT("A"&MATCH($A67,J2:J54,0)) -> archen p | K67: =INDIRECT("A"&MATCH($A67,K2:K54,0)) -> corte m | L67: =INDIRECT("A"&MATCH($A67,L2:L54,0)) -> reygrobellet | M67: =INDIRECT("A"&MATCH($A67,M2:M54,0)) -> ferrier g | N67: =INDIRECT("A"&MATCH($A67,N2:N54,0)) -> amann l | O67: =INDIRECT("A"&MATCH($A67,O2:O54,0)) -> wunsch d
A68: cd 1 | B68: CD SV | G68: =INDIRECT("A"&MATCH($A68,G2:G54,0)) -> lopes d | H68: =INDIRECT("A"&MATCH($A68,H2:H54,0)) -> wagner j | I68: =INDIRECT("A"&MATCH($A68,I2:I54,0)) -> devillard m | J68: =INDIRECT("A"&MATCH($A68,J2:J54,0)) -> moses c | K68: =INDIRECT("A"&MATCH($A68,K2:K54,0)) -> devillard m | L68: =INDIRECT("A"&MATCH($A68,L2:L54,0)) -> lopes d | M68: =INDIRECT("A"&MATCH($A68,M2:M54,0)) -> segura p | N68: =INDIRECT("A"&MATCH($A68,N2:N54,0)) -> wagner j | O68: =INDIRECT("A"&MATCH($A68,O2:O54,0)) -> collin c
A69: eq 1 | G69: =INDIRECT("A"&MATCH($A69,G2:G54,0)) -> clevenot m | H69: =INDIRECT("A"&MATCH($A69,H2:H54,0)) -> collin c | I69: =INDIRECT("A"&MATCH($A69,I2:I54,0)) -> rahi l | J69: =INDIRECT("A"&MATCH($A69,J2:J54,0)) -> delrieu p | K69: =INDIRECT("A"&MATCH($A69,K2:K54,0)) -> clevenot m | L69: =INDIRECT("A"&MATCH($A69,L2:L54,0)) -> collin c | M69: =INDIRECT("A"&MATCH($A69,M2:M54,0)) -> delrieu p | N69: =INDIRECT("A"&MATCH($A69,N2:N54,0)) -> rahi l | O69: =INDIRECT("A"&MATCH($A69,O2:O54,0)) -> marcilly m
A70: 4ème
A72: c/a 2 | B72: C/A 1 | G72: =INDIRECT("A"&MATCH($A72,G2:G54,0)) -> corte m | H72: =INDIRECT("A"&MATCH($A72,H2:H54,0)) -> reygrobellet | I72: =INDIRECT("A"&MATCH($A72,I2:I54,0)) -> ferrier g | J72: =INDIRECT("A"&MATCH($A72,J2:J54,0)) -> reygrobellet | K72: =INDIRECT("A"&MATCH($A72,K2:K54,0)) -> archen p | L72: simon | M72: =INDIRECT("A"&MATCH($A72,M2:M54,0)) -> saum m | N72: =INDIRECT("A"&MATCH($A72,N2:N54,0)) -> henry j | O72: =INDIRECT("A"&MATCH($A72,O2:O54,0)) -> amann l
A73: cd 2 | B73: CD SV | G73: =INDIRECT("A"&MATCH($A73,G2:G54,0)) -> archen p | H73: =INDIRECT("A"&MATCH($A73,H2:H54,0)) -> lopes d | I73: =INDIRECT("A"&MATCH($A73,I2:I54,0)) -> wunsch d | J73: =INDIRECT("A"&MATCH($A73,J2:J54,0)) -> lopes d | K73: =INDIRECT("A"&MATCH($A73,K2:K54,0)) -> wagner j | L73: =INDIRECT("A"&MATCH($A73,L2:L54,0)) -> archen p | M73: =INDIRECT("A"&MATCH($A73,M2:M54,0)) -> clevenot m | N73: =INDIRECT("A"&MATCH($A73,N2:N54,0)) -> devillard m | O73: =INDIRECT("A"&MATCH($A73,O2:O54,0)) -> delrieu p
A74: eq 2 | G74: =INDIRECT("A"&MATCH($A74,G2:G54,0)) -> rahi l | H74: =INDIRECT("A"&MATCH($A74,H2:H54,0)) -> marcilly m | I74: =INDIRECT("A"&MATCH($A74,I2:I54,0)) -> clevenot m | J74: =INDIRECT("A"&MATCH($A74,J2:J54,0)) -> rahi l | K74: =INDIRECT("A"&MATCH($A74,K2:K54,0)) -> collin c | L74: =INDIRECT("A"&MATCH($A74,L2:L54,0)) -> delrieu p | M74: =INDIRECT("A"&MATCH($A74,M2:M54,0)) -> marcilly m | N74: =INDIRECT("A"&MATCH($A74,N2:N54,0)) -> clevenot m | O74: =INDIRECT("A"&MATCH($A74,O2:O54,0)) -> rahi l
A76: c/a vtu | B76: C/A 1 | G76: =INDIRECT("A"&MATCH($A76,G2:G54,0)) -> wagner j | H76: =INDIRECT("A"&MATCH($A76,H2:H54,0)) -> archen p | I76: =INDIRECT("A"&MATCH($A76,I2:I54,0)) -> reygrobellet | J76: =INDIRECT("A"&MATCH($A76,J2:J54,0)) -> wagner j | K76: =INDIRECT("A"&MATCH($A76,K2:K54,0)) -> moses c | L76: =INDIRECT("A"&MATCH($A76,L2:L54,0)) -> ferrier g | M76: =INDIRECT("A"&MATCH($A76,M2:M54,0)) -> reygrobellet | N76: =INDIRECT("A"&MATCH($A76,N2:N54,0)) -> ferrier g | O76: =INDIRECT("A"&MATCH($A76,O2:O54,0)) -> corte m
A77: cd vtu | G77: =INDIRECT("A"&MATCH($A77,G2:G54,0)) -> collin c | H77: =INDIRECT("A"&MATCH($A77,H2:H54,0)) -> moses c | I77: =INDIRECT("A"&MATCH($A77,I2:I54,0)) -> wagner j | J77: =INDIRECT("A"&MATCH($A77,J2:J54,0)) -> collin c | K77: =INDIRECT("A"&MATCH($A77,K2:K54,0)) -> lopes d | L77: =INDIRECT("A"&MATCH($A77,L2:L54,0)) -> clevenot m | M77: =INDIRECT("A"&MATCH($A77,M2:M54,0)) -> lopes d | N77: =INDIRECT("A"&MATCH($A77,N2:N54,0)) -> archen p | O77: =INDIRECT("A"&MATCH($A77,O2:O54,0)) -> devillard m
A78: eq vtu | G78: =INDIRECT("A"&MATCH($A78,G2:G54,0)) -> delrieu p | H78: =INDIRECT("A"&MATCH($A78,H2:H54,0)) -> rahi l | I78: =INDIRECT("A"&MATCH($A78,I2:I54,0)) -> lopes d | J78: =INDIRECT("A"&MATCH($A78,J2:J54,0)) -> clevenot m | K78: =INDIRECT("A"&MATCH($A78,K2:K54,0)) -> delrieu p | L78: =INDIRECT("A"&MATCH($A78,L2:L54,0)) -> rahi l | M78: =INDIRECT("A"&MATCH($A78,M2:M54,0)) -> rahi l | N78: =INDIRECT("A"&MATCH($A78,N2:N54,0)) -> marcilly m | O78: =INDIRECT("A"&MATCH($A78,O2:O54,0)) -> clevenot m
A80: C/A FPT | B80: INC 2 | G80: henry | H80: saum | I80: saum | J80: simon | K80: saum | L80: saum | M80: bello | N80: saum | O80: henry
A81: CD FPT | B81: CD COD 1 | G81: reygrobellet | H81: archen p | I81: lopes d | J81: corte | K81: reygrobellet | L81: corte | M81: archen | N81: reygrobellet | O81: corte m
A82: Chef BAT | G82: =G76 -> wagner j | H82: moses c | I82: =I76 -> reygrobellet | J82: ferrier | K82: =K76 -> moses c | L82: =L76 -> ferrier g | M82: corte | N82: =N76 -> ferrier g | O82: amann
A83: Chef BAL | G83: =G77 -> collin c | H83: clevenot | I83: =I77 -> wagner j | J83: collin | K83: ferrier | L83: =L77 -> clevenot m | M83: =M77 -> lopes d | N83: =N77 -> archen p | O83: ferrier
A84: EQ BAT | G84: =G78 -> delrieu p | H84: =H78 -> rahi l | I84: moses | J84: =J78 -> clevenot m | K84: =K78 -> delrieu p | L84: =L78 -> rahi l | M84: =M78 -> rahi l | N84: =N78 -> marcilly m | O84: devillard
A85: EQ BAL | G85: segura | H85: collin | I85: collin | J85: delrieu | K85: lopes | L85: devillard | M85: wagner | N85: devillard | O85: clevenot
A86: 7ème
A88: C/A EPA | B88: C/A | G88: =G72 -> corte m | H88: =H72 -> reygrobellet | I88: ferrier | J88: =J72 -> reygrobellet | K88: henry | L88: =L72 -> simon | M88: =M72 -> saum m | N88: =N72 -> henry j | O88: saum
A89: CD EPA | B89: CD COD 6 | G89: =G73 -> archen p | H89: =H73 -> lopes d | I89: wunsch | J89: =J73 -> lopes d | K89: archen | L89: =L73 -> archen p | M89: reygrobellet | N89: corte | O89: lopes
A90: EQ EPA | G90: =G74 -> rahi l | H90: =H74 -> marcilly m | I90: =I74 -> clevenot m | J90: =J74 -> rahi l | K90: collin | L90: =L74 -> delrieu p | M90: =M74 -> marcilly m | N90: =N74 -> clevenot m | O90: =O74 -> rahi l
A92: vls | G92: simon | H92: =INDIRECT("A"&MATCH($A92,H2:H54,0)) -> devillard m | I92: =INDIRECT("A"&MATCH($A92,I2:I54,0)) -> #N/A | J92: =INDIRECT("A"&MATCH($A92,J2:J54,0)) -> #N/A | K92: =INDIRECT("A"&MATCH($A92,K2:K54,0)) -> ferrier g | L92: =INDIRECT("A"&MATCH($A92,L2:L54,0)) -> wagner j | M92: =INDIRECT("A"&MATCH($A92,M2:M54,0)) -> 0 | N92: =INDIRECT("A"&MATCH($A92,N2:N54,0)) -> #N/A | O92: =INDIRECT("A"&MATCH($A92,O2:O54,0)) -> reygrobellet
A94: C/A FSR | B94: INC 2 | G94: =G80 -> henry | H94: =H80 -> saum | I94: =I80 -> saum | J94: =J80 -> simon | K94: =K80 -> saum | L94: =L80 -> saum | M94: =M80 -> bello | N94: =N80 -> saum | O94: =O80 -> henry
A95: CD FSR | B95: CD COD 1 | G95: =G81 -> reygrobellet | H95: =H81 -> archen p | I95: =I81 -> lopes d | J95: =J81 -> corte | K95: =K81 -> reygrobellet | L95: =L81 -> corte | M95: =M81 -> archen | N95: =N81 -> reygrobellet | O95: =O81 -> corte m
A96: EQ SR | G96: =G82 -> wagner j | H96: =H82 -> moses c | I96: =I82 -> reygrobellet | J96: =J82 -> ferrier | K96: =K82 -> moses c | L96: =L82 -> ferrier g | M96: =M82 -> corte | N96: =N82 -> ferrier g | O96: =O82 -> amann
A97: EQ SR | G97: =G84 -> delrieu p | H97: =H84 -> rahi l | I97: =I84 -> moses | J97: =J84 -> clevenot m | K97: =K84 -> delrieu p | L97: =L84 -> rahi l | M97: =M84 -> rahi l | N97: =N84 -> marcilly m | O97: =O84 -> devillard
A98: EQ SR | G98: =G85 -> segura | H98: =H85 -> collin | I98: =I85 -> collin | J98: =J85 -> delrieu | K98: =K85 -> lopes | L98: =L85 -> devillard | M98: =M85 -> wagner | N98: =N85 -> devillard | O98: =O85 -> clevenot
A100: REPAS | G100: =G56 -> marcilly | H100: =H56 -> archen | I100: =I56 -> ferrier | J100: =J56 -> rahi | K100: =K56 -> collin | L100: =L56 -> delireu | M100: =M56 -> corte | N100: =N56 -> reygrobellet | O100: =O56 -> wagner
A101: Sous-OFF | G101: =G80 -> henry | H101: =H80 -> saum | I101: =I80 -> saum | J101: =J80 -> simon | K101: =K80 -> saum | L101: =L80 -> saum | M101: =M80 -> bello | N101: =N80 -> saum | O101: =O80 -> henry
A102: CAPO / JOUR | G102: =G82 -> wagner j | H102: =H82 -> moses c | I102: =I82 -> reygrobellet | J102: =J82 -> ferrier | K102: =K82 -> moses c | L102: =L82 -> ferrier g | M102: =M82 -> corte | N102: =N82 -> ferrier g | O102: =O82 -> amann

Sheet Mardi 4
A2: EQUIPE N° 3 | C2: DATE : | D2: 42039 | H2: fait par cal Lopes
A4: affectation | B4: nom | C4: heure | D4: verification | F4: CCFM | K4: PRESENT | L4: HEURE
A5: STATIONNAIRE | B5: =Mensuel!G64 -> biotti a | C5: =L5 -> 18h a 7h | G5: nom | H5: heure | I5: verification | K5: =B5 -> biotti a | L5: 18h a 7h
A6: DOUBLURE STD | B6: =Mensuel!G65 -> marcilly m | F6: CHEF D' AGRES | K6: =B13 -> ferrier g
A7: CHEF DE GROUPE | F7: COND COD2 | I7: xxxxxxxx | K7: =B14 -> lopes d
A8: OFF / PERM | F8: EQUIPIER 1 | G8: =B31 -> segura | H8: =L17 -> 0 | K8: =B15 -> clevenot m
A9: S/OFF DE NUIT | B9: =Mensuel!G101 -> henry | F9: EQUIPIER 2 | G9: =B29 -> collin c | H9: =L13 -> 0 | K9: =B20 -> corte m
K10: =B21 -> archen p
A11: VSAV1 | F11: VTU1 | K11: =B22 -> rahi l
C12: heure | D12: verification | H12: heure | I12: verification | K12: =G13 -> wagner j
A13: CHEF D' AGRES | B13: =Mensuel!G67 -> ferrier g | C13: =L6 -> 0 | F13: CHEF D' AGRES | G13: =Mensuel!G76 -> wagner j | H13: =L12 -> 0 | K13: =G14 -> collin c
A14: CONDUCTEUR | B14: =Mensuel!G68 -> lopes d | C14: =L7 -> 0 | F14: CONDUCTEUR | G14: =Mensuel!G77 -> collin c | H14: =L13 -> 0 | I14: xxxxxxxx | K14: =G15 -> delrieu p
A15: EQUIPIER | B15: =Mensuel!G69 -> clevenot m | C15: =L8 -> 0 | D15: xxxxxxx | F15: EQUIPIER | G15: =Mensuel!G78 -> delrieu p | H15: =L14 -> 0 | K15: =B26 -> henry
A16: EQUIPIER | K16: =B27 -> reygrobellet
F17: VTP | K17: =B31 -> segura
A18: VSAV2 | H18: heure | I18: verification | K18: =B6 -> marcilly m
C19: heure | D19: verification | F19: CHEF D' AGRES | I19: xxxxxxxx | K19: =G36 -> simon
A20: CHEF D' AGRES | B20: =Mensuel!G72 -> corte m | C20: =L9 -> 0 | F20: CONDUCTEUR
A21: CONDUCTEUR | B21: =Mensuel!G73 -> archen p | C21: =L10 -> 0 | D21: xxxxxxxx
A22: EQUIPIER | B22: =Mensuel!G74 -> rahi l | C22: =L11 -> 0 | D22: xxxxxxxx | F22: VPCE/CEEM
H23: heure | I23: verification
A24: FPT | F24: CHEF D' AGRES | G24: =B20 -> corte m | H24: =L9 -> 0
C25: heure | D25: verification | F25: CONDUCTEUR | G25: =B21 -> archen p | H25: =L10 -> 0
A26: CHEF D' AGRES | B26: =Mensuel!G80 -> henry | C26: =L15 -> 0
A27: CONDUCTEUR | B27: =Mensuel!G81 -> reygrobellet | C27: =L16 -> 0 | D27: xxxxxxxx | F27: CASD/PMA
A28: CHEF BAT | B28: =Mensuel!G82 -> wagner j | C28: =+L12 -> 0 | H28: heure | I28: verification
A29: CHEF BAL | B29: =Mensuel!G83 -> collin c | C29: =L13 -> 0 | F29: CHEF D' AGRES | G29: =B20 -> corte m | H29: =L9 -> 0
A30: EQUIPIER BAT | B30: =Mensuel!G84 -> delrieu p | C30: =L14 -> 0 | D30: xxxxxxxx | F30: CONDUCTEUR | G30: =B21 -> archen p | H30: =L10 -> 0
A31: EQUIPIER BAL | B31: =Mensuel!G85 -> segura | C31: =L17 -> 0 | F31: EQUIPIER | G31: =B22 -> rahi l | H31: =L11 -> 0
A33: EA32 | F33: VLS
C34: heure | D34: verification | H34: heure | I34: verification
A35: CHEF D' AGRES | B35: =Mensuel!G88 -> corte m | C35: =L9 -> 0 | F35: 3SM
A36: CONDUCTEUR | B36: =Mensuel!G89 -> archen p | C36: =L10 -> 0 | D36: xxxxxxxx | F36: CONDUCTEUR | G36: =Mensuel!G92 -> simon | H36: =L19 -> 0
A37: EQUIPIER | B37: =Mensuel!G90 -> rahi l | C37: =L11 -> 0
F38: Repas: | G38: =Mensuel!G100 -> marcilly
A39: FSR
C40: heure | D40: verification | F40: nettoyage:
A41: CHEF D' AGRES | B41: =Mensuel!G94 -> henry | C41: =L15 -> 0 | F41: consignes:
A42: CONDUCTEUR | B42: =Mensuel!G95 -> reygrobellet | C42: =L16 -> 0 | D42: xxxxxxxx
A43: EQUIPIER 1 | B43: =Mensuel!G96 -> wagner j | C43: =L12 -> 0
A44: EQUIPIER 2 | B44: =Mensuel!G97 -> delrieu p | C44: =L14 -> 0
A45: EQUIPIER 3 | B45: =Mensuel!G98 -> segura | C45: =L17 -> 0 | D45: xxxxxxxx

Sheet dimanche 8 jour
A2: EQUIPE N° 3 | C2: DATE : | D2: 42043 | H2: fait par cal Lopes
A4: affectation | B4: nom | C4: heure | D4: verification | F4: CCFM | K4: PRESENT | L4: HEURE
A5: STATIONNAIRE | B5: =Mensuel!H64 -> biotti a | C5: =L5 -> 18h a 7h | G5: nom | H5: heure | I5: verification | K5: =B5 -> biotti a | L5: 18h a 7h
A6: DOUBLURE STD | B6: =Mensuel!H65 -> #N/A | F6: CHEF D' AGRES | K6: =B13 -> wunsch d
A7: CHEF DE GROUPE | F7: COND COD2 | I7: xxxxxxxx | K7: =B14 -> =Mensuel!H68
A8: OFF / PERM | F8: EQUIPIER 1 | G8: =B31 -> segura | H8: =L17 -> 0 | K8: =B15 -> =Mensuel!H69
A9: S/OFF DE NUIT | B9: =Mensuel!H101 | F9: EQUIPIER 2 | G9: =B29 -> collin c | H9: =L13 -> 0 | K9: =B20 -> corte m
K10: =B21 -> archen p
A11: VSAV1 | F11: VTU1 | K11: =B22 -> rahi l
C12: heure | D12: verification | H12: heure | I12: verification | K12: =G13 -> wagner j
A13: CHEF D' AGRES | B13: =Mensuel!H67 -> wunsch d | C13: =L6 -> 0 | F13: CHEF D' AGRES | G13: =Mensuel!G76 -> wagner j | H13: =L12 -> 0 | K13: =G14 -> collin c
A14: CONDUCTEUR | B14: =Mensuel!H68 | C14: =L7 -> 0 | F14: CONDUCTEUR | G14: =Mensuel!G77 -> collin c | H14: =L13 -> 0 | I14: xxxxxxxx | K14: =G15 -> delrieu p
A15: EQUIPIER | B15: =Mensuel!H69 | C15: =L8 -> 0 | D15: xxxxxxx | F15: EQUIPIER | G15: =Mensuel!G78 -> delrieu p | H15: =L14 -> 0 | K15: =B26 -> henry
A16: EQUIPIER | K16: =B27 -> reygrobellet
F17: VTP | K17: =B31 -> segura
A18: VSAV2 | H18: heure | I18: verification | K18: =B6 -> #N/A
C19: heure | D19: verification | F19: CHEF D' AGRES | I19: xxxxxxxx | K19: =G36 -> simon
A20: CHEF D' AGRES | B20: =Mensuel!G72 -> corte m | C20: =L9 -> 0 | F20: CONDUCTEUR
A21: CONDUCTEUR | B21: =Mensuel!G73 -> archen p | C21: =L10 -> 0 | D21: xxxxxxxx
A22: EQUIPIER | B22: =Mensuel!G74 -> rahi l | C22: =L11 -> 0 | D22: xxxxxxxx | F22: VPCE/CEEM
H23: heure | I23: verification
A24: FPT | F24: CHEF D' AGRES | G24: =B20 -> corte m | H24: =L9 -> 0
C25: heure | D25: verification | F25: CONDUCTEUR | G25: =B21 -> archen p | H25: =L10 -> 0
A26: CHEF D' AGRES | B26: =Mensuel!G80 -> henry | C26: =L15 -> 0
A27: CONDUCTEUR | B27: =Mensuel!G81 -> reygrobellet | C27: =L16 -> 0 | D27: xxxxxxxx | F27: CASD/PMA
A28: CHEF BAT | B28: =Mensuel!G82 -> wagner j | C28: =+L12 -> 0 | H28: heure | I28: verification
A29: CHEF BAL | B29: =Mensuel!G83 -> collin c | C29: =L13 -> 0 | F29: CHEF D' AGRES | G29: =B20 -> corte m | H29: =L9 -> 0
A30: EQUIPIER BAT | B30: =Mensuel!G84 -> delrieu p | C30: =L14 -> 0 | D30: xxxxxxxx | F30: CONDUCTEUR | G30: =B21 -> archen p | H30: =L10 -> 0
A31: EQUIPIER BAL | B31: =Mensuel!G85 -> segura | C31: =L17 -> 0 | F31: EQUIPIER | G31: =B22 -> rahi l | H31: =L11 -> 0
A33: EA32 | F33: VLS
C34: heure | D34: verification | H34: heure | I34: verification
A35: CHEF D' AGRES | B35: =Mensuel!G88 -> corte m | C35: =L9 -> 0 | F35: 3SM
A36: CONDUCTEUR | B36: =Mensuel!G89 -> archen p | C36: =L10 -> 0 | D36: xxxxxxxx | F36: CONDUCTEUR | G36: =Mensuel!G92 -> simon | H36: =L19 -> 0
A37: EQUIPIER | B37: =Mensuel!G90 -> rahi l | C37: =L11 -> 0
F38: Repas: | G38: =Mensuel!G100 -> marcilly
A39: FSR
C40: heure | D40: verification | F40: nettoyage:
A41: CHEF D' AGRES | B41: =Mensuel!G94 -> henry | C41: =L15 -> 0 | F41: consignes:
A42: CONDUCTEUR | B42: =Mensuel!G95 -> reygrobellet | C42: =L16 -> 0 | D42: xxxxxxxx
A43: EQUIPIER 1 | B43: =Mensuel!G96 -> wagner j | C43: =L12 -> 0
A44: EQUIPIER 2 | B44: =Mensuel!G97 -> delrieu p | C44: =L14 -> 0
A45: EQUIPIER 3 | B45: =Mensuel!G98 -> segura | C45: =L17 -> 0 | D45: xxxxxxxx

Sheet dimanche 8 nuit
A2: EQUIPE N° 3 | C2: DATE : | D2: 42043 | H2: fait par cal Lopes
A4: affectation | B4: nom | C4: heure | D4: verification | F4: CCFM | K4: PRESENT | L4: HEURE
A5: STATIONNAIRE | B5: =Mensuel!H64 -> biotti a | C5: =L5 -> 18h a 7h | G5: nom | H5: heure | I5: verification | K5: =B5 -> biotti a | L5: 18h a 7h
A6: DOUBLURE STD | B6: =Mensuel!H65 -> #N/A | F6: CHEF D' AGRES | K6: =B13 -> wunsch d
A7: CHEF DE GROUPE | F7: COND COD2 | I7: xxxxxxxx | K7: =B14 -> =Mensuel!H68
A8: OFF / PERM | F8: EQUIPIER 1 | G8: =B31 -> segura | H8: =L17 -> 0 | K8: =B15 -> =Mensuel!H69
A9: S/OFF DE NUIT | B9: =Mensuel!H101 | F9: EQUIPIER 2 | G9: =B29 -> collin c | H9: =L13 -> 0 | K9: =B20 -> corte m
K10: =B21 -> archen p
A11: VSAV1 | F11: VTU1 | K11: =B22 -> rahi l
C12: heure | D12: verification | H12: heure | I12: verification | K12: =G13 -> wagner j
A13: CHEF D' AGRES | B13: =Mensuel!H67 -> wunsch d | C13: =L6 -> 0 | F13: CHEF D' AGRES | G13: =Mensuel!G76 -> wagner j | H13: =L12 -> 0 | K13: =G14 -> collin c
A14: CONDUCTEUR | B14: =Mensuel!H68 | C14: =L7 -> 0 | F14: CONDUCTEUR | G14: =Mensuel!G77 -> collin c | H14: =L13 -> 0 | I14: xxxxxxxx | K14: =G15 -> delrieu p
A15: EQUIPIER | B15: =Mensuel!H69 | C15: =L8 -> 0 | D15: xxxxxxx | F15: EQUIPIER | G15: =Mensuel!G78 -> delrieu p | H15: =L14 -> 0 | K15: =B26 -> henry
A16: EQUIPIER | K16: =B27 -> reygrobellet
F17: VTP | K17: =B31 -> segura
A18: VSAV2 | H18: heure | I18: verification | K18: =B6 -> #N/A
C19: heure | D19: verification | F19: CHEF D' AGRES | I19: xxxxxxxx | K19: =G36 -> simon
A20: CHEF D' AGRES | B20: =Mensuel!G72 -> corte m | C20: =L9 -> 0 | F20: CONDUCTEUR
A21: CONDUCTEUR | B21: =Mensuel!G73 -> archen p | C21: =L10 -> 0 | D21: xxxxxxxx
A22: EQUIPIER | B22: =Mensuel!G74 -> rahi l | C22: =L11 -> 0 | D22: xxxxxxxx | F22: VPCE/CEEM
H23: heure | I23: verification
A24: FPT | F24: CHEF D' AGRES | G24: =B20 -> corte m | H24: =L9 -> 0
C25: heure | D25: verification | F25: CONDUCTEUR | G25: =B21 -> archen p | H25: =L10 -> 0
A26: CHEF D' AGRES | B26: =Mensuel!G80 -> henry | C26: =L15 -> 0
A27: CONDUCTEUR | B27: =Mensuel!G81 -> reygrobellet | C27: =L16 -> 0 | D27: xxxxxxxx | F27: CASD/PMA
A28: CHEF BAT | B28: =Mensuel!G82 -> wagner j | C28: =+L12 -> 0 | H28: heure | I28: verification
A29: CHEF BAL | B29: =Mensuel!G83 -> collin c | C29: =L13 -> 0 | F29: CHEF D' AGRES | G29: =B20 -> corte m | H29: =L9 -> 0
A30: EQUIPIER BAT | B30: =Mensuel!G84 -> delrieu p | C30: =L14 -> 0 | D30: xxxxxxxx | F30: CONDUCTEUR | G30: =B21 -> archen p | H30: =L10 -> 0
A31: EQUIPIER BAL | B31: =Mensuel!G85 -> segura | C31: =L17 -> 0 | F31: EQUIPIER | G31: =B22 -> rahi l | H31: =L11 -> 0
A33: EA32 | F33: VLS
C34: heure | D34: verification | H34: heure | I34: verification
A35: CHEF D' AGRES | B35: =Mensuel!G88 -> corte m | C35: =L9 -> 0 | F35: 3SM
A36: CONDUCTEUR | B36: =Mensuel!G89 -> archen p | C36: =L10 -> 0 | D36: xxxxxxxx | F36: CONDUCTEUR | G36: =Mensuel!G92 -> simon | H36: =L19 -> 0
A37: EQUIPIER | B37: =Mensuel!G90 -> rahi l | C37: =L11 -> 0
F38: Repas: | G38: =Mensuel!G100 -> marcilly
A39: FSR
C40: heure | D40: verification | F40: nettoyage:
A41: CHEF D' AGRES | B41: =Mensuel!G94 -> henry | C41: =L15 -> 0 | F41: consignes:
A42: CONDUCTEUR | B42: =Mensuel!G95 -> reygrobellet | C42: =L16 -> 0 | D42: xxxxxxxx
A43: EQUIPIER 1 | B43: =Mensuel!G96 -> wagner j | C43: =L12 -> 0
A44: EQUIPIER 2 | B44: =Mensuel!G97 -> delrieu p | C44: =L14 -> 0
A45: EQUIPIER 3 | B45: =Mensuel!G98 -> segura | C45: =L17 -> 0 | D45: xxxxxxxx
